{"text_format":"1","workbook":"xlsx","n_sheets":117,"sheets":["Acc. sup","Access","Gr de Cde","Lavage","Project Specs","Flowsheet","Calculations","Séries 3-4-5","Série 2","PdR ENG","Cost list","Cost List2.xls","FabSpecification","Données (2)","Char2","Acc. sup2","Access2","Gr de Cde2","Lavage2","Band","Tabl2","Band2","Tamb2","Roul2","B. à V.2","Toile2","Tabl","B. à V.","Data Instrum_Armoires","Instrum et Elec","Recap revisions","Offre NEW","Dimens. scrubber","Services","Service Calculation mounting","Service Calculation cold comm","Service Calculation hot comm","Synthèse chiffrage","Quotation","Quotation2","Quotation3","listes","Spec PAV","Spec Bande","Manifold INOX","PdR FR","CSFRAME 3 meter","CSFRAME 4 meter","Char","Tamb","Roul","Budget","Toile","Ballon Séparateur","Ballon Séparateur Flasqué","Cyclone.","Laveur.","Drip pan - Walkways","EN TETE","Arg - Bande Mêle","Arg - Bande Supplier","OFFRE TECHNIQUE","ULTRASONIC MACHINE","FUME HOOD","BALLON 1","BALLON 1 flasq","Barometric TANK 1 EN","Barometric TANK 2&3 EN","CYCLONE","LAVEUR","VAC PUMP","FILTRATE PUMP 1","FILTRATE PUMP 2","FILTRATE PUMP 3","FILTRATE PUMP 4","HIGH PRESSURE RAMP","C&B WASH TANK & PUMP","CAKE WASH TANK","Cake pressure roller","Cloth acid wash","LCP","LCP 3","Electrcial Control Cabinet","HYDROCYCLONE","ERECTION","SPARE PARTS & MAINTENANCE","START UP","FAT","SAT","WATER QUALITY","PROCESS PERFORMANCE GUARANTEE","EN TETE-FR (F)","OFFRE TECHNIQUE-FR","ULTRASONIC MACHINE-FR","FUME HOOD-FR","BALLON 1-FR","BALLON 2-FR","BALLON 3-FR","BALLON 4-FR","CYCLONE-FR","LAVEUR-FR","VAC PUMP-FR","FILTRATE PUMP 1-FR","FILTRATE PUMP 2-FR","FILTRATE PUMP 3-FR","FILTRATE PUMP 4-FR","C&B WASH TANK-FR","CAKE WASH TANK-FR","LCP-FR","ERECTION-FR","START UP-FR","PàV Nash","PàV Nash Fonte Mot.400V","PàV Nash Inox Mot.400V","Pompe centrifuge GROSCLAUDE","Pompe centrifuge SULZER","Pompe centrifuge SULZER A890-3A"],"not_rendered":{"charts":6,"images":101,"macros":1,"external_links":22,"defined_names":1755,"comments":17,"pivot_tables":0},"unopened":[],"bounds":{"document_bytes":16777216,"sheet_cells":100000,"rows_first":2000,"rows_last":500,"rows_between":2000,"halvings":0,"cell_chars":16384,"cell_head_chars":4096},"cells_cut":0,"cells_raw":0,"read":"whole","date_system":"1900"}

{"sheet":"Acc. sup","index":0,"n_rows":61,"n_cols":27,"rows_kept":61,"cut":false,"hidden":true,"merged":[[29,0,29,11],[23,4,23,5]]}
["Accessoires supérieurs"]
[]
["BARRAGE D'ENTREE"]
[null,250,500,750,1000,1250,1500,2000,2500,3000,4000,4200]
["304L",53,107,160,212.5,266,320,450,563,676,1375,1450,null,null,null,{"$f":"J5/6.55957*1.3","v":133.97219634823625}]
["316L",62.5,125,187.5,250,313,376.5,515,645,775,1600,1680]
["904L",172.5,345,520,690,863,1035,1305,1632,1960,4225,4440]
["U45N",{"$f":"B7*0.54","v":93.15},{"$f":"C7*0.54","v":186.3},280.8,372.6,466.02000000000004,558.90000000000009,704.7,881.28000000000009,1058.4000000000001,2281.5,2397.6000000000004]
["SBR",123,135,148,163.5,165,246,327.5,363,400,925,975]
["EPDM",184.5,202.5,222,245,247.5,369,491,545,600,1390,1463]
["BUTYL",246,270,296,327,330,492,655,726,800,1850,1950]
["MO",4,4,4,4,6,6,8,8,8,10,10]
["GOULOTTE DE LAVAGE"]
[null,250,500,750,1000,1250,1500,2000,2500,3000,4000,4200]
["304L",300,400,600,808,1545,1855,1100,null,null,null,null,null,null,null,{"$f":"H15/6.55957*1.3","v":218.00209464949685}]
["316L",353,471,706,950,1820,2182,1350,null,null,null,null,null,null,null,{"$f":"H16/6.55957*1.3","v":267.54802525165525}]
["904L",970,1295,1940,2613,5000,6000,5020,null,null,null,null,null,null,null,{"$f":"H17/6.55957*1.3","v":994.88228649134021}]
["U45N",{"$f":"B17*0.54","v":523.80000000000007},699.30000000000007,1047.6000000000001,1411.02,2700,3240,2710.8,null,null,null,null,null,null,null,{"$f":"H18/6.55957*1.3","v":537.23643470532375}]
["PPH",800,875,960,1060,1400,1900,2900,null,null,null,null,null,null,null,{"$f":"H19/6.55957*1.3","v":574.73279498503712}]
["TOILE",65,70,78,100,150,150,200]
["MO",15,15,15,15,15,15,20]
[null,"b56","b60","b66","b62"]
[null,{"$f":"IF('Séries 3-4-5'!B56=\"304L\",1,IF('Séries 3-4-5'!B56=\"316L\",2,IF('Séries 3-4-5'!B56=\"U45N\",3,IF('Séries 3-4-5'!B56=\"904L\",4,IF('Séries 3-4-5'!B56=\"POLYPROPYLENE\",5,)))))","v":3},{"$f":"IF('Séries 3-4-5'!B59=\"304L\",1,IF('Séries 3-4-5'!B59=\"316L\",2,IF('Séries 3-4-5'!B59=\"U45N\",3,IF('Séries 3-4-5'!B59=\"904L\",4,IF('Séries 3-4-5'!B59=\"POLYPROPYLENE\",5,)))))","v":3},{"$f":"IF('Séries 3-4-5'!B65=\"304L\",1,IF('Séries 3-4-5'!B65=\"316L\",2,IF('Séries 3-4-5'!B65=\"U45N\",3,IF('Séries 3-4-5'!B65=\"904L\",4,IF('Séries 3-4-5'!B65=\"POLYPROPYLENE\",5,)))))","v":3},{"$f":"IF('Séries 3-4-5'!B61=\"304L\",1,IF('Séries 3-4-5'!B61=\"316L\",2,IF('Séries 3-4-5'!B61=\"U45N\",3,IF('Séries 3-4-5'!B61=\"904L\",4,IF('Séries 3-4-5'!B61=\"POLYPROPYLENE\",5,)))))","v":2}]
[null,null,"Synthese price list accessories",null,"Code materiel"]
[null,"Matière","Négoce","M.O.","304L",1]
["Wash Feeder",{"$f":"IF('Séries 3-4-5'!B55=\"SURV\",LOOKUP(B23,C40:D44),LOOKUP(B23,C35:D39))","v":942.30000000000007},{"$f":"IF('Séries 3-4-5'!B55=\"surv\",VLOOKUP(B23,C40:E44,3),VLOOKUP(B23,C35:E39,3))","v":50},{"$f":"IF('Séries 3-4-5'!B55=\"surv\",VLOOKUP(B23,C40:F44,4),VLOOKUP(B23,C35:F39,4))","v":20},"316L",2]
["Carriage",{"$f":"IF('Séries 3-4-5'!B58=\"roue\",LOOKUP(C23,C45:D48),\"select ROUE\")","v":501.66},{"$f":"IF('Séries 3-4-5'!B58=\"roue\",LOOKUP(C23,C45:E48),\"select ROUE\")","v":150},{"$f":"IF('Séries 3-4-5'!B58=\"roue\",VLOOKUP(C23,C45:F48,4),\"select ROUE\")","v":10},"U45N",3]
["Feeder",{"$f":"IF('Séries 3-4-5'!B64=\"boit\",LOOKUP(D23,C53:D56),LOOKUP(D23,C57:D61))","v":1215},{"$f":"IF('Séries 3-4-5'!B64=\"boit\",LOOKUP(D23,C53:E56),LOOKUP(D23,C57:E61))","v":1215},{"$f":"IF('Séries 3-4-5'!B64=\"boit\",VLOOKUP(D23,C53:F56,4),LOOKUP(D23,C57:F61))","v":80},"904L",4]
["pendulum dam",{"$f":"LOOKUP(E23,'Acc. sup'!C49:D52)","v":154},{"$f":"LOOKUP(E23,'Acc. sup'!C49:E52)","v":51},{"$f":"LOOKUP(E23,'Acc. sup'!C49:F52)","v":8},"PPH",5]
["COST OF PROCESS ACCESSORIES TO BE REPORTED IN THE \"COST LIST\""]
[null,null,"Width>>>",{"$f":"IF('Séries 3-4-5'!$B$3=3000,G31,IF('Séries 3-4-5'!$B$3=4000,J31,M31))","v":3000},null,null,3000,null,null,4000,null,null,4200,null,null,2000]
[" ",null,null,"Matière","Négoce","M.O.","Matière","Négoce","M.O.","Matière","Négoce","M.O.","Matière","Négoce","M.O.","Matière","Négoce","M.O."]
[null,"Spéc","Material"]
[null,null,null,1,1,1,1,1,1,1,1,1,1,1,1,1,1,1]
["Cake wash device","TUBE",1,{"$f":"IF('Séries 3-4-5'!$B$3=3000,G35,IF('Séries 3-4-5'!$B$3=2000,P35,IF('Séries 3-4-5'!$B$3=4000,J35,M35)))","v":694},{"$f":"IF('Séries 3-4-5'!$B$3=3000,H35,IF('Séries 3-4-5'!$B$3=2000,Q35,IF('Séries 3-4-5'!$B$3=4000,K35,N35)))","v":50},{"$f":"IF('Séries 3-4-5'!$B$3=3000,I35,IF('Séries 3-4-5'!$B$3=2000,R35,IF('Séries 3-4-5'!$B$3=4000,L35,O35)))","v":20},694,50,20,1090,245,30,1144.5,257.25,30,650,50,20,694,50,20,1090,245,30,1144.5,257.25,30]
["Cake wash device","TUBE",2,{"$f":"IF('Séries 3-4-5'!$B$3=3000,G36,IF('Séries 3-4-5'!$B$3=2000,P36,IF('Séries 3-4-5'!$B$3=4000,J36,M36)))","v":870},{"$f":"IF('Séries 3-4-5'!$B$3=3000,H36,IF('Séries 3-4-5'!$B$3=2000,Q36,IF('Séries 3-4-5'!$B$3=4000,K36,N36)))","v":50},{"$f":"IF('Séries 3-4-5'!$B$3=3000,I36,IF('Séries 3-4-5'!$B$3=2000,R36,IF('Séries 3-4-5'!$B$3=4000,L36,O36)))","v":20},870,50,20,1365,245,30,1433.25,257.25,30,720,50,20,870,50,20,1365,245,30,1433.25,257.25,30]
["Cake wash device","TUBE",3,{"$f":"IF('Séries 3-4-5'!$B$3=3000,G37,IF('Séries 3-4-5'!$B$3=2000,P37,IF('Séries 3-4-5'!$B$3=4000,J37,M37)))","v":942.30000000000007},{"$f":"IF('Séries 3-4-5'!$B$3=3000,H37,IF('Séries 3-4-5'!$B$3=2000,Q37,IF('Séries 3-4-5'!$B$3=4000,K37,N37)))","v":50},{"$f":"IF('Séries 3-4-5'!$B$3=3000,I37,IF('Séries 3-4-5'!$B$3=2000,R37,IF('Séries 3-4-5'!$B$3=4000,L37,O37)))","v":20},{"$f":"G38*0.54","v":942.30000000000007},50,20,{"$f":"J38*0.54","v":1235.52},245,30,{"$f":"M38*0.54","v":1297.296},257.25,30,{"$f":"P38*0.54","v":942.30000000000007},50,20]
["Cake wash device","TUBE",4,{"$f":"IF('Séries 3-4-5'!$B$3=3000,G38,IF('Séries 3-4-5'!$B$3=2000,P38,IF('Séries 3-4-5'!$B$3=4000,J38,M38)))","v":1745},{"$f":"IF('Séries 3-4-5'!$B$3=3000,H38,IF('Séries 3-4-5'!$B$3=2000,Q38,IF('Séries 3-4-5'!$B$3=4000,K38,N38)))","v":50},{"$f":"IF('Séries 3-4-5'!$B$3=3000,I38,IF('Séries 3-4-5'!$B$3=2000,R38,IF('Séries 3-4-5'!$B$3=4000,L38,O38)))","v":20},1745,50,20,2288,245,30,2402.4,257.25,30,1745,50,20,1745,50,30,2288,245,30,2402.4,257.25,30]
["Cake wash device","TUBE",5,{"$f":"IF('Séries 3-4-5'!$B$3=3000,G39,IF('Séries 3-4-5'!$B$3=2000,P39,IF('Séries 3-4-5'!$B$3=4000,J39,M39)))","v":370},{"$f":"IF('Séries 3-4-5'!$B$3=3000,H39,IF('Séries 3-4-5'!$B$3=2000,Q39,IF('Séries 3-4-5'!$B$3=4000,K39,N39)))","v":800},{"$f":"IF('Séries 3-4-5'!$B$3=3000,I39,IF('Séries 3-4-5'!$B$3=2000,R39,IF('Séries 3-4-5'!$B$3=4000,L39,O39)))","v":15.4},370,800,15.4,400,1100,23,440,1200,23,370,800,15.4]
["Cake wash device","SURV",1,{"$f":"IF('Séries 3-4-5'!$B$3=3000,G40,IF('Séries 3-4-5'!$B$3=2000,P40,IF('Séries 3-4-5'!$B$3=4000,J40,M40)))","v":971.59999999999991},{"$f":"IF('Séries 3-4-5'!$B$3=3000,H40,IF('Séries 3-4-5'!$B$3=2000,Q40,IF('Séries 3-4-5'!$B$3=4000,K40,N40)))","v":70},{"$f":"IF('Séries 3-4-5'!$B$3=3000,I40,IF('Séries 3-4-5'!$B$3=2000,R40,IF('Séries 3-4-5'!$B$3=4000,L40,O40)))","v":40},{"$f":"G35*1.4","v":971.59999999999991},{"$f":"H35*1.4","v":70},{"$f":"I35*2","v":40},{"$f":"J35*1.4","v":1526},{"$f":"K35*1.4","v":343},{"$f":"L35*2","v":60},{"$f":"M35*1.4","v":1602.3},{"$f":"N35*1.4","v":360.15},{"$f":"O35*2","v":60},{"$f":"P35*1.4","v":909.99999999999989},{"$f":"Q35*1.4","v":70},25,{"$f":"S35*1.4","v":971.59999999999991},{"$f":"T35*1.4","v":70},{"$f":"U35*2","v":40},{"$f":"V35*1.4","v":1526},{"$f":"W35*1.4","v":343},{"$f":"X35*2","v":60},{"$f":"Y35*1.4","v":1602.3},{"$f":"Z35*1.4","v":360.15},{"$f":"AA35*2","v":60}]
["Cake wash device","SURV",2,{"$f":"IF('Séries 3-4-5'!$B$3=3000,G41,IF('Séries 3-4-5'!$B$3=2000,P41,IF('Séries 3-4-5'!$B$3=4000,J41,M41)))","v":1218},{"$f":"IF('Séries 3-4-5'!$B$3=3000,H41,IF('Séries 3-4-5'!$B$3=2000,Q41,IF('Séries 3-4-5'!$B$3=4000,K41,N41)))","v":70},{"$f":"IF('Séries 3-4-5'!$B$3=3000,I41,IF('Séries 3-4-5'!$B$3=2000,R41,IF('Séries 3-4-5'!$B$3=4000,L41,O41)))","v":40},{"$f":"G36*1.4","v":1218},{"$f":"H36*1.4","v":70},{"$f":"I36*2","v":40},{"$f":"J36*1.4","v":1910.9999999999998},{"$f":"K36*1.4","v":343},{"$f":"L36*2","v":60},{"$f":"M36*1.4","v":2006.55},{"$f":"N36*1.4","v":360.15},{"$f":"O36*2","v":60},{"$f":"P36*1.4","v":1007.9999999999999},{"$f":"Q36*1.4","v":70},25,{"$f":"S36*1.4","v":1218},{"$f":"T36*1.4","v":70},{"$f":"U36*2","v":40},{"$f":"V36*1.4","v":1910.9999999999998},{"$f":"W36*1.4","v":343},{"$f":"X36*2","v":60},{"$f":"Y36*1.4","v":2006.55},{"$f":"Z36*1.4","v":360.15},{"$f":"AA36*2","v":60}]
["Cake wash device","SURV",3,{"$f":"IF('Séries 3-4-5'!$B$3=3000,G42,IF('Séries 3-4-5'!$B$3=2000,P42,IF('Séries 3-4-5'!$B$3=4000,J42,M42)))","v":1319.22},{"$f":"IF('Séries 3-4-5'!$B$3=3000,H42,IF('Séries 3-4-5'!$B$3=2000,Q42,IF('Séries 3-4-5'!$B$3=4000,K42,N42)))","v":70},{"$f":"IF('Séries 3-4-5'!$B$3=3000,I42,IF('Séries 3-4-5'!$B$3=2000,R42,IF('Séries 3-4-5'!$B$3=4000,L42,O42)))","v":40},{"$f":"G43*0.54","v":1319.22},{"$f":"H37*1.4","v":70},{"$f":"I37*2","v":40},{"$f":"J43*0.54","v":1729.7280000000001},{"$f":"K37*1.4","v":343},{"$f":"L37*2","v":60},{"$f":"M43*0.54","v":1816.2144000000003},{"$f":"N37*1.4","v":360.15},{"$f":"O37*2","v":60},{"$f":"P43*0.54","v":1319.22},{"$f":"Q37*1.4","v":70},25]
["Cake wash device","SURV",4,{"$f":"IF('Séries 3-4-5'!$B$3=3000,G43,IF('Séries 3-4-5'!$B$3=2000,P43,IF('Séries 3-4-5'!$B$3=4000,J43,M43)))","v":2443},{"$f":"IF('Séries 3-4-5'!$B$3=3000,H43,IF('Séries 3-4-5'!$B$3=2000,Q43,IF('Séries 3-4-5'!$B$3=4000,K43,N43)))","v":70},{"$f":"IF('Séries 3-4-5'!$B$3=3000,I43,IF('Séries 3-4-5'!$B$3=2000,R43,IF('Séries 3-4-5'!$B$3=4000,L43,O43)))","v":40},{"$f":"G38*1.4","v":2443},{"$f":"H38*1.4","v":70},{"$f":"I38*2","v":40},{"$f":"J38*1.4","v":3203.2},{"$f":"K38*1.4","v":343},{"$f":"L38*2","v":60},{"$f":"M38*1.4","v":3363.36},{"$f":"N38*1.4","v":360.15},{"$f":"O38*2","v":60},{"$f":"P38*1.4","v":2443},{"$f":"Q38*1.4","v":70},25,{"$f":"S38*1.4","v":2443},{"$f":"T38*1.4","v":70},{"$f":"U38*2","v":60},{"$f":"V38*1.4","v":3203.2},{"$f":"W38*1.4","v":343},{"$f":"X38*2","v":60},{"$f":"Y38*1.4","v":3363.36},{"$f":"Z38*1.4","v":360.15},{"$f":"AA38*2","v":60}]
["Cake wash device","SURV",5,{"$f":"IF('Séries 3-4-5'!$B$3=3000,G44,IF('Séries 3-4-5'!$B$3=2000,P44,IF('Séries 3-4-5'!$B$3=4000,J44,M44)))","v":370},{"$f":"IF('Séries 3-4-5'!$B$3=3000,H44,IF('Séries 3-4-5'!$B$3=2000,Q44,IF('Séries 3-4-5'!$B$3=4000,K44,N44)))","v":1000},{"$f":"IF('Séries 3-4-5'!$B$3=3000,I44,IF('Séries 3-4-5'!$B$3=2000,R44,IF('Séries 3-4-5'!$B$3=4000,L44,O44)))","v":15},370,1000,15,370,1400,23,370,1500,23,370,1000,15]
["Cariage for accessories","ROUE",1,{"$f":"IF('Séries 3-4-5'!$B$3=3000,G45,IF('Séries 3-4-5'!$B$3=2000,P45,IF('Séries 3-4-5'!$B$3=4000,J45,M45)))","v":299},{"$f":"IF('Séries 3-4-5'!$B$3=3000,H45,IF('Séries 3-4-5'!$B$3=2000,Q45,IF('Séries 3-4-5'!$B$3=4000,K45,N45)))","v":150},{"$f":"IF('Séries 3-4-5'!$B$3=3000,I45,IF('Séries 3-4-5'!$B$3=2000,R45,IF('Séries 3-4-5'!$B$3=4000,L45,O45)))","v":10},299,150,10,650,150,15,682.5,157.5,15,130,150,10,299,150,10,650,150,15,682.5,157.5,15]
["Cariage for accessories","ROUE",2,{"$f":"IF('Séries 3-4-5'!$B$3=3000,G46,IF('Séries 3-4-5'!$B$3=2000,P46,IF('Séries 3-4-5'!$B$3=4000,J46,M46)))","v":620},{"$f":"IF('Séries 3-4-5'!$B$3=3000,H46,IF('Séries 3-4-5'!$B$3=2000,Q46,IF('Séries 3-4-5'!$B$3=4000,K46,N46)))","v":150},{"$f":"IF('Séries 3-4-5'!$B$3=3000,I46,IF('Séries 3-4-5'!$B$3=2000,R46,IF('Séries 3-4-5'!$B$3=4000,L46,O46)))","v":10},620,150,10,1190,150,15,1249.5,157.5,15,150,150,10,620,150,10,1190,150,15,1249.5,157.5,15]
["Cariage for accessories","ROUE",3,{"$f":"IF('Séries 3-4-5'!$B$3=3000,G47,IF('Séries 3-4-5'!$B$3=2000,P47,IF('Séries 3-4-5'!$B$3=4000,J47,M47)))","v":501.66},{"$f":"IF('Séries 3-4-5'!$B$3=3000,H47,IF('Séries 3-4-5'!$B$3=2000,Q47,IF('Séries 3-4-5'!$B$3=4000,K47,N47)))","v":150},{"$f":"IF('Séries 3-4-5'!$B$3=3000,I47,IF('Séries 3-4-5'!$B$3=2000,R47,IF('Séries 3-4-5'!$B$3=4000,L47,O47)))","v":10},{"$f":"G48*0.54","v":501.66},150,10,{"$f":"J48*0.54","v":961.2},150,15,{"$f":"M48*0.54","v":1009.2600000000001},157.5,15,{"$f":"P48*0.54","v":256.5},150,10]
["Cariage for accessories","ROUE",4,{"$f":"IF('Séries 3-4-5'!$B$3=3000,G48,IF('Séries 3-4-5'!$B$3=2000,P48,IF('Séries 3-4-5'!$B$3=4000,J48,M48)))","v":929},{"$f":"IF('Séries 3-4-5'!$B$3=3000,H48,IF('Séries 3-4-5'!$B$3=2000,Q48,IF('Séries 3-4-5'!$B$3=4000,K48,N48)))","v":150},{"$f":"IF('Séries 3-4-5'!$B$3=3000,I48,IF('Séries 3-4-5'!$B$3=2000,R48,IF('Séries 3-4-5'!$B$3=4000,L48,O48)))","v":10},929,150,10,1780,150,15,1869,157.5,15,475,150,10,929,150,10,1780,150,15,1869,157.5,15]
["pendulum dam","EPDM",1,{"$f":"IF('Séries 3-4-5'!$B$3=3000,G49,IF('Séries 3-4-5'!$B$3=2000,P49,IF('Séries 3-4-5'!$B$3=4000,J49,M49)))","v":134},{"$f":"IF('Séries 3-4-5'!$B$3=3000,H49,IF('Séries 3-4-5'!$B$3=2000,Q49,IF('Séries 3-4-5'!$B$3=4000,K49,N49)))","v":51},{"$f":"IF('Séries 3-4-5'!$B$3=3000,I49,IF('Séries 3-4-5'!$B$3=2000,R49,IF('Séries 3-4-5'!$B$3=4000,L49,O49)))","v":8},134,51,8,212,120,10,222.6,126,10,450,51,8,134,51,8,212,120,10,222.6,126,10]
["pendulum dam","EPDM",2,{"$f":"IF('Séries 3-4-5'!$B$3=3000,G50,IF('Séries 3-4-5'!$B$3=2000,P50,IF('Séries 3-4-5'!$B$3=4000,J50,M50)))","v":154},{"$f":"IF('Séries 3-4-5'!$B$3=3000,H50,IF('Séries 3-4-5'!$B$3=2000,Q50,IF('Séries 3-4-5'!$B$3=4000,K50,N50)))","v":51},{"$f":"IF('Séries 3-4-5'!$B$3=3000,I50,IF('Séries 3-4-5'!$B$3=2000,R50,IF('Séries 3-4-5'!$B$3=4000,L50,O50)))","v":8},154,51,8,244,120,10,256.2,126,10,515,51,8,154,51,8,244,120,10,256.2,126,10]
["pendulum dam","EPDM",3,{"$f":"IF('Séries 3-4-5'!$B$3=3000,G51,IF('Séries 3-4-5'!$B$3=2000,P51,IF('Séries 3-4-5'!$B$3=4000,J51,M51)))","v":210.60000000000002},{"$f":"IF('Séries 3-4-5'!$B$3=3000,H51,IF('Séries 3-4-5'!$B$3=2000,Q51,IF('Séries 3-4-5'!$B$3=4000,K51,N51)))","v":51},{"$f":"IF('Séries 3-4-5'!$B$3=3000,I51,IF('Séries 3-4-5'!$B$3=2000,R51,IF('Séries 3-4-5'!$B$3=4000,L51,O51)))","v":8},{"$f":"G52*0.54","v":210.60000000000002},51,8,{"$f":"J52*0.54","v":451.98},120,10,{"$f":"M52*0.54","v":474.57900000000006},126,10,{"$f":"P52*0.54","v":704.7},51,8]
["pendulum dam","EPDM",4,{"$f":"IF('Séries 3-4-5'!$B$3=3000,G52,IF('Séries 3-4-5'!$B$3=2000,P52,IF('Séries 3-4-5'!$B$3=4000,J52,M52)))","v":390},{"$f":"IF('Séries 3-4-5'!$B$3=3000,H52,IF('Séries 3-4-5'!$B$3=2000,Q52,IF('Séries 3-4-5'!$B$3=4000,K52,N52)))","v":51},{"$f":"IF('Séries 3-4-5'!$B$3=3000,I52,IF('Séries 3-4-5'!$B$3=2000,R52,IF('Séries 3-4-5'!$B$3=4000,L52,O52)))","v":8},390,51,8,837,120,10,878.85,126,10,1305,51,8,390,51,8,837,120,10,878.85,126,10]
["slurry feeder:","BOIT",1,{"$f":"IF('Séries 3-4-5'!$B$3=3000,G53,IF('Séries 3-4-5'!$B$3=2000,P53,IF('Séries 3-4-5'!$B$3=4000,J53,M53)))","v":2112},{"$f":"IF('Séries 3-4-5'!$B$3=3000,H53,IF('Séries 3-4-5'!$B$3=2000,Q53,IF('Séries 3-4-5'!$B$3=4000,K53,N53)))","v":1215},{"$f":"IF('Séries 3-4-5'!$B$3=3000,I53,IF('Séries 3-4-5'!$B$3=2000,R53,IF('Séries 3-4-5'!$B$3=4000,L53,O53)))","v":80},2112,1215,80,2240,2250,100,2352,2362.5,100,1100,1215,70,2112,335,70,2240,2250,100,2352,2362.5,100]
["slurry feeder:","BOIT",2,{"$f":"IF('Séries 3-4-5'!$B$3=3000,G54,IF('Séries 3-4-5'!$B$3=2000,P54,IF('Séries 3-4-5'!$B$3=4000,J54,M54)))","v":2490},{"$f":"IF('Séries 3-4-5'!$B$3=3000,H54,IF('Séries 3-4-5'!$B$3=2000,Q54,IF('Séries 3-4-5'!$B$3=4000,K54,N54)))","v":1215},{"$f":"IF('Séries 3-4-5'!$B$3=3000,I54,IF('Séries 3-4-5'!$B$3=2000,R54,IF('Séries 3-4-5'!$B$3=4000,L54,O54)))","v":80},2490,1215,80,2535,2250,100,2661.75,2362.5,100,1300,1215,70,2490,335,80,2535,2250,100,2661.75,2362.5,100]
["slurry feeder:","BOIT",3,{"$f":"IF('Séries 3-4-5'!$B$3=3000,G55,IF('Séries 3-4-5'!$B$3=2000,P55,IF('Séries 3-4-5'!$B$3=4000,J55,M55)))","v":1215},{"$f":"IF('Séries 3-4-5'!$B$3=3000,H55,IF('Séries 3-4-5'!$B$3=2000,Q55,IF('Séries 3-4-5'!$B$3=4000,K55,N55)))","v":1215},{"$f":"IF('Séries 3-4-5'!$B$3=3000,I55,IF('Séries 3-4-5'!$B$3=2000,R55,IF('Séries 3-4-5'!$B$3=4000,L55,O55)))","v":80},1215,1215,80,{"$f":"J56*0.54","v":4193.1000000000004},2250,100,{"$f":"M56*0.54","v":4402.7550000000001},2362.5,100,{"$f":"P56*0.54","v":1944.0000000000002},1215,70]
["slurry feeder:","BOIT",4,{"$f":"IF('Séries 3-4-5'!$B$3=3000,G56,IF('Séries 3-4-5'!$B$3=2000,P56,IF('Séries 3-4-5'!$B$3=4000,J56,M56)))","v":6890},{"$f":"IF('Séries 3-4-5'!$B$3=3000,H56,IF('Séries 3-4-5'!$B$3=2000,Q56,IF('Séries 3-4-5'!$B$3=4000,K56,N56)))","v":2250},{"$f":"IF('Séries 3-4-5'!$B$3=3000,I56,IF('Séries 3-4-5'!$B$3=2000,R56,IF('Séries 3-4-5'!$B$3=4000,L56,O56)))","v":100},6890,2250,100,7765,4000,120,8153.25,4200,120,3600,2250,100,6890,2250,100,7765,4000,120,8153.25,4200,120]
["slurry feeder:","QDC",1,{"$f":"IF('Séries 3-4-5'!$B$3=3000,G57,IF('Séries 3-4-5'!$B$3=2000,P57,IF('Séries 3-4-5'!$B$3=4000,J57,M57)))","v":2223},{"$f":"IF('Séries 3-4-5'!$B$3=3000,H57,IF('Séries 3-4-5'!$B$3=2000,Q57,IF('Séries 3-4-5'!$B$3=4000,K57,N57)))","v":335},{"$f":"IF('Séries 3-4-5'!$B$3=3000,I57,IF('Séries 3-4-5'!$B$3=2000,R57,IF('Séries 3-4-5'!$B$3=4000,L57,O57)))","v":56},2223,335,56,2550,335,70,2677.5,351.75,70,650,335,28,2223,335,80,2550,335,100,2677.5,351.75,100]
["slurry feeder:","QDC",2,{"$f":"IF('Séries 3-4-5'!$B$3=3000,G58,IF('Séries 3-4-5'!$B$3=2000,P58,IF('Séries 3-4-5'!$B$3=4000,J58,M58)))","v":2490},{"$f":"IF('Séries 3-4-5'!$B$3=3000,H58,IF('Séries 3-4-5'!$B$3=2000,Q58,IF('Séries 3-4-5'!$B$3=4000,K58,N58)))","v":335},{"$f":"IF('Séries 3-4-5'!$B$3=3000,I58,IF('Séries 3-4-5'!$B$3=2000,R58,IF('Séries 3-4-5'!$B$3=4000,L58,O58)))","v":56},2490,335,56,4060,335,70,4263,351.75,70,720,335,28,2490,335,80,4060,335,100,4263,351.75,100]
["slurry feeder:","QDC",3,{"$f":"IF('Séries 3-4-5'!$B$3=3000,G59,IF('Séries 3-4-5'!$B$3=2000,P59,IF('Séries 3-4-5'!$B$3=4000,J59,M59)))","v":1906.2},{"$f":"IF('Séries 3-4-5'!$B$3=3000,H59,IF('Séries 3-4-5'!$B$3=2000,Q59,IF('Séries 3-4-5'!$B$3=4000,K59,N59)))","v":335},{"$f":"IF('Séries 3-4-5'!$B$3=3000,I59,IF('Séries 3-4-5'!$B$3=2000,R59,IF('Séries 3-4-5'!$B$3=4000,L59,O59)))","v":56},{"$f":"G60*0.54","v":1906.2},335,56,{"$f":"J60*0.54","v":2492.1000000000004},335,70,{"$f":"M60*0.54","v":2616.7050000000004},351.75,70,{"$f":"P60*0.54","v":945.00000000000011},335,28]
["slurry feeder:","QDC",4,{"$f":"IF('Séries 3-4-5'!$B$3=3000,G60,IF('Séries 3-4-5'!$B$3=2000,P60,IF('Séries 3-4-5'!$B$3=4000,J60,M60)))","v":3530},{"$f":"IF('Séries 3-4-5'!$B$3=3000,H60,IF('Séries 3-4-5'!$B$3=2000,Q60,IF('Séries 3-4-5'!$B$3=4000,K60,N60)))","v":335},{"$f":"IF('Séries 3-4-5'!$B$3=3000,I60,IF('Séries 3-4-5'!$B$3=2000,R60,IF('Séries 3-4-5'!$B$3=4000,L60,O60)))","v":56},3530,335,56,4615,335,70,4845.75,351.75,70,1750,335,28,3530,335,80,4615,335,100,4845.75,351.75,100]
["slurry feeder:","QDC",5,{"$f":"IF('Séries 3-4-5'!$B$3=3000,G61,IF('Séries 3-4-5'!$B$3=2000,P61,IF('Séries 3-4-5'!$B$3=4000,J61,M61)))","v":481},{"$f":"IF('Séries 3-4-5'!$B$3=3000,H61,IF('Séries 3-4-5'!$B$3=2000,Q61,IF('Séries 3-4-5'!$B$3=4000,K61,N61)))","v":3050},{"$f":"IF('Séries 3-4-5'!$B$3=3000,I61,IF('Séries 3-4-5'!$B$3=2000,R61,IF('Séries 3-4-5'!$B$3=4000,L61,O61)))","v":20},481,3050,20,481,5800,30,505.05,6090,30,750,3050,20,481,3050,20,481,5800,30,505.05,6090,30]

{"sheet":"Access","index":1,"n_rows":17,"n_cols":13,"rows_kept":17,"cut":false,"hidden":true,"merged":[]}
["ACCESSOIRES"]
[]
["Equipement pneumatique:",null,6000,10]
[null,null,250,500,750,1000,1250,1500,2000,2500,3000,4000,4200]
["Equipement électrique:",null,"II","SERIE 3","SERIE 4","SERIE 5"]
[null,"Matière",250,300,1000,1500]
[null,"Négoce",2500,3000,3350,3500]
[null,"MO",null,40,40,40]
[]
[]
[]
[]
[]
[]
["Vérin pneuride",null,"12x2","10x2","8x2","6x2","8x3"]
[null,"Matière",1300,850,650,590,750]
[null,"Négoce",1300,845,635.5,454,705]

{"sheet":"Gr de Cde","index":2,"n_rows":58,"n_cols":24,"rows_kept":58,"cut":false,"hidden":true,"merged":[]}
["Groupe de Commande:"]
[]
["Tarif BREVINI:"]
[]
["Couple",0.37,0.55000000000000004,0.75,1.1000000000000001,1.5,2.2000000000000002,3,4,5.5,7.5,11,15,18.5,22,30,37,45,55,75,90,110,132,160]
[null,1386,1386,1386,1386,1785,1785,2450,2450,2835,4017,4380,4900,6600,6600,8120,8120,11900,14280,18150,19250,19250,28512,35000]
[]
[]
[]
[]
[]
[]
[]
[]
[]
[]
[null,null,null,null,null,"CALCUL DE LA PUISSANCE D'UN MOTEUR"]
[]
[]
["COUPLE EN Nm:",null,null,null,{"$f":"'Séries 3-4-5'!B77","v":88238.119392556851}]
[]
["VITESSE MAXI EN Tr/mn :",null,null,null,{"$f":"'Séries 3-4-5'!B78","v":6.5333548165374458}]
[null,null,null,null,null,"Rendement",null,null,null,"declassement"]
["Formule","P en kw=","C(newton)x N(rpm) / 9550",null,{"$f":"ROUND(E20*E22/9550,3)","v":60.366},"/0,85","Puissance absorbée moteur:",null,{"$f":"E24/0.85","v":71.018823529411762},"x 1,15"]
[]
["Type de moteur",null,null,null,{"$f":"LOOKUP(I24*1.15,A33:A58,B33:B58)","v":90},"Kw","Prix B3",{"$f":"ROUNDUP((LOOKUP(E26,B33:B58,C33:C58))*1.2*0.5,0)","v":36234},{"$f":"H26/6.55","v":5531.9083969465646}]
[]
[null,null,null,null,null,null,"Prix B5",{"$f":"ROUNDUP((LOOKUP(E26,B33:B58,D33:D58))*1.2*0.5,0)","v":38193}]
[]
[null,null,null,null,null,null,"Variateur de fréquence",{"$f":"ROUNDUP((LOOKUP(E26,B33:B58,E33:E58)),0)","v":59616}]
[]
[]
[0,0.25,1794,1987,null,null,"M1"]
[0.25,0.37,1827,2020,2100,null,"M2"]
[0.37,0.55000000000000004,1908,2101,2100,null,"M3"]
[0.55000000000000004,0.75,2025,2218,2100,null,"M4"]
[0.75,1.1000000000000001,2222,2415,3042,null,"M5"]
[1.1000000000000001,1.5,2488,2681,3744,null,"M6"]
[1.5,2.2000000000000002,2984,3262,4420,null,"M7"]
[2.2000000000000002,3,3471,3749,6292,null,"M8"]
[3,4,4130,4455,6292,null,"M9"]
[4,5.5,4998,5395,7488,null,"M10"]
[5.5,7.5,6225,6622,8840,null,"M11"]
[7.5,11,8688,9496,12298,null,"M12"]
[11,15,10910,11718,15455,null,"M13"]
[15,18.5,13189,14226,20262,null,"M14"]
[18.5,22,15618,16655,20262,null,"M15"]
[22,30,20940,22259,26280,null,"M16"]
[30,37,25336,27163,31746,null,"M17"]
[37,45,30427,32254,34776,null,"M18"]
[45,55,36905,39230,41676,null,"M19"]
[55,75,50364,53628,51336,null,"M20"]
[75,90,60390,63654,59616,null,"M21"]
[90,110,71496,75893,71760,null,"M22"]
[110,132,85032,89429,82248,null,"M23"]
[132,160,99922,104319,94668,null,"M24"]
[160,200,135000,139397,110000,null,"M25"]
[200,250,172800,183168,null,null,"M26"]

{"sheet":"Lavage","index":3,"n_rows":42,"n_cols":6,"rows_kept":42,"cut":false,"hidden":true,"merged":[]}
["Lavage et évacuation gâteau"]
[]
[]
[]
["Matière","POLYPROPYLENE","304L","316L","U45N","904L"]
[250,1330,3050,3570,{"$f":"F6*0.54","v":5319},9850]
[500,1860,5000,5850,{"$f":"F7*0.54","v":8694},16100]
[750,2420,6910,8130,12096,22400]
[1000,2940,7720,9080,13483.800000000001,24970]
[1250,4518,14300,16810,25002,46300]
[1500,4470,16575,19500,28957.500000000004,53625]
[2000,4912,19835,23335,34652.880000000005,64172]
[2500,5415,24440,28750,42695.100000000006,79065]
[3000,6810,31365,36900,54796.5,101475]
[4000,7670,41725,49085,72900,135000]
[4200,8055,43815,51540,76545,141750]
[]
["Négoce","POLYPROPYLENE","304L","316L","U45N","904L"]
[250,18950,9900,9900,9900,9900]
[500,20233,9900,9900,9900,9900]
[750,21700,9900,9900,9900,9900]
[1000,23700,9900,9900,9900,9900]
[1250,27675,10000,10000,10000,10000]
[1500,31200,10000,10000,10000,10000]
[2000,34535,10000,10000,10000,10000]
[2500,41200,10000,10000,10000,10000]
[3000,44700,10000,10000,10000,10000]
[4000,84800,12000,12000,12000,12000]
[4200,89050,12000,12000,12000,12000]
[]
["MO","POLYPROPYLENE","304L","316L","U45N","904L"]
[250,30,80,80,80,80]
[500,40,100,100,100,100]
[750,47.5,110,110,110,110]
[1000,50,120,120,120,120]
[1250,50,120,120,120,120]
[1500,50,120,120,120,120]
[2000,58,184,184,184,184]
[2500,60,200,200,200,200]
[3000,60,200,200,200,200]
[4000,65,265,265,265,265]
[4200,65,265,265,265,265]

{"sheet":"Project Specs","index":4,"n_rows":273,"n_cols":52,"rows_kept":273,"cut":false,"hidden":true,"merged":[[270,33,270,34],[272,3,272,34],[269,24,269,26],[269,28,269,29],[269,31,269,32],[270,24,270,26],[270,28,270,29],[270,31,270,32],[266,11,266,13],[266,24,266,26],[268,24,268,26],[268,28,268,29],[268,31,268,32],[268,33,268,34],[256,11,256,13],[256,24,256,26],[258,3,258,34],[261,11,261,13],[263,11,263,13],[264,24,264,26],[254,11,254,13],[254,18,254,20],[254,24,254,26],[254,32,254,34],[255,11,255,13],[255,18,255,20],[255,24,255,26],[255,32,255,34],[245,3,245,34],[248,11,248,13],[250,32,250,34],[253,11,253,13],[253,18,253,20],[253,24,253,26],[253,32,253,34],[239,12,239,14],[239,32,239,34],[240,32,240,34],[242,12,242,14],[242,32,242,34],[243,32,243,34],[233,8,233,10],[233,16,233,18],[233,24,233,26],[233,32,233,34],[234,8,234,10],[236,3,236,34],[225,8,225,10],[225,16,225,18],[226,16,226,18],[226,32,226,34],[229,3,229,34],[232,8,232,10],[232,16,232,18],[232,24,232,26],[232,32,232,34],[217,8,217,10],[217,16,217,18],[218,16,218,18],[218,32,218,34],[221,3,221,34],[224,8,224,10],[224,16,224,18],[224,24,224,26],[224,32,224,34],[209,8,209,10],[209,16,209,18],[210,16,210,18],[210,32,210,34],[213,3,213,34],[216,8,216,10],[216,16,216,18],[216,24,216,26],[216,32,216,34],[202,8,202,10],[202,16,202,18],[203,16,203,18],[203,32,203,34],[206,3,206,34],[208,8,208,10],[208,16,208,18],[208,24,208,26],[208,32,208,34],[195,8,195,10],[195,16,195,18],[196,16,196,18],[196,32,196,34],[199,3,199,34],[201,8,201,10],[201,16,201,18],[201,24,201,26],[201,32,201,34],[188,8,188,10],[188,16,188,18],[189,16,189,18],[189,32,189,34],[192,3,192,34],[194,8,194,10],[194,16,194,18],[194,24,194,26],[194,32,194,34],[182,8,182,10],[182,16,182,18],[182,24,182,26],[184,3,184,34],[187,8,187,10],[187,16,187,18],[187,24,187,26],[187,32,187,34],[177,8,177,10],[177,16,177,18],[177,24,177,26],[177,32,177,34],[178,16,178,18],[179,16,179,18],[171,8,171,10],[173,3,173,34],[176,8,176,10],[176,16,176,18],[176,24,176,26],[176,32,176,34],[165,8,165,10],[167,3,167,34],[170,8,170,10],[170,13,170,15],[170,18,170,20],[170,27,170,29],[157,8,157,10],[157,13,157,15],[157,18,157,20],[158,8,158,10],[161,3,161,34],[164,8,164,10],[164,13,164,15],[164,18,164,20],[151,8,151,10],[151,13,151,15],[151,18,151,20],[151,32,151,34],[152,18,152,20],[154,3,154,34],[140,8,140,10],[143,3,143,34],[146,8,146,10],[146,13,146,15],[146,32,146,34],[148,3,148,34],[136,8,136,10],[136,13,136,15],[136,18,136,20],[136,32,136,34],[137,8,137,10],[139,8,139,10],[139,13,139,15],[139,18,139,20],[139,32,139,34],[131,8,131,10],[133,8,133,10],[133,13,133,15],[133,18,133,20],[133,32,133,34],[134,8,134,10],[125,15,125,17],[127,3,127,34],[130,8,130,10],[130,13,130,15],[130,18,130,20],[130,32,130,34],[116,3,116,34],[119,8,119,10],[119,16,119,18],[119,27,119,29],[121,3,121,34],[124,19,124,21],[103,32,103,34],[104,22,104,24],[106,3,106,34],[109,8,109,10],[111,3,111,34],[114,8,114,10],[114,16,114,18],[94,3,94,34],[97,8,97,10],[97,16,97,18],[100,3,100,34],[103,8,103,10],[103,13,103,14],[103,17,103,19],[103,22,103,24],[103,27,103,29],[98,16,98,19],[91,8,91,10],[91,16,91,18],[91,21,91,23],[91,27,91,29],[91,32,91,34],[92,8,92,10],[92,16,92,18],[87,8,87,34],[89,8,89,10],[89,16,89,18],[89,21,89,23],[90,8,90,10],[90,16,90,18],[90,21,90,23],[90,27,90,29],[90,32,90,34],[81,28,81,30],[82,8,82,34],[84,8,84,13],[84,16,84,18],[84,24,84,26],[85,8,85,10],[85,16,85,18],[85,21,85,23],[85,27,85,29],[85,32,85,34],[76,3,76,34],[79,8,79,10],[79,16,79,18],[80,8,80,12],[80,16,80,18],[80,21,80,23],[80,28,80,30],[72,8,72,10],[72,16,72,18],[72,24,72,26],[73,8,73,10],[73,32,73,34],[74,8,74,10],[74,16,74,18],[70,8,70,10],[70,16,70,18],[70,24,70,26],[70,32,70,34],[71,8,71,10],[71,16,71,18],[63,8,63,10],[63,32,63,34],[65,3,65,34],[69,8,69,10],[69,16,69,18],[69,24,69,26],[69,32,69,34],[58,3,58,34],[61,8,61,10],[61,16,61,18],[61,24,61,26],[62,8,62,10],[62,16,62,18],[62,24,62,26],[62,32,62,34],[50,32,50,34],[52,3,52,34],[55,8,55,10],[55,16,55,18],[55,24,55,26],[56,8,56,10],[56,24,56,26],[56,32,56,34],[48,8,48,10],[48,16,48,18],[48,24,48,26],[48,32,48,34],[49,16,49,18],[49,32,49,34],[46,8,46,10],[46,16,46,18],[46,24,46,26],[46,32,46,34],[47,8,47,10],[47,16,47,18],[47,24,47,26],[47,32,47,34],[44,8,44,10],[44,16,44,18],[44,24,44,26],[44,32,44,34],[45,8,45,10],[45,16,45,18],[45,24,45,26],[45,32,45,34],[42,8,42,10],[42,16,42,18],[42,24,42,26],[42,32,42,34],[43,8,43,10],[43,16,43,18],[43,24,43,26],[43,32,43,34],[40,8,40,10],[40,16,40,18],[40,24,40,26],[40,32,40,34],[41,8,41,10],[41,16,41,18],[41,24,41,26],[41,32,41,34],[36,8,36,10],[36,16,36,18],[36,24,36,26],[36,32,36,34],[38,8,38,10],[38,16,38,22],[38,32,38,34],[29,8,29,10],[29,16,29,18],[29,24,29,26],[32,3,32,34],[35,8,35,10],[35,16,35,18],[35,24,35,26],[19,3,19,34],[22,12,22,14],[22,24,22,26],[24,3,24,34],[28,8,28,10],[28,16,28,18],[28,24,28,26],[28,27,28,31],[13,8,13,10],[13,16,13,18],[15,8,15,12],[15,16,15,18],[15,30,15,34],[17,8,17,10],[17,16,17,18],[8,8,8,10],[8,16,8,18],[8,28,8,30],[9,8,9,10],[9,16,9,18],[11,8,12,34],[5,0,5,6],[5,7,5,18],[5,27,5,34],[6,0,6,6],[6,7,6,18],[6,27,6,34],[2,43,2,47],[3,29,3,35],[3,37,3,41],[3,43,3,47],[4,0,4,2],[4,3,4,19],[4,20,4,25],[4,26,4,35],[0,0,3,12],[0,13,0,28],[0,29,0,35],[1,13,3,28],[1,29,1,35],[2,37,2,41]]}
[null,null,null,null,null,null,null,null,null,null,null,null,null,"PROJECT SPECIFICATION",null,null,null,null,null,null,null,null,null,null,null,null,null,null,null,null,null,null,null,null,null,null,null,null,null,null,null,null,null,null,"Français","English"]
[null,null,null,null,null,null,null,null,null,null,null,null,null,{"$f":"IF(AD4=\"Français\",AL3,AR3)","v":"FILTRE A BANDE"},null,null,null,null,null,null,null,null,null,null,null,null,null,null,null,{"$f":"Calculations!H3","v":"rev2"},null,null,null,null,null,null,null,null,null,null,null,"Rév. 0",null,"Rev. 0"]
[null,null,null,null,null,null,null,null,null,null,null,null,null,null,null,null,null,null,null,null,null,null,null,null,null,null,null,null,null,null,null,null,null,null,null,null,null,"FILTRE A BANDE",null,null,null,null,null,"HORIZONTAL BELT FILTER"]
[null,null,null,null,null,null,null,null,null,null,null,null,null,null,null,null,null,null,null,null,null,null,null,null,null,null,null,null,null,"Français",null,null,null,null,null,null,null,"Français ",null,null,null,null,null,"English"]
["Client :",null,null,{"$f":"Calculations!C2","v":"PKT"},null,null,null,null,null,null,null,null,null,null,null,null,null,null,null,null,{"$f":"IF(AD4=\"Français\",AP5,AV5)","v":"N° commande :"},null,null,null,null,null,{"$f":"IF(_xlfn.SINGLE(KSNr)=0,\" \",\" \"&_xlfn.SINGLE(KSNr))","v":" Lxyyyy"},null,null,null,null,null,null,null,null,null,null,null,null,null,null,"N° commande :",null,null,null,null,null,"Order N° : "]
[{"$f":"IF(AD4=\"Français\",AL6,AR6)","v":"Type de filtre :"},null,null,null,null,null,null,"Philippe",null,null,null,null,null,null,null,null,null,null,null,null,null,null,null,null,null,null,{"$f":"IF(AD4=\"Français\",AP6,AV6)","v":"Référence client :"},{"$f":"Calculations!C4","v":"Soda ash filter"},null,null,null,null,null,null,null,null,null,"Type de filtre :",null,null,null,"Référence client :",null,"Filter type :",null,null,null,"Client reference :"]
[{"$f":"IF(AD4=\"Français\",AL7,AR7)","v":"Identique à / similaire à :"},null,null,null,null,null,null,null,null,null,null,null,null,null,null,null,null,null,null,null,null,null,null,null,null,null,{"$f":"IF(AD4=\"Français\",AP7,AV7)","v":"Référence PID de l'Offre :"},{"$f":"Calculations!C3","v":760895},null,null,null,null,null,null,null,null,null,"Identique à / similaire à :",null,null,null,"Référence PID de l'Offre :",null,"Identical to / Similar to :",null,null,null,"Offer's PID reference :"]
[]
[{"$f":"IF(AD4=\"Français\",AL9,AR9)","v":"Dimensions Filtre"},null,null,null,null,null,null,{"$f":"IF(AD4=\"Français\",AM9,AS9)","v":"Surface"},{"$f":"Calculations!C9","v":90},null,null,"m²",null,null,null,{"$f":"IF(AD4=\"Français\",AN9,AT9)","v":"Largeur"},{"$f":"Calculations!E9/1000","v":3},null,null,"m",null,null,null,null,null,null,null,{"$f":"IF(AD4=\"Français\",AO9,AU9)","v":"Longueur boite à vide"},{"$f":"Calculations!G9/1000","v":30},null,null,"m",null,null,null,null,null,"Dimensions Filtre","Surface","Largeur","Longueur boite à vide",null,null,"Filter dimensions","Area","Width","Length under vacuum"]
[{"$f":"IF(AD4=\"Français\",AL10,AR10)","v":"Vitesse linéaire Filtre"},null,null,null,null,null,null,"Min",{"$f":"Calculations!H25","v":4.2452830188679247},null,null,"m/min",null,null,null,"Max",{"$f":"Calculations!F25","v":25.471698113207548},null,null,"m/min",null,null,null,null,null,null,null,null,null,null,null,null,null,null,null,null,null,"Vitesse linéaire Filtre",null,null,null,null,null,"Belt speed"]
[]
[{"$f":"IF(AD4=\"Français\",AL12,AR12)","v":"Charactéristiques Produit filtré"},null,null,null,null,null,null,null,null,null,null,null,null,null,null,null,null,null,null,null,null,null,null,null,null,null,null,null,null,null,null,null,null,null,null,null,null,"Charactéristiques Produit filtré",null,null,null,null,null,"Slurry Characteristics"]
[]
[null,null,null,null,null,null,null,"Temp.",null,null,null,"°C",null,null,null,"pH"]
[]
[{"$f":"IF(AD4=\"Français\",AL16,AR16)","v":"Brides"},null,null,null,null,null,null,{"$f":"IF(AD4=\"Français\",AM16,AS16)","v":"Norme brides"},null,null,null,null,null,null,null,{"$f":"IF(AD4=\"Français\",AN16,AT16)","v":"Type brides"},null,null,null,null,null,null,null,null,null,{"$f":"IF(AD4=\"Français\",AO16,AU16)","v":"Certification CE"},{"$f":"IF('Offre NEW'!H55=0,\"\",\"X\")","v":""},null,null,{"$f":"IF(AD4=\"Français\",AP16,AV16)","v":"Autre"},null,null,null,null,null,null,null,"Brides","Norme brides","Type brides","Certification CE","Autre",null,"Flanges","Flanges norm","Flanges type","European Conformity (EC)","Other "]
[]
[{"$f":"IF(AD4=\"Français\",AL18,AR18)","v":"Alimentation Moteurs"},null,null,null,null,null,null,{"$f":"IF(AD4=\"Français\",AM18,AS18)","v":"Tension"},{"$f":"I183","v":""},null,null,"V",null,null,null,{"$f":"IF(AD4=\"Français\",AN18,AT18)","v":"Fréquence"},{"$f":"Q183","v":""},null,null,"Hz",null,null,null,null,null,null,null,null,null,null,null,null,null,null,null,null,null,"Alimentation Moteurs","Tension","Fréquence",null,null,null,"Power details","Voltage","Frequency"]
[]
[{"$f":"IF(AD4=\"Français\",AL20,AR20)","v":"Spécifique"},null,null,null,null,null,null,null,null,null,null,null,null,null,null,null,null,null,null,null,null,null,null,null,null,null,null,null,null,null,null,null,null,null,null,null,null,"Spécifique",null,null,null,null,null,"Comments"]
[]
[{"$f":"IF(AD4=\"Français\",AL22,AR22)","v":"Peinture"},null,null,null,null,null,null,null,null,null,null,null,null,null,null,null,null,null,null,null,null,null,null,null,null,null,null,null,null,null,null,null,null,null,null,null,null,"Peinture",null,null,null,null,null,"Painting"]
[null,null,null,null,null,"RAL 5012",null,null,null,null,null,{"$f":"IF(AD4=\"Français\",AN23,AT23)","v":"Autre RAL"},null,null,null,null,null,null,null,null,null,null,null,{"$f":"IF(AD4=\"Français\",AO23,AU23)","v":"Ep. Mini. Imposée"},null,null,null,"µm",null,null,null,null,null,null,null,null,null,null,null,"Autre RAL","Ep. Mini. Imposée",null,null,null,null,"Other RAL :","minimum thickness"]
[]
[{"$f":"IF(AD4=\"Français\",AL25,AR25)","v":"Spécifique"},null,null,null,null,null,null,null,null,null,null,null,null,null,null,null,null,null,null,null,null,null,null,null,null,null,null,null,null,null,null,null,null,null,null,null,null,"Spécifique",null,null,null,null,null,"Comments"]
[]
[]
[{"$f":"IF(AD4=\"Français\",AL28,AR28)","v":"Bati"},null,null,null,null,null,null,null,null,null,null,null,null,null,null,null,null,null,null,null,null,null,null,null,null,null,null,null,null,null,null,null,null,null,null,null,null,"Bati",null,null,null,null,null,"Frame"]
[null,null,null,null,null,null,null,{"$f":"IF(AD4=\"Français\",AM29,AS29)","v":"Série"},{"$f":"Calculations!I9","v":"SERIE 4"},null,null,null,null,null,null,{"$f":"IF(AD4=\"Français\",AN29,AT29)","v":"Matière Bâti"},{"$f":"Calculations!H22","v":"316L"},null,null,null,null,null,null,{"$f":"IF(AD4=\"Français\",AO29,AU29)","v":"Matière boulonnerie"},{"$f":"Calculations!J24","v":"316"},null,null,{"$f":"IF(AD4=\"Français\",AP29,AV29)","v":"Peinture"},null,null,null,null,null,null,null,null,null,null,"Série","Matière Bâti","Matière boulonnerie","Peinture",null,null,"Series","Material of the frame","Material of bolt & nuts","Painting"]
[null,null,null,null,null,null,{"$f":"IF(AD4=\"Français\",AM30,AS30)","v":"Longerons"},null,null,null,null,null,null,null,{"$f":"IF(AD4=\"Français\",AN30,AT30)","v":"Réhausses"},null,null,null,null,null,null,null,{"$f":"IF(AD4=\"Français\",AO30,AU30)","v":"Fers de transport"},null,null,null,null,null,null,null,null,null,null,null,null,null,null,null,"Longerons","Réhausses","Fers de transport",null,null,null,"Stringers","Raised edges","Transport beams"]
[null,null,null,null,null,null,null,{"$f":"IF(AD4=\"Français\",AM31,AS31)","v":"Calage pour scellement"},null,null,null,null,null,null,null,{"$f":"IF(AD4=\"Français\",AN31,AT31)","v":"Chevilles scellement"},null,null,null,null,null,null,null,null,null,null,null,null,null,null,null,null,null,null,null,null,null,null,"Calage pour scellement","Chevilles scellement",null,null,null,null,"Shimming","Anchor bolts"]
[]
[{"$f":"IF(AD4=\"Français\",AL33,AR33)","v":"Spécifique"},null,null,null,null,null,null,null,null,null,null,null,null,null,null,null,null,null,null,null,null,null,null,null,null,null,null,null,null,null,null,null,null,null,null,null,null,"Spécifique",null,null,null,null,null,"Comments"]
[]
[{"$f":"IF(AD4=\"Français\",AL35,AR35)","v":"Parcours toile & bande"},null,null,null,null,null,null,null,null,null,null,null,null,null,null,null,null,null,null,null,null,null,null,null,null,null,null,null,null,null,null,null,null,null,null,null,null,"Parcours toile & bande",null,null,null,null,null,"Cloth & Belt run",null,null,null,null,null,0]
[{"$f":"IF(AD4=\"Français\",AL36,AR36)","v":"Bande"},null,null,null,null,null,null,{"$f":"IF($AD$4=\"Français\",AM36,AS36)","v":"Matière"},{"$f":"Calculations!H23","v":"SBR"},null,null,null,null,null,null,{"$f":"IF($AD$4=\"Français\",AN36,AT36)","v":"Epaisseur"},{"$f":"Calculations!E24","v":31},null,null,"mm",null,null,null,{"$f":"IF($AD$4=\"Français\",AO36,AU36)","v":"Nombre de plis"},4,null,null,null,null,null,null,null,null,null,null,null,null,"Bande","Matière","Epaisseur","Nombre de plis",null,null,"Belt","Material","Thickness","Number of plies",null,null,60]
[{"$f":"IF(AD4=\"Français\",AL37,AR37)","v":"Talons"},null,null,null,null,null,null,{"$f":"IF($AD$4=\"Français\",AM37,AS37)","v":"Matière"},{"$f":"'Offre NEW'!D18","v":"Natural rubber"},null,null,null,null,null,null,{"$f":"IF($AD$4=\"Français\",AN37,AT37)","v":"Hauteur"},{"$f":"Calculations!A9","v":120},null,null,null,null,null,null,{"$f":"IF($AD$4=\"Français\",AO37,AU37)","v":"Ht. Réhausse talons"},0,null,null,"mm",null,null,null,{"$f":"IF($AD$4=\"Français\",AP37,AV37)","v":"Matière réhausse"},{"$f":"IF(Y37=0,\"\",I37)","v":""},null,null,null,null,"Talons","Matière","Hauteur","Ht. Réhausse talons","Matière réhausse",null,"Belt curbs","Material","Height","Raised edges height","Material"]
[]
[{"$f":"IF(AD4=\"Français\",AL39,AR39)","v":"Toile"},null,null,null,null,null,null,"Type jonction",null,null,null,null,null,null,null,"Référence",null,null,null,null,null,null,null,null,null,null,null,null,null,null,null,{"$f":"IF($AD$4=\"Français\",AP39,AV39)","v":"Matière toile"},null,null,null,null,null,"Toile","Type jonction","Référence",null,"Matière toile",null,"Cloth","Junction type","Reference",null,"Cloth material"]
[]
[{"$f":"IF(AD4=\"Français\",AL41,AR41)","v":"Rouleau d'entrée"},null,null,null,null,null,null,"Matière",{"$f":"IF(Calculations!H12=\"Basic ou option\",Calculations!E12,Calculations!H12)","v":"U45N"},null,null,null,null,null,null,"Revêtement",null,null,null,null,null,null,null,"Ø",{"$f":"IF(Calculations!I9=\"SERIE 2\",'Série 2'!B42,'Séries 3-4-5'!B42)","v":355},null,null,null,null,null,null,"Qté",{"$f":"IF(Calculations!I9=\"SERIE 2\",'Série 2'!B44,'Séries 3-4-5'!B44)","v":1},null,null,null,null,"Rouleau d'entrée","Matière","Revêtement",null,"Qté",null,"Inlet roller","Material","Lining",null,"Qty"]
[{"$f":"IF(AD4=\"Français\",AL42,AR42)","v":"Rouleaux support toile"},null,null,null,null,null,null,"Matière",{"$f":"I43","v":"316L"},null,null,null,null,null,null,"Revêtement",null,null,null,null,null,null,null,"Ø",{"$f":"IF(Calculations!I9=\"SERIE 2\",'Série 2'!B30,'Séries 3-4-5'!B30)","v":168.3},null,null,null,null,null,null,"Qté",{"$f":"IF(Calculations!I9=\"SERIE 2\",'Série 2'!B32,'Séries 3-4-5'!B32)","v":8},null,null,null,null,"Rouleaux support toile","Matière","Revêtement",null,"Qté",null,"Cloth support rollers","Material","Lining",null,"Qty"]
[{"$f":"IF(AD4=\"Français\",AL43,AR43)","v":"Rouleaux retour toile"},null,null,null,null,null,null,"Matière",{"$f":"IF(Calculations!H20=\"Basic ou option\",Calculations!E20,Calculations!H20)","v":"316L"},null,null,null,null,null,null,"Revêtement",null,null,null,null,null,null,null,"Ø",{"$f":"IF(Calculations!I9=\"SERIE 2\",'Série 2'!B27,'Séries 3-4-5'!B27)","v":219},null,null,null,null,null,null,"Qté",{"$f":"IF(Calculations!I9=\"SERIE 2\",'Série 2'!B29,'Séries 3-4-5'!B29)","v":8},null,null,null,null,"Rouleaux retour toile","Matière","Revêtement",null,"Qté",null,"Return circuit cloth rollers","Material","Lining",null,"Qty"]
[{"$f":"IF(AD4=\"Français\",AL44,AR44)","v":"Rouleaux sortie toile"},null,null,null,null,null,null,"Matière",{"$f":"IF(Calculations!H15=\"Basic ou option\",Calculations!E15,Calculations!H15)","v":"316L"},null,null,null,null,null,null,"Revêtement",null,null,null,null,null,null,null,"Ø",{"$f":"IF(Calculations!I9=\"SERIE 2\",'Série 2'!B33,'Séries 3-4-5'!B33)","v":168.3},null,null,null,null,null,null,"Qté",{"$f":"IF(Calculations!I9=\"SERIE 2\",'Série 2'!B35,'Séries 3-4-5'!B35)","v":2},null,null,null,null,"Rouleaux sortie toile","Matière","Revêtement",null,"Qté",null,"Outlet rollers","Material","Lining",null,"Qty"]
[{"$f":"IF(AD4=\"Français\",AL45,AR45)","v":"Rouleau débatissage"},null,null,null,null,null,null,"Matière",{"$f":"I44","v":"316L"},null,null,null,null,null,null,"Revêtement",null,null,null,null,null,null,null,"Ø",{"$f":"IF(Calculations!I9=\"SERIE 2\",'Série 2'!B36,'Séries 3-4-5'!B36)","v":168.3},null,null,null,null,null,null,"Qté",{"$f":"IF(Calculations!I9=\"SERIE 2\",'Série 2'!B38,'Séries 3-4-5'!B38)","v":1},null,null,null,null,"Rouleau débatissage","Matière","Revêtement",null,"Qté",null,"Discharge roller","Material","Lining",null,"Qty"]
[{"$f":"IF(AD4=\"Français\",AL46,AR46)","v":"Rouleaux support bande"},null,null,null,null,null,null,"Matière",{"$f":"IF(Calculations!H19=\"Basic ou option\",Calculations!E19,Calculations!H19)","v":"316L"},null,null,null,null,null,null,"Revêtement",null,null,null,null,null,null,null,"Ø",{"$f":"IF(Calculations!I9=\"SERIE 2\",'Série 2'!B24,'Séries 3-4-5'!B24)","v":355},null,null,null,null,null,null,"Qté",{"$f":"IF(Calculations!I9=\"SERIE 2\",'Série 2'!B26,'Séries 3-4-5'!B26)","v":9},null,null,null,null,"Rouleaux support bande","Matière","Revêtement",null,"Qté",null,"Belt support roller","Material","Lining",null,"Qty"]
[{"$f":"IF(AD4=\"Français\",AL47,AR47)","v":"Rouleau guidage toile"},null,null,null,null,null,null,"Matière",{"$f":"I42","v":"316L"},null,null,null,null,null,null,"Revêtement",null,null,null,null,null,null,null,"Ø",{"$f":"IF(Calculations!I9=\"SERIE 2\",\"\",'Séries 3-4-5'!B39)","v":219},null,null,null,null,null,null,"Type guidage",{"$f":"IF(Calculations!I9=\"SERIE 2\",\"Pinch rolls\",\"JUD\")","v":"JUD"},null,null,null,null,"Rouleau guidage toile","Matière","Revêtement",null,"Type guidage",null,"Cloth tracking roller","Material","Lining",null,"Tracking type"]
[{"$f":"IF(AD4=\"Français\",AL48,AR48)","v":"Tambour moteur"},null,null,null,null,null,null,"Matière","Acier S235JR",null,null,null,null,null,null,"Revêtement","SBR",null,null,null,null,null,null,"Ø",{"$f":"Calculations!K9","v":1210},null,null,null,null,null,null,"Entrain. Droit/Gauche",null,null,null,null,null,"Tambour moteur","Matière","Revêtement",null,"Entrain. Droit/Gauche",null,"Head pulley","Material","Lining",null,"Motor right/left"]
[{"$f":"IF(AD4=\"Français\",AL49,AR49)","v":"Tambour libre"},null,null,null,null,null,null,"Matière","Acier S235JR",null,null,null,null,null,null,"Revêtement","SBR",null,null,null,null,null,null,"Ø",{"$f":"Y48","v":1210},null,null,null,null,null,null,"Revêtement arbres",{"$f":"IF(AD4=\"Français\",\"caoutchouc vulcanisé à chaud\",\"hot vulcanized rubber\")","v":"caoutchouc vulcanisé à chaud"},null,null,null,null,"Tambour libre","Matière","Revêtement",null,"Revêtement arbres",null,"Tail pulley","Material","Lining",null,"Shaft lining"]
[{"$f":"IF(AD4=\"Français\",AL50,AR50)","v":"Rouleaux guidage bande"},null,null,null,null,null,null,null,null,null,null,null,null,null,null,"Qté Galets Simple",{"$f":"IF(Calculations!I9=\"SERIE 2\",'Cost List2.xls'!G18,'Cost list'!H19)","v":24},null,null,null,null,null,null,null,null,null,null,null,null,null,null,{"$f":"IF($AD$4=\"Français\",AP50,AV50)","v":"Qté Galets Double"},null,null,null,null,null,"Rouleaux guidage bande",null,"Qté Galets Simple",null,"Qté Galets Double",null,"Belt tracking roller",null,"Qty of single roller belt tracking",null,"Qty of double roller belt tracking"]
[null,null,null,null,null,null,null,null,null,null,{"$f":"IF(AD4=\"Français\",AM51,AS51)","v":"Rouleau déplisseur toile"},null,null,null,null,null,null,{"$f":"IF(AD4=\"Français\",AN51,AT51)","v":"Paliers Inox"},null,null,null,null,null,{"$f":"IF(AD4=\"Français\",AO51,AU51)","v":"Capotage paliers"},null,null,null,null,null,null,null,{"$f":"IF(AD4=\"Français\",AP51,AV51)","v":"Système graissage paliers"},null,null,null,null,null,null,"Rouleau déplisseur toile","Paliers Inox","Capotage paliers","Système graissage paliers",null,null,"Cloth dewrinkling roller","Stainless steel bearing blocks","Bearing blocks cover","Bearing blocks Lub system"]
[]
[{"$f":"IF(AD4=\"Français\",AL53,AR53)","v":"Spécifique"},null,null,null,null,null,null,null,null,null,null,null,null,null,null,null,null,null,null,null,null,null,null,null,null,null,null,null,null,null,null,null,null,null,null,null,null,"Spécifique",null,null,null,null,null,"Comments"]
[]
[{"$f":"IF(AD4=\"Français\",AL55,AR55)","v":"Groupe de commande"},null,null,null,null,null,null,null,null,null,null,null,null,null,null,null,null,null,null,null,null,null,null,null,null,null,null,null,null,null,null,null,null,null,null,null,null,"Groupe de commande",null,null,null,null,null,"Filter Drive"]
[{"$f":"IF(AD4=\"Français\",AL56,AR56)","v":"Réducteur"},null,null,null,null,null,null,{"$f":"IF(AD4=\"Français\",AM56,AS56)","v":"Puissance Absorbée"},{"$f":"Calculations!N25","v":"71,02 kW"},null,null,"kW",null,null,null,{"$f":"IF(AD4=\"Français\",AN56,AT56)","v":"Couple"},{"$f":"Calculations!N26","v":88238.119392556851},null,null,"Nm",null,null,null,{"$f":"IF($AD$4=\"Français\",AO56,AU56)","v":"Facteur Service"},1.3,null,null,null,null,null,null,null,null,null,null,null,null,"Réducteur","Puissance Absorbée","Couple","Facteur Service",null,null,"Gear box","Absorbed power","Output torque","Service Factor"]
[null,null,null,null,null,null,null,{"$f":"IF(AD4=\"Français\",AM57,AS57)","v":"Puissance Installée"},{"$f":"Calculations!R25","v":"90 kW"},null,null,"kW",null,null,null,null,null,null,null,null,null,null,{"$f":"IF(AD4=\"Français\",AN57,AT57)","v":"Vitesse réducteur arbre lent :"},"Min",{"$f":"Calculations!H26","v":1.0888924694229076},null,null,"rpm",null,null,null,"Max",{"$f":"Calculations!F26","v":6.5333548165374458},null,null,"rpm",null,null,"Puissance Installée","Vitesse réducteur arbre lent :",null,null,null,null,"Installed power","Pulley speed"]
[]
[{"$f":"IF(AD4=\"Français\",AL59,AR59)","v":"Spécifique"},null,null,null,null,null,null,null,null,null,null,null,null,null,null,null,null,null,null,null,null,null,null,null,null,null,null,null,null,null,null,null,null,null,null,null,null,"Spécifique",null,null,null,null,null,"Comments"]
[]
[{"$f":"IF(AD4=\"Français\",AL61,AR61)","v":"Boite à vide"},null,null,null,null,null,null,null,null,null,null,null,null,null,null,null,null,null,null,null,null,null,null,null,null,null,null,null,null,null,null,null,null,null,null,null,null,"Boite à vide",null,null,null,null,null,"Vacuum box"]
[{"$f":"IF($AD$4=\"Français\",AL62,AR62)","v":"Tronçons"},null,null,null,null,null,null,{"$f":"IF(AD4=\"Français\",AM62,AS62)","v":"Matière"},{"$f":"Calculations!H11","v":"U45N"},null,null,null,null,null,null,{"$f":"IF(AD4=\"Français\",AN62,AT62)","v":"Section"},{"$f":"IF(Calculations!I9=2,'Série 2'!B46,'Séries 3-4-5'!B46)","v":140},null,null,null,null,null,null,{"$f":"IF(AD4=\"Français\",AO62,AU62)","v":"Revêtement interne"},null,null,null,null,null,null,null,{"$f":"IF(AD4=\"Français\",AP62,AV62)","v":"Double enveloppe"},null,null,null,null,null,"Tronçons","Matière","Section","Revêtement interne","Double enveloppe",null,"Vacuum box sections","Material","Section","Internal lining","Double jacket",null,"Clipper"]
[{"$f":"IF($AD$4=\"Français\",AL63,AR63)","v":"Sorties"},null,null,null,null,null,null,"DN ",{"$f":"Calculations!H29","v":150},null,null,null,null,null,null,{"$f":"IF(AD4=\"Français\",AN63,AT63)","v":"Qté "},{"$f":"Calculations!R36","v":28},null,null,null,null,null,null,{"$f":"IF(AD4=\"Français\",AO63,AU63)","v":"Matière Tuyauteries"},{"$f":"Calculations!E30","v":"SVR"},null,null,null,null,null,null,{"$f":"IF(AD4=\"Français\",AP63,AV63)","v":"Nbre de zones"},{"$f":"Calculations!S31","v":3},null,null,null,null,"Sorties",null,"Qté ","Matière Tuyauteries","Nbre de zones",null,"Outlet",null,"Qty","Pipe connect. material","Number of sections",null,"Welded"]
[null,null,null,null,null,null,null,{"$f":"IF(AD4=\"Français\",AM64,AS64)","v":"Matière Courroies"},"STD",null,null,null,null,null,null,{"$f":"IF(AD4=\"Français\",AN64,AT64)","v":"Décristallisation"},null,null,null,null,null,null,null,"Lubrification",{"$f":"IF(Calculations!C9>15,\"X\",\"\")","v":"X"},null,null,null,null,null,null,{"$f":"IF(AD4=\"Français\",AP64,AV64)","v":"Matière réglettes"},"STD",null,null,null,null,null,"Matière Courroies","Décristallisation",null,"Matière réglettes",null,null,"Wear belts material","Decrystallization",null,"Strips material",null,"matière standard courroies : caoutchouc + PE"]
[]
[{"$f":"IF(AD4=\"Français\",AL66,AR66)","v":"Spécifique"},null,null,null,null,null,null,null,null,null,null,null,null,null,null,null,null,null,null,null,null,null,null,null,null,null,null,null,null,null,null,null,null,null,null,null,null,"Spécifique",null,null,null,null,null,"Comments",null,null,null,null,null,"matière standard réglettes : CERAMP"]
[]
[{"$f":"IF(AD4=\"Français\",AL68,AR68)","v":"Lavage toile & bande et évacuation "},null,null,null,null,null,null,null,null,null,null,null,null,null,null,null,null,null,null,null,null,null,null,null,null,null,null,null,null,null,null,null,null,null,null,null,null,"Lavage toile & bande et évacuation ",null,null,null,null,null,"Cloth&belt wash and discharge"]
[null,null,null,null,null,null,null,null,null,null,null,null,null,null,null,null,null,null,null,null,null,null,null,null,null,null,null,null,null,null,null,null,null,null,null,null,null,null,"Matière nourrice de lavage","Qté débitmètre table","Qté débitmètre BAV","Matière vannes",null,null,"Material washing manifold","Qty flowmeter table","Qty Flowmeter VB","Material valves"]
[null,null,null,null,null,null,null,{"$f":"IF($AD$4=\"Français\",AM69,AS69)","v":"Matière nourrice de lavage"},{"$f":"'OFFRE TECHNIQUE'!R680","v":"316L"},null,null,null,null,null,null,{"$f":"IF($AD$4=\"Français\",AN69,AT69)","v":"Qté débitmètre table"},{"$f":"IF(Calculations!P39=\"Oui\",2,\"\")","v":""},null,null,null,null,null,null,{"$f":"IF($AD$4=\"Français\",AO69,AU69)","v":"Qté débitmètre BAV"},1,null,null,null,null,null,null,{"$f":"IF($AD$4=\"Français\",AP69,AV69)","v":"Matière vannes"},"STD",null,null,null,null,"Lavage T&B","Diam. Buses toile","Diam. Buses bande","Débit lavage total","Matière buses",null,"Cloth&Belt wash","DN Cloth Nozzles","DN Belt Nozzles","Total wash flow","Nozzle material",null,1,"Matière standard vanne : cast iron"]
[{"$f":"IF($AD$4=\"Français\",AL70,AR70)","v":"Lavage T&B"},null,null,null,null,null,null,{"$f":"IF($AD$4=\"Français\",AM70,AS70)","v":"Diam. Buses toile"},{"$f":"IF(Calculations!D38=\"CM 04 F - dia 1,3\",1.3,IF(Calculations!D38=\"CM 06 F - dia 1,6\",1.6,2))","v":1.3},null,null,null,null,null,null,{"$f":"IF($AD$4=\"Français\",AN70,AT70)","v":"Diam. Buses bande"},{"$f":"IF(Calculations!D40=\"CM 03 F - dia 1,1\",1.1,IF(Calculations!D40=\"CM 04 F - dia 1,3\",1.3,IF(Calculations!D40=\"CM 06 F - dia 1,6\",1.6,2)))","v":1.1000000000000001},null,null,null,null,null,null,{"$f":"IF($AD$4=\"Français\",AO70,AU70)","v":"Débit lavage total"},{"$f":"Calculations!G41","v":10.92},null,null,"m3/h",null,null,null,{"$f":"IF($AD$4=\"Français\",AP70,AV70)","v":"Matière buses"},"STD",null,null,null,null,"Lubrification BAV","Débit mini","Débit maxi",null,null,null,"VB Lubrification","Min. Flow","Max. Flow",null,null,null,2,"Matière standard buses : PVDF"]
[{"$f":"IF($AD$4=\"Français\",AL71,AR71)","v":"Lubrification BAV"},null,null,null,null,null,null,"Débit mini",{"$f":"Calculations!C41","v":150},null,null,"l/h",null,null,null,"Débit maxi",{"$f":"Calculations!E41","v":600},null,null,"l/h",null,null,null,null,null,null,null,null,null,null,null,null,null,null,null,null,null,"Courroies de table","Débit Lavage","Diam. Buses",null,null,null,"Table Wear Belt","Wash flow","DN nozzles",null,null,null,3]
["Courroies de table",null,null,null,null,null,null,"Débit Lavage",{"$f":"IF(Calculations!P39=\"Oui\",Calculations!Q39,\"\")","v":""},null,null,"l/h",null,null,null,"Diam. Buses",null,null,null,null,null,null,null,"Débit Lubrification",{"$f":"IF(Calculations!P40=\"Oui\",Calculations!Q40,\"\")","v":360},null,null,"l/h",null,null,null,null,null,null,null,null,null,null,"Matière bacs de récupération eaux","Grattoir fixe","Grattoir ressorts","Grattoir contre poids",null,null,"Water recovery tank material","Fixed scraper","Spring scraper","Counterweight scraper",null,4]
[null,null,null,null,null,null,null,"Matière bacs de récupération eaux",{"$f":"IF('Offre NEW'!H41=1,'Offre NEW'!D41,\"\")","v":"316L"},null,null,null,null,null,{"$f":"IF($AD$4=\"Français\",AN73,AT73)","v":"Grattoir fixe"},null,null,null,null,{"$f":"IF($AD$4=\"Français\",AO73,AU73)","v":"Grattoir ressorts"},null,null,null,null,null,{"$f":"IF($AD$4=\"Français\",AP73,AV73)","v":"Grattoir contre poids"},null,null,null,null,null,{"$f":"IF($AD$4=\"Français\",AP74,AV74)","v":"Matière lame grattoir"},{"$f":"'OFFRE TECHNIQUE'!R655","v":"Polyurethane"},null,null,null,null,null,"Matière trémie décharge","Matières rampes",null,"Matière lame grattoir",null,null,"Discharge hopper material","Ramps material",null,"Scraper blade material"]
[null,null,null,null,null,null,null,"Matière trémie décharge",{"$f":"'OFFRE TECHNIQUE'!R654","v":"316L"},null,null,null,null,null,null,"Matières rampes",{"$f":"IF(Calculations!H18=\"Basic ou option\",Calculations!E18,H18)","v":"316L"}]
[]
[{"$f":"IF($AD$4=\"Français\",AL77,AR77)","v":"Spécifique"},null,null,null,null,null,null,null,null,null,null,null,null,null,null,null,null,null,null,null,null,null,null,null,null,null,null,null,null,null,null,null,null,null,null,null,null,"Spécifique",null,null,null,null,null,"Remarks"]
[]
[{"$f":"IF($AD$4=\"Français\",AL79,AR79)","v":"Accessoires supérieurs"},null,null,null,null,null,null,null,null,null,null,null,null,null,null,null,null,null,null,null,null,null,null,null,null,null,null,null,null,null,null,null,null,null,null,null,null,"Accessoires supérieurs",null,null,null,null,null,"Process equipment"]
[{"$f":"IF($AD$4=\"Français\",AL80,AR80)","v":"Barrage d'entrée"},null,null,null,null,null,null,{"$f":"IF($AD$4=\"Français\",AM80,AS80)","v":"Matière bavette"},"Rubber",null,null,null,null,null,null,{"$f":"IF($AD$4=\"Français\",AN80,AT80)","v":"Matière support"},{"$f":"Calculations!E22","v":"316L"},null,null,null,null,null,null,null,null,null,null,{"$f":"IF($AD$4=\"Français\",AP80,AV80)","v":"Bavettes latérales zone alimentation"},null,null,null,null,null,null,null,null,null,"Barrage d'entrée","Matière bavette","Matière support",null,"Bavettes latérales zone alimentation",null,"Entrance dam","Dam material","Support Material",null,"Feeding zone Side Dams"]
[{"$f":"IF($AD$4=\"Français\",AL81,AR81)","v":"Alimentateur"},null,null,null,null,null,null,{"$f":"IF($AD$4=\"Français\",AM81,AS81)","v":"Type"},{"$f":"Calculations!Q12","v":"BOIT"},null,null,null,null,null,null,{"$f":"IF($AD$4=\"Français\",AN81,AT81)","v":"Qté "},1,null,null,null,"DN ",{"$f":"Calculations!S27","v":250},null,null,null,null,null,{"$f":"IF($AD$4=\"Français\",AP81,AV81)","v":"Matière corps"},{"$f":"Calculations!E11","v":"U45N"},null,null,null,null,null,null,null,null,"Alimentateur","Type","Qté ",null,"Matière corps",null,"Feeder","Type","Qty",null,"Body Material"]
[null,null,null,null,null,null,null,"Collecteur alimentation",null,null,null,null,null,null,null,{"$f":"IF($AD$4=\"Français\",AN82,AT82)","v":"Gouttières latérales zone alim."},null,null,null,null,null,null,null,null,null,null,null,{"$f":"IF($AD$4=\"Français\",AP82,AV82)","v":"Matière revêtement interne alimentateur"},null,null,null,null,null,null,null,null,null,null,"Collecteur alimentation","Gouttières latérales zone alim.",null,"Matière revêtement interne alimentateur",null,null,"Manifold feeding","Feed. Zone side gutters",null,"Feeder coating material"]
[null,null,null,null,null,null,null,"Spécifique",null,null,null,null,null,null,null,null,null,null,null,null,null,null,null,null,null,null,null,null,null,null,null,null,null,null,null,null,null,null,"Spécifique",null,null,null,null,null,"Remarks"]
[]
["Goulottes de lavage",null,null,null,null,null,null,"Type",{"$f":"Calculations!Q13","v":"OVER"},null,null,null,null,null,null,{"$f":"IF($AD$4=\"Français\",AN85,AT85)","v":"Qté "},{"$f":"Calculations!R11","v":4},null,null,null,null,{"$f":"IF($AD$4=\"Français\",AO85,AU85)","v":"Chariot"},null,null,null,null,null,null,null,null,null,null,null,null,null,null,null,"Goulottes de lavage","Type","Qté ","Chariot",null,null,"Washing feeders","Type","Qty","Trolley"]
[null,null,null,null,null,null,null,"Matière",{"$f":"IF(Calculations!H14=\"Basic ou option\",Calculations!E14,Calculations!H14)","v":"U45N"},null,null,null,null,null,{"$f":"IF($AD$4=\"Français\",AN86,AT86)","v":"DN Goulottes:"},"DN1",{"$f":"Calculations!S28","v":100},null,null,null,"DN2",{"$f":"IF(Q85=1,\"\",Q86)","v":100},null,null,null,null,"DN3",{"$f":"IF(Q85=1,\"\",IF(Q85=2,\"\",Q86))","v":100},null,null,null,"DN4",{"$f":"IF(Q85=4,Q86,\"\")","v":100},null,null,null,null,null,"Matière","DN Goulottes:",null,null,null,null,"Material","DN feed:"]
[]
[null,null,null,null,null,null,null,"Spécifique",null,null,null,null,null,null,null,null,null,null,null,null,null,null,null,null,null,null,null,null,null,null,null,null,null,null,null,null,null,null,"Spécifique",null,null,null,null,null,"Remarks"]
[]
["Barrage pendulaire",null,null,null,null,null,null,"Matière bavette",{"$f":"'OFFRE TECHNIQUE'!R763","v":"Rubber"},null,null,null,null,null,null,{"$f":"IF($AD$4=\"Français\",AN90,AT90)","v":"Matière support"},{"$f":"'OFFRE TECHNIQUE'!R764","v":"U45N"},null,null,null,{"$f":"IF($AD$4=\"Français\",AO90,AU90)","v":"Qté "},{"$f":"IF(Calculations!I9=\"SERIE 2\",'Cost List2.xls'!G35,'Cost list'!H37)","v":5},null,null,null,null,null,null,null,null,null,null,null,null,null,null,null,"Barrage pendulaire","Matière bavette","Matière support","Qté ",null,null,"Pendular dam","Dam Material","Support Material","Qty"]
["Rouleau presseur",null,null,null,null,null,null,"Matière rlx",null,null,null,null,null,null,null,{"$f":"IF($AD$4=\"Français\",AN91,AT91)","v":"Matière support"},null,null,null,null,"Vmin",null,null,null,"rpm",null,"Vmax",null,null,null,"rpm","P",null,null,null,"kW",null,"Rouleau presseur","Matière rlx","Matière support",null,null,null,"Pressing roller","Roller Material","Support Material"]
["Rouleau batteur",null,null,null,null,null,null,"Matière rlx",null,null,null,null,null,null,null,"Matière lanières",null,null,null,null,"Vmin",null,null,null,"rpm",null,"Vmax",null,null,null,"rpm","P",null,null,null,"kW",null,"Rouleau batteur","Matière rlx","Matière lanières",null,null,null,"Beating roller","Roller Material","Straps Material"]
["Caisson vapeur",null,null,null,null,null,null,{"$f":"IF($AD$4=\"Français\",AM93,AS93)","v":"Matière"},null,null,null,null,null,null,null,{"$f":"IF($AD$4=\"Français\",AN93,AT93)","v":"Matière support"},null,null,null,null,null,null,null,null,null,null,null,null,null,null,null,null,null,null,null,null,null,"Caisson vapeur","Matière","Matière support",null,null,null,"Steam hood","Material","Support Material"]
[]
["Spécifique",null,null,null,null,null,null,null,null,null,null,null,null,null,null,null,null,null,null,null,null,null,null,null,null,null,null,null,null,null,null,null,null,null,null,null,null,"Spécifique",null,null,null,null,null,"Remarks"]
[]
["Table support bande ",null,null,null,null,null,null,null,null,null,null,null,null,null,null,null,null,null,null,null,null,null,null,null,null,null,null,null,null,null,null,null,null,null,null,null,null,"Table support bande ",null,"Type Réglettes :","Plates",null,null,"Belt support table",null,"Sliding strips Type:","Plates"]
[null,null,null,null,null,null,null,{"$f":"IF($AD$4=\"Français\",AM98,AS98)","v":"Matière Fers"},{"$f":"Calculations!E22","v":"316L"},null,null,null,null,null,null,{"$f":"IF($AD$4=\"Français\",AN98,AT98)","v":"Matière Réglettes"},"STD",null,null,null,null,null,{"$f":"IF($AD$4=\"Français\",AN97,AT97)","v":"Type Réglettes :"},null,{"$f":"IF($AD$4=\"Français\",AO97,AU97)","v":"Plates"},null,null,null,{"$f":"IF($AD$4=\"Français\",AO98,AU98)","v":"Epaulement"},null,null,null,null,{"$f":"IF($AD$4=\"Français\",AP98,AV98)","v":"Lubrification"},null,null,null,null,"Matière Fers","Matière Réglettes","Epaulement","Lubrification",null,null,"Support irons material","Sliding strips Material","Support","Lubrification",null,"Matière standard réglettes : HMWPE"]
[null,null,null,null,null,null,null,{"$f":"IF($AD$4=\"Français\",AM99,AS99)","v":"Table à galets"},null,null,null,null,null,null,null,{"$f":"IF($AD$4=\"Français\",AN99,AT99)","v":"Dim. courroies"},"STD",null,null,null,null,null,null,null,null,null,null,null,{"$f":"IF($AD$4=\"Français\",AO99,AU99)","v":"Contre poids tension courroies"},null,null,null,null,null,null,null,null,null,"Table à galets","Dim. courroies","Contre poids tension courroies",null,null,null,"Rolling table","Support Belt Dim.","Support belt tensionning counterweight",null,null,"Dim standard courroies ",null,{"$f":"Calculations!R77","v":"50 mm x 5,8 mm"}]
[]
["Spécifique",null,null,null,null,null,null,null,null,null,null,null,null,null,null,null,null,null,null,null,null,null,null,null,null,null,null,null,null,null,null,null,null,null,null,null,null,"Spécifique",null,null,null,null,null,"Remarks"]
[]
["Collecteur à filtrats ",null,null,null,null,null,null,null,null,null,null,null,null,null,null,null,null,null,null,null,null,null,{"$f":"IF($AD$4=\"Français\",AO103,AU103)","v":"DN de Sorties"},null,null,null,null,null,null,null,null,null,null,null,null,null,null,"Collecteur à filtrats ",null,null,"DN de Sorties",null,null,"Filtrate manifold",null,null,"Outside pipe DN"]
[null,null,null,null,null,null,null,{"$f":"IF($AD$4=\"Français\",AM104,AS104)","v":"Matière"},{"$f":"IF(N104=0,\"\",'Offre NEW'!D27)","v":"FRP"},null,null,null,{"$f":"IF($AD$4=\"Français\",AN104,AT104)","v":"Qté "},{"$f":"'Offre NEW'!H27","v":1},null,null,"DN1",{"$f":"IF(Calculations!S31>0,Calculations!G44,\"\")","v":700},null,null,null,"DN2",{"$f":"IF(Calculations!S31>1,Calculations!G44,\"\")","v":700},null,null,null,"DN3",{"$f":"IF(Calculations!S31>2,Calculations!G44,\"\")","v":700},null,null,null,"DN4",{"$f":"IF(Calculations!S31>3,Calculations!G44,\"\")","v":""},null,null,null,null,null,"Matière","Qté ",null,null,null,null,"Material","Qty"]
["Supportage collecteurs",null,null,null,null,null,null,null,{"$f":"IF($AD$4=\"Français\",AM105,AS105)","v":"Sur filtre"},null,null,null,null,{"$f":"IF($AD$4=\"Français\",AN105,AT105)","v":"Indépendant"},null,null,null,null,null,null,null,{"$f":"IF($AD$4=\"Français\",AO105,AU105)","v":"Matière supports"},null,null,null,null,null,null,null,{"$f":"IF($AD$4=\"Français\",AP105,AV105)","v":"Chevilles scellement"},null,null,null,null,null,null,null,"Supportage collecteurs","Sur filtre","Indépendant","Matière supports","Chevilles scellement",null,"Manifold Support","On Filter","Independant","Support Material","Anchor bolts"]
[]
["Spécifique",null,null,null,null,null,null,null,null,null,null,null,null,null,null,null,null,null,null,null,null,null,null,null,null,null,null,null,null,null,null,null,null,null,null,null,null,"Spécifique",null,null,null,null,null,"Remarks"]
[]
["Hotte ",null,null,null,null,null,null,null,null,null,null,null,null,null,null,null,null,null,null,null,null,null,null,null,null,null,null,null,null,null,null,null,null,null,null,null,null,"Hotte ",null,null,null,null,null,"Fume hood"]
[null,null,null,null,null,null,null,{"$f":"IF($AD$4=\"Français\",AM110,AS110)","v":"Matière hotte"},{"$f":"'FUME HOOD'!R13","v":0},null,null,null,null,null,null,null,null,null,{"$f":"IF($AD$4=\"Français\",AN110,AT110)","v":"Ouvertures latérales souples"},null,null,null,null,null,null,null,{"$f":"IF($AD$4=\"Français\",AO110,AU110)","v":"Ouvertures latérales rigides"},null,null,null,null,null,null,null,null,null,null,null,"Matière hotte","Ouvertures latérales souples","Ouvertures latérales rigides",null,null,null,"Hood material","Flexible side widows","Rigid side windows"]
[]
["Spécifique",null,null,null,null,null,null,null,null,null,null,null,null,null,null,null,null,null,null,null,null,null,null,null,null,null,null,null,null,null,null,null,null,null,null,null,null,"Spécifique",null,null,null,null,null,"Remarks"]
[]
["Récupération des égoutures ",null,null,null,null,null,null,null,null,null,null,null,null,null,null,null,null,null,null,null,null,null,null,null,null,null,null,null,null,null,null,null,null,null,null,null,null,"Récupération des égoutures ",null,null,null,null,null,"Drip pan"]
[null,null,null,null,null,null,null,{"$f":"IF($AD$4=\"Français\",AM115,AS115)","v":"Matière"},{"$f":"'FUME HOOD'!R33","v":0},null,null,null,null,null,null,{"$f":"IF($AD$4=\"Français\",AN115,AT115)","v":"DN sortie"},null,null,null,null,null,null,null,null,null,null,null,null,null,null,null,null,null,null,null,null,null,null,"Matière","DN sortie",null,null,null,null,"Material","Outside pipe DN"]
[]
["Spécifique",null,null,null,null,null,null,null,null,null,null,null,null,null,null,null,null,null,null,null,null,null,null,null,null,null,null,null,null,null,null,null,null,null,null,null,null,"Spécifique",null,null,null,null,null,"Remarks"]
[]
["Protections grillagées ",null,null,null,null,null,null,null,null,null,null,null,null,null,null,null,null,null,null,null,null,null,null,null,null,null,null,null,null,null,null,null,null,null,null,null,null,"Protections grillagées ",null,null,null,null,null,"Safety guards"]
[null,null,null,null,null,null,null,{"$f":"IF($AD$4=\"Français\",AM120,AS120)","v":"Matière grilles"},"STD",null,null,null,null,null,null,{"$f":"IF($AD$4=\"Français\",AN120,AT120)","v":"Matière supports"},"316L",null,null,null,null,null,null,null,null,null,{"$f":"IF($AD$4=\"Français\",AO120,AU120)","v":"Langue texte panneaux sécurité"},null,null,null,null,null,null,null,null,null,null,null,"Matière grilles","Matière supports","Langue texte panneaux sécurité",null,null,null,"Guards Material","Support material","Security information panel language"]
[]
["Spécifique",null,null,null,null,null,null,null,null,null,null,null,null,null,null,null,null,null,null,null,null,null,null,null,null,null,null,null,null,null,null,null,null,null,null,null,null,"Spécifique",null,null,null,null,null,"Remarks"]
[]
["Outillage spécial ",null,null,null,null,null,null,null,null,null,null,null,null,null,null,null,null,null,null,null,null,null,null,null,null,null,null,null,null,null,null,null,null,null,null,null,null,"Outillage spécial ",null,null,null,null,null,"Special tools"]
[null,null,null,null,null,null,null,{"$f":"IF($AD$4=\"Français\",AM125,AS125)","v":"Machine ultrasons soudure toile"},null,null,null,null,null,null,{"$f":"IF($AD$4=\"Français\",AN125,AT125)","v":"Fer à découper toile"},null,null,null,{"$f":"IF($AD$4=\"Français\",AO125,AU125)","v":"Tension"},null,null,null,"V",null,null,null,null,{"$f":"IF($AD$4=\"Français\",AP125,AV125)","v":"Fer U de soudage toile"},null,null,null,null,null,null,null,null,null,null,"Machine ultrasons soudure toile","Fer à découper toile","Tension","Fer U de soudage toile",null,null,"Ultrasonic cloth welding machine","Cutting cloth iron","Voltage","U Iron welding cloth"]
[null,null,null,null,null,null,null,{"$f":"IF($AD$4=\"Français\",AM126,AS126)","v":"Rouleau tendeur"},null,null,null,null,null,null,{"$f":"IF($AD$4=\"Français\",AN126,AT126)","v":"Matière rouleau tendeur"},null,null,null,null,null,null,null,null,null,null,null,null,{"$f":"IF($AD$4=\"Français\",AP126,AV126)","v":"Outillage boite à vide"},null,null,null,null,null,null,null,null,null,null,"Rouleau tendeur","Matière rouleau tendeur",null,"Outillage boite à vide",null,null,"Tensionning rollers","Tensionning roller material",null,"Vacuum box tools"]
[]
["Spécifique",null,null,null,null,null,null,null,null,null,null,null,null,null,null,null,null,null,null,null,null,null,null,null,null,null,null,null,null,null,null,null,null,null,null,null,null,"Spécifique",null,null,null,null,null,"Remarks"]
[]
["Ballons Séparateurs ",null,null,null,null,null,null,null,null,null,null,null,null,null,null,null,null,null,null,null,null,null,null,null,null,null,null,null,null,null,null,null,null,null,null,null,null,"Ballons Séparateurs ",null,null,null,null,null,"Filtrate Receivers"]
["Ballon N°1",null,null,null,null,null,null,{"$f":"IF($AD$4=\"Français\",AM131,AS131)","v":"Matière"},{"$f":"Calculations!C44","v":"316L"},null,null,null,"Ø",{"$f":"Calculations!E44","v":3400},null,null,null,{"$f":"IF($AD$4=\"Français\",AN131,AT131)","v":"Type"},{"$f":"Calculations!D44","v":"Barometrique"},null,null,null,null,null,{"$f":"IF($AD$4=\"Français\",AO131,AU131)","v":"Pieds support"},null,null,null,null,null,null,{"$f":"IF($AD$4=\"Français\",AP131,AV131)","v":"Matière pieds support"},null,null,null,null,null,"Ballon N°1","Matière","Type","Pieds support","Matière pieds support",null,"Filtrate receiver N°1","Material","Type","Supporting legs","Supporting legs Material"]
[null,null,null,null,null,null,null,{"$f":"IF($AD$4=\"Français\",AM132,AS132)","v":"Qté Détecteurs de niveau"},null,null,null,null,null,null,null,null,null,{"$f":"IF($AD$4=\"Français\",AN132,AT132)","v":"Transmetteur niveau différentiel"},null,null,null,null,null,null,{"$f":"IF($AD$4=\"Français\",AO132,AU132)","v":"Transmetteur pression"},null,null,null,null,null,null,{"$f":"IF($AD$4=\"Français\",AP132,AV132)","v":"Chevilles scellement"},null,null,null,null,null,null,"Qté Détecteurs de niveau","Transmetteur niveau différentiel","Transmetteur pression","Chevilles scellement",null,null,"Level Detector Qty","Differential Level transmitter","Pressure Transmitter","Anchor bolts"]
[]
["Ballon N°2",null,null,null,null,null,null,"Matière",{"$f":"IF(1<Calculations!$S$31,'Project Specs'!I131:K131,\"\")","v":"316L"},null,null,null,"Ø",{"$f":"IF(1<Calculations!$S$31,'Project Specs'!N131:P131,\"\")","v":3400},null,null,null,{"$f":"IF($AD$4=\"Français\",AN134,AT134)","v":"Type"},{"$f":"IF(1<Calculations!$S$31,'Project Specs'!S131:U131,\"\")","v":"Barometrique"},null,null,null,null,null,"Pieds support",null,null,null,null,null,null,"Matière pieds support",null,null,null,null,null,"Ballon N°2","Matière","Type","Pieds support","Matière pieds support",null,"Filtrate receiver N°2","Material","Type","Supporting legs","Supporting legs Material"]
[null,null,null,null,null,null,null,"Qté Détécteurs de niveau",null,null,null,null,null,null,null,null,null,{"$f":"IF($AD$4=\"Français\",AN135,AT135)","v":"Transmetteur niveau différentiel"},null,null,null,null,null,null,"Transmetteur pression",null,null,null,null,null,null,"Chevilles scellement",null,null,null,null,null,null,"Qté Détécteurs de niveau","Transmetteur niveau différentiel","Transmetteur pression","Chevilles scellement",null,null,"Level Detector Qty","Differential Level transmitter","Pressure Transmitter","Anchor bolts"]
[]
["Ballon N°3",null,null,null,null,null,null,"Matière",{"$f":"IF(2<Calculations!$S$31,'Project Specs'!I134:K134,\"\")","v":"316L"},null,null,null,"Ø",{"$f":"IF(2<Calculations!$S$31,'Project Specs'!N134:P134,\"\")","v":3400},null,null,null,{"$f":"IF($AD$4=\"Français\",AN137,AT137)","v":"Type"},{"$f":"IF(2<Calculations!$S$31,'Project Specs'!S134:U134,\"\")","v":"Barometrique"},null,null,null,null,null,"Pieds support",null,null,null,null,null,null,"Matière pieds support",null,null,null,null,null,"Ballon N°3","Matière","Type","Pieds support","Matière pieds support",null,"Filtrate receiver N°3","Material","Type","Supporting legs","Supporting legs Material"]
[null,null,null,null,null,null,null,"Qté Détécteurs de niveau",null,null,null,null,null,null,null,null,null,{"$f":"IF($AD$4=\"Français\",AN138,AT138)","v":"Transmetteur niveau différentiel"},null,null,null,null,null,null,"Transmetteur pression",null,null,null,null,null,null,"Chevilles scellement",null,null,null,null,null,null,"Qté Détécteurs de niveau","Transmetteur niveau différentiel","Transmetteur pression","Chevilles scellement",null,null,"Level Detector Qty","Differential Level transmitter","Pressure Transmitter","Anchor bolts"]
[]
["Ballon N°4",null,null,null,null,null,null,"Matière",{"$f":"IF(3<Calculations!$S$31,'Project Specs'!I137:K137,\"\")","v":""},null,null,null,"Ø",{"$f":"IF(3<Calculations!$S$31,'Project Specs'!N137:P137,\"\")","v":""},null,null,null,{"$f":"IF($AD$4=\"Français\",AN140,AT140)","v":"Type"},{"$f":"IF(3<Calculations!$S$31,'Project Specs'!S137:U137,\"\")","v":""},null,null,null,null,null,"Pieds support",null,null,null,null,null,null,"Matière pieds support",null,null,null,null,null,"Ballon N°4","Matière","Type","Pieds support","Matière pieds support",null,"Filtrate receiver N°4","Material","Type","Supporting legs","Supporting legs Material"]
[null,null,null,null,null,null,null,{"$f":"IF($AD$4=\"Français\",AM141,AS141)","v":"Qté Détécteurs de niveau"},null,null,null,null,null,null,null,null,null,{"$f":"IF($AD$4=\"Français\",AN141,AT141)","v":"Transmetteur niveau différentiel"},null,null,null,null,null,null,{"$f":"IF($AD$4=\"Français\",AO141,AU141)","v":"Transmetteur pression"},null,null,null,null,null,null,{"$f":"IF($AD$4=\"Français\",AP141,AV141)","v":"Chevilles scellement"},null,null,null,null,null,null,"Qté Détécteurs de niveau","Transmetteur niveau différentiel","Transmetteur pression","Chevilles scellement",null,null,"Level Detector Qty","Differential Level transmitter","Pressure Transmitter","Anchor bolts"]
[]
[]
["Spécifique",null,null,null,null,null,null,null,null,null,null,null,null,null,null,null,null,null,null,null,null,null,null,null,null,null,null,null,null,null,null,null,null,null,null,null,null,"Spécifique",null,null,null,null,null,"Remarks"]
[]
[{"$f":"IF($AD$4=\"Français\",AL146,AR146)","v":"Cyclone"},null,null,null,null,null,null,null,null,null,null,null,null,null,null,null,null,null,null,null,null,null,null,null,null,null,null,null,null,null,null,null,null,null,null,null,null,"Cyclone",null,null,null,null,null,"Cyclone"]
[null,null,null,null,null,null,null,{"$f":"IF($AD$4=\"Français\",AM147,AS147)","v":"Matière"},{"$f":"IF(Calculations!C46=\"Exclu\",\"\",Calculations!C46)","v":"316L"},null,null,null,"Ø",{"$f":"IF(I147=\"\",\"\",Calculations!E46)","v":3000},null,null,null,null,null,null,{"$f":"IF($AD$4=\"Français\",AN147,AT147)","v":"Chevilles scellement"},null,null,null,{"$f":"IF($AD$4=\"Français\",AO147,AU147)","v":"Pieds support"},null,null,null,null,null,null,{"$f":"IF($AD$4=\"Français\",AP147,AV147)","v":"Matière pieds support"},null,null,null,null,null,null,"Matière","Chevilles scellement","Pieds support","Matière pieds support",null,null,"Material","Anchor bolts","Supporting legs","Supporting legs Material"]
[]
["Spécifique",null,null,null,null,null,null,null,null,null,null,null,null,null,null,null,null,null,null,null,null,null,null,null,null,null,null,null,null,null,null,null,null,null,null,null,null,"Spécifique",null,null,null,null,null,"Remarks"]
[]
["Laveur de gaz ",null,null,null,null,null,null,null,null,null,null,null,null,null,null,null,null,null,null,null,null,null,null,null,null,null,null,null,null,null,null,null,null,null,null,null,null,"Laveur de gaz ",null,null,null,null,null,"Scrubber"]
[null,null,null,null,null,null,null,{"$f":"IF($AD$4=\"Français\",AM152,AS152)","v":"Matière ballon"},{"$f":"IF(Calculations!C48=\"Exclu\",\"\",Calculations!C48)","v":"316L"},null,null,null,"Ø",{"$f":"IF(I152=\"\",\"\",Calculations!E48)","v":3000},null,null,null,{"$f":"IF($AD$4=\"Français\",AN152,AT152)","v":"DN buses"},null,null,null,null,null,null,{"$f":"IF($AD$4=\"Français\",AO152,AU152)","v":"Pieds support"},null,null,null,null,null,null,{"$f":"IF($AD$4=\"Français\",AP152,AV152)","v":"Matière pieds support"},null,null,null,null,null,null,"Matière ballon","DN buses","Pieds support","Matière pieds support",null,null,"Filtrate receiver Material","Nozzles DN","Supporting legs","Supporting legs Material"]
[null,null,null,null,null,null,null,null,null,null,null,null,null,null,null,null,null,{"$f":"IF($AD$4=\"Français\",AN153,AT153)","v":"Matière buses"},"STD",null,null,null,null,null,null,null,null,null,null,null,null,{"$f":"IF($AD$4=\"Français\",AP153,AV153)","v":"Chevilles scellement"},null,null,null,null,null,null,null,"Matière buses",null,"Chevilles scellement",null,null,null,"Nozzles Material",null,"Anchor bolts"]
[]
["Spécifique",null,null,null,null,null,null,null,null,null,null,null,null,null,null,null,null,null,null,null,null,null,null,null,null,null,null,null,null,null,null,null,null,null,null,null,null,"Spécifique",null,null,null,null,null,"Remarks"]
[]
["Bac récupération lavage toile & bande ",null,null,null,null,null,null,null,null,null,null,null,null,null,null,null,null,null,null,null,null,null,null,null,null,null,null,null,null,null,null,null,null,null,null,null,null,"Bac récupération lavage toile & bande ",null,null,"Fond conique",null,null,"Cloth&belt wash water tank",null,null,"Conical tank"]
[null,null,null,null,null,null,null,{"$f":"IF($AD$4=\"Français\",AM158,AS158)","v":"Matière"},{"$f":"IF('Offre NEW'!H41>0,'Offre NEW'!D41,\"\")","v":"316L"},null,null,null,"Ø",null,null,null,null,{"$f":"IF($AD$4=\"Français\",AN158,AT158)","v":"Ht"},null,null,null,"mm",null,null,{"$f":"IF($AD$4=\"Français\",AO158,AU158)","v":"Fond plat"},null,null,null,{"$f":"IF($AD$4=\"Français\",AO157,AU157)","v":"Fond conique"},null,null,null,{"$f":"IF($AD$4=\"Français\",AP158,AV158)","v":"Couvercle"},null,null,null,null,null,"Matière","Ht","Fond plat","Couvercle",null,null,"Material","Height","Circular tank","Cover"]
[null,null,null,null,null,null,null,{"$f":"IF($AD$4=\"Français\",AM159,AS159)","v":"Qté Détécteurs de niveau"},null,null,null,null,null,null,null,null,null,{"$f":"IF($AD$4=\"Français\",AN159,AT159)","v":"Transmetteur niveau"},null,null,null,null,null,null,{"$f":"IF($AD$4=\"Français\",AO159,AU159)","v":"EV Appoint d'eau"},null,null,null,null,null,null,null,{"$f":"IF($AD$4=\"Français\",AP159,AV159)","v":"Vanne flotteur Appoint d'eau"},null,null,null,null,null,"Qté Détécteurs de niveau","Transmetteur niveau","EV Appoint d'eau","Vanne flotteur Appoint d'eau",null,null,"Level detector qty","Level transmitter","Addition of water Solenoid valve","Addition of water float valve"]
[null,null,null,null,null,null,null,null,null,null,null,null,null,null,null,null,null,"Bac agité",null,null,null,null,null,null,null,null,null,null,null,null,null,null,{"$f":"IF($AD$4=\"Français\",AP160,AV160)","v":"Chevilles scellement"},null,null,null,null,null,null,"Bac agité",null,"Chevilles scellement",null,null,null,"Agitator in tank",null,"Anchor bolts"]
[]
["Spécifique",null,null,null,null,null,null,null,null,null,null,null,null,null,null,null,null,null,null,null,null,null,null,null,null,null,null,null,null,null,null,null,null,null,null,null,null,"Spécifique",null,null,null,null,null,"Remarks"]
[]
["Bac récupération eau pompe à vide ",null,null,null,null,null,null,null,null,null,null,null,null,null,null,null,null,null,null,null,null,null,null,null,null,null,null,null,null,null,null,null,null,null,null,null,null,"Bac récupération eau pompe à vide ",null,null,null,null,null,"Vaccum pump collecting tank"]
[null,null,null,null,null,null,null,{"$f":"IF($AD$4=\"Français\",AM165,AS165)","v":"Matière"},{"$f":"IF('Offre NEW'!H40>0,'Offre NEW'!D40,\"\")","v":""},null,null,null,"Ø",{"$f":"IF(I165=\"\",\"\",'Offre NEW'!E40)","v":""},null,null,null,{"$f":"IF($AD$4=\"Français\",AN165,AT165)","v":"Ht"},null,null,null,"mm",null,null,null,null,null,null,{"$f":"IF($AD$4=\"Français\",AO165,AU165)","v":"Chevilles scellement"},null,null,null,{"$f":"IF($AD$4=\"Français\",AP165,AV165)","v":"Couvercle"},null,null,null,null,null,"Matière","Ht","Chevilles scellement","Couvercle",null,null,"Material","Height","Anchor bolts","Cover"]
[null,null,null,null,null,null,null,{"$f":"IF($AD$4=\"Français\",AM166,AS166)","v":"Qté Détecteurs de niveau"},null,null,null,null,null,null,null,null,null,{"$f":"IF($AD$4=\"Français\",AN166,AT166)","v":"Transmetteur niveau"},null,null,null,null,null,null,{"$f":"IF($AD$4=\"Français\",AO166,AU166)","v":"EV Appoint d'eau"},null,null,null,null,null,null,null,{"$f":"IF($AD$4=\"Français\",AP166,AV166)","v":"Vanne flotteur Appoint d'eau"},null,null,null,null,null,"Qté Détecteurs de niveau","Transmetteur niveau","EV Appoint d'eau","Vanne flotteur Appoint d'eau",null,null,"Level detector qty","Level transmitter","Addition of water Solenoid valve","Addition of water float valve"]
[]
["Spécifique",null,null,null,null,null,null,null,null,null,null,null,null,null,null,null,null,null,null,null,null,null,null,null,null,null,null,null,null,null,null,null,null,null,null,null,null,"Spécifique",null,null,null,null,null,"Remarks"]
[]
["Bac de pied barométrique ",null,null,null,null,null,null,null,null,null,null,null,null,null,null,null,null,null,null,null,null,null,null,null,null,null,null,null,null,null,null,null,null,null,null,null,null,"Bac de pied barométrique ",null,null,null,null,null,"Barometric filtrate seal tank"]
[null,null,null,null,null,null,null,{"$f":"IF($AD$4=\"Français\",AM171,AS171)","v":"Matière"},{"$f":"IF(Calculations!D44=\"barometrique\",I131,\"\")","v":"316L"},null,null,null,"Ø",{"$f":"IF(I171=\"\",\"\",'Offre NEW'!E36)","v":"38 m3"},null,null,null,{"$f":"IF($AD$4=\"Français\",AN171,AT171)","v":"Ht"},null,null,null,"mm",null,null,null,null,{"$f":"IF($AD$4=\"Français\",AO171,AU171)","v":"Qté bacs"},{"$f":"IF(Calculations!W44=\"barometrique\",Calculations!S31,\"0\")","v":"0"},null,null,null,null,null,null,null,null,null,null,"Matière","Ht","Qté bacs",null,null,null,"Material","Height","Tank Qty"]
[null,null,null,null,null,null,null,{"$f":"IF($AD$4=\"Français\",AM172,AS172)","v":"Qté Détecteurs de niveau"},null,null,null,null,null,null,null,null,null,{"$f":"IF($AD$4=\"Français\",AN172,AT172)","v":"Transmetteur niveau"},null,null,null,null,null,null,null,null,null,null,{"$f":"IF($AD$4=\"Français\",AO172,AU172)","v":"Chevilles scellement"},null,null,null,{"$f":"IF($AD$4=\"Français\",AP172,AV172)","v":"Couvercle"},null,null,null,null,null,"Qté Détecteurs de niveau","Transmetteur niveau","Chevilles scellement","Couvercle",null,null,"Level detector qty","Level transmitter","Anchor bolts","Cover"]
[]
["Spécifique",null,null,null,null,null,null,null,null,null,null,null,null,null,null,null,null,null,null,null,null,null,null,null,null,null,null,null,null,null,null,null,null,null,null,null,null,"Spécifique",null,null,null,null,null,"Remarks"]
[]
["Pompe à vide ",null,null,null,null,null,null,null,null,null,null,null,null,null,null,null,null,null,null,null,null,null,null,null,null,null,null,null,null,null,null,null,null,null,null,null,null,"Pompe à vide ",null,null,null,null,null,"Vacuum pump"]
["Pompe",null,null,null,null,null,null,{"$f":"IF($AD$4=\"Français\",AM177,AS177)","v":"Débit air"},{"$f":"IF('Offre NEW'!H49>0,Calculations!N11,\"\")","v":""},null,null,"m3/h",null,null,null,{"$f":"IF($AD$4=\"Français\",AN177,AT177)","v":"Vide"},{"$f":"IF(I177=\"\",\"\",'VAC PUMP'!R8)","v":""},null,null,"mbar abs",null,null,null,{"$f":"IF($AD$4=\"Français\",AO177,AU177)","v":"T° entrée Gaz"},{"$f":"IF(I177=\"\",\"\",'VAC PUMP'!R12)","v":""},null,null,"°C",null,null,null,{"$f":"IF($AD$4=\"Français\",AP177,AV177)","v":"T° eau anneau"},{"$f":"IF(I177=\"\",\"\",'VAC PUMP'!R13)","v":""},null,null,"°C",null,"Pompe","Débit air","Vide","T° entrée Gaz","T° eau anneau",null,"Pump","Air Flow","Vacuum","T° Gaz Entrance","T° Water ring"]
[null,null,null,null,null,null,null,{"$f":"IF($AD$4=\"Français\",AM178,AS178)","v":"Matière corps"},{"$f":"IF(I177=\"\",\"\",'VAC PUMP'!R6)","v":""},null,null,null,null,null,null,{"$f":"IF($AD$4=\"Français\",AN178,AT178)","v":"Matière rotor"},null,null,null,null,null,null,null,{"$f":"IF($AD$4=\"Français\",AO178,AU178)","v":"Matière manifold entrée"},null,null,null,null,null,null,null,{"$f":"IF($AD$4=\"Français\",AP178,AV178)","v":"Matière séparateur"},null,null,null,null,null,null,"Matière corps","Matière rotor","Matière manifold entrée","Matière séparateur",null,null,"Body Material","Rotor Material","Entrance Manifold Material","Separator Material"]
[null,null,null,null,null,null,null,"Pompe montée sur skid",null,null,null,null,null,null,null,"Matière chassis",null,null,null,null,null,null,null,"Chevilles scellement",null,null,null,null,null,null,null,"Ballon séparateur",null,null,null,null,null,null,"Pompe montée sur skid","Matière chassis","Chevilles scellement","Ballon séparateur",null,null,"Pump on skid","Frame material","Anchor bolts","Filtrate receiver"]
[null,null,null,null,null,null,null,"Pompe anneau liquide",null,null,null,null,null,null,null,"Matière piping",null,null,null,null,null,null,null,null,null,{"$f":"IF($AD$4=\"Français\",AO180,AU180)","v":"Circuit fermé anneau liquide"},null,null,null,null,null,"Echangeur",null,null,null,null,null,null,"Pompe anneau liquide","Matière piping","Circuit fermé anneau liquide","Echangeur",null,null,"Liquid ring pump","Pipping Material","Recirculating water ring","Exchanger"]
[null,null,null,null,null,null,null,"Vanne auto alim eau",null,null,null,null,null,null,null,"Vanne manu réglage débit",null,null,null,{"$f":"IF($AD$4=\"Français\",AO182,AU182)","v":"Filtre Y"},null,null,null,"Manomètre",null,null,null,null,null,{"$f":"IF($AD$4=\"Français\",AP181,AV181)","v":"Vacuomètre"},null,null,null,null,null,null,null,null,"Vanne auto alim eau","Vanne manu réglage débit","Manomètre","Vacuomètre",null,null,"Water automatic valve","Manual valve for flow","Manometer","Vacuum Gauge"]
[null,null,null,null,null,null,null,"Soupape casse vide",null,null,null,null,null,null,null,"Transmission poulies/courroie",null,null,null,null,null,null,null,null,null,null,null,null,null,null,null,null,null,null,null,null,null,null,"Soupape casse vide","Transmission poulies/courroie","Filtre Y",null,null,null,"Vacuum breaking valve","V-Belt transmission","Y filter"]
["Moteur",null,null,null,null,null,null,{"$f":"IF($AD$4=\"Français\",AM183,AS183)","v":"Tension"},{"$f":"IF(I177=\"\",\"\",'VAC PUMP'!R22)","v":""},null,null,"V",null,null,null,{"$f":"IF($AD$4=\"Français\",AN183,AT183)","v":"Fréquence"},{"$f":"IF(I177=\"\",\"\",'VAC PUMP'!R23)","v":""},null,null,"Hz",null,null,null,{"$f":"IF($AD$4=\"Français\",AO183,AU183)","v":"Puissance"},{"$f":"IF(I177=\"\",\"\",'VAC PUMP'!R21)","v":""},null,null,"kW",null,null,null,null,null,null,null,null,null,"Moteur","Tension","Fréquence","Puissance",null,null,"Motor","Voltage","Frenquency","Power"]
[]
["Spécifique",null,null,null,null,null,null,null,null,null,null,null,null,null,null,null,null,null,null,null,null,null,null,null,null,null,null,null,null,null,null,null,null,null,null,null,null,"Spécifique",null,null,null,null,null,"Remarks"]
[]
["Pompes à filtrat ",null,null,null,null,null,null,null,null,null,null,null,null,null,null,null,null,null,null,null,null,null,null,null,null,null,null,null,null,null,null,null,null,null,null,null,null,"Pompes à filtrat ",null,null,null,null,null,"Filtrate pumps"]
["Pompe 1",null,null,null,null,null,null,{"$f":"IF($AD$4=\"Français\",AM188,AS188)","v":"Débit"},{"$f":"IF('Offre NEW'!H43>0,'Offre NEW'!F43,\"\")","v":""},null,null,"m3/h",null,null,null,{"$f":"IF($AD$4=\"Français\",AN188,AT188)","v":"HMT"},{"$f":"IF(I188=\"\",\"\",30)","v":""},null,null,"m",null,null,null,{"$f":"IF($AD$4=\"Français\",AO188,AU188)","v":"Puissance"},{"$f":"IF('Offre NEW'!H43>0,'Offre NEW'!G43,\"\")","v":""},null,null,"kW",null,null,null,{"$f":"IF($AD$4=\"Français\",AP188,AV188)","v":"Matière pompe"},{"$f":"IF('Offre NEW'!H43>0,'Offre NEW'!D43,\"\")","v":""},null,null,null,null,"Pompe 1","Débit","HMT","Puissance","Matière pompe",null,"Pump 1","Flow","HMT","Power","Pump material"]
[null,null,null,null,null,null,null,{"$f":"IF($AD$4=\"Français\",AM189,AS189)","v":"Type"},{"$f":"IF(I188=\"\",\"\",'FILTRATE PUMP 1'!J4)","v":""},null,null,null,null,null,null,{"$f":"IF($AD$4=\"Français\",AN189,AT189)","v":"Etanchéité arbre"},null,null,null,null,null,null,null,null,null,"Variation de fréquence",null,null,null,null,null,null,null,null,null,null,null,null,"Type","Etanchéité arbre","Variation de fréquence",null,null,null,"Type","Shaft Seal","VFD"]
[null,null,null,null,null,null,null,"Chassis support",null,null,"Skid",null,null,null,null,"Matière chassis",null,null,null,null,null,null,null,null,null,"Fourniture piping",null,null,null,null,null,{"$f":"IF($AD$4=\"Français\",AP190,AV190)","v":"Matière piping"},null,null,null,null,null,null,"Chassis support","Matière chassis","Fourniture piping","Matière piping",null,null,"Support Frame","Frame Material","Incl. piping","Piping material"]
[null,null,null,null,null,null,null,"Pompe secours",null,null,null,null,null,null,null,null,null,{"$f":"IF($AD$4=\"Français\",AN191,AT191)","v":"Fourniture vannes manu"},null,null,null,null,null,null,null,"Vanne de régulation débit",null,null,null,null,null,null,null,null,null,null,null,null,"Pompe secours","Fourniture vannes manu","Vanne de régulation débit",null,null,null,"Spare pump","With manual valve","Flow control valve"]
[]
["Spécifique",null,null,null,null,null,null,null,null,null,null,null,null,null,null,null,null,null,null,null,null,null,null,null,null,null,null,null,null,null,null,null,null,null,null,null,null,"Spécifique",null,null,null,null,null,"Remarks"]
[]
["Pompe 2",null,null,null,null,null,null,{"$f":"IF($AD$4=\"Français\",AM195,AS195)","v":"Débit"},{"$f":"IF('Offre NEW'!H44>0,'Offre NEW'!F44,\"\")","v":""},null,null,"m3/h",null,null,null,{"$f":"IF($AD$4=\"Français\",AN195,AT195)","v":"HMT"},{"$f":"IF(I195=\"\",\"\",30)","v":""},null,null,"m",null,null,null,{"$f":"IF($AD$4=\"Français\",AO195,AU195)","v":"Puissance"},{"$f":"IF('Offre NEW'!H44>0,'Offre NEW'!G44,\"\")","v":""},null,null,"kW",null,null,null,{"$f":"IF($AD$4=\"Français\",AP195,AV195)","v":"Matière pompe"},{"$f":"IF('Offre NEW'!H44>0,'Offre NEW'!D44,\"\")","v":""},null,null,null,null,"Pompe 2","Débit","HMT","Puissance","Matière pompe",null,"Pump 2","Flow","HMT","Power","Pump material"]
[null,null,null,null,null,null,null,{"$f":"IF($AD$4=\"Français\",AM196,AS196)","v":"Type"},{"$f":"IF(I188=\"\",\"\",'FILTRATE PUMP 2'!J4)","v":""},null,null,null,null,null,null,{"$f":"IF($AD$4=\"Français\",AN196,AT196)","v":"Etanchéité arbre"},null,null,null,null,null,null,null,null,null,{"$f":"IF($AD$4=\"Français\",AO196,AU196)","v":"Variation de fréquence"},null,null,null,null,null,null,null,null,null,null,null,null,"Type","Etanchéité arbre","Variation de fréquence",null,null,null,"Type","Sealing shaft","VFD"]
[null,null,null,null,null,null,null,"Chassis support",null,null,"Skid",null,null,null,null,"Matière chassis",null,null,null,null,null,null,null,null,null,"Fourniture piping",null,null,null,null,null,{"$f":"IF($AD$4=\"Français\",AP197,AV197)","v":"Matière piping"},null,null,null,null,null,null,"Chassis support","Matière chassis","Fourniture piping","Matière piping",null,null,"Support Frame","Frame Material","Incl. piping","Piping material"]
[null,null,null,null,null,null,null,"Pompe secours",null,null,null,null,null,null,null,null,null,{"$f":"IF($AD$4=\"Français\",AN198,AT198)","v":"Fourniture vannes manu"},null,null,null,null,null,null,null,{"$f":"IF($AD$4=\"Français\",AO198,AU198)","v":"Vanne de régulation débit"},null,null,null,null,null,null,null,null,null,null,null,null,"Pompe secours","Fourniture vannes manu","Vanne de régulation débit",null,null,null,"Spare pump","With manual valve","Flow control valve"]
[]
["Spécifique",null,null,null,null,null,null,null,null,null,null,null,null,null,null,null,null,null,null,null,null,null,null,null,null,null,null,null,null,null,null,null,null,null,null,null,null,"Spécifique",null,null,null,null,null,"Remarks"]
[]
["Pompe 3",null,null,null,null,null,null,{"$f":"IF($AD$4=\"Français\",AM202,AS202)","v":"Débit"},{"$f":"IF('Offre NEW'!H45>0,'Offre NEW'!F45,\"\")","v":""},null,null,"m3/h",null,null,null,{"$f":"IF($AD$4=\"Français\",AN202,AT202)","v":"HMT"},{"$f":"IF(I202=\"\",\"\",30)","v":""},null,null,"m",null,null,null,{"$f":"IF($AD$4=\"Français\",AO202,AU202)","v":"Puissance"},{"$f":"IF('Offre NEW'!H45>0,'Offre NEW'!G45,\"\")","v":""},null,null,"kW",null,null,null,{"$f":"IF($AD$4=\"Français\",AP202,AV202)","v":"Matière pompe"},{"$f":"IF('Offre NEW'!H45>0,'Offre NEW'!D45,\"\")","v":""},null,null,null,null,"Pompe 3","Débit","HMT","Puissance","Matière pompe",null,"Pump 3","Flow","HMT","Power","Pump material"]
[null,null,null,null,null,null,null,{"$f":"IF($AD$4=\"Français\",AM203,AS203)","v":"Type"},{"$f":"IF(I188=\"\",\"\",'FILTRATE PUMP 3'!J4)","v":""},null,null,null,null,null,null,{"$f":"IF($AD$4=\"Français\",AN203,AT203)","v":"Etanchéité arbre"},null,null,null,null,null,null,null,null,null,{"$f":"IF($AD$4=\"Français\",AO203,AU203)","v":"Variation de fréquence"},null,null,null,null,null,null,null,null,null,null,null,null,"Type","Etanchéité arbre","Variation de fréquence",null,null,null,"Type","Sealing shaft","VFD"]
[null,null,null,null,null,null,null,"Chassis support",null,null,"Skid",null,null,null,null,"Matière chassis",null,null,null,null,null,null,null,null,null,"Fourniture piping",null,null,null,null,null,{"$f":"IF($AD$4=\"Français\",AP204,AV204)","v":"Matière piping"},null,null,null,null,null,null,"Chassis support","Matière chassis","Fourniture piping","Matière piping",null,null,"Support Frame","Frame Material","Incl. piping","Piping material"]
[null,null,null,null,null,null,null,"Pompe secours",null,null,null,null,null,null,null,null,null,{"$f":"IF($AD$4=\"Français\",AN205,AT205)","v":"Fourniture vannes manu"},null,null,null,null,null,null,null,{"$f":"IF($AD$4=\"Français\",AO205,AU205)","v":"Vanne de régulation débit"},null,null,null,null,null,null,null,null,null,null,null,null,"Pompe secours","Fourniture vannes manu","Vanne de régulation débit",null,null,null,"Spare pump","With manual valve","Flow control valve"]
[]
["Spécifique",null,null,null,null,null,null,null,null,null,null,null,null,null,null,null,null,null,null,null,null,null,null,null,null,null,null,null,null,null,null,null,null,null,null,null,null,"Spécifique",null,null,null,null,null,"Remarks"]
[]
["Pompe 4",null,null,null,null,null,null,{"$f":"IF($AD$4=\"Français\",AM209,AS209)","v":"Débit"},{"$f":"IF('Offre NEW'!H46>0,'Offre NEW'!F46,\"\")","v":""},null,null,"m3/h",null,null,null,{"$f":"IF($AD$4=\"Français\",AN209,AT209)","v":"HMT"},{"$f":"IF(I209=\"\",\"\",30)","v":""},null,null,"m",null,null,null,{"$f":"IF($AD$4=\"Français\",AO209,AU209)","v":"Puissance"},{"$f":"IF('Offre NEW'!H46>0,'Offre NEW'!G46,\"\")","v":""},null,null,"kW",null,null,null,{"$f":"IF($AD$4=\"Français\",AP209,AV209)","v":"Matière pompe"},{"$f":"IF('Offre NEW'!H46>0,'Offre NEW'!D46,\"\")","v":""},null,null,null,null,"Pompe 4","Débit","HMT","Puissance","Matière pompe",null,"Pump 4","Flow","HMT","Power","Pump material"]
[null,null,null,null,null,null,null,{"$f":"IF($AD$4=\"Français\",AM210,AS210)","v":"Type"},{"$f":"IF(I188=\"\",\"\",'FILTRATE PUMP 4'!J4)","v":""},null,null,null,null,null,null,{"$f":"IF($AD$4=\"Français\",AN210,AT210)","v":"Etanchéité arbre"},null,null,null,null,null,null,null,null,null,{"$f":"IF($AD$4=\"Français\",AO210,AU210)","v":"Variation de fréquence"},null,null,null,null,null,null,null,null,null,null,null,null,"Type","Etanchéité arbre","Variation de fréquence",null,null,null,"Type","Sealing shaft","VFD"]
[null,null,null,null,null,null,null,"Chassis support",null,null,"Skid",null,null,null,null,"Matière chassis",null,null,null,null,null,null,null,null,null,"Fourniture piping",null,null,null,null,null,{"$f":"IF($AD$4=\"Français\",AP211,AV211)","v":"Matière piping"},null,null,null,null,null,null,"Chassis support","Matière chassis","Fourniture piping","Matière piping",null,null,"Support Frame","Frame Material","Incl. piping","Piping material"]
[null,null,null,null,null,null,null,"Pompe secours",null,null,null,null,null,null,null,null,null,{"$f":"IF($AD$4=\"Français\",AN212,AT212)","v":"Fourniture vannes manu"},null,null,null,null,null,null,null,{"$f":"IF($AD$4=\"Français\",AO212,AU212)","v":"Vanne de régulation débit"},null,null,null,null,null,null,null,null,null,null,null,null,"Pompe secours","Fourniture vannes manu","Vanne de régulation débit",null,null,null,"Spare pump","With manual valve","Flow control valve"]
[]
[{"$f":"IF($AD$4=\"Français\",AL214,AR214)","v":"Spécifique"},null,null,null,null,null,null,null,null,null,null,null,null,null,null,null,null,null,null,null,null,null,null,null,null,null,null,null,null,null,null,null,null,null,null,null,null,"Spécifique",null,null,null,null,null,"Remarks"]
[]
["Pompes lavage toile & bande ",null,null,null,null,null,null,null,null,null,null,null,null,null,null,null,null,null,null,null,null,null,null,null,null,null,null,null,null,null,null,null,null,null,null,null,null,"Pompes lavage toile & bande ",null,null,null,null,null,"Cloth & belt wash pumps"]
[null,null,null,null,null,null,null,{"$f":"IF($AD$4=\"Français\",AM217,AS217)","v":"Débit"},{"$f":"IF('Offre NEW'!H48>0,'Offre NEW'!F48,\"\")","v":""},null,null,"m3/h",null,null,null,{"$f":"IF($AD$4=\"Français\",AN217,AT217)","v":"HMT"},null,null,null,"m",null,null,null,{"$f":"IF($AD$4=\"Français\",AO217,AU217)","v":"Puissance"},{"$f":"IF('Offre NEW'!H48>0,'Offre NEW'!G48,\"\")","v":""},null,null,"kW",null,null,null,{"$f":"IF($AD$4=\"Français\",AP217,AV217)","v":"Matière pompe"},{"$f":"IF('Offre NEW'!H48>0,'Offre NEW'!D48,\"\")","v":""},null,null,null,null,"Pompe","Débit","HMT","Puissance","Matière pompe",null,null,"Flow","HMT","Power","Pump material"]
[null,null,null,null,null,null,null,{"$f":"IF($AD$4=\"Français\",AM218,AS218)","v":"Type"},null,null,null,null,null,null,null,{"$f":"IF($AD$4=\"Français\",AN218,AT218)","v":"Etanchéité arbre"},null,null,null,null,null,null,null,null,null,{"$f":"IF($AD$4=\"Français\",AO218,AU218)","v":"Variation de fréquence"},null,null,null,null,null,null,null,null,null,null,null,null,"Type","Etanchéité arbre","Variation de fréquence",null,null,null,"Type","Sealing shaft","VFD"]
[null,null,null,null,null,null,null,"Chassis support",null,null,"Skid",null,null,null,null,"Matière chassis",null,null,null,null,null,null,null,null,null,"Fourniture piping",null,null,null,null,null,{"$f":"IF($AD$4=\"Français\",AP219,AV219)","v":"Matière piping"},null,null,null,null,null,null,"Chassis support","Matière chassis","Fourniture piping","Matière piping",null,null,"Support Frame","Frame Material","Incl. piping","Piping material"]
[null,null,null,null,null,null,null,"Pompe secours",null,null,null,null,null,null,null,null,null,{"$f":"IF($AD$4=\"Français\",AN220,AT220)","v":"Fourniture vannes manu"},null,null,null,null,null,null,null,{"$f":"IF($AD$4=\"Français\",AO220,AU220)","v":"Vanne de régulation débit"},null,null,null,null,null,null,null,null,null,null,null,null,"Pompe secours","Fourniture vannes manu","Vanne de régulation débit",null,null,null,"Spare pump","With manual valve","Flow control valve"]
[]
["Spécifique",null,null,null,null,null,null,null,null,null,null,null,null,null,null,null,null,null,null,null,null,null,null,null,null,null,null,null,null,null,null,null,null,null,null,null,null,"Spécifique",null,null,null,null,null,"Remarks"]
[]
["Pompes lavage gateau ",null,null,null,null,null,null,null,null,null,null,null,null,null,null,null,null,null,null,null,null,null,null,null,null,null,null,null,null,null,null,null,null,null,null,null,null,"Pompes lavage gateau ",null,null,null,null,null,"Cake washing pumps"]
[null,null,null,null,null,null,null,{"$f":"IF($AD$4=\"Français\",AM225,AS225)","v":"Débit"},null,null,null,"m3/h",null,null,null,{"$f":"IF($AD$4=\"Français\",AN225,AT225)","v":"HMT"},null,null,null,"m",null,null,null,{"$f":"IF($AD$4=\"Français\",AO225,AU225)","v":"Puissance"},null,null,null,"kW",null,null,null,{"$f":"IF($AD$4=\"Français\",AP225,AV225)","v":"Matière pompe"},null,null,null,null,null,"Pompe","Débit","HMT","Puissance","Matière pompe",null,null,"Flow","HMT","Power","Pump material"]
[null,null,null,null,null,null,null,{"$f":"IF($AD$4=\"Français\",AM226,AS226)","v":"Type"},null,null,null,null,null,null,null,{"$f":"IF($AD$4=\"Français\",AN226,AT226)","v":"Etanchéité arbre"},null,null,null,null,null,null,null,null,null,{"$f":"IF($AD$4=\"Français\",AO226,AU226)","v":"Variation de fréquence"},null,null,null,null,null,null,null,null,null,null,null,null,"Type","Etanchéité arbre","Variation de fréquence",null,null,null,"Type","Sealing shaft","VFD"]
[null,null,null,null,null,null,null,"Chassis support",null,null,"Skid",null,null,null,null,"Matière chassis",null,null,null,null,null,null,null,null,null,"Fourniture piping",null,null,null,null,null,{"$f":"IF($AD$4=\"Français\",AP227,AV227)","v":"Matière piping"},null,null,null,null,null,null,"Chassis support","Matière chassis","Fourniture piping","Matière piping",null,null,"Support Frame","Frame Material","Incl. piping","Piping material"]
[null,null,null,null,null,null,null,{"$f":"IF($AD$4=\"Français\",AM228,AS228)","v":"Pompe secours"},null,null,null,null,null,null,null,null,null,{"$f":"IF($AD$4=\"Français\",AN228,AT228)","v":"Fourniture vannes manu"},null,null,null,null,null,null,null,{"$f":"IF($AD$4=\"Français\",AO228,AU228)","v":"Vanne de régulation débit"},null,null,null,null,null,null,null,null,null,null,null,null,"Pompe secours","Fourniture vannes manu","Vanne de régulation débit",null,null,null,"Spare pump","With manual valve","Flow control valve"]
[]
["Spécifique",null,null,null,null,null,null,null,null,null,null,null,null,null,null,null,null,null,null,null,null,null,null,null,null,null,null,null,null,null,null,null,null,null,null,null,null,"Spécifique",null,null,null,null,null,"Remarks"]
[]
["Rampe haute pression lavage toile ",null,null,null,null,null,null,null,null,null,null,null,null,null,null,null,null,null,null,null,null,null,null,null,null,null,null,null,null,null,null,null,null,null,null,null,null,"Rampe haute pression lavage toile ",null,null,null,null,null,"Cloth washing High pressure ramp"]
[null,null,null,null,null,null,null,{"$f":"IF($AD$4=\"Français\",AM233,AS233)","v":"Matière poutre et bras"},null,null,null,null,null,null,null,{"$f":"IF($AD$4=\"Français\",AN233,AT233)","v":"Matière rampe"},null,null,null,null,null,null,null,{"$f":"IF($AD$4=\"Français\",AO233,AU233)","v":"Ø buses"},null,null,null,null,null,null,null,{"$f":"IF($AD$4=\"Français\",AP233,AV233)","v":"Matière buses"},null,null,null,null,null,null,"Matière poutre et bras","Matière rampe","Ø buses","Matière buses",null,null,"Beam Material","Ramp Material","Nozzles DN","Nozzles material"]
["Pompe HP",null,null,null,null,null,null,{"$f":"IF($AD$4=\"Français\",AM234,AS234)","v":"Débit"},null,null,null,"m3/h",null,null,null,{"$f":"IF($AD$4=\"Français\",AN234,AT234)","v":"Pression"},null,null,null,"bar",null,null,null,{"$f":"IF($AD$4=\"Français\",AO234,AU234)","v":"Puissance"},null,null,null,"kW",null,null,null,{"$f":"IF($AD$4=\"Français\",AP234,AV234)","v":"Matière pompe"},null,null,null,null,null,"Pompe HP","Débit","Pression","Puissance","Matière pompe",null,"HP Pump","Flow","Pressure","Power","Pump Material"]
["Moto-réducteur rampe",null,null,null,null,null,null,"Puissance",null,null,null,"kW",null,null,null,null,null,null,null,null,null,null,{"$f":"IF($AD$4=\"Français\",AN235,AT235)","v":"Fourniture flexible entre rampe et pompe HP"},null,null,null,null,null,null,null,null,null,null,null,null,null,null,"Moto-réducteur rampe","Puissance","Fourniture flexible entre rampe et pompe HP",null,null,null,"Ramp Gearmotor","Power","with Flexible hose btw Ramp & HP pump"]
[]
["Spécifique",null,null,null,null,null,null,null,null,null,null,null,null,null,null,null,null,null,null,null,null,null,null,null,null,null,null,null,null,null,null,null,null,null,null,null,null,"Spécifique",null,null,null,null,null,"Remarks"]
[]
["Tuyauteries de liaison",null,null,null,null,null,null,null,null,null,null,null,null,null,null,null,null,null,null,null,null,null,null,null,null,null,null,null,null,null,null,null,null,null,null,null,null,"Tuyauteries de liaison",null,null,"Fourniture supports",null,null," Interconnecting piping",null,null,"with support"]
[null,null,null,null,null,null,{"$f":"IF($AD$4=\"Français\",AM240,AS240)","v":"Fourniture tuyauteries de vide"},null,null,null,null,{"$f":"IF($AD$4=\"Français\",AM240,AS240)","v":"Fourniture tuyauteries de vide"},null,null,null,null,null,null,null,{"$f":"IF($AD$4=\"Français\",AO239,AU239)","v":"Fourniture supports"},null,null,null,null,null,null,{"$f":"IF($AD$4=\"Français\",AO240,AU240)","v":"Fourniture vannes manu"},null,null,null,null,{"$f":"IF($AD$4=\"Français\",AP240,AV240)","v":"Matière vannes"},null,null,null,null,null,null,"Fourniture tuyauteries de vide","Matière tuyauterie","Fourniture vannes manu","Matière vannes",null,null,"With vacuum piping","Piping Material","With manual valves","Valves material"]
[null,null,null,null,null,null,null,null,null,null,null,null,null,null,null,null,null,null,null,null,null,null,null,null,null,null,"Fourniture clapets",null,null,null,null,{"$f":"IF($AD$4=\"Français\",AP241,AV241)","v":"Matière clapets"},null,null,null,null,null,null,null,null,"Fourniture clapets","Matière clapets",null,null,null,null,"With return valves","Return valves material"]
[]
[null,null,null,null,null,null,{"$f":"IF($AD$4=\"Français\",AM243,AS243)","v":"Fourniture tuyauteries de lavage"},null,null,null,null,{"$f":"IF($AD$4=\"Français\",AM243,AS243)","v":"Fourniture tuyauteries de lavage"},null,null,null,null,null,null,null,{"$f":"IF($AD$4=\"Français\",AO239,AU239)","v":"Fourniture supports"},null,null,null,null,null,null,"Fourniture vannes manu",null,null,null,null,"Matière vannes",null,null,null,null,null,null,"Fourniture tuyauteries de lavage","Matière tuyauterie","Fourniture vannes manu","Matière vannes",null,null,"With vacuum piping","Piping Material","With manual valves","Valves material"]
[null,null,null,null,null,null,null,null,null,null,null,null,null,null,null,null,null,null,null,null,null,null,null,null,null,null,{"$f":"IF($AD$4=\"Français\",AO244,AU244)","v":"Fourniture clapets"},null,null,null,null,{"$f":"IF($AD$4=\"Français\",AP244,AV244)","v":"Matière clapets"},null,null,null,null,null,null,null,null,"Fourniture clapets","Matière clapets",null,null,null,null,"With return valves","Return valves material"]
[]
["Spécifique",null,null,null,null,null,null,null,null,null,null,null,null,null,null,null,null,null,null,null,null,null,null,null,null,null,null,null,null,null,null,null,null,null,null,null,null,"Spécifique",null,null,null,null,null,"Remarks"]
[]
["Instrumentation sur filtre",null,null,null,null,null,null,null,null,null,null,null,null,null,null,null,null,null,null,null,null,null,null,null,null,null,null,null,null,null,null,null,null,null,null,null,null,"Instrumentation sur filtre",null,null,null,null,null,"Instrumentation on Filter"]
[null,null,null,null,null,null,null,null,null,null,{"$f":"IF($AD$4=\"Français\",AM249,AS249)","v":"Matière tubes passage câbles sur filtre"},null,null,null,null,null,null,null,null,{"$f":"IF($AD$4=\"Français\",AN249,AT249)","v":"Cables elec standard"},null,null,null,null,null,null,{"$f":"IF($AD$4=\"Français\",AO249,AU249)","v":"Cables elec specifique"},null,null,null,null,null,null,null,null,null,null,null,"Matière tubes passage câbles sur filtre","Cables elec standard","Cables elec specifique",null,null,null,"Material pipe for cable on filter","Elec. Standard Cable","Elec. Specific Cable"]
[null,null,null,null,null,{"$f":"IF($AD$4=\"Français\",AL250,AR250)","v":"Capteur surcouple"},null,null,null,null,null,null,{"$f":"IF($AD$4=\"Français\",AM250,AS250)","v":"Capteurs dérive bande"},null,null,null,null,null,null,"Capteurs dérive toile",null,null,null,null,null,null,"Capteurs tension toile",null,null,null,null,null,null,{"$f":"IF($AD$4=\"Français\",AP250,AV250)","v":"Capteur rotation toile"},null,null,null,"Capteur surcouple","Capteurs dérive bande","Capteurs dérive toile","Capteurs tension toile","Capteur rotation toile",null,"Overtorque sensor","Belt Misalignment","Cloth Misalignment","Cloth tensionning","Cloth run off"]
[null,null,null,null,null,{"$f":"IF($AD$4=\"Français\",AL251,AR251)","v":"Capteurs rupture courroies"},null,null,null,null,null,null,null,null,null,null,null,null,null,"Arrêts d'urgence à cable",null,null,null,null,null,null,"Arrêts d'urgence BP",null,null,null,null,{"$f":"IF($AD$4=\"Français\",AP251,AV251)","v":"Qté AU"},null,null,null,null,null,"Capteurs rupture courroies",null,"Arrêts d'urgence à cable","Arrêts d'urgence BP","Qté AU",null,"Belt support breaking sensor",null,"Emergency stop cable","Button emergency stop","AU Qty"]
[null,null,null,null,null,null,null,null,{"$f":"IF($AD$4=\"Français\",AL252,AR252)","v":"Pression eau de lavage :"},null,null,null,{"$f":"IF($AD$4=\"Français\",AM252,AS252)","v":"Pressostat"},null,null,null,null,null,null,"Transmetteur",null,null,null,null,null,null,{"$f":"IF($AD$4=\"Français\",AO252,AU252)","v":"Manomètre"},null,null,null,null,null,null,null,null,null,null,"Pression eau de lavage :","Pressostat","Transmetteur","Manomètre",null,null,"Wash water pressure:","Pressure indicator","transmitter","Manometer"]
[null,null,null,null,null,null,null,null,{"$f":"IF($AD$4=\"Français\",AL253,AR253)","v":"Pression air comprimé :"},null,null,null,{"$f":"IF($AD$4=\"Français\",AM253,AS253)","v":"Pressostat"},null,null,null,null,null,null,{"$f":"IF($AD$4=\"Français\",AN253,AT253)","v":"Transmetteur"},null,null,null,null,null,null,null,null,null,null,null,null,null,null,null,null,null,"Pression air comprimé :","Pressostat","Transmetteur",null,null,null,"Air pressure:","Pressure indicator","transmitter"]
[null,null,null,null,null,null,null,null,{"$f":"IF($AD$4=\"Français\",AL254,AR254)","v":"Débit lavage toile & bande :"},null,{"$f":"IF($AD$4=\"Français\",AM254,AS254)","v":"Type"},null,null,null,null,null,null,{"$f":"IF($AD$4=\"Français\",AN254,AT254)","v":"Matière"},null,null,null,null,null,{"$f":"IF($AD$4=\"Français\",AO254,AU254)","v":"Qté"},null,null,null,null,null,null,null,{"$f":"IF($AD$4=\"Français\",AP254,AV254)","v":"Marque"},null,null,null,null,null,"Débit lavage toile & bande :","Type","Matière","Qté","Marque",null,"Cloth and belt flow :","Type","Material","Qty","Brand"]
[null,null,null,null,null,null,null,null,{"$f":"IF($AD$4=\"Français\",AL255,AR255)","v":"Débit lubrification courroies boite à vide :"},null,"Type",null,null,null,null,null,null,{"$f":"IF($AD$4=\"Français\",AN255,AT255)","v":"Matière"},null,null,null,null,null,{"$f":"IF($AD$4=\"Français\",AO255,AU255)","v":"Qté"},null,null,null,null,null,null,null,"Marque",null,null,null,null,null,"Débit lubrification courroies boite à vide :","Type","Matière","Qté","Marque",null,"Lubrification Vacuum box belt flow:","Type","Material","Qty","Brand"]
[null,null,null,null,null,null,null,null,{"$f":"IF($AD$4=\"Français\",AL256,AR256)","v":"Débit lubrification courroies table :"},null,{"$f":"IF($AD$4=\"Français\",AM256,AS256)","v":"Type"},null,null,null,null,null,null,"Matière",null,null,null,null,null,"Qté",null,null,null,null,null,null,null,{"$f":"IF($AD$4=\"Français\",AP256,AV256)","v":"Marque"},null,null,null,null,null,"Débit lubrification courroies table :","Type","Matière","Qté","Marque",null,"Lubrification Belt table support flow:","Type","Material","Qty","Brand"]
[null,null,null,null,null,null,null,null,null,null,"Qté Transmetteur épaisseur gateau",null,null,null,null,null,null,null,null,{"$f":"IF($AD$4=\"Français\",AN257,AT257)","v":"Débordement pulpe"},null,null,null,{"$f":"IF($AD$4=\"Français\",AO257,AU257)","v":"Type"},null,null,null,null,null,null,null,null,null,null,null,null,null,null,"Qté Transmetteur épaisseur gateau","Débordement pulpe","Type",null,null,null,"Cake thickness transmitter Qty","Slurry overflow","Type"]
[]
["Spécifique",null,null,null,null,null,null,null,null,null,null,null,null,null,null,null,null,null,null,null,null,null,null,null,null,null,null,null,null,null,null,null,null,null,null,null,null,"Spécifique",null,null,null,null,null,"Remarks"]
[]
["Equipement électrique ",null,null,null,null,null,null,null,null,null,null,null,null,null,null,null,null,null,null,null,null,null,null,null,null,null,null,null,null,null,null,null,null,null,null,null,null,"Equipement électrique ",null,null,null,null,null,"Electrical equipment"]
["Boite de jonction sur filtre",null,null,null,null,null,null,null,null,null,{"$f":"IF($AD$4=\"Français\",AM262,AS262)","v":"Matière"},null,null,null,null,null,null,null,null,null,null,null,null,null,null,null,null,null,null,null,null,null,null,null,null,null,null,"Boite de jonction sur filtre","Matière",null,null,null,null,"Junction box on filter","Material"]
[]
["Pupitre de commande local",null,null,null,null,null,null,null,null,null,{"$f":"IF($AD$4=\"Français\",AM264,AS264)","v":"Matière"},null,null,null,null,null,null,null,null,{"$f":"IF($AD$4=\"Français\",AN264,AT264)","v":"Boutons poussoirs"},null,null,null,null,null,{"$f":"IF($AD$4=\"Français\",AO264,AU264)","v":"Afficheur vitesse"},null,null,null,null,null,null,null,null,null,null,null,"Pupitre de commande local","Matière","Boutons poussoirs","Afficheur vitesse",null,null,"Local control panel","Material","Button","Speed indicator"]
[null,null,null,null,null,null,null,null,null,null,null,null,null,null,null,null,null,null,null,"Interface Opérateur graphique",null,null,null,{"$f":"IF($AD$4=\"Français\",AO265,AU265)","v":"Marque"},null,null,null,null,null,null,null,null,null,null,null,null,null,null,null,"Interface Opérateur graphique","Marque",null,null,null,null,"Graphic operator interface","Brand"]
[]
["Armoire électrique",null,null,null,null,null,null,null,null,null,"Matière",null,null,null,null,null,null,null,null,{"$f":"IF($AD$4=\"Français\",AN267,AT267)","v":"Automate Programmable"},null,null,null,"Marque",null,null,null,null,null,null,null,null,null,null,null,null,null,"Armoire électrique","Matière","Automate Programmable","Marque",null,null,"Electrical cabinet","Material","PLC","Brand"]
[]
[null,null,null,null,null,null,null,null,{"$f":"IF($AD$4=\"Français\",AM269,AS269)","v":"Départ puissance entrainement filtre"},null,null,null,null,null,{"$f":"IF($AD$4=\"Français\",AN269,AT269)","v":"Variateur de fréquence"},null,null,null,null,null,null,null,null,"Alimentation générale armoire :",null,null,null,"V",null,null,"Hz",{"$f":"IF($AD$4=\"Français\",AP269,AV269)","v":"Régime"},null,null,null,null,null,null,"Départ puissance entrainement filtre","Variateur de fréquence","Alimentation générale armoire :","Régime",null,null,"Filter motor starter","VFD","Globel power","engine speed"]
[null,null,null,null,null,null,null,null,{"$f":"IF($AD$4=\"Français\",AM270,AS270)","v":"Départs puissance pompes lavage&filtrats"},null,null,null,null,null,"Variateur de fréquence",null,null,null,null,null,null,null,null,"Alimentation Secourue :",null,null,null,"V",null,null,"Hz",null,null,null,null,null,null,null,"Départs puissance pompes lavage&filtrats","Variateur de fréquence","Alimentation Secourue :",null,null,null,"Filtrate pump motor starter","VFD","Emergency power"]
[null,null,null,null,null,null,null,null,{"$f":"IF($AD$4=\"Français\",AM271,AS271)","v":"Départ puissance pompe à vide"},null,null,null,null,null,{"$f":"IF($AD$4=\"Français\",AN271,AT271)","v":"Variateur de fréquence"},null,null,null,null,null,null,null,null,{"$f":"IF($AD$4=\"Français\",AO271,AU271)","v":"Tension télécommande :"},null,null,null,"V",null,null,"Hz",{"$f":"IF($AD$4=\"Français\",AP271,AV271)","v":"AC/CC"},null,null,null,null,null,null,"Départ puissance pompe à vide","Variateur de fréquence","Tension télécommande :","AC/CC",null,null,"Vacuum pump motor starter","VFD","remote control power","AC/CC"]
[]
["Spécifique",null,null,null,null,null,null,null,null,null,null,null,null,null,null,null,null,null,null,null,null,null,null,null,null,null,null,null,null,null,null,null,null,null,null,null,null,"Spécifique",null,null,null,null,null,"Remarks"]

{"sheet":"Flowsheet","index":5,"n_rows":41,"n_cols":23,"rows_kept":41,"cut":false,"hidden":false,"merged":[[17,22,24,22],[37,8,37,10],[16,19,16,21],[26,4,29,20],[31,19,31,21],[32,6,32,8],[32,11,32,13],[32,15,32,17],[21,19,21,21],[12,2,12,4],[1,6,3,17],[4,19,4,21],[5,22,7,22],[10,19,10,21],[11,22,13,22]]}
[]
[null,null,null,null,null,null,"Projet PKT - HOU Process"]
[null,null,"Filtration Rate",1.05,"t/h/m²"]
[null,null,"Filter Size",{"$f":"U34/D3","v":66.622741714285709},"m²"]
[null,null,null,null,null,null,null,null,null,null,null,null,null,null,null,null,null,null,null,"WASH WATER 3",null,null,"WR 3"]
[null,null,null,"--> On propose 90B30 après discussion avec VRUY",null,null,null,null,null,null,null,null,null,null,null,null,null,null,null,"Flow rate design",{"$f":"M34","v":36.226411257142857},"T/h",0.6]
[null,null,null,null,null,null,null,null,null,null,null,null,null,null,null,null,null,null,null,"Flow rate design",{"$f":"U6/U8","v":36.226411257142857},"m3/h"]
[null,null,null,null,null,null,null,null,null,null,null,null,null,null,null,null,null,null,null,"Density",1,"t/m3"]
[]
[]
[null,null,null,null,null,null,null,null,null,null,null,null,null,null,null,null,null,null,null,"WASH WATER 2",null,null,"WR 2"]
[null,null,null,null,null,null,"data client",null,null,null,null,null,null,null,null,null,null,null,null,"Flow rate design",{"$f":"Q34","v":36.226411257142857},"T/h",0.6]
[null,null,"SLURRY",null,null,null,null,null,null,null,null,null,null,null,null,null,null,null,null,"Flow rate design",{"$f":"U12/U14","v":36.226411257142857},"m3/h"]
[null,null,"Slurry Flow rate design",{"$f":"D15/D18","v":410.41762767710054},"m3/h",null,null,null,null,null,null,null,null,null,null,null,null,null,null,"Density",1,"t/m3"]
[null,null,"Slurry Flow rate design",498.24700000000001,"T/h"]
[null,null,"Solids",0.1404,"%"]
[null,null,"Solids flow design",{"$f":"D15*D16","v":69.953878799999998},"T/h",null,null,null,null,null,null,null,null,null,null,null,null,null,null,"C&B recirculation wash water",null,null,"WR 1"]
[null,null,"Slurry density",1.214,"t/m3",null,null,null,null,null,null,null,null,null,null,null,null,null,null,"Flow rate design",{"$f":"U19*U20","v":10.8},"T/h","0,6 m3 / ton of soda ash"]
[null,null,"Liquid density",1.1000000000000001,"t/m3",null,null,null,null,null,null,null,null,null,null,null,null,null,null,"Flow rate design",10.8,"m3/h"]
[null,null,"Solids density",3.3,"t/m3",null,null,null,null,null,null,null,null,null,null,null,null,null,null,"Density",1,"t/m3"]
[null,null,"Temperature",40,"°C"]
[null,null,null,null,null,null,null,null,null,null,null,null,null,null,null,null,null,null,null,"DIRECT WASH WATER"]
[null,null,null,null,null,null,null,null,null,null,null,null,null,null,null,null,null,null,null,"Flow rate design",{"$f":"U24*U25","v":15.433},"T/h"]
[null,null,null,null,null,null,null,null,null,null,null,null,null,null,null,null,null,null,null,"Flow rate design",15.433,"m3/h"]
[null,null,null,null,null,null,null,null,null,null,null,null,null,null,null,null,null,null,null,"Density",1,"t/m3"]
[]
[]
[]
[]
[]
[]
[null,null,null,null,null,null,null,null,null,null,null,null,null,null,null,null,null,null,null,"TOTAL CAKE PRODUCTION"]
[null,null,null,null,null,null,"MOTHER LIQUOR + WASH FILTRATE 3",null,null,null,null,"WASH FILTRATE 2",null,null,null,"WASH FILTRATE 1",null,null,null,"Cake flow rate design",{"$f":"U34/(1-U35)","v":83.27842714285714},"T/h"]
[null,null,null,null,null,null,"Flow rate design",{"$f":"D15-U33+U6-(J39-U33)","v":441.20157285714288},"t/h",null,null,"Flow rate design",{"$f":"U12","v":36.226411257142857},"T/h",null,"Flow rate design",{"$f":"U18+U23+(J39-U33)","v":36.226411257142857},"T/h",null,"Dry cake flow rate design",{"$f":"D17","v":69.953878799999998},"T/h"]
[null,null,null,null,null,null,"Flow rate design",{"$f":"H34/H36","v":441.20157285714288},"m3/h",null,null,"Flow rate design",{"$f":"M34/M36","v":36.226411257142857},"m3/h",null,"Flow rate design",{"$f":"Q34/Q36","v":36.226411257142857},"m3/h",null,"Moisture",0.16,"%"]
[null,null,null,null,null,null,"Density",1,"t/m3",null,null,"Density",1,"t/m3",null,"Density",1,"t/m3",null,"Soda",{"$f":"U34/1.6","v":43.721174249999997},"T/h"]
[]
[null,null,null,null,null,null,null,null,"PICK UP CAKE"]
[null,null,null,null,null,null,null,null,"Cake flow rate design",{"$f":"J40/(1-J41)","v":93.271838399999993},"T/h"]
[null,null,null,null,null,null,null,null,"Dry cake flow rate design",{"$f":"U34","v":69.953878799999998},"T/h"]
[null,null,null,null,null,null,null,null,"Moisture",0.25,"%"]

{"sheet":"Calculations","index":6,"n_rows":79,"n_cols":48,"rows_kept":79,"cut":false,"hidden":false,"merged":[[5,0,5,18],[6,1,6,3],[7,0,7,1],[7,2,7,3],[7,4,7,5],[7,6,7,7],[7,8,7,9],[7,10,7,12],[7,16,7,18],[1,4,1,5],[4,20,4,21],[1,0,1,1],[1,17,1,18],[2,0,2,1],[2,4,2,5],[2,16,2,17],[3,0,3,1],[3,16,3,17],[4,0,4,18],[10,10,10,12],[10,13,10,14],[10,15,10,16],[10,17,10,18],[8,13,8,15],[9,0,9,3],[9,4,9,6],[9,7,9,9],[9,10,9,12],[9,13,9,14],[9,15,9,16],[8,0,8,1],[8,2,8,3],[8,4,8,5],[8,6,8,7],[8,8,8,9],[8,10,8,12],[9,17,9,18],[10,0,10,3],[10,4,10,6],[10,7,10,9],[12,0,12,3],[12,4,12,6],[12,7,12,9],[12,10,12,12],[12,13,12,14],[12,16,12,18],[11,0,11,3],[11,4,11,6],[11,7,11,9],[11,10,11,12],[11,16,11,18],[11,13,11,15],[13,0,13,3],[13,4,13,6],[13,7,13,9],[13,10,13,12],[13,13,13,14],[14,0,14,3],[14,4,14,6],[14,7,14,9],[14,10,14,12],[14,13,14,14],[15,0,15,3],[15,4,15,6],[15,7,15,9],[15,10,15,12],[15,13,15,14],[16,0,16,3],[16,4,16,6],[16,7,16,9],[16,10,16,12],[16,13,16,14],[18,10,18,12],[18,13,18,14],[19,0,19,3],[19,4,19,6],[19,7,19,9],[19,10,19,12],[19,13,19,14],[17,0,17,3],[17,4,17,6],[17,7,17,9],[18,0,18,3],[18,4,18,6],[18,7,18,9],[20,0,20,3],[20,4,20,6],[20,7,20,9],[20,10,20,12],[20,13,20,14],[21,2,21,3],[21,4,21,6],[21,7,21,9],[21,10,21,12],[21,13,21,14],[24,0,24,3],[24,10,24,12],[24,13,24,15],[24,17,24,18],[25,0,25,3],[25,10,25,12],[25,13,25,16],[25,17,25,18],[22,0,22,3],[22,4,22,6],[22,7,22,9],[22,10,22,12],[22,13,22,16],[23,0,23,3],[23,5,23,8],[23,10,23,12],[23,13,23,14],[23,15,23,16],[26,0,26,3],[26,6,26,7],[26,9,26,11],[26,12,26,13],[26,14,26,17],[27,0,27,3],[27,6,27,7],[27,9,27,11],[27,12,27,13],[27,14,27,17],[29,31,29,32],[30,0,30,3],[30,5,30,6],[30,10,30,13],[30,15,30,17],[28,17,28,18],[29,0,29,3],[29,5,29,6],[29,10,29,11],[29,12,29,13],[29,14,29,16],[29,17,29,18],[28,0,28,3],[28,5,28,6],[28,7,28,8],[28,9,28,11],[28,12,28,13],[28,14,28,16],[31,0,31,3],[31,4,31,5],[31,6,31,8],[31,10,31,12],[31,13,31,14],[31,15,31,17],[29,25,29,26],[29,27,29,28],[29,29,29,30],[34,14,34,15],[35,0,35,16],[36,0,36,2],[36,9,36,16],[37,0,37,2],[37,3,37,5],[37,12,37,17],[32,0,32,3],[33,0,33,3],[34,0,34,3],[34,5,34,6],[34,8,34,9],[34,11,34,12],[44,14,44,16],[39,0,39,2],[39,3,39,5],[39,12,39,13],[39,25,39,26],[39,27,39,28],[39,29,39,32],[37,25,37,26],[37,27,37,28],[37,29,37,30],[37,31,37,32],[38,0,38,2],[38,3,38,5],[38,25,38,26],[38,27,38,28],[38,29,38,30],[38,31,38,32],[48,4,48,5],[48,8,48,9],[48,12,48,13],[48,15,48,16],[40,0,40,1],[40,25,40,26],[40,27,40,32],[41,25,41,32],[42,2,42,3],[42,4,42,5],[42,6,42,7],[42,8,42,9],[42,10,42,11],[42,12,42,13],[42,14,42,16],[42,25,42,26],[43,0,43,1],[43,4,43,5],[43,6,43,7],[43,8,43,9],[43,10,43,11],[43,12,43,13],[43,15,43,16],[43,25,43,26],[46,6,46,7],[44,25,44,26],[48,10,48,11],[44,27,44,28],[44,29,44,30],[44,31,44,32],[45,0,45,1],[45,4,45,5],[45,6,45,7],[45,8,45,9],[45,10,45,11],[44,0,44,2],[44,4,44,5],[44,6,44,7],[44,8,44,9],[44,10,44,11],[44,12,44,13],[45,12,45,13],[45,15,45,16],[46,10,46,11],[46,12,46,13],[46,14,46,16],[47,15,47,16],[48,0,48,2],[46,8,46,9],[48,6,48,7],[0,4,0,5],[21,21,23,21],[52,13,52,16],[50,0,50,3],[50,5,50,6],[51,0,51,3],[51,5,51,6],[51,7,51,8],[52,0,52,3],[52,4,52,6],[52,8,52,9],[49,0,49,3],[49,5,49,6],[49,12,49,13],[47,0,47,1],[47,4,47,5],[47,6,47,7],[47,8,47,9],[47,10,47,11],[47,12,47,13],[46,0,46,2],[46,4,46,5]]}
["File N°",{"$f":"C3&\"_\"&K10&\"_\"&H3","v":"760895_90B30_rev2"},null,null,"Filter N°",null,"01",null,null,null,null,null,null,null,null,null,null,null,null,{"$f":"IF(AND(Q8=\"BàV sorties droites (DN150)\",OR(I9=\"SERIE 1\",I9=\"SERIE 2\")),\"Warning!! IMPOSSIBLE CHOICE, no straight pipes available, correction needed\",IF(AND(A9=120,S7=\"oui\"),\"Talons de 120 mm et réhausses!! CHOIX IMPOSSIBLE, à corriger\",IF(AND(I9<>\"SERIE 1\",H11=\"PPH-typePilote\"),\"Warning!! PPH-typePilote vacuum box not available for this size!! Change choice line 11\",IF(AND(I9=\"SERIE 1\",H11=\"PPH-typePilote\"),\"Pilote filter for process studies is selected\",IF(I9=\"SERIE 1\",\"Warning!! The filter selected is Serial 1 for industrial application, not a pilote unit?? See line 11\",IF(AND(A9=70,S7=\"oui\"),\"Warning!! Filter will be equiped with raising edge in the feed zone!!\",IF(E29>18,\"VALEUR ANORMALE POUR LA BOITE à VIDE\",\"VOUS SELECTIONNEZ UN FILTRE STANDARD\")))))))","v":"Talons de 120 mm et réhausses!! CHOIX IMPOSSIBLE, à corriger"},null,null,null,"listMatiéres","Exclu","Boite à vide ","Roul Embarra","Aliment","GoulGatea","RoulSortie","DechaGat","GoulLavToi","RampLavag","RoulRetBande","RoulRetoutoil","SuppBAV","Bati","Boulons","Bande",null,"n/a","n/a",null,null,"Hotte"]
["Client",null,"PKT",null,"Revision offre",null,2,null,null,"Industry","Chemical",null,null,null,null,null,null,{"$f":"TODAY()","v":"2026-02-11"},null,null,null,null,null,"304L",1,"304L","304L","304L","304L","304L","304L","304L","304L","304L","304L","304L","E24","AISI 304","Naturel",1,20,"3/4\"",0,null,"Longueur",{"$f":"R55*0+7000","v":7000}]
["File-Project N°",null,760895,null,"Offer Number",null,{"$f":"K10&\"-\"&H3","v":"90B30-rev2"},{"$f":"\"rev\"&G2","v":"rev2"},null,"Product ref","Soda ash",null,null,null,null,null," Step frame N°/meter",null,null,null,null,null,null,"316L",2,"316L","316L","316L","316L","316L","316L","316L","316L","316L","316L","316L","304L","AISI 316","SBR",2,25,"1\"",1,null,"Largeur HT",{"$f":"R54","v":3850}]
["Ref. client",null,"Soda ash filter",null,null,null,null,null,"Fill above product name or  \"  your \"",null,null,null,null,null,null,null,{"$f":"VLOOKUP(B7,FabSpecification!$A$2:$H$810,8)","v":"5 x 4"},null,null,null,null,null,null,"U45N",3,"U45N","U45N","U45N","U45N","316L","316L","316L","316L","316L","316L","316L","316L",null,"EPDM",3,32,"1\"1/4",2,null,"Débit théorique",{"$f":"ROUNDUP((((AT2/1000)*(AT3/1000))*150),-2)","v":4100}]
[{"$f":"IF(A9=120,\"120 mm curb have to be motivated?? preferably choice 70 mm with PPH raising in the feed zone\",\"To produce a specification, fill the red values\")","v":"120 mm curb have to be motivated?? preferably choice 70 mm with PPH raising in the feed zone"},null,null,null,null,null,null,null,null,null,null,null,null,null,null,null,null,null,null,null,"HAUTEUR PULPE",null,null,"E24",4,"Titane",null,null,null,"316L","316L","316L","316L","316L","316L","316L","U45N",null,"Butyl",4,40,"1\"1/2",3,null,"Nbre connection",{"$f":"IF(AND(AT2>=1,AT2<=5000),1,IF(AND(AT2>=5000,AT2<=9999),2,IF(AND(AT2>=10000,AT2<=14999),3,IF(AND(AT2>=15000,AT2<=19999),4,IF(AND(AT2>=20000,AT2<=24999),5,6)))))","v":2}]
[{"$f":"T1","v":"Talons de 120 mm et réhausses!! CHOIX IMPOSSIBLE, à corriger"},null,null,null,null,null,null,null,null,null,null,null,null,null,null,null,null,null,null,null,null,null,null,"904L",5,"904L","904L","904L","904L","316L","316L","316L","316L","316L","316L","316L","AISI 317L",null,"Neoprene",5,50,"2\"",4,null,"Diamètre sélectionné",{"$f":"IF(AND(AV6>=0,AV6<=49),50,IF(AND(AV6>=50,AV6<=99),100,IF(AND(AV6>=100,AV6<=149),150,IF(AND(AV6>=150,AV6<=199),200,IF(AND(AV6>=200,AV6<=249),250,IF(AND(AV6>=250,AV6<=299),300,IF(AND(AV6>=300,AV6<=349),350,IF(AND(AV6>=350,AV6<=399),400,IF(AND(AV6>=400,AV6<=449),450,IF(AND(AV6>=450,AV6<=499),500,IF(AND(AV6>=500,AV6<=599),600,700)))))))))))","v":300},"Diamètre théorique",{"$f":"ROUNDUP(SQRT((AT4)/(AT5*AT7*3600)/3.14*4)*1000,-1)","v":270}]
["Selection du filtre","90 / 3000 / 120 / SERIE 4",null,null,null,null,null,null,null,null,"Prevoir des rehausses sur talons de 70 = 130",null,null,null,null,null,null,null,"oui",null,"Longeur zone formation",{"$f":"X24*R15/60","v":7.4292452830188678},"m","SANICRO ",6,"SANICRO ","SANICRO 28","SANICRO 28","SANICRO 28 ","316L","316L","316L","316L","316L","316L","316L","904L",null,"Nitrile",6,65,null,5,null,"Vitesse de l'air",10]
["TALONS",null,"SURFACE",null,"LARGEUR",null,"LONGEUR BàV",null,"BATI",null,"Ø TAMBOUR",null,null,null,null,null,"BàV sorties coudées",null,null,null,"Surface zone formation",{"$f":"V7*E9/1000","v":22.287735849056602},"m²","SVR",7,"SVR","Acier caoutchouté","POLYPROPYLENE","POLYPROPYLENE","Acier caoutchouté","POLYPROPYLENE","POLYPROPYLENE","316L","Acier caoutchouté","Acier caoutchouté","316L",null,null,null,7,80,"3\"1/2",6]
[{"$f":"VLOOKUP($B$7,FabSpecification!$A$2:$J$810,3,FALSE)","v":120},null,{"$f":"VLOOKUP(B7,FabSpecification!$A$2:$J$810,4,FALSE)","v":90},null,{"$f":"VLOOKUP($B$7,FabSpecification!$A$2:$J$810,6,FALSE)","v":3000},null,{"$f":"VLOOKUP($B$7,FabSpecification!$A$2:$J$810,5,FALSE)","v":30000},null,{"$f":"VLOOKUP($B$7,FabSpecification!$A$2:$J$810,2,FALSE)","v":"SERIE 4"},null,{"$f":"VLOOKUP($B$7,FabSpecification!$A$2:$J$810,7,FALSE)","v":1210},null,null,"Connection en",null,null,null,null,"metric",null,"temps formation",{"$f":"R15/3600","v":5.8333333333333336E-3},"h","POLYPROPYLENE",8,"PPH-typePilote","POLYPROPYLENEEE","CAOUT",null,0,0,0,null,null,null,null,null,null,null,null,100,"4\"",7]
["MATIERES >?? SELECTION",null,null,null,"MATIERES DU DEVIS",null,null,"CHOIX MATIERES",null,null,{"$f":"(C9)&\"B\"&(E9/100)","v":"90B30"},null,null,"m3/h",null,"dépression mbar ",null,"# DE GOULOTTES",null,null,"Volume pulpe ",{"$f":"N15*V9","v":2.3941028281164201},"m3","CAOUT",9,null,"choisir valeur","choisir valeur","choisir valeur","choisir valeur","choisir valeur","choisir valeur","choisir valeur","choisir valeur","choisir valeur","choisir valeur",null,null,null,null,125,null,8]
["BOITE A VIDE",null,null,null,{"$f":"$H$11","v":"U45N"},null,null,"U45N",null,null,"POMPE à VIDE",null,null,{"$f":"478*C9","v":43020},null,800,null,4,null,null,"Hauteur pulpe",{"$f":"V10/V8*1000","v":107.41794699696953},"mm","Basic ou option",null,null,"EN-S235JR",null,null,null,null,null,null,null,null,null,null,null,400,null,150,"6\"",9]
["ROULEAU D'ENTRE",null,null,null,{"$f":"IF(OR(AND(H11=\"SVR\",H12=\"Basic ou option\"),AND(H11=\"Titane\",H12=\"Basic ou option\")),\"CAOUT\",IF(H12=\"Basic ou option\",H11,H12))","v":"U45N"},null,null,"Basic ou option",null,null,"TYPE ALIMENTATEUR",null,null,"Type Bicar",null,null,"BOIT",null,null,null,null,null,null,"PPH-typePilote",9,null,null,"Basic ou option","Titane",7,"Basic ou option",null,null,null,null,null,null,null,500,null,200,"8\"",10]
["ALIMENTATEUR",null,null,null,{"$f":"IF(OR(AND(H11=\"SVR\",H13=\"Basic ou option\"),AND(H11=\"Titane\",H13=\"Basic ou option\")),\"POLYPROPYLENE\",IF(H13=\"Basic ou option\",H11,H13))","v":"U45N"},null,null,"Basic ou option",null,null,"TYPE DE GOULOTTE",null,null,null,null,null,"OVER",null,null,null,null,null,null,null,null,"304L",null,"304L","304L",1,"304L",null,null,null,null,null,null,null,600,null,250,"10\"",12]
["GOULOTTE",null,null,null,{"$f":"IF(OR(AND(H11=\"SVR\",H14=\"Basic ou option\"),AND(H11=\"Titane\",H14=\"Basic ou option\")),\"POLYPROPYLENE\",IF(H14=\"Basic ou option\",H11,H14))","v":"U45N"},null,null,"Basic ou option",null,null,null,null,null," m3/h",null,"sp.gr","t/h","cycle sec","%",null,"POMPES EXTRACTION","m3/h",null,null,null,"304L",null,"316L","316L",2,"316L","Si(Bouton 19 Copie 2!X=1;(Index($AA$2:$AA$10;$V$11));(Index(X2:X10;$V30-1)))",null,null,null,null,null,null,800,null,300,"12\"",14]
["ROULEAUX DE SORTIE",null,null,null,{"$f":"IF(OR(AND(H11=\"SVR\",H15=\"Basic ou option\"),AND(H11=\"Titane\",H15=\"Basic ou option\")),\"CAOUT\",IF(OR(AND(H11=\"U45N\",H15=\"Basic ou option\"),AND(H11=\"904L\",H15=\"Basic ou option\")),\"316L\",IF(H15=\"Basic ou option\",H11,H15)))","v":"316L"},null,null,"Basic ou option",null,null,"PULPE / CYCLE FORM",null,null,{"$f":"Flowsheet!D14","v":410.41762767710054},null,{"$f":"Flowsheet!D18","v":1.214},{"$f":"N15*P15","v":498.24700000000007},21,{"$f":"ROUNDDOWN(R15/$R$23*100,2)","v":19.809999999999999},{"$f":"IF(S15=0,0,1)","v":1},"POMPE 1",20,null,null,null,null,null,"U45N","U45N",3,"U45N",null,null,null,null,null,null,null,1000,null,350,"14\"",15]
["TREMIE DE DECHARGE",null,null,null,{"$f":"IF(OR(AND(H11=\"SVR\",H16=\"Basic ou option\"),AND(H11=\"Titane\",H16=\"Basic ou option\")),\"POLYPROPYLENE\",IF(OR(AND(H11=\"U45N\",H16=\"Basic ou option\"),AND(H11=\"904L\",H16=\"Basic ou option\")),\"316L\",IF(H16=\"Basic ou option\",H11,H16)))","v":"316L"},null,null,"Basic ou option",null,null,"SOLIDES",null,null,"Approximative",null,3.3,{"$f":"Flowsheet!U34","v":69.953878799999998},null,null,null,"POMPE 2",30,null,null,null,"N/A",null,"E24","E24",4,"E24",null,null,null,null,null,null,null,1200,null,400,"16\"",16]
["GOULOTTE LAVAGE TOILE",null,null,null,{"$f":"IF(OR(AND(H11=\"SVR\",H17=\"Basic ou option\"),AND(H11=\"Titane\",H17=\"Basic ou option\")),\"POLYPROPYLENE\",IF(OR(AND(H11=\"U45N\",H17=\"Basic ou option\"),AND(H11=\"904L\",H17=\"Basic ou option\")),\"316L\",IF(H17=\"Basic ou option\",H11,H17)))","v":"316L"},null,null,"Basic ou option",null,null,"FILTRATE",null,null,{"$f":"Flowsheet!H35","v":441.20157285714288},null,{"$f":"Flowsheet!H36","v":1},{"$f":"N17*P17","v":441.20157285714288},null,null,null,"POMPE 3",50,null,null,null,"FRP",null,"904L","904L",5,"904L",null,null,null,null,null,null,null,1400,null,450,"18\"",17]
["RAMPES LAVAGE TOILE",null,null,null,{"$f":"IF(OR(AND(H11=\"SVR\",H18=\"Basic ou option\"),AND(H11=\"Titane\",H18=\"Basic ou option\"),AND(H11=\"U45N\",H18=\"Basic ou option\"),AND(H11=\"904L\",H18=\"Basic ou option\")),\"316L\",IF(H18=\"Basic ou option\",H11,H18))","v":"316L"},null,null,"Basic ou option",null,null,"IF LAVAGEING & ML SEPARATED , CONSIDER INTERZONE",null,null,null,null,null,null,6,{"$f":"ROUNDDOWN(R18/$R$23*100,2)","v":5.66},null,"POMPE 4",400,null,null,null,"304L",null,"SANICRO 28","SANICRO 28 ",6,"SANICRO 28",null,null,null,null,null,null,null,1600,null,500,"20\"",18]
["ROULEAUX SOUTIEN BANDE",null,null,null,{"$f":"IF(OR(AND(H11=\"SVR\",H19=\"Basic ou option\"),AND(H11=\"Titane\",H19=\"Basic ou option\")),\"CAOUT\",IF(OR(AND(H11=\"U45N\",H19=\"Basic ou option\"),AND(H11=\"904L\",H19=\"Basic ou option\")),\"316L\",IF(H19=\"Basic ou option\",H11,H19)))","v":"316L"},null,null,"Basic ou option",null,null,"LAVAGE 1 / CYCLE",null,null,{"$f":"Flowsheet!U19+Flowsheet!U24","v":26.233000000000001},null,{"$f":"Flowsheet!U20","v":1},{"$f":"N19*P19","v":26.233000000000001},{"$f":"2*4","v":8},{"$f":"ROUNDDOWN((AB32+AC32)/$R$23*100,2)","v":7.54},{"$f":"IF(S19=0,0,1)","v":1},null,null,null,null,null,null,null,"SVR","SVR",7,"Titane",null,null,null,null,null,null,null,1800,null,600,"24\"",20]
["ROULEAUX RETOUR TOILE",null,null,null,{"$f":"IF(OR(AND(H11=\"SVR\",H20=\"Basic ou option\"),AND(H11=\"Titane\",H20=\"Basic ou option\")),\"CAOUT\",IF(OR(AND(H11=\"U45N\",H20=\"Basic ou option\"),AND(H11=\"904L\",H20=\"Basic ou option\")),\"316L\",IF(H20=\"Basic ou option\",H11,H20)))","v":"316L"},null,null,"Basic ou option",null,null,"LAVAGE 2 / CYCLE",null,null,{"$f":"Flowsheet!U13","v":36.226411257142857},null,{"$f":"Flowsheet!U14","v":1},{"$f":"N20*P20","v":36.226411257142857},4,{"$f":"ROUNDDOWN((AD32+AE32)/$R$23*100,2)","v":3.77},{"$f":"IF(S20=0,0,1)","v":1},"Palier Fonte",null,null,null,null,null,null,"POLYPROPYLENE","POLYPROPYLENE",8,null,null,null,null,null,null,null,null,2000,null,700,"27\"",22]
["SUPPORT BàV",null,null,null,{"$f":"IF(OR(AND(H11=\"SVR\",H21=\"Basic ou option\"),AND(H11=\"Titane\",H21=\"Basic ou option\"),AND(H11=\"U45N\",H21=\"Basic ou option\"),AND(H11=\"904L\",H21=\"Basic ou option\")),\"316L\",IF(H21=\"Basic ou option\",H11,H21))","v":"316L"},null,null,"Basic ou option",null,null,"LAVAGE 3 / CYCLE",null,null,{"$f":"Flowsheet!U7","v":36.226411257142857},null,{"$f":"Flowsheet!U8","v":1},{"$f":"N21*P21","v":36.226411257142857},4,{"$f":"ROUNDDOWN(R21/$R$23*100,2)","v":3.77},{"$f":"IF(S21=0,0,1)","v":1},null,null,null,null,null,null,null,"Acier caoutchouté","Acier caoutchouté",10,null,null,null,null,null,null,null,null,2200,null,800,"32\"",24]
["TABLE / ","/ BATI","304L",null,{"$f":"H22","v":"316L"},null,null,"316L",null,null,"ESSORAGE",null,null,null,null,null,null,63,{"$f":"ROUNDDOWN(R22/$R$23*100,2)","v":59.43},null,null,"Vitesse bande","Standard",{"$f":"((G9/1000)/(R23/60))","v":16.981132075471699},40,"Hz",null,"Titane","Basic ou option",11,null,null,null,null,null,null,null,null,2400]
["BANDE",null,null,null,{"$f":"H23","v":"SBR"},null,null,"SBR",null,null,"TOTAL CYCLE",null,null,"do not change  Thickness load",null,null,null,{"$f":"AH32","v":106},{"$f":"ROUNDDOWN(R23/$R$23*100,2)","v":100},null,null,null,"Maxi",{"$f":"X22*Y23/Y22","v":25.471698113207548},60,"Hz ",null,null,"PPH-typePilote",9,null,null,null,null,null,null,null,null,2600]
["EPAISSEUR BANDE   MM",null,null,null,{"$f":"H61","v":31},"BOULON, MATIERE",null,null,null,{"$f":"IF(OR(E22=\"E24\",E22=\"304L\"),\"304\",\"316\")","v":"316"},"Hauteur Gâteau",null,null,{"$f":"A9-10","v":110},null,"InterZone",null,0,null,{"$f":"SUM(T15:T21)","v":4},null,null,"Nominal",{"$f":"X22*Y24/Y22","v":21.226415094339622},50,"Hz ",null,null,null,4,null,null,null,null,null,null,null,null,2800]
["VITESSE DE LA BANDE m/min",null,null,null,"maxi",{"$f":"X23","v":25.471698113207548},"mini",{"$f":"F25/J25","v":4.2452830188679247},"Ratio",6,"PUISSANCE ABSORBEE",null,null,{"$f":"IF(R26=\"Kw\",H72 & \" kW\",J72 & \" HP\")","v":"71,02 kW"},null,null,"Inst.",{"$f":"IF(R26=\"kW\",H73 & \" kW\",J73 & \" HP\")","v":"90 kW"},null,null,null,null,null,null,null,null,null,null,null,null,null,null,null,null,null,null,null,null,3000]
["VITESSE DU TAMBOUR RPM",null,null,null,"maxi",{"$f":"F25/((H62/1000)*PI())","v":6.5333548165374458},"mini",{"$f":"F26/J25","v":1.0888924694229076},null,null,"COUPLE A L'ARBRE",null,null,{"$f":"H71*10","v":88238.119392556851},null,null,null,"kW"]
["ALIMENTATEUR/ VITESSE m/s",null,null,null,1.2,null,"NOMBRE DIA",null,{"$f":"IF(AND($Q$12=\"QDC\",$E$9>1500),2,IF(AND($Q$12=\"QDC\",$E$9<=1500),1,IF(AND($Q$12<>\"QDC\",$E$9>=2000),2,1)))","v":2},"DIAMETRE THEORITIQUE",null,null,{"$f":"SQRT((N15/I27*4)/(3600*PI()*E27))*1000","v":245.92981943978418},null,"DIAMETRE RETENUE",null,null,null,250,"debit Lavage",null,null,null,null,null,null,null,null,null,null,null,null,null,null,null,"Ø de boite à vide autorisé"]
["GOULOTTE LAVAGE / VITESSE m/s",null,null,null,1.8,null,"NOMBRE DIA",null,1,"DIAMETRE THEORITIQUE",null,null,{"$f":"SQRT((T28/I28*4)/(3600*PI()*E28))*1000","v":84.368477687032893},null,"DIAMETRE RETENUE",null,null,null,100,{"$f":"QUARTILE(N19:N21,4)","v":36.226411257142857},null,null,null,"coef fuite","En Essorage",null,null,null,null,null,null,null,null,null,null,"Choix","Serie 3, 4, 5","Serie 2 SS","Serie 1","Pilote","Serie 2 SVR"]
["PICAGES Bàv / VITESSE m/s",null,null,null,30,{"$f":"\"DN\"&H29","v":"DN150"},null,150,null,"REDUCTEUR",null,null,{"$f":"IF($N$26<610,\"USOCOME\",\"BREVINI\")","v":"BREVINI"},null,"Courroies BàV",null,null,{"$f":"R76&\" mm\"","v":"38 mm"},null,null,null,null,null,0.35,0.65,null,null,null,null,null,null,null,null,null,null,{"$f":"IF(AND($I$9=\"SERIE 1\",H$11<>$AC$23),AM29,IF(AND($I$9=\"SERIE 1\",H$11=$AC$23),AN29,IF(AND($I$9=\"SERIE 2\",OR(H$11<>$AC$19,H$11<>$AC$12)),AL29,IF(AND($I$9=\"SERIE 2\",OR(H$11=$AC$19,H$11=$AC$12)),AO29,AK29))))","v":50},50,50,65,20,50]
["TUYAU INTERNE /MATIERE",null,null,null,{"$f":"IF(OR(AND(H11=\"SVR\",F30=\"Basic ou option\"),AND(H11=\"Titane\",F30=\"Basic ou option\")),\"POLYPROPYLENE\",IF(F30=\"Basic ou option\",H11,F30))","v":"SVR"},"SVR",null,"DRIP PAN","N/A","CAILLEBOTIS","Courroies Table",null,{"$f":"R77","v":"50 mm x 5,8 mm"},null,"Tension de courroies",null,null,{"$f":"IF(G9>20001,\"OUI\",\"NON\")","v":"OUI"},null,null,null,null,null,"calcul collecteur",null,"collecteur1",null,"collecteur2",null,"collecteur3",null,"collecteur4",null,null,null,{"$f":"IF(AND($I$9=\"SERIE 1\",H$11=$AC$23),AM30,IF(AND($I$9=\"SERIE 1\",H$11<>$AC$23),AN30,IF(AND($I$9=\"SERIE 2\",OR(H$11=$AC$19,H$11=$AC$12)),AO30,IF(AND($I$9=\"SERIE 2\",OR(H$11<>AC$19,H$11<>AC$12)),AL30,AK30))))","v":65},65,65,null,null,75]
["COLLECTEUR / MATIERE",null,null,null,{"$f":"IF(OR(AND(H11=\"SVR\",F31=\"Basic ou option\"),AND(H11=\"Titane\",F31=\"Basic ou option\")),\"CAOUT\",IF(F31=\"Basic ou option\",H11,F31))","v":"SVR"},"SVR",null,"WALKWAYS","N/A","N/A","Vitesse (m/s) dans tuyau vide",null,null,null,28,"nbre ballons",null,null,3,null,null,null,null,null,null,"Form","interzone","Lavag1","interzone","Lavag","interzone","Lavag3","essorag","Cycle _ %",null,{"$f":"IF(AND($I$9=\"SERIE 1\",H$11=$AC$23),AM31,IF(AND($I$9=\"SERIE 1\",H$11<>$AC$23),AN31,IF(AND($I$9=\"SERIE 2\",OR(H$11=$AC$19,H$11=$AC$12)),AO31,IF(AND($I$9=\"SERIE 2\",OR(H$11<>AC$19,H$11<>AC$12)),AL31,AK31))))","v":80},80,80,null,null,90]
["NOURRICE Ø CHOIX",null,null,null,700,null,"DIAMETRE THEORITIQUE",null,null,{"$f":"Z46","v":654.55022319520265},"DIA VERS PàV",null,null,800,null,"DIAMETRE THEORIQUE",null,null,{"$f":"SQRT((N11/3600)*4/(PI()*O31))*1000","v":737.15700400702565},null,null,null,null,"time sec",null,{"$f":"R15","v":21},{"$f":"R18","v":6},{"$f":"$R$19","v":8},{"$f":"IF(AD32=0,0,R24)","v":0},{"$f":"R20","v":4},{"$f":"IF(AF32=0,0,R24)","v":0},{"$f":"R21","v":4},{"$f":"R22","v":63},{"$f":"SUM(Z32:AG32)","v":106},"TOTAL",{"$f":"IF(AND($I$9=\"SERIE 1\",H$11=$AC$23),AM32,IF(AND($I$9=\"SERIE 1\",H$11<>$AC$23),AN32,IF(AND($I$9=\"SERIE 2\",OR(H$11=$AC$19,H$11=$AC$12)),AO32,IF(AND($I$9=\"SERIE 2\",OR(H$11<>AC$19,H$11<>AC$12)),AL32,AK32))))","v":100},100,100]
["# Piquage / zone theo",null,null,null,null," zone 1",null,{"$f":"Z45","v":6}," zone 2",null,{"$f":"AB45","v":1}," zone 3",null,{"$f":"AD45","v":1}," zone 4",null,{"$f":"AF45","v":19},"Preconisé",null,null,"Longueur totale tronçons",null,null,"% surf. zone filtrante",null,{"$f":"Z$32/$AH$32*100","v":19.811320754716981},{"$f":"AA$32/$AH$32*100","v":5.6603773584905666},7.5471698113207548,0,3.7735849056603774,0,3.7735849056603774,59.433962264150942,{"$f":"SUM(Z33:AG33)","v":100},{"$f":"\"à \"&X29","v":"à 0,35"},{"$f":"IF(AND($I$9=\"SERIE 1\",H$11=$AC$23),AM33,IF(AND($I$9=\"SERIE 1\",H$11<>$AC$23),AN33,IF(AND($I$9=\"SERIE 2\",OR(H$11=$AC$19,H$11=$AC$12)),AO33,IF(AND($I$9=\"SERIE 2\",OR(H$11<>AC$19,H$11<>AC$12)),AL33,AK33))))","v":125},125,125,null,null,null,null,"on all sides of the filter + 2 stairs",null,null,null,null,"en entier du filtre + 2 Escaliers"]
["Long. manifold(s) /Section(s) mm",null,null,null,null,"{",null,{"$f":"IF(S31=1,\" \",IF(S31=3,$Z$49,$Z$50))","v":9905.66},{"$f":"IF(S31=1,\"\",IF(S31=3,AA49,\"}{\"))","v":" "},{"$f":"IF(S31=4,AB48,IF(S31=3,AB49,\" \"))","v":" "},{"$f":"IF(S31=1,$AC$51,\"\")","v":""},{"$f":"IF(S31=4,\"}{\",IF(S31=3,\"}{\",\" \"))","v":"}{"},{"$f":"IF(S31=4,$AD$48,IF(S31=3,AD49,IF(S31=2,$AD$50,\" \")))","v":1132.07},{"$f":"IF(S31=3,$AE$49,\" \")","v":"}{"},{"$f":"IF(S31=4,\"}{\",\" \")","v":" "},{"$f":"IF(S31=4,AF48,IF(S31=3,AF49,\" \"))","v":18962},"}",{"$f":"ROUNDUP((H33+K33+N33+Q33),0)","v":27},null,null,{"$f":"SUM(F34:Q34)/1000","v":29.99973},null,null,"debit d'air par zone",null,{"$f":"($N$11*$X$29*((Z33)/100))","v":2982.9905660377353},852.28301886792451,1136.3773584905659,0,568.18867924528297,0,568.18867924528297,8948.971698113206,{"$f":"SUM(Z34:AG34)","v":15056.999999999998},null,{"$f":"IF(AND($I$9=\"SERIE 1\",H$11=$AC$23),AM34,IF(AND($I$9=\"SERIE 1\",H$11<>$AC$23),AN34,IF(AND($I$9=\"SERIE 2\",OR(H$11=$AC$19,H$11=$AC$12)),AO34,IF(AND($I$9=\"SERIE 2\",OR(H$11<>AC$19,H$11<>AC$12)),AL34,AK34))))","v":150},150,null,null,null,null,null,"L shape, on one side of the filter + 2 stairs",null,null,null,null,"forme en L, sur un côté du filtre + 2 Escaliers"]
["Choix Longueur  / # Piquage",null,null,null,null,"Nbre choisi",null,{"$f":"H33","v":6},"Nbre choisi",null,{"$f":"K33","v":1},"Nbre choisi",null,{"$f":"N33","v":1},"Nbre choisi",null,{"$f":"Q33+1","v":20},"Total choisi",null,null,null,null,null,"% surf. essorage",null,null,{"$f":"AA33/$AH$35*100","v":8.695652173913043},null,{"$f":"AC33/$AH$35*100","v":0},null,{"$f":"AE33/$AH$35*100","v":0},null,{"$f":"AG33/$AH$35*100","v":91.304347826086953},{"$f":"AA33+AC33+AE33+AG33","v":65.094339622641513},{"$f":"\"à \"&Y29","v":"à 0,65"},null,null,null,null,null,null,null,"on one side of the filter + 2 stairs",null,null,null,null,"sur un côté du filtre + 2 escaliers"]
["!!! value for information, The number of connection & length of section have to be adjusted accordingdly !!!",null,null,null,null,null,null,null,null,null,null,null,null,null,null,null,null,{"$f":"H35+K35+N35+Q35","v":28},null,null,{"$f":"U34/12","v":2.4999775},null,null,"debit essorage",null,null,{"$f":"(($N$11*$Y$29)*AA35)/100","v":2431.5652173913045},null,{"$f":"(($N$11*$Y$29)*AC35)/100","v":0},null,{"$f":"(($N$11*$Y$29)*AE35)/100","v":0},null,{"$f":"(($N$11*$Y$29)*AG35)/100","v":25531.434782608696},{"$f":"AA36+AC36+AE36+AG36","v":27963}]
["EXPRIMER DEBIT EN",null,null,"m3/h",{"$f":"IF(D37=\"m3/h\",1,IF(D37=\"gpm\",4.4028,0.58858))","v":1},null,null,null,null,{"$f":"IF(AND(G9>20000.1, F25*G9<402000),\"Belt LAVAGE recommended\",IF(F25*G9>402000,\"Belt lubrication recommended\",\"lub or LAVAGE as per process conditions\"))","v":"Belt lubrication recommended"},null,null,null,null,null,null,null,{"$f":"IF(D37=\"m3/h\",1,IF(D37=\"gpm\",0.0044028,0.58858))","v":1},"Montage",null,null,null,null,"debit liquide x 10",null,{"$f":"$N17*10","v":4412.0157285714286},null,{"$f":"N19*10","v":262.33},null,{"$f":"N20*10","v":362.26411257142854},null,{"$f":"N21*10","v":362.26411257142854},null,{"$f":"Z37+AB37+AD37+AF37","v":5398.8739537142865},null,null,"N/A"]
["2 opérations côté gâteau",null,null,"CM 04 F - dia 1,3",null,null,{"$f":"IF(A38=\"2 in operation cake side\",ROUND((L38*2*60*H75/1000*E37),2),ROUND((L38*1*60*H75/1000*E37),2))*2*0+4.08","v":4.08},{"$f":"$D$37","v":"m3/h"},null,3,{"$f":"J38 & \" bar\"","v":"3 bar"},{"$f":"IF(K38=\"3 bar\",VLOOKUP(D38,'Données (2)'!E2:I5,3,TRUE),VLOOKUP(D38,'Données (2)'!E1:I5,4,TRUE))","v":1.6},"Courroies table",null,null,null,null,null,"PRE","PRE= erected on site",null,null,null,"debit / zone",null,{"$f":"Z34+AA34+AA36+Z37","v":10678.854530868393},null,{"$f":"AB34+AC34+AC36+AB37","v":1398.7073584905659},null,{"$f":"AD34+AE34+AE36+AD37","v":930.45279181671151},null,{"$f":"AF34+AG34+AG36+AF37","v":35410.859272538612},null,{"$f":"AH34+AH36+AH37","v":48418.873953714283},{"$f":"Z38+AB38+AD38+AF38","v":48418.873953714283},null,"PPH"]
[" 1 Côté opposé",null,null,"CM 03 F - dia 1,1",null,null,{"$f":"ROUND(L39*1*60*H75/1000*E37,2)","v":2.38},{"$f":"$D$37","v":"m3/h"},null,3,{"$f":"J39 & \" bar\"","v":"3 bar"},{"$f":"IF(K39=\"3 bar\",VLOOKUP(D39,'Données (2)'!E2:I5,3,TRUE),VLOOKUP(D39,'Données (2)'!E2:I6,5,TRUE))","v":1.2},"Lavage",null,null,"Non",{"$f":"IF(P39=\"Oui\",ROUND(RIGHT($R$68,1)*2*13.8*R37,3),\"Non!\")","v":"Non!"},{"$f":"IF(D37=\"m3/h\",\"l/h\",D37)","v":"l/h"},null,"MONT= erected in factory before delivery",null,null,null,"Dia collect",4,{"$f":"SQRT((Z38*4/($E$29*3600))/PI())*1000","v":354.81789644903427},null,{"$f":"SQRT((AB38*4/($E$29*3600))/(3.1416))*1000","v":128.41214592437814},null,{"$f":"SQRT((AD38*4/($E$29*3600))/(3.1416))*1000","v":104.73451970550639},null,{"$f":"SQRT((AF38*4/($E$29*3600))/(3.1416))*1000","v":646.11661104397126},null,{"$f":"QUARTILE(Z39:AF39,4)","v":646.11661104397126},null,null,"316L",null,null,"Palier Fonte"]
["bande, 2 rampes",null,null,"CM 03 F - dia 1,1",null,null,{"$f":"ROUND(2*L40*1*60*H76/1000*E37,2)","v":4.46},{"$f":"$D$37","v":"m3/h"},null,3,{"$f":"J40 & \" bar\"","v":"3 bar"},{"$f":"IF(K40=\"3 bar\",VLOOKUP(D40,'Données (2)'!E2:I5,3,TRUE),VLOOKUP(D40,'Données (2)'!E2:I5,5,TRUE))","v":1.2},"Lubrification",null,null,"Oui",{"$f":"IF(P40=\"Oui\",ROUND(($G$9/10000)*12*(RIGHT($R$68,1)*2)*R37,3),\"Non!\")","v":360},{"$f":"IF(D37=\"m3/h\",\"l/h\",D37)","v":"l/h"},null,null,null,null,null,"Dia collect",3,{"$f":"IF(T24=S31+1,SQRT(((Z38+AB38)*4/($E$29*3600))/(3.1416))*1000,SQRT(((Z38)*4/($E$29*3600))/(3.1416))*1000)","v":377.33953472053031},null,{"$f":"IF(T24=S31+1,\" \",SQRT(((AB38)*4/($E$29*3600))/(3.1416))*1000)","v":" "},null,{"$f":"SQRT(((AD38+AF38)*4/($E$29*3600))/(3.1416))*1000","v":654.55022319520265},null,null,null,{"$f":"QUARTILE(Z40:AF40,4)","v":654.55022319520265},null,null,null,null,null,"Palier Inox"]
["lubrification courroies BàV",null,{"$f":"IF(D37=\"m3/h\",(ROUND(($G$9/10000)*50,3)),(ROUND(($G$9/10000)*50*E37/1000,3)))","v":150},{"$f":"IF(D37=\"m3/h\",\"l/h\",D37)","v":"l/h"},{"$f":"IF(D37=\"m3/h\",(ROUND(($G$9/10000)*200,3)),(ROUND(($G$9/10000)*200*E37/1000,3)))","v":600},{"$f":"IF(D37=\"m3/h\",\"l/h\",D37)","v":"l/h"},{"$f":"G38+G39+G40","v":10.92},{"$f":"$D$37","v":"m3/h"},null,null,null,null,null,null,null,null,null,null,null,null,null,null,null,"Dia collect",2,{"$f":"SQRT(((Z38)*4/($E$29*3600))/(3.1416))*1000","v":354.81748159046862},null,{"$f":"SQRT(((AB38+AD38+AF38)*4/($E$29*3600))/(3.1416))*1000","v":667.02749111696539},null,null,null,null,null,{"$f":"QUARTILE(Z41:AF41,4)","v":667.02749111696539},null,null,null,null,null,"Palier PP"]
["Cotation","Metric",null,null,null,null,null,null,"Calcul Dia.",null,"Débit",null,21,"Vitesse",null,1.8,"=",{"$f":"ROUND(SQRT(M42*4/(3600*P42*PI()))*1000,0)","v":64},null,null,null,null,null,"Dia collect",1,{"$f":"SQRT(((Z38+AB38+AD38+AF38)*4/($E$29*3600))/(PI()))*1000","v":755.52793063928334},null,null,null,null,null,null,null,{"$f":"QUARTILE(Z42:AF42,4)","v":755.52793063928334},null,null,"N/A"]
[null,null,"matiere",null,"Dia mm",null,"Dia-A mm",null,"Dia-B mm",null,"Dia-C mm",null,"Dia-D mm",null,"Detec. Niveau / Nbre",null,null,"Pieds support",null,null,null,null,null,"Dia collect",5,null,null,null,null,null,null,null,null,null,null,null,{"$f":"IF('Offre NEW'!C3=\"GB\",\"on all sides of the filter + 2 stairs\",\"en entier du filtre + 2 escaliers\")","v":"on all sides of the filter + 2 stairs"}]
["Ballons",null,"316L","Barometrique",3400,null,700,null,800,null,500,null,"n/a",null,"Oui",1,null,"Non",null,{"$f":"IF(O44=\"Yes\",\"DN 50 (2'')\"&\" Nbre: \"& P44,\"Excluded\")","v":"Excluded"},null,{"$f":"IF(R44=\"Yes\",\"Included\",\"Excluded\")","v":"Excluded"},null,"Dia collect",6,null,null,null,null,null,null,null,null,null,null,null,{"$f":"IF('Offre NEW'!C3=\"GB\",\"L shape, on one side of the filter + 2 stairs\",\"forme en L, sur un côté du filtre + 2 escaliers\")","v":"L shape, on one side of the filter + 2 stairs"}]
["Ø calculée - vitesse m/s",null,null,1.2,{"$f":"ROUND(Z46*SQRT(E29/D45),0)","v":3273},null,{"$f":"E32","v":700},null,{"$f":"N32","v":800},null,{"$f":"ROUND(SQRT(N17*4/(3600*0.6*PI()))*1000,0)","v":510},null,null,null,null,null,null,null,null,null,null,null,null,"Nomb piquage",null,{"$f":"ROUNDUP((Z39/$H$29)^2,0)","v":6},null,{"$f":"ROUNDUP((AB39/$H$29)^2,0)","v":1},null,{"$f":"ROUNDUP((AD39/$H$29)^2,0)","v":1},null,{"$f":"ROUNDUP((AF39/$H$29)^2,0)","v":19},null,null,null,null,{"$f":"IF('Offre NEW'!C3=\"GB\",\"on one side of the filter + 2 stairs\",\"sur un côté du filtre + 2 escaliers\")","v":"on one side of the filter + 2 stairs"}]
["Cyclone (Moisture trap)",null,"316L",null,3000,null,800,null,800,null,40,null,"n/a",null,"Non",0,null,"Non",null,{"$f":"IF(O46=\"Yes\",\"DN 50 (2'')\"&\" Nbre: \"& P46,\"Excluded\")","v":"Excluded"},null,{"$f":"IF(R46=\"Yes\",\"Included\",\"Excluded\")","v":"Excluded"},null,"Choix du diaTheorique",null,{"$f":"IF(S31=1,AH42,IF(S31=2,AH41,IF(S31=3,AH40,IF(S31=4,AH39,\"FALSE\"))))","v":654.55022319520265},{"$f":"VLOOKUP(ROUNDUP(Z46,0),AO3:AQ19,3,TRUE)","v":20},{"$f":"SQRT((N11*4/($O$31*3600))/(3.1416))*1000","v":737.15614211166917},{"$f":"VLOOKUP(ROUNDUP(AB46,0),AO3:AQ19,3,TRUE)","v":20}]
["Ø calculée - vitesse m/s",null,null,1.8,{"$f":"ROUND(S32*SQRT(O31/D47),0)","v":2907},null,{"$f":"N32","v":800},null,{"$f":"N32","v":800},null,"TBD",null,null,null,null,null,null,null,null,null,null,null,null,"Diametre approchant",null,{"$f":"VLOOKUP(ROUNDUP(Z46,0),AO2:AO21,1,TRUE)","v":600},{"$f":"IF(Z47>(Z46*0.95),AA46,AA46+1)","v":21},{"$f":"VLOOKUP(CEILING(AB46,2),AO2:AO21,1,TRUE)","v":700},{"$f":"IF(AB47>(AB46*0.95),AC46,AC46+1)","v":21}]
["Laveur (Scrubber)",null,"316L","Barometrique",3000,null,800,null,800,null,250,null,150,null,"Non",0,null,"Non",null,{"$f":"IF(O48=\"Yes\",\"DN 50 (2'')\"&\" Nbre: \"& P48,\"Excluded\")","v":"Excluded"},null,{"$f":"IF(R48=\"Yes\",\"Included\",\"Excluded\")","v":"Excluded"},null,"Longueur section",null,{"$f":"ROUNDDOWN($G$9*(($Z$33+$AA$33)/100),0)","v":7641},"}{",{"$f":"ROUNDDOWN($G$9*((AB$33+$AC$33)/100),0)","v":2264},"}{",{"$f":"ROUNDDOWN($G$9*((AD$33+AE$33)/100),0)","v":1132},"}{",{"$f":"ROUNDDOWN($G$9*((AF$33+AG$33)/100),0)","v":18962},null,{"$f":"SUM(Z48:AG48)","v":29999}]
["Ø calculée - vitesse m/s",null,null,1.8,{"$f":"ROUND(S32*SQRT(O31/D49),0)","v":2907},null,{"$f":"G47","v":800},null,{"$f":"I47","v":800},null,{"$f":"ROUND(SQRT(P51*4/(3600*0.6*PI()))*1000,0)","v":248},null,{"$f":"SQRT((P51*4)/(3600*PI()*E28))*1000","v":142.98541029916603},null,null,"Gaz temperature",null,65,0,null,null,null,null,null,null,{"$f":"IF(T24=S31+1,ROUNDDOWN($G$9*(($Z$33+$AA$33+AB33+AC33)/100),2),ROUNDDOWN($G$9*((Z33+AA33)/100),0))","v":9905.66},{"$f":"IF(T24=S31+1,\" \",\"}{\")","v":" "},{"$f":"IF(T24=S31+1,\" \",ROUNDDOWN($G$9*(($AB$33+$AC$33)/100),0))","v":" "},{"$f":"IF($T$24=$S$31+1,\"}{\",\" \")","v":"}{"},{"$f":"IF(T24=S31+1,ROUNDDOWN($G$9*(($AD$33+$AE$33)/100),2),\" \")","v":1132.07},{"$f":"IF($T$24=$S$31+1,\"}{\",\" \")","v":"}{"},{"$f":"IF(T24=S31+1,ROUNDDOWN($G$9*((AF33+AG33)/100),0),ROUNDDOWN($G$9*((AD33+AE33+AF33+AG33)/100),0))","v":18962},null,{"$f":"SUM(Z49:AG49)","v":29999.73},null,null,null,"(0,85m width - L shape, on one side of filter + 2 stairs)"]
["Tension initiale T0",null,null,null,"kg",{"$f":"((2.15+1)/(2.15-1))*$H$70*1.25","v":39706.185179347827},null,{"$f":"F50/2","v":19853.092589673914},"/brin",{"$f":"F50*1.05","v":41691.494438315218},"maxi",null,"A la Rupture",null,{"$f":"200*R62*(F58+210)/10000","v":256.8},"Scrubbing flow",null,"Safety factor",{"$f":"O50/(J51/1000)","v":9.0244272970782102},null,null,null,null,null,null,{"$f":"ROUNDDOWN($G$9*(($Z$33+$AA$33)/100),0)","v":7641},"}{",null,null,{"$f":"ROUNDDOWN($G$9*((AB33+AC33+AD33+AE33+AF33+AG33)/100),0)","v":22358},null,null,null,{"$f":"SUM(Z50:AG50)","v":29999}]
["Tension initiale T1",null,null,null,"kg",{"$f":"$H$70*1.25*(1+(1/(2.15-1)))","v":27101.047027173918},null,"couple + 5%",null,{"$f":"F51*1.05","v":28456.099378532614},"maxi","kW à arbre moteur",null,null,null,{"$f":"'Dimens. scrubber'!B16","v":104.0514984995411},{"$f":"'Dimens. scrubber'!C16","v":"m3/h"},null,null,null,null,null,null,null,null,null,null,null,{"$f":"ROUNDDOWN($G$9,0)","v":30000},null,null,null,null,{"$f":"SUM(Z51:AG51)","v":30000}]
["Tension initiale T2",null,null,null,"kg",{"$f":"$H$70*1.25*(1/(2.15-1))","v":12605.138152173915},null,null,null,{"$f":"F52*(H73/H72)","v":15973.84446206213},"maxi",{"$f":"((N26*F26)/716)*0.736/10","v":59.259404128348841},null,null,"Cloth L x l (approx.)",null,null,{"$f":"((($G$9/1000)*2)+15)","v":75},{"$f":"(($E$9/1000)+0.24)","v":3.24}]
["BELT SUPPORT FRAME",null,null,null,{"$f":"IF(I53=\"basic ou option\",C22,I53)","v":"316L"},null,null,null,"316L",null,null,null,null,"surface",null,null,null,{"$f":"C9","v":90},null,{"$f":"ROUND(R53*10.764,2)","v":968.76},null,{"$f":"IF(B42=\"Metric\",R53&\" m2\",T53&\" sq.ft\" &\" (\"&R53&\" m2)\" )","v":"90 m2"},null,{"$f":"IF(OR(E9=3000,E9=4200),I9&\".\"&LEFT(E9,1),I9)","v":"SERIE 4.3"},null,{"$f":"Z37/10","v":441.20157285714288},null,{"$f":"AB37/10","v":26.232999999999997},null,{"$f":"AD37/10","v":36.226411257142857},null,{"$f":"AF37/10","v":36.226411257142857},null,"Débit 1"]
["CALCUL GROUPE",null,null,null,null,null,null,null,null,null,null,"ListPuiss",null,"Largeur HT",null,null,null,{"$f":"E9+X54","v":3850},null,{"$f":"ROUND(R54*3.2808/1000,3)","v":12.631},null,{"$f":"IF(B42=\"Metric\",R54&\" mm\",T54&\" ft\" &\" (\"&R54&\" mm)\"  )","v":"3850 mm"},null,{"$f":"HLOOKUP(X53,FabSpecification!M26:AE29,2,FALSE)","v":850},null,{"$f":"IF(T24=S31+1,(Z37+AB37)/10,Z37/10)","v":467.43457285714283},null,{"$f":"IF(T24=S31+1,\" \",AB37/10)","v":" "},null,{"$f":"IF(T24=S31+1,AD37/10,\" \")","v":36.226411257142857},null,{"$f":"IF(T24=S31+1,AF37/10,(AD37+AF37)/10)","v":36.226411257142857},null,"Débit 2"]
["GATEAU = Ht TALONS /  Densite",null,null,null,null,null,null,{"$f":"A9","v":120},null,{"$f":"(P15+P16)/2","v":2.2569999999999997},null,0.37,null,"Long HT",null,null,null,{"$f":"X55+G9","v":35970},null,{"$f":"ROUND(R55*3.2808/1000,3)","v":118.01},null,{"$f":"IF(B42=\"Metric\",R55&\" mm\",T55&\" ft\" &\" (\"&R55&\" mm)\"  )","v":"35970 mm"},0.5,{"$f":"HLOOKUP(X53,FabSpecification!M26:AE29,3,FALSE)","v":5970},null,{"$f":"Z37/10","v":441.20157285714288},null,null,null,{"$f":"(AB37+AD37+AF37)/10","v":98.685822514285704},null,null,null,"Débit 3"]
["VIDE bar",null,null,null,null,null,null,0.8,null,"BAR",null,0.5,{"$f":"IF($H$72*1.15>L56,M57,L56)","v":90},"Haut HT",null,null,null,{"$f":"X56","v":2710},null,{"$f":"ROUND(R56*3.2808/1000,3)","v":8.891},null,{"$f":"IF(B42=\"Metric\",R56&\" mm\",T56&\" ft\"  &\" (\"&R56&\" mm)\" )","v":"2710 mm"},0.75,{"$f":"HLOOKUP(X53,FabSpecification!M26:AE29,4,FALSE)","v":2710},null,null,null,null,{"$f":"(Z37+AB37+AD37+AF37)/10","v":539.88739537142862},null,null,null,null,"Débit 4"]
["CEF FROTTEMENT",null,null,null,null,null,null,0.3,null,null,null,0.75,{"$f":"IF($H$72*1.15>L57,M58,L57)","v":90},"Poids ",null,null,null,{"$f":"B7","v":"90 / 3000 / 120 / SERIE 4"},null,null,null,null,1]
["LARGEUR BANDE (L+0,1)",null,null,null,null,{"$f":"E9","v":3000},null,{"$f":"E9/1000+0.1","v":3.1},null,"M",null,1.1000000000000001,90,"Lav toil",null,null,null,null,null,{"$f":"ROUND(F58*3.2808/1000,3)","v":9.8420000000000005},null,{"$f":"IF(B42=\"Metric\",F58&\" mm\",T58&\" ft\"  &\" (\"&F58&\" mm)\" )","v":"3000 mm"},1.5]
["ESPACE COURROIES",null,null,null,null,null,null,4.8,null,"CM",null,1.5,90,"Lav band",null,null,null,null,null,null,null,null,2]
["LONG SOUS VIDE",null,null,null,null,{"$f":"G9","v":30000},null,{"$f":"G9/10","v":3000},null,"CM",null,2.2000000000000002,90,"Epai ban sup",null,null,null,{"$f":"HLOOKUP(E9,FabSpecification!M5:AF8,2,TRUE)","v":18},null,{"$f":"ROUND(F60*3.2808/1000,3)","v":98.424000000000007},null,{"$f":"IF(B42=\"Metric\",F60&\" mm\",T60&\" ft\"  &\" (\"&F60&\" mm)\" )","v":"30000 mm"},3]
["EPAISSEUR BANDE   MM",null,null,null,null,null,null,{"$f":"HLOOKUP(E9,FabSpecification!M5:AF8,4,TRUE)","v":31},null,"MM",null,3,90,"Epai ban inf",null,null,null,{"$f":"HLOOKUP(E9,FabSpecification!M5:AF8,3,TRUE)","v":7},null,null,null,null,5]
["DIA ENROUL TAMBOUR  MM",null,null,null,null,{"$f":"K9","v":1210},null,{"$f":"K9+(H61)","v":1241},null,"MM",null,4,90,"Nbre pli",null,null,null,{"$f":"HLOOKUP(E9,FabSpecification!M5:AF9,5,TRUE)","v":4},null,{"$f":"ROUND(F62*3.2808/1000,3)","v":3.97},null,{"$f":"IF(B42=\"Metric\",F62&\" mm\",T62&\" ft\"  &\" (\"&F62&\" mm)\" )","v":"1210 mm"},5,"LongBandeSupTT"]
["V MAX BANDE",null,null,null,null,null,null,{"$f":"F25","v":25.471698113207548},null,"M/MM",null,5.5,90,"pds ban / Longueur",null,null,null,{"$f":"ROUND((T63*(E9+210))*H61/1000000,0)","v":6826},null,{"$f":"X63+(G9*2)","v":68600},null,null,7.5,{"$f":"HLOOKUP(F62,FabSpecification!M32:U34,2,TRUE)","v":8600}]
["V MINI BANDE",null,null,null,null,null,null,{"$f":"H25","v":4.2452830188679247},null,"M/MM",null,7.5,90,"pas rain",null,null,null,{"$f":"HLOOKUP(E9,FabSpecification!M5:AF12,6,TRUE)","v":22},null,null,null,null,10]
["V ROT TAMB",null,null,null,null,null,null,{"$f":"F26","v":6.5333548165374458},null,"T/MN",null,11,90,"larg rain",null,null,null,{"$f":"HLOOKUP(E9,FabSpecification!M5:AF12,7,TRUE)","v":11},null,null,null,null,15]
["V ROT TAMB MINI",null,null,null,null,null,null,{"$f":"H26","v":1.0888924694229076},null,"T/MN",null,15,90,"prof rain",null,null,null,{"$f":"HLOOKUP(E9,FabSpecification!M5:AF12,8,TRUE)","v":"5 - 14"},null,null,null,null,20]
["SURF /S VIDE",null,null,null,null,null,null,{"$f":"H59*H60","v":14400},null,"CM2",null,18.5,90,"trou",null,null,null,{"$f":"HLOOKUP(E9,FabSpecification!M5:AF13,9,TRUE)","v":"10 x 30"},null,null,null,null,25]
["EFFORT BANDE + GATEAU",null,null,null,null,null,null,{"$f":"(H58*((H60/100)+1))*((H61*1.1)+(N24*J55))*H57","v":8140.7270999999992},null,"DaN",null,22,90,"sup band",null,null,null,{"$f":"HLOOKUP(E9,FabSpecification!M5:AF24,11,TRUE)","v":"2 x 5"},null,null,null,"LargeurBande",30]
["EFFORT DU AU VIDE",null,null,null,null,null,null,{"$f":"H67*P11/1000*0.3","v":3456},null,"DaN",null,30,90,"Ø roul emb / sup band",null,null,null,{"$f":"IF(OR(A9=70,A9=50),HLOOKUP(V69,FabSpecification!M5:AF25,12,TRUE),HLOOKUP(V69,FabSpecification!M5:AF24,13,TRUE))","v":355},null,{"$f":"IF(OR(A9=70,A9=50),HLOOKUP(V69,FabSpecification!M5:AF25,14,TRUE),HLOOKUP(V69,FabSpecification!M5:AF24,15,TRUE))","v":355},null,{"$f":"IF(AND(E9=1250,I9=\"SERIE 3\"),E9+1,IF(AND(E9=1500,I9=\"SERIE 3\"),E9+1,E9))","v":3000},40]
["EFFORT TANGENTIEL",null,null,null,null,null,null,{"$f":"(H68+H69)","v":11596.7271},null,"DaN",null,37,90,"Ø roul sortie gat",null,null,null,{"$f":"HLOOKUP(E9,FabSpecification!M5:AF20,16,TRUE)","v":168.3},null,null,null,null,50]
["COUPLE AVEC 1,25 COEF",null,null,null,null,null,null,{"$f":"(H70*(H62/2)*1.25/1000)*0.981","v":8823.8119392556855},null,"MDaN",null,45,90,"Ø roul Guidage / support ",null,null,null,{"$f":"HLOOKUP(E9,FabSpecification!M22:AF23,2,TRUE)","v":168.3},null,{"$f":"HLOOKUP(V69,FabSpecification!M22:AF23,2,TRUE)","v":168.3},null,null,60]
["PUISSANCE MECA Re 0,85",null,null,null,null,null,null,{"$f":"ROUND((H71*H65*PI())/(30*0.85*100),2)","v":71.02},null,{"$f":"ROUND(H72/0.736,2)","v":96.49},null,55,90,"Ø roul dèbat",null,null,null,{"$f":"HLOOKUP(E9,FabSpecification!M5:AF21,17,TRUE)","v":168.3},null,"Matière",null,{"$f":"IF(E9<2000,E15,\"CS hard rubber lined\")","v":"CS hard rubber lined"},75]
["PUISSANCE MOTEUR",null,null,null,null,null,null,{"$f":"IF(H72*1.15>L55,M56,L55)","v":90},null,{"$f":"VLOOKUP(H73,L55:W79,12)","v":0},null,75,90,"Nbre roul guid bande",null,null,null,{"$f":"ROUNDUP(R75/2,0)+1","v":6},null,null,null,null,100]
[null,null,null,null,null,null,null,null,null,null,null,90,90,"TRéMIE",null,null,null,{"$f":"VLOOKUP($B$7,FabSpecification!$A$2:$J$810,8,FALSE)","v":"4 x 4 & 4 x 3,5"}]
["Nombre sprayeur par rampe toile",null,null,null,null,null,null,{"$f":"INT((E9+200)/100)+1","v":33},null,null,null,110,110,"NbrePoteauRoul bande",null,null,null,{"$f":"V75+1","v":9},null,"NbrePasBati",null,{"$f":"VLOOKUP($B$7,FabSpecification!$A$2:$J$810,10,FALSE)","v":8},150]
["Nombre sprayeur par rampe bande",null,null,null,null,null,null,{"$f":"INT((E9)/100)+1","v":31},null,null,null,132,132,"Largeur courroies BaV",null,null,null,{"$f":"IF(H60>3401,T76,IF(I9=\"SERIE 1\",V76,U76))","v":38},null,48,38,28,200]
["Nbre piquage bavide pilote",null,null,null,null,null,null,{"$f":"IF(I9<>\"SERIE 1\",R36,IF(G9=1400,14,28))","v":28},null,null,null,160,160,"Largeur courroies table",null,null,null,{"$f":"IF(E9<1001,U77,IF(AND(E9<1501,E9>1001),V77,IF(E9>1999,T77)))","v":"50 mm x 5,8 mm"},null,"50 mm x 5,8 mm","30 mm x 5 mm","28 mm x 7 mm",200]
[null,null,null,null,null,null,null,null,null,null,null,200,200,"Diametre guide bande",null,null,null,{"$f":"IF(I9=\"SERIE 1\",T78,U78)","v":100},null,50,100,null,250]
[null,null,null,null,null,null,null,null,null,null,null,250,250,null,null,null,null,null,null,null,null,null,300]

{"sheet":"Séries 3-4-5","index":7,"n_rows":101,"n_cols":32,"rows_kept":101,"cut":false,"hidden":true,"merged":[[16,4,16,5],[63,9,63,12],[64,9,64,12],[47,12,47,13],[46,12,46,13],[48,12,48,13],[49,12,49,13],[50,12,50,13],[8,6,8,7],[32,11,32,12],[33,11,33,12],[34,11,34,12],[35,11,35,12],[1,26,1,31],[1,24,2,24],[1,25,2,25],[1,7,1,8],[1,4,1,5],[2,6,2,7],[84,2,84,6],[46,3,49,8],[6,6,6,7],[30,11,30,12],[31,11,31,12],[6,4,6,5],[7,6,7,7],[10,3,10,5],[11,3,12,5],[10,6,10,7],[11,6,12,7],[36,11,36,12],[37,11,37,12],[38,11,38,12],[39,11,39,12],[13,3,15,7],[0,21,0,23],[1,20,2,20],[1,21,2,21],[1,22,2,22],[1,23,2,23]]}
["DEVIS FILTRE A BANDE","DATA",{"$f":"C5*2","v":60},null,null,null,null,null,null,null,null,{"$f":"\"B\"&B3/100","v":"B30"},null,null,null,null,"X HOG",null,null,null,null,"Long Pas",null,null,null,null,null,null,{"$f":"IF(B3=3000,AC4:AC62,IF(B3=4000,AD4:AD52,IF(B3=2000,AA4:AA35,AE4:AE61)))","v":{"$error":"#VALUE!"}},null,{"$f":"IF(B3=3000,AC4:AC62,IF(B3=4000,AD4:AD52,AE4:AE61))","v":{"$error":"#VALUE!"}}]
["Date du devis",{"$f":"Calculations!R2","v":"2026-02-11"},null,"Quote #",{"$f":"Calculations!C3&\"-\"&Calculations!H3","v":"760895-rev2"},null,"Client :",{"$f":"Calculations!C2","v":"PKT"},null,null,null,{"$f":"Surface&\"B\"&B3/100","v":"90B30"},null,null,null,null,"F RUT",null,null,null,"LgBaV",4,3.5,3,"NbrPas","NbrePas/LongPas","Largeur sous vide"]
["belt width",{"$f":"Calculations!E9","v":3000},null,"Made by :","X HOG",null,"Qty of filter:",null,1,null,null,null,null,null,null,null,"J BEG",null,null,null,null,null,null,null,null,null,2000,2500,3000,4000,4200,4500]
["Surface",{"$f":"Calculations!C9","v":90},"m2","Arbre revêtu",null,null,null,null,null,null,null,null,null,null,null,null,"G BUF",null,null,null,7,null,2,null,{"$f":"SUM(V4:X4)","v":2},{"$f":"W4 &\" x \"& W2","v":"2 x 3,5"},{"$f":"$AA$3/1000*U4","v":14},{"$f":"$AB$3/1000*U4","v":17.5}]
["Pulleys diameter",{"$f":"IF(B6=\"SERIE 3\",935,IF(B6=\"SERIE 4\",1210,1400))","v":1210},{"$f":"ROUND((Surface/B3)*1000,2)","v":30},"Non",null,null,null,null,null,null,null,null,null,null,null,null,"J ENG",null,null,null,10,null,2,1,3,{"$f":"X5&\" x \"&X2&\" & \"&W5&\" x \"&W2","v":"1 x 3 & 2 x 3,5"},20,25,30]
[{"$f":"IF(B5=1400,\"WARNING expansive filter versus\",\"Frame and pulley size selection\")","v":"Frame and pulley size selection"},{"$f":"IF(AND(B3<2501,C5<18.45),\"SERIE 3\",IF(AND(B3<4001,C5<34.9),\"SERIE 4\",\"SERIE 5\"))","v":"SERIE 4"},null,"Carter de Palier",null,null,null,null,null,null,null,"304L","304L",null,null,null,"F BOUQUET",null,null,null,10.5,null,3,null,{"$f":"SUM(V6:X6)","v":3},{"$f":"W6 &\" x \"& $W$2","v":"3 x 3,5"},{"$f":"$AA$3/1000*U6","v":21},{"$f":"$AB$3/1000*U6","v":26.25},31.5]
["detail engineering hour",300,"h","Non","Légende :",null,"Fill these cells",null,null,{"$f":"EVEN((SUM(B9:B11))/2)","v":4},null,"316L","316L",null,null,null,null,null,null,null,11,1,2,null,3,{"$f":"W7 &\" x \"& $W$2 &\" & \"& V7 &\" x \"& $V$2","v":"2 x 3,5 & 1 x 4"},{"$f":"$AA$3/1000*U7","v":22},27.5,{"$f":"$AC$3/1000*U7","v":33}]
[null,{"$f":"IF((((B10)*3.5+(B11)*4+(B9)*3)*B3*0.001)=Surface,\"RIGHT\",\"WRONG\")","v":"RIGHT"},null,"Chlorure",null,null,"Automatic",null,null,null,null,"904L","904L","Process","Roller","Frame","Feeder","Belt","B à V",null,12.5,null,1,3,4,"3 x 3 & 1 x 3,5",25,31.25,{"$f":"$AC$3/1000*U8","v":37.5}]
["Intermediate frame pace of 3000",{"$f":"VLOOKUP(C5,U4:X52,4)","v":0},null,"Oui",null,null,"Choice Menu",null,null,null,null,"50X5","E24","304L","304L","304L","304L","SBR",140,null,14,null,4,null,4,{"$f":"W9 &\" x \"& $W$2","v":"4 x 3,5"},28,35,{"$f":"$AC$3/1000*U9","v":42},{"$f":"$AD$3/1000*U9","v":56}]
["Intermediate frame pace of 3500",{"$f":"VLOOKUP(C5,U4:X52,3)","v":4},null,null,null,null,null,null,null,null,null,"40X7",null,"316L","316L","316L","316L","EPDM",170,null,14.5,1,3,null,4,{"$f":"W10 &\" x \"& $W$2 &\" & \"& V10 &\" x \"& $V$2","v":"3 x 3,5 & 1 x 4"},29,36.25,43.5,{"$f":"$AD$3/1000*U10","v":58}]
["Intermediate frame pace of 4000",{"$f":"VLOOKUP(C5,U4:X52,2)","v":4},null,"Number of step to be reported",null,null,"Your selection is:",null,null,null,null,"30X7",null,"904L","CAOUT",null,"U45N","SBRLT",null,null,15,2,2,null,4,{"$f":"W11 &\" x \"& $W$2 &\" & \"& V11 &\" x \"& $V$2","v":"2 x 3,5 & 2 x 4"},30,37.5,45,60]
[null,null,null,{"$f":"LOOKUP(C5,U4:Z76)","v":"4 x 3,5 & 4 x 4"},null,null,{"$f":"IF((((B10)*3.5+(B11)*4+(B9)*3)*B3*0.001)=B4,\"RIGHT, continue selection\",\"WRONG, correct values in the green screen\")","v":"RIGHT, continue selection"},null,null,null,null,"ALIAS",null,"U45N","E24",null,"904L","NITRILE",null,null,16.5,null,3,2,5,"2 x 3 & 3 x 3,5",33,41.25,49.5,66]
["Frame material",{"$f":"Calculations!E22","v":"316L"},null,null,null,null,null,null,null,null,null,"DUNL",null,"SVR","904L","E24","PPH",null,null,null,17.5,null,5,null,5,{"$f":"W13 &\" x \"& $W$2","v":"5 x 3,5"},35,43.75,52.5,70]
["Belt support table material",{"$f":"IF(B13=\"E24\",\"304L\",B13)","v":"316L"},null,"IF YOU SELECT A SURFACE ABOVE 36 in 2 meter WIDE or 99 1n 3 meter WIDE,  BE SURE THAT THE TORQUE IS NOT HIGHER THAN RECOMMENDED see (Note)",null,null,null,null,null,null,null,"SBR",null,null,"U45N",null,"Type de Feeder Lavage","Curb","Equipement Pneumatique et electrique",null,18,1,4,null,5,{"$f":"W14 &\" x \"& $W$2 &\" & \"& V14 &\" x \"& $V$2","v":"4 x 3,5 & 1 x 4"},36,45,54,72]
["belt support size","50X5",null,null,null,null,null,null,null,null,null,"EPDM",null,null,null,null,"TUBE",70,"INOX",null,18.5,2,3,null,5,{"$f":"W15 &\" x \"& $W$2 &\" & \"& V15 &\" x \"& $V$2","v":"3 x 3,5 & 2 x 4"},37,46.25,55.5,74]
[null,null,null,null,null,null,null,null,null,null,null,null,null,null,null,null,"SURV",120,"STD",null,19,3,2,null,5,{"$f":"W16 &\" x \"& $W$2 &\" & \"& V16 &\" x \"& $V$2","v":"2 x 3,5 & 3 x 4"},38,47.5,57,76]
["belt material",{"$f":"Calculations!E23","v":"SBR"},null,null,"Guidage Bande",null,{"$f":"IF(C5<20,H17,I17)","v":24},{"$f":"((ROUNDUP(SUM(B9:B11)/2,0))*2)+4","v":12},{"$f":"((ROUNDUP(SUM(B9:B11)/2,0))*6)","v":24},null,null,null,null,null,null,null,"QDC",null,"US",null,20,5,null,null,null,"5 x 4",40,50,60,80]
["edge curb height",{"$f":"Calculations!A9","v":120},{"$f":"IF(B18=70,\"T7\",\"T12\")","v":"T12"},null,{"$f":"LARGE(B10:B11,1)","v":4},{"$f":"PERCENTILE(B10:B11,1)","v":4},null,null,null,null,null,null,null,null,null,null,"Type Alimentation slurry",null,"Bolting",null,21,null,6,null,6,{"$f":"W18 &\" x \"& $W$2","v":"6 x 3,5"},42,52.5,63,84]
["curb material","SBR",null,null,null,null,null,null,null,null,null,null,null,null,null,null,"QDC",null,304,null,21.5,1,5,null,6,{"$f":"W19 &\" x \"& $W$2 &\" & \"& V19 &\" x \"& $V$2","v":"5 x 3,5 & 1 x 4"},43,53.75,64.5,86]
["lining material","SBR",null,null,null,null,null,null,null,null,null,null,null,null,null,null,"BOIT",null,316,null,22,2,4,null,6,{"$f":"W20 &\" x \"& $W$2 &\" & \"& V20 &\" x \"& $V$2","v":"4 x 3,5 & 2 x 4"},44,55,66,88]
["skirting above curb (rehausse talon)",0,null,null,null,null,null,null,null,null,null,null,null,null,null,null,"BOIT",null,"904L",null,22.5,3,3,null,6,{"$f":"W21 &\" x \"& $W$2 &\" & \"& V21 &\" x \"& $V$2","v":"3 x 3,5 & 3 x 4"},45,56.25,67.5,90]
[null,null,"Indicate IF ANY length (meter) of curb need to be raised",null,null,null,null,null,null,null,null,null,null,null,null,null,null,null,"Taille connection de la Boite à vide",null,23,4,2,null,6,{"$f":"W22 &\" x \"& $W$2 &\" & \"& V22 &\" x \"& $V$2","v":"2 x 3,5 & 4 x 4"},46,57.5,69,92]
["quantity of belt guide rollers",{"$f":"G17","v":24},null,null,null,null,null,null,null,null,null,null,null,null,null,null,null,null,80,null,24.5,null,7,null,7,{"$f":"W23 &\" x \"& $W$2","v":"7 x 3,5"},49,61.25,73.5,98]
["belt support roller: Ø",{"$f":"HLOOKUP(B3,N31:S40,IF(B18=70,4,5))","v":355},null,null,null,"Steel cost basis buying on storage in France",null,null,null,null,null,null,null,null,null,null,null,null,100,null,25,1,6,null,7,{"$f":"W24 &\" x \"& $W$2 &\" & \"& V24 &\" x \"& $V$2","v":"6 x 3,5 & 1 x 4"},50,62.5,75,100]
["belt support rollers Material",{"$f":"Calculations!E19","v":"316L"},null,"Steel","corective factor","original 2003","updated\ncost",2004,"revised","Nov 2005 updated ",null,null,null,null,null,null,null,null,125,null,25.5,2,5,null,7,{"$f":"W25 &\" x \"& $W$2 &\" & \"& V25 &\" x \"& $V$2","v":"5 x 3,5 & 2 x 4"},null,null,76.5,102]
["belt support rollers Qty",{"$f":"SUM(B8:B11)+1","v":9},null,"E24",{"$f":"G26/F26","v":1.6578947368421053},0.76,1.26,null,"2002-10-17",1,null,null,null,null,null,null,null,null,150,null,26,3,4,null,7,{"$f":"W26 &\" x \"& $W$2 &\" & \"& V26 &\" x \"& $V$2","v":"4 x 3,5 & 3 x 4"},null,null,78,104]
["Cloth return rollers  Ø",{"$f":"HLOOKUP(B3,N31:S40,9)","v":219},null,"304L",1.5909090909090908,2.2000000000000002,3.5,2.86,"2003-01-11",2.2999999999999998,null,null,null,null,null,null,null,null,200,null,26.5,4,3,null,7,{"$f":"W27 &\" x \"& $W$2 &\" & \"& V27 &\" x \"& $V$2","v":"3 x 3,5 & 4 x 4"},null,null,79.5,106]
["Cloth return rollers  Material",{"$f":"Calculations!E20","v":"316L"},null,304,1.5909090909090908,2.2000000000000002,3.5,2.86,"2003-01-11",2.2999999999999998,null,null,null,null,null,null,null,null,null,null,27,5,2,null,7,{"$f":"W28 &\" x \"& $W$2 &\" & \"& V28 &\" x \"& $V$2","v":"2 x 3,5 & 5 x 4"},null,null,81,108]
["Cloth return rollers  Qty",8,null,"316L",2.0689655172413794,2.9,6,3.77,"2002-10-11",3.91,null,null,null,null,null,null,null,null,null,null,28,null,8,null,8,{"$f":"W29 &\" x \"& $W$2","v":"8 x 3,5"},null,null,84,112]
["Cloth support rollers Ø",{"$f":"HLOOKUP(B3,N31:S40,8)","v":168.3},{"$f":"IF(B30=168.3,1683,B30)","v":1683},316,2.0689655172413794,2.9,6,3.77,"2002-10-11",3.91,null,"Tableau des diamètres de rouleaux",null,null,null,null,null,null,null,null,28.5,1,7,null,8,{"$f":"W30 &\" x \"& $W$2 &\" & \"& V30 &\" x \"& $V$2","v":"7 x 3,5 & 1 x 4"},null,null,85.5,114]
["Cloth support rollers Material",{"$f":"Calculations!E20","v":"316L"},null,"U45N",1.75,4,7,5.2,"2003-01-11",6.1,null,"Largeur",null,2000,2500,3000,4000,4200,4500,null,29,2,6,null,8,"6 x 3,5 & 2 x 4",null,null,87,116]
["Cloth support rollers Qty",{"$f":"SUM(B8:B11)","v":8},null,"904L",1.7105263157894737,7.6,13,9.8800000000000008,"2003-01-11",11.24,null,"RoulEmba T70",null,273,273,273,273,273,null,null,29.5,3,5,null,8,"5 x 3,5 & 3 x 4",null,null,88.5,118]
["Cloth exit rollers Ø",{"$f":"HLOOKUP(B3,N31:S40,6)","v":168.3},null,"CAOUT",1.3,"CSRL",null,null,null,null,null,"RoulEmba T120",null,355,355,355,355,355,null,null,30,4,4,null,8,"4 x 3,5 & 4 x 4",null,null,90,120]
["Cloth exit rollers Material",{"$f":"Calculations!E15","v":"316L"},null,"POLYPROPYLENE",1.3,null,null,null,"In blue = estimated",null,null,"RoulSuppBanT70",null,273,273,273,355,355,null,null,30.5,5,3,null,8,"3 x 3,5 & 5 x 4",null,null,null,122]
["Cloth exit rollers Qty",2,null,"SVR",1.3,null,null,null,null,null,null,"RoulSuppBanT120",null,355,355,355,406,406,null,null,31,6,2,null,8,"2 x 3,5 & 6 x 4",null,null,null,124]
["Cloth discharge rollers Ø",{"$f":"HLOOKUP(B3,N31:S40,7)","v":168.3},null,"SBRLT",1.05,null,null,null,null,null,null,"RoulToilSortGat",null,168.3,168.3,168.3,273,273,null,null,31.5,null,9,null,9,{"$f":"W36 &\" x \"& $W$2","v":"9 x 3,5"},null,null,null,126]
["Cloth discharge rollers Material",{"$f":"Calculations!E15","v":"316L"},null,"SBR",1.05,null,null,null,null,null,null,"RoulToilDechGat",null,168.3,168.3,168.3,168.3,168.3,null,null,32,1,8,null,9,{"$f":"W37 &\" x \"& $W$2 &\" & \"& V37 &\" x \"& $V$2","v":"8 x 3,5 & 1 x 4"},null,null,null,128]
["Cloth discharge rollers Qty",1,null,"EPDM",1.05,null,null,null,null,null,null,"RoulSuppToile",null,168.3,168.3,168.3,273,273,null,null,32.5,2,7,null,9,"7 x 3,5 & 2 x 4",null,null,null,130]
["Cloth guiding rollers Ø",{"$f":"B27","v":219},null,"PLAS",1.3,null,null,null,null,null,null,"RoulRenvoi",null,168.3,168.3,219,273,273,null,null,33,3,6,null,9,"6 x 3,5 & 3 x 4",null,null,null,132]
["Cloth guiding RL rollers. Material",{"$f":"Calculations!E20","v":"316L"},null,"MONT",1.3,null,null,null,null,null,null,"RoulGuide",null,192,192,233,287,287,null,null,33.5,4,5,null,9,"5 x 3,5 & 4 x 4",null,null,null,134]
["Cloth guiding RL rollers. Qty",{"$f":"IF(E5=\"II\",0,1)","v":1},null,"PRE",1.3,null,null,null,null,null,null,null,null,null,null,null,null,null,null,null,34,5,4,null,9,"4 x 3,5 & 5 x 4",null,null,null,136]
["Cloth form rollers. Ø",{"$f":"HLOOKUP(B3,N31:S40,IF(B18=70,2,3))","v":355},null,"Other",1.3,null,null,null,null,null,null,null,null,null,null,null,null,null,null,null,34.5,6,3,null,9,"3 x 3,5 & 6 x 4",null,null,null,138]
["Cloth form rollers. Material",{"$f":"Calculations!E12","v":"U45N"},null,null,null,null,null,null,null,null,null,null,null,null,null,null,null,null,null,null,35,7,2,null,9,"2 x 3,5 & 7 x 4",null,null,null,null,{"$f":"$AE$3/1000*U43","v":147},{"$f":"$AF$3/1000*U43","v":157.5}]
["Cloth form rollers. Qty",1,null,"CAOUT = rubber lined",null,null,null,null,null,null,null,null,null,null,null,null,null,null,null,null,35.5,1,9,null,10,"9 x 3,5 & 1 x 4",null,null,null,null,{"$f":"$AE$3/1000*U44","v":149.1},{"$f":"$AF$3/1000*U44","v":159.75}]
["roller bearing",{"$f":"(B26+B29+B32+B35+B38+B41)*2","v":58},null,"SVR = fiber galss polyester renforced",null,null,null,null,null,null,null,null,null,null,null,null,null,null,null,null,36,2,8,null,10,"8 x 3,5 & 2 x 4",null,null,null,null,151.20000000000002,162]
["vacuum box 140: Section",140,null,null,null,null,null,null,null,null,null,null,null,null,null,null,null,null,null,null,36.5,3,7,null,10,"7 x 3,5 & 3 x 4",null,null,null,null,153.30000000000001,164.25]
["vacuum box 140: Material",{"$f":"Calculations!E11","v":"U45N"},null,"Note; Be care!!! the body \"170\" is only dedicated to the high liquid / gaz to be drain (eg. Bicarbonate) do not use without process agreement. Only available in steel.\nNote Option is available for straight pipe and up to ND 200",null,null,null,null,null,null,null,null,"EPDM",null,null,null,null,null,null,null,37,4,6,null,10,"6 x 3,5 & 4 x 4",null,null,null,null,155.4,166.5]
["support of VB Material",{"$f":"Calculations!E21","v":"316L"},null,null,null,null,null,null,null,null,null,"DN150","E000000568-7023",null,null,"Oui",null,null,null,null,37.5,5,5,null,10,"5 x 3,5 & 5 x 4",null,null,null,null,157.5,168.75]
["vacuum box 140: connection DN ",{"$f":"Calculations!H29","v":150},null,null,null,null,null,null,null,null,null,"DN125","E000000758-7023",null,null,"Non",null,null,null,null,38,6,4,null,10,"4 x 3,5 & 6 x 4",null,null,null,null,159.6,171]
["vacuum box 140: qty of connection",{"$f":"Calculations!R36","v":28},null,null,null,null,null,null,null,null,null,"DN100","E000000947-7023",null,null,null,null,null,null,null,38.5,7,3,null,10,"3 x 3,5 & 7 x 4",null,null,null,null,161.70000000000002,173.25]
["vacuum box 140: Qty internal baffle",{"$f":"Calculations!R11","v":4},null,null,null,null,null,null,null,null,null,"DN80","E000000715-7023",null,null,null,null,null,null,null,39.5,2,9,null,11,"9 x 3,5 & 2 x 4",null,null,null,null,165.9,177.75]
["cake discharge / washing Material",{"$f":"Calculations!E16","v":"316L"},null,null,null,null,null,null,null,null,null,null,null,null,null,null,null,null,null,null,40,3,8,null,11,"8 x 3,5 & 3 x 4",null,null,null,null,168,180]
["entrance dam support Material","316L",null,null,null,null,null,null,null,null,null,{"$f":"IF(B49=150,M48,IF(B49=125,M49,IF(B49=100,M50,M51)))","v":"E000000568-7023"}]
["apron for dam, Material ",{"$f":"IF(B17=\"SBRLT\",\"SBR\",B17)","v":"SBR"},null,"SURV = overflow",null,"TUB = spreader pipe",null,"QDC = fish tail"]
["cake wash device Type",{"$f":"Calculations!Q13","v":"OVER"}]
["cake wash device Material",{"$f":"Calculations!E14","v":"U45N"}]
["cake wash device Qty",{"$f":"Calculations!R11","v":4},null,null,null,null,null,null,null,null,null,null,null,null,null,"PE","S"]
["carriage Type","ROUE",null,null,null,null,null,null,null,null,null,null,null,null,null,"PP","C"]
["carriage Material",{"$f":"B56","v":"U45N"}]
["carriage Qty",{"$f":"B57","v":4}]
["pendulum dam support Material ",{"$f":"B53","v":"316L"},null,null,null,null,null,null,null,1,2,3,4,5,6,7,8,9,10,11,12,13]
["pendulum dam apron Material",{"$f":"B54","v":"SBR"},null,null,null,null,null,null,null,0,1,1,2,2,3,3,4,4,5,5,6,6]
["pendulum dam Qty",{"$f":"B57+1","v":5},null,"QDC = fish tail",null,"BOIT = box"]
["slurry feeder Type",{"$f":"Calculations!Q12","v":"BOIT"},null,null,null,null,null,null,null,"Nombre de tensions courroie BAV",null,null,null,{"$f":"HLOOKUP(SUM(B9:B11),J61:V62,2)","v":4}]
["slurry feeder Material",{"$f":"Calculations!E13","v":"U45N"},null,null,null,null,null,null,null,"Nombre de galets retour BAV",null,null,null,{"$f":"(SUM(B9:B11)+N64)*2","v":24}]
["slurry feeder Qty",1,null,"Not available in automatic: ",null,null,"Option for SS materail"]
["Equipment pneumatic: Type","STD","A penser (US, AFSUD, NAMIBIE, Canada….)","Not available in automatic: ",null,null,"Option for US normes"]
["Equipment électric: Type","STD","A penser (US, AFSUD, NAMIBIE, Canada….)"]
["bolting",316]
["bellow 12 x 2: Qty",0]
["bellow 10 x 2: Qty",2]
["bellow 8 x 3: Qty",{"$f":"B26","v":9}]
["bellow 8 x 2: Qty",2]
["oil & grease",1]
["Protection",1]
["torque arm",1]
["gear unit torque ",{"$f":"Calculations!N26","v":88238.119392556851},"Nm","NOTE: torque limited @ 21800 Nm for 2 m above 36 m²"]
["gear unit, maximum rpm at pulley shaft",{"$f":"Calculations!F26","v":6.5333548165374458},"Tr/mn","NOTE: torque limited @ 62300 Nm for 3 m above 99 m²"]
["Motor",{"$f":"'Gr de Cde'!E26","v":90},{"$f":"VLOOKUP(B79,'Gr de Cde'!B33:G58,6)","v":"M21"}]
["freqency invertor",{"$f":"B79","v":90}]
["filter cloth",1,null,"PRE = erected on site",null,null,"MONT = erected in factory before delivery",null,null,null,null,"PRE"]
["pre-erection or erection in factory ",{"$f":"Calculations!S38","v":"PRE"},null,null,null,null,null,null,null,null,null,"MONT"]
["sliding belt lubrication set",1,null,null,null,null,null,null,null,null,null,1]
["Basic minimum safety guard grid",1,"ERECTION ( \"MONT\" )  IN FACTORY CAN BE SELECTED ONLY FOR FILTER SMALLER THAN 51 SQM",null,null,null,null,null,null,null,null,0]
[null,null,"Select 1 if existing, (see in the technical,data sheet)"]
[]
[]
["Filtering Cloth"]
["Material","PE"]
["Type","S"]
[]
["CALCULTION OF ERECTION IN FACTORY"]
["Long BaV",{"$f":"Surface/B3*1000","v":30},null,"mat kg","mat cout","heure fab","montage","collage talon"]
["Long filtre",{"$f":"B93+5","v":35},null,{"$f":"((B96+B97)+(B98*SUM(B10:B11)))","v":4540},{"$f":"D94*B101","v":3450.4},{"$f":"D94*B95/60","v":113.5},{"$f":"B99+(B100*SUM(B10:B11))","v":860},{"$f":"HLOOKUP(B3,Band!B13:G30,IF(B18=Band!A25,17,18),0)","v":109.43999999999998}]
["mn/kg",1.5,"??"]
["poids/m acier renfort Bati entrée",730]
["poids/m acier renfort Bati sortie",690]
["poids/m acier renfort Bati inter",390,"??"]
["part fixe tete et queue temps mont",260,"??","110+150","entrée + sortie"]
["part variablebati inter temps mont",75,"??",75,"par pas"]
["prix kg base",0.76]

{"sheet":"Série 2","index":8,"n_rows":101,"n_cols":35,"rows_kept":101,"cut":false,"hidden":true,"merged":[[93,0,93,7],[7,6,7,7],[9,3,9,5],[9,6,9,7],[10,3,11,5],[10,6,11,7],[12,3,14,7],[6,6,6,7],[0,4,0,5],[0,7,0,8],[1,6,1,7],[5,4,5,5],[5,6,5,7]]}
["DEVIS FILTRE A BANDE","DATA",null,"Quote #",{"$f":"'Séries 3-4-5'!E2:F2","v":"760895-rev2"},null,"Client :",{"$f":"'Séries 3-4-5'!H2:I2","v":"PKT"},null,null,null,null,null,"II",500,null,"A. LEVEQUE",null,null,"LgBaV",4,3.5,3,2.5,2,"NbrPas",null,"NbrePas/LongPas"]
["Date du devis",{"$f":"'Séries 3-4-5'!B2","v":"2026-02-11"},null,"Made by :","T. DUBRULLE",null,"Qty of filter:",null,1,null,null,null,null,"III",750,null,"Y. BEIGNET",null,null,null,null,null,null,null,null,1,null,"1 x 1,4",null,null,500,750,1000,1250,1500]
[null,null,null,null,null,null,null,null,null,null,null,null,null,"IV A",1000,null,"F RUTH",null,null,2,null,null,null,null,1,1,null,"1 x 2"]
[null,null,null,"Série :","II",null,null,null,null,null,null,null,null,"IV B",1250,null,"C.PARENTI",null,null,2.5,null,null,null,1,null,1,null,"1 x 2,5"]
["belt width",{"$f":"Calculations!E9","v":3000},null,null,null,null,null,null,null,null,null,"304L","304L",null,1500,null,"R COOMB",null,null,2.8,null,null,null,null,null,1,null,"1 x 2,8",null,null,null,1.5,2,3.125,4.5]
["Surface",{"$f":"Calculations!C9","v":90},"m2",null,"Légende :",null,"Fill these cells",null,null,null,null,"316L","316L",null,null,null,"T. DUBRULLE",null,null,3,null,null,1,null,null,1,null,"1 x 3",null,null,1,1.875,2.5,3.75,5.25]
["Pulleys diameter",630,{"$f":"ROUND((Surface2/B5)*1000,1)","v":30},null,null,null,"Choice menu",null,null,null,null,"904L","904L",null,null,null,"GAO",null,null,3.5,null,1,null,null,null,1,null,"1 x 3,5",null,null,1.25,2.25,3,4.375,6]
[null,null,null,null,null,null,"Auto values",null,null,null,null,"50X5","E24",null,null,null,null,null,null,4,null,null,null,null,2,2,null,"2 x 2",null,null,1.5,2.625,3.5,5,6.75]
[null,null,null,null,null,null,null,null,null,null,null,"40X7",null,null,null,null,null,null,null,4.5,null,null,null,1,1,2,null,"2,5 + 2",null,null,1.75,3,4,5.625,7.5]
[null,{"$f":"IF((((B11)*2+(B12)*2.5+(B13)*3+(B14)*3.5)*B5*0.001)=B6,\"RIGHT\",\"WRONG\")","v":"WRONG"},null,"Number of step to be reported",null,null,"Your selection is:",null,null,null,null,null,null,null,null,null,null,null,null,5,null,null,null,2,null,2,"2,5 x 2","2,5 x 2",5,null,2,3.375,4.5,6.25,8.25]
["frame pace of 2000",{"$f":"VLOOKUP(C7,T2:Y30,6)","v":0},2,{"$f":"LOOKUP(C7,T1:AB80)","v":"5 x 3"},null,null,{"$f":"IF(C7=C11*B11+C12*B12+C13*B13+C14*B14,\"RIGHT, continue selection\",\"WRONG, correct values in the green screen\")","v":"WRONG, correct values in the green screen"},null,null,null,null,"PPH",null,null,null,null,null,null,null,5.5,null,null,1,1,null,2,"& 1 x 3 & 1 x 2,5","1 x 3 & 1 x 2,5",null,null,2.25,3.75,5,6.875,9]
["frame pace of 2500",{"$f":"VLOOKUP(C7,T2:Y30,5)","v":0},2.5,null,null,null,null,null,null,null,null,"DUNL",null,null,null,null,null,null,null,6,null,null,2,null,null,2,"& 2 x 3 ","2 x 3",6,null,2.5,4.125,5.5,7.5,9.75]
["frame pace of 3000",{"$f":"VLOOKUP(C7,T2:Y30,4)","v":5},3,"IF YOU SELECT A SURFACE ABOVE 13,13 IN 1,25 METER WIDE OR 15,75 IN 1,5 METER WIDE? BE SURE THAT THE TORQUE IS NOT HIGHER THAN RECOMMENDED see (Note)",null,null,null,null,null,null,null,"SBR",null,null,null,null,null,null,null,6.5,null,1,1,null,null,2,"& 1 x 3,5 & 1 x 3 ","1 x 3,5 & 1 x 3",null,null,2.75,4.5,6,8.125,10.5]
["frame pace of 3500",{"$f":"VLOOKUP(C7,T2:Y30,3)","v":0},3.5,null,null,null,null,null,null,null,null,"EPDM",null,null,null,null,null,null,null,7,null,2,null,null,null,2,"& 2 x 3,5 ","2 x 3,5",7,null,3,4.875,6.5,8.75,11.25]
[null,null,null,null,null,null,null,null,null,null,null,70,null,"II","III","IV A","IV B",null,null,7.5,null,null,null,3,null,3,"& 3 x 2,5","3 x 2,5",7.5,null,null,5.25,7,9.375,12]
["Frame material",{"$f":"'Séries 3-4-5'!B13","v":"316L"},3,null,null,null,null,null,null,null,null,120,"12X2",null,null,null,2,null,null,8,null,null,1,2,null,3,"& 1 x 3 & 2 x 2,5","1 x 3 & 2 x 2,5",null,null,null,5.625,7.5,10,12.75]
["Choice of main belt support wear belt","DUNL",null,null,null,null,null,null,null,null,null,410,"10X2",null,2,2,null,null,null,8.5,null,null,2,1,null,3,"& 2 x 3 & 1 x 2,5","2 x 3 & 1 x 2,5",null,null,null,null,8,10.625,13.5]
["belt material",{"$f":"'Séries 3-4-5'!B17","v":"SBR"},5,null,null,null,null,null,null,null,null,630,"8X3",null,{"$f":"$B$26","v":6},{"$f":"$B$26","v":6},{"$f":"$B$26","v":6},null,null,9,null,null,3,null,null,3,"& 3 x 3 ","3 x 3",9,null,null,null,8.5,11.25,14.25]
["edge curb height",{"$f":"'Séries 3-4-5'!B18","v":120},null,null,null,null,null,null,null,null,null,935,"8X2",null,2,2,2,null,null,9.5,null,1,2,null,null,3,"& 1 x 3,5 & 2 x 3 ","1 x 3,5 & 2 x 3",null,null,null,null,9,11.875,15]
["curb material",{"$f":"B18","v":"SBR"},null,null,null,null,null,null,null,null,null,1210,"6X2",{"$f":"$B$26+2","v":8},null,null,null,null,null,10,null,2,1,null,null,3,"& 2 x 3,5 & 1 x 3 ","2 x 3,5 & 1 x 3",null,null,null,null,9.5,12.5,15.75]
["skirting above curb (rehausse talon)",0,"Indicate IF ANY length (meter) of curb need to be raised",null,null,null,null,null,null,null,null,1400,null,null,null,null,null,null,null,10.5,null,3,null,null,null,3,"& 3 x 3,5 ","3 x 3,5",10.5,null,null,null,10,13.125,16.5]
["lining material","SBR",null,null,null,null,null,null,null,null,null,219,null,null,null,null,null,null,null,11,null,null,2,2,null,3,"2 x 4 & 1 x 3 ","2 x 3 & 2 x 2,5",null,null,null,null,10.5,13.75,17.25]
["quantity of belt guide rollers",{"$f":"EVEN(SUM(B11:B14)+4)","v":10},null,null,null,null,null,null,null,null,null,273,null,null,null,null,null,null,null,11.5,null,null,3,1,null,3,"2 x 4 & 1 x 3,5 ","3 x 3 & 1 x 2,5",null,null,null,null,null,14.375,18]
["belt support roller: Ø",219,null,null,null,"Steel cost basis buying on storage in France",null,null,null,null,null,355,null,null,null,null,null,null,null,12,null,null,4,null,null,3,"3 x 4 ","4 x 3",12,null,null,null,null,15,18.75]
["belt support rollers Material",{"$f":"'Séries 3-4-5'!B25","v":"316L"},2,"Steel","corective factor","original 2003","updated\ncost",2004,"revised","Nov 2005 updated ",null,406,null,null,null,null,null,null,null,12.5,null,1,3,null,null,4,"& 1 x 3,5 & 3 x 3 ","1 x 3,5 & 3 x 3",null,null,null,null,null,15.625,19.5]
["belt support rollers Qty",{"$f":"SUM(B11:B14)+1","v":6},null,"E24",{"$f":"G26/F26","v":1.6578947368421053},0.76,1.26,null,"2002-10-17",1,null,"304L",null,null,null,null,null,null,null,13,null,2,2,null,null,4,"& 2 x 3,5 & 2 x 3 ","2 x 3,5 & 2 x 3",null,null,null,null,null,null,20.25]
["Cloth return rollers  Ø",{"$f":"IF(B5<1250,60,88.9)","v":88.9},null,"304L",1.5909090909090908,2.2000000000000002,3.5,2.86,"2003-05-09",2.2999999999999998,null,"316L",null,null,null,null,null,null,null,13.5,null,3,1,null,null,4,"& 3 x 3,5 & 1 x 3 ","3 x 3,5 & 1 x 3",null,null,null,null,null,null,21]
["Cloth return rollers  Material",{"$f":"'Séries 3-4-5'!B28","v":"316L"},2,304,1.5909090909090908,2.2000000000000002,3.5,2.86,"2003-05-09",2.2999999999999998,null,"904L",null,null,null,null,null,null,null,14,null,4,null,null,null,4,"& 4 x 3,5 ","4 x 3,5",14]
["Cloth return rollers  Qty",8,null,"316L",2.0689655172413794,2.9,6,3.77,"2003-05-09",3.91,null,"CAOUT",null,null,null,null,null,null,null,14.5,null,null,4,1,null,4,"1 x 4 & 3 x 3,5 ","1 x 2,5 & 4 x 3"]
["Cloth support rollers Ø",{"$f":"B27","v":88.9},null,316,2.0689655172413794,2.9,6,3.77,"2003-05-09",3.91,null,60,null,null,null,null,null,null,null,15,null,null,5,null,null,4,"3 x 4 & 1 x 3 ","5 x 3"]
["Cloth support rollers Material",{"$f":"B28","v":"316L"},null,"U45N",1.75,4,7,5.2,"2003-05-09",6.1,null,114]
["Cloth support rollers Qty",{"$f":"SUM(B11:B14)","v":5},null,"904L",1.7105263157894737,7.6,13,9.8800000000000008,"2003-05-09",11.24,null,168]
["Cloth exit rollers Ø",{"$f":"B30","v":88.9},null,"CAOUT",1.3,"CSRL",null,null,null,null,null,219]
["Cloth exit rollers Material",{"$f":"B31","v":"316L"},null,"POLYPROPYLENE",1.3,null,null,null,"In blue = estimated",null,null,273]
["Cloth exit rollers Qty",1,null,"SVR",1.3,null,null,null,null,null,null,8]
["Cloth discharge rollers Ø",{"$f":"B33","v":88.9},null,"SBRLT",1.05,null,null,null,null,null,null,9]
["Cloth discharge rollers Material",{"$f":"'Séries 3-4-5'!B37","v":"316L"},2,"SBR",1.05,null,null,null,null,null,null,11]
["Cloth discharge rollers Qty",1,null,"EPDM",1.05,null,null,null,null,null,null,60]
["lining material",null,null,"PLAS",1.3]
["quantity of belt guide rollers",null,null,"MONT",1.3,null,null,null,null,null,null,168]
[null,null,null,"PRE",1.3,null,null,null,null,null,null,219,1,2,3,4,5]
["Cloth form rollers. Ø",219,null,"Other",1.3,null,null,null,null,null,null,273,"process","Roller","Frame","feeder","Belt"]
["Cloth form rollers. Material",{"$f":"'Séries 3-4-5'!B43","v":"U45N"},2,null,null,null,null,null,null,null,null,"U45N","304L","304L","304L","304L","SBRLT"]
["Cloth form rollers. Qty",1,null,null,null,null,null,null,null,null,null,"304L","316L","316L","316L","316L","SBR"]
["roller bearing",{"$f":"(B26+B29+B32+B35+B38+B41)*2","v":42},null,null,null,null,null,null,null,null,null,"316L","904L","904L","904L","904L","EPDM"]
["vacuum box  Section (SVR only for U shape)",{"$f":"IF(B47=\"SVR\",\"U\",110)","v":110},null,{"$f":"IF(B46=L47,\"Select SVR as Material??\",\"Select Steel as Material??\")","v":"Select Steel as Material??"},null,null,null,null,null,null,null,"904L","U45N","U45N","U45N","U45N"]
["vacuum box  Material",{"$f":"'Séries 3-4-5'!B47","v":"U45N"},1,"CAOUT = rubber lined",null,null,null,null,null,null,null,"U","SVR","CAOUT","E24","PPH"]
["support of VB Material",{"$f":"'Séries 3-4-5'!B48","v":"316L"},3,"SVR = fiber galss polyester renforced",null,null,null,null,null,null,null,110]
["vacuum box  connection DN ",{"$f":"'Séries 3-4-5'!B49","v":150},null,{"$f":"IF(B46=L47,\"Select adapted dia.??\",\"\")","v":""},null,null,null,null,null,null,null,140]
["vacuum box  qty of connection",{"$f":"'Séries 3-4-5'!B50","v":28},null,null,null,null,null,null,null,null,null,"304L"]
["vacuum box  Qty internal baffle",{"$f":"'Séries 3-4-5'!B51","v":4},null,null,null,null,null,null,null,null,null,"316L"]
["cake discharge / washing Material",{"$f":"Calculations!E16","v":"316L"},4,null,null,null,null,null,null,null,null,"904L"]
["entrance dam support Material",{"$f":"'Séries 3-4-5'!B53","v":"316L"},3,null,{"$f":"D46","v":"Select Steel as Material??"},null,null,null,null,null,null,"SVR"]
["apron for dam, Material ",{"$f":"'Séries 3-4-5'!B54","v":"SBR"},null,null,null,null,null,null,null,null,null,40]
["cake wash device Type",{"$f":"'Séries 3-4-5'!B55","v":"OVER"},null,"SURV = overflow",null,"TUB = spreader pipe",null,"QDC = fish tail",null,null,null,50]
["cake wash device Material",{"$f":"'Séries 3-4-5'!B56","v":"U45N"},4,null,null,null,null,null,null,null,null,65]
["cake wash device Qty",{"$f":"'Séries 3-4-5'!B57","v":4},null,null,null,null,null,null,null,null,null,80]
["carriage Type","PATI",null,null,null,null,null,null,null,null,null,100]
["carriage Material","316L",3,null,null,null,null,null,null,null,null,125]
["carriage Qty",{"$f":"B57","v":4}]
["pendulum dam support Material ",{"$f":"B53","v":"316L"},null,null,null,null,null,null,null,null,null,"304L"]
["pendulum dam apron Material",{"$f":"B54","v":"SBR"},null,null,null,null,null,null,null,null,null,"316L"]
["pendulum dam Qty",{"$f":"B57+1","v":5},null,null,null,null,null,null,null,null,null,"904L"]
["slurry feeder Type",{"$f":"'Séries 3-4-5'!B64","v":"BOIT"},null,"QDC = fish tail",null,"BOIT = box",null,null,null,null,null,"PPH"]
["slurry feeder Material",{"$f":"'Séries 3-4-5'!B65","v":"U45N"},4,null,null,null,null,null,null,null,null,"TUBE"]
["slurry feeder Qty",1,null,null,null,null,null,null,null,null,null,"SURV"]
["Equipment pneumatic: Type","STD",null,"Option for SS materail not available",null,null,null,null,null,null,null,"QDC"]
["Equipment électric: Type","STD",null,"Option for US normes",null,null,null,null,null,null,null,"ROUE"]
["bolting",{"$f":"'Séries 3-4-5'!B69","v":316},null,null,null,null,null,null,null,null,null,"PEMO"]
["bellow 12 x 2: Qty",{"$f":"HLOOKUP(E4,N15:Q20,2)","v":0},null,null,null,null,null,null,null,null,null,"PATI"]
["bellow 10 x 2: Qty",{"$f":"HLOOKUP(E4,N15:Q20,3)","v":0},null,null,null,null,null,null,null,null,null,"QDC"]
["bellow 8 x 3: Qty",{"$f":"HLOOKUP(E4,N15:Q20,4)","v":0},null,null,null,null,null,null,null,null,null,"BOIT"]
["bellow 8 x 2: Qty",{"$f":"HLOOKUP(E4,N15:Q20,5)","v":0},null,null,null,null,null,null,null,null,null,"STD"]
["bellow 6 x 2: Qty",{"$f":"HLOOKUP(E4,N15:Q20,6)","v":8},null,null,null,null,null,null,null,null,null,"INOX"]
["oil & grease",1,null,null,null,null,null,null,null,null,null,"STD"]
["Protection",1,null,null,null,null,null,null,null,null,null,"US"]
["torque arm",1,null,null,null,null,null,null,null,null,null,304]
["gear unit torque ",{"$f":"'Séries 3-4-5'!B77","v":88238.119392556851},"Nm","NOTE: torque limited @ 7300 Nm for 1.25 m above 13,13 m²",null,null,null,null,null,null,null,316]
["gear unit, maximum rpm at pulley shaft",{"$f":"'Séries 3-4-5'!B78","v":6.5333548165374458},"Tr/mn","NOTE: torque limited @ 7900 Nm for 1,50 m above 15,75 m²",null,null,null,null,null,null,null,"904L"]
["Motor",{"$f":"'Séries 3-4-5'!B79","v":90},null,null,null,null,null,null,null,null,null,"PRE"]
["freqency invertor",{"$f":"'Séries 3-4-5'!B80","v":90},null,null,null,null,null,null,null,null,null,"MONT"]
["filter cloth",1,null,null,null,null,null,null,null,null,null,1]
["pre-assembly (PRE) or erection in factory (MONT) ",{"$f":"Calculations!S38","v":"PRE"},null,"PRE = erected on site",null,null,"MONT = erected in factory before delivery",null,null,null,null,0]
[]
["Basic minimum safety guard grid",1]
[]
[]
[]
[]
[]
[]
[]
[]
["CALCULTION OF ERECTION IN FACTORY"]
["Long BaV",{"$f":"Surface2/B5*1000","v":30},null,"mat kg","mat cout","heure fab","montage","collage talon"]
["Long filtre",{"$f":"B95+0.4","v":30.4},null,{"$f":"B96*B98*2","v":7454.079999999999},{"$f":"D96*B101","v":5665.1007999999993},{"$f":"D96*B97/60","v":186.35199999999998},{"$f":"B99+(B100*SUM(B11:B14))","v":540},{"$f":"HLOOKUP(B5,Band2!B16:M33,IF(B19=Band2!A28,17,18),0)","v":{"$error":"#N/A"}}]
["mn/kg",1.5,"??"]
["poids/m acier renfort",122.6,"??"]
["part fixe mont",190,"??","90+100","entrée + sortie"]
["part variable mont",70,"??",70,"par pas"]
["prix kg base",0.76]

{"sheet":"PdR ENG","index":9,"n_rows":65,"n_cols":20,"rows_kept":65,"cut":false,"hidden":false,"merged":[[8,2,9,3],[8,4,9,6],[0,2,3,15],[4,2,5,3],[4,4,5,6],[4,7,6,9],[4,10,6,12],[4,13,9,15],[6,2,7,3],[6,4,7,6],[7,7,9,9],[7,10,9,12]]}
[null,null,"SPARE PARTS LIST"]
[]
[null,null,null,null,null,null,null,null,null,null,null,null,null,null,null,null,null,null,"Commission",0]
[]
[null,null,"Customer",null,{"$f":"Calculations!C2","v":"PKT"},null,null,"Date",null,null,{"$f":"TODAY()","v":"2026-02-11"},null,null,"Customers Service\nJose PINTO\nPhone : +33 (0)2 33 81 13 14 \nMob : +33 (0)6 37 07 29 37\njose.pinto@hasler-gp.com"]
[]
[null,null,"Filter Type",null,{"$f":"Calculations!K10","v":"90B30"}]
[null,null,null,null,null,null,null,"Prices Validity",null,null,{"$f":"YEAR(K5)","v":2026}]
[null,null,"Filter Ref",null,{"$f":"Calculations!C4","v":"Soda ash filter"}]
[]
["RPA Code","Material","Description","Quantity installed per Filter","Quantity recommended for commissioning","Quantity recommended for 1 year","Quantity recommended for 2 years","Quantity for safety stock","Prix\nRevient Formule JPIN","Prix\nRevient Unitaire","Marge\nBrute","Unit price","Total price for commissioning","Total price for 1 year","Total price for 2 years","Total price for safety stock"]
["E00000000000018","PE-UHMW","Belt guiding roller",{"$f":"IF(Calculations!I9=\"SERIE 2\", 'Série 2'!B23,'Séries 3-4-5'!B23)","v":24},0,0,0,2,null,20,0.55000000000000004,{"$f":"ROUNDUP((J12/(1-K12))/(1-$T$3),)","v":45},{"$f":"L12*E12","v":0},{"$f":"$L$12*F12","v":0},{"$f":"L12*G12","v":0},{"$f":"L12*H12","v":90}]
["E000000536-0006","316L","Cloth tracking edge sensor",{"$f":"1","v":1},0,1,2,1,null,93,0.55000000000000004,{"$f":"ROUNDUP((J13/(1-K13))/(1-$T$3),)","v":207},0,{"$f":"L13*F13","v":207},{"$f":"L13*G13","v":414},{"$f":"L13*H13","v":207}]
["ECOM000249-0006","316L","Cloth tracking operating device",{"$f":"1","v":1},0,0,0,1,null,846,0.4,1410,0,{"$f":"L14*F14","v":0},0,1410]
["EGUIDROUPOL9",null,"Rouleau 9\" polyuréthane",null,null,null,null,null,null,148,0.55000000000000004,329,0,0,0,0]
["EGUIDROUNIO9","316L","Rouleau 9\" inox",null,null,null,null,null,null,106,0.55000000000000004,236,0,0,0,0]
["EGUIDVERIN09",null,"Vérin 5\"1/4 - 9\"",null,null,null,null,null,null,157,0.55000000000000004,349,0,0,0,0]
["EGUIDPAL09NO",null,"Palpeur pnematique 9\"",null,null,null,null,null,null,105,0.55000000000000004,234,0,0,0,0]
[null,null,"Pillow block for drive pulley",2,0,0,0,1,"Somme des composants + 250€ de peinture",null,0.4,0,0,{"$f":"L19*F19","v":0},0,0]
[null,null,"Roulement pour tambour moteur",{"$f":"2","v":2},0,0,0,1,"Voir CEGID",null,0.4,0,0,0,0,0]
[null,null,"Manchon de serrage",{"$f":"D20","v":2},0,0,0,1,"Voir CEGID",null,0.4,0,0,0,0,0]
[null,null,"Pillow block for idle pulley",{"$f":"D20","v":2},0,0,0,1,"Somme des composants + 250€ peinture",null,0.4,0,0,{"$f":"L22*F22","v":0},0,0]
[null,null,"Roulement pour tambour libre",{"$f":"2","v":2},0,0,0,1,"Voir CEGID",null,0.4,0,0,0,0,0]
[null,null,"Manchon de serrage",{"$f":"D23","v":2},0,0,0,1,"Voir CEGID",null,0.4,0,0,0,0,0]
[null,null,"Palier complet rouleaux toile et bande",{"$f":"D23","v":2},0,0,0,0,"Somme des composants + 40€ peinture",null,0.4,0,0,0,0,0]
[null,null,"Pillow block for cloth rollers",{"$f":"IF(Calculations!I9=\"SERIE 2\",('Série 2'!B26+'Série 2'!B29+'Série 2'!B32+'Série 2'!B35+'Série 2'!B38+'Série 2'!B41)*2-D27,('Séries 3-4-5'!B26+'Séries 3-4-5'!B29+'Séries 3-4-5'!B32+'Séries 3-4-5'!B35+'Séries 3-4-5'!B38+'Séries 3-4-5'!B41)*2-D27)","v":40},0,0,0,{"$f":"CEILING(D26/10,5)","v":5},"Voir CEGID",null,0.4,0,0,{"$f":"L26*F26","v":0},0,0]
[null,null,"Pillow block for belt rollers",{"$f":"IF(Calculations!I9=\"SERIE 2\",'Série 2'!B26*2,'Séries 3-4-5'!B26*2)","v":18},0,0,0,{"$f":"CEILING(D27/10,5)","v":5},"Voir CEGID",null,0.4,0,0,{"$f":"L27*F27","v":0},0,0]
[null,null,"Plastic bearing for cloth forming roller",2,0,0,0,2,null,22,0.55000000000000004,49,0,{"$f":"L28*F28","v":0},0,98]
[null,null,null,null,null,null,null,null,null,null,null,0]
["ECOM000034-7058","SBR","Pneumatic bellow 8x2 - Cloth guiding",{"$f":"IF(Calculations!I9=\"SERIE 2\",'Série 2'!B73,'Séries 3-4-5'!B73)","v":2},0,0,0,{"$f":"IF(D30=0,0,1)","v":1},null,45,0.4,75,0,{"$f":"L30*F30","v":0},0,75]
["ECOM001026-7058","SBR","Pneumatic bellow 8x3 - Vacuum box tilting",{"$f":"IF(Calculations!I9=\"SERIE 2\",'Série 2'!B72,'Séries 3-4-5'!B72)","v":9},0,0,0,{"$f":"IF(D31=0,0,1)","v":1},null,62,0.4,104,0,{"$f":"L31*F31","v":0},0,104]
["ECOM000088-7058","SBR","Pneumatic bellow 10x2 - Cloth tension",{"$f":"IF(Calculations!I9=\"SERIE 2\",'Série 2'!B71,'Séries 3-4-5'!B71)","v":2},0,0,0,1,null,47,0.4,79,0,{"$f":"L32*F32","v":0},0,79]
["ECOM000100-7058","SBR","Pneumatic bellow 12x2 - Cloth tension",{"$f":"IF(Calculations!I9=\"SERIE 2\",'Série 2'!B70,'Séries 3-4-5'!B70)","v":0},0,0,0,0,null,68,0.4,114,0,{"$f":"L33*F33","v":0},0,0]
[null,null,"Filter cloth",{"$f":"1","v":1},1,1,3,1,"Voir CEGID",null,0.4,{"$f":"'Cost list'!U53","v":6141.6220880332112},6141.6220880332112,{"$f":"L34*F34","v":6141.6220880332112},18424.866264099634,6141.6220880332112]
[null,null,null,null,null,null,null,null,null,null,null,0]
[null,"PE-UHMW","Length of table sliding rules - Right side",{"$f":"D38/2","v":5},0,0,0,1,"(20 x longueur table) + 15",{"$f":"20*Tabl!D5+15","v":615},0.55000000000000004,1367,0,{"$f":"L36*F36","v":0},0,1367]
[null,"PE-UHMW","Length of table sliding rules - Left side",{"$f":"D36","v":5},0,0,0,1,"(20 x longueur table) + 15",{"$f":"J36","v":615},0.55000000000000004,1367,0,{"$f":"L37*F37","v":0},0,1367]
[null,null,"Table wear belt",{"$f":"IF(Calculations!I9=\"SERIE 2\",'Cost List2.xls'!G12,'Cost list'!H13)","v":10},2,0,{"$f":"D38","v":10},2,"6,5 x longueur (mètres) + 90",{"$f":"6.5*Tabl!D65+90","v":500.47499999999997},0.55000000000000004,1113,{"$f":"L38*E38","v":2226},{"$f":"L38*F38","v":0},11130,2226]
["E000002231-8005","PE-UHMW","Tensioning wheel",{"$f":"Tabl!C36","v":30},0,0,0,0,null,34,0.55000000000000004,76,0,{"$f":"$L$39*F39","v":0},0,0]
["E000002232-8005","PE-UHMW","End wheel table",{"$f":"Tabl!C37","v":10},0,0,0,0,null,29,0.55000000000000004,65,0,{"$f":"$L$40*F40","v":0},0,0]
["E000002234-8005","PE-UHMW","Return roller",{"$f":"Tabl!C39","v":160},0,0,0,0,null,3,0.55000000000000004,7,0,{"$f":"$L$41*F41","v":0},0,0]
[null,null,null,null,null,null,null,null,null,null,null,0]
[null,null,"Filter drive reducer",1,0,0,0,0,"Voir CEGID",null,0.4,0,0,{"$f":"$L$43*F43","v":0},0,0]
[null,null,"Filter drive motor",1,0,0,0,0,"Voir CEGID",null,0.4,0,0,{"$f":"$L$44*F44","v":0},0,0]
[null,null,"Set of V-Belt",1,0,0,1,1,"Voir CEGID",null,0.4,472.22,0,{"$f":"$L$45*F45","v":0},472.22,472.22]
[null,null,null,null,null,null,null,null,null,null,null,0]
[null,"PE-UHMW","Vacuum box sliding rules",1,0,0,1,1,"100 x longueur boite",{"$f":"100*Tabl!D5","v":3000},0.55000000000000004,6667,0,{"$f":"$L$47*F47","v":0},6667,6667]
[null,null,"Vacuum box wear belts",2,2,2,4,2,"11 x longueur (mètres) + 90",{"$f":"11*('B. à V.'!B65*2+2.51)+90","v":777.61},0.55000000000000004,1729,3458,{"$f":"$L$48*F48","v":3458},6916,3458]
["E000000746-8005","PE-UHMW","End wheel vacuum box",2,0,0,0,0,null,56,0.55000000000000004,125,0,{"$f":"$L$49*F49","v":0},0,0]
["E000000384-8005","PE-UHMW","Return roller",{"$f":"'Séries 3-4-5'!N65","v":24},0,0,0,0,null,8,0.55000000000000004,18,0,{"$f":"$L$50*F50","v":0},0,0]
[{"$f":"'Séries 3-4-5'!L53","v":"E000000568-7023"},"Rubber","Rubber sleeve",{"$f":"'B. à V.'!B73","v":28},0,0,{"$f":"D51","v":28},{"$f":"CEILING(D51/10,5)","v":5},"Voir CEGID",null,0.4,200,0,{"$f":"$L$51*F51","v":0},5600,1000]
[null,null,null,null,null,null,null,null,null,null,null,0]
[null,"PU 90 shore","Scraper",1,0,1,2,1,"27 x longueur (mètres) + 45 €",{"$f":"27*(Calculations!E9/1000+0.38)+45","v":136.26},0.55000000000000004,303,0,{"$f":"$L$53*F53","v":303},606,303]
[null,"PVDF","Spray nozzle",{"$f":"3*Calculations!H75+2*Calculations!H76","v":161},{"$f":"CEILING(D54/10,10)","v":20},0,{"$f":"D54","v":161},{"$f":"CEILING(D54/2,10)","v":90},null,2.5,0.4,5,100,{"$f":"$L$54*F54","v":0},805,450]
[null,null,null,null,null,null,null,null,null,null,null,0]
["EELE000311-9034",null,"Cloth & Belt misalignment switch (body)",4,0,0,0,4,null,31,0.4,52,0,{"$f":"$L$56*F56","v":0},0,208]
["EELE000313-9034",null,"Cloth & Belt misalignment switch (head)",4,0,0,0,4,null,31,0.4,52,0,{"$f":"$L$57*F57","v":0},0,208]
["EELE000449-9034",null,"Emergency stop - LEFT",1,0,0,0,1,null,352,0.4,587,0,{"$f":"$L$58*F58","v":0},0,587]
["EELE000450-9034",null,"Emergency stop - RIGHT",1,0,0,0,1,null,352,0.4,587,0,{"$f":"$L$59*F59","v":0},0,587]
["EELE000192-0000",null,"Cloth run-off and tension sensor",2,0,0,0,2,null,100,0.4,167,0,{"$f":"$L$60*F60","v":0},0,334]
["EELE000484-0000",null,"Air pressure switch",1,0,0,0,1,null,320,0.4,534,0,{"$f":"$L$61*F61","v":0},0,534]
["EELE000485-0000",null,"Water pressure switch",1,0,0,0,1,null,320,0.4,534,0,{"$f":"$L$62*F62","v":0},0,534]
[null,null,"Overtorque limit switch",1,0,0,0,1,null,57,0.4,{"$f":"ROUNDUP((J63/(1-K63))/(1-$T$3),)","v":95},{"$f":"L63*E63","v":0},{"$f":"$L$63*F63","v":0},{"$f":"L63*G63","v":0},{"$f":"L63*H63","v":95}]
["EELE000317-0000",null,"Cake thickness transmitter",1,0,0,0,1,null,543,0.4,905,0,{"$f":"$L$64*F64","v":0},{"$f":"$L$12*G64","v":0},905]
[null,null,null,null,null,null,null,null,null,null,null,null,{"$f":"SUM(M12:M64)","v":11925.622088033211},{"$f":"SUM(N12:N64)","v":10109.622088033211},51035.086264099635,29506.842088033212,"TOTAL (€)"]

{"sheet":"Cost list","index":10,"n_rows":255,"n_cols":33,"rows_kept":255,"cut":false,"hidden":false,"merged":[[0,14,0,18],[4,27,6,27],[62,21,64,21],[65,22,65,32],[4,20,6,20],[65,1,65,20],[2,3,2,5],[61,4,64,4],[62,14,64,14],[62,20,64,20],[3,4,6,4],[4,14,6,14],[4,28,6,28],[4,21,6,21],[3,12,3,13],[96,29,96,30],[113,1,113,20],[107,1,107,20],[4,0,6,0],[84,0,84,20],[30,0,31,0],[97,29,97,30],[101,0,101,20],[109,1,109,20],[111,1,111,20],[137,1,137,20],[143,1,143,20],[115,1,115,20],[117,1,117,20],[119,1,119,20],[124,1,124,20],[130,1,130,20],[132,1,132,20],[164,1,164,20],[166,1,166,20],[168,1,168,20],[170,1,170,20],[148,1,148,20],[153,1,153,20],[160,1,160,20],[162,1,162,20],[229,1,229,20],[215,1,215,20],[217,1,217,20],[219,1,219,20],[221,1,221,20],[223,1,223,20],[225,1,225,20],[227,1,227,20],[192,1,192,20],[198,1,198,20],[204,1,204,20],[209,1,209,20],[172,1,172,20],[174,1,174,20],[180,1,180,20],[186,1,186,20]]}
[null,null,null,null,null,null,null,null,null,null,null,null,null,null,"Managed your cost"]
[null,null,null,null,null,null,null,null,null,null,null,null,null,null,null,"French GM","(Local) GM","French Hour cost","(local) Hour cost",null,null,"interco",1.35]
[null,"N° DU DEVIS :",{"$f":"'Séries 3-4-5'!E2","v":"760895-rev2"},{"$f":"\"- \"&'Séries 3-4-5'!B4&\"B\"&('Séries 3-4-5'!B3/100)","v":"- 90B30"},null,null,"Client",null,{"$f":"'Séries 3-4-5'!H2","v":"PKT"},null,null,null,{"$f":"'Séries 3-4-5'!B8","v":"RIGHT"},null,1,1,1,60,45,"Rev.",0,null,null,null,null,null,"detail of cost sharing France / local"]
[null,"Ph. LE BIGOT => ",{"$f":"'Séries 3-4-5'!E3","v":"X HOG"},null,"local basic","For ","Surface :",null,{"$f":"'Séries 3-4-5'!B4","v":90},"Largeur",null,{"$f":"'Séries 3-4-5'!B3","v":3000},"Spécifications",null,{"$f":"CONCATENATE(G11,\"+\",G31,\"+\",G14,\"+\",\"T\",D15,\"+\",H35,\"G\",\"+\",D51,\"KW\",\"+\",H52,\"VF\")","v":"316L+U45N+SBR+T120+4G+90KW+1VF"},null,null,null,null,null,{"$f":"'Séries 3-4-5'!B2","v":"2026-02-11"},null,null,null,null,"French","Local","French","Local","French","Local","French","Local"]
["S/E",null," ",null,null,"local",null,null,"Material","Buyout","Corrective","Updated","Buyout",null,"Total (1) Material + buyout","Labour","Labour",null,"Total (2)",null,"Final cost without engineering","Final cost including engineering",null,"data",null,"incl 1,149","incl. 1,149","Total (1) Material + buyout","Total (1) Material + buyout","Labour","Labour","Total (2)","Total (2)"]
[null,"Désignation",null,"Spéc",null,"fill the ","Mat","Qty","Unit cost","Unit cost","factor","material",null,"Qty",null,"Unit","Total","Taux","Labour","Marg",null,null,"Désignation","Spéc",{"$f":"G6","v":"Mat"},"France","Local",null,null,"Total","Total","labour","labour"]
[null,null,null,null,null,"cell","Spec",null,null,null,null,null,1,null,null,null,1,null,null,null,null,null,null,"Dia.",null,"no engineering",null,null,null,"hours","hours","cost","cost"]
["ENG","Etudes",null,null,null,null,null,1,null,11500,null,{"$f":"I8*$L$66","v":0},{"$f":"J8*$M$7","v":11500},1,{"$f":"(L8+M8)*N8","v":11500},80,{"$f":"P8*N8","v":80},44,0,{"$f":"IF(F8=\"\",$P$3,$Q$3)","v":1},0,0,{"$f":"B8","v":"Etudes"},null,null,{"$f":"U8","v":0},null,{"$f":"O8","v":11500},null,{"$f":"Q8","v":80},null,{"$f":"S8","v":0}]
["ENG","customisazion second filter and following",null,null,null,null,null,1,null,5100,null,{"$f":"I9*$L$66","v":0},{"$f":"J9*$M$7","v":5100},{"$f":"'Séries 3-4-5'!$I$3-1","v":0},{"$f":"(L9+M9)*N9","v":0},{"$f":"IF(N9>0.5,40,0)","v":0},{"$f":"P9*N9","v":0},44,{"$f":"Q9*R9","v":0},{"$f":"IF(F9=\"\",$P$3,$Q$3)","v":1},{"$f":"(O9)*T9","v":0},{"$f":"(S9)*T9","v":0},"customisazion second filter and following",null,null,{"$f":"U9","v":0},{"$f":"IF(F9=\"\",\"\",U9)","v":""},{"$f":"IF($F9=\"\",O9,\"\")","v":0},{"$f":"IF($F9=\"\",\"\",O9)","v":""},{"$f":"IF($F9=\"\",Q9,\"\")","v":0},{"$f":"IF($F9=\"\",\"\",Q9)","v":""},{"$f":"IF($F9=\"\",S9,\"\")","v":0},{"$f":"IF($F9=\"\",\"\",S9)","v":""}]
[null,"Other customisazion",null,null,null,null,null,1,null,null,null,{"$f":"I10*$L$66","v":0},{"$f":"J10*$M$7","v":0},{"$f":"'Séries 3-4-5'!$I$3","v":1},{"$f":"(L10+M10)*N10","v":0},0,{"$f":"P10*N10","v":0},44,0,{"$f":"IF(F10=\"\",$P$3,$Q$3)","v":1},{"$f":"(O10)*T10","v":0},{"$f":"(S10)*T10","v":0},"Other customisazion",null,null,{"$f":"U10","v":0},{"$f":"IF(F10=\"\",\"\",U10)","v":""},{"$f":"IF($F10=\"\",O10,\"\")","v":0},{"$f":"IF($F10=\"\",\"\",O10)","v":""},{"$f":"IF($F10=\"\",Q10,\"\")","v":0},{"$f":"IF($F10=\"\",\"\",Q10)","v":""},{"$f":"IF($F10=\"\",S10,\"\")","v":0},{"$f":"IF($F10=\"\",\"\",S10)","v":""}]
["01","frame",null,null,"#",0,{"$f":"'Séries 3-4-5'!B13","v":"316L"},1,{"$f":"IF(G11=\"E24\",Char!N24,(HLOOKUP(G11,Char!I6:M24,19,0))/6.55957)","v":23068.585288364939},{"$f":"((IF(Char!$B$84=0,0,HLOOKUP(L4,Char!B84:M90,6,0)))/6.55957)","v":2532.1781763133863},{"$f":"IF(G11=\"\",'Séries 3-4-5'!$E$42,(VLOOKUP(G11,'Séries 3-4-5'!$D$26:$E$42,2,0)))","v":2.0689655172413794},{"$f":"I11*K11","v":47728.107493168842},{"$f":"J11*$M$7","v":2532.1781763133863},{"$f":"'Séries 3-4-5'!$I$3","v":1},{"$f":"(L11+M11)*N11","v":50260.285669482226},{"$f":"IF(G11=\"E24\",Char!O24,Char!M24)","v":648.49166666666667},{"$f":"P11*N11*$Q$7","v":648.49166666666667},{"$f":"IF($F11=\"\",$R$3,$S$3)","v":45},29182.125,{"$f":"IF(F11=\"\",$P$3,$Q$3)","v":1},{"$f":"290500*0.12*30/27","v":38733.333333333336},null,"frame",{"$f":"D11","v":0},{"$f":"G11","v":"316L"},{"$f":"IF(F11=\"\",U11,\"\")","v":""},{"$f":"IF(F11=\"\",\"\",U11)","v":38733.333333333336},{"$f":"IF($F11=\"\",O11,\"\")","v":""},{"$f":"IF($F11=\"\",\"\",O11)","v":50260.285669482226},{"$f":"IF($F11=\"\",Q11,\"\")","v":""},{"$f":"IF($F11=\"\",\"\",Q11)","v":648.49166666666667},{"$f":"IF($F11=\"\",S11,\"\")","v":""},{"$f":"IF($F11=\"\",\"\",S11)","v":29182.125}]
["18","belt support steel beam",null,null,null,0,{"$f":"'Séries 3-4-5'!B14","v":"316L"},{"$f":"LOOKUP(L4,Tabl!A21:A44,Tabl!B21:B44)","v":10},{"$f":"Tabl!K88","v":19322.304545454543},null,{"$f":"IF(G12=\"\",'Séries 3-4-5'!$E$42,(VLOOKUP(G12,'Séries 3-4-5'!$D$26:$E$42,2,0)))","v":2.0689655172413794},{"$f":"I12*K12","v":39977.181818181816},{"$f":"J12*$M$7","v":0},{"$f":"'Séries 3-4-5'!$I$3","v":1},{"$f":"(L12+M12)*N12","v":39977.181818181816},{"$f":"Tabl!J89","v":70},{"$f":"P12*N12*$Q$7","v":70},45,{"$f":"Q12*R12","v":3150},1,{"$f":"287384*0.12","v":34486.080000000002},null,"belt support steel beam",0,"316L",{"$f":"IF(F12=\"\",U12,\"\")","v":""},{"$f":"IF(F12=\"\",\"\",U12)","v":34486.080000000002},{"$f":"IF($F12=\"\",O12,\"\")","v":""},{"$f":"IF($F12=\"\",\"\",O12)","v":39977.181818181816},{"$f":"IF($F12=\"\",Q12,\"\")","v":""},{"$f":"IF($F12=\"\",\"\",Q12)","v":70},{"$f":"IF($F12=\"\",S12,\"\")","v":""},{"$f":"IF($F12=\"\",\"\",S12)","v":3150}]
["18","wear belt and plastic rail",null,{"$f":"'Séries 3-4-5'!B15","v":"50X5"},null,0,null,{"$f":"LOOKUP(L4,Tabl!A21:A44,Tabl!B21:B44)","v":10},null,{"$f":"Tabl!K89","v":9977.3686363636371},{"$f":"IF(G13=\"\",'Séries 3-4-5'!$E$42,(VLOOKUP(G13,'Séries 3-4-5'!$D$26:$E$42,2,0)))","v":1.3},0,{"$f":"J13*$M$7","v":9977.3686363636371},{"$f":"'Séries 3-4-5'!$I$3","v":1},9977.3686363636371,null,{"$f":"P13*N13*$Q$7","v":0},45,0,1,{"$f":"(O13+S13)*T13*0.8*0","v":0},"Korea","wear belt and plastic rail","50X5",0,"",0,"",9977.3686363636371,"",0,"",0]
["04","rubber belt + grooving + pinching",null,null,null,null,{"$f":"'Séries 3-4-5'!B17","v":"SBR"},1,{"$f":"(VLOOKUP(G14,Band!I22:O23,7,0))","v":66399.607999999993},{"$f":"(VLOOKUP(G14,Band!A22:H24,8,0))","v":69124},{"$f":"IF(G14=\"\",'Séries 3-4-5'!$E$42,(VLOOKUP(G14,'Séries 3-4-5'!$D$26:$E$42,2,0)))","v":1.05},null,69124,{"$f":"'Séries 3-4-5'!$I$3","v":1},69124,{"$f":"HLOOKUP(L4,Band!B13:G27,15,0)","v":166.89999999999998},166.89999999999998,60,10013.999999999998,1,{"$f":"106150","v":106150},{"$f":"(I14+$S$14)*$T$14","v":76413.607999999993},"rubber belt + grooving + pinching",0,"SBR",106150,"",69124,"",166.89999999999998,"",10013.999999999998,""]
["04","edge curb",null,{"$f":"'Séries 3-4-5'!B18","v":120},null,0,{"$f":"'Séries 3-4-5'!B19","v":"SBR"},1,null,{"$f":"(HLOOKUP(L4,Band!B13:G26,IF(D15=Band!A25,13,14),0))/6.55957","v":10487.028875368354},{"$f":"IF(G15=\"\",'Séries 3-4-5'!$E$42,(VLOOKUP(G15,'Séries 3-4-5'!$D$26:$E$42,2,0)))","v":1.05},0,10487.028875368354,{"$f":"'Séries 3-4-5'!$I$3","v":1},10487.028875368354,0,0,45,0,1,{"$f":"(O15+S15)*T15*1.05*0.8","v":8809.1042553094194},null,"edge curb",120,"SBR","",8809.1042553094194,"",10487.028875368354,"",0,"",0]
["03",{"$f":"\"drive pulley\"&\" \"&'Séries 3-4-5'!$B$20","v":"drive pulley SBR"},null,{"$f":"'Séries 3-4-5'!$B$5","v":1210},"#",0,null,1,{"$f":"(HLOOKUP($L$4,Tamb!$B$3:$M$9,2,0))/6.55957","v":0},{"$f":"(HLOOKUP($L$4,Tamb!$B$3:$M$9,3,0))/6.55957","v":10000.655530774122},{"$f":"IF(G16=\"\",'Séries 3-4-5'!$E$42,(VLOOKUP(G16,'Séries 3-4-5'!$D$26:$E$42,2,0)))","v":1.3},0,{"$f":"J16*$M$7","v":10000.655530774122},{"$f":"'Séries 3-4-5'!$I$3","v":1},{"$f":"(L16+M16)*N16","v":10000.655530774122},{"$f":"HLOOKUP($L$4,Tamb!$B$3:$M$9,6,0)","v":0},{"$f":"P16*N16*$Q$7","v":0},45,{"$f":"Q16*R16","v":0},1,{"$f":"14281","v":14281},null,"drive pulley SBR",1210,0,"",14281,"",10000.655530774122,"",0,"",0]
["02",{"$f":"\"idler pulley\"&\" \"&'Séries 3-4-5'!$B$20","v":"idler pulley SBR"},null,{"$f":"'Séries 3-4-5'!$B$5","v":1210},"#",0,null,1,{"$f":"(HLOOKUP($L$4,Tamb!$B$3:$M$9,4,0))/6.55957","v":0},{"$f":"(HLOOKUP($L$4,Tamb!$B$3:$M$9,5,0))/6.55957","v":7393.7773360144038},{"$f":"IF(G17=\"\",'Séries 3-4-5'!$E$42,(VLOOKUP(G17,'Séries 3-4-5'!$D$26:$E$42,2,0)))","v":1.3},0,7393.7773360144038,{"$f":"'Séries 3-4-5'!$I$3","v":1},7393.7773360144038,{"$f":"HLOOKUP($L$4,Tamb!$B$3:$M$9,7,0)","v":0},0,45,0,1,{"$f":"14038","v":14038},null,"idler pulley SBR",1210,0,"",14038,"",7393.7773360144038,"",0,"",0]
["02/03","pulleys bearing",null,null,null,0,null,1,null,{"$f":"(HLOOKUP($L$4,Tamb!$B$3:$M$10,8,0))/6.55957","v":4878.368551597132},{"$f":"IF(G18=\"\",'Séries 3-4-5'!$E$42,(VLOOKUP(G18,'Séries 3-4-5'!$D$26:$E$42,2,0)))","v":1.3},0,4878.368551597132,{"$f":"'Séries 3-4-5'!$I$3","v":1},4878.368551597132,5,5,45,225,1,{"$f":"4674*2","v":9348},null,"pulleys bearing",0,0,"",9348,"",4878.368551597132,"",5,"",225]
["05","belt guide rollers",null,null,null,0,null,{"$f":"'Séries 3-4-5'!B23","v":24},null,{"$f":"(136*H19)/6.55957","v":497.59359226290746},{"$f":"IF(G19=\"\",'Séries 3-4-5'!$E$42,(VLOOKUP(G19,'Séries 3-4-5'!$D$26:$E$42,2,0)))","v":1.3},0,497.59359226290746,{"$f":"'Séries 3-4-5'!$I$3","v":1},497.59359226290746,null,0,45,0,1,{"$f":"(O19+S19)*T19*1.1*0.8","v":437.88236119135865},null,"belt guide rollers",0,0,"",437.88236119135865,"",497.59359226290746,"",0,"",0]
["06","belt support rollers",null,{"$f":"'Séries 3-4-5'!B24","v":355},"#","O",{"$f":"'Séries 3-4-5'!B25","v":"316L"},{"$f":"'Séries 3-4-5'!B26","v":9},{"$f":"((INDEX(Roul!Q5:BE9,MATCH(D20,Roul!Q6:Q10,0)+1,MATCH($L$4&G20,Roul!R5:BE5,0)+1))*H20)/6.55957","v":9469.0048280603751},{"$f":"((INDEX(Roul!Q10:BE14,MATCH(D20,Roul!Q11:Q14,0)+1,MATCH(L4&G20,Roul!R10:BE10,0)+1))*H20)/6.55957","v":20.580617327050401},{"$f":"IF(G20=\"\",'Séries 3-4-5'!$E$42,(VLOOKUP(G20,'Séries 3-4-5'!$D$26:$E$42,2,0)))","v":2.0689655172413794},{"$f":"I20*K20","v":19591.044471849054},20.580617327050401,{"$f":"'Séries 3-4-5'!$I$3","v":1},{"$f":"(L20+M20)*N20","v":19611.625089176105},{"$f":"(LOOKUP(D20,Roul!$P$45:$P$51,Roul!$Q$45:$Q$51))*H20","v":117},117,45,5265,1,{"$f":"1408*H20/W2*1.03","v":9668.2666666666664},null,"belt support rollers",355,"316L","",9668.2666666666664,"",19611.625089176105,"",117,"",5265]
["09","cloth support roller type 1",null,{"$f":"'Séries 3-4-5'!B27","v":219},"#","O",{"$f":"'Séries 3-4-5'!B28","v":"316L"},{"$f":"'Séries 3-4-5'!B29","v":8},{"$f":"((INDEX(Roul!Q15:BE20,MATCH(D21,Roul!Q16:Q20,0)+1,MATCH(L4&G21,Roul!R15:BE15,0)+1))*H21)/6.55957","v":2523.3361333136168},{"$f":"((INDEX(Roul!Q21:BE26,MATCH(D21,Roul!Q22:Q26,0)+1,MATCH(L4&G21,Roul!R21:BE21,0)+1))*H21)/6.55957","v":18.293882068489246},{"$f":"IF(G21=\"\",'Séries 3-4-5'!$E$42,(VLOOKUP(G21,'Séries 3-4-5'!$D$26:$E$42,2,0)))","v":2.0689655172413794},5220.6954482350693,18.293882068489246,{"$f":"'Séries 3-4-5'!$I$3","v":1},5238.9893303035587,{"$f":"(LOOKUP(D21,Roul!$P$45:$P$51,Roul!$Q$45:$Q$51))*H21","v":48},48,45,2160,1,{"$f":"1003*H21/W2*1.03*219/168.3","v":7966.2581369248019},null,"cloth support roller type 1",219,"316L","",7966.2581369248019,"",5238.9893303035587,"",48,"",2160]
["09","cloth support roller type 2",null,{"$f":"'Séries 3-4-5'!B30","v":168.3},"#","O",{"$f":"'Séries 3-4-5'!B31","v":"316L"},{"$f":"'Séries 3-4-5'!B32","v":8},{"$f":"(IF(H22=0,0,(INDEX(Roul!Q15:BE20,MATCH(D22,Roul!Q16:Q20,0)+1,MATCH(L4&G22,Roul!R15:BE15,0)+1))*H22))/6.55957","v":1826.9490225731261},{"$f":"(IF(H22=0,0,(INDEX(Roul!Q21:BE26,MATCH(D22,Roul!Q22:Q26,0)+1,MATCH(L4&G22,Roul!R21:BE21,0)+1))*H22))/6.55957","v":18.293882068489246},{"$f":"IF(G22=\"\",'Séries 3-4-5'!$E$42,(VLOOKUP(G22,'Séries 3-4-5'!$D$26:$E$42,2,0)))","v":2.0689655172413794},3779.8945294616406,18.293882068489246,{"$f":"'Séries 3-4-5'!$I$3","v":1},3798.18841153013,{"$f":"IF(H22=0,0,(LOOKUP(D22,Roul!$P$45:$P$51,Roul!$Q$45:$Q$51))*H22)","v":40},40,45,1800,1,{"$f":"1003*H21/W2*1.03","v":6122.0148148148146},null,"cloth support roller type 2",168.3,"316L","",6122.0148148148146,"",3798.18841153013,"",40,"",1800]
["14","cloth discharge end support roller",null,{"$f":"'Séries 3-4-5'!B33","v":168.3},"#","O",{"$f":"'Séries 3-4-5'!B34","v":"316L"},{"$f":"'Séries 3-4-5'!B35","v":2},{"$f":"((INDEX(Roul!Q15:BE20,MATCH(D23,Roul!Q16:Q20,0)+1,MATCH(L4&G23,Roul!R15:BE15,0)+1))*H23)/6.55957","v":456.73725564328151},{"$f":"((INDEX(Roul!Q21:BE26,MATCH(D23,Roul!Q22:Q26,0)+1,MATCH(L4&G23,Roul!R21:BE21,0)+1))*H23)/6.55957","v":4.5734705171223116},{"$f":"IF(G23=\"\",'Séries 3-4-5'!$E$42,(VLOOKUP(G23,'Séries 3-4-5'!$D$26:$E$42,2,0)))","v":2.0689655172413794},944.97363236541014,4.5734705171223116,{"$f":"'Séries 3-4-5'!$I$3","v":1},949.5471028825325,{"$f":"(LOOKUP(D23,Roul!$P$45:$P$51,Roul!$Q$45:$Q$51))*H23","v":10},10,45,450,1,{"$f":"(O23+S23)*T23*1.2*0.8","v":1343.5652187672313},null,"cloth discharge end support roller",168.3,"316L","",1343.5652187672313,"",949.5471028825325,"",10,"",450]
["09","cake discharge roller",null,{"$f":"'Séries 3-4-5'!B36","v":168.3},"#","O",{"$f":"'Séries 3-4-5'!B37","v":"316L"},{"$f":"'Séries 3-4-5'!B38","v":1},{"$f":"IF('Séries 3-4-5'!B37=\"CAOUT\",(HLOOKUP($L$4,Roul!T45:AC48,2,0))/6.55957,'Cost list'!I23/2)","v":228.36862782164076},{"$f":"IF('Séries 3-4-5'!B37=\"CAOUT\",(HLOOKUP($L$4,Roul!T45:AC48,3,0))/6.55957,'Cost list'!J23/2)","v":2.2867352585611558},{"$f":"IF(G24=\"\",'Séries 3-4-5'!$E$42,(VLOOKUP(G24,'Séries 3-4-5'!$D$26:$E$42,2,0)))","v":2.0689655172413794},472.48681618270507,2.2867352585611558,{"$f":"'Séries 3-4-5'!$I$3","v":1},474.77355144126625,{"$f":"IF('Séries 3-4-5'!B37=\"CAOU\",HLOOKUP($L$4,Roul!T45:AC48,4,0),'Cost list'!P23/2)","v":5},5,45,225,1,{"$f":"(O24+S24)*T24*0.8","v":559.81884115301307},null,"cake discharge roller",168.3,"316L","",559.81884115301307,"",474.77355144126625,"",5,"",225]
["08","Guiding roller (angular)",null,{"$f":"'Séries 3-4-5'!B39","v":219},"#","O",{"$f":"'Séries 3-4-5'!B40","v":"316L"},{"$f":"'Séries 3-4-5'!B41","v":1},{"$f":"(IF(H25=0,0,(INDEX(Roul!Q35:BE38,MATCH(D25,Roul!Q36:Q38,0)+1,MATCH(L4&G25,Roul!R35:BE35,0)+1))*H25))/6.55957","v":315.41701666420209},{"$f":"(IF(H25=0,0,(INDEX(Roul!Q39:BE42,MATCH(D25,Roul!Q40:Q42,0)+1,MATCH(L4&G25,Roul!R39:BE39,0)+1))*H25))/6.55957","v":533.57156033093634},{"$f":"IF(G25=\"\",'Séries 3-4-5'!$E$42,(VLOOKUP(G25,'Séries 3-4-5'!$D$26:$E$42,2,0)))","v":2.0689655172413794},652.58693102938366,533.57156033093634,{"$f":"'Séries 3-4-5'!$I$3","v":1},1186.1584913603201,{"$f":"IF(H25=0,0,(LOOKUP(D25,Roul!$P$45:$P$51,Roul!$Q$45:$Q$51))*H25)","v":6},6,45,270,1,{"$f":"(O25+S25)*T25*1.4*0.8","v":1630.8975103235584},null,"Guiding roller (angular)",219,"316L","",1630.8975103235584,"",1186.1584913603201,"",6,"",270]
["16","entrance / cloth form roller",null,{"$f":"'Séries 3-4-5'!B42","v":355},"#","O",{"$f":"'Séries 3-4-5'!B43","v":"U45N"},{"$f":"'Séries 3-4-5'!B44","v":1},{"$f":"((INDEX(Roul!Q27:BE30,MATCH(D26,Roul!Q28:Q30,0)+1,MATCH(L4&G26,Roul!R27:BE27,0)+1))*H26)/6.55957","v":1761.8642685419929},{"$f":"((INDEX(Roul!Q31:BE34,MATCH(D26,Roul!Q32:Q34,0)+1,MATCH(L4&G26,Roul!R31:BE31,0)+1))*H26)/6.55957","v":2.2867352585611558},{"$f":"IF(G26=\"\",'Séries 3-4-5'!$E$42,(VLOOKUP(G26,'Séries 3-4-5'!$D$26:$E$42,2,0)))","v":1.75},3083.2624699484877,2.2867352585611558,{"$f":"'Séries 3-4-5'!$I$3","v":1},3085.549205207049,{"$f":"(LOOKUP(D26,Roul!$P$45:$P$51,Roul!$Q$45:$Q$51))*H26","v":13},13,45,585,1,{"$f":"13910*0.12","v":1669.2},null,"entrance / cloth form roller",355,"U45N","",1669.2,"",3085.549205207049,"",13,"",585]
["06/08/09/14","roller bearing",null,null,null,0,null,{"$f":"'Séries 3-4-5'!B45","v":58},null,{"$f":"((IF(L4<4000,H27*270,(H20*326+(H21+H22+H23+H24+H25)*270)*2)))/6.55957","v":2387.3516099378467},{"$f":"IF(G27=\"\",'Séries 3-4-5'!$E$42,(VLOOKUP(G27,'Séries 3-4-5'!$D$26:$E$42,2,0)))","v":1.3},0,2387.3516099378467,{"$f":"'Séries 3-4-5'!$I$3","v":1},2387.3516099378467,{"$f":"H27*0.15","v":8.6999999999999993},8.6999999999999993,45,391.49999999999994,1,{"$f":"(O27+S27)*T27*0.8","v":2223.0812879502773},null,"roller bearing",0,0,"",2223.0812879502773,"",2387.3516099378467,"",8.6999999999999993,"",391.49999999999994]
["02/03/08/10","miscelleneaous  for guiding & tensioning",null,null,null,0,null,null,null,{"$f":"((HLOOKUP(L4,Char!B57:M64,5,0))/6.55957)+((HLOOKUP(L4,Char!B66:M73,5,0))/6.55957)","v":4119.9346908410153},{"$f":"IF(G28=\"\",'Séries 3-4-5'!$E$42,(VLOOKUP(G28,'Séries 3-4-5'!$D$26:$E$42,2,0)))","v":1.3},0,{"$f":"J28*$M$7","v":4119.9346908410153},{"$f":"'Séries 3-4-5'!$I$3","v":1},{"$f":"(L28+M28)*N28","v":4119.9346908410153},null,{"$f":"P28*N28*$Q$7","v":0},45,{"$f":"Q28*R28","v":0},1,{"$f":"(O28+S28)*T28*0.8","v":3295.9477526728124},null,"miscelleneaous  for guiding & tensioning",0,0,"",3295.9477526728124,"",4119.9346908410153,"",0,"",0]
["08","cloth guiding device",null,null,"#",0,{"$f":"'Séries 3-4-5'!B13","v":"316L"},1,{"$f":"(INDEX(Char!A57:M62,MATCH(G29,Char!A58:A62,0)+1,MATCH(L4,Char!B57:M57,0)+1))/6.55957","v":438.29092455755483},null,{"$f":"IF(G29=\"\",'Séries 3-4-5'!$E$42,(VLOOKUP(G29,'Séries 3-4-5'!$D$26:$E$42,2,0)))","v":2.0689655172413794},906.80880942942383,0,{"$f":"'Séries 3-4-5'!$I$3","v":1},906.80880942942383,{"$f":"HLOOKUP(L4,Char!A57:M64,8,0)","v":30},30,45,1350,1,{"$f":"(O29+S29)*T29*0.8","v":1805.4470475435392},null,"cloth guiding device",0,"316L","",1805.4470475435392,"",906.80880942942383,"",30,"",1350]
["10","cloth tensionning device",null,null,"#",0,{"$f":"'Séries 3-4-5'!B13","v":"316L"},1,{"$f":"(INDEX(Char!A66:M71,MATCH(G30,Char!A67:A71,0)+1,MATCH(L4,Char!B66:M66,0)+1))/6.55957","v":1059.5206698000022},null,{"$f":"IF(G30=\"\",'Séries 3-4-5'!$E$42,(VLOOKUP(G30,'Séries 3-4-5'!$D$26:$E$42,2,0)))","v":2.0689655172413794},2192.1117306206943,0,{"$f":"'Séries 3-4-5'!$I$3","v":1},2192.1117306206943,{"$f":"HLOOKUP(L4,Char!B66:M73,8,0)","v":50},50,45,2250,1,{"$f":"(O30+S30)*T30*0.8","v":3553.6893844965557},null,"cloth tensionning device",0,"316L","",3553.6893844965557,"",2192.1117306206943,"",50,"",2250]
["13","vacuum box",null,{"$f":"'Séries 3-4-5'!B46","v":140},null,null,{"$f":"'Séries 3-4-5'!B47","v":"U45N"},null,{"$f":"('B. à V.'!B87)/6.55957","v":30826.322152214252},{"$f":"(LOOKUP(L4,'B. à V.'!A90:A91,'B. à V.'!B90:B91))/6.55957","v":381.12254309352596},{"$f":"IF(G31=\"\",'Séries 3-4-5'!$E$42,(VLOOKUP(G31,'Séries 3-4-5'!$D$26:$E$42,2,0)))","v":1.75},53946.063766374944,381.12254309352596,{"$f":"'Séries 3-4-5'!$I$3","v":1},{"$f":"(L31+M31)*N31","v":54327.186309468467},{"$f":"'B. à V.'!C87","v":351},351,60,{"$f":"Q31*R31","v":21060},1,{"$f":"289219*0.12","v":34706.28},null,"vacuum box",140,"U45N",34706.28,"",54327.186309468467,"",351,"",21060,""]
[null,"V.Box  support + dia + qty connection",null,{"$f":"'Séries 3-4-5'!B49","v":150},null,null,{"$f":"'Séries 3-4-5'!B48","v":"316L"},{"$f":"'Séries 3-4-5'!B50","v":28},null,null,null,0,null,null,null,null,null,60,null,1,null,null,"V.Box  support + dia + qty connection",150,"316L",0,"",0,"",0,"",0,""]
["11/14","C & B wash device + discharge device",null,null,"#",0,{"$f":"'Séries 3-4-5'!B52","v":"316L"},1,{"$f":"(INDEX(Lavage!A5:F16,MATCH('Cost list'!L4,Lavage!A6:A16,0)+1,MATCH('Cost list'!G33,Lavage!B5:F5,0)+1))/6.55957","v":5625.3687360604426},{"$f":"(INDEX(Lavage!A18:F29,MATCH('Cost list'!L4,Lavage!A19:A29,0)+1,MATCH('Cost list'!G33,Lavage!B18:F18,0)+1))/6.55957","v":1524.4901723741038},{"$f":"IF(G33=\"\",'Séries 3-4-5'!$E$42,(VLOOKUP(G33,'Séries 3-4-5'!$D$26:$E$42,2,0)))","v":2.0689655172413794},11638.693936676778,{"$f":"J33*$M$7","v":1524.4901723741038},{"$f":"'Séries 3-4-5'!$I$3","v":1},13163.184109050882,{"$f":"INDEX(Lavage!A31:F42,MATCH('Cost list'!L4,Lavage!A32:A42,0)+1,MATCH('Cost list'!G33,Lavage!B31:F31,0)+1)","v":200},{"$f":"P33*N33*$Q$7","v":200},45,9000,1,{"$f":"(O33+S33)*T33*0.7*1.15*0.8","v":14273.090566228768},null,"C & B wash device + discharge device",0,"316L","",14273.090566228768,"",13163.184109050882,"",200,"",9000]
["15","Form zone apron dam",null,{"$f":"'Séries 3-4-5'!B54","v":"SBR"},"#",0,{"$f":"'Séries 3-4-5'!B53","v":"316L"},1,{"$f":"(INDEX('Acc. sup'!A4:L11,MATCH('Cost list'!G34,'Acc. sup'!A5:A11,0)+1,MATCH('Cost list'!L4,'Acc. sup'!B4:L4,0)+1))/6.55957","v":118.14798835899305},{"$f":"(INDEX('Acc. sup'!A4:L11,MATCH('Cost list'!D34,'Acc. sup'!A5:A11,0)+1,MATCH('Cost list'!L4,'Acc. sup'!B4:L4,0)+1))/6.55957","v":60.979606894964149},{"$f":"IF(G34=\"\",'Séries 3-4-5'!$E$42,(VLOOKUP(G34,'Séries 3-4-5'!$D$26:$E$42,2,0)))","v":2.0689655172413794},244.44411384619252,60.979606894964149,{"$f":"'Séries 3-4-5'!$I$3","v":1},305.42372074115667,{"$f":"HLOOKUP(L4,'Acc. sup'!A4:L12,9,0)","v":8},8,45,360,1,{"$f":"(O34+S34)*T34*1.25*0.8","v":665.42372074115667},null,"Form zone apron dam","SBR","316L","",665.42372074115667,"",305.42372074115667,"",8,"",360]
["20","cake wash feeder",null,{"$f":"'Séries 3-4-5'!B55","v":"OVER"},"#",0,{"$f":"'Séries 3-4-5'!B56","v":"U45N"},{"$f":"'Séries 3-4-5'!B57","v":4},{"$f":"'Acc. sup'!B26","v":942.30000000000007},{"$f":"'Acc. sup'!C26","v":50},{"$f":"IF(G35=\"\",'Séries 3-4-5'!$E$42,(VLOOKUP(G35,'Séries 3-4-5'!$D$26:$E$42,2,0)))","v":1.75},{"$f":"I35*K35*H35","v":6596.1},{"$f":"J35*$M$7*H35","v":200},{"$f":"'Séries 3-4-5'!$I$3","v":1},6796.1,{"$f":"'Acc. sup'!D26","v":20},{"$f":"P35*N35*$Q$7*H35","v":80},45,3600,1,{"$f":"16750*0.12*H35","v":8040},null,"cake wash feeder","OVER","U45N","",8040,"",6796.1,"",80,"",3600]
["20","cake wash feeder  carriages",null,{"$f":"'Séries 3-4-5'!B58","v":"ROUE"},"#",0,{"$f":"'Séries 3-4-5'!B59","v":"U45N"},{"$f":"'Séries 3-4-5'!B60","v":4},{"$f":"'Acc. sup'!B27","v":501.66},{"$f":"'Acc. sup'!C27","v":150},{"$f":"IF(G36=\"\",'Séries 3-4-5'!$E$42,(VLOOKUP(G36,'Séries 3-4-5'!$D$26:$E$42,2,0)))","v":1.75},{"$f":"I36*K36*H36","v":3511.6200000000003},{"$f":"J36*$M$7*H36","v":600},{"$f":"'Séries 3-4-5'!$I$3","v":1},4111.6200000000008,{"$f":"'Acc. sup'!D27","v":10},{"$f":"P36*N36*$Q$7*H36","v":40},45,1800,1,{"$f":"(O36+S36)*T36*1.5*0.8","v":7093.9440000000004},null,"cake wash feeder  carriages","ROUE","U45N","",7093.9440000000004,"",4111.6200000000008,"",40,"",1800]
["19","wash zone pendulum apron dam",null,{"$f":"'Séries 3-4-5'!B62","v":"SBR"},"#",0,{"$f":"'Séries 3-4-5'!B61","v":"316L"},{"$f":"'Séries 3-4-5'!B63","v":5},{"$f":"I34","v":118.14798835899305},{"$f":"J34/1.2","v":50.816339079136796},{"$f":"IF(G37=\"\",'Séries 3-4-5'!$E$42,(VLOOKUP(G37,'Séries 3-4-5'!$D$26:$E$42,2,0)))","v":2.0689655172413794},{"$f":"I37*K37*H37","v":1222.2205692309626},{"$f":"J37*$M$7*H37","v":254.08169539568399},{"$f":"'Séries 3-4-5'!$I$3","v":1},1476.3022646266465,{"$f":"P34","v":8},{"$f":"P37*N37*$Q$7*H37","v":40},45,1800,1,{"$f":"(O37+S37)*T37*1.25*0.8","v":3276.3022646266468},null,"wash zone pendulum apron dam","SBR","316L","",3276.3022646266468,"",1476.3022646266465,"",40,"",1800]
["12","pulp feeder",null,{"$f":"'Séries 3-4-5'!B64","v":"BOIT"},"#",0,{"$f":"'Séries 3-4-5'!B65","v":"U45N"},{"$f":"'Séries 3-4-5'!B66","v":1},{"$f":"'Acc. sup'!B28","v":1215},{"$f":"'Acc. sup'!C28","v":1215},{"$f":"IF(G38=\"\",'Séries 3-4-5'!$E$42,(VLOOKUP(G38,'Séries 3-4-5'!$D$26:$E$42,2,0)))","v":1.75},{"$f":"I38*K38*H38","v":2126.25},{"$f":"J38*$M$7*H38","v":1215},{"$f":"'Séries 3-4-5'!$I$3","v":1},3341.25,{"$f":"'Acc. sup'!D28","v":80},{"$f":"P38*N38*$Q$7*H38","v":80},45,3600,1,{"$f":"88187*0.12","v":10582.44},null,"pulp feeder","BOIT","U45N","",10582.44,"",3341.25,"",80,"",3600]
["40","pneumatic cabinet + pneumatic acc.",null,{"$f":"'Séries 3-4-5'!B67","v":"STD"},"#",0,null,1,null,{"$f":"(Access!C3)/6.55957","v":914.69410342446224},{"$f":"IF(G39=\"\",'Séries 3-4-5'!$E$42,(VLOOKUP(G39,'Séries 3-4-5'!$D$26:$E$42,2,0)))","v":1.3},0,914.69410342446224,{"$f":"'Séries 3-4-5'!$I$3","v":1},914.69410342446224,{"$f":"Access!D3","v":10},10,45,450,1,{"$f":"5000*0.8","v":4000},null,"pneumatic cabinet + pneumatic acc.","STD",0,"",4000,"",914.69410342446224,"",10,"",450]
["51/60","junction box + electrical set of equip.",null,{"$f":"'Séries 3-4-5'!B68","v":"STD"},"#",0,null,1,{"$f":"HLOOKUP('Séries 3-4-5'!B6,Access!C5:F8,2)","v":1000},{"$f":"HLOOKUP('Séries 3-4-5'!B6,Access!C5:F8,3)","v":3350},{"$f":"IF(G40=\"\",'Séries 3-4-5'!$E$42,(VLOOKUP(G40,'Séries 3-4-5'!$D$26:$E$42,2,0)))","v":1.3},1300,3350,{"$f":"'Séries 3-4-5'!$I$3","v":1},4650,{"$f":"HLOOKUP('Séries 3-4-5'!B6,Access!C5:F8,4)","v":40},40,45,1800,1,{"$f":"(O40+S40)*T40*0.8","v":5160},null,"junction box + electrical set of equip.","STD",0,"",5160,"",4650,"",40,"",1800]
["01","bolting",null,null,"#",0,{"$f":"'Séries 3-4-5'!B69","v":316},1,null,{"$f":"VLOOKUP(G41,Char!B94:C96,2)","v":2800},{"$f":"IF(G41=\"\",'Séries 3-4-5'!$E$42,(VLOOKUP(G41,'Séries 3-4-5'!$D$26:$E$42,2,0)))","v":2.0689655172413794},0,2800,{"$f":"'Séries 3-4-5'!$I$3","v":1},2800,null,0,45,0,1,2240,null,"bolting",0,316,"",2240,"",2800,"",0,"",0]
["10","pneumetic bellow",null,{"$f":"IF('Séries 3-4-5'!B70>1,\"12x2\",\"10x2\")","v":"10x2"},null,0,null,{"$f":"IF(D42=\"10x2\",'Séries 3-4-5'!B71,'Séries 3-4-5'!B70)","v":2},{"$f":"((HLOOKUP(D42,Access!C15:F17,2,0))*H42)/6.55957","v":259.16332930359766},{"$f":"((HLOOKUP(D42,Access!C15:F17,3,0))*H42)/6.55957","v":257.63883913122356},{"$f":"IF(G42=\"\",'Séries 3-4-5'!$E$42,(VLOOKUP(G42,'Séries 3-4-5'!$D$26:$E$42,2,0)))","v":1.3},336.91232809467698,257.63883913122356,{"$f":"'Séries 3-4-5'!$I$3","v":1},594.5511672259006,null,0,45,0,1,475.6409337807205,null,"pneumetic bellow","10x2",0,"",475.6409337807205,"",594.5511672259006,"",0,"",0]
["08","pneumetic bellow",null,{"$f":"IF('Séries 3-4-5'!B73>1,\"8x2\",\"6x2\")","v":"8x2"},null,0,null,{"$f":"IF(D43=\"8x2\",'Séries 3-4-5'!B73,'Séries 3-4-5'!#REF!)","v":2},{"$f":"((HLOOKUP(D43,Access!C15:F17,2,0))*H43)/6.55957","v":198.18372240863349},{"$f":"((HLOOKUP(D43,Access!C15:F17,3,0))*H43)/6.55957","v":193.7627009087486},{"$f":"IF(G43=\"\",'Séries 3-4-5'!$E$42,(VLOOKUP(G43,'Séries 3-4-5'!$D$26:$E$42,2,0)))","v":1.3},257.63883913122356,193.7627009087486,{"$f":"'Séries 3-4-5'!$I$3","v":1},451.40154003997213,null,0,45,0,1,361.12123203197774,null,"pneumetic bellow","8x2",0,"",361.12123203197774,"",451.40154003997213,"",0,"",0]
["13","pneumetic bellow",null,"8X3",null,0,null,{"$f":"'Séries 3-4-5'!B72","v":9},{"$f":"Access!G16*'Cost list'!H44/6.55957","v":1029.03086635252},{"$f":"Access!G17*'Cost list'!H44/6.55957","v":967.28901437136892},{"$f":"IF(G44=\"\",'Séries 3-4-5'!$E$42,(VLOOKUP(G44,'Séries 3-4-5'!$D$26:$E$42,2,0)))","v":1.3},1337.740126258276,{"$f":"J44*$M$7","v":967.28901437136892},{"$f":"'Séries 3-4-5'!$I$3","v":1},{"$f":"(L44+M44)*N44","v":2305.0291406296446},null,{"$f":"P44*N44*$Q$7","v":0},45,{"$f":"Q44*R44","v":0},1,1844.0233125037157,null,"pneumetic bellow","8X3",0,"",1844.0233125037157,"",2305.0291406296446,"",0,"",0]
["44","oil and grease",null,null,"#",0,null,1,null,380,{"$f":"IF(G45=\"\",'Séries 3-4-5'!$E$42,(VLOOKUP(G45,'Séries 3-4-5'!$D$26:$E$42,2,0)))","v":1.3},{"$f":"I45*K45","v":0},380,{"$f":"'Séries 3-4-5'!$I$3","v":1},380,null,0,45,0,1,304,null,"oil and grease",0,0,"",304,"",380,"",0,"",0]
["44","Cartouche perma",null,null,"#",0,null,1,null,{"$f":"(H27+4)*32","v":1984},1.3,{"$f":"I46*K46","v":0},{"$f":"J46*$M$7","v":1984},1,{"$f":"(L46+M46)*N46","v":1984},null,{"$f":"P46*N46*$Q$7","v":0},45,{"$f":"Q46*R46","v":0},{"$f":"IF(F46=\"\",$P$3,$Q$3)","v":1},1587.2,null,{"$f":"B46","v":"Cartouche perma"},{"$f":"D46","v":0},{"$f":"G46","v":0},{"$f":"IF(F46=\"\",U46,\"\")","v":""},{"$f":"IF(F46=\"\",\"\",U46)","v":1587.2},{"$f":"IF($F46=\"\",O46,\"\")","v":""},{"$f":"IF($F46=\"\",\"\",O46)","v":1984},{"$f":"IF($F46=\"\",Q46,\"\")","v":""},{"$f":"IF($F46=\"\",\"\",Q46)","v":0},{"$f":"IF($F46=\"\",S46,\"\")","v":""},{"$f":"IF($F46=\"\",\"\",S46)","v":0}]
["46","Peinture palier",null,null,null,0,null,1,null,{"$f":"(46+4)*100","v":5000},{"$f":"IF(G47=\"\",'Séries 3-4-5'!$E$42,(VLOOKUP(G47,'Séries 3-4-5'!$D$26:$E$42,2,0)))","v":1.3},0,5000,{"$f":"'Séries 3-4-5'!$I$3","v":1},5000,null,0,45,0,1,4000,null,"Peinture palier",0,0,"",4000,"",5000,"",0,"",0]
["46","Passivation boîteà vide et table",null,null,"#",0,null,1,null,{"$f":"Tabl!P88*0.75+IF(G31<>\"SVR\",('Séries 3-4-5'!B9+'Séries 3-4-5'!B10+'Séries 3-4-5'!B11)*150*0.75,0)","v":4761},{"$f":"IF(G48=\"\",'Séries 3-4-5'!$E$42,(VLOOKUP(G48,'Séries 3-4-5'!$D$26:$E$42,2,0)))","v":1.3},0,4761,{"$f":"'Séries 3-4-5'!$I$3","v":1},{"$f":"(L48+M48)*N48","v":4761},null,{"$f":"P48*N48*$Q$7","v":0},45,{"$f":"Q48*R48","v":0},1,null,null,"Passivation boîteà vide et table",0,0,"",0,"",4761,"",0,"",0]
["03","reducer torque arm",null,null,"#",0,{"$f":"'Séries 3-4-5'!B13","v":"316L"},1,{"$f":"(INDEX(Char!A75:M82,MATCH(G49,Char!A76:A82,0)+1,MATCH(L4,Char!B75:M75,0)+1))/6.55957","v":468.78072800503691},{"$f":"(HLOOKUP(L4,Char!B75:M82,5,0))/6.55957","v":1300.3901170351105},{"$f":"IF(G49=\"\",'Séries 3-4-5'!$E$42,(VLOOKUP(G49,'Séries 3-4-5'!$D$26:$E$42,2,0)))","v":2.0689655172413794},969.89116138973156,1300.3901170351105,{"$f":"'Séries 3-4-5'!$I$3","v":1},2270.2812784248422,{"$f":"HLOOKUP(L4,Char!B75:M82,8,0)","v":30},30,45,1350,1,{"$f":"(O49+S49)*T49*1.2*0.8*0","v":0},null,"reducer torque arm",0,"316L","",0,"",2270.2812784248422,"",30,"",1350]
["03","planetary reducer \"BREVINI\"",null,{"$f":"'Séries 3-4-5'!B77","v":88238.119392556851},null,0,null,1,null,{"$f":"HLOOKUP(D51,'Gr de Cde'!B5:X6,2,0)","v":19250},{"$f":"IF(G50=\"\",'Séries 3-4-5'!$E$42,(VLOOKUP(G50,'Séries 3-4-5'!$D$26:$E$42,2,0)))","v":1.3},0,19250,{"$f":"'Séries 3-4-5'!$I$3","v":1},19250,null,0,45,0,1,{"$f":"211900*0.12","v":25428},null,"planetary reducer \"BREVINI\"",88238.119392556851,0,"",25428,"",19250,"",0,"",0]
["03","Motor",null,{"$f":"'Gr de Cde'!E26","v":90},"#",0,null,1,null,{"$f":"('Gr de Cde'!H26)/6.55957","v":5523.8376905803279},{"$f":"IF(G51=\"\",'Séries 3-4-5'!$E$42,(VLOOKUP(G51,'Séries 3-4-5'!$D$26:$E$42,2,0)))","v":1.3},0,5523.8376905803279,{"$f":"'Séries 3-4-5'!$I$3","v":1},{"$f":"(L51+M51)*N51","v":5523.8376905803279},null,0,45,0,1,{"$f":"(O51+S51)*T51*1.2*0.8*0","v":0},null,"Motor",90,0,"",0,"",5523.8376905803279,"",0,"",0]
["03","frequency variator",null,{"$f":"D51","v":90},"#",0,null,1,null,{"$f":"(H52*'Gr de Cde'!H30)/6.55957","v":9088.4006116254568},{"$f":"IF(G52=\"\",'Séries 3-4-5'!$E$42,(VLOOKUP(G52,'Séries 3-4-5'!$D$26:$E$42,2,0)))","v":1.3},0,9088.4006116254568,{"$f":"'Séries 3-4-5'!$I$3","v":1},{"$f":"(L52+M52)*N52","v":9088.4006116254568},null,0,45,0,1,{"$f":"(O52+S52)*T52*1.2*0.8","v":8724.8645871604385},null,"frequency variator",90,0,"",8724.8645871604385,"",9088.4006116254568,"",0,"",0]
["07","filtering cloth",null,null,null,0,null,1,null,{"$f":"(Toile!C10)/6.55957","v":7677.0276100415131},{"$f":"IF(G53=\"\",'Séries 3-4-5'!$E$42,(VLOOKUP(G53,'Séries 3-4-5'!$D$26:$E$42,2,0)))","v":1.3},0,7677.0276100415131,{"$f":"'Séries 3-4-5'!$I$3","v":1},7677.0276100415131,null,0,45,0,1,{"$f":"(O53+S53)*T53*0.8","v":6141.6220880332112},null,"filtering cloth",0,0,"",6141.6220880332112,"",7677.0276100415131,"",0,"",0]
["PRESTA","labelling + shiping preparation France",null,null,null,null,{"$f":"'Séries 3-4-5'!B82","v":"PRE"},1,null,null,{"$f":"IF(G54=\"\",'Séries 3-4-5'!$E$42,(VLOOKUP(G54,'Séries 3-4-5'!$D$26:$E$42,2,0)))","v":1.3},0,{"$f":"J54*$M$7","v":0},{"$f":"'Séries 3-4-5'!$I$3","v":1},{"$f":"(L54+M54)*N54","v":0},{"$f":"IF(G55=\"MONT\",80,80)","v":80},{"$f":"P54*N54*$Q$7","v":80},60,{"$f":"Q54*R54","v":4800},1,null,null,"labelling + shiping preparation France",0,"PRE",0,"",0,"",80,"",4800,""]
["12/15/19/20",{"$f":"IF(G55=\"PRE\",\"pre-assembly + labelling\",\"full erection in factory + reinforcement\")","v":"pre-assembly + labelling"},null,null,"#",null,{"$f":"'Séries 3-4-5'!B82","v":"PRE"},1,0,null,1.3,0,{"$f":"J55*$M$7","v":0},1,{"$f":"(L55+M55)*N55","v":0},{"$f":"IF(G55=\"MONT\",'Séries 3-4-5'!F94+'Séries 3-4-5'!G94+'Séries 3-4-5'!H94,120)","v":120},{"$f":"P55*N55*$Q$7","v":120},60,{"$f":"Q55*R55","v":7200},1,null,null,"pre-assembly + labelling",0,"PRE",0,"",0,"",120,"",7200,""]
[null,{"$f":"IF((IF(F55<>\"\",1,0))+(IF(G55=\"MONT\",1,0))=2,\"ADD cost of supervisor\",\"N/A\")","v":"N/A"},null,null,null,"o",null,null,null,null,null,0,{"$f":"J56*$M$7","v":0},null,{"$f":"(L56+M56)*N56","v":0},null,{"$f":"P56*N56*$Q$7","v":0},45,{"$f":"Q56*R56","v":0},1,{"$f":"(O56+S56)*T56","v":0},null,"N/A",0,0,"",0,"",0,"",0,"",0]
[null,"Sourcing shipping up to erection site",null,null,null,"o",{"$f":"'Séries 3-4-5'!B82","v":"PRE"},1,null,{"$f":"IF(G57=\"MONT\",U58*5/100,0)","v":0},null,{"$f":"I57*K57","v":0},{"$f":"J57*$M$7","v":0},1,{"$f":"(L57+M57)*N57","v":0},null,{"$f":"P57*N57*$Q$7","v":0},45,{"$f":"Q57*R57","v":0},{"$f":"IF(F57=\"\",$P$3,$Q$3)","v":1},{"$f":"(O57+S57)*T57","v":0},null,"Sourcing shipping up to erection site",{"$f":"D57","v":0},"PRE","",{"$f":"IF(F57=\"\",\"\",U57)","v":0},{"$f":"IF($F57=\"\",O57,\"\")","v":""},{"$f":"IF($F57=\"\",\"\",O57)","v":0},{"$f":"IF($F57=\"\",Q57,\"\")","v":""},{"$f":"IF($F57=\"\",\"\",Q57)","v":0},{"$f":"IF($F57=\"\",S57,\"\")","v":""},{"$f":"IF($F57=\"\",\"\",S57)","v":0}]
[null,"TOTAL PART LOCALE :",null,null,null,"o",null,null,null,null,null,null,null,null,null,null,null,null,null,null,{"$f":"SUM(AA8:AA56)","v":264169.25931625394},{"$f":"U58+U57","v":264169.25931625394},"TOTAL PART LOCALE :",null,null,null,null,null,{"$f":"SUM(AC8:AC56)","v":274267.40126918536},null,{"$f":"SUM(AE8:AE56)","v":1579.1916666666666},null,{"$f":"SUM(AG8:AG56)","v":71063.625}]
[null,"TOTAL PART FRANCE :",null,null,null,null,null,null,null,null,null,null,null,null,null,null,null,null,null,null,{"$f":"SUM(Z8:Z57)","v":140856.28},{"$f":"U59+SUM(V8:V10)","v":140856.28},"TOTAL PART FRANCE :",null,null,{"$f":"U60-U58","v":140856.28000000003},{"$f":"U60-U59","v":264169.25931625394},{"$f":"SUM(AB8:AB56)","v":134951.18630946847},null,{"$f":"SUM(AD8:AD56)","v":797.9},null,{"$f":"SUM(AF8:AF56)","v":43074}]
[null,"TOTAL :",null,null,null,null,null,null,null,null,null,null,null,null,null,null,null,null,null,null,{"$f":"SUM(U8:U57)","v":405025.53931625397},{"$f":"V58+V59","v":405025.53931625397},{"$f":"U58+U59","v":405025.53931625397}]
[null,{"$f":"B3","v":"N° DU DEVIS :"},{"$f":"C3","v":"760895-rev2"},{"$f":"D3","v":"- 90B30"},null,null,{"$f":"G3","v":"Client"},null,{"$f":"I3","v":"PKT"},null,null,null,null,null,null,null,null,null,null,{"$f":"T3","v":"Rev."},{"$f":"U3","v":0}]
[null,"Ph. LE BIGOT => ",{"$f":"C4","v":"X HOG"},null,"local basic","For ",{"$f":"G4","v":"Surface :"},null,90,"Largeur",null,3000,"Spécifications",null,"316L+U45N+SBR+T120+4G+90KW+1VF",null,null,null,null,null,{"$f":"U4","v":"2026-02-11"},null,null,null,null,"French","Local","French","Local","French","Local","French","Local"]
[null,null,null,null,null,"local",null,null,"Material","Buyout","Corrective","Updated","Buyout",null,"Total (1) Material + buyout","Labour","Labour",null,"Total (2)",null,"Final cost without engineering","Final cost including engineering",null,"data",null,"incl 1,149","incl. 1,149","Total (1) Material + buyout","Total (1) Material + buyout","Labour","Labour","Total (2)","Total (2)"]
[null,"Désignation",null,"Spéc",null,"fill the ","Mat","Qty","Unit cost","Unit cost","factor","material",null,"Qty",null,"Unit","Total","Taux","Labour","Marg",null,null,"Désignation","Spéc",null,"France","Local",null,null,"Total","Total","labour","labour"]
[null,null,null,null,null,"cell","Spec",null,null,null,null,1,1,null,null,null,1,null,null,null,null,null,null,"Dia.",null,null,null,null,null,"hours","hours","cost","cost"]
[null,"Specific accessories / options to be add if required per filter",null,null,null,null,null,null,null,null,null,null,null,null,null,null,null,null,null,null,null,null,{"$f":"B66","v":"Specific accessories / options to be add if required per filter"}]
["51","Cloth and belt flow meter",null,"Option",null,null,"ABB",0,null,990,null,{"$f":"I67*$L$65*H67","v":0},{"$f":"J67*$M$65*H67","v":0},{"$f":"'Séries 3-4-5'!$I$3","v":1},{"$f":"(L67+M67)*N67","v":0},null,{"$f":"P67*N67*$Q$7*H67","v":0},{"$f":"IF($F67=\"\",$R$3,$S$3)","v":60},{"$f":"Q67*R67","v":0},{"$f":"IF(F67=\"\",$P$3,$Q$3)","v":1},{"$f":"H67*(O67+S67)*T67","v":0},null,"Cloth and belt flow meter",{"$f":"D67","v":"Option"},null,{"$f":"U67","v":0},null,{"$f":"O67","v":0},null,{"$f":"Q67","v":0},null,{"$f":"S67","v":0}]
["51","Cake wash flowmeter",null,"Option",null,null,"ABB",0,null,990,null,{"$f":"I68*$L$65*H68","v":0},{"$f":"J68*$M$65*H68","v":0},{"$f":"'Séries 3-4-5'!$I$3","v":1},0,null,{"$f":"P68*N68*$Q$7*H68","v":0},60,0,1,{"$f":"H68*(O68+S68)*T68","v":0},null,"Cake wash flowmeter","Option",null,{"$f":"IF(F68=\"\",U68,\"\")","v":0},{"$f":"IF(F68=\"\",\"\",U68)","v":""},{"$f":"IF($F68=\"\",O68,\"\")","v":0},{"$f":"IF($F68=\"\",\"\",O68)","v":""},{"$f":"IF($F68=\"\",Q68,\"\")","v":0},{"$f":"IF($F68=\"\",\"\",Q68)","v":""},{"$f":"IF($F68=\"\",S68,\"\")","v":0},{"$f":"IF($F68=\"\",\"\",S68)","v":""}]
["51","Cloth run off & overtorque",null,"Option",null,null,null,0,50,83,null,0,0,{"$f":"'Séries 3-4-5'!$I$3","v":1},0,10,0,60,0,1,0,null,"Cloth run off & overtorque","Option",null,{"$f":"U69","v":0},null,{"$f":"O69","v":0},null,{"$f":"Q69","v":0},null,{"$f":"S69","v":0}]
["01","skirting above curb (Per meter)",null,null,"#",0,"PPH",0,25,10,null,0,0,{"$f":"'Séries 3-4-5'!B21*'Séries 3-4-5'!I3","v":0},{"$f":"H70*(L70+M70)*N70","v":0},7,0,45,0,1,0,null,"skirting above curb (Per meter)",0,null,{"$f":"IF(F70=\"\",U70,\"\")","v":""},{"$f":"IF(F70=\"\",\"\",U70)","v":0},{"$f":"IF($F70=\"\",O70,\"\")","v":""},{"$f":"IF($F70=\"\",\"\",O70)","v":0},{"$f":"IF($F70=\"\",Q70,\"\")","v":""},{"$f":"IF($F70=\"\",\"\",Q70)","v":0},{"$f":"IF($F70=\"\",S70,\"\")","v":""},{"$f":"IF($F70=\"\",\"\",S70)","v":0}]
["13","water injection into the vacuum box",null,"Option",null,null,null,0,null,null,null,0,0,{"$f":"'Séries 3-4-5'!$I$3","v":1},0,0,0,60,0,1,0,null,"water injection into the vacuum box","Option",null,0,"",0,"",0,"",0,""]
["13","Double vacuum box & associated hole",null,"Option",null,null,null,0,null,null,null,0,0,{"$f":"'Séries 3-4-5'!$I$3","v":1},0,0,0,60,0,1,0,null,"Double vacuum box & associated hole","Option",null,0,"",0,"",0,"",0,""]
["13","option straight filtrate pipes",null,"Option",null,null,null,0,null,null,null,0,0,{"$f":"'Séries 3-4-5'!$I$3","v":1},0,0,0,60,0,1,0,null,"option straight filtrate pipes","Option",null,0,"",0,"",0,"",0,""]
["01","Side gutter cost per step of frame",null,"Option","#",0,"304L",0,null,null,null,0,0,{"$f":"'Séries 3-4-5'!$I$3","v":1},{"$f":"(L74+M74)*N74","v":0},10,0,45,0,1,0,null,"Side gutter cost per step of frame","Option",null,"",0,"",0,"",0,"",0]
["02/03","Stainless steel shaft lining",null,"Option","#",0,null,0,null,null,null,0,0,{"$f":"'Séries 3-4-5'!$I$3","v":1},{"$f":"(L75+M75)*N75","v":0},2,0,45,0,1,0,null,"Stainless steel shaft lining","Option",null,"",0,"",0,"",0,"",0]
["40","Pneumatic tubing made of SS",null,"Option","#",0,null,0,null,null,null,0,0,{"$f":"'Séries 3-4-5'!$I$3","v":1},{"$f":"(L76+M76)*N76","v":0},3,0,45,0,1,{"$f":"H76*(O76+S76)*T76","v":0},null,"Pneumatic tubing made of SS","Option",null,"",0,"",0,"",0,"",0]
["51","Ultrasonic control cake thickeness",null,"Option",null,null,null,0,200,850,null,0,0,{"$f":"'Séries 3-4-5'!$I$3","v":1},{"$f":"(L77+M77)*N77","v":0},5,0,60,{"$f":"Q77*R77","v":0},1,{"$f":"H77*(O77+S77)*T77","v":0},null,"Ultrasonic control cake thickeness","Option",null,0,"",0,"",0,"",0,""]
["51","Wear belt breaking sensor",null,"Option",null,null,null,0,null,null,null,0,0,{"$f":"'Séries 3-4-5'!$I$3","v":1},{"$f":"(L78+M78)*N78","v":0},3,0,60,{"$f":"Q78*R78","v":0},1,{"$f":"H78*(O78+S78)*T78","v":0},null,null,null,null,0,"",0,"",0,"",0,""]
["18","Additional cost for \"roller belt support",null,"Option","#",0,null,0,null,null,null,0,0,{"$f":"'Séries 3-4-5'!$I$3","v":1},0,0,0,45,0,1,0,null,null,null,null,"",0,"",0,"",0,"",0]
[null,null,null,null,null,null,null,null,null,null,null,null,null,null,null,null,null,null,null,null,null,null,0,0,null,0,"",0,"",0,"",0,""]
[null,1,"GRAND TOTAL FILTRE LOCAL PART",null,null,null,null,null,null,null,null,null,null,null,null,null,null,null,null,null,{"$f":"SUM(AA67:AA80)+V58","v":264169.25931625394},{"$f":"U81","v":264169.25931625394},"TOTAL LOCAL PART"]
[null,2,"GRAND TOTAL FILTRE FRENCH PART",null,null,null,null,null,null,null,null,null,null,null,null,null,null,null,null,null,{"$f":"SUM(Z67:Z80)+U59","v":140856.28},{"$f":"U82+SUM(V8:V10)","v":140856.28},"TOTAL FRENCH PART",null,null,{"$f":"SUM(Z67:Z80)","v":0},null,null,null,null,{"$f":"SUM(AE67:AE80)+AE58","v":1579.1916666666666},null,{"$f":"SUM(AG67:AG80)+AG58","v":71063.625}]
[null,null,"TOTAL FILTRE 100%",null,null,null,null,null,null,null,null,null,null,null,null,null,null,null,null,null,{"$f":"SUM(U81:U82)","v":405025.53931625397},{"$f":"U81+V82","v":405025.53931625397},"TOTAL :",null,null,{"$f":"SUM(Z67:Z80)+Z59","v":140856.28000000003},{"$f":"SUM(AA67:AA80)+AA59","v":264169.25931625394},{"$f":"SUM(AB67:AB80)+AB59","v":134951.18630946847},{"$f":"SUM(AC67:AC80)+AC58","v":274267.40126918536},{"$f":"SUM(AD67:AE80)+AD59","v":797.9},null,{"$f":"SUM(AF67:AF80)+AF59","v":43074}]
[24,"Safety guard around filter",null,null,null,"o",304,1,null,{"$f":"Char!B92","v":24125},{"$f":"IF(G49=\"\",'Séries 3-4-5'!$E$42,(VLOOKUP(G49,'Séries 3-4-5'!$D$26:$E$42,2,0)))","v":2.0689655172413794},{"$f":"I84*$L$65*H84","v":0},{"$f":"J84*$M$65*H84*K84","v":49913.793103448283},{"$f":"'Séries 3-4-5'!$I$3","v":1},{"$f":"(L84+M84)*N84","v":49913.793103448283},null,{"$f":"P84*N84*$Q$7*H84","v":0},{"$f":"IF($F84=\"\",$R$3,$S$3)","v":45},{"$f":"Q84*R84","v":0},{"$f":"IF(F84=\"\",$P$3,$Q$3)","v":1},{"$f":"H84*(O84+S84)*T84","v":49913.793103448283},{"$f":"U84/2*1.1","v":27452.586206896558}]
["Engineering to be add to the filter price or with the accessories them self or in the item \"Engineering and documentation\""]
[null,"ETUDES :"]
["ENG","Filtrate manifold",null,null,null,null,null,0,null,null,null,{"$f":"I87*$L$65*H87","v":0},{"$f":"J87*$M$65*H87","v":0},1,{"$f":"(L87+M87)*N87","v":0},50,{"$f":"P87*N87","v":50},44,{"$f":"Q87*R87","v":2200},{"$f":"IF(F87=\"\",$P$3,$Q$3)","v":1},null,{"$f":"H87*(O87+S87)*T87","v":0}]
["ENG","Filtrate receiver",null,null,null,null,null,0,null,null,null,{"$f":"I88*$L$65*H88","v":0},{"$f":"J88*$M$65*H88","v":0},1,{"$f":"(L88+M88)*N88","v":0},30,{"$f":"P88*$Q$65*N88","v":30},44,{"$f":"Q88*R88","v":1320},{"$f":"IF(F88=\"\",$P$3,$Q$3)","v":1},null,{"$f":"H88*(O88+S88)*T88","v":0}]
["ENG","Bac de récup. Anneau Liquid",null,null,null,null,null,0,null,null,null,{"$f":"I89*$L$65*H89","v":0},{"$f":"J89*$M$65*H89","v":0},1,{"$f":"(L89+M89)*N89","v":0},30,{"$f":"P89*$Q$65*N89","v":30},44,{"$f":"Q89*R89","v":1320},{"$f":"IF(F89=\"\",$P$3,$Q$3)","v":1},null,{"$f":"H89*(O89+S89)*T89","v":0}]
["ENG","Bac de récup. Lavage Toile & Bande",null,null,null,null,null,0,null,null,null,{"$f":"I90*$L$65*H90","v":0},{"$f":"J90*$M$65*H90","v":0},1,{"$f":"(L90+M90)*N90","v":0},30,{"$f":"P90*$Q$65*N90","v":30},44,{"$f":"Q90*R90","v":1320},{"$f":"IF(F90=\"\",$P$3,$Q$3)","v":1},null,{"$f":"H90*(O90+S90)*T90","v":0}]
["ENG","Cyclone",null,null,null,null,null,0,null,null,null,{"$f":"I91*$L$65*H91","v":0},{"$f":"J91*$M$65*H91","v":0},1,{"$f":"(L91+M91)*N91","v":0},30,{"$f":"P91*$Q$65*N91","v":30},44,{"$f":"Q91*R91","v":1320},{"$f":"IF(F91=\"\",$P$3,$Q$3)","v":1},null,{"$f":"H91*(O91+S91)*T91","v":0}]
["ENG","Laveur de Gaz",null,null,null,null,null,0,null,null,null,0,0,1,0,30,30,44,1320,1,null,0]
["ENG","Drip Pan",null,null,null,null,null,0,null,null,null,{"$f":"I93*$L$65*H93","v":0},{"$f":"J93*$M$65*H93","v":0},1,{"$f":"(L93+M93)*N93","v":0},30,{"$f":"P93*$Q$65*N93","v":30},44,{"$f":"Q93*R93","v":1320},{"$f":"IF(F93=\"\",$P$3,$Q$3)","v":1},null,{"$f":"H93*(O93+S93)*T93","v":0}]
["ENG","Hotte",null,null,null,null,null,0,null,null,null,0,0,1,0,80,80,44,3520,1,null,0]
["ENG","Lavage Acide ou Spé",null,null,null,null,null,0,null,null,null,0,0,1,0,30,30,44,1320,1,null,0,null,null,null,"Prix longerons",null,"longeur Nemaska (m)",null,"Prix Nemaska",null,"Prix au mètre"]
["ENG","Etude Electrique",null,null,null,null,null,0,null,null,null,{"$f":"I96*$L$65*H96","v":0},{"$f":"J96*$M$65*H96","v":0},1,{"$f":"(L96+M96)*N96","v":0},0,{"$f":"P96*$Q$65*N96","v":0},44,{"$f":"Q96*R96","v":0},{"$f":"IF(F96=\"\",$P$3,$Q$3)","v":1},null,{"$f":"H96*(O96+S96)*T96","v":0},null,null,null,null,null,7,null,2300,null,{"$f":"AD96/AB96","v":328.57142857142856}]
["ENG","Engineering et documentation anglais",null,null,null,null,null,0,null,null,null,0,0,1,0,200,200,44,8800,1,null,0,null,null,null,null,null,{"$f":"\"longeur \"&Calculations!C2&\" (m)\"","v":"longeur PKT (m)"},null,{"$f":"\"Prix \"&Calculations!C2","v":"Prix PKT"}]
["ENG","documentation other linguage",null,null,null,null,null,0,null,null,null,0,0,1,0,0,0,44,0,1,null,0,null,null,null,null,null,{"$f":"Calculations!G9/1000","v":30},null,{"$f":"AB98*AF96*2","v":19714.285714285714}]
["ENG","Engineering globale process",null,null,null,null,null,0,null,null,null,0,0,2,0,500,1000,44,44000,1,null,0]
[null,null,"TOTAL Engineering",null,null,null,null,null,null,null,null,null,null,null,null,null,null,null,null,"sub total",null,{"$f":"U100+SUM(V87:V99)","v":0}]
[null,null,null,null,null,null,null,null,null,null,null,null,null,null,null,null,null,null,null,null,null,{"$f":"V83+V84+V100","v":432478.12552315055}]
["ACCESSORIES WILL HAVE TO BE CALCULATE ON THE BASIS OF UNIT PRICE AND ADAPTED TO THE NUMBER OF UNITS AND FILTERS",null,null,null,null,null,null,null,null,null,null,null,null,null,null,null,null,null,null,null,null,{"$f":"V101-U14+V14","v":402741.73352315056}]
[21,"Rouleau Presseur ",null,null,"#","o",null,0,null,null,null,{"$f":"I103*$L$65*H103","v":0},{"$f":"J103*$M$65*H103","v":0},{"$f":"'Séries 3-4-5'!$I$3","v":1},{"$f":"(L103+M103)*N103","v":0},null,{"$f":"P103*$Q$65*N103","v":0},{"$f":"IF($F103=\"\",$R$3,$S$3)","v":45},{"$f":"Q103*R103","v":0},{"$f":"IF(F103=\"\",$P$3,$Q$3)","v":1},{"$f":"(O103+S103)*T103*H103","v":0}]
[]
[22,"Floculateur (FEEDER) ",null,null,"#","o",null,0,null,null,null,{"$f":"I105*$L$65*H105","v":0},{"$f":"J105*$M$65*H105","v":0},{"$f":"'Séries 3-4-5'!$I$3","v":1},{"$f":"(L105+M105)*N105","v":0},null,{"$f":"P105*$Q$65*N105","v":0},45,{"$f":"Q105*R105","v":0},{"$f":"IF(F105=\"\",$P$3,$Q$3)","v":1},{"$f":"(O105+S105)*T105*H105","v":0}]
[]
[23,"Manifold ",null,{"$f":"'Manifold INOX'!L10","v":700},"#","o","SVR",1,null,null,null,{"$f":"I107*$L$65*H107","v":0},{"$f":"J107*$M$65*H107","v":0},{"$f":"'Séries 3-4-5'!$I$3","v":1},{"$f":"(L107+M107)*N107","v":0},null,{"$f":"P107*$Q$65*N107","v":0},45,{"$f":"Q107*R107","v":0},{"$f":"IF(F107=\"\",$P$3,$Q$3)","v":1},{"$f":"(O107+S107)*T107*H107","v":0}]
[]
[25,"Outillage Spécial","USWM",null,"#","o",null,1,null,6200,null,{"$f":"I109*$L$65*H109","v":0},{"$f":"J109*$M$65*H109","v":6200},1,{"$f":"(L109+M109)*N109","v":6200},null,{"$f":"P109*$Q$65*N109","v":0},45,{"$f":"Q109*R109","v":0},{"$f":"IF(F109=\"\",$P$3,$Q$3)","v":1},{"$f":"(O109+S109)*T109*H109","v":6200}]
[]
[26,"Fume hood ",null,15,"#","o","SS316L",0,null,null,null,{"$f":"I111*$L$65*H111","v":0},{"$f":"J111*$M$65*H111","v":0},{"$f":"'Séries 3-4-5'!$I$3","v":1},{"$f":"(L111+M111)*N111","v":0},null,{"$f":"P111*$Q$65*N111","v":0},45,{"$f":"Q111*R111","v":0},{"$f":"IF(F111=\"\",$P$3,$Q$3)","v":1},{"$f":"(O111+S111)*T111*H111","v":0}]
[]
[27,"Rouleau Batteur",null,null,"#","o",null,0,null,null,null,{"$f":"I113*$L$65*H113","v":0},{"$f":"J113*$M$65*H113","v":0},{"$f":"'Séries 3-4-5'!$I$3","v":1},{"$f":"(L113+M113)*N113","v":0},null,{"$f":"P113*$Q$65*N113","v":0},45,{"$f":"Q113*R113","v":0},{"$f":"IF(F113=\"\",$P$3,$Q$3)","v":1},{"$f":"(O113+S113)*T113*H113","v":0}]
[]
[28,"Laveur de Toile Haute Pression",null,null,"#","o",null,0,null,null,null,{"$f":"I115*$L$65*H115","v":0},{"$f":"J115*$M$65*H115","v":0},{"$f":"'Séries 3-4-5'!$I$3","v":1},{"$f":"(L115+M115)*N115","v":0},null,{"$f":"P115*$Q$65*N115","v":0},45,{"$f":"Q115*R115","v":0},{"$f":"IF(F115=\"\",$P$3,$Q$3)","v":1},{"$f":"(O115+S115)*T115*H115","v":0}]
[]
[29,"Drip Pan (L du filtre)",null,{"$f":"'Séries 3-4-5'!L2","v":"90B30"},"#","o","SS316L",{"$f":"IF(Calculations!I30=\"Oui\",1,0)","v":0},null,null,null,{"$f":"I117*$L$65*H117","v":0},{"$f":"J117*$M$65*H117","v":0},{"$f":"'Séries 3-4-5'!$I$3","v":1},{"$f":"(L117+M117)*N117","v":0},null,{"$f":"P117*$Q$65*N117","v":0},45,{"$f":"Q117*R117","v":0},{"$f":"IF(F117=\"\",$P$3,$Q$3)","v":1},{"$f":"IF(H117=1,#REF!,0)","v":0}]
[]
[30,"Vacuum pump & Motor",10500,315,"#","o","FT",1,null,null,null,{"$f":"I119*$L$65*H119","v":0},{"$f":"J119*$M$65*H119","v":0},{"$f":"'Séries 3-4-5'!$I$3","v":1},{"$f":"(L119+M119)*N119","v":0},0,{"$f":"P119*$Q$65*N119","v":0},45,{"$f":"Q119*R119","v":0},{"$f":"IF(F119=\"\",$P$3,$Q$3)","v":1},{"$f":"(O119+S119)*T119*H119","v":0}]
[]
[31,"Pompe à Filtrat","K",90,"#","o","SS316L",1,null,null,null,{"$f":"I121*$L$65*H121","v":0},{"$f":"J121*$M$65*H121","v":0},4,{"$f":"(L121+M121)*N121","v":0},0,{"$f":"P121*$Q$65*N121","v":0},45,{"$f":"Q121*R121","v":0},{"$f":"IF(F121=\"\",$P$3,$Q$3)","v":1},{"$f":"(O121+S121)*T121*H121","v":0}]
[null,"Vanne + Instrumentration",null,null,"#","o",null,0,null,null,null,{"$f":"I122*$L$65*H122","v":0},{"$f":"J122*$M$65*H122","v":0},1,{"$f":"(L122+M122)*N122","v":0},null,{"$f":"P122*$Q$65*N122","v":0},45,{"$f":"Q122*R122","v":0},{"$f":"IF(F122=\"\",$P$3,$Q$3)","v":1},{"$f":"(O122+S122)*T122*H122","v":0}]
[null,"Clapet anti - retour",null,null,"#","o",null,0,null,null,null,{"$f":"I123*$L$65*H123","v":0},{"$f":"J123*$M$65*H123","v":0},1,{"$f":"(L123+M123)*N123","v":0},null,{"$f":"P123*$Q$65*N123","v":0},45,{"$f":"Q123*R123","v":0},{"$f":"IF(F123=\"\",$P$3,$Q$3)","v":1},{"$f":"(O123+S123)*T123*H123","v":0}]
[null,null,"Total",null,"#","o",null,null,null,null,null,null,null,null,null,null,null,45,null,null,{"$f":"SUM(U121:U123)","v":0}]
[]
[32,"Bac de Pied Barométrique",null,2,"#","o","PPH",0,null,null,1.4,{"$f":"I126*$L$66*H126","v":0},{"$f":"J126*K126","v":0},2,{"$f":"(L126+M126)*N126","v":0},20,{"$f":"P126*$Q$66*N126","v":0},45,{"$f":"Q126*R126","v":0},{"$f":"IF(F126=\"\",$P$3,$Q$3)","v":1},{"$f":"(O126+S126)*T126*H126","v":0}]
[null,"Level swicth E+H Liquifant",null,null,null,"o",null,0,null,800,null,{"$f":"I127*$L$66*H127","v":0},{"$f":"J127*$M$65*H127","v":0},1,{"$f":"(L127+M127)*N127","v":0},0,{"$f":"P127*$Q$66*N127","v":0},{"$f":"IF($F127=\"\",$R$3,$S$3)","v":45},{"$f":"Q127*R127","v":0},{"$f":"IF(F127=\"\",$P$3,$Q$3)","v":1},{"$f":"(O127+S127)*T127*H127","v":0}]
[null,"Vanne flotteur",null,null,"#","o",null,0,null,1282,null,{"$f":"I128*$L$66*H128","v":0},{"$f":"J128*$M$65*H128","v":0},1,{"$f":"(L128+M128)*N128","v":0},0,{"$f":"P128*$Q$66*N128","v":0},{"$f":"IF($F128=\"\",$R$3,$S$3)","v":45},{"$f":"Q128*R128","v":0},{"$f":"IF(F128=\"\",$P$3,$Q$3)","v":1},{"$f":"(O128+S128)*T128*H128","v":0}]
[null,"Vanne DN 50",null,null,"#","o",null,0,null,250,null,{"$f":"I129*$L$66*H129","v":0},{"$f":"J129*$M$65*H129","v":0},1,{"$f":"(L129+M129)*N129","v":0},0,{"$f":"P129*$Q$66*N129","v":0},{"$f":"IF($F129=\"\",$R$3,$S$3)","v":45},{"$f":"Q129*R129","v":0},{"$f":"IF(F129=\"\",$P$3,$Q$3)","v":1},{"$f":"(O129+S129)*T129*H129","v":0}]
[null,null,"Total",null,"#","o",null,null,null,null,null,null,null,null,null,null,null,{"$f":"IF($F130=\"\",$R$3,$S$3)","v":45},null,null,{"$f":"SUM(U126:U129)","v":0}]
[]
[33,"Station de Floculation",null,null,"#","o",null,0,null,null,null,{"$f":"I132*$L$65*H132","v":0},{"$f":"J132*$M$65*H132","v":0},{"$f":"'Séries 3-4-5'!$I$3","v":1},{"$f":"(L132+M132)*N132","v":0},null,{"$f":"P132*$Q$65*N132","v":0},45,{"$f":"Q132*R132","v":0},{"$f":"IF(F132=\"\",$P$3,$Q$3)","v":1},{"$f":"(O132+S132)*T132*H132","v":0}]
[]
[34,"Pompe de Lavage Toile & Bande",null,15,null,0,"SS316L",0,null,null,null,{"$f":"I134*$L$66*H134","v":0},{"$f":"J134*$M$65*H134","v":0},2,{"$f":"(L134+M134)*N134","v":0},0,{"$f":"P134*$Q$66*N134","v":0},{"$f":"IF($F134=\"\",$R$3,$S$3)","v":45},{"$f":"Q134*R134","v":0},{"$f":"IF(F134=\"\",$P$3,$Q$3)","v":1},{"$f":"(O134+S134)*T134*H134","v":0}]
[null,"Vanne + Instrumentration",null,null,"#","o",null,0,null,null,null,{"$f":"I135*$L$65*H135","v":0},{"$f":"J135*$M$65*H135","v":0},1,{"$f":"(L135+M135)*N135","v":0},null,{"$f":"P135*$Q$65*N135","v":0},45,{"$f":"Q135*R135","v":0},{"$f":"IF(F135=\"\",$P$3,$Q$3)","v":1},{"$f":"(O135+S135)*T135*H135","v":0}]
[null,"Clapet anti - retour",null,null,"#","o",null,0,null,null,null,{"$f":"I136*$L$65*H136","v":0},{"$f":"J136*$M$65*H136","v":0},1,{"$f":"(L136+M136)*N136","v":0},null,{"$f":"P136*$Q$65*N136","v":0},45,{"$f":"Q136*R136","v":0},{"$f":"IF(F136=\"\",$P$3,$Q$3)","v":1},{"$f":"(O136+S136)*T136*H136","v":0}]
[null,null,"Total",null,"#","o",null,null,null,null,null,null,null,null,null,null,null,45,null,null,{"$f":"SUM(U134:U136)","v":0}]
[]
[35,"Bac récup. Anneau liquide 2 m3",null,2,"#","o","PPH",1,null,null,1.4,{"$f":"I139*$L$66*H139","v":0},{"$f":"J139*K139","v":0},2,{"$f":"(L139+M139)*N139","v":0},0,{"$f":"P139*$Q$65*N139","v":0},{"$f":"IF($F139=\"\",$R$3,$S$3)","v":45},{"$f":"Q139*R139","v":0},{"$f":"IF(F139=\"\",$P$3,$Q$3)","v":1},{"$f":"(O139+S139)*T139*H139","v":0}]
[null,"Level swicth E+H Liquifant",null,null,null,"o",null,1,null,800,null,{"$f":"I140*$L$66*H140","v":0},{"$f":"J140*$M$65*H140","v":800},2,{"$f":"(L140+M140)*N140","v":1600},0,{"$f":"P140*$Q$66*N140","v":0},{"$f":"IF($F140=\"\",$R$3,$S$3)","v":45},{"$f":"Q140*R140","v":0},{"$f":"IF(F140=\"\",$P$3,$Q$3)","v":1},{"$f":"(O140+S140)*T140*H140","v":1600}]
[null,"Vanne flotteur",null,null,"#","o",null,1,null,1282,null,{"$f":"I141*$L$66*H141","v":0},{"$f":"J141*$M$65*H141","v":1282},2,{"$f":"(L141+M141)*N141","v":2564},0,{"$f":"P141*$Q$66*N141","v":0},{"$f":"IF($F141=\"\",$R$3,$S$3)","v":45},{"$f":"Q141*R141","v":0},{"$f":"IF(F141=\"\",$P$3,$Q$3)","v":1},{"$f":"(O141+S141)*T141*H141","v":2564}]
[null,"Vanne  DN50",null,null,"#","o",null,1,null,250,null,{"$f":"I142*$L$66*H142","v":0},{"$f":"J142*$M$65*H142","v":250},2,{"$f":"(L142+M142)*N142","v":500},0,{"$f":"P142*$Q$66*N142","v":0},{"$f":"IF($F142=\"\",$R$3,$S$3)","v":45},{"$f":"Q142*R142","v":0},{"$f":"IF(F142=\"\",$P$3,$Q$3)","v":1},{"$f":"(O142+S142)*T142*H142","v":500}]
[null,null,"Total",null,"#","o",null,null,null,null,null,null,null,null,null,null,null,{"$f":"IF($F143=\"\",$R$3,$S$3)","v":45},null,null,{"$f":"SUM(U139:U142)","v":4664}]
[]
[36,"Pompe lavage gateau 1",null,15,null,0,"SS316L",1,null,null,null,{"$f":"I145*$L$66*H145","v":0},{"$f":"J145*$M$65*H145","v":0},2,{"$f":"(L145+M145)*N145","v":0},0,{"$f":"P145*$Q$66*N145","v":0},{"$f":"IF($F145=\"\",$R$3,$S$3)","v":45},{"$f":"Q145*R145","v":0},{"$f":"IF(F145=\"\",$P$3,$Q$3)","v":1},{"$f":"(O145+S145)*T145*H145","v":0}]
[null,"Vanne + Instrumentration",null,null,"#","o",null,0,null,null,null,{"$f":"I146*$L$65*H146","v":0},{"$f":"J146*$M$65*H146","v":0},1,{"$f":"(L146+M146)*N146","v":0},null,{"$f":"P146*$Q$65*N146","v":0},45,{"$f":"Q146*R146","v":0},{"$f":"IF(F146=\"\",$P$3,$Q$3)","v":1},{"$f":"(O146+S146)*T146*H146","v":0}]
[null,"Clapet anti - retour",null,null,"#","o",null,0,null,null,null,{"$f":"I147*$L$65*H147","v":0},{"$f":"J147*$M$65*H147","v":0},1,{"$f":"(L147+M147)*N147","v":0},null,{"$f":"P147*$Q$65*N147","v":0},45,{"$f":"Q147*R147","v":0},{"$f":"IF(F147=\"\",$P$3,$Q$3)","v":1},{"$f":"(O147+S147)*T147*H147","v":0}]
[null,null,"Total",null,"#","o",null,null,null,null,null,null,null,null,null,null,null,45,null,null,{"$f":"SUM(U145:U147)","v":0}]
[]
[36,"Pompe lavage gateau 2","Péristaltique",17,null,0,"PP",1,null,null,null,{"$f":"I150*$L$66*H150","v":0},{"$f":"J150*$M$65*H150","v":0},2,{"$f":"(L150+M150)*N150","v":0},0,{"$f":"P150*$Q$66*N150","v":0},{"$f":"IF($F150=\"\",$R$3,$S$3)","v":45},{"$f":"Q150*R150","v":0},{"$f":"IF(F150=\"\",$P$3,$Q$3)","v":1},{"$f":"(O150+S150)*T150*H150","v":0}]
[null,"Vanne + Instrumentration",null,null,"#","o",null,0,null,null,null,{"$f":"I151*$L$65*H151","v":0},{"$f":"J151*$M$65*H151","v":0},1,{"$f":"(L151+M151)*N151","v":0},null,{"$f":"P151*$Q$65*N151","v":0},45,{"$f":"Q151*R151","v":0},{"$f":"IF(F151=\"\",$P$3,$Q$3)","v":1},{"$f":"(O151+S151)*T151*H151","v":0}]
[null,"Clapet anti - retour",null,null,"#","o",null,0,null,null,null,{"$f":"I152*$L$65*H152","v":0},{"$f":"J152*$M$65*H152","v":0},1,{"$f":"(L152+M152)*N152","v":0},null,{"$f":"P152*$Q$65*N152","v":0},45,{"$f":"Q152*R152","v":0},{"$f":"IF(F152=\"\",$P$3,$Q$3)","v":1},{"$f":"(O152+S152)*T152*H152","v":0}]
[null,null,"Total",null,"#","o",null,null,null,null,null,null,null,null,null,null,null,45,null,null,{"$f":"SUM(U150:U152)","v":0}]
[]
[37,"Bac récup. Lavage Toile & Bande",null,2,"#","o","PPH",0,null,null,1.4,{"$f":"I155*$L$66*H155","v":0},{"$f":"J155*K155","v":0},2,{"$f":"(L155+M155)*N155","v":0},20,{"$f":"P155*$Q$66*N155","v":0},{"$f":"IF($F155=\"\",$R$3,$S$3)","v":45},{"$f":"Q155*R155","v":0},{"$f":"IF(F155=\"\",$P$3,$Q$3)","v":1},{"$f":"(O155+S155)*T155*H155","v":0}]
[null,"Agitateur",null,null,null,"o",null,0,null,null,null,{"$f":"I156*$L$66*H156","v":0},{"$f":"J156*$M$65*H156","v":0},1,{"$f":"(L156+M156)*N156","v":0},0,{"$f":"P156*$Q$66*N156","v":0},45,{"$f":"Q156*R156","v":0},{"$f":"IF(F156=\"\",$P$3,$Q$3)","v":1},{"$f":"(O156+S156)*T156*H156","v":0}]
[null,"Level swicth E+H Liquifant",null,null,null,"o",null,0,null,800,null,{"$f":"I157*$L$66*H157","v":0},{"$f":"J157*$M$65*H157","v":0},1,{"$f":"(L157+M157)*N157","v":0},0,{"$f":"P157*$Q$66*N157","v":0},45,{"$f":"Q157*R157","v":0},{"$f":"IF(F157=\"\",$P$3,$Q$3)","v":1},{"$f":"(O157+S157)*T157*H157","v":0}]
[null,"Vanne flotteur",null,null,"#","o",null,0,null,1282,null,{"$f":"I158*$L$66*H158","v":0},{"$f":"J158*$M$65*H158","v":0},1,{"$f":"(L158+M158)*N158","v":0},0,{"$f":"P158*$Q$66*N158","v":0},45,{"$f":"Q158*R158","v":0},{"$f":"IF(F158=\"\",$P$3,$Q$3)","v":1},{"$f":"(O158+S158)*T158*H158","v":0}]
[null,"Vanne  DN50",null,null,"#","o",null,0,null,250,null,{"$f":"I159*$L$66*H159","v":0},{"$f":"J159*$M$65*H159","v":0},1,{"$f":"(L159+M159)*N159","v":0},0,{"$f":"P159*$Q$66*N159","v":0},45,{"$f":"Q159*R159","v":0},{"$f":"IF(F159=\"\",$P$3,$Q$3)","v":1},{"$f":"(O159+S159)*T159*H159","v":0}]
[null,null,"Total",null,"#","o",null,null,null,null,null,null,null,null,null,null,null,45,null,null,{"$f":"SUM(U155:U159)","v":0}]
[]
[38,"Lavage Acide ou Spécial",null,{"$f":"'Séries 3-4-5'!L1","v":"B30"},"#","o","PPH",0,675,5800,null,{"$f":"I162*$L$65*H162","v":0},{"$f":"J162*$M$65*H162","v":0},{"$f":"'Séries 3-4-5'!$I$3","v":1},{"$f":"(L162+M162)*N162","v":0},null,{"$f":"P162*$Q$65*N162","v":0},45,{"$f":"Q162*R162","v":0},{"$f":"IF(F162=\"\",$P$3,$Q$3)","v":1},{"$f":"(O162+S162)*T162*H162","v":0}]
[]
[52,"Automate - Armoire Electrique",null,null,"#","o",null,1,null,18750,null,{"$f":"I164*$L$65*H164","v":0},{"$f":"J164*$M$65*H164","v":18750},{"$f":"'Séries 3-4-5'!$I$3","v":1},{"$f":"(L164+M164)*N164","v":18750},null,{"$f":"P164*$Q$65*N164","v":0},45,{"$f":"Q164*R164","v":0},{"$f":"IF(F164=\"\",$P$3,$Q$3)","v":1},{"$f":"(O164+S164)*T164*H164","v":18750}]
[]
[53,"Armoire Puissance",null,null,"#","o",null,0,null,null,null,{"$f":"I166*$L$65*H166","v":0},{"$f":"J166*$M$65*H166","v":0},{"$f":"'Séries 3-4-5'!$I$3","v":1},{"$f":"(L166+M166)*N166","v":0},null,{"$f":"P166*$Q$65*N166","v":0},45,{"$f":"Q166*R166","v":0},{"$f":"IF(F166=\"\",$P$3,$Q$3)","v":1},{"$f":"(O166+S166)*T166*H166","v":0}]
[]
[54,"Coffret de Commande Local",null,null,"#","o",null,0,null,null,null,{"$f":"I168*$L$65*H168","v":0},{"$f":"J168*$M$65*H168","v":0},{"$f":"'Séries 3-4-5'!$I$3","v":1},{"$f":"(L168+M168)*N168","v":0},null,{"$f":"P168*$Q$65*N168","v":0},45,{"$f":"Q168*R168","v":0},{"$f":"IF(F168=\"\",$P$3,$Q$3)","v":1},{"$f":"(O168+S168)*T168*H168","v":0}]
[]
[61,"Boite de Jonction Accessoires 1",null,null,"#","o",null,0,null,null,null,{"$f":"I170*$L$65*H170","v":0},{"$f":"J170*$M$65*H170","v":0},{"$f":"'Séries 3-4-5'!$I$3","v":1},{"$f":"(L170+M170)*N170","v":0},null,{"$f":"P170*$Q$65*N170","v":0},45,{"$f":"Q170*R170","v":0},{"$f":"IF(F170=\"\",$P$3,$Q$3)","v":1},{"$f":"(O170+S170)*T170*H170","v":0}]
[]
[62,"Boite de Jonction Accessoires 2",null,null,"#","o",null,0,null,null,null,{"$f":"I172*$L$65*H172","v":0},{"$f":"J172*$M$65*H172","v":0},{"$f":"'Séries 3-4-5'!$I$3","v":1},{"$f":"(L172+M172)*N172","v":0},null,{"$f":"P172*$Q$65*N172","v":0},45,{"$f":"Q172*R172","v":0},{"$f":"IF(F172=\"\",$P$3,$Q$3)","v":1},{"$f":"(O172+S172)*T172*H172","v":0}]
[]
[69,"Interconnextions - Chantier Electrique",null,null,"#","o",null,1,null,null,null,{"$f":"I174*$L$65*H174","v":0},{"$f":"J174*$M$65*H174","v":0},{"$f":"'Séries 3-4-5'!$I$3","v":1},{"$f":"(L174+M174)*N174","v":0},null,{"$f":"P174*$Q$65*N174","v":0},45,{"$f":"Q174*R174","v":0},{"$f":"IF(F174=\"\",$P$3,$Q$3)","v":1},{"$f":"(O174+S174)*T174*H174","v":0}]
[]
[70,"Ballon Séparateur 1","K",{"$f":"Calculations!E44","v":3400},"#","o",{"$f":"Calculations!C44","v":"316L"},{"$f":"IF(Calculations!S31>0,1,0)","v":1},null,{"$f":"IF(Calculations!D44=\"krogh\",'Ballon Séparateur Flasqué'!G19,'Ballon Séparateur'!G19)","v":0},null,{"$f":"I176*$L$65*H176","v":0},{"$f":"J176*$M$65*H176","v":0},1,{"$f":"(L176+M176)*N176","v":0},0,{"$f":"P176*$Q$65*N176","v":0},45,{"$f":"Q176*R176","v":0},{"$f":"IF(F176=\"\",$P$3,$Q$3)","v":1},{"$f":"(O176+S176)*T176*H176","v":0}]
[null,"Vanne",null,null,"#","o",null,0,null,null,null,{"$f":"I177*$L$65*H177","v":0},{"$f":"J177*$M$65*H177","v":0},1,{"$f":"(L177+M177)*N177","v":0},null,{"$f":"P177*$Q$65*N177","v":0},45,{"$f":"Q177*R177","v":0},{"$f":"IF(F177=\"\",$P$3,$Q$3)","v":1},{"$f":"(O177+S177)*T177*H177","v":0}]
[null,"Level switch E+H liquifant",null,null,"#","o",null,{"$f":"IF(H176=1,1,0)","v":1},null,800,null,{"$f":"I178*$L$65*H178","v":0},{"$f":"J178*$M$65*H178","v":800},{"$f":"N176*Calculations!P44","v":1},{"$f":"(L178+M178)*N178","v":800},null,{"$f":"P178*$Q$65*N178","v":0},45,{"$f":"Q178*R178","v":0},{"$f":"IF(F178=\"\",$P$3,$Q$3)","v":1},{"$f":"(O178+S178)*T178*H178","v":800}]
[null,"Vacuometre",null,null,"#","o",null,{"$f":"IF(H176=1,1,0)","v":1},null,300,null,{"$f":"I179*$L$65*H179","v":0},{"$f":"J179*$M$65*H179","v":300},{"$f":"N176*Calculations!P44","v":1},{"$f":"(L179+M179)*N179","v":300},null,{"$f":"P179*$Q$65*N179","v":0},45,{"$f":"Q179*R179","v":0},{"$f":"IF(F179=\"\",$P$3,$Q$3)","v":1},{"$f":"(O179+S179)*T179*H179","v":300}]
[null,null,"Total",null,"#","o",null,null,null,null,null,null,null,null,null,null,null,45,null,null,{"$f":"SUM(U176:U179)","v":1100}]
[]
[71,"Ballon Séparateur 2","BSB",{"$f":"Calculations!E44","v":3400},"#","o",{"$f":"Calculations!C44","v":"316L"},{"$f":"IF(Calculations!S31>1,1,0)","v":1},null,{"$f":"IF(Calculations!D44=\"krogh\",'Ballon Séparateur Flasqué'!G19,'Ballon Séparateur'!G19)","v":0},null,{"$f":"I182*$L$65*H182","v":0},{"$f":"J182*$M$65*H182","v":0},1,{"$f":"(L182+M182)*N182","v":0},null,{"$f":"P182*$Q$65*N182","v":0},45,{"$f":"Q182*R182","v":0},{"$f":"IF(F182=\"\",$P$3,$Q$3)","v":1},{"$f":"(O182+S182)*T182*H182","v":0}]
[null,"Vanne",null,null,"#","o",null,0,null,null,null,{"$f":"I183*$L$65*H183","v":0},{"$f":"J183*$M$65*H183","v":0},1,{"$f":"(L183+M183)*N183","v":0},null,{"$f":"P183*$Q$65*N183","v":0},45,{"$f":"Q183*R183","v":0},{"$f":"IF(F183=\"\",$P$3,$Q$3)","v":1},{"$f":"(O183+S183)*T183*H183","v":0}]
[null,"Level switch E+H liquifant",null,null,"#","o",null,{"$f":"IF(H182=1,1,0)","v":1},null,800,null,{"$f":"I184*$L$65*H184","v":0},{"$f":"J184*$M$65*H184","v":800},{"$f":"N182*Calculations!P44","v":1},{"$f":"(L184+M184)*N184","v":800},null,{"$f":"P184*$Q$65*N184","v":0},45,{"$f":"Q184*R184","v":0},{"$f":"IF(F184=\"\",$P$3,$Q$3)","v":1},{"$f":"(O184+S184)*T184*H184","v":800}]
[null,"Vacuometre",null,null,"#","o",null,{"$f":"IF(H182=1,1,0)","v":1},null,300,null,{"$f":"I185*$L$65*H185","v":0},{"$f":"J185*$M$65*H185","v":300},{"$f":"N182*Calculations!P44","v":1},{"$f":"(L185+M185)*N185","v":300},null,{"$f":"P185*$Q$65*N185","v":0},45,{"$f":"Q185*R185","v":0},{"$f":"IF(F185=\"\",$P$3,$Q$3)","v":1},{"$f":"(O185+S185)*T185*H185","v":300}]
[null,null,"Total",null,"#","o",null,null,null,null,null,null,null,null,null,null,null,45,null,null,{"$f":"SUM(U182:U185)","v":1100}]
[]
[72,"Ballon Séparateur 3","BSK",{"$f":"Calculations!E44","v":3400},"#","o",{"$f":"Calculations!C44","v":"316L"},{"$f":"IF(Calculations!S31>2,1,0)","v":1},null,{"$f":"IF(Calculations!D44=\"krogh\",'Ballon Séparateur Flasqué'!G19,'Ballon Séparateur'!G19)","v":0},null,{"$f":"I188*$L$65*H188","v":0},{"$f":"J188*$M$65*H188","v":0},1,{"$f":"(L188+M188)*N188","v":0},null,{"$f":"P188*$Q$65*N188","v":0},45,{"$f":"Q188*R188","v":0},{"$f":"IF(F188=\"\",$P$3,$Q$3)","v":1},{"$f":"(O188+S188)*T188*H188","v":0}]
[null,"Vanne",null,null,"#","o",null,0,null,null,null,{"$f":"I189*$L$65*H189","v":0},{"$f":"J189*$M$65*H189","v":0},1,{"$f":"(L189+M189)*N189","v":0},null,{"$f":"P189*$Q$65*N189","v":0},45,{"$f":"Q189*R189","v":0},{"$f":"IF(F189=\"\",$P$3,$Q$3)","v":1},{"$f":"(O189+S189)*T189*H189","v":0}]
[null,"Level switch E+H liquifant",null,null,"#","o",null,{"$f":"IF(H188=1,1,0)","v":1},null,800,null,{"$f":"I190*$L$65*H190","v":0},{"$f":"J190*$M$65*H190","v":800},{"$f":"N188*Calculations!P44","v":1},{"$f":"(L190+M190)*N190","v":800},null,{"$f":"P190*$Q$65*N190","v":0},45,{"$f":"Q190*R190","v":0},{"$f":"IF(F190=\"\",$P$3,$Q$3)","v":1},{"$f":"(O190+S190)*T190*H190","v":800}]
[null,"Vacuometre",null,null,"#","o",null,{"$f":"IF(H188=1,1,0)","v":1},null,300,null,{"$f":"I191*$L$65*H191","v":0},{"$f":"J191*$M$65*H191","v":300},{"$f":"N188*Calculations!P44","v":1},{"$f":"(L191+M191)*N191","v":300},null,{"$f":"P191*$Q$65*N191","v":0},45,{"$f":"Q191*R191","v":0},{"$f":"IF(F191=\"\",$P$3,$Q$3)","v":1},{"$f":"(O191+S191)*T191*H191","v":300}]
[null,null,"Total",null,"#","o",null,null,null,null,null,null,null,null,null,null,null,45,null,null,{"$f":"SUM(U188:U191)","v":1100}]
[]
[73,"Ballon Séparateur 4","BSK",{"$f":"Calculations!E44","v":3400},"#","o",{"$f":"Calculations!C44","v":"316L"},{"$f":"IF(Calculations!S31>3,1,0)","v":0},null,{"$f":"IF(Calculations!D44=\"krogh\",'Ballon Séparateur Flasqué'!G19,'Ballon Séparateur'!G19)","v":0},null,{"$f":"I194*$L$65*H194","v":0},{"$f":"J194*$M$65*H194","v":0},1,{"$f":"(L194+M194)*N194","v":0},null,{"$f":"P194*$Q$65*N194","v":0},45,{"$f":"Q194*R194","v":0},{"$f":"IF(F194=\"\",$P$3,$Q$3)","v":1},{"$f":"(O194+S194)*T194*H194","v":0}]
[null,"Vanne",null,null,"#","o",null,0,null,null,null,{"$f":"I195*$L$65*H195","v":0},{"$f":"J195*$M$65*H195","v":0},1,{"$f":"(L195+M195)*N195","v":0},null,{"$f":"P195*$Q$65*N195","v":0},45,{"$f":"Q195*R195","v":0},{"$f":"IF(F195=\"\",$P$3,$Q$3)","v":1},{"$f":"(O195+S195)*T195*H195","v":0}]
[null,"Level switch E+H liquifant",null,null,"#","o",null,{"$f":"IF(H194=1,1,0)","v":0},null,800,null,{"$f":"I196*$L$65*H196","v":0},{"$f":"J196*$M$65*H196","v":0},{"$f":"Calculations!P44*'Cost list'!N194","v":1},{"$f":"(L196+M196)*N196","v":0},null,{"$f":"P196*$Q$65*N196","v":0},45,{"$f":"Q196*R196","v":0},{"$f":"IF(F196=\"\",$P$3,$Q$3)","v":1},{"$f":"(O196+S196)*T196*H196","v":0}]
[null,"Vacuometre",null,null,"#","o",null,{"$f":"IF(H194=1,1,0)","v":0},null,300,null,{"$f":"I197*$L$65*H197","v":0},{"$f":"J197*$M$65*H197","v":0},{"$f":"Calculations!P44*'Cost list'!N194","v":1},{"$f":"(L197+M197)*N197","v":0},null,{"$f":"P197*$Q$65*N197","v":0},45,{"$f":"Q197*R197","v":0},{"$f":"IF(F197=\"\",$P$3,$Q$3)","v":1},{"$f":"(O197+S197)*T197*H197","v":0}]
[null,null,"Total",null,"#","o",null,null,null,null,null,null,null,null,null,null,null,45,null,null,{"$f":"SUM(U194:U197)","v":0}]
[]
[74,"Ballon Séparateur 5","BSB",{"$f":"Calculations!E44","v":3400},"#","o",{"$f":"Calculations!C44","v":"316L"},{"$f":"IF(Calculations!S31>4,1,0)","v":0},null,{"$f":"IF(Calculations!D44=\"krogh\",'Ballon Séparateur Flasqué'!G19,'Ballon Séparateur'!G19)","v":0},null,{"$f":"I200*$L$65*H200","v":0},{"$f":"J200*$M$65*H200","v":0},1,{"$f":"(L200+M200)*N200","v":0},null,{"$f":"P200*$Q$65*N200","v":0},45,{"$f":"Q200*R200","v":0},{"$f":"IF(F200=\"\",$P$3,$Q$3)","v":1},{"$f":"(O200+S200)*T200*H200","v":0}]
[null,"Vanne",null,null,"#","o",null,0,null,null,null,{"$f":"I201*$L$65*H201","v":0},{"$f":"J201*$M$65*H201","v":0},1,{"$f":"(L201+M201)*N201","v":0},null,{"$f":"P201*$Q$65*N201","v":0},45,{"$f":"Q201*R201","v":0},{"$f":"IF(F201=\"\",$P$3,$Q$3)","v":1},{"$f":"(O201+S201)*T201*H201","v":0}]
[null,"Level switch E+H liquifant",null,null,"#","o",null,{"$f":"IF(H200=1,1,0)","v":0},null,800,null,{"$f":"I202*$L$65*H202","v":0},{"$f":"J202*$M$65*H202","v":0},{"$f":"Calculations!P44*'Cost list'!N200","v":1},{"$f":"(L202+M202)*N202","v":0},null,{"$f":"P202*$Q$65*N202","v":0},45,{"$f":"Q202*R202","v":0},{"$f":"IF(F202=\"\",$P$3,$Q$3)","v":1},{"$f":"(O202+S202)*T202*H202","v":0}]
[null,"Vacuometre",null,null,"#","o",null,{"$f":"IF(H200=1,1,0)","v":0},null,300,null,{"$f":"I203*$L$65*H203","v":0},{"$f":"J203*$M$65*H203","v":0},{"$f":"Calculations!P44*'Cost list'!N200","v":1},{"$f":"(L203+M203)*N203","v":0},null,{"$f":"P203*$Q$65*N203","v":0},45,{"$f":"Q203*R203","v":0},{"$f":"IF(F203=\"\",$P$3,$Q$3)","v":1},{"$f":"(O203+S203)*T203*H203","v":0}]
[null,null,"Total",null,"#","o",null,null,null,null,null,null,null,null,null,null,null,45,null,null,{"$f":"SUM(U200:U203)","v":0}]
[]
[75,"Cyclone",null,{"$f":"Calculations!E46","v":3000},"#","o",{"$f":"Calculations!C46","v":"316L"},{"$f":"IF(Calculations!C46=\"Exclu\",0,1)","v":1},null,{"$f":"#REF!","v":{"$error":"#REF!"}},null,{"$f":"I206*$L$65*H206","v":0},{"$f":"J206*$M$65*H206","v":{"$error":"#REF!"}},{"$f":"'Séries 3-4-5'!$I$3","v":1},{"$f":"(L206+M206)*N206","v":{"$error":"#REF!"}},null,{"$f":"P206*$Q$65*N206","v":0},45,{"$f":"Q206*R206","v":0},{"$f":"IF(F206=\"\",$P$3,$Q$3)","v":1},{"$f":"(O206+S206)*T206*H206","v":{"$error":"#REF!"}}]
[null,"Vanne",null,null,"#","o",null,0,null,null,null,{"$f":"I207*$L$65*H207","v":0},{"$f":"J207*$M$65*H207","v":0},1,{"$f":"(L207+M207)*N207","v":0},null,{"$f":"P207*$Q$65*N207","v":0},45,{"$f":"Q207*R207","v":0},{"$f":"IF(F207=\"\",$P$3,$Q$3)","v":1},{"$f":"(O207+S207)*T207*H207","v":0}]
[null,"Vacuometre or transmitter E+H",null,null,"#","o",null,0,null,null,null,{"$f":"I208*$L$65*H208","v":0},{"$f":"J208*$M$65*H208","v":0},0,{"$f":"(L208+M208)*N208","v":0},null,0,45,0,{"$f":"IF(F208=\"\",$P$3,$Q$3)","v":1},{"$f":"(O208+S208)*T208*H208","v":0}]
[null,null,"Total",null,"#","o",null,null,null,null,null,null,null,null,null,null,null,45,null,null,{"$f":"SUM(U206:U208)","v":{"$error":"#REF!"}}]
[]
[76,"Laveur de Gaz",null,{"$f":"Calculations!E48","v":3000},"#","o",{"$f":"Calculations!C48","v":"316L"},{"$f":"IF(Calculations!C48=\"Exclu\",0,1)","v":1},null,{"$f":"#REF!","v":{"$error":"#REF!"}},null,{"$f":"I211*$L$65*H211","v":0},{"$f":"J211*$M$65*H211","v":{"$error":"#REF!"}},{"$f":"'Séries 3-4-5'!$I$3","v":1},{"$f":"(L211+M211)*N211","v":{"$error":"#REF!"}},null,0,45,0,{"$f":"IF(F211=\"\",$P$3,$Q$3)","v":1},{"$f":"(O211+S211)*T211*H211","v":{"$error":"#REF!"}}]
[null,"Sprayer",null,null,"#","o",null,0,null,null,null,{"$f":"I212*$L$65*H212","v":0},{"$f":"J212*$M$65*H212","v":0},{"$f":"'Séries 3-4-5'!$I$3","v":1},{"$f":"(L212+M212)*N212","v":0},null,0,45,0,{"$f":"IF(F212=\"\",$P$3,$Q$3)","v":1},{"$f":"(O212+S212)*T212*H212","v":0}]
[null,"Vanne",null,null,"#","o",null,0,null,null,null,{"$f":"I213*$L$65*H213","v":0},{"$f":"J213*$M$65*H213","v":0},1,{"$f":"(L213+M213)*N213","v":0},null,{"$f":"P213*$Q$65*N213","v":0},45,{"$f":"Q213*R213","v":0},{"$f":"IF(F213=\"\",$P$3,$Q$3)","v":1},{"$f":"(O213+S213)*T213*H213","v":0}]
[null,"Débitmètre",null,null,"#","o",null,0,null,null,null,{"$f":"I214*$L$65*H214","v":0},{"$f":"J214*$M$65*H214","v":0},1,{"$f":"(L214+M214)*N214","v":0},null,{"$f":"P214*$Q$65*N214","v":0},45,{"$f":"Q214*R214","v":0},{"$f":"IF(F214=\"\",$P$3,$Q$3)","v":1},{"$f":"(O214+S214)*T214*H214","v":0}]
[null,null,"Total",null,"#","o",null,null,null,null,null,null,null,null,null,null,null,45,null,null,{"$f":"SUM(U211:U214)","v":{"$error":"#REF!"}}]
[]
[77,"Canne de Lavage de Gaz",null,200,"#","o","SS316L",0,null,null,null,{"$f":"I217*$L$65*H217","v":0},{"$f":"J217*$M$65*H217","v":0},{"$f":"'Séries 3-4-5'!$I$3","v":1},{"$f":"(L217+M217)*N217","v":0},null,{"$f":"P217*$Q$65*N217","v":0},45,{"$f":"Q217*R217","v":0},{"$f":"IF(F217=\"\",$P$3,$Q$3)","v":1},{"$f":"(O217+S217)*T217*H217","v":0}]
[]
[79,"Vis de Repulpage",null,"B30","#","o","SS316L",0,null,null,null,{"$f":"I219*$L$65*H219","v":0},{"$f":"J219*$M$65*H219","v":0},{"$f":"'Séries 3-4-5'!$I$3","v":1},{"$f":"(L219+M219)*N219","v":0},null,{"$f":"P219*$Q$65*N219","v":0},45,{"$f":"Q219*R219","v":0},{"$f":"IF(F219=\"\",$P$3,$Q$3)","v":1},{"$f":"(O219+S219)*T219*H219","v":0}]
[]
[80,"Tauyauteries De Liaison",null,null,"#","o","SVR",1,null,null,null,{"$f":"I221*$L$65*H221","v":0},{"$f":"J221*$M$65*H221","v":0},{"$f":"'Séries 3-4-5'!$I$3","v":1},{"$f":"(L221+M221)*N221","v":0},null,{"$f":"P221*$Q$65*N221","v":0},45,{"$f":"Q221*R221","v":0},{"$f":"IF(F221=\"\",$P$3,$Q$3)","v":1},{"$f":"(O221+S221)*T221*H221","v":0}]
[]
[81,"Passerelles",null,{"$f":"'Séries 3-4-5'!L2","v":"90B30"},"#","o",null,{"$f":"IF(Calculations!I31=\"Avec caillebotis\",1,IF(Calculations!I31=\"Sans caillebotis\",1,0))","v":0},null,null,null,{"$f":"I223*$L$65*H223","v":0},{"$f":"J223*$M$65*H223","v":0},{"$f":"'Séries 3-4-5'!$I$3","v":1},{"$f":"(L223+M223)*N223","v":0},null,{"$f":"P223*$Q$65*N223","v":0},45,{"$f":"Q223*R223","v":0},{"$f":"IF(F223=\"\",$P$3,$Q$3)","v":1},{"$f":"IF(Calculations!I31=\"Avec caillebotis\",#REF!,IF(Calculations!I31=\"Sans caillebotis\",#REF!,0))","v":0}]
[]
[82,"Station d'HC Primaire",null,null,"#","o",null,0,null,null,null,{"$f":"I225*$L$65*H225","v":0},{"$f":"J225*$M$65*H225","v":0},{"$f":"'Séries 3-4-5'!$I$3","v":1},{"$f":"(L225+M225)*N225","v":0},null,{"$f":"P225*$Q$65*N225","v":0},45,{"$f":"Q225*R225","v":0},{"$f":"IF(F225=\"\",$P$3,$Q$3)","v":1},{"$f":"(O225+S225)*T225*H225","v":0}]
[]
[83,"Station d'HC Secondaire",null,null,"#","o",null,0,null,null,null,{"$f":"I227*$L$65*H227","v":0},{"$f":"J227*$M$65*H227","v":0},{"$f":"'Séries 3-4-5'!$I$3","v":1},{"$f":"(L227+M227)*N227","v":0},null,{"$f":"P227*$Q$65*N227","v":0},45,{"$f":"Q227*R227","v":0},{"$f":"IF(F227=\"\",$P$3,$Q$3)","v":1},{"$f":"(O227+S227)*T227*H227","v":0}]
[]
[84,"Filtre à Eau Lavage Toile & Bande",null,null,"#","o",null,0,null,null,null,{"$f":"I229*$L$65*H229","v":0},{"$f":"J229*$M$65*H229","v":0},{"$f":"'Séries 3-4-5'!$I$3","v":1},{"$f":"(L229+M229)*N229","v":0},null,{"$f":"P229*$Q$65*N229","v":0},45,{"$f":"Q229*R229","v":0},{"$f":"IF(F229=\"\",$P$3,$Q$3)","v":1},{"$f":"(O229+S229)*T229*H229","v":0}]
[]
[null,null,null,null,null,null,"d/w","pd/h",null,null,null,"car renting",null,"week",null,null,null,"external h. cost"]
[null,"Supervisor","erection",null,null,null,6,10,1,null,null,null,null,3.5,null,null,{"$f":"G232*H232*N232*$Q$7","v":210},80,{"$f":"Q232*R232","v":16800},{"$f":"IF(F232=\"\",$P$3,$Q$3)","v":1},{"$f":"(O232+S232)*T232","v":16800}]
[null,null,"hotel",null,null,null,7,1,null,120,null,30,null,3.5,{"$f":"(J233+L233)*G233*H233*N233","v":3675},null,{"$f":"P233*N233*$Q$7*H233","v":0},null,{"$f":"Q233*R233","v":0},{"$f":"IF(F233=\"\",$P$3,$Q$3)","v":1},{"$f":"(O233+S233)*T233","v":3675}]
[null,null,"travel",null,null,null,1,1,null,1200,null,null,null,1,{"$f":"(J234+L234)*G234*H234*N234","v":1200},null,{"$f":"P234*N234*$Q$7*H234","v":0},null,{"$f":"Q234*R234","v":0},{"$f":"IF(F234=\"\",$P$3,$Q$3)","v":1},{"$f":"(O234+S234)*T234","v":1200}]
[null,null,null,null,null,null,null,null,null,null,null,"car renting",null,null,null,null,null,null,null,null,{"$f":"SUM(U232:U234)","v":21675}]
[null,"Supervisor","start up",null,null,null,6,10,1,null,null,null,null,1,null,null,{"$f":"G236*H236*N236*$Q$7","v":60},80,{"$f":"Q236*R236","v":4800},{"$f":"IF(F236=\"\",$P$3,$Q$3)","v":1},{"$f":"(O236+S236)*T236","v":4800}]
[null,null,"hotel",null,null,null,7,1,null,120,null,30,null,1,{"$f":"(J237+L237)*G237*H237*N237","v":1050},null,{"$f":"P237*N237*$Q$7*H237","v":0},null,{"$f":"Q237*R237","v":0},{"$f":"IF(F237=\"\",$P$3,$Q$3)","v":1},{"$f":"(O237+S237)*T237","v":1050}]
[null,null,"travel",null,null,null,1,1,null,1200,null,null,null,1,{"$f":"(J238+L238)*G238*H238*N238","v":1200},null,{"$f":"P238*N238*$Q$7*H238","v":0},null,{"$f":"Q238*R238","v":0},{"$f":"IF(F238=\"\",$P$3,$Q$3)","v":1},{"$f":"(O238+S238)*T238","v":1200}]
[null,null,null,null,null,null,null,null,null,null,null,null,null,null,null,null,null,null,null,null,{"$f":"SUM(U236:U238)","v":7050}]
[]
[49,"Spare Parts Mandatory",null,null,"#","o",null,0,null,null,null,{"$f":"I241*$L$65*H241","v":0},{"$f":"J241*$M$65*H241","v":0},{"$f":"'Séries 3-4-5'!$I$3","v":1},{"$f":"(L241+M241)*N241","v":0},null,{"$f":"P241*$Q$65*N241","v":0},{"$f":"IF($F241=\"\",$R$3,$S$3)","v":45},{"$f":"Q241*R241","v":0},{"$f":"IF(F241=\"\",$P$3,$Q$3)","v":1},{"$f":"(O241+S241)*T241*H241","v":0}]
[49,"Spare Parts Start Up",null,null,"#","o",null,0,null,null,null,{"$f":"I242*$L$65*H242","v":0},{"$f":"J242*$M$65*H242","v":0},{"$f":"'Séries 3-4-5'!$I$3","v":1},{"$f":"(L242+M242)*N242","v":0},null,{"$f":"P242*$Q$65*N242","v":0},{"$f":"IF($F242=\"\",$R$3,$S$3)","v":45},{"$f":"Q242*R242","v":0},{"$f":"IF(F242=\"\",$P$3,$Q$3)","v":1},{"$f":"(O242+S242)*T242*H242","v":0}]
[49,"Spare Parts 1 year",null,null,"#","o",null,0,null,null,null,{"$f":"I243*$L$65*H243","v":0},{"$f":"J243*$M$65*H243","v":0},{"$f":"'Séries 3-4-5'!$I$3","v":1},{"$f":"(L243+M243)*N243","v":0},null,{"$f":"P243*$Q$65*N243","v":0},{"$f":"IF($F243=\"\",$R$3,$S$3)","v":45},{"$f":"Q243*R243","v":0},{"$f":"IF(F243=\"\",$P$3,$Q$3)","v":1},{"$f":"(O243+S243)*T243*H243","v":0}]
[49,null,"Total",null,"#","o",null,null,null,null,null,null,null,null,null,null,null,{"$f":"IF($F244=\"\",$R$3,$S$3)","v":45},null,null,{"$f":"SUM(U242:U243)","v":0}]
[]
[39,"Renforcement Transport",null,null,null,null,null,0,null,null,null,{"$f":"I246*$L$65","v":0},{"$f":"J246*$M$65","v":0},1,{"$f":"(L246+M246)*N246","v":0},0,{"$f":"P246*$Q$65*N246","v":0},30.55,{"$f":"Q246*R246","v":0},{"$f":"IF(F246=\"\",$P$3,$Q$3)","v":1},{"$f":"(O246+S246)*T246*H246","v":0}]
["PRESTA","TC 40' part France ","E & M",null,null,null,null,1,null,1500,null,{"$f":"I247*$L$65","v":0},{"$f":"J247*$M$65","v":1500},6,9000,0,0,30.55,0,1,{"$f":"(O247+S247)*T247*H247","v":9000}]
["PRESTA","TC 20' part France ","E & M",null,null,null,null,0,null,1000,null,{"$f":"I248*$L$65","v":0},{"$f":"J248*$M$65","v":1000},20,20000,0,0,30.55,0,1,{"$f":"(O248+S248)*T248*H248","v":0}]
["PRESTA","Fumigation",null,null,null,null,null,0,null,300,null,{"$f":"I249*$L$65","v":0},{"$f":"J249*$M$65","v":300},20,6000,0,0,30.55,0,1,{"$f":"(O249+S249)*T249*H249","v":0}]
["PRESTA","Transport","FOB",null,null,null,null,1,null,750,null,{"$f":"I250*$L$65","v":0},{"$f":"J250*$M$65","v":750},6,4500,0,0,30.55,0,1,{"$f":"(O250+S250)*T250*H250","v":4500}]
["PRESTA","insurance",1.1000000000000001E-3,null,null,null,null,1,null,null,null,null,0,0,0,null,0,30.55,0,1,{"$f":"W251*1.1*C251","v":{"$error":"#REF!"}},null,{"$f":"V101+U103+U105+U107+U109+U111+U113+U115+U117+U119+U124+U130+U132+U137+U143+U148+U153+U160+U162+U164+U166+U168+U170+U172+U174+U180+U186+U192+U198+U204+U209+U215+U217+U219+U221+U223+U225+U227+U229+U244+U246+U247+U248+U249+U250","v":{"$error":"#REF!"}}]
[]
[]
[]
[null,null,null,null,null,null,null,null,null,null,null,null,null,null,null,null,null,null,"TOT",null,{"$f":"W251+U251","v":{"$error":"#REF!"}}]

{"sheet":"Cost List2.xls","index":11,"n_rows":152,"n_cols":32,"rows_kept":152,"cut":false,"hidden":true,"merged":[[88,0,88,19],[100,0,100,19],[4,20,6,20],[4,26,6,26],[106,26,106,27],[105,26,105,27],[4,27,6,27],[60,3,63,3],[61,13,63,13],[61,19,63,19],[61,20,63,20],[61,26,63,26],[61,27,63,27],[4,19,6,19],[64,0,64,19],[0,13,0,17],[2,2,2,4],[3,3,6,3],[3,11,3,12],[4,13,6,13]]}
[null,null,null,null,null,null,null,null,null,null,null,null,null,"Managed your cost"]
[null,null,null,null,null,null,null,null,null,null,null,null,null,null,"French GM","(Local) GM","French Hour cost","(local) Hour cost"]
["N° DU DEVIS :",{"$f":"'Série 2'!E1","v":"760895-rev2"},{"$f":"\"- \"&'Série 2'!B6&\"B\"&('Série 2'!B5/100)","v":"- 90B30"},null,null,"Client",null,{"$f":"'Série 2'!H1","v":"PKT"},null,null,null,{"$f":"'Série 2'!B10","v":"WRONG"},null,1,1,1,60,45,"Rev.",0,null,null,null,null,null,"detail of cost sharing France / local"]
["Ph. LE BIGOT => ",{"$f":"'Série 2'!E2","v":"T. DUBRULLE"},null,"local basic","For ","Surface :",null,{"$f":"'Série 2'!B6","v":90},"Largeur",null,{"$f":"'Série 2'!B5","v":3000},"Spécifications",null,{"$f":"CONCATENATE(F11,\"+\",F29,\"+\",F13,\"+\",\"T\",C14,\"+\",G33,\"G\",\"+\",C50,\"KW\",\"+\",G51,\"VF\")","v":"316L+U45N+SBR+T120+4G+90KW+1VF"},null,null,null,null,null,"2005-08-11",null,null,null,null,"French","Local","French","Local","French","Local","French","Local"]
[null,null,"data",null,"local",null,null,"Material","Buyout","Corrective","Updated","Buyout",null,"Total (1) Material + buyout","Labour","Labour",null,"Total (2)",null,"Final cost without Engineering","Final cost including engineering",null,"data",null,"incl 1,149","incl. 1,149","Total (1) Material + buyout","Total (1) Material + buyout","Labour","Labour","Total (2)","Total (2)"]
["Désignation",null,"Spéc",null,"fill the ","Mat","Qty","Unit cost","Unit cost","factor","material",null,"Qty",null,"Unit","Total","Taux","Labour","Marg",null,null,"Désignation","Spéc",{"$f":"F6","v":"Mat"},"France","Local",null,null,"Total","Total","labour","labour"]
[null,null,"Dia.",null,"cell","Spec",null,null,null,null,null,1,null,null,null,1,null,null,null,null,null,null,"Dia.",null,"no engineering",null,null,null,"hours","hours","cost","cost"]
["filter engineering basic",null,null,null,null,null,1,null,11500,null,{"$f":"H8*$K$65","v":0},{"$f":"I8*$L$7","v":11500},1,{"$f":"(K8+L8)*M8","v":11500},80,{"$f":"O8*M8","v":80},44,{"$f":"P8*Q8","v":3520},{"$f":"IF($E8=\"\",$O$3,$P$3)","v":1},null,null,{"$f":"A8","v":"filter engineering basic"},{"$f":"C8","v":0},{"$f":"F8","v":0},{"$f":"T8","v":0},null,{"$f":"N8","v":11500},null,{"$f":"P8","v":80},null,{"$f":"R8","v":3520}]
["customisazion second filter and following",null,null,null,null,null,1,null,3400,null,{"$f":"H9*$K$65","v":0},{"$f":"I9*$L$7","v":3400},{"$f":"'Série 2'!$I$2-1","v":0},{"$f":"(K9+L9)*M9","v":0},{"$f":"IF(M9>0.5,40,0)","v":0},{"$f":"O9*M9","v":0},44,{"$f":"P9*Q9","v":0},{"$f":"IF($E9=\"\",$O$3,$P$3)","v":1},{"$f":"(N9+R9)*S9","v":0},{"$f":"(R9)*S9","v":0},"customisazion second filter and following",0,{"$f":"F9","v":0},{"$f":"T9","v":0},{"$f":"IF(E9=\"\",\"\",T9)","v":""},{"$f":"IF($E9=\"\",N9,\"\")","v":0},{"$f":"IF($E9=\"\",\"\",N9)","v":""},{"$f":"IF($E9=\"\",P9,\"\")","v":0},{"$f":"IF($E9=\"\",\"\",P9)","v":""},{"$f":"IF($E9=\"\",R9,\"\")","v":0},{"$f":"IF($E9=\"\",\"\",R9)","v":""}]
["other customisazion",null,null,null,null,null,0,null,null,null,{"$f":"H10*$K$65","v":0},{"$f":"I10*$L$7","v":0},{"$f":"'Série 2'!$I$2","v":1},{"$f":"(K10+L10)*M10","v":0},0,{"$f":"O10*M10","v":0},44,{"$f":"P10*Q10","v":0},{"$f":"IF($E10=\"\",$O$3,$P$3)","v":1},{"$f":"(N10)*S10","v":0},{"$f":"(R10)*S10","v":0},"other customisazion",0,0,{"$f":"T10","v":0},{"$f":"IF(E10=\"\",\"\",T10)","v":""},{"$f":"IF($E10=\"\",N10,\"\")","v":0},{"$f":"IF($E10=\"\",\"\",N10)","v":""},{"$f":"IF($E10=\"\",P10,\"\")","v":0},{"$f":"IF($E10=\"\",\"\",P10)","v":""},{"$f":"IF($E10=\"\",R10,\"\")","v":0},{"$f":"IF($E10=\"\",\"\",R10)","v":""}]
["frame incl. belt support steel beam",null,{"$f":"Char2!I27&\" kg\"","v":{"$error":"#N/A"}},"#","o",{"$f":"'Série 2'!B16","v":"316L"},1,{"$f":"(HLOOKUP(F11,Char2!J6:N27,22,0))/6.55957","v":{"$error":"#N/A"}},{"$f":"VLOOKUP(F11,Char2!A87:B90,2,0)/6.55957","v":4573.4705171223113},{"$f":"IF(F11=\"\",'Série 2'!$E$42,(VLOOKUP(F11,'Série 2'!$D$26:$E$42,2,0)))","v":2.0689655172413794},{"$f":"H11*J11","v":{"$error":"#N/A"}},{"$f":"I11*$L$7","v":4573.4705171223113},{"$f":"'Série 2'!$I$2","v":1},{"$f":"(K11+L11)*M11","v":{"$error":"#N/A"}},{"$f":"Char2!O27","v":{"$error":"#N/A"}},{"$f":"O11*M11*$P$7","v":{"$error":"#N/A"}},{"$f":"IF($E11=\"\",$Q$3,$R$3)","v":45},{"$f":"P11*Q11","v":{"$error":"#N/A"}},{"$f":"IF($E11=\"\",$O$3,$P$3)","v":1},{"$f":"(N11+R11)*S11*0.75","v":{"$error":"#N/A"}},null,"frame incl. belt support steel beam",{"$error":"#N/A"},"316L",{"$f":"IF(E11=\"\",T11,\"\")","v":""},{"$f":"IF(E11=\"\",\"\",T11)","v":{"$error":"#N/A"}},{"$f":"IF($E11=\"\",N11,\"\")","v":""},{"$f":"IF($E11=\"\",\"\",N11)","v":{"$error":"#N/A"}},{"$f":"IF($E11=\"\",P11,\"\")","v":""},{"$f":"IF($E11=\"\",\"\",P11)","v":{"$error":"#N/A"}},{"$f":"IF($E11=\"\",R11,\"\")","v":""},{"$f":"IF($E11=\"\",\"\",R11)","v":{"$error":"#N/A"}}]
["wear belt and plastic rail",null,{"$f":"'Série 2'!B17","v":"DUNL"},null,0,"PLAS",{"$f":"LOOKUP(K4,Tabl2!A20:A43,Tabl2!B20:B43)","v":10},{"$f":"(IF('Série 2'!B84=0,0,HLOOKUP(K4,Tabl2!I7:K12,6,0)))/6.55957","v":0},{"$f":"(HLOOKUP($C$12,Tabl2!$C$7:$G$20,12,0))/6.55957","v":8258.7730598194703},{"$f":"IF(F12=\"\",'Série 2'!$E$42,(VLOOKUP(F12,'Série 2'!$D$26:$E$42,2,0)))","v":1.3},{"$f":"H12*J12","v":0},{"$f":"I12*$L$7","v":8258.7730598194703},{"$f":"'Série 2'!$I$2","v":1},{"$f":"(K12+L12)*M12","v":8258.7730598194703},{"$f":"HLOOKUP($C$12,Tabl2!$C$7:$G$20,13,0)+Tabl2!J14","v":84},{"$f":"O12*M12*$P$7","v":84},{"$f":"IF($E12=\"\",$Q$3,$R$3)","v":45},3780,{"$f":"IF(E12=\"\",$O$3,$P$3)","v":1},{"$f":"(N12+R12)*S12*0.8","v":9631.0184478555766},null,"wear belt and plastic rail","DUNL","PLAS",{"$f":"IF(E12=\"\",T12,\"\")","v":""},{"$f":"IF(E12=\"\",\"\",T12)","v":9631.0184478555766},{"$f":"IF($E12=\"\",N12,\"\")","v":""},{"$f":"IF($E12=\"\",\"\",N12)","v":8258.7730598194703},{"$f":"IF($E12=\"\",P12,\"\")","v":""},{"$f":"IF($E12=\"\",\"\",P12)","v":84},{"$f":"IF($E12=\"\",R12,\"\")","v":""},{"$f":"IF($E12=\"\",\"\",R12)","v":3780}]
["rubber belt + grooving + pinching",null,null,null,null,{"$f":"'Série 2'!B18","v":"SBR"},1,null,{"$f":"(VLOOKUP(F13,Band2!A25:H27,8,0))","v":{"$error":"#N/A"}},{"$f":"IF(F13=\"\",'Série 2'!$E$42,(VLOOKUP(F13,'Série 2'!$D$26:$E$42,2,0)))","v":1.05},0,{"$error":"#N/A"},{"$f":"'Série 2'!$I$2","v":1},{"$error":"#N/A"},{"$f":"HLOOKUP(K4,Band2!B16:M30,15,0)","v":{"$error":"#N/A"}},{"$error":"#N/A"},60,{"$error":"#N/A"},1,{"$f":"I13*1.7*1.5*1.05","v":{"$error":"#N/A"}},null,"rubber belt + grooving + pinching",0,"SBR",{"$error":"#N/A"},"",{"$error":"#N/A"},"",{"$error":"#N/A"},"",{"$error":"#N/A"},""]
["edge curb",null,{"$f":"'Série 2'!B19","v":120},null,null,{"$f":"'Série 2'!B20","v":"SBR"},1,null,{"$f":"(HLOOKUP(K4,Band2!B16:M29,IF(C14=Band2!A28,13,14),0))/6.55957","v":{"$error":"#N/A"}},{"$f":"IF(F14=\"\",'Série 2'!$E$42,(VLOOKUP(F14,'Série 2'!$D$26:$E$42,2,0)))","v":1.05},0,{"$error":"#N/A"},{"$f":"'Série 2'!$I$2","v":1},{"$error":"#N/A"},0,0,60,0,1,{"$f":"(N14+R14)*S14*1.05","v":{"$error":"#N/A"}},null,"edge curb",120,"SBR",{"$error":"#N/A"},"",{"$error":"#N/A"},"",0,"",0,""]
[{"$f":"\"drive pulley\"&\"  \"&'Série 2'!$B$22","v":"drive pulley  SBR"},null,{"$f":"'Série 2'!$B$7","v":630},"#","o",null,1,{"$f":"(HLOOKUP($K$4,Tamb2!$B$3:$M$9,2,0))/6.55957","v":1859.8780102964067},{"$f":"(HLOOKUP($K$4,Tamb2!$B$3:$M$9,3,0))/6.55957","v":3628.2866102503672},{"$f":"IF(F15=\"\",'Série 2'!$E$42,(VLOOKUP(F15,'Série 2'!$D$26:$E$42,2,0)))","v":1.3},2417.8414133853289,3628.2866102503672,{"$f":"'Série 2'!$I$2","v":1},6046.1280236356961,{"$f":"HLOOKUP($K$4,Tamb2!$B$3:$M$9,6,0)","v":90},90,45,4050,1,{"$f":"(N15+R15)*S15*1.1","v":11105.740825999266},null,"drive pulley  SBR",630,0,"",11105.740825999266,"",6046.1280236356961,"",90,"",4050]
[{"$f":"\"idler pulley\"&\"  \"&'Série 2'!$B$22","v":"idler pulley  SBR"},null,{"$f":"'Série 2'!$B$7","v":630},"#","o",null,1,{"$f":"(HLOOKUP($K$4,Tamb2!$B$3:$M$9,4,0))/6.55957","v":1547.3575249597154},{"$f":"(HLOOKUP($K$4,Tamb2!$B$3:$M$9,5,0))/6.55957","v":3018.4905413007255},{"$f":"IF(F16=\"\",'Série 2'!$E$42,(VLOOKUP(F16,'Série 2'!$D$26:$E$42,2,0)))","v":1.3},2011.56478244763,3018.4905413007255,{"$f":"'Série 2'!$I$2","v":1},5030.0553237483555,{"$f":"HLOOKUP($K$4,Tamb2!$B$3:$M$9,7,0)","v":80},80,45,3600,1,9493.0608561231911,null,"idler pulley  SBR",630,0,"",9493.0608561231911,"",5030.0553237483555,"",80,"",3600]
["pulleys bearing",null,null,null,null,null,1,null,{"$f":"(HLOOKUP($K$4,Tamb2!$B$3:$M$10,8,0))/6.55957","v":4878.368551597132},{"$f":"IF(F17=\"\",'Série 2'!$E$42,(VLOOKUP(F17,'Série 2'!$D$26:$E$42,2,0)))","v":1.3},0,4878.368551597132,{"$f":"'Série 2'!$I$2","v":1},4878.368551597132,5,5,60,300,1,5696.2054067568461,null,"pulleys bearing",0,0,5696.2054067568461,"",4878.368551597132,"",5,"",300,""]
["belt guide rollers",null,null,null,null,null,{"$f":"'Série 2'!B23","v":10},null,{"$f":"(136*G18)/6.55957","v":207.33066344287812},{"$f":"IF(F18=\"\",'Série 2'!$E$42,(VLOOKUP(F18,'Série 2'!$D$26:$E$42,2,0)))","v":1.3},0,207.33066344287812,{"$f":"'Série 2'!$I$2","v":1},207.33066344287812,null,0,60,0,1,228.06372978716595,null,"belt guide rollers",0,0,228.06372978716595,"",207.33066344287812,"",0,"",0,""]
["belt support rollers",null,{"$f":"'Série 2'!B24","v":219},"#","o",{"$f":"'Série 2'!B25","v":"316L"},{"$f":"'Série 2'!B26","v":6},{"$f":"((INDEX(Roul2!H5:AK9,MATCH(C19,Roul2!H6:H9,0)+1,MATCH(K4&F19,Roul2!I5:AK5,0)+1))*G19)/6.55957","v":{"$error":"#N/A"}},{"$f":"((INDEX(Roul2!H10:AK14,MATCH(C19,Roul2!H11:H14,0)+1,MATCH(K4&F19,Roul2!I10:AK10,0)+1))*G19)/6.55957","v":{"$error":"#N/A"}},{"$f":"IF(F19=\"\",'Série 2'!$E$42,(VLOOKUP(F19,'Série 2'!$D$26:$E$42,2,0)))","v":2.0689655172413794},{"$error":"#N/A"},{"$error":"#N/A"},{"$f":"'Série 2'!$I$2","v":1},{"$error":"#N/A"},{"$f":"(LOOKUP(C19,Roul2!$G$45:$G$51,Roul2!$H$45:$H$51))*G19","v":42},42,45,1890,1,{"$error":"#N/A"},null,"belt support rollers",219,"316L","",{"$error":"#N/A"},"",{"$error":"#N/A"},"",42,"",1890]
["cloth support roller type 1",null,{"$f":"'Série 2'!B27","v":88.9},"#","o",{"$f":"'Série 2'!B28","v":"316L"},{"$f":"'Série 2'!B29","v":8},{"$f":"((INDEX(Roul2!H15:AK20,MATCH(C20,Roul2!H16:H20,0)+1,MATCH(K4&F20,Roul2!I15:AK15,0)+1))*G20)/6.55957","v":{"$error":"#N/A"}},{"$f":"((INDEX(Roul2!H21:AK26,MATCH(C20,Roul2!H22:H26,0)+1,MATCH(K4&F20,Roul2!I21:AK21,0)+1))*G20)/6.55957","v":{"$error":"#N/A"}},{"$f":"IF(F20=\"\",'Série 2'!$E$42,(VLOOKUP(F20,'Série 2'!$D$26:$E$42,2,0)))","v":2.0689655172413794},{"$error":"#N/A"},{"$error":"#N/A"},{"$f":"'Série 2'!$I$2","v":1},{"$error":"#N/A"},{"$f":"(LOOKUP(C20,Roul2!$G$45:$G$51,Roul2!$H$45:$H$51))*G20","v":40},40,45,1800,1,{"$error":"#N/A"},null,"cloth support roller type 1",88.9,"316L","",{"$error":"#N/A"},"",{"$error":"#N/A"},"",40,"",1800]
["cloth support roller type 2",null,{"$f":"'Série 2'!B30","v":88.9},"#","o",{"$f":"'Série 2'!B31","v":"316L"},{"$f":"'Série 2'!B32","v":5},{"$f":"(IF(G21=0,0,(INDEX(Roul2!H15:AK20,MATCH(C21,Roul2!H16:H20,0)+1,MATCH(K4&F21,Roul2!I15:AK15,0)+1))*G21))/6.55957","v":{"$error":"#N/A"}},{"$f":"(IF(G21=0,0,(INDEX(Roul2!H21:AK26,MATCH(C21,Roul2!H22:H26,0)+1,MATCH(K4&F21,Roul2!I21:AK21,0)+1))*G21))/6.55957","v":{"$error":"#N/A"}},{"$f":"IF(F21=\"\",'Série 2'!$E$42,(VLOOKUP(F21,'Série 2'!$D$26:$E$42,2,0)))","v":2.0689655172413794},{"$error":"#N/A"},{"$error":"#N/A"},{"$f":"'Série 2'!$I$2","v":1},{"$error":"#N/A"},{"$f":"IF(G21=0,0,(LOOKUP(C21,Roul2!$G$45:$G$51,Roul2!$H$45:$H$51))*G21)","v":25},25,45,1125,1,{"$f":"(N21+R21)*S21","v":{"$error":"#N/A"}},null,"cloth support roller type 2",88.9,"316L","",{"$error":"#N/A"},"",{"$error":"#N/A"},"",25,"",1125]
["cloth discharge end support roller",null,{"$f":"'Série 2'!B33","v":88.9},"#","o",{"$f":"'Série 2'!B34","v":"316L"},{"$f":"'Série 2'!B35","v":1},{"$f":"((INDEX(Roul2!H15:AK20,MATCH(C22,Roul2!H16:H20,0)+1,MATCH(K4&F22,Roul2!I15:AK15,0)+1))*G22)/6.55957","v":{"$error":"#N/A"}},{"$f":"((INDEX(Roul2!H21:AK26,MATCH(C22,Roul2!H22:H26,0)+1,MATCH(K4&F22,Roul2!I21:AK21,0)+1))*G22)/6.55957","v":{"$error":"#N/A"}},{"$f":"IF(F22=\"\",'Série 2'!$E$42,(VLOOKUP(F22,'Série 2'!$D$26:$E$42,2,0)))","v":2.0689655172413794},{"$error":"#N/A"},{"$error":"#N/A"},{"$f":"'Série 2'!$I$2","v":1},{"$error":"#N/A"},{"$f":"(LOOKUP(C22,Roul2!$G$45:$G$51,Roul2!$H$45:$H$51))*G22","v":5},5,45,225,1,{"$error":"#N/A"},null,"cloth discharge end support roller",88.9,"316L","",{"$error":"#N/A"},"",{"$error":"#N/A"},"",5,"",225]
["cake discharge roller",null,{"$f":"'Série 2'!B36","v":88.9},"#","o",{"$f":"'Série 2'!B37","v":"316L"},{"$f":"'Série 2'!B38","v":1},{"$f":"((INDEX(Roul2!H15:AK20,MATCH(C23,Roul2!H16:H20,0)+1,MATCH(K4&F23,Roul2!I15:AK15,0)+1))*G23)/6.55957","v":{"$error":"#N/A"}},{"$f":"(INDEX(Roul2!H40:AK42,MATCH(C23,Roul2!H41:H42,0)+1,MATCH(K4&F23,Roul2!M40:AK40,0)+5))*G23/6.55957","v":{"$error":"#N/A"}},{"$f":"IF(F23=\"\",'Série 2'!$E$42,(VLOOKUP(F23,'Série 2'!$D$26:$E$42,2,0)))","v":2.0689655172413794},{"$error":"#N/A"},{"$error":"#N/A"},{"$f":"'Série 2'!$I$2","v":1},{"$error":"#N/A"},{"$f":"(LOOKUP(C23,Roul2!$G$45:$G$51,Roul2!$H$45:$H$51))*G23","v":5},5,45,225,1,{"$error":"#N/A"},null,"cake discharge roller",88.9,"316L","",{"$error":"#N/A"},"",{"$error":"#N/A"},"",5,"",225]
["entrance / cloth form roller",null,{"$f":"'Série 2'!B42","v":219},"#","o",{"$f":"'Série 2'!B43","v":"U45N"},{"$f":"'Série 2'!B44","v":1},{"$f":"((INDEX(Roul2!H27:AK30,MATCH(C24,Roul2!H28:H30,0)+1,MATCH(K4&F24,Roul2!I27:AK27,0)+1))*G24)/6.55957","v":{"$error":"#N/A"}},{"$f":"((INDEX(Roul2!H31:AK34,MATCH(C24,Roul2!H32:H34,0)+1,MATCH(K4&F24,Roul2!I31:AK31,0)+1))*G24)/6.55957","v":{"$error":"#N/A"}},{"$f":"IF(F24=\"\",'Série 2'!$E$42,(VLOOKUP(F24,'Série 2'!$D$26:$E$42,2,0)))","v":1.75},{"$error":"#N/A"},{"$error":"#N/A"},{"$f":"'Série 2'!$I$2","v":1},{"$error":"#N/A"},{"$f":"(LOOKUP(C24,Roul2!$G$45:$G$51,Roul2!$H$45:$H$51))*G24","v":7},7,45,315,1,{"$error":"#N/A"},null,"entrance / cloth form roller",219,"U45N","",{"$error":"#N/A"},"",{"$error":"#N/A"},"",7,"",315]
["roller bearing",null,null,null,0,null,{"$f":"'Série 2'!B45","v":42},null,{"$f":"((IF(K4<4000,G25*270,(G19*326+(G20+G21+G22+G23+#REF!)*270)*2)))/6.55957","v":1728.7718554722337},{"$f":"IF(F25=\"\",'Série 2'!$E$42,(VLOOKUP(F25,'Série 2'!$D$26:$E$42,2,0)))","v":1.3},0,1728.7718554722337,{"$f":"'Série 2'!$I$2","v":1},1728.7718554722337,{"$f":"G25*0.15","v":6.3},6.3,45,283.5,1,2012.2718554722337,null,"roller bearing",0,0,"",2012.2718554722337,"",1728.7718554722337,"",6.3,"",283.5]
[null,null,null,null,0,null,null,null,null,{"$f":"IF(F26=\"\",'Série 2'!$E$42,(VLOOKUP(F26,'Série 2'!$D$26:$E$42,2,0)))","v":1.3},0,null,null,null,null,null,45,null,1,0,null,0,0,0,"",0,"",0,"",0,"",0]
["cloth guiding device",null,null,null,0,{"$f":"'Série 2'!B16","v":"316L"},1,{"$f":"IF(F27=\"E24\",0,(INDEX(Char2!A60:P64,MATCH(F27,Char2!A61:A64,0)+1,MATCH(K4,Char2!B60:P60,0)+1))/6.55957)","v":438.29092455755483},{"$f":"IF(F27=\"E24\",Char2!C65/6.56,Char2!C66/6.56)","v":736.28048780487813},{"$f":"IF(F27=\"\",'Série 2'!$E$42,(VLOOKUP(F27,'Série 2'!$D$26:$E$42,2,0)))","v":2.0689655172413794},906.80880942942383,736.28048780487813,{"$f":"'Série 2'!$I$2","v":1},1643.089297234302,{"$f":"IF(F27=\"E24\",0,Char2!C67)","v":40},40,45,1800,1,3443.0892972343017,null,"cloth guiding device",0,"316L","",3443.0892972343017,"",1643.089297234302,"",40,"",1800]
["cloth tensionning device",null,null,"#","o",{"$f":"'Série 2'!B16","v":"316L"},1,{"$f":"(INDEX(Char2!A68:G73,MATCH(F28,Char2!A69:A73,0)+1,MATCH(K4,Char2!B68:G68,0)+1))/6.55957","v":{"$error":"#N/A"}},{"$f":"(HLOOKUP(K4,Char2!B68:P75,7,0))/6.55957","v":228.67352585611556},{"$f":"IF(F28=\"\",'Série 2'!$E$42,(VLOOKUP(F28,'Série 2'!$D$26:$E$42,2,0)))","v":2.0689655172413794},{"$error":"#N/A"},228.67352585611556,{"$f":"'Série 2'!$I$2","v":1},{"$error":"#N/A"},{"$f":"HLOOKUP(K4,Char2!B68:P75,8,0)","v":50},50,45,2250,1,{"$error":"#N/A"},null,"cloth tensionning device",0,"316L","",{"$error":"#N/A"},"",{"$error":"#N/A"},"",50,"",2250]
["vacuum box",null,{"$f":"'Série 2'!B46","v":110},null,null,{"$f":"'Série 2'!B47","v":"U45N"},null,{"$f":"('B. à V.2'!B89)/6.55957","v":22555.167732683403},{"$f":"(LOOKUP(K4,'B. à V.2'!A92:A93,'B. à V.2'!B92:B93))/6.55957","v":381.12254309352596},{"$f":"IF(F29=\"\",'Série 2'!$E$42,(VLOOKUP(F29,'Série 2'!$D$26:$E$42,2,0)))","v":1.75},39471.543532195952,381.12254309352596,{"$f":"'Série 2'!$I$2","v":1},{"$f":"(K29+L29)*M29","v":39852.666075289475},{"$f":"'B. à V.2'!C89","v":387.95},387.95,60,{"$f":"P29*Q29","v":23277},1,{"$f":"(N29+R29)*S29*0.75","v":47347.249556467104},null,"vacuum box",110,"U45N",47347.249556467104,"",39852.666075289475,"",387.95,"",23277,""]
["V.Box  support + dia + qty connection",null,{"$f":"'Série 2'!B49","v":150},null,null,{"$f":"'Série 2'!B48","v":"316L"},{"$f":"'Série 2'!B50","v":28},null,null,{"$f":"IF(F30=\"\",'Série 2'!$E$42,(VLOOKUP(F30,'Série 2'!$D$26:$E$42,2,0)))","v":2.0689655172413794},0,null,null,null,null,null,60,null,1,0,null,"V.Box  support + dia + qty connection",150,"316L",0,"",0,"",0,"",0,""]
["C & B wash device + discharge device",null,null,"#","o",{"$f":"'Série 2'!B52","v":"316L"},1,{"$f":"(INDEX(Lavage2!A5:F16,MATCH('Cost List2.xls'!K4,Lavage2!A6:A16,0)+1,MATCH('Cost List2.xls'!F31,Lavage2!B5:F5,0)+1))","v":5625.3687360604426},{"$f":"(INDEX(Lavage2!A18:F29,MATCH('Cost List2.xls'!K4,Lavage2!A19:A29,0)+1,MATCH('Cost List2.xls'!F31,Lavage2!B18:F18,0)+1))","v":1524.4901723741038},{"$f":"IF(F31=\"\",'Série 2'!$E$42,(VLOOKUP(F31,'Série 2'!$D$26:$E$42,2,0)))","v":2.0689655172413794},11638.693936676778,{"$f":"I31*$L$7","v":1524.4901723741038},{"$f":"'Série 2'!$I$2","v":1},13163.184109050882,{"$f":"INDEX(Lavage2!A31:F42,MATCH('Cost List2.xls'!K4,Lavage2!A32:A42,0)+1,MATCH('Cost List2.xls'!F31,Lavage2!B31:F31,0)+1)","v":200},{"$f":"O31*M31*$P$7","v":200},45,9000,1,22163.184109050882,null,"C & B wash device + discharge device",0,"316L","",22163.184109050882,"",13163.184109050882,"",200,"",9000]
["Form zone apron dam",null,{"$f":"'Série 2'!B54","v":"SBR"},"#","à",{"$f":"'Série 2'!B53","v":"316L"},1,{"$f":"(INDEX('Acc. sup2'!A4:L11,MATCH('Cost List2.xls'!F32,'Acc. sup2'!A5:A11,0)+1,MATCH('Cost List2.xls'!K4,'Acc. sup2'!B4:L4,0)+1))/6.55957","v":{"$error":"#N/A"}},{"$f":"(INDEX('Acc. sup2'!A4:L11,MATCH('Cost List2.xls'!C32,'Acc. sup2'!A5:A11,0)+1,MATCH('Cost List2.xls'!K4,'Acc. sup2'!B4:L4,0)+1))/6.55957","v":{"$error":"#N/A"}},{"$f":"IF(F32=\"\",'Série 2'!$E$42,(VLOOKUP(F32,'Série 2'!$D$26:$E$42,2,0)))","v":2.0689655172413794},{"$error":"#N/A"},{"$error":"#N/A"},{"$f":"'Série 2'!$I$2","v":1},{"$error":"#N/A"},{"$f":"HLOOKUP(K4,'Acc. sup2'!A4:L12,9,0)","v":{"$error":"#N/A"}},{"$error":"#N/A"},45,{"$error":"#N/A"},1,{"$error":"#N/A"},null,"Form zone apron dam","SBR","316L","",{"$error":"#N/A"},"",{"$error":"#N/A"},"",{"$error":"#N/A"},"",{"$error":"#N/A"}]
["cake wash feeder",null,{"$f":"'Série 2'!B55","v":"OVER"},"#","o",{"$f":"'Série 2'!B56","v":"U45N"},{"$f":"'Série 2'!B57","v":4},{"$f":"(INDEX('Acc. sup2'!A15:G22,MATCH('Cost List2.xls'!F33,'Acc. sup2'!A15:A22,0),MATCH('Cost List2.xls'!K4,'Acc. sup2'!B15:G15,0)+1))/6.55957","v":{"$error":"#N/A"}},{"$f":"HLOOKUP(K4,'Acc. sup2'!B15:G22,7,0)/6.56","v":{"$error":"#N/A"}},{"$f":"IF(F33=\"\",'Série 2'!$E$42,(VLOOKUP(F33,'Série 2'!$D$26:$E$42,2,0)))","v":1.75},{"$f":"H33*J33*G33","v":{"$error":"#N/A"}},{"$f":"I33*$L$7*G33","v":{"$error":"#N/A"}},{"$f":"'Série 2'!$I$2","v":1},{"$error":"#N/A"},{"$f":"(IF(F33=\"PPH\",0,15))*G33","v":60},{"$f":"O33*M33*$P$7*G33","v":240},45,10800,1,{"$error":"#N/A"},null,"cake wash feeder","OVER","U45N","",{"$error":"#N/A"},"",{"$error":"#N/A"},"",240,"",10800]
["cake wash feeder  carriages",null,{"$f":"'Série 2'!B58","v":"PATI"},"#","o",{"$f":"'Série 2'!B59","v":"316L"},{"$f":"'Série 2'!B60","v":4},{"$f":"(INDEX('Acc. sup2'!A25:G29,MATCH('Cost List2.xls'!F34,'Acc. sup2'!A25:A29,0),MATCH('Cost List2.xls'!K4,'Acc. sup2'!B25:G25,0)+1))/6.55957","v":{"$error":"#N/A"}},null,{"$f":"IF(F34=\"\",'Série 2'!$E$42,(VLOOKUP(F34,'Série 2'!$D$26:$E$42,2,0)))","v":2.0689655172413794},{"$f":"H34*J34*G34","v":{"$error":"#N/A"}},{"$f":"I34*$L$7*G34","v":0},{"$f":"'Série 2'!$I$2","v":1},{"$error":"#N/A"},{"$f":"HLOOKUP(K4,'Acc. sup2'!B25:G32,8,0)*G34","v":{"$error":"#N/A"}},{"$f":"O34*M34*$P$7*G34","v":{"$error":"#N/A"}},45,{"$error":"#N/A"},1,{"$error":"#N/A"},null,"cake wash feeder  carriages","PATI","316L","",{"$error":"#N/A"},"",{"$error":"#N/A"},"",{"$error":"#N/A"},"",{"$error":"#N/A"}]
["wash zone pendulum apron dam",null,{"$f":"'Série 2'!B62","v":"SBR"},"#","o",{"$f":"'Série 2'!B61","v":"316L"},{"$f":"'Série 2'!B63","v":5},{"$f":"H32","v":{"$error":"#N/A"}},{"$f":"I32*1.2","v":{"$error":"#N/A"}},{"$f":"IF(F35=\"\",'Série 2'!$E$42,(VLOOKUP(F35,'Série 2'!$D$26:$E$42,2,0)))","v":2.0689655172413794},{"$f":"H35*J35*G35","v":{"$error":"#N/A"}},{"$f":"I35*$L$7*G35","v":{"$error":"#N/A"}},{"$f":"'Série 2'!$I$2","v":1},{"$error":"#N/A"},{"$f":"O32*G35","v":{"$error":"#N/A"}},{"$f":"O35*M35*$P$7*G35","v":{"$error":"#N/A"}},45,{"$error":"#N/A"},1,{"$error":"#N/A"},null,"wash zone pendulum apron dam","SBR","316L","",{"$error":"#N/A"},"",{"$error":"#N/A"},"",{"$error":"#N/A"},"",{"$error":"#N/A"}]
["pulp feeder",null,{"$f":"'Série 2'!B64","v":"BOIT"},"#","o",{"$f":"'Série 2'!B65","v":"U45N"},{"$f":"'Série 2'!B66","v":1},{"$f":"(IF(F36=\"POLYPROPYLENE\",0,(INDEX('Acc. sup2'!A35:G39,MATCH('Cost List2.xls'!F36,'Acc. sup2'!A35:A39,0),MATCH('Cost List2.xls'!K4,'Acc. sup2'!B35:G35,0)+1)))/6.55957)","v":{"$error":"#N/A"}},{"$f":"(IF(F36=\"PPH\",((HLOOKUP(K4,'Acc. sup2'!B35:G40,6,0))+'Acc. sup2'!B41),'Acc. sup2'!B41))/6.55957","v":25.001638826935302},{"$f":"IF(F36=\"\",'Série 2'!$E$42,(VLOOKUP(F36,'Série 2'!$D$26:$E$42,2,0)))","v":1.75},{"$f":"H36*J36*G36","v":{"$error":"#N/A"}},25.001638826935302,{"$f":"'Série 2'!$I$2","v":1},{"$f":"(K36+L36)*M36","v":{"$error":"#N/A"}},{"$f":"(IF(F36=\"PPH\",0,25))*G36","v":25},25,45,1125,1,{"$error":"#N/A"},null,"pulp feeder","BOIT","U45N","",{"$error":"#N/A"},"",{"$error":"#N/A"},"",25,"",1125]
["feeder carriage",null,{"$f":"'Série 2'!B58","v":"PATI"},"#","o",{"$f":"'Série 2'!B59","v":"316L"},{"$f":"'Série 2'!B66","v":1},{"$f":"(INDEX('Acc. sup2'!A45:G49,MATCH('Cost List2.xls'!F37,'Acc. sup2'!A46:A49,0)+1,MATCH('Cost List2.xls'!K4,'Acc. sup2'!B45:G45,0)+1))/6.55957","v":{"$error":"#N/A"}},{"$f":"HLOOKUP(K4,'Acc. sup2'!B45:G51,6,0)/6.55957","v":{"$error":"#N/A"}},{"$f":"IF(F37=\"\",'Série 2'!$E$42,(VLOOKUP(F37,'Série 2'!$D$26:$E$42,2,0)))","v":2.0689655172413794},{"$f":"H37*J37*G37","v":{"$error":"#N/A"}},{"$f":"I37*$L$7","v":{"$error":"#N/A"}},{"$f":"'Série 2'!$I$2","v":1},{"$f":"(K37+L37)*M37","v":{"$error":"#N/A"}},{"$f":"HLOOKUP(K4,'Acc. sup2'!B45:G51,7,0)*G37","v":{"$error":"#N/A"}},{"$f":"O37*M37*$P$7","v":{"$error":"#N/A"}},45,{"$f":"P37*Q37","v":{"$error":"#N/A"}},1,{"$error":"#N/A"},null,"feeder carriage","PATI","316L","",{"$error":"#N/A"},"",{"$error":"#N/A"},"",{"$error":"#N/A"},"",{"$error":"#N/A"}]
["pneumatic cabinet + pneumatic acc.",null,{"$f":"'Série 2'!B67","v":"STD"},"#","o",null,1,null,{"$f":"(Access2!C3)/6.55957","v":914.69410342446224},{"$f":"IF(F38=\"\",'Série 2'!$E$42,(VLOOKUP(F38,'Série 2'!$D$26:$E$42,2,0)))","v":1.3},0,914.69410342446224,{"$f":"'Série 2'!$I$2","v":1},914.69410342446224,{"$f":"Access2!D3","v":10},10,45,450,1,1364.6941034244624,null,"pneumatic cabinet + pneumatic acc.","STD",0,"",1364.6941034244624,"",914.69410342446224,"",10,"",450]
["junction box + electrical set of equip.",null,{"$f":"'Série 2'!B68","v":"STD"},"#","o",null,1,{"$f":"HLOOKUP(C39,Access2!C5:D8,2)","v":300},{"$f":"HLOOKUP(C39,Access2!C5:D8,3)","v":2500},{"$f":"IF(F39=\"\",'Série 2'!$E$42,(VLOOKUP(F39,'Série 2'!$D$26:$E$42,2,0)))","v":1.3},390,2500,{"$f":"'Série 2'!$I$2","v":1},2890,{"$f":"HLOOKUP(C39,Access2!C5:D8,4)","v":40},40,45,1800,1,4690,null,"junction box + electrical set of equip.","STD",0,"",4690,"",2890,"",40,"",1800]
["bolting",null,null,"#","o",{"$f":"'Série 2'!B69","v":316},1,null,{"$f":"VLOOKUP(F40,Access2!C10:D12,2)","v":2500},{"$f":"IF(F40=\"\",'Série 2'!$E$42,(VLOOKUP(F40,'Série 2'!$D$26:$E$42,2,0)))","v":2.0689655172413794},0,2500,{"$f":"'Série 2'!$I$2","v":1},2500,null,0,45,0,1,2500,null,"bolting",0,316,"",2500,"",2500,"",0,"",0]
["pneumetic bellow",null,{"$f":"IF('Série 2'!B70>1,\"12x2\",\"10x2\")","v":"10x2"},null,0,null,{"$f":"IF(C41=\"10x2\",'Série 2'!B71,'Série 2'!B70)","v":0},{"$f":"((HLOOKUP(C41,Access2!C16:F18,2,0))*G41)/6.55957","v":0},{"$f":"((HLOOKUP(C41,Access2!C16:F18,3,0))*G41)/6.55957","v":0},{"$f":"IF(F41=\"\",'Série 2'!$E$42,(VLOOKUP(F41,'Série 2'!$D$26:$E$42,2,0)))","v":1.3},0,0,{"$f":"'Série 2'!$I$2","v":1},0,null,0,45,0,1,0,null,"pneumetic bellow","10x2",0,"",0,"",0,"",0,"",0]
["pneumetic bellow",null,{"$f":"IF('Série 2'!B73>1,\"8x2\",\"6x2\")","v":"6x2"},null,0,null,{"$f":"IF(C42=\"8x2\",'Série 2'!B73,'Série 2'!B74)","v":8},{"$f":"((HLOOKUP(C42,Access2!C16:F18,2,0))*G42)/6.55957","v":719.55936136057699},{"$f":"((HLOOKUP(C42,Access2!C16:F18,3,0))*G42)/6.55957","v":553.69483060627454},{"$f":"IF(F42=\"\",'Série 2'!$E$42,(VLOOKUP(F42,'Série 2'!$D$26:$E$42,2,0)))","v":1.3},935.4271697687501,553.69483060627454,{"$f":"'Série 2'!$I$2","v":1},1489.1220003750245,null,0,45,0,1,1489.1220003750245,null,"pneumetic bellow","6x2",0,"",1489.1220003750245,"",1489.1220003750245,"",0,"",0]
["pneumetic bellow",null,"8X3",null,0,null,{"$f":"'Série 2'!B72","v":0},{"$f":"Access2!G17*'Cost List2.xls'!G43/6.55957","v":0},{"$f":"Access2!G18*'Cost List2.xls'!G43/6.55957","v":0},{"$f":"IF(F43=\"\",'Série 2'!$E$42,(VLOOKUP(F43,'Série 2'!$D$26:$E$42,2,0)))","v":1.3},0,{"$f":"I43*$L$7","v":0},{"$f":"'Série 2'!$I$2","v":1},{"$f":"(K43+L43)*M43","v":0},null,{"$f":"O43*M43*$P$7","v":0},45,{"$f":"P43*Q43","v":0},1,0,null,"pneumetic bellow","8X3",0,"",0,"",0,"",0,"",0]
["oil and grease",null,null,"#","o",null,1,null,100,{"$f":"IF(F44=\"\",'Série 2'!$E$42,(VLOOKUP(F44,'Série 2'!$D$26:$E$42,2,0)))","v":1.3},0,100,{"$f":"'Série 2'!$I$2","v":1},100,null,0,45,0,1,100,null,"oil and grease",0,0,"",100,"",100,"",0,"",0]
["Cartouche perma",null,null,"#","o",null,1,null,{"$f":"(G25+4)*32","v":1472},{"$f":"IF(F45=\"\",'Série 2'!$E$42,(VLOOKUP(F45,'Série 2'!$D$26:$E$42,2,0)))","v":1.3},{"$f":"H45*J45","v":0},{"$f":"I45*$L$7","v":1472},{"$f":"'Série 2'!$I$2","v":1},{"$f":"(K45+L45)*M45","v":1472},null,{"$f":"O45*M45*$P$7","v":0},45,{"$f":"P45*Q45","v":0},{"$f":"IF(E45=\"\",$O$3,$P$3)","v":1},{"$f":"(N45+R45)*S45","v":1472},null,{"$f":"A45","v":"Cartouche perma"},{"$f":"C45","v":0},{"$f":"F45","v":0},{"$f":"IF(E45=\"\",T45,\"\")","v":""},{"$f":"IF(E45=\"\",\"\",T45)","v":1472},{"$f":"IF($E45=\"\",N45,\"\")","v":""},{"$f":"IF($E45=\"\",\"\",N45)","v":1472},{"$f":"IF($E45=\"\",P45,\"\")","v":""},{"$f":"IF($E45=\"\",\"\",P45)","v":0},{"$f":"IF($E45=\"\",R45,\"\")","v":""},{"$f":"IF($E45=\"\",\"\",R45)","v":0}]
["protection + painting french part",null,{"$f":"HLOOKUP(F46,Char2!B96:F98,2,0)","v":100},null,0,{"$f":"'Série 2'!B16","v":"316L"},1,null,{"$f":"C46*0.2","v":20},{"$f":"IF(F46=\"\",'Série 2'!$E$42,(VLOOKUP(F46,'Série 2'!$D$26:$E$42,2,0)))","v":2.0689655172413794},0,20,{"$f":"'Série 2'!$I$2","v":1},20,{"$f":"C47*0.2","v":8},8,45,360,1,380,null,"protection + painting french part",100,"316L","",380,"",20,"",8,"",360]
["protection + painting local part",null,{"$f":"HLOOKUP(F46,Char2!B96:F98,3,0)","v":40},"#","o",null,null,null,{"$f":"C46*0.8","v":80},{"$f":"IF(F47=\"\",'Série 2'!$E$42,(VLOOKUP(F47,'Série 2'!$D$26:$E$42,2,0)))","v":1.3},0,{"$f":"I47*$L$7","v":80},{"$f":"'Série 2'!$I$2","v":1},{"$f":"(K47+L47)*M47","v":80},{"$f":"C47*0.8","v":32},{"$f":"O47*M47*$P$7","v":32},45,{"$f":"P47*Q47","v":1440},1,1520,null,"protection + painting local part",40,0,"",1520,"",80,"",32,"",1440]
["reducer torque arm",null,null,"#","o",{"$f":"'Série 2'!B16","v":"316L"},1,{"$f":"(INDEX(Char2!A77:G84,MATCH(F48,Char2!A78:A82,0)+1,MATCH(K4,Char2!B77:G77,0)+1))/6.55957","v":{"$error":"#N/A"}},{"$f":"(HLOOKUP(K4,Char2!B77:P84,7,0))/6.55957","v":137.20411551366934},{"$f":"IF(F48=\"\",'Série 2'!$E$42,(VLOOKUP(F48,'Série 2'!$D$26:$E$42,2,0)))","v":2.0689655172413794},{"$error":"#N/A"},137.20411551366934,{"$f":"'Série 2'!$I$2","v":1},{"$error":"#N/A"},{"$f":"HLOOKUP(K4,Char2!B77:P84,8,0)","v":30},30,45,1350,1,{"$error":"#N/A"},null,"reducer torque arm",0,"316L","",{"$error":"#N/A"},"",{"$error":"#N/A"},"",30,"",1350]
["planetary reducer \"BREVINI\"",null,{"$f":"'Série 2'!B78","v":88238.119392556851},null,0,null,1,null,{"$f":"'Gr de Cde2'!C9","v":2835},{"$f":"IF(F49=\"\",'Série 2'!$E$42,(VLOOKUP(F49,'Série 2'!$D$26:$E$42,2,0)))","v":1.3},0,2835,{"$f":"'Série 2'!$I$2","v":1},2835,null,0,45,0,1,{"$f":"(N49+R49)*S49*2","v":5670},null,"planetary reducer \"BREVINI\"",88238.119392556851,0,"",5670,"",2835,"",0,"",0]
["Motor",null,{"$f":"'Gr de Cde2'!E26","v":90},"#","o",null,1,null,{"$f":"('Gr de Cde2'!H26)","v":5524},{"$f":"IF(F50=\"\",'Série 2'!$E$42,(VLOOKUP(F50,'Série 2'!$D$26:$E$42,2,0)))","v":1.3},0,5524,{"$f":"'Série 2'!$I$2","v":1},5524,null,0,45,0,1,5524,null,"Motor",90,0,"",5524,"",5524,"",0,"",0]
["frequency variator",null,{"$f":"C50","v":90},"#","o",null,1,null,{"$f":"(G51*'Gr de Cde2'!H30)","v":9089},{"$f":"IF(F51=\"\",'Série 2'!$E$42,(VLOOKUP(F51,'Série 2'!$D$26:$E$42,2,0)))","v":1.3},0,9089,{"$f":"'Série 2'!$I$2","v":1},9089,null,0,45,0,1,9089,null,"frequency variator",90,0,"",9089,"",9089,"",0,"",0]
["filtering cloth",null,null,null,0,null,1,null,{"$f":"(Toile2!C10)/6.55957","v":4658.5370687407867},{"$f":"IF(F52=\"\",'Série 2'!$E$42,(VLOOKUP(F52,'Série 2'!$D$26:$E$42,2,0)))","v":1.3},0,4658.5370687407867,{"$f":"'Série 2'!$I$2","v":1},4658.5370687407867,null,0,45,0,1,4658.5370687407867,null,"filtering cloth",0,0,"",4658.5370687407867,"",4658.5370687407867,"",0,"",0]
["labelling + shiping preparation France",null,null,null,null,null,1,null,null,{"$f":"IF(F53=\"\",'Série 2'!$E$42,(VLOOKUP(F53,'Série 2'!$D$26:$E$42,2,0)))","v":1.3},0,{"$f":"I53*$L$7","v":0},{"$f":"'Série 2'!$I$2","v":1},{"$f":"(K53+L53)*M53","v":0},{"$f":"IF(E57=63,\"\",Char2!B110)","v":50},{"$f":"IF(E57=63,0,Char2!B110)","v":50},{"$f":"IF($E53=\"\",$Q$3,$R$3)","v":60},{"$f":"P53*Q53","v":3000},1,3000,null,"labelling + shiping preparation France",0,0,3000,"",0,"",50,"",3000,""]
[{"$f":"Char2!A109","v":"pre-assembly + labelling"},null,null,"#",{"$f":"F54","v":"PRE"},{"$f":"'Série 2'!B83","v":"PRE"},1,{"$f":"IF(F54=\"MONT\",'Série 2'!E96,0)","v":0},null,{"$f":"IF(F54=\"\",'Série 2'!$E$42,(VLOOKUP(F54,'Série 2'!$D$26:$E$42,2,0)))","v":1.3},0,{"$f":"I54*$L$7","v":0},{"$f":"'Série 2'!$I$2","v":1},0,{"$f":"IF(F54=\"MONT\",'Série 2'!F96+'Série 2'!G96+'Série 2'!H96,0)","v":0},0,45,0,1,{"$f":"(N54+R54)*S54+IF(F54=\"MONT\",AA107,0)","v":0},null,"pre-assembly + labelling",0,"PRE","",{"$f":"IF(E54=\"PRE\",\"\",T54)","v":""},"",0,"",0,"",0]
[{"$f":"IF((IF(E54<>\"\",1,0))+(IF(F54=\"MONT\",1,0))=2,\"ADD cost of supervisor\",\"N/A\")","v":"N/A"},null,null,null,"o",null,null,null,null,{"$f":"IF(F55=\"\",'Série 2'!$E$42,(VLOOKUP(F55,'Série 2'!$D$26:$E$42,2,0)))","v":1.3},0,{"$f":"G55*I55*$L$7","v":0},{"$f":"'Série 2'!$I$2","v":1},0,null,{"$f":"O55*M55","v":0},45,{"$f":"P55*Q55","v":0},1,{"$f":"(N55+R55)*S55","v":0},null,"N/A",0,0,"",0,"",0,"",0,"",0]
["Sourcing shipping up to erection site",null,null,null,0,{"$f":"'Série 2'!B83","v":"PRE"},1,null,{"$f":"IF(F56=\"MONT\",T57*5/100,0)","v":0},1,{"$f":"H56*J56","v":0},{"$f":"G56*I56*$L$7","v":0},{"$f":"'Série 2'!$I$2","v":1},{"$f":"(K56+L56)*M56","v":0},null,{"$f":"O56*M56","v":0},45,{"$f":"P56*Q56","v":0},{"$f":"IF(E56=\"\",$O$3,$P$3)","v":1},{"$f":"(N56+R56)*S56","v":0},null,"Sourcing shipping up to erection site",0,"PRE","",0,"",0,"",0,"",0]
["TOTAL LOCAL PART",null,null,"#",{"$f":"COUNTBLANK(E11:F55)","v":27},null,null,null,null,null,{"$f":"H57*$K$7","v":0},{"$f":"I57*$L$7","v":0},null,{"$f":"AB57","v":{"$error":"#N/A"}},null,{"$f":"AD57","v":{"$error":"#N/A"}},null,{"$f":"AF57","v":{"$error":"#N/A"}},null,{"$f":"SUM(Z8:Z55)","v":{"$error":"#N/A"}},{"$f":"T57+T56","v":{"$error":"#N/A"}},"TOTAL LOCAL PART",null,null,null,{"$f":"SUM(Z8:Z56)","v":{"$error":"#N/A"}},null,{"$f":"SUM(AB8:AB56)","v":{"$error":"#N/A"}},null,{"$f":"SUM(AD8:AD56)","v":{"$error":"#N/A"}},null,{"$f":"SUM(AF8:AF56)","v":{"$error":"#N/A"}}]
["TOTAL FRENCH PART",null,null,null,null,null,null,null,null,null,{"$f":"H58*$K$7","v":0},{"$f":"I58*$L$7","v":0},null,{"$f":"AA58","v":{"$error":"#N/A"}},null,{"$f":"AC58","v":{"$error":"#N/A"}},null,{"$f":"AE58","v":{"$error":"#N/A"}},null,{"$f":"SUM(Y8:Y55)","v":{"$error":"#N/A"}},{"$f":"T58+SUM(U8:U10)","v":{"$error":"#N/A"}},"TOTAL FRENCH PART",null,null,{"$f":"SUM(Y8:Y55)","v":{"$error":"#N/A"}},null,{"$f":"SUM(AA8:AA55)","v":{"$error":"#N/A"}},null,{"$f":"SUM(AC8:AC55)","v":{"$error":"#N/A"}},null,{"$f":"SUM(AE8:AE55)","v":{"$error":"#N/A"}}]
["TOTAL :",null,null,null,null,null,null,{"$f":"SUM(H8:H56)","v":{"$error":"#N/A"}},{"$f":"SUM(I8:I56)","v":{"$error":"#N/A"}},null,{"$f":"SUM(K8:K56)","v":{"$error":"#N/A"}},{"$f":"SUM(L8:L56)","v":{"$error":"#N/A"}},null,{"$f":"SUM(N8:N56)","v":{"$error":"#N/A"}},null,{"$f":"SUM(P8:P56)","v":{"$error":"#N/A"}},null,{"$f":"SUM(R8:R56)","v":{"$error":"#N/A"}},null,{"$f":"SUM(T7:T55)","v":{"$error":"#N/A"}},{"$f":"U57+U58","v":{"$error":"#N/A"}},"TOTAL :",null,null,{"$f":"T59-T57","v":{"$error":"#N/A"}},{"$f":"T59-T58","v":{"$error":"#N/A"}}]
[{"$f":"A3","v":"N° DU DEVIS :"},{"$f":"B3","v":"760895-rev2"},{"$f":"C3","v":"- 90B30"},null,null,{"$f":"F3","v":"Client"},null,{"$f":"H3","v":"PKT"},null,null,null,null,null,null,null,null,null,null,{"$f":"S3","v":"Rev."},{"$f":"T3","v":0},null,{"$f":"T57+T58","v":{"$error":"#N/A"}}]
["Ph. LE BIGOT => ",{"$f":"B4","v":"T. DUBRULLE"},null,"local basic","For ",{"$f":"F4","v":"Surface :"},null,90,"Largeur",null,3000,"Spécifications",null,"316L+U45N+SBR+T120+4G+90KW+1VF",null,null,null,null,null,"2005-08-11",null,null,null,null,"French","Local","French","Local","French","Local","French","Local"]
[null,null,null,null,"local",null,null,"Material","Buyout","Corrective","Updated","Buyout",null,"Total (1) Material + buyout","Labour","Labour",null,"Total (2)",null,"Final cost without Engineering","Final cost including engineering",null,"data",null,"incl 1,149","incl. 1,149","Total (1) Material + buyout","Total (1) Material + buyout","Labour","Labour","Total (2)","Total (2)"]
["Désignation",null,"Spéc",null,"fill the ","Mat","Qty","Unit cost","Unit cost","factor","material",null,"Qty",null,"Unit","Total","Taux","Labour","Marg",null,null,"Désignation","Spéc",{"$f":"F63","v":"Mat"},"France","Local",null,null,"Total","Total","labour","labour"]
[null,null,null,null,"cell","spec",null,null,null,null,1,1,null,null,null,1,null,null,null,null,null,null,"Dia.",null,null,null,null,null,"hours","hours","cost","cost"]
["Specific accessories / options to be add if required"]
["Cloth and belt flow meter",null,"Option",null,null,"ABB",0,null,null,null,{"$f":"H66*$K$64*G66","v":0},{"$f":"I66*$L$64*G66","v":0},{"$f":"'Série 2'!$I$2","v":1},{"$f":"(K66+L66)*M66","v":0},null,{"$f":"O66*M66*$P$7*G66","v":0},{"$f":"IF($E53=\"\",$Q$3,$R$3)","v":60},{"$f":"P66*Q66","v":0},{"$f":"IF(E66=\"\",$O$3,$P$3)","v":1},{"$f":"G66*(N66+R66)*S66","v":0},null,{"$f":"A66","v":"Cloth and belt flow meter"},{"$f":"C66","v":"Option"},{"$f":"F66","v":"ABB"},{"$f":"IF(E66=\"\",T66,\"\")","v":0},{"$f":"IF(E66=\"\",\"\",T66)","v":""},{"$f":"IF($E66=\"\",N66,\"\")","v":0},{"$f":"IF($E66=\"\",\"\",N66)","v":""},{"$f":"IF($E66=\"\",P66,\"\")","v":0},{"$f":"IF($E66=\"\",\"\",P66)","v":""},{"$f":"IF($E66=\"\",R66,\"\")","v":0},{"$f":"IF($E66=\"\",\"\",R66)","v":""}]
["Cake wash flowmeter",null,"Option",null,null,"ABB",0,null,null,null,{"$f":"H67*$K$64*G67","v":0},{"$f":"I67*$L$64*G67","v":0},{"$f":"'Série 2'!$I$2","v":1},0,null,{"$f":"O67*M67*$P$7*G67","v":0},{"$f":"IF($E53=\"\",$Q$3,$R$3)","v":60},0,1,{"$f":"G67*(N67+R67)*S67","v":0},null,"Cake wash flowmeter","Option",{"$f":"F67","v":"ABB"},{"$f":"T67","v":0},null,{"$f":"N67","v":0},null,{"$f":"P67","v":0},null,{"$f":"R67","v":0}]
["Cloth run off",null,"Option",null,null,null,0,null,null,null,{"$f":"H68*$K$64*G68","v":0},{"$f":"I68*$L$64*G68","v":0},{"$f":"'Série 2'!$I$2","v":1},{"$f":"(K68+L68)*M68","v":0},10,{"$f":"O68*M68*$P$7*G68","v":0},{"$f":"IF($E53=\"\",$Q$3,$R$3)","v":60},{"$f":"P68*Q68","v":0},{"$f":"IF(E68=\"\",$O$3,$P$3)","v":1},{"$f":"G68*(N68+R68)*S68","v":0},null,{"$f":"A68","v":"Cloth run off"},"Option",0,{"$f":"IF(E68=\"\",T68,\"\")","v":0},{"$f":"IF(E68=\"\",\"\",T68)","v":""},{"$f":"IF($E68=\"\",N68,\"\")","v":0},{"$f":"IF($E68=\"\",\"\",N68)","v":""},{"$f":"IF($E68=\"\",P68,\"\")","v":0},{"$f":"IF($E68=\"\",\"\",P68)","v":""},{"$f":"IF($E68=\"\",R68,\"\")","v":0},{"$f":"IF($E68=\"\",\"\",R68)","v":""}]
["Overtorque",null,"Option",null,null,null,0,null,null,null,0,0,{"$f":"'Série 2'!$I$2","v":1},0,10,0,{"$f":"IF($E53=\"\",$Q$3,$R$3)","v":60},0,1,0,null,"Overtorque","Option",0,{"$f":"IF(E69=\"\",T69,\"\")","v":0},{"$f":"IF(E69=\"\",\"\",T69)","v":""},{"$f":"IF($E69=\"\",N69,\"\")","v":0},{"$f":"IF($E69=\"\",\"\",N69)","v":""},{"$f":"IF($E69=\"\",P69,\"\")","v":0},{"$f":"IF($E69=\"\",\"\",P69)","v":""},{"$f":"IF($E69=\"\",R69,\"\")","v":0},{"$f":"IF($E69=\"\",\"\",R69)","v":""}]
["skirting above curb (Per meter)",null,"Option",null,null,"PPH",0,25,10,null,0,0,{"$f":"'Série 2'!$B$21*'Série 2'!$I$2","v":0},{"$f":"G70*(K70+L70)*M70","v":0},7,0,{"$f":"IF($E53=\"\",$Q$3,$R$3)","v":60},0,1,0,null,"skirting above curb (Per meter)","Option","PPH",{"$f":"T70","v":0},null,{"$f":"N70","v":0},null,{"$f":"P70","v":0},null,{"$f":"R70","v":0}]
["water injection into the vacuum box",null,"Option",null,null,null,0,null,null,null,0,0,{"$f":"'Série 2'!$I$2","v":1},0,0,0,{"$f":"IF($E53=\"\",$Q$3,$R$3)","v":60},0,1,0,null,"water injection into the vacuum box","Option",0,{"$f":"IF(E71=\"\",T71,\"\")","v":0},{"$f":"IF(E71=\"\",\"\",T71)","v":""},{"$f":"IF($E71=\"\",N71,\"\")","v":0},{"$f":"IF($E71=\"\",\"\",N71)","v":""},{"$f":"IF($E71=\"\",P71,\"\")","v":0},{"$f":"IF($E71=\"\",\"\",P71)","v":""},{"$f":"IF($E71=\"\",R71,\"\")","v":0},{"$f":"IF($E71=\"\",\"\",R71)","v":""}]
["Double jacket vacuum box",null,"Option",null,null,null,0,null,null,null,0,0,{"$f":"'Série 2'!$I$2","v":1},0,0,0,{"$f":"IF($E53=\"\",$Q$3,$R$3)","v":60},0,1,0,null,"Double jacket vacuum box","Option",0,0,"",0,"",0,"",0,""]
["Vacuum box side hatch",null,"Option",null,null,null,0,null,null,null,{"$f":"H73*$K$64*G73","v":0},{"$f":"I73*$L$64*G73","v":0},{"$f":"'Série 2'!$I$2","v":1},{"$f":"(K73+L73)*M73","v":0},0,{"$f":"O73*M73*$P$7*G73","v":0},{"$f":"IF($E53=\"\",$Q$3,$R$3)","v":60},{"$f":"P73*Q73","v":0},{"$f":"IF(E73=\"\",$O$3,$P$3)","v":1},{"$f":"G73*(N73+R73)*S73","v":0},null,{"$f":"A73","v":"Vacuum box side hatch"},"Option",0,{"$f":"IF(E73=\"\",T73,\"\")","v":0},{"$f":"IF(E73=\"\",\"\",T73)","v":""},{"$f":"IF($E73=\"\",N73,\"\")","v":0},{"$f":"IF($E73=\"\",\"\",N73)","v":""},{"$f":"IF($E73=\"\",P73,\"\")","v":0},{"$f":"IF($E73=\"\",\"\",P73)","v":""},{"$f":"IF($E73=\"\",R73,\"\")","v":0},{"$f":"IF($E73=\"\",\"\",R73)","v":""}]
["Option straight filtrate pipes \"Ucego\"",null,"Option",null,null,null,0,null,null,null,0,0,{"$f":"'Série 2'!$I$2","v":1},0,0,0,{"$f":"IF($E53=\"\",$Q$3,$R$3)","v":60},0,1,0,null,"Option straight filtrate pipes \"Ucego\"","Option",0,0,"",0,"",0,"",0,""]
["Side gutter cost per step of frame",null,"Option",null,null,"304L",0,null,null,null,0,0,{"$f":"'Série 2'!$I$2","v":1},0,10,0,{"$f":"IF($E53=\"\",$Q$3,$R$3)","v":60},0,1,0,null,"Side gutter cost per step of frame","Option","304L",0,"",0,"",0,"",0,""]
["Stainless steel shaft lining",null,"Option",null,null,null,0,null,null,null,0,0,{"$f":"'Série 2'!$I$2","v":1},0,2,0,{"$f":"IF($E53=\"\",$Q$3,$R$3)","v":60},0,1,0,null,"Stainless steel shaft lining","Option",0,0,"",0,"",0,"",0,""]
["Pneumatic tubing made of SS",null,"Option",null,null,null,0,null,null,null,0,0,{"$f":"'Série 2'!$I$2","v":1},0,3,0,{"$f":"IF($E53=\"\",$Q$3,$R$3)","v":60},0,1,{"$f":"G77*(N77+R77)*S77","v":0},null,"Pneumatic tubing made of SS","Option",0,0,"",0,"",0,"",0,""]
["Ultrasonic control cake thickeness",null,"Option",null,null,null,0,null,null,null,0,0,{"$f":"'Série 2'!$I$2","v":1},0,5,0,{"$f":"IF($E53=\"\",$Q$3,$R$3)","v":60},{"$f":"P78*Q78","v":0},1,{"$f":"G78*(N78+R78)*S78","v":0},null,"Ultrasonic control cake thickeness","Option",0,0,"",0,"",0,"",0,""]
["Wear belt breaking sensor",null,"Option",null,null,null,0,null,null,null,0,0,{"$f":"'Série 2'!$I$2","v":1},0,3,0,{"$f":"IF($E53=\"\",$Q$3,$R$3)","v":60},{"$f":"P79*Q79","v":0},1,{"$f":"G79*(N79+R79)*S79","v":0},null,"Wear belt breaking sensor","Option",0,0,"",0,"",0,"",0,""]
["Guiding roller (angular)",null,"Option",null,null,null,0,null,null,null,{"$f":"H80*$K$64*G80","v":0},{"$f":"I80*$L$64*G80","v":0},{"$f":"'Série 2'!$I$2","v":1},0,0,{"$f":"O80*M80*$P$7*G80","v":0},{"$f":"IF($E53=\"\",$Q$3,$R$3)","v":60},{"$f":"P80*Q80","v":0},{"$f":"IF(E80=\"\",$O$3,$P$3)","v":1},{"$f":"G80*(N80+R80)*S80","v":0},null,"Guiding roller (angular)","Option",0,0,"",0,"",0,"",0,""]
["Additional cost for \"roller belt support",null,"Option",null,null,null,0,null,null,null,0,0,{"$f":"'Série 2'!$I$2","v":1},0,0,0,{"$f":"IF($E53=\"\",$Q$3,$R$3)","v":60},0,1,0,null,"Additional cost for \"roller belt support","Option",0,0,"",0,"",0,"",0,""]
["Pulley wash ramp",null,"Option",null,null,null,0,null,null,null,{"$f":"H82*$K$64*G82","v":0},{"$f":"I82*$L$64*G82","v":0},{"$f":"'Série 2'!$I$2","v":1},0,3,{"$f":"O82*M82*$P$7*G82","v":0},{"$f":"IF($E53=\"\",$Q$3,$R$3)","v":60},{"$f":"P82*Q82","v":0},{"$f":"IF(E82=\"\",$O$3,$P$3)","v":1},{"$f":"G82*(N82+R82)*S82","v":0},null,"Pulley wash ramp","Option",0,0,"",0,"",0,"",0,""]
["Flocculator including divider",null,"Option",null,null,null,0,null,null,null,{"$f":"H83*$K$64*G83","v":0},{"$f":"I83*$L$64*G83","v":0},{"$f":"'Série 2'!$I$2","v":1},{"$f":"(K83+L83)*M83","v":0},3,{"$f":"O83*M83*$P$7*G83","v":0},{"$f":"IF($E53=\"\",$Q$3,$R$3)","v":60},{"$f":"P83*Q83","v":0},{"$f":"IF(E83=\"\",$O$3,$P$3)","v":1},{"$f":"G83*(N83+R83)*S83","v":0},null,"Flocculator including divider","Option",{"$f":"F83","v":0},{"$f":"IF(E83=\"\",T83,\"\")","v":0},{"$f":"IF(E83=\"\",\"\",T83)","v":""},{"$f":"IF($E83=\"\",N83,\"\")","v":0},{"$f":"IF($E83=\"\",\"\",N83)","v":""},{"$f":"IF($E83=\"\",P83,\"\")","v":0},{"$f":"IF($E83=\"\",\"\",P83)","v":""},{"$f":"IF($E83=\"\",R83,\"\")","v":0},{"$f":"IF($E83=\"\",\"\",R83)","v":""}]
[null,null,null,null,null,null,null,null,null,null,null,null,null,null,null,null,null,null,{"$f":"IF(E84=\"\",$O$3,$P$3)","v":1},null,null,0,0,{"$f":"F84","v":0},{"$f":"IF(E84=\"\",T84,\"\")","v":0},{"$f":"IF(E84=\"\",\"\",T84)","v":""},{"$f":"IF($E84=\"\",N84,\"\")","v":0},{"$f":"IF($E84=\"\",\"\",N84)","v":""},{"$f":"IF($E84=\"\",P84,\"\")","v":0},{"$f":"IF($E84=\"\",\"\",P84)","v":""},{"$f":"IF($E84=\"\",R84,\"\")","v":0},{"$f":"IF($E84=\"\",\"\",R84)","v":""}]
[1,"GRAND TOTAL FILTRE LOCAL PART",null,null,null,null,null,null,null,null,null,null,null,null,null,null,null,null,null,{"$f":"SUM(Z66:Z84)+U57","v":{"$error":"#N/A"}},{"$f":"T85","v":{"$error":"#N/A"}},"TOTAL LOCAL PART",null,null,null,{"$f":"SUM(Z66:Z84)","v":0},null,{"$f":"SUM(AB66:AB84)+AB57","v":{"$error":"#N/A"}},null,{"$f":"SUM(AD66:AD84)+AD57","v":{"$error":"#N/A"}},null,{"$f":"SUM(AF66:AF84)+AF57","v":{"$error":"#N/A"}}]
[2,"GRAND TOTAL FILTRE FRENCH PART",null,null,null,null,null,null,null,null,null,null,null,null,null,null,null,null,null,{"$f":"SUM(Y66:Y84)+T58","v":{"$error":"#N/A"}},{"$f":"T86+SUM(U8:U10)","v":{"$error":"#N/A"}},"TOTAL FRENCH PART",null,null,{"$f":"SUM(Y66:Y84)","v":0},null,{"$f":"SUM(AA66:AA82)+AA58","v":{"$error":"#N/A"}},null,{"$f":"SUM(AC66:AC84)+AC58","v":{"$error":"#N/A"}},null,{"$f":"SUM(AE66:AE84)+AE58","v":{"$error":"#N/A"}}]
[null,"TOTAL FILTRE 100%",null,null,null,null,null,null,null,null,null,null,null,null,null,null,null,null,null,{"$f":"SUM(T85:T86)","v":{"$error":"#N/A"}},{"$f":"T85+U86","v":{"$error":"#N/A"}},"TOTAL :",null,null,{"$f":"T87-T85","v":{"$error":"#N/A"}},{"$f":"T87-T86","v":{"$error":"#N/A"}}]
["Safety guard around filter",null,null,null,"o",304,1,null,{"$f":"Char2!C113","v":18201.600000000002},{"$f":"IF(F40=\"\",'Série 2'!$E$42,(VLOOKUP(F40,'Série 2'!$D$26:$E$42,2,0)))","v":2.0689655172413794},{"$f":"H88*$K$64*G88","v":0},{"$f":"I88*$L$64*G88*J88","v":37658.482758620696},{"$f":"'Série 2'!$I$2","v":1},{"$f":"(K88+L88)*M88","v":37658.482758620696},null,{"$f":"O88*M88*$P$7*G88","v":0},30.55,{"$f":"P88*Q88","v":0},{"$f":"IF(E88=\"\",$O$3,$P$3)","v":1},{"$f":"(N88+R88)*S88","v":37658.482758620696},{"$f":"T88/2","v":18829.241379310348},{"$f":"(AA86+AB85+AE86+AF85)*1.149","v":{"$error":"#N/A"}}]
["Engineering to be add to the filter price or with the accessories them self or in the item \"Engineering and documentation\""]
["ETUDES :"]
["Filtrate manifold",null,null,null,null,null,1,null,null,null,{"$f":"H91*$K$64*G91","v":0},{"$f":"I91*$L$64*G91","v":0},1,{"$f":"(K91+L91)*M91","v":0},40,{"$f":"O91*M91*$P$7*G91","v":40},44,{"$f":"P91*Q91","v":1760},{"$f":"IF(E91=\"\",$O$3,$P$3)","v":1},{"$f":"(N91)*S91","v":0}]
["Filtrate receiver",null,null,null,null,null,1,null,null,null,{"$f":"H92*$K$64*G92","v":0},0,1,0,35,35,44,1540,1,{"$f":"(N92)*S92","v":0}]
["scrubber",null,null,null,null,null,0,null,null,null,0,0,1,0,35,0,44,0,1,0]
["moisture trap",null,null,null,null,null,0,null,null,null,0,0,1,0,35,0,44,0,1,0]
["Fume hood",null,null,null,null,null,0,null,null,null,0,0,1,0,80,0,44,0,1,0]
["Engineering et documentation anglais",null,null,null,null,null,1,null,850,null,0,850,1,850,200,200,44,8800,1]
["documentation other linguage",null,null,null,null,null,0,null,null,null,0,0,1,0,null,0,44,0,1,0]
["Engineering globale process",null,null,null,null,null,0,null,null,null,0,0,1,0,null,0,44,0,1,0]
[null,"TOTAL Engineering",null,null,null,null,null,null,null,null,null,null,null,null,null,{"$f":"SUM(P91:P98)","v":275},null,null,"sub total",{"$f":"SUM(T91:T98)","v":0},{"$f":"T99+SUM(U90:U98)","v":0}]
[null,null,null,null,null,null,null,null,null,null,null,null,null,null,null,null,null,null,null,{"$f":"T87+T88+T99","v":{"$error":"#N/A"}},{"$f":"U87+U88+U99","v":{"$error":"#N/A"}}]
["ACCESSORIES WILL HAVE TO BE CALCULATE ON THE BASIS OF UNIT PRICE AND ADAPTED TO THE NUMBER OF UNITS AND FILTERS"]
["Filtrate manifold 4,5+2+3,5 m,  8 DN 65",null,150,"#","o","SVR",1,350,3800,{"$f":"IF(F102=\"\",'Série 2'!$E$42,(VLOOKUP(F102,'Série 2'!$D$26:$E$42,2,0)))","v":1.3},{"$f":"H102*$K$64*G102","v":350},{"$f":"I102*$L$64*G102*J102","v":4940},1,{"$f":"(K102+L102)*M102","v":5290},25,{"$f":"O102*M102*$P$7*G102","v":25},{"$f":"IF($E102=\"\",$Q$3,$R$3)","v":45},{"$f":"P102*Q102","v":1125},{"$f":"IF(E102=\"\",$O$3,$P$3)","v":1},{"$f":"(N102+R102)*S102*G102","v":6415}]
["Fume hood",null,null,null,"o",null,0,null,null,null,{"$f":"H103*$K$64*G103","v":0},{"$f":"I103*$L$64*G103","v":0},1,{"$f":"(K103+L103)*M103","v":0},null,{"$f":"O103*M103*$P$7*G103","v":0},45,{"$f":"P103*Q103","v":0},{"$f":"IF(E103=\"\",$O$3,$P$3)","v":1},{"$f":"(N103+R103)*S103*G103","v":0}]
[null,null,null,null,null,null,null,null,null,null,0,0,null,null,null,null,60,null,null,null,null,null,"Prix longerons",null,"longeur Nemaska (m)",null,"Prix Nemaska",null,"Prix au mètre"]
["Filtrate receiver, baro type",null,600,"#","o","SVR",1,250,3500,{"$f":"IF(F105=\"\",'Série 2'!$E$42,(VLOOKUP(F105,'Série 2'!$D$26:$E$42,2,0)))","v":1.3},250,{"$f":"I105*$L$64*G105*J105","v":4550},3,{"$f":"(K105+L105)*M105","v":14400},5,{"$f":"O105*M105*$P$7*G105","v":15},45,{"$f":"P105*Q105","v":675},{"$f":"IF(E105=\"\",$O$3,$P$3)","v":1},{"$f":"(N105+R105)*S105*G105","v":15075},null,null,null,null,7,null,2300,null,{"$f":"AA105/Y105","v":328.57142857142856}]
["Level switch E+H liquifant",null,null,"#","o",null,0,null,null,null,0,0,3,{"$f":"(K106+L106)*M106","v":0},null,{"$f":"O106*M106*$P$7*G106","v":0},45,{"$f":"P106*Q106","v":0},{"$f":"IF(E106=\"\",$O$3,$P$3)","v":1},{"$f":"(N106+R106)*S106*G106","v":0},null,null,null,null,{"$f":"\"longeur \"&Calculations!C2&\" (m)\"","v":"longeur PKT (m)"},null,{"$f":"\"Prix \"&Calculations!C2","v":"Prix PKT"}]
["Vacuometre",null,null,"#","o",null,0,null,null,null,0,0,1,{"$f":"(K107+L107)*M107","v":0},null,{"$f":"O107*M107*$P$7*G107","v":0},45,{"$f":"P107*Q107","v":0},{"$f":"IF(E107=\"\",$O$3,$P$3)","v":1},{"$f":"(N107+R107)*S107*G107","v":0},null,null,null,null,{"$f":"Calculations!G9/1000","v":30},null,{"$f":"Y107*AC105*2","v":19714.285714285714}]
[null,"Total",null,"#","o",null,null,null,null,null,null,null,null,null,null,null,45,null,null,{"$f":"T105+T106+T107","v":15075}]
[null,null,null,null,null,null,null,null,null,null,null,null,null,null,null,null,60]
["moisture trap",null,null,"#","o",null,0,null,null,null,0,0,1,{"$f":"(K110+L110)*M110","v":0},null,{"$f":"O110*M110*$P$7*G110","v":0},45,{"$f":"P110*Q110","v":0},{"$f":"IF(E110=\"\",$O$3,$P$3)","v":1},{"$f":"(N110+R110)*S110*G110","v":0}]
["Vacuometre or transmitter E+H",null,null,"#","o",null,0,null,null,null,0,0,1,{"$f":"(K111+L111)*M111","v":0},null,{"$f":"O111*M111*$P$7*G111","v":0},45,{"$f":"P111*Q111","v":0},{"$f":"IF(E111=\"\",$O$3,$P$3)","v":1},{"$f":"(N111+R111)*S111*G111","v":0}]
[null,"Total",null,"#","o",null,null,null,null,null,null,null,null,null,null,null,45]
[null,null,null,null,null,null,null,null,null,null,null,null,null,null,null,null,60]
["Scrubber",null,null,"#","o",null,0,null,null,null,0,0,1,{"$f":"(K114+L114)*M114","v":0},null,{"$f":"O114*M114*$P$7*G114","v":0},45,{"$f":"P114*Q114","v":0},{"$f":"IF(E114=\"\",$O$3,$P$3)","v":1},{"$f":"(N114+R114)*S114*G114","v":0}]
["Sprayer",null,null,"#","o",null,0,null,null,null,0,0,1,{"$f":"(K115+L115)*M115","v":0},null,{"$f":"O115*M115*$P$7*G115","v":0},45,{"$f":"P115*Q115","v":0},{"$f":"IF(E115=\"\",$O$3,$P$3)","v":1},{"$f":"(N115+R115)*S115*G115","v":0}]
[null,"Total",null,"#","o",null,null,null,null,null,null,null,null,null,null,null,45]
[null,null,null,null,null,null,null,null,null,null,null,null,null,null,null,null,60]
["Vacuum pump",null,null,"#",0,null,0,null,null,null,0,0,1,{"$f":"(K118+L118)*M118","v":0},null,{"$f":"O118*M118*$P$7*G118","v":0},45,{"$f":"P118*Q118","v":0},{"$f":"IF(E118=\"\",$O$3,$P$3)","v":1},{"$f":"(N118+R118)*S118*G118","v":0}]
["Electrical motor",null,null,"#",0,null,0,null,null,null,0,0,1,{"$f":"(K119+L119)*M119","v":0},null,{"$f":"O119*M119*$P$7*G119","v":0},45,{"$f":"P119*Q119","v":0},{"$f":"IF(E119=\"\",$O$3,$P$3)","v":1},{"$f":"(N119+R119)*S119*G119","v":0}]
[null,"Total",null,"#",0,null,null,null,null,null,null,null,null,null,null,null,45]
[null,null,null,null,null,null,null,null,null,null,null,null,null,null,null,null,60]
["Filtrate pump",null,null,"#",0,null,0,null,null,null,0,0,1,{"$f":"(K122+L122)*M122","v":0},null,{"$f":"O122*M122*$P$7*G122","v":0},45,{"$f":"P122*Q122","v":0},{"$f":"IF(E122=\"\",$O$3,$P$3)","v":1},{"$f":"(N122+R122)*S122*G122","v":0}]
[null,null,null,null,null,null,null,null,null,null,null,null,null,null,null,null,60]
[null,null,null,null,null,null,null,null,null,null,null,null,null,null,null,null,60]
["Filtrate tank",null,null,null,"o",null,0,null,null,null,0,0,null,null,null,null,45,null,null,{"$f":"(N125+R125)*S125*G125","v":0}]
["Level switch E+H liquifant",null,null,"#","o",null,0,null,null,null,0,0,1,{"$f":"(K126+L126)*M126","v":0},null,{"$f":"O126*M126*$P$7*G126","v":0},45,{"$f":"P126*Q126","v":0},{"$f":"IF(E126=\"\",$O$3,$P$3)","v":1},{"$f":"(N126+R126)*S126*G126","v":0}]
[null,null,null,"#","o",null,0,null,null,null,0,0,1,{"$f":"(K127+L127)*M127","v":0},null,{"$f":"O127*M127*$P$7*G127","v":0},45,{"$f":"P127*Q127","v":0},{"$f":"IF(E127=\"\",$O$3,$P$3)","v":1},{"$f":"(N127+R127)*S127*G127","v":0}]
[null,"Total",null,"#","o",null,null,null,null,null,null,null,null,null,null,null,45,null,null,{"$f":"T125+T126+T127","v":0}]
[null,null,null,null,null,null,null,null,null,null,null,null,null,null,null,null,60]
["Local panel 1",null,null,"#","o",null,0,null,null,null,0,0,1,{"$f":"(K130+L130)*M130","v":0},null,{"$f":"O130*M130*$P$7*G130","v":0},45,{"$f":"P130*Q130","v":0},{"$f":"IF(E130=\"\",$O$3,$P$3)","v":1},{"$f":"(N130+R130)*S130*G130","v":0}]
["Local panel 2",null,null,"#","o",null,0,null,null,null,0,0,1,0,null,0,45,0,1,0]
["High pressure washing ramp",null,null,"#","o",null,0,null,null,null,0,0,1,0,null,0,45,0,1,0]
["Acid cloth wash",null,null,"#","o",null,0,null,null,null,0,0,1,0,null,0,45,0,1,0]
["Cake padle cake  reslurry",null,null,"#","o",null,0,null,null,null,0,0,1,0,null,0,45,0,1,0]
["Drip pan",null,null,"#","o",null,0,null,null,null,{"$f":"H135*$K$64*G135","v":0},{"$f":"I135*$L$64*G135","v":0},1,0,null,0,45,0,1,0]
[null,null,null,null,null,"d/w","pd/h",null,null,null,"car renting",null,"week",null,null,null,"external h. cost"]
["Supervisor","erection",null,null,null,0,10,1,null,null,null,null,4,null,null,{"$f":"F137*G137*M137*$P$7","v":0},72,{"$f":"P137*Q137","v":0},{"$f":"IF(E137=\"\",$O$3,$P$3)","v":1},{"$f":"(N137+R137)*S137","v":0}]
[null,"hotel",null,null,null,0,1,null,120,null,30,null,4,{"$f":"(I138+K138)*F138*G138*M138","v":0},null,{"$f":"O138*M138*$P$7*G138","v":0},null,{"$f":"P138*Q138","v":0},{"$f":"IF(E138=\"\",$O$3,$P$3)","v":1},{"$f":"(N138+R138)*S138","v":0}]
[null,"travel",null,null,null,0,1,null,1200,null,null,null,{"$f":"'Série 2'!$I$2","v":1},{"$f":"(I139+K139)*F139*G139*M139","v":0},null,{"$f":"O139*M139*$P$7*G139","v":0},null,{"$f":"P139*Q139","v":0},{"$f":"IF(E139=\"\",$O$3,$P$3)","v":1},{"$f":"(N139+R139)*S139","v":0}]
[null,null,null,null,null,null,null,null,null,null,"car renting",null,null,null,null,null,null,null,null,{"$f":"SUM(T137:T139)","v":0}]
["Supervisor","start up",null,null,null,0,10,1,null,null,null,null,1,null,null,{"$f":"F141*G141*M141*$P$7","v":0},72,{"$f":"P141*Q141","v":0},{"$f":"IF(E141=\"\",$O$3,$P$3)","v":1},{"$f":"(N141+R141)*S141","v":0}]
[null,"hotel",null,null,null,0,1,null,120,null,30,null,1,{"$f":"(I142+K142)*F142*G142*M142","v":0},null,{"$f":"O142*M142*$P$7*G142","v":0},null,{"$f":"P142*Q142","v":0},{"$f":"IF(E142=\"\",$O$3,$P$3)","v":1},{"$f":"(N142+R142)*S142","v":0}]
[null,"travel",null,null,null,0,1,null,1200,null,null,null,{"$f":"'Série 2'!$I$2","v":1},{"$f":"(I143+K143)*F143*G143*M143","v":0},null,{"$f":"O143*M143*$P$7*G143","v":0},null,{"$f":"P143*Q143","v":0},{"$f":"IF(E143=\"\",$O$3,$P$3)","v":1},{"$f":"(N143+R143)*S143","v":0}]
[null,null,null,null,null,null,null,null,null,null,null,null,null,null,null,null,null,null,null,{"$f":"SUM(T141:T143)","v":0}]
[]
["TC 40' part France ",null,null,null,null,null,1,null,1500,null,{"$f":"H146*$K$65","v":0},{"$f":"I146*$L$64","v":1500},20,{"$f":"(K146+L146)*M146","v":30000},null,{"$f":"O146*M146*$P$7*G146","v":0},30.55,{"$f":"P146*Q146","v":0},{"$f":"IF(E146=\"\",$O$3,$P$3)","v":1},{"$f":"(N146+R146)*S146*G146","v":30000}]
["Fumigation",null,null,null,null,null,1,null,300,null,{"$f":"H147*$K$65","v":0},{"$f":"I147*$L$64","v":300},20,{"$f":"(K147+L147)*M147","v":6000},null,{"$f":"O147*M147*$P$7*G147","v":0},30.55,0,{"$f":"IF(E147=\"\",$O$3,$P$3)","v":1},{"$f":"(N147+R147)*S147*G147","v":6000}]
["FCA our factory Douane",null,null,null,null,null,1,null,100,null,{"$f":"H148*$K$65","v":0},{"$f":"I148*$L$64","v":100},20,{"$f":"(K148+L148)*M148","v":2000},null,{"$f":"O148*M148*$P$7*G148","v":0},30.55,0,{"$f":"IF(E148=\"\",$O$3,$P$3)","v":1},2000]
["insurance","Ass 0,11%",null,null,null,null,1,null,null,null,null,{"$f":"I149*$L$64","v":0},0,{"$f":"(K149+L149)*M149","v":0},null,{"$f":"O149*M149*$P$7*G149","v":0},30.55,{"$f":"P149*Q149","v":0},{"$f":"IF(E149=\"\",$O$3,$P$3)","v":1},0]
[null,null,null,null,null,null,null,null,null,null,null,null,null,null,null,null,null,null,null,0]
["Transportation ","ass 0,45%",null,null,null,null,1,null,"??",null,{"$f":"H151*$K$65","v":0},{"$f":"I151*$L$64","v":{"$error":"#VALUE!"}},1,{"$f":"(K151+L151)*M151","v":{"$error":"#VALUE!"}},null,{"$f":"O151*M151*$P$7*G151","v":0},30.55,0,{"$f":"IF(E151=\"\",$O$3,$P$3)","v":1},{"$error":"#VALUE!"}]
["insurance",null,null,null,null,null,1,null,"??",null,{"$f":"H152*$K$65","v":0},{"$f":"I152*$L$64","v":{"$error":"#VALUE!"}},1,{"$f":"(K152+L152)*M152","v":{"$error":"#VALUE!"}},null,{"$f":"O152*M152*$P$7*G152","v":0},30.55,0,{"$f":"IF(E152=\"\",$O$3,$P$3)","v":1},{"$error":"#VALUE!"}]

{"sheet":"FabSpecification","index":12,"n_rows":810,"n_cols":41,"rows_kept":810,"cut":false,"hidden":true,"merged":[]}
["CODE MATERIEL","SERIE","TALON","SURFACE","LONG /S VIDE","LARG /S VIDE","ø TAMBOUR","NOMBRE DE PAS","LONG /S VIDE","Nbre pas",null,null,null,null,null,null,null,null,null,null,null,null,null,null,null,null,null,null,null,null,null,null,"LgBaV",4,3.5,3,2.5,"NbrPas",null,"NbrePas/LongPas"]
["0,25 / 180 / 50 / SERIE 1","SERIE 1",50,0.25,1400,180,410,"1 x 1,4",1.4,1,null,null,null,null,null,null,null,null,null,null,null,null,null,null,null,null,null,null,null,null,null,null,1.4,null,null,null,null,1,null,"1 x 1,4"]
["0,5 / 180 / 50 / SERIE 1","SERIE 1",50,0.5,2800,180,410,"1 x 2,8",2.8,1,null,null,null,null,null,null,null,null,null,null,null,null,null,null,null,null,null,null,null,null,null,null,2,null,null,null,null,1,null,"1 x 2"]
["0,78 / 280 / 50 / SERIE 1","SERIE 1",50,0.78,2800,280,410,"1 x 2,8",2.8,1,null,"BANDE","Serie 1","Serie 1","Serie 1","Serie 2",null,null,null,"Serie3","Serie 2",null,"Serie3",null,null,null,"Serie 4",null,null,null,"Serie 5",null,2.5,null,null,null,null,1,null,"1 x 2,5"]
["1,01 / 360 / 50 / SERIE 1","SERIE 1",50,1.01,2800,360,410,"1 x 2,8",2.8,1,null,"largeur",180,280,360,500,750,1000,1250,1251,1500,1501,1750,2000,2250,2500,3000,3500,4000,4200,5000,6000,2.8,null,null,null,null,1,null,"1 x 2,8"]
["1,4 / 500 / 50 / SERIE 1","SERIE 1",50,1.4,2800,500,410,"1 x 2,8",2.8,1,null,"EpaiSup",10,10,10,10,13,13,13,13,16,16,16,16,16,16,18,19,21,21,23,23,3,null,null,null,null,1,null,"1 x 3"]
["1 / 500 / 70 / SERIE 2","SERIE 2",70,1,2000,500,630,"1 x 2",2,1,null,"EpaisInf",4,4,4,4,5,5,5,5,6,6,6,6,6,6,7,7,8,8,10,10,3.5,null,null,null,null,1,null,"1 x 3,5"]
["1,25 / 500 / 70 / SERIE 2","SERIE 2",70,1.25,2500,500,630,"1 x 2,5",2.5,1,null,"EpaiTotal",18.5,18.5,18.5,18.5,22.5,24,24,24,28,28,28,28,28,28,31,32,35,35,39,39,4,null,null,null,null,2,null,"2 x 2"]
["1,5 / 500 / 70 / SERIE 2","SERIE 2",70,1.5,3000,500,630,"1 x 3",3,1,null,"NbrePli",3,3,3,3,3,4,4,4,4,4,4,4,4,4,4,4,4,4,4,4,4.5,null,null,null,null,2,null,"2,5 + 2"]
["1,75 / 500 / 70 / SERIE 2","SERIE 2",70,1.75,3500,500,630,"1 x 3,5",3.5,1,null,"PasRain",14,14,14,14,18,18,18,18,22,22,22,22,22,22,22,22,22,22,24,24,5,null,null,null,2,2,"2,5 x 2","2,5 x 2",5]
["2 / 500 / 70 / SERIE 2","SERIE 2",70,2,4000,500,630,"2 x 2",4,2,null,"LargRain",7,7,7,7,9,9,9,9,11,11,11,11,11,11,11,11,11,11,12,12,5.5,null,null,1,1,2,"& 1 x 3 & 1 x 2,5","1 x 3 & 1 x 2,5"]
["2,25 / 500 / 70 / SERIE 2","SERIE 2",70,2.25,4500,500,630,"2,5 + 2",4.5,2,null,"ProfRain",7,7,7,7,"5 - 10","5 - 10","5 - 10","5 - 10","5 - 12","5 - 12","5 - 12","5 - 12","5 - 12","5 - 12","5 - 14","5 - 15","5 - 17","5 - 17","5 - 19","5 - 19",6,null,null,2,null,2,"& 2 x 3 ","2 x 3",6]
["2,5 / 500 / 70 / SERIE 2","SERIE 2",70,2.5,5000,500,630,"2,5 x 2",5,2,null,"TrouOblong","6 x 10","6 x 10","6 x 10","6 x 10","8 x 22","8 x 22","8 x 22","8 x 22","10 x 26","10 x 26","10 x 26","10 x 26","10 x 26","10 x 26","10 x 30","10 x 30","10 x 30","10 x 30","10 x 30","10 x 30",6.5,null,1,1,null,2,"& 1 x 3,5 & 1 x 3 ","1 x 3,5 & 1 x 3"]
["2,75 / 500 / 70 / SERIE 2","SERIE 2",70,2.75,5500,500,630,"1 x 3 & 1 x 2,5",5.5,2,null,"SUPPBANDTOILE",null,null,null,null,null,null,null,null,null,null,null,null,null,null,null,null,null,null,null,null,7,null,2,null,null,2,"& 2 x 3,5 ","2 x 3,5",7]
["3 / 500 / 70 / SERIE 2","SERIE 2",70,3,6000,500,630,"2 x 3",6,2,null,"RailSuppBande","2 x 1","2 x 1","2 x 1","2 x 2","2 x 2","2 x 2","2 x 3","2 x 3","2 x 3","2 x 3","2 x 4","2 x 4","2 x 4","2 x 4","2 x 5","2 x 6","2 x 6","2 x 7","2 x  8","2 x 10",7.5,null,null,null,3,3,"& 3 x 2,5","3 x 2,5",7.5]
["1,5 / 750 / 70 / SERIE 2","SERIE 2",70,1.5,2000,750,630,"1 x 2",2,1,null,"RoulEmbaT70",140,140,140,219,219,219,219,273,219,273,273,273,273,273,273,273,273,273,273,323,8,null,null,1,2,3,"& 1 x 3 & 2 x 2,5","1 x 3 & 2 x 2,5"]
["1,88 / 750 / 70 / SERIE 2","SERIE 2",70,1.88,2500,750,630,"1 x 2,5",2.5,1,null,"RoulEmbaT120","NA","NA","NA","NA","NA","NA","NA",355,"NA",355,355,355,355,355,355,355,355,355,355,355,8.5,null,null,2,1,3,"& 2 x 3 & 1 x 2,5","2 x 3 & 1 x 2,5"]
["2,25 / 750 / 70 / SERIE 2","SERIE 2",70,2.25,3000,750,630,"1 x 3",3,1,null,"RoulSuppBanT70",140,140,140,219,219,219,219,273,219,273,273,273,273,273,273,273,355,355,355,355,9,null,null,3,null,3,"& 3 x 3 ","3 x 3",9]
["2,63 / 750 / 70 / SERIE 2","SERIE 2",70,2.63,3500,750,630,"1 x 3,5",3.5,1,null,"RoulSuppBanT120","NA","NA","NA","NA","NA","NA","NA",355,"NA",355,355,355,355,355,355,355,406,406,406,406,9.5,null,1,2,null,3,"& 1 x 3,5 & 2 x 3 ","1 x 3,5 & 2 x 3"]
["3 / 750 / 70 / SERIE 2","SERIE 2",70,3,4000,750,630,"2 x 2",4,2,null,"RoulToilSortGat",34,34,34,60.3,60.3,60.3,88.9,168.3,88.9,168.3,168.3,168.3,168.3,168.3,168.3,168.3,273,273,273,273,10,null,2,1,null,3,"& 2 x 3,5 & 1 x 3 ","2 x 3,5 & 1 x 3"]
["3,38 / 750 / 70 / SERIE 2","SERIE 2",70,3.38,4500,750,630,"2,5 + 2",4.5,2,null,"RoulToilDechGat",34,34,34,60.3,60.3,60.3,88.9,168.3,88.9,168.3,168.3,168.3,168.3,168.3,168.3,168.3,168.3,168.3,273,323,10.5,null,3,null,null,3,"& 3 x 3,5 ","3 x 3,5",10.5]
["3,75 / 750 / 70 / SERIE 2","SERIE 2",70,3.75,5000,750,630,"2,5 x 2",5,2,null,null,180,280,360,500,750,1000,1250,1250,1500,1501,1750,2000,2250,2500,3000,3500,4000,4200,5000,6000,11,2,null,1,null,3,"2 x 4 & 1 x 3 ","2 x 4 & 1 x 3"]
["4,13 / 750 / 70 / SERIE 2","SERIE 2",70,4.13,5500,750,630,"1 x 3 & 1 x 2,5",5.5,2,null,"RoulSuppToile",34,34,34,60.3,60.3,60.3,88.9,168.3,114.3,168.3,168.3,168.3,168.3,168.3,168.3,168.3,273,273,273,273,11.5,2,1,null,null,3,"2 x 4 & 1 x 3,5 ","2 x 4 & 1 x 3,5"]
["4,5 / 750 / 70 / SERIE 2","SERIE 2",70,4.5,6000,750,630,"2 x 3",6,2,null,"RoulRenvoi","N/A","N/A","N/A","N/A","N/A","N/A","N/A","N/A","N/A","N/A","N/A","N/A","N/A","N/A",219,219,273,273,323,323,12,3,null,null,null,3,"3 x 4 ","3 x 4",12]
["4,88 / 750 / 70 / SERIE 2","SERIE 2",70,4.88,6500,750,630,"2 x 3",6.5,2,null,null,null,null,null,null,null,null,null,null,null,null,null,null,null,null,null,null,null,null,null,null,12.5,null,1,3,null,4,"& 1 x 3,5 & 3 x 3 ","1 x 3,5 & 3 x 3"]
["5,25 / 750 / 70 / SERIE 2","SERIE 2",70,5.25,7000,750,630,"2 x 3",7,2,null,"DIM_HorsTout","SERIE 1",null,"SERIE 2",null,"SERIE 3",null,"SERIE 4.3",null,"SERIE 4",null,"SERIE 4.4",null,"SERIE 5",null,"SERIE 5.4",null,"SERIE 5.6",null,"SERIE 5.3",null,13,null,2,2,null,4,"& 2 x 3,5 & 2 x 3 ","2 x 3,5 & 2 x 3"]
["5,63 / 750 / 70 / SERIE 2","SERIE 2",70,5.63,7500,750,630,"2 x 3",7.5,3,null,"LargHT",480,null,650,null,750,null,850,null,950,null,1050,null,1320,null,1320,null,1320,null,1320,null,13.5,null,3,1,null,4,"& 3 x 3,5 & 1 x 3 ","3 x 3,5 & 1 x 3"]
["2 / 1000 / 70 / SERIE 2","SERIE 2",70,2,2000,1000,630,"1 x 2",2,1,null,"LongHT",2006,null,3130,null,5405,null,5970,null,5970,null,5970,null,6385,null,6385,null,6385,null,6385,null,14,null,4,null,null,4,"& 4 x 3,5 ","4 x 3,5",14]
["2,5 / 1000 / 70 / SERIE 2","SERIE 2",70,2.5,2500,1000,630,"1 x 2,5",2.5,1,null,"HautHTBâti",1350,null,1560,null,2400,null,2710,null,2710,null,2710,null,2910,null,2910,null,2910,null,2910,null,14.5,1,3,null,null,4,"1 x 4 & 3 x 3,5 ","1 x 4 & 3 x 3,5"]
["3 / 1000 / 70 / SERIE 2","SERIE 2",70,3,3000,1000,630,"1 x 3",3,1,null,null,null,null,"Dia630",null,"Dia935",null,"3000m",null,"4000m",null,"4200-Dia1200",null,"Dia1400",null,"Dia1400",null,"Dia1400",null,"Dia1400",null,15,3,null,1,null,4,"3 x 4 & 1 x 3 ","3 x 4 & 1 x 3"]
["3,5 / 1000 / 70 / SERIE 2","SERIE 2",70,3.5,3500,1000,630,"1 x 3,5",3.5,1,null,null,null,null,null,null,null,null,null,null,null,null,null,"*","Mise à jour le03/01/2005",null,null,null,null,null,null,null,15.5,3,1,null,null,4,"3 x 4 & 1 x 3,5 ","3 x 4 & 1 x 3,5"]
["4 / 1000 / 70 / SERIE 2","SERIE 2",70,4,4000,1000,630,"2 x 2",4,2,null,"TAMBOUR",410,null,630,null,935,null,1210,null,1400,null,null,null,"Nbre pli =3",null,null,null,null,null,null,null,16,4,null,null,null,4,"4 x 4 ","4 x 4",16]
["4,5 / 1000 / 70 / SERIE 2","SERIE 2",70,4.5,4500,1000,630,"2,5 + 2",4.5,2,null,"LongBandeSupTT",3300,null,5000,null,7100,null,8600,null,9600,null,null,null,null,null,null,null,null,null,null,null,16.5,null,3,2,null,5,"& 3 x 3,5 & 2 x 3 ","3 x 3,5 & 2 x 3"]
["5 / 1000 / 70 / SERIE 2","SERIE 2",70,5,5000,1000,630,"2,5 x 2",5,2,null,"LongToileSupTT",7800,null,9300,null,15300,null,16900,null,17800,null,"*","Inclu 2 m de jonction",null,null,null,null,null,null,null,null,17,null,4,1,null,5,"& 4 x 3,5 & 1 x 3 ","4 x 3,5 & 1 x 3"]
["5,5 / 1000 / 70 / SERIE 2","SERIE 2",70,5.5,5500,1000,630,"1 x 3 & 1 x 2,5",5.5,2,null,null,null,null,null,null,null,null,null,null,null,null,null,null,null,null,null,null,null,null,null,null,17.5,null,5,null,null,5,"& 5 x 3,5 ","5 x 3,5",17.5]
["6 / 1000 / 70 / SERIE 2","SERIE 2",70,6,6000,1000,630,"2 x 3",6,2,null,null,null,null,null,null,null,null,null,null,null,null,null,null,null,null,null,null,null,null,null,null,18,3,null,2,null,5,"3 x 4 & 2 x 3 ","3 x 4 & 2 x 3"]
["6,5 / 1000 / 70 / SERIE 2","SERIE 2",70,6.5,6500,1000,630,"2 x 3",6.5,2,null,null,null,null,null,null,null,null,null,null,null,null,null,null,null,null,null,null,null,null,null,null,18.5,2,3,null,null,5,"2 x 4 & 3 x 3,5 ","2 x 4 & 3 x 3,5"]
["7 / 1000 / 70 / SERIE 2","SERIE 2",70,7,7000,1000,630,"2 x 3",7,2,null,null,null,null,null,null,null,null,null,null,null,null,null,null,null,null,null,null,null,null,null,null,19,4,null,1,null,5,"4 x 4 & 1 x 3 ","4 x 4 & 1 x 3"]
["7,5 / 1000 / 70 / SERIE 2","SERIE 2",70,7.5,7500,1000,630,"2 x 3",7.5,3,null,null,null,null,null,null,null,null,null,null,null,null,null,null,null,null,null,null,null,null,null,null,19.5,4,1,null,null,5,"4 x 4 & 1 x 3,5 ","4 x 4 & 1 x 3,5"]
["8 / 1000 / 70 / SERIE 2","SERIE 2",70,8,8000,1000,630,"2 x 3",8,3,null,null,null,null,null,null,null,null,null,null,null,null,null,null,null,null,null,null,null,null,null,null,20,5,null,null,null,5,"5 x 4 ","5 x 4",20]
["8,5 / 1000 / 70 / SERIE 2","SERIE 2",70,8.5,8500,1000,630,"2 x 3",8.5,3,null,null,null,null,null,null,null,null,null,null,null,null,null,null,null,null,null,null,null,null,null,null,20.5,null,5,1,null,6,"& 5 x 3,5 & 1 x 3 ","5 x 3,5 & 1 x 3"]
["9 / 1000 / 70 / SERIE 2","SERIE 2",70,9,9000,1000,630,"2 x 3",9,3,null,null,null,null,null,null,null,null,null,null,null,null,null,null,null,null,null,null,null,null,null,null,21,null,6,null,null,6,"& 6 x 3,5 ","6 x 3,5",21]
["9,5 / 1000 / 70 / SERIE 2","SERIE 2",70,9.5,9500,1000,630,"2 x 3",9.5,3,null,null,null,null,null,null,null,null,null,null,null,null,null,null,null,null,null,null,null,null,null,null,21.5,1,5,null,null,6,"1 x 4 & 5 x 3,5 ","1 x 4 & 5 x 3,5"]
["10 / 1000 / 70 / SERIE 2","SERIE 2",70,10,10000,1000,630,"2 x 3",10,3,null,null,null,null,null,null,null,null,null,null,null,null,null,null,null,null,null,null,null,null,null,null,22,2,4,null,null,6,"2 x 4 & 4 x 3,5 ","2 x 4 & 4 x 3,5"]
["10,5 / 1000 / 70 / SERIE 2","SERIE 2",70,10.5,10500,1000,630,"2 x 3",10.5,3,null,null,null,null,null,null,null,null,null,null,null,null,null,null,null,null,null,null,null,null,null,null,22.5,3,3,null,null,6,"3 x 4 & 3 x 3,5 ","3 x 4 & 3 x 3,5"]
["3,13 / 1250 / 70 / SERIE 2","SERIE 2",70,3.13,2500,1250,630,"1 x 2,5",2.5,1,null,null,null,null,null,null,null,null,null,null,null,null,null,null,null,null,null,null,null,null,null,null,23,5,null,1,null,6,"5 x 4 & 1 x 3 ","5 x 4 & 1 x 3"]
["3,75 / 1250 / 70 / SERIE 2","SERIE 2",70,3.75,3000,1250,630,"1 x 3",3,1,null,null,null,null,null,null,null,null,null,null,null,null,null,null,null,null,null,null,null,null,null,null,23.5,5,1,null,null,6,"5 x 4 & 1 x 3,5 ","5 x 4 & 1 x 3,5"]
["4,38 / 1250 / 70 / SERIE 2","SERIE 2",70,4.38,3500,1250,630,"1 x 3,5",3.5,1,null,null,null,null,null,null,null,null,null,null,null,null,null,null,null,null,null,null,null,null,null,null,24,6,null,null,null,6,"6 x 4 ","6 x 4",24]
["5 / 1250 / 70 / SERIE 2","SERIE 2",70,5,4000,1250,630,"2 x 2",4,2,null,null,null,null,null,null,null,null,null,null,null,null,null,null,null,null,null,null,null,null,null,null,24.5,0,7,null,null,7,"& 7 x 3,5 ","7 x 3,5",24.5]
["5,63 / 1250 / 70 / SERIE 2","SERIE 2",70,5.63,4500,1250,630,"2,5 + 2",4.5,2,null,null,null,null,null,null,null,null,null,null,null,null,null,null,null,null,null,null,null,null,null,null,25,1,6,null,null,7,"1 x 4 & 6 x 3,5 ","1 x 4 & 6 x 3,5"]
["6,25 / 1250 / 70 / SERIE 2","SERIE 2",70,6.25,5000,1250,630,"2,5 x 2",5,2,null,null,null,null,null,null,null,null,null,null,null,null,null,null,null,null,null,null,null,null,null,null,25.5,2,5,null,null,7,"2 x 4 & 5 x 3,5 ","2 x 4 & 5 x 3,5"]
["6,88 / 1250 / 70 / SERIE 2","SERIE 2",70,6.88,5500,1250,630,"1 x 3 & 1 x 2,5",5.5,2,null,null,null,null,null,null,null,null,null,null,null,null,null,null,null,null,null,null,null,null,null,null,26,3,4,null,null,7,"3 x 4 & 4 x 3,5 ","3 x 4 & 4 x 3,5"]
["7,5 / 1250 / 70 / SERIE 2","SERIE 2",70,7.5,6000,1250,630,"2 x 3",6,2,null,null,null,null,null,null,null,null,null,null,null,null,null,null,null,null,null,null,null,null,null,null,26.5,4,3,null,null,7,"4 x 4 & 3 x 3,5 ","4 x 4 & 3 x 3,5"]
["8,13 / 1250 / 70 / SERIE 2","SERIE 2",70,8.1300000000000008,6500,1250,630,"2 x 3",6.5,2,null,null,null,null,null,null,null,null,null,null,null,null,null,null,null,null,null,null,null,null,null,null,27,5,2,null,null,7,"5 x 4 & 2 x 3,5 ","5 x 4 & 2 x 3,5"]
["8,75 / 1250 / 70 / SERIE 2","SERIE 2",70,8.75,7000,1250,630,"2 x 3",7,2,null,null,null,null,null,null,null,null,null,null,null,null,null,null,null,null,null,null,null,null,null,null,27.5,6,1,null,null,7,"6 x 4 & 1 x 3,5 ","6 x 4 & 1 x 3,5"]
["9,38 / 1250 / 70 / SERIE 2","SERIE 2",70,9.3800000000000008,7500,1250,630,"2 x 3",7.5,3,null,null,null,null,null,null,null,null,null,null,null,null,null,null,null,null,null,null,null,null,null,null,28,7,null,null,null,7,"7 x 4 ","7 x 4",28]
["10 / 1250 / 70 / SERIE 2","SERIE 2",70,10,8000,1250,630,"2 x 3",8,3,null,null,null,null,null,null,null,null,null,null,null,null,null,null,null,null,null,null,null,null,null,null,28.5,1,7,null,null,8,"1 x 4 & 7 x 3,5 ","1 x 4 & 7 x 3,5"]
["10,63 / 1250 / 70 / SERIE 2","SERIE 2",70,10.63,8500,1250,630,"2 x 3",8.5,3,null,null,null,null,null,null,null,null,null,null,null,null,null,null,null,null,null,null,null,null,null,null,29,2,6,null,null,8,"2 x 4 & 6 x 3,5 ","2 x 4 & 6 x 3,5"]
["11,25 / 1250 / 70 / SERIE 2","SERIE 2",70,11.25,9000,1250,630,"2 x 3",9,3,null,null,null,null,null,null,null,null,null,null,null,null,null,null,null,null,null,null,null,null,null,null,29.5,3,5,null,null,8,"3 x 4 & 5 x 3,5 ","3 x 4 & 5 x 3,5"]
["11,88 / 1250 / 70 / SERIE 2","SERIE 2",70,11.88,9500,1250,630,"2 x 3",9.5,3,null,null,null,null,null,null,null,null,null,null,null,null,null,null,null,null,null,null,null,null,null,null,30,4,4,null,null,8,"4 x 4 & 4 x 3,5 ","4 x 4 & 4 x 3,5"]
["12,5 / 1250 / 70 / SERIE 2","SERIE 2",70,12.5,10000,1250,630,"2 x 3",10,3,null,null,null,null,null,null,null,null,null,null,null,null,null,null,null,null,null,null,null,null,null,null,30.5,5,3,null,null,8,"5 x 4 & 3 x 3,5 ","5 x 4 & 3 x 3,5"]
["13,13 / 1250 / 70 / SERIE 2","SERIE 2",70,13.13,10500,1250,630,"2 x 3",10.5,3,null,null,null,null,null,null,null,null,null,null,null,null,null,null,null,null,null,null,null,null,null,null,31,6,2,null,null,8,"6 x 4 & 2 x 3,5 ","6 x 4 & 2 x 3,5"]
["(13,75 / 1250 / 70 / SERIE 2)","SERIE 2",70,13.75,11000,1250,630,"2 x 3 & 2 x 2,5",11,4,null,null,null,null,null,null,null,null,null,null,null,null,null,null,null,null,null,null,null,null,null,null,31.5,7,1,null,null,8,"7 x 4 & 1 x 3,5 ","7 x 4 & 1 x 3,5"]
["(14,38 / 1250 / 70 / SERIE 2)","SERIE 2",70,14.38,11500,1250,630,"2 x 3 & 2 x 2,5",11.5,4,null,null,null,null,null,null,null,null,null,null,null,null,null,null,null,null,null,null,null,null,null,null,32,8,null,null,null,8,"8 x 4 ","8 x 4",32]
["(15 / 1250 / 70 / SERIE 2)","SERIE 2",70,15,12000,1250,630,"2 x 3 & 2 x 2,5",12,4,null,null,null,null,null,null,null,null,null,null,null,null,null,null,null,null,null,null,null,null,null,null,32.5,2,7,null,null,9,"2 x 4 & 7 x 3,5 ","2 x 4 & 7 x 3,5"]
["(15,63 / 1250 / 70 / SERIE 2)","SERIE 2",70,15.63,12500,1250,630,"2 x 3 & 2 x 2,5",12.5,4,null,null,null,null,null,null,null,null,null,null,null,null,null,null,null,null,null,null,null,null,null,null,33,3,6,null,null,9,"3 x 4 & 6 x 3,5 ","3 x 4 & 6 x 3,5"]
["4,5 / 1500 / 70 / SERIE 2","SERIE 2",70,4.5,3000,1500,630,"1 x 3",3,1,null,null,null,null,null,null,null,null,null,null,null,null,null,null,null,null,null,null,null,null,null,null,35.5,8,1,null,null,9,"8 x 4 & 1 x 3,5 ","8 x 4 & 1 x 3,5"]
["5,25 / 1500 / 70 / SERIE 2","SERIE 2",70,5.25,3500,1500,630,"1 x 3,5",3.5,1,null,null,null,null,null,null,null,null,null,null,null,null,null,null,null,null,null,null,null,null,null,null,36,9,null,null,null,9,"9 x 4 ","9 x 4",36]
["6 / 1500 / 70 / SERIE 2","SERIE 2",70,6,4000,1500,630,"2 x 2",4,2,null,null,null,null,null,null,null,null,null,null,null,null,null,null,null,null,null,null,null,null,null,null,36.5,3,7,null,null,10,"3 x 4 & 7 x 3,5 ","3 x 4 & 7 x 3,5"]
["6,75 / 1500 / 70 / SERIE 2","SERIE 2",70,6.75,4500,1500,630,"2,5 + 2",4.5,2,null,null,null,null,null,null,null,null,null,null,null,null,null,null,null,null,null,null,null,null,null,null,37,4,6,null,null,10,"4 x 4 & 6 x 3,5 ","4 x 4 & 6 x 3,5"]
["7,5 / 1500 / 70 / SERIE 2","SERIE 2",70,7.5,5000,1500,630,"2,5 x 2",5,2,null,null,null,null,null,null,null,null,null,null,null,null,null,null,null,null,null,null,null,null,null,null,37.5,5,5,null,null,10,"5 x 4 & 5 x 3,5 ","5 x 4 & 5 x 3,5"]
["8,25 / 1500 / 70 / SERIE 2","SERIE 2",70,8.25,5500,1500,630,"1 x 3 & 1 x 2,5",5.5,2,null,null,null,null,null,null,null,null,null,null,null,null,null,null,null,null,null,null,null,null,null,null,38,6,4,null,null,10,"6 x 4 & 4 x 3,5 ","6 x 4 & 4 x 3,5"]
["9 / 1500 / 70 / SERIE 2","SERIE 2",70,9,6000,1500,630,"2 x 3",6,2,null,null,null,null,null,null,null,null,null,null,null,null,null,null,null,null,null,null,null,null,null,null,38.5,7,3,null,null,10,"7 x 4 & 3 x 3,5 ","7 x 4 & 3 x 3,5"]
["9,75 / 1500 / 70 / SERIE 2","SERIE 2",70,9.75,6500,1500,630,"2 x 3",6.5,2,null,null,null,null,null,null,null,null,null,null,null,null,null,null,null,null,null,null,null,null,null,null,39,8,2,null,null,10,"8 x 4 & 2 x 3,5 ","8 x 4 & 2 x 3,5"]
["10,5 / 1500 / 70 / SERIE 2","SERIE 2",70,10.5,7000,1500,630,"2 x 3",7,2,null,null,null,null,null,null,null,null,null,null,null,null,null,null,null,null,null,null,null,null,null,null,39.5,9,1,null,null,10,"9 x 4 & 1 x 3,5 ","9 x 4 & 1 x 3,5"]
["11,25 / 1500 / 70 / SERIE 2","SERIE 2",70,11.25,7500,1500,630,"2 x 3",7.5,3,null,null,null,null,null,null,null,null,null,null,null,null,null,null,null,null,null,null,null,null,null,null,40,10,null,null,null,10,"10 x 4 ","10 x 4",40]
["12 / 1500 / 70 / SERIE 2","SERIE 2",70,12,8000,1500,630,"2 x 3",8,3]
["12,75 / 1500 / 70 / SERIE 2","SERIE 2",70,12.75,8500,1500,630,"2 x 3",8.5,3,null,null,null,null,null,null,null,null,null,null,null,null,null,null,null,null,null,null,null,null,null,null,"Pas des SERIES 2"]
["13,5 / 1500 / 70 / SERIE 2","SERIE 2",70,13.5,9000,1500,630,"2 x 3",9,3,null,null,null,null,null,null,null,null,null,null,null,null,null,null,null,null,null,null,null,null,null,null,"LgBaV",0,3.5,3,2.5,"NbrPas",null,"NbrePas/LongPas"]
["14,25 / 1500 / 70 / SERIE 2","SERIE 2",70,14.25,9500,1500,630,"2 x 3",9.5,3,null,null,null,null,null,null,null,null,null,null,null,null,null,null,null,null,null,null,null,null,null,null,2,null,null,null,null,1,null,"1 x 2",2]
["15 / 1500 / 70 / SERIE 2","SERIE 2",70,15,10000,1500,630,"2 x 3",10,3,null,null,null,null,null,null,null,null,null,null,null,null,null,null,null,null,null,null,null,null,null,null,2.5,null,null,null,null,1,null,"1 x 2,5",2.5]
["15,75 / 1500 / 70 / SERIE 2","SERIE 2",70,15.75,10500,1500,630,"2 x 3",10.5,3,null,null,null,null,null,null,null,null,null,null,null,null,null,null,null,null,null,null,null,null,null,null,2.8,null,null,null,null,1,null,"1 x 2,8",2.8]
["(16,5 / 1500 / 70 / SERIE 2)","SERIE 2",70,16.5,11000,1500,630,"2 x 3 & 2 x 2,5",11,4,null,null,null,null,null,null,null,null,null,null,null,null,null,null,null,null,null,null,null,null,null,null,3,null,null,null,null,1,null,"1 x 3",3]
["(17,25 / 1500 / 70 / SERIE 2)","SERIE 2",70,17.25,11500,1500,630,"2 x 3 & 2 x 2,5",11.5,4,null,null,null,null,null,null,null,null,null,null,null,null,null,null,null,null,null,null,null,null,null,null,3.5,null,null,null,null,1,null,"1 x 3,5",3.5]
["(18 / 1500 / 70 / SERIE 2)","SERIE 2",70,18,12000,1500,630,"2 x 3 & 2 x 2,5",12,4,null,null,null,null,null,null,null,null,null,null,null,null,null,null,null,null,null,null,null,null,null,null,4,null,null,null,null,2,null,"2 x 2",4]
["(18,75 / 1500 / 70 / SERIE 2)","SERIE 2",70,18.75,12500,1500,630,"2 x 3 & 2 x 2,5",12.5,4,null,null,null,null,null,null,null,null,null,null,null,null,null,null,null,null,null,null,null,null,null,null,4.5,null,null,null,null,2,null,"2,5 + 2",4.5]
["(19,5 / 1500 / 70 / SERIE 2)","SERIE 2",70,19.5,13000,1500,630,"2 x 3,5 & 2 x 3",13,4,null,null,null,null,null,null,null,null,null,null,null,null,null,null,null,null,null,null,null,null,null,null,5,null,null,null,2,2,"2,5 x 2","2,5 x 2",5]
["(20,25 / 1500 / 70 / SERIE 2)","SERIE 2",70,20.25,13500,1500,630,"3 x 3,5 & 1 x 3",13.5,4,null,null,null,null,null,null,null,null,null,null,null,null,null,null,null,null,null,null,null,null,null,null,5.5,null,null,1,1,2,"& 1 x 3 & 1 x 2,5","1 x 3 & 1 x 2,5"]
["(21 / 1500 / 70 / SERIE 2)","SERIE 2",70,21,14000,1500,630,"4 x 3,5",14,4,null,null,null,null,null,null,null,null,null,null,null,null,null,null,null,null,null,null,null,null,null,null,6,null,null,2,null,2,"& 2 x 3 ","2 x 3",6]
["8 / 2000 / 70 / SERIE 3","SERIE 3",70,8,4000,2000,935,"2 x 2",4,2,null,null,null,null,null,null,null,null,null,null,null,null,null,null,null,null,null,null,null,null,null,null,11,null,null,2,2,4,"& 2 x 3 & 2 x 2,5","2 x 3 & 2 x 2,5"]
["12 / 2000 / 70 / SERIE 3","SERIE 3",70,12,6000,2000,935,"2 x 3",6,2,null,null,null,null,null,null,null,null,null,null,null,null,null,null,null,null,null,null,null,null,null,null,13,null,2,2,null,4,"& 2 x 3,5 & 2 x 3 ","2 x 3,5 & 2 x 3"]
["13 / 2000 / 70 / SERIE 3","SERIE 3",70,13,6500,2000,935,"1 x 3,5 & 1 x 3",6.5,2,null,null,null,null,null,null,null,null,null,null,null,null,null,null,null,null,null,null,null,null,null,null,13.5,null,3,1,null,4,"& 3 x 3,5 & 1 x 3 ","3 x 3,5 & 1 x 3"]
["14 / 2000 / 70 / SERIE 3","SERIE 3",70,14,7000,2000,935,"2 x 3,5",7,2,null,null,null,null,null,null,null,null,null,null,null,null,null,null,null,null,null,null,null,null,null,null,14,null,4,null,null,4,"& 4 x 3,5 ","4 x 3,5",14]
["15 / 2000 / 70 / SERIE 3","SERIE 3",70,15,7500,2000,935,"3 x 2,5",7.5,3]
["16 / 2000 / 70 / SERIE 3","SERIE 3",70,16,8000,2000,935,"1 x 3 & 2 x 2,5",8,3]
["17 / 2000 / 70 / SERIE 3","SERIE 3",70,17,8500,2000,935,"2 x 3 & 1 x 2,5",8.5,3]
["18 / 2000 / 70 / SERIE 3","SERIE 3",70,18,9000,2000,935,"3 x 3",9,3]
["19 / 2000 / 70 / SERIE 3","SERIE 3",70,19,9500,2000,935,"1 x 3,5 & 2 x 3",9.5,3]
["20 / 2000 / 70 / SERIE 3","SERIE 3",70,20,10000,2000,935,"2 x 3,5 & 1 x 3",10,3]
["21 / 2000 / 70 / SERIE 3","SERIE 3",70,21,10500,2000,935,"3 x 3,5",10.5,3]
["22 / 2000 / 70 / SERIE 3","SERIE 3",70,22,11000,2000,935,"2 x 4 & 1 x 3",11,3]
["23 / 2000 / 70 / SERIE 3","SERIE 3",70,23,11500,2000,935,"2 x 4 & 1 x 3,5",11.5,3]
["24 / 2000 / 70 / SERIE 3","SERIE 3",70,24,12000,2000,935,"3 x 4",12,3]
["25 / 2000 / 70 / SERIE 3","SERIE 3",70,25,12500,2000,935,"1 x 3,5 & 3 x 3",12.5,4]
["26 / 2000 / 70 / SERIE 3","SERIE 3",70,26,13000,2000,935,"2 x 3,5 & 2 x 3",13,4]
["27 / 2000 / 70 / SERIE 3","SERIE 3",70,27,13500,2000,935,"3 x 3,5 & 1 x 3",13.5,4]
["28 / 2000 / 70 / SERIE 3","SERIE 3",70,28,14000,2000,935,"4 x 3,5",14,4]
["29 / 2000 / 70 / SERIE 3","SERIE 3",70,29,14500,2000,935,"1 x 4 & 3 x 3,5",14.5,4]
["30 / 2000 / 70 / SERIE 3","SERIE 3",70,30,15000,2000,935,"3 x 4 & 1 x 3",15,4]
["31 / 2000 / 70 / SERIE 3","SERIE 3",70,31,15500,2000,935,"3 x 4 & 1 x 3,5",15.5,4]
["32 / 2000 / 70 / SERIE 3","SERIE 3",70,32,16000,2000,935,"4 x 4",16,4]
["33 / 2000 / 70 / SERIE 3","SERIE 3",70,33,16500,2000,935,"3 x 3,5 & 2 x 3",16.5,5]
["34 / 2000 / 70 / SERIE 3","SERIE 3",70,34,17000,2000,935,"4 x 3,5 & 1 x 3",17,5]
["35 / 2000 / 70 / SERIE 3","SERIE 3",70,35,17500,2000,935,"5 x 3,5",17.5,5]
["36 / 2000 / 70 / SERIE 3","SERIE 3",70,36,18000,2000,935,"3 x 4 & 2 x 3",18,5]
["37 / 2000 / 70 / SERIE 4","SERIE 4",70,37,18500,2000,1210,"2 x 4 & 3 x 3,5",18.5,5]
["38 / 2000 / 70 / SERIE 4","SERIE 4",70,38,19000,2000,1210,"4 x 4 & 1 x 3",19,5]
["39 / 2000 / 70 / SERIE 4","SERIE 4",70,39,19500,2000,1210,"4 x 4 & 1 x 3,5",19.5,5]
["40 / 2000 / 70 / SERIE 4","SERIE 4",70,40,20000,2000,1210,"5 x 4",20,5]
["18 / 3000 / 70 / SERIE 4","SERIE 4",70,18,6000,3000,1210,"2 x 3",6,2]
["19,5 / 3000 / 70 / SERIE 4","SERIE 4",70,19.5,6500,3000,1210,"1 x 3,5 & 1 x 3",6.5,2]
["21 / 3000 / 70 / SERIE 4","SERIE 4",70,21,7000,3000,1210,"2 x 3,5",7,2]
["22,5 / 3000 / 70 / SERIE 4","SERIE 4",70,22.5,7500,3000,1210,"3 x 2,5",7.5,3]
["24 / 3000 / 70 / SERIE 4","SERIE 4",70,24,8000,3000,1210,"1 x 3 & 2 x 2,5",8,3]
["25,5 / 3000 / 70 / SERIE 4","SERIE 4",70,25.5,8500,3000,1210,"2 x 3 & 1 x 2,5",8.5,3]
["27 / 3000 / 70 / SERIE 4","SERIE 4",70,27,9000,3000,1210,"3 x 3",9,3]
["28,5 / 3000 / 70 / SERIE 4","SERIE 4",70,28.5,9500,3000,1210,"1 x 3,5 & 2 x 3",9.5,3]
["30 / 3000 / 70 / SERIE 4","SERIE 4",70,30,10000,3000,1210,"2 x 3,5 & 1 x 3",10,3]
["31,5 / 3000 / 70 / SERIE 4","SERIE 4",70,31.5,10500,3000,1210,"3 x 3,5",10.5,3]
["33 / 3000 / 70 / SERIE 4","SERIE 4",70,33,11000,3000,1210,"2 x 4 & 1 x 3",11,3]
["34,5 / 3000 / 70 / SERIE 4","SERIE 4",70,34.5,11500,3000,1210,"2 x 4 & 1 x 3,5",11.5,3]
["36 / 3000 / 70 / SERIE 4","SERIE 4",70,36,12000,3000,1210,"3 x 4",12,3]
["37,5 / 3000 / 70 / SERIE 4","SERIE 4",70,37.5,12500,3000,1210,"1 x 3,5 & 3 x 3",12.5,4]
["39 / 3000 / 70 / SERIE 4","SERIE 4",70,39,13000,3000,1210,"2 x 3,5 & 2 x 3",13,4]
["40,5 / 3000 / 70 / SERIE 4","SERIE 4",70,40.5,13500,3000,1210,"3 x 3,5 & 1 x 3",13.5,4]
["42 / 3000 / 70 / SERIE 4","SERIE 4",70,42,14000,3000,1210,"4 x 3,5",14,4]
["43,5 / 3000 / 70 / SERIE 4","SERIE 4",70,43.5,14500,3000,1210,"1 x 4 & 3 x 3,5",14.5,4]
["45 / 3000 / 70 / SERIE 4","SERIE 4",70,45,15000,3000,1210,"3 x 4 & 1 x 3",15,4]
["46,5 / 3000 / 70 / SERIE 4","SERIE 4",70,46.5,15500,3000,1210,"3 x 4 & 1 x 3,5",15.5,4]
["48 / 3000 / 70 / SERIE 4","SERIE 4",70,48,16000,3000,1210,"4 x 4",16,4]
["49,5 / 3000 / 70 / SERIE 4","SERIE 4",70,49.5,16500,3000,1210,"3 x 3,5 & 2 x 3",16.5,5]
["51 / 3000 / 70 / SERIE 4","SERIE 4",70,51,17000,3000,1210,"4 x 3,5 & 1 x 3",17,5]
["52,5 / 3000 / 70 / SERIE 4","SERIE 4",70,52.5,17500,3000,1210,"5 x 3,5",17.5,5]
["54 / 3000 / 70 / SERIE 4","SERIE 4",70,54,18000,3000,1210,"3 x 4 & 2 x 3",18,5]
["55,5 / 3000 / 70 / SERIE 4","SERIE 4",70,55.5,18500,3000,1210,"2 x 4 & 3 x 3,5",18.5,5]
["57 / 3000 / 70 / SERIE 4","SERIE 4",70,57,19000,3000,1210,"4 x 4 & 1 x 3",19,5]
["58,5 / 3000 / 70 / SERIE 4","SERIE 4",70,58.5,19500,3000,1210,"4 x 4 & 1 x 3,5",19.5,5]
["60 / 3000 / 70 / SERIE 4","SERIE 4",70,60,20000,3000,1210,"5 x 4",20,5]
["61,5 / 3000 / 70 / SERIE 4","SERIE 4",70,61.5,20500,3000,1210,"5 x 3,5 & 1 x 3",20.5,6]
["63 / 3000 / 70 / SERIE 4","SERIE 4",70,63,21000,3000,1210,"6 x 3,5",21,6]
["64,5 / 3000 / 70 / SERIE 4","SERIE 4",70,64.5,21500,3000,1210,"1 x 4 & 5 x 3,5",21.5,6]
["66 / 3000 / 70 / SERIE 4","SERIE 4",70,66,22000,3000,1210,"2 x 4 & 4 x 3,5",22,6]
["67,5 / 3000 / 70 / SERIE 4","SERIE 4",70,67.5,22500,3000,1210,"3 x 4 & 3 x 3,5",22.5,6]
["69 / 3000 / 70 / SERIE 4","SERIE 4",70,69,23000,3000,1210,"5 x 4 & 1 x 3",23,6]
["70,5 / 3000 / 70 / SERIE 4","SERIE 4",70,70.5,23500,3000,1210,"5 x 4 & 1 x 3,5",23.5,6]
["72 / 3000 / 70 / SERIE 4","SERIE 4",70,72,24000,3000,1210,"6 x 4",24,6]
["73,5 / 3000 / 70 / SERIE 4","SERIE 4",70,73.5,24500,3000,1210,"7 x 3,5",24.5,7]
["75 / 3000 / 70 / SERIE 4","SERIE 4",70,75,25000,3000,1210,"1 x 4 & 6 x 3,5",25,7]
["76,5 / 3000 / 70 / SERIE 4","SERIE 4",70,76.5,25500,3000,1210,"2 x 4 & 5 x 3,5",25.5,7]
["78 / 3000 / 70 / SERIE 4","SERIE 4",70,78,26000,3000,1210,"3 x 4 & 4 x 3,5",26,7]
["79,5 / 3000 / 70 / SERIE 4","SERIE 4",70,79.5,26500,3000,1210,"4 x 4 & 3 x 3,5",26.5,7]
["81 / 3000 / 70 / SERIE 4","SERIE 4",70,81,27000,3000,1210,"5 x 4 & 2 x 3,5",27,7]
["82,5 / 3000 / 70 / SERIE 4","SERIE 4",70,82.5,27500,3000,1210,"6 x 4 & 1 x 3,5",27.5,7]
["84 / 3000 / 70 / SERIE 4","SERIE 4",70,84,28000,3000,1210,"7 x 4",28,7]
["85,5 / 3000 / 70 / SERIE 4","SERIE 4",70,85.5,28500,3000,1210,"1 x 4 & 7 x 3,5",28.5,8]
["87 / 3000 / 70 / SERIE 4","SERIE 4",70,87,29000,3000,1210,"2 x 4 & 6 x 3,5",29,8]
["88,5 / 3000 / 70 / SERIE 4","SERIE 4",70,88.5,29500,3000,1210,"3 x 4 & 5 x 3,5",29.5,8]
["90 / 3000 / 70 / SERIE 4","SERIE 4",70,90,30000,3000,1210,"4 x 4 & 4 x 3,5",30,8]
["91,5 / 3000 / 70 / SERIE 4","SERIE 4",70,91.5,30500,3000,1210,"5 x 4 & 3 x 3,5",30.5,8]
["93 / 3000 / 70 / SERIE 4","SERIE 4",70,93,31000,3000,1210,"6 x 4 & 2 x 3,5",31,8]
["94,5 / 3000 / 70 / SERIE 4","SERIE 4",70,94.5,31500,3000,1210,"7 x 4 & 1 x 3,5",31.5,8]
["96 / 3000 / 70 / SERIE 4","SERIE 4",70,96,32000,3000,1210,"8 x 4",32,8]
["97,5 / 3000 / 70 / SERIE 4","SERIE 4",70,97.5,32500,3000,1210,"2 x 4 & 7 x 3,5",32.5,9]
["99 / 3000 / 70 / SERIE 4","SERIE 4",70,99,33000,3000,1210,"3 x 4 & 6 x 3,5",33,9]
["(100,5 / 3000 / 70 / SERIE 5)","SERIE 5",70,100.5,33500,3000,1210,"3 x 4 & 6 x 3,5",33.5,9,null,"100,5 / 3000 / 70 / SERIE 5"]
["(102 / 3000 / 70 / SERIE 5)","SERIE 5",70,102,34000,3000,1210,"3 x 4 & 6 x 3,5",34,9,null,"102 / 3000 / 70 / SERIE 5"]
["(103,5 / 3000 / 70 / SERIE 5)","SERIE 5",70,103.5,34500,3000,1210,"3 x 4 & 6 x 3,5",34.5,9,null,"103,5 / 3000 / 70 / SERIE 5"]
["(105 / 3000 / 70 / SERIE 5)","SERIE 5",70,105,35000,3000,1210,"3 x 4 & 6 x 3,5",35,9,null,"105 / 3000 / 70 / SERIE 5"]
["(106,5 / 3000 / 70 / SERIE 5)","SERIE 5",70,106.5,35500,3000,1210,"8 x 4 & 1 x 3,5",35.5,9,null,"106,5 / 3000 / 70 / SERIE 5"]
["(108 / 3000 / 70 / SERIE 5)","SERIE 5",70,108,36000,3000,1210,"9 x 4",36,9,null,"108 / 3000 / 70 / SERIE 5"]
["48 / 4000 / 70 / SERIE 4","SERIE 4",70,48,12000,4000,1210,"3 x 4",12,3,null,"48 / 4000 / 70 / SERIE 4"]
["50 / 4000 / 70 / SERIE 4","SERIE 4",70,50,12500,4000,1210,"1 x 3,5 & 3 x 3",12.5,4,null,"50 / 4000 / 70 / SERIE 4"]
["52 / 4000 / 70 / SERIE 4","SERIE 4",70,52,13000,4000,1210,"2 x 3,5 & 2 x 3",13,4,null,"52 / 4000 / 70 / SERIE 4"]
["54 / 4000 / 70 / SERIE 4","SERIE 4",70,54,13500,4000,1210,"3 x 3,5 & 1 x 3",13.5,4,null,"54 / 4000 / 70 / SERIE 4"]
["56 / 4000 / 70 / SERIE 4","SERIE 4",70,56,14000,4000,1210,"4 x 3,5",14,4,null,"56 / 4000 / 70 / SERIE 4"]
["58 / 4000 / 70 / SERIE 4","SERIE 4",70,58,14500,4000,1210,"1 x 4 & 3 x 3,5",14.5,4,null,"58 / 4000 / 70 / SERIE 4"]
["60 / 4000 / 70 / SERIE 4","SERIE 4",70,60,15000,4000,1210,"3 x 4 & 1 x 3",15,4,null,"60 / 4000 / 70 / SERIE 4"]
["62 / 4000 / 70 / SERIE 4","SERIE 4",70,62,15500,4000,1210,"3 x 4 & 1 x 3,5",15.5,4,null,"62 / 4000 / 70 / SERIE 4"]
["64 / 4000 / 70 / SERIE 4","SERIE 4",70,64,16000,4000,1210,"4 x 4",16,4,null,"64 / 4000 / 70 / SERIE 4"]
["66 / 4000 / 70 / SERIE 4","SERIE 4",70,66,16500,4000,1210,"3 x 3,5 & 2 x 3",16.5,5,null,"66 / 4000 / 70 / SERIE 4"]
["68 / 4000 / 70 / SERIE 4","SERIE 4",70,68,17000,4000,1210,"4 x 3,5 & 1 x 3",17,5,null,"68 / 4000 / 70 / SERIE 4"]
["70 / 4000 / 70 / SERIE 4","SERIE 4",70,70,17500,4000,1210,"5 x 3,5",17.5,5,null,"70 / 4000 / 70 / SERIE 4"]
["72 / 4000 / 70 / SERIE 4","SERIE 4",70,72,18000,4000,1210,"3 x 4 & 2 x 3",18,5,null,"72 / 4000 / 70 / SERIE 4"]
["74 / 4000 / 70 / SERIE 4","SERIE 4",70,74,18500,4000,1210,"2 x 4 & 3 x 3,5",18.5,5,null,"74 / 4000 / 70 / SERIE 4"]
["76 / 4000 / 70 / SERIE 4","SERIE 4",70,76,19000,4000,1210,"4 x 4 & 1 x 3",19,5,null,"76 / 4000 / 70 / SERIE 4"]
["78 / 4000 / 70 / SERIE 4","SERIE 4",70,78,19500,4000,1210,"4 x 4 & 1 x 3,5",19.5,5,null,"78 / 4000 / 70 / SERIE 4"]
["80 / 4000 / 70 / SERIE 4","SERIE 4",70,80,20000,4000,1210,"5 x 4",20,5,null,"80 / 4000 / 70 / SERIE 4"]
["82 / 4000 / 70 / SERIE 4","SERIE 4",70,82,20500,4000,1210,"5 x 3,5 & 1 x 3",20.5,6,null,"82 / 4000 / 70 / SERIE 4"]
["84 / 4000 / 70 / SERIE 4","SERIE 4",70,84,21000,4000,1210,"6 x 3,5",21,6,null,"84 / 4000 / 70 / SERIE 4"]
["86 / 4000 / 70 / SERIE 4","SERIE 4",70,86,21500,4000,1210,"1 x 4 & 5 x 3,5",21.5,6,null,"86 / 4000 / 70 / SERIE 4"]
["88 / 4000 / 70 / SERIE 4","SERIE 4",70,88,22000,4000,1210,"2 x 4 & 4 x 3,5",22,6,null,"88 / 4000 / 70 / SERIE 4"]
["90 / 4000 / 70 / SERIE 4","SERIE 4",70,90,22500,4000,1210,"3 x 4 & 3 x 3,5",22.5,6,null,"90 / 4000 / 70 / SERIE 4"]
["92 / 4000 / 70 / SERIE 4","SERIE 4",70,92,23000,4000,1210,"5 x 4 & 1 x 3",23,6,null,"92 / 4000 / 70 / SERIE 4"]
["94 / 4000 / 70 / SERIE 4","SERIE 4",70,94,23500,4000,1210,"5 x 4 & 1 x 3,5",23.5,6,null,"94 / 4000 / 70 / SERIE 4"]
["96 / 4000 / 70 / SERIE 4","SERIE 4",70,96,24000,4000,1210,"6 x 4",24,6,null,"96 / 4000 / 70 / SERIE 4"]
["98 / 4000 / 70 / SERIE 4","SERIE 4",70,98,24500,4000,1210,"7 x 3,5",24.5,7,null,"98 / 4000 / 70 / SERIE 4"]
["100 / 4000 / 70 / SERIE 4","SERIE 4",70,100,25000,4000,1210,"1 x 4 & 6 x 3,5",25,7,null,"100 / 4000 / 70 / SERIE 4"]
["102 / 4000 / 70 / SERIE 4","SERIE 4",70,102,25500,4000,1210,"2 x 4 & 5 x 3,5",25.5,7,null,"102 / 4000 / 70 / SERIE 4"]
["104 / 4000 / 70 / SERIE 4","SERIE 4",70,104,26000,4000,1210,"3 x 4 & 4 x 3,5",26,7,null,"104 / 4000 / 70 / SERIE 4"]
["106 / 4000 / 70 / SERIE 4","SERIE 4",70,106,26500,4000,1210,"4 x 4 & 3 x 3,5",26.5,7,null,"106 / 4000 / 70 / SERIE 4"]
["108 / 4000 / 70 / SERIE 4","SERIE 4",70,108,27000,4000,1210,"5 x 4 & 2 x 3,5",27,7,null,"108 / 4000 / 70 / SERIE 4"]
["110 / 4000 / 70 / SERIE 4","SERIE 4",70,110,27500,4000,1210,"6 x 4 & 1 x 3,5",27.5,7,null,"110 / 4000 / 70 / SERIE 4"]
["112 / 4000 / 70 / SERIE 4","SERIE 4",70,112,28000,4000,1210,"7 x 4",28,7,null,"112 / 4000 / 70 / SERIE 4"]
["114 / 4000 / 70 / SERIE 4","SERIE 4",70,114,28500,4000,1210,"1 x 4 & 7 x 3,5",28.5,8,null,"114 / 4000 / 70 / SERIE 4"]
["116 / 4000 / 70 / SERIE 4","SERIE 4",70,116,29000,4000,1210,"2 x 4 & 6 x 3,5",29,8,null,"116 / 4000 / 70 / SERIE 4"]
["118 / 4000 / 70 / SERIE 4","SERIE 4",70,118,29500,4000,1210,"3 x 4 & 5 x 3,5",29.5,8,null,"118 / 4000 / 70 / SERIE 4"]
["120 / 4000 / 70 / SERIE 4","SERIE 4",70,120,30000,4000,1210,"4 x 4 & 4 x 3,5",30,8,null,"120 / 4000 / 70 / SERIE 4"]
["122 / 4000 / 70 / SERIE 4","SERIE 4",70,122,30500,4000,1210,"5 x 4 & 3 x 3,5",30.5,8,null,"122 / 4000 / 70 / SERIE 4"]
["124 / 4000 / 70 / SERIE 4","SERIE 4",70,124,31000,4000,1210,"6 x 4 & 2 x 3,5",31,8,null,"124 / 4000 / 70 / SERIE 4"]
["126 / 4000 / 70 / SERIE 4","SERIE 4",70,126,31500,4000,1210,"7 x 4 & 1 x 3,5",31.5,8,null,"126 / 4000 / 70 / SERIE 4"]
["128 / 4000 / 70 / SERIE 4","SERIE 4",70,128,32000,4000,1210,"8 x 4",32,8,null,"128 / 4000 / 70 / SERIE 4"]
["130 / 4000 / 70 / SERIE 4","SERIE 4",70,130,32500,4000,1210,"2 x 4 & 7 x 3,5",32.5,9,null,"130 / 4000 / 70 / SERIE 4"]
["132 / 4000 / 70 / SERIE 4","SERIE 4",70,132,33000,4000,1210,"3 x 4 & 6 x 3,5",33,9,null,"132 / 4000 / 70 / SERIE 4"]
["134 / 4000 / 70 / SERIE 4","SERIE 4",70,134,33500,4000,1210,"3 x 4 & 6 x 3,5",33.5,9,null,"134 / 4000 / 70 / SERIE 4"]
["136 / 4000 / 70 / SERIE 4","SERIE 4",70,136,34000,4000,1210,"3 x 4 & 6 x 3,5",34,9,null,"136 / 4000 / 70 / SERIE 4"]
["56,7 / 4200 / 70 / SERIE 4","SERIE 4",70,56.7,13500,4200,1210,"3 x 3,5 & 1 x 3",13.5,4]
["58,8 / 4200 / 70 / SERIE 4","SERIE 4",70,58.8,14000,4200,1210,"4 x 3,5",14,4]
["60,9 / 4200 / 70 / SERIE 4","SERIE 4",70,60.9,14500,4200,1210,"1 x 4 & 3 x 3,5",14.5,4]
["63 / 4200 / 70 / SERIE 4","SERIE 4",70,63,15000,4200,1210,"3 x 4 & 1 x 3",15,4]
["65,1 / 4200 / 70 / SERIE 4","SERIE 4",70,65.099999999999994,15500,4200,1210,"3 x 4 & 1 x 3,5",15.5,4]
["67,2 / 4200 / 70 / SERIE 4","SERIE 4",70,67.2,16000,4200,1210,"4 x 4",16,4]
["69,3 / 4200 / 70 / SERIE 4","SERIE 4",70,69.3,16500,4200,1210,"3 x 3,5 & 2 x 3",16.5,5]
["71,4 / 4200 / 70 / SERIE 4","SERIE 4",70,71.400000000000006,17000,4200,1210,"4 x 3,5 & 1 x 3",17,5]
["73,5 / 4200 / 70 / SERIE 4","SERIE 4",70,73.5,17500,4200,1210,"5 x 3,5",17.5,5]
["75,6 / 4200 / 70 / SERIE 4","SERIE 4",70,75.599999999999994,18000,4200,1210,"3 x 4 & 2 x 3",18,5]
["77,7 / 4200 / 70 / SERIE 4","SERIE 4",70,77.7,18500,4200,1210,"2 x 4 & 3 x 3,5",18.5,5]
["79,8 / 4200 / 70 / SERIE 4","SERIE 4",70,79.8,19000,4200,1210,"4 x 4 & 1 x 3",19,5]
["81,9 / 4200 / 70 / SERIE 4","SERIE 4",70,81.900000000000006,19500,4200,1210,"4 x 4 & 1 x 3,5",19.5,5]
["84 / 4200 / 70 / SERIE 4","SERIE 4",70,84,20000,4200,1210,"5 x 4",20,5]
["86,1 / 4200 / 70 / SERIE 4","SERIE 4",70,86.1,20500,4200,1210,"5 x 3,5 & 1 x 3",20.5,6]
["88,2 / 4200 / 70 / SERIE 4","SERIE 4",70,88.2,21000,4200,1210,"6 x 3,5",21,6]
["90,3 / 4200 / 70 / SERIE 4","SERIE 4",70,90.3,21500,4200,1210,"1 x 4 & 5 x 3,5",21.5,6]
["92,4 / 4200 / 70 / SERIE 4","SERIE 4",70,92.4,22000,4200,1210,"2 x 4 & 4 x 3,5",22,6]
["94,5 / 4200 / 70 / SERIE 4","SERIE 4",70,94.5,22500,4200,1210,"3 x 4 & 3 x 3,5",22.5,6]
["96,6 / 4200 / 70 / SERIE 4","SERIE 4",70,96.6,23000,4200,1210,"5 x 4 & 1 x 3",23,6]
["98,7 / 4200 / 70 / SERIE 4","SERIE 4",70,98.7,23500,4200,1210,"5 x 4 & 1 x 3,5",23.5,6]
["100,8 / 4200 / 70 / SERIE 4","SERIE 4",70,100.8,24000,4200,1210,"6 x 4",24,6]
["102,9 / 4200 / 70 / SERIE 4","SERIE 4",70,102.9,24500,4200,1210,"7 x 3,5",24.5,7]
["105 / 4200 / 70 / SERIE 4","SERIE 4",70,105,25000,4200,1210,"1 x 4 & 6 x 3,5",25,7]
["107,1 / 4200 / 70 / SERIE 4","SERIE 4",70,107.1,25500,4200,1210,"2 x 4 & 5 x 3,5",25.5,7]
["109,2 / 4200 / 70 / SERIE 4","SERIE 4",70,109.2,26000,4200,1210,"3 x 4 & 4 x 3,5",26,7]
["111,3 / 4200 / 70 / SERIE 4","SERIE 4",70,111.3,26500,4200,1210,"4 x 4 & 3 x 3,5",26.5,7]
["113,4 / 4200 / 70 / SERIE 4","SERIE 4",70,113.4,27000,4200,1210,"5 x 4 & 2 x 3,5",27,7]
["115,5 / 4200 / 70 / SERIE 4","SERIE 4",70,115.5,27500,4200,1210,"6 x 4 & 1 x 3,5",27.5,7]
["117,6 / 4200 / 70 / SERIE 4","SERIE 4",70,117.6,28000,4200,1210,"7 x 4",28,7]
["119,7 / 4200 / 70 / SERIE 4","SERIE 4",70,119.7,28500,4200,1210,"1 x 4 & 7 x 3,5",28.5,8]
["121,8 / 4200 / 70 / SERIE 4","SERIE 4",70,121.8,29000,4200,1210,"2 x 4 & 6 x 3,5",29,8]
["123,9 / 4200 / 70 / SERIE 4","SERIE 4",70,123.9,29500,4200,1210,"3 x 4 & 5 x 3,5",29.5,8]
["126 / 4200 / 70 / SERIE 4","SERIE 4",70,126,30000,4200,1210,"4 x 4 & 4 x 3,5",30,8]
["128,1 / 4200 / 70 / SERIE 4","SERIE 4",70,128.1,30500,4200,1210,"5 x 4 & 3 x 3,5",30.5,8]
["130,2 / 4200 / 70 / SERIE 4","SERIE 4",70,130.19999999999999,31000,4200,1210,"6 x 4 & 2 x 3,5",31,8]
["132,3 / 4200 / 70 / SERIE 4","SERIE 4",70,132.30000000000001,31500,4200,1210,"7 x 4 & 1 x 3,5",31.5,8]
["134,4 / 4200 / 70 / SERIE 4","SERIE 4",70,134.4,32000,4200,1210,"8 x 4",32,8]
["136,5 / 4200 / 70 / SERIE 4","SERIE 4",70,136.5,32500,4200,1210,"2 x 4 & 7 x 3,5",32.5,9]
["138,6 / 4200 / 70 / SERIE 4","SERIE 4",70,138.6,33000,4200,1210,"3 x 4 & 6 x 3,5",33,9]
["140,7 / 4200 / 70 / SERIE 4","SERIE 4",70,140.69999999999999,33500,4200,1210,"3 x 4 & 6 x 3,5",33.5,9]
["142,8 / 4200 / 70 / SERIE 4","SERIE 4",70,142.80000000000001,34000,4200,1210,"3 x 4 & 6 x 3,5",34,9]
["144,9 / 4200 / 70 / SERIE 5","SERIE 5",70,144.9,34500,4200,1210,"3 x 4 & 6 x 3,5",34.5,9]
["147 / 4200 / 70 / SERIE 5","SERIE 5",70,147,35000,4200,1400,"3 x 4 & 6 x 3,5",35,9]
["149,1 / 4200 / 70 / SERIE 5","SERIE 5",70,149.1,35500,4200,1400,"8 x 4 & 1 x 3,5",35.5,9]
["151,2 / 4200 / 70 / SERIE 5","SERIE 5",70,151.19999999999999,36000,4200,1400,"9 x 4",36,9]
["153,3 / 4200 / 70 / SERIE 5","SERIE 5",70,153.30000000000001,36500,4200,1400,"3 x 4 & 7 x 3,5",36.5,10]
["155,4 / 4200 / 70 / SERIE 5","SERIE 5",70,155.4,37000,4200,1400,"4 x 4 & 6 x 3,5",37,10]
["157,5 / 4200 / 70 / SERIE 5","SERIE 5",70,157.5,37500,4200,1400,"5 x 4 & 5 x 3,5",37.5,10]
["159,6 / 4200 / 70 / SERIE 5","SERIE 5",70,159.6,38000,4200,1400,"6 x 4 & 4 x 3,5",38,10]
["161,7 / 4200 / 70 / SERIE 5","SERIE 5",70,161.69999999999999,38500,4200,1400,"7 x 4 & 3 x 3,5",38.5,10]
["163,8 / 4200 / 70 / SERIE 5","SERIE 5",70,163.80000000000001,39000,4200,1400,"8 x 4 & 2 x 3,5",39,10]
["165,9 / 4200 / 70 / SERIE 5","SERIE 5",70,165.9,39500,4200,1400,"9 x 4 & 1 x 3,5",39.5,10]
["168 / 4200 / 70 / SERIE 5","SERIE 5",70,168,40000,4200,1400,"10 x 4",40,10]
["(13,75 / 1250 / 120 / SERIE 3)","SERIE 3",120,13.75,11000,1250,935,"2 x 4 & 1 x 3",11,3]
["(14,38 / 1250 / 120 / SERIE 3)","SERIE 3",120,14.38,11500,1250,935,"2 x 4 & 1 x 3,5",11.5,3]
["(15 / 1250 / 120 / SERIE 3)","SERIE 3",120,15,12000,1250,935,"3 x 4",12,3]
["(15,63 / 1250 / 120 / SERIE 3)","SERIE 3",120,15.63,12500,1250,935,"1 x 3,5 & 3 x 3",12.5,4]
["(16,5 / 1500 / 120 / SERIE 3)","SERIE 3",120,16.5,11000,1500,935,"2 x 4 & 1 x 3",11,3]
["(17,25 / 1500 / 120 / SERIE 3)","SERIE 3",120,17.25,11500,1500,935,"2 x 4 & 1 x 3,5",11.5,3]
["(18 / 1500 / 120 / SERIE 3)","SERIE 3",120,18,12000,1500,935,"3 x 4",12,3]
["(18,75 / 1500 / 120 / SERIE 3)","SERIE 3",120,18.75,12500,1500,935,"1 x 3,5 & 3 x 3",12.5,4]
["(19,5 / 1500 / 120 / SERIE 3)","SERIE 3",120,19.5,13000,1500,935,"2 x 3,5 & 2 x 3",13,4]
["(20,25 / 1500 / 120 / SERIE 3)","SERIE 3",120,20.25,13500,1500,935,"3 x 3,5 & 1 x 3",13.5,4]
["(21 / 1500 / 120 / SERIE 3)","SERIE 3",120,21,14000,1500,935,"4 x 3,5",14,4]
["(21,75 / 1500 / 120 / SERIE 3)","SERIE 3",120,21.75,14500,1500,935,"1 x 4 & 3 x 3,5",14.5,4]
["(22,5 / 1500 / 120 / SERIE 3)","SERIE 3",120,22.5,15000,1500,935,"3 x 4 & 1 x 3",15,4]
["8 / 2000 / 120 / SERIE 3","SERIE 3",120,8,4000,2000,935,"2 x 2",4,2]
["12 / 2000 / 120 / SERIE 3","SERIE 3",120,12,6000,2000,935,"2 x 3",6,2]
["13 / 2000 / 120 / SERIE 3","SERIE 3",120,13,6500,2000,935,"1 x 3,5 & 1 x 3",6.5,2]
["14 / 2000 / 120 / SERIE 3","SERIE 3",120,14,7000,2000,935,"2 x 3,5",7,2]
["15 / 2000 / 120 / SERIE 3","SERIE 3",120,15,7500,2000,935,"3 x 2,5",7.5,3]
["16 / 2000 / 120 / SERIE 3","SERIE 3",120,16,8000,2000,935,"1 x 3 & 2 x 2,5",8,3]
["17 / 2000 / 120 / SERIE 3","SERIE 3",120,17,8500,2000,935,"2 x 3 & 1 x 2,5",8.5,3]
["18 / 2000 / 120 / SERIE 3","SERIE 3",120,18,9000,2000,935,"3 x 3",9,3]
["19 / 2000 / 120 / SERIE 3","SERIE 3",120,19,9500,2000,935,"1 x 3,5 & 2 x 3",9.5,3]
["20 / 2000 / 120 / SERIE 3","SERIE 3",120,20,10000,2000,935,"2 x 3,5 & 1 x 3",10,3]
["21 / 2000 / 120 / SERIE 3","SERIE 3",120,21,10500,2000,935,"3 x 3,5",10.5,3]
["22 / 2000 / 120 / SERIE 3","SERIE 3",120,22,11000,2000,935,"2 x 4 & 1 x 3",11,3]
["23 / 2000 / 120 / SERIE 3","SERIE 3",120,23,11500,2000,935,"2 x 4 & 1 x 3,5",11.5,3]
["24 / 2000 / 120 / SERIE 3","SERIE 3",120,24,12000,2000,935,"3 x 4",12,3]
["25 / 2000 / 120 / SERIE 3","SERIE 3",120,25,12500,2000,935,"1 x 3,5 & 3 x 3",12.5,4]
["26 / 2000 / 120 / SERIE 3","SERIE 3",120,26,13000,2000,935,"2 x 3,5 & 2 x 3",13,4]
["27 / 2000 / 120 / SERIE 3","SERIE 3",120,27,13500,2000,935,"3 x 3,5 & 1 x 3",13.5,4]
["28 / 2000 / 120 / SERIE 3","SERIE 3",120,28,14000,2000,935,"4 x 3,5",14,4]
["29 / 2000 / 120 / SERIE 3","SERIE 3",120,29,14500,2000,935,"1 x 4 & 3 x 3,5",14.5,4]
["30 / 2000 / 120 / SERIE 3","SERIE 3",120,30,15000,2000,935,"3 x 4 & 1 x 3",15,4]
["31 / 2000 / 120 / SERIE 3","SERIE 3",120,31,15500,2000,935,"3 x 4 & 1 x 3,5",15.5,4]
["32 / 2000 / 120 / SERIE 3","SERIE 3",120,32,16000,2000,935,"4 x 4",16,4]
["33 / 2000 / 120 / SERIE 3","SERIE 3",120,33,16500,2000,935,"3 x 3,5 & 2 x 3",16.5,5]
["34 / 2000 / 120 / SERIE 3","SERIE 3",120,34,17000,2000,935,"4 x 3,5 & 1 x 3",17,5]
["35 / 2000 / 120 / SERIE 3","SERIE 3",120,35,17500,2000,935,"5 x 3,5",17.5,5]
["36 / 2000 / 120 / SERIE 3","SERIE 3",120,36,18000,2000,935,"3 x 4 & 2 x 3",18,5]
["(37 / 2000 / 120 / SERIE 3)","SERIE 3",120,37,18500,2000,1210,"2 x 4 & 3 x 3,5",18.5,5]
["(38 / 2000 / 120 / SERIE 3)","SERIE 3",120,38,19000,2000,1210,"4 x 4 & 1 x 3",19,5]
["(39 / 2000 / 120 / SERIE 3)","SERIE 3",120,39,19500,2000,1210,"4 x 4 & 1 x 3,5",19.5,5]
["(40 / 2000 / 120 / SERIE 3)","SERIE 3",120,40,20000,2000,1210,"5 x 4",20,5]
["37 / 2000 / 120 / SERIE 4","SERIE 4",120,37,18500,2000,1210,"2 x 4 & 3 x 3,5",18.5,5]
["38 / 2000 / 120 / SERIE 4","SERIE 4",120,38,19000,2000,1210,"4 x 4 & 1 x 3",19,5]
["39 / 2000 / 120 / SERIE 4","SERIE 4",120,39,19500,2000,1210,"4 x 4 & 1 x 3,5",19.5,5]
["40 / 2000 / 120 / SERIE 4","SERIE 4",120,40,20000,2000,1210,"5 x 4",20,5]
["18 / 3000 / 120 / SERIE 4","SERIE 4",120,18,6000,3000,1210,"2 x 3",6,2]
["19,5 / 3000 / 120 / SERIE 4","SERIE 4",120,19.5,6500,3000,1210,"1 x 3,5 & 1 x 3",6.5,2]
["21 / 3000 / 120 / SERIE 4","SERIE 4",120,21,7000,3000,1210,"2 x 3,5",7,2]
["22,5 / 3000 / 120 / SERIE 4","SERIE 4",120,22.5,7500,3000,1210,"3 x 2,5",7.5,3]
["24 / 3000 / 120 / SERIE 4","SERIE 4",120,24,8000,3000,1210,"1 x 3 & 2 x 2,5",8,3]
["25,5 / 3000 / 120 / SERIE 4","SERIE 4",120,25.5,8500,3000,1210,"2 x 3 & 1 x 2,5",8.5,3]
["27 / 3000 / 120 / SERIE 4","SERIE 4",120,27,9000,3000,1210,"3 x 3",9,3]
["28,5 / 3000 / 120 / SERIE 4","SERIE 4",120,28.5,9500,3000,1210,"1 x 3,5 & 2 x 3",9.5,3]
["30 / 3000 / 120 / SERIE 4","SERIE 4",120,30,10000,3000,1210,"2 x 3,5 & 1 x 3",10,3]
["31,5 / 3000 / 120 / SERIE 4","SERIE 4",120,31.5,10500,3000,1210,"3 x 3,5",10.5,3]
["33 / 3000 / 120 / SERIE 4","SERIE 4",120,33,11000,3000,1210,"2 x 4 & 1 x 3",11,3]
["34,5 / 3000 / 120 / SERIE 4","SERIE 4",120,34.5,11500,3000,1210,"2 x 4 & 1 x 3,5",11.5,3]
["36 / 3000 / 120 / SERIE 4","SERIE 4",120,36,12000,3000,1210,"3 x 4",12,3]
["37,5 / 3000 / 120 / SERIE 4","SERIE 4",120,37.5,12500,3000,1210,"1 x 3,5 & 3 x 3",12.5,4]
["39 / 3000 / 120 / SERIE 4","SERIE 4",120,39,13000,3000,1210,"2 x 3,5 & 2 x 3",13,4]
["40,5 / 3000 / 120 / SERIE 4","SERIE 4",120,40.5,13500,3000,1210,"3 x 3,5 & 1 x 3",13.5,4]
["42 / 3000 / 120 / SERIE 4","SERIE 4",120,42,14000,3000,1210,"4 x 3,5",14,4]
["43,5 / 3000 / 120 / SERIE 4","SERIE 4",120,43.5,14500,3000,1210,"1 x 4 & 3 x 3,5",14.5,4]
["45 / 3000 / 120 / SERIE 4","SERIE 4",120,45,15000,3000,1210,"3 x 4 & 1 x 3",15,4]
["46,5 / 3000 / 120 / SERIE 4","SERIE 4",120,46.5,15500,3000,1210,"3 x 4 & 1 x 3,5",15.5,4]
["48 / 3000 / 120 / SERIE 4","SERIE 4",120,48,16000,3000,1210,"4 x 4",16,4]
["49,5 / 3000 / 120 / SERIE 4","SERIE 4",120,49.5,16500,3000,1210,"3 x 3,5 & 2 x 3",16.5,5]
["51 / 3000 / 120 / SERIE 4","SERIE 4",120,51,17000,3000,1210,"4 x 3,5 & 1 x 3",17,5]
["52,5 / 3000 / 120 / SERIE 4","SERIE 4",120,52.5,17500,3000,1210,"5 x 3,5",17.5,5]
["54 / 3000 / 120 / SERIE 4","SERIE 4",120,54,18000,3000,1210,"3 x 4 & 2 x 3",18,5]
["55,5 / 3000 / 120 / SERIE 4","SERIE 4",120,55.5,18500,3000,1210,"2 x 4 & 3 x 3,5",18.5,5]
["57 / 3000 / 120 / SERIE 4","SERIE 4",120,57,19000,3000,1210,"4 x 4 & 1 x 3",19,5]
["58,5 / 3000 / 120 / SERIE 4","SERIE 4",120,58.5,19500,3000,1210,"4 x 4 & 1 x 3,5",19.5,5]
["60 / 3000 / 120 / SERIE 4","SERIE 4",120,60,20000,3000,1210,"5 x 4",20,5]
["61,5 / 3000 / 120 / SERIE 4","SERIE 4",120,61.5,20500,3000,1210,"5 x 3,5 & 1 x 3",20.5,6]
["63 / 3000 / 120 / SERIE 4","SERIE 4",120,63,21000,3000,1210,"6 x 3,5",21,6]
["64,5 / 3000 / 120 / SERIE 4","SERIE 4",120,64.5,21500,3000,1210,"1 x 4 & 5 x 3,5",21.5,6]
["66 / 3000 / 120 / SERIE 4","SERIE 4",120,66,22000,3000,1210,"2 x 4 & 4 x 3,5",22,6]
["67,5 / 3000 / 120 / SERIE 4","SERIE 4",120,67.5,22500,3000,1210,"3 x 4 & 3 x 3,5",22.5,6]
["69 / 3000 / 120 / SERIE 4","SERIE 4",120,69,23000,3000,1210,"5 x 4 & 1 x 3",23,6]
["70,5 / 3000 / 120 / SERIE 4","SERIE 4",120,70.5,23500,3000,1210,"5 x 4 & 1 x 3,5",23.5,6]
["72 / 3000 / 120 / SERIE 4","SERIE 4",120,72,24000,3000,1210,"6 x 4",24,6]
["73,5 / 3000 / 120 / SERIE 4","SERIE 4",120,73.5,24500,3000,1210,"7 x 3,5",24.5,7]
["75 / 3000 / 120 / SERIE 4","SERIE 4",120,75,25000,3000,1210,"1 x 4 & 6 x 3,5",25,7]
["76,5 / 3000 / 120 / SERIE 4","SERIE 4",120,76.5,25500,3000,1210,"2 x 4 & 5 x 3,5",25.5,7]
["78 / 3000 / 120 / SERIE 4","SERIE 4",120,78,26000,3000,1210,"3 x 4 & 4 x 3,5",26,7]
["79,5 / 3000 / 120 / SERIE 4","SERIE 4",120,79.5,26500,3000,1210,"4 x 4 & 3 x 3,5",26.5,7]
["81 / 3000 / 120 / SERIE 4","SERIE 4",120,81,27000,3000,1210,"5 x 4 & 2 x 3,5",27,7]
["82,5 / 3000 / 120 / SERIE 4","SERIE 4",120,82.5,27500,3000,1210,"6 x 4 & 1 x 3,5",27.5,7]
["84 / 3000 / 120 / SERIE 4","SERIE 4",120,84,28000,3000,1210,"7 x 4",28,7]
["85,5 / 3000 / 120 / SERIE 4","SERIE 4",120,85.5,28500,3000,1210,"1 x 4 & 7 x 3,5",28.5,8]
["87 / 3000 / 120 / SERIE 4","SERIE 4",120,87,29000,3000,1210,"2 x 4 & 6 x 3,5",29,8]
["88,5 / 3000 / 120 / SERIE 4","SERIE 4",120,88.5,29500,3000,1210,"3 x 4 & 5 x 3,5",29.5,8]
["90 / 3000 / 120 / SERIE 4","SERIE 4",120,90,30000,3000,1210,"4 x 4 & 4 x 3,5",30,8]
["91,5 / 3000 / 120 / SERIE 4","SERIE 4",120,91.5,30500,3000,1210,"5 x 4 & 3 x 3,5",30.5,8]
["93 / 3000 / 120 / SERIE 4","SERIE 4",120,93,31000,3000,1210,"6 x 4 & 2 x 3,5",31,8]
["94,5 / 3000 / 120 / SERIE 4","SERIE 4",120,94.5,31500,3000,1210,"7 x 4 & 1 x 3,5",31.5,8]
["96 / 3000 / 120 / SERIE 4","SERIE 4",120,96,32000,3000,1210,"8 x 4",32,8]
["97,5 / 3000 / 120 / SERIE 4","SERIE 4",120,97.5,32500,3000,1210,"2 x 4 & 7 x 3,5",32.5,9]
["99 / 3000 / 120 / SERIE 4","SERIE 4",120,99,33000,3000,1210,"3 x 4 & 6 x 3,5",33,9]
["(100,5 / 3000 / 120 / SERIE 5)","SERIE 5",120,100.5,33500,3000,1210,"3 x 4 & 6 x 3,5",33.5,9,null,"100,5 / 3000 / 70 / SERIE 5"]
["(102 / 3000 / 120 / SERIE 5)","SERIE 5",120,102,34000,3000,1210,"3 x 4 & 6 x 3,5",34,9,null,"102 / 3000 / 70 / SERIE 5"]
["(103,5 / 3000 / 120 / SERIE 5)","SERIE 5",120,103.5,34500,3000,1210,"3 x 4 & 6 x 3,5",34.5,9,null,"103,5 / 3000 / 70 / SERIE 5"]
["(105 / 3000 / 120 / SERIE 5)","SERIE 5",120,105,35000,3000,1210,"3 x 4 & 6 x 3,5",35,9,null,"105 / 3000 / 70 / SERIE 5"]
["(106,5 / 3000 / 120 / SERIE 5)","SERIE 5",120,106.5,35500,3000,1210,"8 x 4 & 1 x 3,5",35.5,9,null,"106,5 / 3000 / 70 / SERIE 5"]
["(108 / 3000 / 120 / SERIE 5)","SERIE 5",120,108,36000,3000,1210,"9 x 4",36,9,null,"108 / 3000 / 70 / SERIE 5"]
["48 / 4000 / 120 / SERIE 4","SERIE 4",120,48,12000,4000,1210,"3 x 4",12,3,null,"48 / 4000 / 70 / SERIE 4"]
["50 / 4000 / 120 / SERIE 4","SERIE 4",120,50,12500,4000,1210,"1 x 3,5 & 3 x 3",12.5,4,null,"50 / 4000 / 70 / SERIE 4"]
["52 / 4000 / 120 / SERIE 4","SERIE 4",120,52,13000,4000,1210,"2 x 3,5 & 2 x 3",13,4,null,"52 / 4000 / 70 / SERIE 4"]
["54 / 4000 / 120 / SERIE 4","SERIE 4",120,54,13500,4000,1210,"3 x 3,5 & 1 x 3",13.5,4,null,"54 / 4000 / 70 / SERIE 4"]
["56 / 4000 / 120 / SERIE 4","SERIE 4",120,56,14000,4000,1210,"4 x 3,5",14,4,null,"56 / 4000 / 70 / SERIE 4"]
["58 / 4000 / 120 / SERIE 4","SERIE 4",120,58,14500,4000,1210,"1 x 4 & 3 x 3,5",14.5,4,null,"58 / 4000 / 70 / SERIE 4"]
["60 / 4000 / 120 / SERIE 4","SERIE 4",120,60,15000,4000,1210,"3 x 4 & 1 x 3",15,4,null,"60 / 4000 / 70 / SERIE 4"]
["62 / 4000 / 120 / SERIE 4","SERIE 4",120,62,15500,4000,1210,"3 x 4 & 1 x 3,5",15.5,4,null,"62 / 4000 / 70 / SERIE 4"]
["64 / 4000 / 120 / SERIE 4","SERIE 4",120,64,16000,4000,1210,"4 x 4",16,4,null,"64 / 4000 / 70 / SERIE 4"]
["66 / 4000 / 120 / SERIE 4","SERIE 4",120,66,16500,4000,1210,"3 x 3,5 & 2 x 3",16.5,5,null,"66 / 4000 / 70 / SERIE 4"]
["68 / 4000 / 120 / SERIE 4","SERIE 4",120,68,17000,4000,1210,"4 x 3,5 & 1 x 3",17,5,null,"68 / 4000 / 70 / SERIE 4"]
["70 / 4000 / 120 / SERIE 4","SERIE 4",120,70,17500,4000,1210,"5 x 3,5",17.5,5,null,"70 / 4000 / 70 / SERIE 4"]
["72 / 4000 / 120 / SERIE 4","SERIE 4",120,72,18000,4000,1210,"3 x 4 & 2 x 3",18,5,null,"72 / 4000 / 70 / SERIE 4"]
["74 / 4000 / 120 / SERIE 4","SERIE 4",120,74,18500,4000,1210,"2 x 4 & 3 x 3,5",18.5,5,null,"74 / 4000 / 70 / SERIE 4"]
["76 / 4000 / 120 / SERIE 4","SERIE 4",120,76,19000,4000,1210,"4 x 4 & 1 x 3",19,5,null,"76 / 4000 / 70 / SERIE 4"]
["78 / 4000 / 120 / SERIE 4","SERIE 4",120,78,19500,4000,1210,"4 x 4 & 1 x 3,5",19.5,5,null,"78 / 4000 / 70 / SERIE 4"]
["80 / 4000 / 120 / SERIE 4","SERIE 4",120,80,20000,4000,1210,"5 x 4",20,5,null,"80 / 4000 / 70 / SERIE 4"]
["82 / 4000 / 120 / SERIE 4","SERIE 4",120,82,20500,4000,1210,"5 x 3,5 & 1 x 3",20.5,6,null,"82 / 4000 / 70 / SERIE 4"]
["84 / 4000 / 120 / SERIE 4","SERIE 4",120,84,21000,4000,1210,"6 x 3,5",21,6,null,"84 / 4000 / 70 / SERIE 4"]
["86 / 4000 / 120 / SERIE 4","SERIE 4",120,86,21500,4000,1210,"1 x 4 & 5 x 3,5",21.5,6,null,"86 / 4000 / 70 / SERIE 4"]
["88 / 4000 / 120 / SERIE 4","SERIE 4",120,88,22000,4000,1210,"2 x 4 & 4 x 3,5",22,6,null,"88 / 4000 / 70 / SERIE 4"]
["90 / 4000 / 120 / SERIE 4","SERIE 4",120,90,22500,4000,1210,"3 x 4 & 3 x 3,5",22.5,6,null,"90 / 4000 / 70 / SERIE 4"]
["92 / 4000 / 120 / SERIE 4","SERIE 4",120,92,23000,4000,1210,"5 x 4 & 1 x 3",23,6,null,"92 / 4000 / 70 / SERIE 4"]
["94 / 4000 / 120 / SERIE 4","SERIE 4",120,94,23500,4000,1210,"5 x 4 & 1 x 3,5",23.5,6,null,"94 / 4000 / 70 / SERIE 4"]
["96 / 4000 / 120 / SERIE 4","SERIE 4",120,96,24000,4000,1210,"6 x 4",24,6,null,"96 / 4000 / 70 / SERIE 4"]
["98 / 4000 / 120 / SERIE 4","SERIE 4",120,98,24500,4000,1210,"7 x 3,5",24.5,7,null,"98 / 4000 / 70 / SERIE 4"]
["100 / 4000 / 120 / SERIE 4","SERIE 4",120,100,25000,4000,1210,"1 x 4 & 6 x 3,5",25,7,null,"100 / 4000 / 70 / SERIE 4"]
["102 / 4000 / 120 / SERIE 4","SERIE 4",120,102,25500,4000,1210,"2 x 4 & 5 x 3,5",25.5,7,null,"102 / 4000 / 70 / SERIE 4"]
["104 / 4000 / 120 / SERIE 4","SERIE 4",120,104,26000,4000,1210,"3 x 4 & 4 x 3,5",26,7,null,"104 / 4000 / 70 / SERIE 4"]
["106 / 4000 / 120 / SERIE 4","SERIE 4",120,106,26500,4000,1210,"4 x 4 & 3 x 3,5",26.5,7,null,"106 / 4000 / 70 / SERIE 4"]
["108 / 4000 / 120 / SERIE 4","SERIE 4",120,108,27000,4000,1210,"5 x 4 & 2 x 3,5",27,7,null,"108 / 4000 / 70 / SERIE 4"]
["110 / 4000 / 120 / SERIE 4","SERIE 4",120,110,27500,4000,1210,"6 x 4 & 1 x 3,5",27.5,7,null,"110 / 4000 / 70 / SERIE 4"]
["112 / 4000 / 120 / SERIE 4","SERIE 4",120,112,28000,4000,1210,"7 x 4",28,7,null,"112 / 4000 / 70 / SERIE 4"]
["114 / 4000 / 120 / SERIE 4","SERIE 4",120,114,28500,4000,1210,"1 x 4 & 7 x 3,5",28.5,8,null,"114 / 4000 / 70 / SERIE 4"]
["116 / 4000 / 120 / SERIE 4","SERIE 4",120,116,29000,4000,1210,"2 x 4 & 6 x 3,5",29,8,null,"116 / 4000 / 70 / SERIE 4"]
["118 / 4000 / 120 / SERIE 4","SERIE 4",120,118,29500,4000,1210,"3 x 4 & 5 x 3,5",29.5,8,null,"118 / 4000 / 70 / SERIE 4"]
["120 / 4000 / 120 / SERIE 4","SERIE 4",120,120,30000,4000,1210,"4 x 4 & 4 x 3,5",30,8,null,"120 / 4000 / 70 / SERIE 4"]
["122 / 4000 / 120 / SERIE 4","SERIE 4",120,122,30500,4000,1210,"5 x 4 & 3 x 3,5",30.5,8,null,"122 / 4000 / 70 / SERIE 4"]
["124 / 4000 / 120 / SERIE 4","SERIE 4",120,124,31000,4000,1210,"6 x 4 & 2 x 3,5",31,8,null,"124 / 4000 / 70 / SERIE 4"]
["126 / 4000 / 120 / SERIE 4","SERIE 4",120,126,31500,4000,1210,"7 x 4 & 1 x 3,5",31.5,8,null,"126 / 4000 / 70 / SERIE 4"]
["128 / 4000 / 120 / SERIE 4","SERIE 4",120,128,32000,4000,1210,"8 x 4",32,8,null,"128 / 4000 / 70 / SERIE 4"]
["130 / 4000 / 120 / SERIE 4","SERIE 4",120,130,32500,4000,1210,"2 x 4 & 7 x 3,5",32.5,9,null,"130 / 4000 / 70 / SERIE 4"]
["132 / 4000 / 120 / SERIE 4","SERIE 4",120,132,33000,4000,1210,"3 x 4 & 6 x 3,5",33,9,null,"132 / 4000 / 70 / SERIE 4"]
["134 / 4000 / 120 / SERIE 4","SERIE 4",120,134,33500,4000,1210,"3 x 4 & 6 x 3,5",33.5,9,null,"134 / 4000 / 70 / SERIE 4"]
["136 / 4000 / 120 / SERIE 4","SERIE 4",120,136,34000,4000,1210,"3 x 4 & 6 x 3,5",34,9,null,"136 / 4000 / 70 / SERIE 4"]
["56,7 / 4200 / 120 / SERIE 4","SERIE 4",120,56.7,13500,4200,1210,"3 x 3,5 & 1 x 3",13.5,4]
["58,8 / 4200 / 120 / SERIE 4","SERIE 4",120,58.8,14000,4200,1210,"4 x 3,5",14,4]
["60,9 / 4200 / 120 / SERIE 4","SERIE 4",120,60.9,14500,4200,1210,"1 x 4 & 3 x 3,5",14.5,4]
["63 / 4200 / 120 / SERIE 4","SERIE 4",120,63,15000,4200,1210,"3 x 4 & 1 x 3",15,4]
["65,1 / 4200 / 120 / SERIE 4","SERIE 4",120,65.099999999999994,15500,4200,1210,"3 x 4 & 1 x 3,5",15.5,4]
["67,2 / 4200 / 120 / SERIE 4","SERIE 4",120,67.2,16000,4200,1210,"4 x 4",16,4]
["69,3 / 4200 / 120 / SERIE 4","SERIE 4",120,69.3,16500,4200,1210,"3 x 3,5 & 2 x 3",16.5,5]
["71,4 / 4200 / 120 / SERIE 4","SERIE 4",120,71.400000000000006,17000,4200,1210,"4 x 3,5 & 1 x 3",17,5]
["73,5 / 4200 / 120 / SERIE 4","SERIE 4",120,73.5,17500,4200,1210,"5 x 3,5",17.5,5]
["75,6 / 4200 / 120 / SERIE 4","SERIE 4",120,75.599999999999994,18000,4200,1210,"3 x 4 & 2 x 3",18,5]
["77,7 / 4200 / 120 / SERIE 4","SERIE 4",120,77.7,18500,4200,1210,"2 x 4 & 3 x 3,5",18.5,5]
["79,8 / 4200 / 120 / SERIE 4","SERIE 4",120,79.8,19000,4200,1210,"4 x 4 & 1 x 3",19,5]
["81,9 / 4200 / 120 / SERIE 4","SERIE 4",120,81.900000000000006,19500,4200,1210,"4 x 4 & 1 x 3,5",19.5,5]
["84 / 4200 / 120 / SERIE 4","SERIE 4",120,84,20000,4200,1210,"5 x 4",20,5]
["86,1 / 4200 / 120 / SERIE 4","SERIE 4",120,86.1,20500,4200,1210,"5 x 3,5 & 1 x 3",20.5,6]
["88,2 / 4200 / 120 / SERIE 4","SERIE 4",120,88.2,21000,4200,1210,"6 x 3,5",21,6]
["90,3 / 4200 / 120 / SERIE 4","SERIE 4",120,90.3,21500,4200,1210,"1 x 4 & 5 x 3,5",21.5,6]
["92,4 / 4200 / 120 / SERIE 4","SERIE 4",120,92.4,22000,4200,1210,"2 x 4 & 4 x 3,5",22,6]
["94,5 / 4200 / 120 / SERIE 4","SERIE 4",120,94.5,22500,4200,1210,"3 x 4 & 3 x 3,5",22.5,6]
["96,6 / 4200 / 120 / SERIE 4","SERIE 4",120,96.6,23000,4200,1210,"5 x 4 & 1 x 3",23,6]
["98,7 / 4200 / 120 / SERIE 4","SERIE 4",120,98.7,23500,4200,1210,"5 x 4 & 1 x 3,5",23.5,6]
["100,8 / 4200 / 120 / SERIE 4","SERIE 4",120,100.8,24000,4200,1210,"6 x 4",24,6]
["102,9 / 4200 / 120 / SERIE 4","SERIE 4",120,102.9,24500,4200,1210,"7 x 3,5",24.5,7]
["105 / 4200 / 120 / SERIE 4","SERIE 4",120,105,25000,4200,1210,"1 x 4 & 6 x 3,5",25,7]
["107,1 / 4200 / 120 / SERIE 4","SERIE 4",120,107.1,25500,4200,1210,"2 x 4 & 5 x 3,5",25.5,7]
["109,2 / 4200 / 120 / SERIE 4","SERIE 4",120,109.2,26000,4200,1210,"3 x 4 & 4 x 3,5",26,7]
["111,3 / 4200 / 120 / SERIE 4","SERIE 4",120,111.3,26500,4200,1210,"4 x 4 & 3 x 3,5",26.5,7]
["113,4 / 4200 / 120 / SERIE 4","SERIE 4",120,113.4,27000,4200,1210,"5 x 4 & 2 x 3,5",27,7]
["115,5 / 4200 / 120 / SERIE 4","SERIE 4",120,115.5,27500,4200,1210,"6 x 4 & 1 x 3,5",27.5,7]
["117,6 / 4200 / 120 / SERIE 4","SERIE 4",120,117.6,28000,4200,1210,"7 x 4",28,7]
["119,7 / 4200 / 120 / SERIE 4","SERIE 4",120,119.7,28500,4200,1210,"1 x 4 & 7 x 3,5",28.5,8]
["121,8 / 4200 / 120 / SERIE 4","SERIE 4",120,121.8,29000,4200,1210,"2 x 4 & 6 x 3,5",29,8]
["123,9 / 4200 / 120 / SERIE 4","SERIE 4",120,123.9,29500,4200,1210,"3 x 4 & 5 x 3,5",29.5,8]
["126 / 4200 / 120 / SERIE 4","SERIE 4",120,126,30000,4200,1210,"4 x 4 & 4 x 3,5",30,8]
["128,1 / 4200 / 120 / SERIE 4","SERIE 4",120,128.1,30500,4200,1210,"5 x 4 & 3 x 3,5",30.5,8]
["130,2 / 4200 / 120 / SERIE 4","SERIE 4",120,130.19999999999999,31000,4200,1210,"6 x 4 & 2 x 3,5",31,8]
["132,3 / 4200 / 120 / SERIE 4","SERIE 4",120,132.30000000000001,31500,4200,1210,"7 x 4 & 1 x 3,5",31.5,8]
["134,4 / 4200 / 120 / SERIE 4","SERIE 4",120,134.4,32000,4200,1210,"8 x 4",32,8]
["136,5 / 4200 / 120 / SERIE 4","SERIE 4",120,136.5,32500,4200,1210,"2 x 4 & 7 x 3,5",32.5,9]
["138,6 / 4200 / 120 / SERIE 4","SERIE 4",120,138.6,33000,4200,1210,"3 x 4 & 6 x 3,5",33,9]
["140,7 / 4200 / 120 / SERIE 4","SERIE 4",120,140.69999999999999,33500,4200,1210,"3 x 4 & 6 x 3,5",33.5,9]
["142,8 / 4200 / 120 / SERIE 4","SERIE 4",120,142.80000000000001,34000,4200,1210,"3 x 4 & 6 x 3,5",34,9]
["144,9 / 4200 / 120 / SERIE 5","SERIE 5",120,144.9,34500,4200,1210,"3 x 4 & 6 x 3,5",34.5,9]
["147 / 4200 / 120 / SERIE 5","SERIE 5",120,147,35000,4200,1400,"3 x 4 & 6 x 3,5",35,9]
["149,1 / 4200 / 120 / SERIE 5","SERIE 5",120,149.1,35500,4200,1400,"8 x 4 & 1 x 3,5",35.5,9]
["151,2 / 4200 / 120 / SERIE 5","SERIE 5",120,151.19999999999999,36000,4200,1400,"9 x 4",36,9]
["153,3 / 4200 / 120 / SERIE 5","SERIE 5",120,153.30000000000001,36500,4200,1400,"3 x 4 & 7 x 3,5",36.5,10]
["155,4 / 4200 / 120 / SERIE 5","SERIE 5",120,155.4,37000,4200,1400,"4 x 4 & 6 x 3,5",37,10]
["157,5 / 4200 / 120 / SERIE 5","SERIE 5",120,157.5,37500,4200,1400,"5 x 4 & 5 x 3,5",37.5,10]
["159,6 / 4200 / 120 / SERIE 5","SERIE 5",120,159.6,38000,4200,1400,"6 x 4 & 4 x 3,5",38,10]
["161,7 / 4200 / 120 / SERIE 5","SERIE 5",120,161.69999999999999,38500,4200,1400,"7 x 4 & 3 x 3,5",38.5,10]
["163,8 / 4200 / 120 / SERIE 5","SERIE 5",120,163.80000000000001,39000,4200,1400,"8 x 4 & 2 x 3,5",39,10]
["165,9 / 4200 / 120 / SERIE 5","SERIE 5",120,165.9,39500,4200,1400,"9 x 4 & 1 x 3,5",39.5,10]
["168 / 4200 / 120 / SERIE 5","SERIE 5",120,168,40000,4200,1400,"10 x 4",40,10]
["162 / 6000 / 120 / SERIE 5","SERIE 5",120,162,27000,6000,1800,"5 x 4 & 2 x 3,5",27,7]
["180 / 6000 / 120 / SERIE 5","SERIE 5",120,180,30000,6000,1800,"4 x 4 & 4 x 3,5",30,8]
["216 / 6000 / 120 / SERIE 5","SERIE 5",120,216,36000,6000,1800,"9 x 4",36,9]
["256 / 8000 / 120 / SERIE 5","SERIE 5",120,256,32000,8000,1800,"8 x 4",32,8]
["10,13 / 2250 / 120 / SERIE 3","SERIE 3",120,10.130000000000001,4500,2250,935,"2,5 + 2",4.5,2]
["11,25 / 2250 / 120 / SERIE 3","SERIE 3",120,11.25,5000,2250,935,"2,5 x 2",5,2]
["12,38 / 2250 / 120 / SERIE 3","SERIE 3",120,12.38,5500,2250,935,"1 x 3 & 1 x 2,5",5.5,2]
["13,5 / 2250 / 120 / SERIE 3","SERIE 3",120,13.5,6000,2250,935,"2 x 3",6,2]
["14,63 / 2250 / 120 / SERIE 3","SERIE 3",120,14.63,6500,2250,935,"1 x 3,5 & 1 x 3",6.5,2]
["15,75 / 2250 / 120 / SERIE 3","SERIE 3",120,15.75,7000,2250,935,"2 x 3,5",7,2]
["16,88 / 2250 / 120 / SERIE 3","SERIE 3",120,16.88,7500,2250,935,"3 x 2,5",7.5,3]
["18 / 2250 / 120 / SERIE 3","SERIE 3",120,18,8000,2250,935,"1 x 3 & 2 x 2,5",8,3]
["19,13 / 2250 / 120 / SERIE 3","SERIE 3",120,19.13,8500,2250,935,"2 x 3 & 1 x 2,5",8.5,3]
["20,25 / 2250 / 120 / SERIE 3","SERIE 3",120,20.25,9000,2250,935,"3 x 3",9,3]
["21,38 / 2250 / 120 / SERIE 3","SERIE 3",120,21.38,9500,2250,935,"1 x 3,5 & 2 x 3",9.5,3]
["22,5 / 2250 / 120 / SERIE 3","SERIE 3",120,22.5,10000,2250,935,"2 x 3,5 & 1 x 3",10,3]
["23,63 / 2250 / 120 / SERIE 3","SERIE 3",120,23.63,10500,2250,935,"3 x 3,5",10.5,3]
["24,75 / 2250 / 120 / SERIE 3","SERIE 3",120,24.75,11000,2250,935,"2 x 4 & 1 x 3",11,3]
["25,88 / 2250 / 120 / SERIE 3","SERIE 3",120,25.88,11500,2250,935,"2 x 4 & 1 x 3,5",11.5,3]
["27 / 2250 / 120 / SERIE 3","SERIE 3",120,27,12000,2250,935,"3 x 4",12,3]
["28,13 / 2250 / 120 / SERIE 3","SERIE 3",120,28.13,12500,2250,935,"1 x 3,5 & 3 x 3",12.5,4]
["29,25 / 2250 / 120 / SERIE 3","SERIE 3",120,29.25,13000,2250,935,"2 x 3,5 & 2 x 3",13,4]
["30,38 / 2250 / 120 / SERIE 3","SERIE 3",120,30.38,13500,2250,935,"3 x 3,5 & 1 x 3",13.5,4]
["31,5 / 2250 / 120 / SERIE 3","SERIE 3",120,31.5,14000,2250,935,"4 x 3,5",14,4]
["32,63 / 2250 / 120 / SERIE 3","SERIE 3",120,32.630000000000003,14500,2250,935,"1 x 4 & 3 x 3,5",14.5,4]
["33,75 / 2250 / 120 / SERIE 3","SERIE 3",120,33.75,15000,2250,935,"3 x 4 & 1 x 3",15,4]
["34,88 / 2250 / 120 / SERIE 3","SERIE 3",120,34.880000000000003,15500,2250,935,"3 x 4 & 1 x 3,5",15.5,4]
["36 / 2250 / 120 / SERIE 3","SERIE 3",120,36,16000,2250,935,"4 x 4",16,4]
["37,13 / 2250 / 120 / SERIE 3","SERIE 3",120,37.130000000000003,16500,2250,935,"3 x 3,5 & 2 x 3",16.5,5]
["38,25 / 2250 / 120 / SERIE 3","SERIE 3",120,38.25,17000,2250,935,"4 x 3,5 & 1 x 3",17,5]
["39,38 / 2250 / 120 / SERIE 3","SERIE 3",120,39.380000000000003,17500,2250,935,"5 x 3,5",17.5,5]
["40,5 / 2250 / 120 / SERIE 3","SERIE 3",120,40.5,18000,2250,935,"3 x 4 & 2 x 3",18,5]
["41,63 / 2250 / 120 / SERIE 3","SERIE 3",120,41.63,18500,2250,935,"2 x 4 & 3 x 3,5",18.5,5]
["42,75 / 2250 / 120 / SERIE 3","SERIE 3",120,42.75,19000,2250,935,"4 x 4 & 1 x 3",19,5]
["43,88 / 2250 / 120 / SERIE 4","SERIE 4",120,43.88,19500,2250,1210,"4 x 4 & 1 x 3,5",19.5,5]
["45 / 2250 / 120 / SERIE 4","SERIE 4",120,45,20000,2250,1210,"5 x 4",20,5]
["46,13 / 2250 / 120 / SERIE 4","SERIE 4",120,46.13,20500,2250,1210,"5 x 3,5 & 1 x 3",20.5,6]
["47,25 / 2250 / 120 / SERIE 4","SERIE 4",120,47.25,21000,2250,1210,"6 x 3,5",21,6]
["48,38 / 2250 / 120 / SERIE 4","SERIE 4",120,48.38,21500,2250,1210,"1 x 4 & 5 x 3,5",21.5,6]
["49,5 / 2250 / 120 / SERIE 4","SERIE 4",120,49.5,22000,2250,1210,"2 x 4 & 4 x 3,5",22,6]
["50,63 / 2250 / 120 / SERIE 4","SERIE 4",120,50.63,22500,2250,1210,"3 x 4 & 3 x 3,5",22.5,6]
["36,75 / 3500 / 120 / SERIE 4","SERIE 4",120,36.75,10500,3500,1210,"3 x 3,5",10.5,3]
["38,5 / 3500 / 120 / SERIE 4","SERIE 4",120,38.5,11000,3500,1210,"2 x 4 & 1 x 3",11,3]
["40,25 / 3500 / 120 / SERIE 4","SERIE 4",120,40.25,11500,3500,1210,"2 x 4 & 1 x 3,5",11.5,3]
["42 / 3500 / 120 / SERIE 4","SERIE 4",120,42,12000,3500,1210,"3 x 4",12,3]
["43,75 / 3500 / 120 / SERIE 4","SERIE 4",120,43.75,12500,3500,1210,"1 x 3,5 & 3 x 3",12.5,4]
["45,5 / 3500 / 120 / SERIE 4","SERIE 4",120,45.5,13000,3500,1210,"2 x 3,5 & 2 x 3",13,4]
["47,25 / 3500 / 120 / SERIE 4","SERIE 4",120,47.25,13500,3500,1210,"3 x 3,5 & 1 x 3",13.5,4]
["49 / 3500 / 120 / SERIE 4","SERIE 4",120,49,14000,3500,1210,"4 x 3,5",14,4]
["50,75 / 3500 / 120 / SERIE 4","SERIE 4",120,50.75,14500,3500,1210,"1 x 4 & 3 x 3,5",14.5,4]
["52,5 / 3500 / 120 / SERIE 4","SERIE 4",120,52.5,15000,3500,1210,"3 x 4 & 1 x 3",15,4]
["54,25 / 3500 / 120 / SERIE 4","SERIE 4",120,54.25,15500,3500,1210,"3 x 4 & 1 x 3,5",15.5,4]
["56 / 3500 / 120 / SERIE 4","SERIE 4",120,56,16000,3500,1210,"4 x 4",16,4]
["57,75 / 3500 / 120 / SERIE 4","SERIE 4",120,57.75,16500,3500,1210,"3 x 3,5 & 2 x 3",16.5,5]
["59,5 / 3500 / 120 / SERIE 4","SERIE 4",120,59.5,17000,3500,1210,"4 x 3,5 & 1 x 3",17,5]
["61,25 / 3500 / 120 / SERIE 4","SERIE 4",120,61.25,17500,3500,1210,"5 x 3,5",17.5,5]
["63 / 3500 / 120 / SERIE 4","SERIE 4",120,63,18000,3500,1210,"3 x 4 & 2 x 3",18,5]
["64,75 / 3500 / 120 / SERIE 4","SERIE 4",120,64.75,18500,3500,1210,"2 x 4 & 3 x 3,5",18.5,5]
["66,5 / 3500 / 120 / SERIE 4","SERIE 4",120,66.5,19000,3500,1210,"4 x 4 & 1 x 3",19,5]
["68,25 / 3500 / 120 / SERIE 4","SERIE 4",120,68.25,19500,3500,1210,"4 x 4 & 1 x 3,5",19.5,5]
["70 / 3500 / 120 / SERIE 4","SERIE 4",120,70,20000,3500,1210,"5 x 4",20,5]
["71,75 / 3500 / 120 / SERIE 4","SERIE 4",120,71.75,20500,3500,1210,"5 x 3,5 & 1 x 3",20.5,6]
["73,5 / 3500 / 120 / SERIE 4","SERIE 4",120,73.5,21000,3500,1210,"6 x 3,5",21,6]
["75,25 / 3500 / 120 / SERIE 4","SERIE 4",120,75.25,21500,3500,1210,"1 x 4 & 5 x 3,5",21.5,6]
["77 / 3500 / 120 / SERIE 4","SERIE 4",120,77,22000,3500,1210,"2 x 4 & 4 x 3,5",22,6]
["78,75 / 3500 / 120 / SERIE 4","SERIE 4",120,78.75,22500,3500,1210,"3 x 4 & 3 x 3,5",22.5,6]
["80,5 / 3500 / 120 / SERIE 4","SERIE 4",120,80.5,23000,3500,1210,"5 x 4 & 1 x 3",23,6]
["82,25 / 3500 / 120 / SERIE 4","SERIE 4",120,82.25,23500,3500,1210,"5 x 4 & 1 x 3,5",23.5,6]
["84 / 3500 / 120 / SERIE 4","SERIE 4",120,84,24000,3500,1210,"6 x 4",24,6]
["85,75 / 3500 / 120 / SERIE 4","SERIE 4",120,85.75,24500,3500,1210,"7 x 3,5",24.5,7]
["87,5 / 3500 / 120 / SERIE 4","SERIE 4",120,87.5,25000,3500,1210,"1 x 4 & 6 x 3,5",25,7]
["89,25 / 3500 / 120 / SERIE 4","SERIE 4",120,89.25,25500,3500,1210,"2 x 4 & 5 x 3,5",25.5,7]
["91 / 3500 / 120 / SERIE 4","SERIE 4",120,91,26000,3500,1210,"3 x 4 & 4 x 3,5",26,7]
["92,75 / 3500 / 120 / SERIE 4","SERIE 4",120,92.75,26500,3500,1210,"4 x 4 & 3 x 3,5",26.5,7]
["94,5 / 3500 / 120 / SERIE 4","SERIE 4",120,94.5,27000,3500,1210,"5 x 4 & 2 x 3,5",27,7]
["96,25 / 3500 / 120 / SERIE 4","SERIE 4",120,96.25,27500,3500,1210,"6 x 4 & 1 x 3,5",27.5,7]
["98 / 3500 / 120 / SERIE 4","SERIE 4",120,98,28000,3500,1210,"7 x 4",28,7]
["99,75 / 3500 / 120 / SERIE 4","SERIE 4",120,99.75,28500,3500,1210,"1 x 4 & 7 x 3,5",28.5,8]
["101,5 / 3500 / 120 / SERIE 4","SERIE 4",120,101.5,29000,3500,1210,"2 x 4 & 6 x 3,5",29,8]
["103,25 / 3500 / 120 / SERIE 4","SERIE 4",120,103.25,29500,3500,1210,"3 x 4 & 5 x 3,5",29.5,8]
["105 / 3500 / 120 / SERIE 4","SERIE 4",120,105,30000,3500,1210,"4 x 4 & 4 x 3,5",30,8]
["106,75 / 3500 / 120 / SERIE 4","SERIE 4",120,106.75,30500,3500,1210,"5 x 4 & 3 x 3,5",30.5,8]
["108,5 / 3500 / 120 / SERIE 4","SERIE 4",120,108.5,31000,3500,1210,"6 x 4 & 2 x 3,5",31,8]
["110,25 / 3500 / 120 / SERIE 4","SERIE 4",120,110.25,31500,3500,1210,"7 x 4 & 1 x 3,5",31.5,8]
["112 / 3500 / 120 / SERIE 4","SERIE 4",120,112,32000,3500,1210,"8 x 4",32,8]
["113,75 / 3500 / 120 / SERIE 4","SERIE 4",120,113.75,32500,3500,1210,"2 x 4 & 7 x 3,5",32.5,9]
["115,5 / 3500 / 120 / SERIE 4","SERIE 4",120,115.5,33000,3500,1210,"3 x 4 & 6 x 3,5",33,9]
["117,25 / 3500 / 120 / SERIE 4","SERIE 4",120,117.25,33500,3500,1210,"3 x 4 & 6 x 3,5",33.5,9]
["119 / 3500 / 120 / SERIE 5","SERIE 5",120,119,34000,3500,1400,"3 x 4 & 6 x 3,5",34,9]
["120,75 / 3500 / 120 / SERIE 5","SERIE 5",120,120.75,34500,3500,1400,"3 x 4 & 6 x 3,5",34.5,9]
["122,5 / 3500 / 120 / SERIE 5","SERIE 5",120,122.5,35000,3500,1400,"3 x 4 & 6 x 3,5",35,9]
["124,25 / 3500 / 120 / SERIE 5","SERIE 5",120,124.25,35500,3500,1400,"8 x 4 & 1 x 3,5",35.5,9]
["126 / 3500 / 120 / SERIE 5","SERIE 5",120,126,36000,3500,1400,"9 x 4",36,9]
["127,75 / 3500 / 120 / SERIE 5","SERIE 5",120,127.75,36500,3500,1400,"3 x 4 & 7 x 3,5",36.5,10]
["129,5 / 3500 / 120 / SERIE 5","SERIE 5",120,129.5,37000,3500,1400,"4 x 4 & 6 x 3,5",37,10]
["Series Speciales T 120"]
["(37,8 / 4200 / 120 / SERIE 5)","SERIE 5",120,37.799999999999997,9000,4200,1400,"3 x 3",9,3]
["(38 / 4000 / 120 / SERIE 4)","SERIE 4",120,38,9500,4000,1210,"1 x 3,5 & 2 x 3",9.5,3]
["(10 / 1000 / 120 / SERIE 3)","SERIE 3",120,10,10000,1000,935,"2 x 3,5 & 1 x 3",10,3]
["(35,91 / 2850 / 70 / SERIE 4)","SERIE 4",70,35.909999999999997,12600,2850,1210,"1 x 3,5 & 3 x 3",12.6,4]
["(42 / 4000 / 120 / SERIE 4)","SERIE 4",120,42,10500,4000,1210,"3 x 3,5",10.5,3]
["(120 / 3000 / 70 / SERIE 5)","SERIE 5",70,120,40000,3000,1400,"10 x 4",40,10]
["10,13 / 2250 / 120 / SERIE 3","SERIE 3",120,10.130000000000001,4500,2250,935,"2,5 + 2",4.5,2]
["11,25 / 2250 / 120 / SERIE 3","SERIE 3",120,11.25,5000,2250,935,"2,5 x 2",5,2]
["12,38 / 2250 / 120 / SERIE 3","SERIE 3",120,12.38,5500,2250,935,"1 x 3 & 1 x 2,5",5.5,2]
["13,5 / 2250 / 120 / SERIE 3","SERIE 3",120,13.5,6000,2250,935,"2 x 3",6,2]
["14,63 / 2250 / 120 / SERIE 3","SERIE 3",120,14.63,6500,2250,935,"1 x 3,5 & 1 x 3",6.5,2]
["15,75 / 2250 / 120 / SERIE 3","SERIE 3",120,15.75,7000,2250,935,"2 x 3,5",7,2]
["16,88 / 2250 / 120 / SERIE 3","SERIE 3",120,16.88,7500,2250,935,"3 x 2,5",7.5,3]
["18 / 2250 / 120 / SERIE 3","SERIE 3",120,18,8000,2250,935,"1 x 3 & 2 x 2,5",8,3]
["19,13 / 2250 / 120 / SERIE 3","SERIE 3",120,19.13,8500,2250,935,"2 x 3 & 1 x 2,5",8.5,3]
["20,25 / 2250 / 120 / SERIE 3","SERIE 3",120,20.25,9000,2250,935,"3 x 3",9,3]
["21,38 / 2250 / 120 / SERIE 3","SERIE 3",120,21.38,9500,2250,935,"1 x 3,5 & 2 x 3",9.5,3]
["22,5 / 2250 / 120 / SERIE 3","SERIE 3",120,22.5,10000,2250,935,"2 x 3,5 & 1 x 3",10,3]
["23,63 / 2250 / 120 / SERIE 3","SERIE 3",120,23.63,10500,2250,935,"3 x 3,5",10.5,3]
["24,75 / 2250 / 120 / SERIE 3","SERIE 3",120,24.75,11000,2250,935,"2 x 4 & 1 x 3",11,3]
["25,88 / 2250 / 120 / SERIE 3","SERIE 3",120,25.88,11500,2250,935,"2 x 4 & 1 x 3,5",11.5,3]
["27 / 2250 / 120 / SERIE 3","SERIE 3",120,27,12000,2250,935,"3 x 4",12,3]
["28,13 / 2250 / 120 / SERIE 3","SERIE 3",120,28.13,12500,2250,935,"1 x 3,5 & 3 x 3",12.5,4]
["29,25 / 2250 / 120 / SERIE 3","SERIE 3",120,29.25,13000,2250,935,"2 x 3,5 & 2 x 3",13,4]
["30,38 / 2250 / 120 / SERIE 3","SERIE 3",120,30.38,13500,2250,935,"3 x 3,5 & 1 x 3",13.5,4]
["31,5 / 2250 / 120 / SERIE 3","SERIE 3",120,31.5,14000,2250,935,"4 x 3,5",14,4]
["32,63 / 2250 / 120 / SERIE 3","SERIE 3",120,32.630000000000003,14500,2250,935,"1 x 4 & 3 x 3,5",14.5,4]
["33,75 / 2250 / 120 / SERIE 3","SERIE 3",120,33.75,15000,2250,935,"3 x 4 & 1 x 3",15,4]
["34,88 / 2250 / 120 / SERIE 3","SERIE 3",120,34.880000000000003,15500,2250,935,"3 x 4 & 1 x 3,5",15.5,4]
["36 / 2250 / 120 / SERIE 3","SERIE 3",120,36,16000,2250,935,"4 x 4",16,4]
["37,13 / 2250 / 120 / SERIE 3","SERIE 3",120,37.130000000000003,16500,2250,935,"3 x 3,5 & 2 x 3",16.5,5]
["38,25 / 2250 / 120 / SERIE 3","SERIE 3",120,38.25,17000,2250,935,"4 x 3,5 & 1 x 3",17,5]
["39,38 / 2250 / 120 / SERIE 3","SERIE 3",120,39.380000000000003,17500,2250,935,"5 x 3,5",17.5,5]
["40,5 / 2250 / 120 / SERIE 3","SERIE 3",120,40.5,18000,2250,935,"3 x 4 & 2 x 3",18,5]
["41,63 / 2250 / 120 / SERIE 3","SERIE 3",120,41.63,18500,2250,935,"2 x 4 & 3 x 3,5",18.5,5]
["42,75 / 2250 / 120 / SERIE 3","SERIE 3",120,42.75,19000,2250,935,"4 x 4 & 1 x 3",19,5]
["43,88 / 2250 / 120 / SERIE 4","SERIE 4",120,43.88,19500,2250,1210,"4 x 4 & 1 x 3,5",19.5,5]
["45 / 2250 / 120 / SERIE 4","SERIE 4",120,45,20000,2250,1210,"5 x 4",20,5]
["46,13 / 2250 / 120 / SERIE 4","SERIE 4",120,46.13,20500,2250,1210,"5 x 3,5 & 1 x 3",20.5,6]
["47,25 / 2250 / 120 / SERIE 4","SERIE 4",120,47.25,21000,2250,1210,"6 x 3,5",21,6]
["48,38 / 2250 / 120 / SERIE 4","SERIE 4",120,48.38,21500,2250,1210,"1 x 4 & 5 x 3,5",21.5,6]
["49,5 / 2250 / 120 / SERIE 4","SERIE 4",120,49.5,22000,2250,1210,"2 x 4 & 4 x 3,5",22,6]
["50,63 / 2250 / 120 / SERIE 4","SERIE 4",120,50.63,22500,2250,1210,"3 x 4 & 3 x 3,5",22.5,6]
["36,75 / 3500 / 120 / SERIE 4","SERIE 4",120,36.75,10500,3500,1210,"3 x 3,5",10.5,3]
["38,5 / 3500 / 120 / SERIE 4","SERIE 4",120,38.5,11000,3500,1210,"2 x 4 & 1 x 3",11,3]
["40,25 / 3500 / 120 / SERIE 4","SERIE 4",120,40.25,11500,3500,1210,"2 x 4 & 1 x 3,5",11.5,3]
["42 / 3500 / 120 / SERIE 4","SERIE 4",120,42,12000,3500,1210,"3 x 4",12,3]
["43,75 / 3500 / 120 / SERIE 4","SERIE 4",120,43.75,12500,3500,1210,"1 x 3,5 & 3 x 3",12.5,4]
["45,5 / 3500 / 120 / SERIE 4","SERIE 4",120,45.5,13000,3500,1210,"2 x 3,5 & 2 x 3",13,4]
["47,25 / 3500 / 120 / SERIE 4","SERIE 4",120,47.25,13500,3500,1210,"3 x 3,5 & 1 x 3",13.5,4]
["49 / 3500 / 120 / SERIE 4","SERIE 4",120,49,14000,3500,1210,"4 x 3,5",14,4]
["50,75 / 3500 / 120 / SERIE 4","SERIE 4",120,50.75,14500,3500,1210,"1 x 4 & 3 x 3,5",14.5,4]
["52,5 / 3500 / 120 / SERIE 4","SERIE 4",120,52.5,15000,3500,1210,"3 x 4 & 1 x 3",15,4]
["54,25 / 3500 / 120 / SERIE 4","SERIE 4",120,54.25,15500,3500,1210,"3 x 4 & 1 x 3,5",15.5,4]
["56 / 3500 / 120 / SERIE 4","SERIE 4",120,56,16000,3500,1210,"4 x 4",16,4]
["57,75 / 3500 / 120 / SERIE 4","SERIE 4",120,57.75,16500,3500,1210,"3 x 3,5 & 2 x 3",16.5,5]
["59,5 / 3500 / 120 / SERIE 4","SERIE 4",120,59.5,17000,3500,1210,"4 x 3,5 & 1 x 3",17,5]
["61,25 / 3500 / 120 / SERIE 4","SERIE 4",120,61.25,17500,3500,1210,"5 x 3,5",17.5,5]
["63 / 3500 / 120 / SERIE 4","SERIE 4",120,63,18000,3500,1210,"3 x 4 & 2 x 3",18,5]
["64,75 / 3500 / 120 / SERIE 4","SERIE 4",120,64.75,18500,3500,1210,"2 x 4 & 3 x 3,5",18.5,5]
["66,5 / 3500 / 120 / SERIE 4","SERIE 4",120,66.5,19000,3500,1210,"4 x 4 & 1 x 3",19,5]
["68,25 / 3500 / 120 / SERIE 4","SERIE 4",120,68.25,19500,3500,1210,"4 x 4 & 1 x 3,5",19.5,5]
["70 / 3500 / 120 / SERIE 4","SERIE 4",120,70,20000,3500,1210,"5 x 4",20,5]
["71,75 / 3500 / 120 / SERIE 4","SERIE 4",120,71.75,20500,3500,1210,"5 x 3,5 & 1 x 3",20.5,6]
["73,5 / 3500 / 120 / SERIE 4","SERIE 4",120,73.5,21000,3500,1210,"6 x 3,5",21,6]
["75,25 / 3500 / 120 / SERIE 4","SERIE 4",120,75.25,21500,3500,1210,"1 x 4 & 5 x 3,5",21.5,6]
["77 / 3500 / 120 / SERIE 4","SERIE 4",120,77,22000,3500,1210,"2 x 4 & 4 x 3,5",22,6]
["78,75 / 3500 / 120 / SERIE 4","SERIE 4",120,78.75,22500,3500,1210,"3 x 4 & 3 x 3,5",22.5,6]
["80,5 / 3500 / 120 / SERIE 4","SERIE 4",120,80.5,23000,3500,1210,"5 x 4 & 1 x 3",23,6]
["82,25 / 3500 / 120 / SERIE 4","SERIE 4",120,82.25,23500,3500,1210,"5 x 4 & 1 x 3,5",23.5,6]
["84 / 3500 / 120 / SERIE 4","SERIE 4",120,84,24000,3500,1210,"6 x 4",24,6]
["85,75 / 3500 / 120 / SERIE 4","SERIE 4",120,85.75,24500,3500,1210,"7 x 3,5",24.5,7]
["87,5 / 3500 / 120 / SERIE 4","SERIE 4",120,87.5,25000,3500,1210,"1 x 4 & 6 x 3,5",25,7]
["89,25 / 3500 / 120 / SERIE 4","SERIE 4",120,89.25,25500,3500,1210,"2 x 4 & 5 x 3,5",25.5,7]
["91 / 3500 / 120 / SERIE 4","SERIE 4",120,91,26000,3500,1210,"3 x 4 & 4 x 3,5",26,7]
["92,75 / 3500 / 120 / SERIE 4","SERIE 4",120,92.75,26500,3500,1210,"4 x 4 & 3 x 3,5",26.5,7]
["94,5 / 3500 / 120 / SERIE 4","SERIE 4",120,94.5,27000,3500,1210,"5 x 4 & 2 x 3,5",27,7]
["96,25 / 3500 / 120 / SERIE 4","SERIE 4",120,96.25,27500,3500,1210,"6 x 4 & 1 x 3,5",27.5,7]
["98 / 3500 / 120 / SERIE 4","SERIE 4",120,98,28000,3500,1210,"7 x 4",28,7]
["99,75 / 3500 / 120 / SERIE 4","SERIE 4",120,99.75,28500,3500,1210,"1 x 4 & 7 x 3,5",28.5,8]
["101,5 / 3500 / 120 / SERIE 4","SERIE 4",120,101.5,29000,3500,1210,"2 x 4 & 6 x 3,5",29,8]
["103,25 / 3500 / 120 / SERIE 4","SERIE 4",120,103.25,29500,3500,1210,"3 x 4 & 5 x 3,5",29.5,8]
["105 / 3500 / 120 / SERIE 4","SERIE 4",120,105,30000,3500,1210,"4 x 4 & 4 x 3,5",30,8]
["106,75 / 3500 / 120 / SERIE 4","SERIE 4",120,106.75,30500,3500,1210,"5 x 4 & 3 x 3,5",30.5,8]
["108,5 / 3500 / 120 / SERIE 4","SERIE 4",120,108.5,31000,3500,1210,"6 x 4 & 2 x 3,5",31,8]
["110,25 / 3500 / 120 / SERIE 4","SERIE 4",120,110.25,31500,3500,1210,"7 x 4 & 1 x 3,5",31.5,8]
["112 / 3500 / 120 / SERIE 4","SERIE 4",120,112,32000,3500,1210,"8 x 4",32,8]
["113,75 / 3500 / 120 / SERIE 4","SERIE 4",120,113.75,32500,3500,1210,"2 x 4 & 7 x 3,5",32.5,9]
["115,5 / 3500 / 120 / SERIE 4","SERIE 4",120,115.5,33000,3500,1210,"3 x 4 & 6 x 3,5",33,9]
["117,25 / 3500 / 120 / SERIE 4","SERIE 4",120,117.25,33500,3500,1210,"3 x 4 & 6 x 3,5",33.5,9]
["119 / 3500 / 120 / SERIE 5","SERIE 5",120,119,34000,3500,1400,"3 x 4 & 6 x 3,5",34,9]
["120,75 / 3500 / 120 / SERIE 5","SERIE 5",120,120.75,34500,3500,1400,"3 x 4 & 6 x 3,5",34.5,9]
["122,5 / 3500 / 120 / SERIE 5","SERIE 5",120,122.5,35000,3500,1400,"3 x 4 & 6 x 3,5",35,9]
["124,25 / 3500 / 120 / SERIE 5","SERIE 5",120,124.25,35500,3500,1400,"8 x 4 & 1 x 3,5",35.5,9]
["126 / 3500 / 120 / SERIE 5","SERIE 5",120,126,36000,3500,1400,"9 x 4",36,9]
["127,75 / 3500 / 120 / SERIE 5","SERIE 5",120,127.75,36500,3500,1400,"3 x 4 & 7 x 3,5",36.5,10]
["129,5 / 3500 / 120 / SERIE 5","SERIE 5",120,129.5,37000,3500,1400,"4 x 4 & 6 x 3,5",37,10]
["((12,5 / 2500 / 70 / SERIE 3))","SERIE 3",70,12.5,5000,2500,935,"2,5 x 2",5,2]
["((13,75 / 2500 / 70 / SERIE 3))","SERIE 3",70,13.75,5500,2500,935,"1 x 3 & 1 x 2,5",5.5,2,null,"12,5 / 2500 / 70 / SERIE 3"]
["((15 / 2500 / 70 / SERIE 3))","SERIE 3",70,15,6000,2500,935,"2 x 3",6,2,null,"13,75 / 2500 / 70 / SERIE 3"]
["((16,25 / 2500 / 70 / SERIE 3))","SERIE 3",70,16.25,6500,2500,935,"1 x 3,5 & 1 x 3",6.5,2,null,"15 / 2500 / 70 / SERIE 3"]
["((17,5 / 2500 / 70 / SERIE 3))","SERIE 3",70,17.5,7000,2500,935,"2 x 3,5",7,2,null,"16,25 / 2500 / 70 / SERIE 3"]
["((18,75 / 2500 / 70 / SERIE 3))","SERIE 3",70,18.75,7500,2500,935,"3 x 2,5",7.5,3,null,"17,5 / 2500 / 70 / SERIE 3"]
["((20 / 2500 / 70 / SERIE 3))","SERIE 3",70,20,8000,2500,935,"1 x 3 & 2 x 2,5",8,3,null,"18,75 / 2500 / 70 / SERIE 3"]
["((21,25 / 2500 / 70 / SERIE 3))","SERIE 3",70,21.25,8500,2500,935,"2 x 3 & 1 x 2,5",8.5,3,null,"20 / 2500 / 70 / SERIE 3"]
["((22,5 / 2500 / 70 / SERIE 3))","SERIE 3",70,22.5,9000,2500,935,"3 x 3",9,3,null,"21,25 / 2500 / 70 / SERIE 3"]
["((23,75 / 2500 / 70 / SERIE 3))","SERIE 3",70,23.75,9500,2500,935,"1 x 3,5 & 2 x 3",9.5,3,null,"22,5 / 2500 / 70 / SERIE 3"]
["((25 / 2500 / 70 / SERIE 3))","SERIE 3",70,25,10000,2500,935,"2 x 3,5 & 1 x 3",10,3,null,"23,75 / 2500 / 70 / SERIE 3"]
["((26,25 / 2500 / 70 / SERIE 3))","SERIE 3",70,26.25,10500,2500,935,"3 x 3,5",10.5,3,null,"25 / 2500 / 70 / SERIE 3"]
["((27,5 / 2500 / 70 / SERIE 3))","SERIE 3",70,27.5,11000,2500,935,"2 x 4 & 1 x 3",11,3,null,"26,25 / 2500 / 70 / SERIE 3"]
["((28,75 / 2500 / 70 / SERIE 3))","SERIE 3",70,28.75,11500,2500,935,"2 x 4 & 1 x 3,5",11.5,3,null,"27,5 / 2500 / 70 / SERIE 3"]
["((30 / 2500 / 70 / SERIE 3))","SERIE 3",70,30,12000,2500,935,"3 x 4",12,3,null,"28,75 / 2500 / 70 / SERIE 3"]
["((31,25 / 2500 / 70 / SERIE 3))","SERIE 3",70,31.25,12500,2500,935,"1 x 3,5 & 3 x 3",12.5,4,null,"30 / 2500 / 70 / SERIE 3"]
["((32,5 / 2500 / 70 / SERIE 3))","SERIE 3",70,32.5,13000,2500,935,"2 x 3,5 & 2 x 3",13,4,null,"31,25 / 2500 / 70 / SERIE 3"]
["((33,75 / 2500 / 70 / SERIE 3))","SERIE 3",70,33.75,13500,2500,935,"3 x 3,5 & 1 x 3",13.5,4,null,"32,5 / 2500 / 70 / SERIE 3"]
["((35 / 2500 / 70 / SERIE 3))","SERIE 3",70,35,14000,2500,935,"4 x 3,5",14,4,null,"33,75 / 2500 / 70 / SERIE 3"]
["((36,25 / 2500 / 70 / SERIE 3))","SERIE 3",70,36.25,14500,2500,935,"1 x 4 & 3 x 3,5",14.5,4,null,"35 / 2500 / 70 / SERIE 3"]
["((37,5 / 2500 / 70 / SERIE 3))","SERIE 3",70,37.5,15000,2500,935,"3 x 4 & 1 x 3",15,4,null,"36,25 / 2500 / 70 / SERIE 3"]
["((38,75 / 2500 / 70 / SERIE 3))","SERIE 3",70,38.75,15500,2500,935,"3 x 4 & 1 x 3,5",15.5,4,null,"37,5 / 2500 / 70 / SERIE 3"]
["((40 / 2500 / 70 / SERIE 3))","SERIE 3",70,40,16000,2500,935,"4 x 4",16,4,null,"38,75 / 2500 / 70 / SERIE 3"]
["((41,25 / 2500 / 70 / SERIE 3))","SERIE 3",70,41.25,16500,2500,935,"3 x 3,5 & 2 x 3",16.5,5,null,"40 / 2500 / 70 / SERIE 3"]
["((42,5 / 2500 / 70 / SERIE 3))","SERIE 3",70,42.5,17000,2500,935,"4 x 3,5 & 1 x 3",17,5,null,"41,25 / 2500 / 70 / SERIE 3"]
["((43,75 / 2500 / 70 / SERIE 3))","SERIE 3",70,43.75,17500,2500,935,"5 x 3,5",17.5,5,null,"42,5 / 2500 / 70 / SERIE 3"]
["((45 / 2500 / 70 / SERIE 3))","SERIE 3",70,45,18000,2500,935,"3 x 4 & 2 x 3",18,5,null,"43,75 / 2500 / 70 / SERIE 3"]
["((46,25 / 2500 / 70 / SERIE 3))","SERIE 3",70,46.25,18500,2500,935,"2 x 4 & 3 x 3,5",18.5,5,null,"45 / 2500 / 70 / SERIE 3"]
["((47,5 / 2500 / 70 / SERIE 3))","SERIE 3",70,47.5,19000,2500,935,"4 x 4 & 1 x 3",19,5,null,"46,25 / 2500 / 70 / SERIE 3"]
["((48,75 / 2500 / 70 / SERIE 3))","SERIE 3",70,48.75,19500,2500,935,"4 x 4 & 1 x 3,5",19.5,5,null,"47,5 / 2500 / 70 / SERIE 3"]
["((50 / 2500 / 70 / SERIE 3))","SERIE 3",70,50,20000,2500,935,"5 x 4",20,5,null,"48,75 / 2500 / 70 / SERIE 3"]
["((51,25 / 2500 / 70 / SERIE 4))","SERIE 4",70,51.25,20500,2500,1210,"5 x 3,5 & 1 x 3",20.5,6,null,"50 / 2500 / 70 / SERIE 3"]
["((52,5 / 2500 / 70 / SERIE 4))","SERIE 4",70,52.5,21000,2500,1210,"6 x 3,5",21,6,null,"51,25 / 2500 / 70 / SERIE 4"]
["((53,75 / 2500 / 70 / SERIE 4))","SERIE 4",70,53.75,21500,2500,1210,"1 x 4 & 5 x 3,5",21.5,6,null,"52,5 / 2500 / 70 / SERIE 4"]
["((55 / 2500 / 70 / SERIE 4))","SERIE 4",70,55,22000,2500,1210,"2 x 4 & 4 x 3,5",22,6,null,"53,75 / 2500 / 70 / SERIE 4"]
["((56,25 / 2500 / 70 / SERIE 4))","SERIE 4",70,56.25,22500,2500,1210,"3 x 4 & 3 x 3,5",22.5,6,null,"55 / 2500 / 70 / SERIE 4"]
["((57,5 / 2500 / 70 / SERIE 4))","SERIE 4",70,57.5,23000,2500,1210,"5 x 4 & 1 x 3",23,6,null,"56,25 / 2500 / 70 / SERIE 4"]
["((58,75 / 2500 / 70 / SERIE 4))","SERIE 4",70,58.75,23500,2500,1210,"5 x 4 & 1 x 3,5",23.5,6,null,"57,5 / 2500 / 70 / SERIE 4"]
["((60 / 2500 / 70 / SERIE 4))","SERIE 4",70,60,24000,2500,1210,"6 x 4",24,6,null,"58,75 / 2500 / 70 / SERIE 4"]
["((61,25 / 2500 / 70 / SERIE 4))","SERIE 4",70,61.25,24500,2500,1210,"7 x 3,5",24.5,7,null,"60 / 2500 / 70 / SERIE 4"]
["((62,5 / 2500 / 70 / SERIE 4))","SERIE 4",70,62.5,25000,2500,1210,"1 x 4 & 6 x 3,5",25,7,null,"61,25 / 2500 / 70 / SERIE 4"]
["((65 / 2500 / 70 / SERIE 4))","SERIE 4",70,65,26000,2500,1210,"3 x 4 & 4 x 3,5",26,7,null,"62,5 / 2500 / 70 / SERIE 4"]
["((12,5 / 2500 / 120 / SERIE 3))","SERIE 3",120,12.5,5000,2500,935,"2,5 x 2",5,2,null,"65 / 2500 / 70 / SERIE 4"]
["((13,75 / 2500 / 120 / SERIE 3))","SERIE 3",120,13.75,5500,2500,935,"1 x 3 & 1 x 2,5",5.5,2,null,"12,5 / 2500 / 70 / SERIE 3"]
["((15 / 2500 / 120 / SERIE 3))","SERIE 3",120,15,6000,2500,935,"2 x 3",6,2,null,"13,75 / 2500 / 70 / SERIE 3"]
["((16,25 / 2500 / 120 / SERIE 3))","SERIE 3",120,16.25,6500,2500,935,"1 x 3,5 & 1 x 3",6.5,2,null,"15 / 2500 / 70 / SERIE 3"]
["((17,5 / 2500 / 120 / SERIE 3))","SERIE 3",120,17.5,7000,2500,935,"2 x 3,5",7,2,null,"16,25 / 2500 / 70 / SERIE 3"]
["((18,75 / 2500 / 120 / SERIE 3))","SERIE 3",120,18.75,7500,2500,935,"3 x 2,5",7.5,3,null,"17,5 / 2500 / 70 / SERIE 3"]
["((20 / 2500 / 120 / SERIE 3))","SERIE 3",120,20,8000,2500,935,"1 x 3 & 2 x 2,5",8,3,null,"18,75 / 2500 / 70 / SERIE 3"]
["((21,25 / 2500 / 120 / SERIE 3))","SERIE 3",120,21.25,8500,2500,935,"2 x 3 & 1 x 2,5",8.5,3,null,"20 / 2500 / 70 / SERIE 3"]
["((22,5 / 2500 / 120 / SERIE 3))","SERIE 3",120,22.5,9000,2500,935,"3 x 3",9,3,null,"21,25 / 2500 / 70 / SERIE 3"]
["((23,75 / 2500 / 120 / SERIE 3))","SERIE 3",120,23.75,9500,2500,935,"1 x 3,5 & 2 x 3",9.5,3,null,"22,5 / 2500 / 70 / SERIE 3"]
["((25 / 2500 / 120 / SERIE 3))","SERIE 3",120,25,10000,2500,935,"2 x 3,5 & 1 x 3",10,3,null,"23,75 / 2500 / 70 / SERIE 3"]
["((26,25 / 2500 / 120 / SERIE 3))","SERIE 3",120,26.25,10500,2500,935,"3 x 3,5",10.5,3,null,"25 / 2500 / 70 / SERIE 3"]
["((27,5 / 2500 / 120 / SERIE 3))","SERIE 3",120,27.5,11000,2500,935,"2 x 4 & 1 x 3",11,3,null,"26,25 / 2500 / 70 / SERIE 3"]
["((28,75 / 2500 / 120 / SERIE 3))","SERIE 3",120,28.75,11500,2500,935,"2 x 4 & 1 x 3,5",11.5,3,null,"27,5 / 2500 / 70 / SERIE 3"]
["((30 / 2500 / 120 / SERIE 3))","SERIE 3",120,30,12000,2500,935,"3 x 4",12,3,null,"28,75 / 2500 / 70 / SERIE 3"]
["((31,25 / 2500 / 120 / SERIE 3))","SERIE 3",120,31.25,12500,2500,935,"1 x 3,5 & 3 x 3",12.5,4,null,"30 / 2500 / 70 / SERIE 3"]
["((32,5 / 2500 / 120 / SERIE 3))","SERIE 3",120,32.5,13000,2500,935,"2 x 3,5 & 2 x 3",13,4,null,"31,25 / 2500 / 70 / SERIE 3"]
["((33,75 / 2500 / 120 / SERIE 3))","SERIE 3",120,33.75,13500,2500,935,"3 x 3,5 & 1 x 3",13.5,4,null,"32,5 / 2500 / 70 / SERIE 3"]
["((35 / 2500 / 120 / SERIE 3))","SERIE 3",120,35,14000,2500,935,"4 x 3,5",14,4,null,"33,75 / 2500 / 70 / SERIE 3"]
["((36,25 / 2500 / 120 / SERIE 3))","SERIE 3",120,36.25,14500,2500,935,"1 x 4 & 3 x 3,5",14.5,4,null,"35 / 2500 / 70 / SERIE 3"]
["((37,5 / 2500 / 120 / SERIE 3))","SERIE 3",120,37.5,15000,2500,935,"3 x 4 & 1 x 3",15,4,null,"36,25 / 2500 / 70 / SERIE 3"]
["((38,75 / 2500 / 120 / SERIE 3))","SERIE 3",120,38.75,15500,2500,935,"3 x 4 & 1 x 3,5",15.5,4,null,"37,5 / 2500 / 70 / SERIE 3"]
["((40 / 2500 / 120 / SERIE 3))","SERIE 3",120,40,16000,2500,935,"4 x 4",16,4,null,"38,75 / 2500 / 70 / SERIE 3"]
["((41,25 / 2500 / 120 / SERIE 3))","SERIE 3",120,41.25,16500,2500,935,"3 x 3,5 & 2 x 3",16.5,5,null,"40 / 2500 / 70 / SERIE 3"]
["((42,5 / 2500 / 120 / SERIE 3))","SERIE 3",120,42.5,17000,2500,935,"4 x 3,5 & 1 x 3",17,5,null,"41,25 / 2500 / 70 / SERIE 3"]
["((43,75 / 2500 / 120 / SERIE 3))","SERIE 3",120,43.75,17500,2500,935,"5 x 3,5",17.5,5,null,"42,5 / 2500 / 70 / SERIE 3"]
["((45 / 2500 / 120 / SERIE 3))","SERIE 3",120,45,18000,2500,935,"3 x 4 & 2 x 3",18,5,null,"43,75 / 2500 / 70 / SERIE 3"]
["((46,25 / 2500 / 120 / SERIE 3))","SERIE 3",120,46.25,18500,2500,935,"2 x 4 & 3 x 3,5",18.5,5,null,"45 / 2500 / 70 / SERIE 3"]
["((47,5 / 2500 / 120 / SERIE 3))","SERIE 3",120,47.5,19000,2500,935,"4 x 4 & 1 x 3",19,5,null,"46,25 / 2500 / 70 / SERIE 3"]
["((48,75 / 2500 / 120 / SERIE 3))","SERIE 3",120,48.75,19500,2500,935,"4 x 4 & 1 x 3,5",19.5,5,null,"47,5 / 2500 / 70 / SERIE 3"]
["((50 / 2500 / 120 / SERIE 3))","SERIE 3",120,50,20000,2500,935,"5 x 4",20,5,null,"48,75 / 2500 / 70 / SERIE 3"]
["((51,25 / 2500 / 120 / SERIE 4))","SERIE 4",120,51.25,20500,2500,1210,"5 x 3,5 & 1 x 3",20.5,6,null,"50 / 2500 / 70 / SERIE 3"]
["((52,5 / 2500 / 120 / SERIE 4))","SERIE 4",120,52.5,21000,2500,1210,"6 x 3,5",21,6,null,"51,25 / 2500 / 70 / SERIE 4"]
["((53,75 / 2500 / 120 / SERIE 4))","SERIE 4",120,53.75,21500,2500,1210,"1 x 4 & 5 x 3,5",21.5,6,null,"52,5 / 2500 / 70 / SERIE 4"]
["((55 / 2500 / 120 / SERIE 4))","SERIE 4",120,55,22000,2500,1210,"2 x 4 & 4 x 3,5",22,6,null,"53,75 / 2500 / 70 / SERIE 4"]
["((56,25 / 2500 / 120 / SERIE 4))","SERIE 4",120,56.25,22500,2500,1210,"3 x 4 & 3 x 3,5",22.5,6,null,"55 / 2500 / 70 / SERIE 4"]
["((57,5 / 2500 / 120 / SERIE 4))","SERIE 4",120,57.5,23000,2500,1210,"5 x 4 & 1 x 3",23,6,null,"56,25 / 2500 / 70 / SERIE 4"]
["((58,75 / 2500 / 120 / SERIE 4))","SERIE 4",120,58.75,23500,2500,1210,"5 x 4 & 1 x 3,5",23.5,6,null,"57,5 / 2500 / 70 / SERIE 4"]
["((60 / 2500 / 120 / SERIE 4))","SERIE 4",120,60,24000,2500,1210,"6 x 4",24,6,null,"58,75 / 2500 / 70 / SERIE 4"]
["((61,25 / 2500 / 120 / SERIE 4))","SERIE 4",120,61.25,24500,2500,1210,"7 x 3,5",24.5,7,null,"60 / 2500 / 70 / SERIE 4"]
["((62,5 / 2500 / 120 / SERIE 4))","SERIE 4",120,62.5,25000,2500,1210,"1 x 4 & 6 x 3,5",25,7,null,"61,25 / 2500 / 70 / SERIE 4"]
["((65 / 2500 / 120 / SERIE 4))","SERIE 4",120,65,26000,2500,1210,"3 x 4 & 4 x 3,5",26,7,null,"62,5 / 2500 / 70 / SERIE 4"]
["((138 / 4000 / 120 / SERIE 5))","SERIE 5",120,138,34500,4000,1400,"3 x 4 & 6 x 3,5",34.5,9,null,"65 / 2500 / 70 / SERIE 4"]
["((140 / 4000 / 120 / SERIE 5))","SERIE 5",120,140,35000,4000,1400,"3 x 4 & 6 x 3,5",35,9,null,"138 / 4000 / 70 / SERIE 5"]
["((142 / 4000 / 120 / SERIE 5))","SERIE 5",120,142,35500,4000,1400,"8 x 4 & 1 x 3,5",35.5,9,null,"140 / 4000 / 70 / SERIE 5"]
["((144 / 4000 / 120 / SERIE 5))","SERIE 5",120,144,36000,4000,1400,"9 x 4",36,9,null,"142 / 4000 / 70 / SERIE 5"]
["((146 / 4000 / 120 / SERIE 5))","SERIE 5",120,146,36500,4000,1400,"3 x 4 & 7 x 3,5",36.5,10,null,"144 / 4000 / 70 / SERIE 5"]
["((148 / 4000 / 120 / SERIE 5))","SERIE 5",120,148,37000,4000,1400,"4 x 4 & 6 x 3,5",37,10,null,"146 / 4000 / 70 / SERIE 5"]
["((150 / 4000 / 120 / SERIE 5))","SERIE 5",120,150,37500,4000,1400,"5 x 4 & 5 x 3,5",37.5,10,null,"148 / 4000 / 70 / SERIE 5"]
["((152 / 4000 / 120 / SERIE 5))","SERIE 5",120,152,38000,4000,1400,"6 x 4 & 4 x 3,5",38,10,null,"150 / 4000 / 70 / SERIE 5"]
["((154 / 4000 / 120 / SERIE 5))","SERIE 5",120,154,38500,4000,1400,"7 x 4 & 3 x 3,5",38.5,10,null,"152 / 4000 / 70 / SERIE 5"]
["((156 / 4000 / 120 / SERIE 5))","SERIE 5",120,156,39000,4000,1400,"8 x 4 & 2 x 3,5",39,10,null,"154 / 4000 / 70 / SERIE 5"]
["((158 / 4000 / 120 / SERIE 5))","SERIE 5",120,158,39500,4000,1400,"9 x 4 & 1 x 3,5",39.5,10,null,"156 / 4000 / 70 / SERIE 5"]
["((160 / 4000 / 120 / SERIE 5))","SERIE 5",120,160,40000,4000,1400,"10 x 4",40,10,null,"158 / 4000 / 70 / SERIE 5"]
["9 / 2000 / 120 / SERIE 3","SERIE 3",120,9,4500,2000,935,"2,5 + 2",4.5,2,null,"160 / 4000 / 70 / SERIE 5"]
["10 / 2000 / 120 / SERIE 3","SERIE 3",120,10,5000,2000,935,"2,5 x 2",5,2]
["11 / 2000 / 120 / SERIE 3","SERIE 3",120,11,5500,2000,935,"1 x 3 & 1 x 2,5",5.5,2]
["(138 / 4000 / 70 / SERIE 5)","SERIE 5",70,138,34500,4000,1400,"3 x 4 & 6 x 3,5",34.5,9]
["(140 / 4000 / 70 / SERIE 5)","SERIE 5",70,140,35000,4000,1400,"3 x 4 & 6 x 3,5",35,9,null,"138 / 4000 / 70 / SERIE 5"]
["(142 / 4000 / 70 / SERIE 5)","SERIE 5",70,142,35500,4000,1400,"8 x 4 & 1 x 3,5",35.5,9,null,"140 / 4000 / 70 / SERIE 5"]
["(144 / 4000 / 70 / SERIE 5)","SERIE 5",70,144,36000,4000,1400,"9 x 4",36,9,null,"142 / 4000 / 70 / SERIE 5"]
["(146 / 4000 / 70 / SERIE 5)","SERIE 5",70,146,36500,4000,1400,"3 x 4 & 7 x 3,5",36.5,10,null,"144 / 4000 / 70 / SERIE 5"]
["(148 / 4000 / 70 / SERIE 5)","SERIE 5",70,148,37000,4000,1400,"4 x 4 & 6 x 3,5",37,10,null,"146 / 4000 / 70 / SERIE 5"]
["(150 / 4000 / 70 / SERIE 5)","SERIE 5",70,150,37500,4000,1400,"5 x 4 & 5 x 3,5",37.5,10,null,"148 / 4000 / 70 / SERIE 5"]
["(152 / 4000 / 70 / SERIE 5)","SERIE 5",70,152,38000,4000,1400,"6 x 4 & 4 x 3,5",38,10,null,"150 / 4000 / 70 / SERIE 5"]
["(154 / 4000 / 70 / SERIE 5)","SERIE 5",70,154,38500,4000,1400,"7 x 4 & 3 x 3,5",38.5,10,null,"152 / 4000 / 70 / SERIE 5"]
["(156 / 4000 / 70 / SERIE 5)","SERIE 5",70,156,39000,4000,1400,"8 x 4 & 2 x 3,5",39,10,null,"154 / 4000 / 70 / SERIE 5"]
["(158 / 4000 / 70 / SERIE 5)","SERIE 5",70,158,39500,4000,1400,"9 x 4 & 1 x 3,5",39.5,10,null,"156 / 4000 / 70 / SERIE 5"]
["(160 / 4000 / 70 / SERIE 5)","SERIE 5",70,160,40000,4000,1400,"10 x 4",40,10,null,"158 / 4000 / 70 / SERIE 5"]
["(16,5 / 1500 / 70 / SERIE 3)","SERIE 3",70,16.5,11000,1500,935,"2 x 4 & 1 x 3",11,3,null,"160 / 4000 / 70 / SERIE 5"]
["(17,25 / 1500 / 70 / SERIE 3)","SERIE 3",70,17.25,11500,1500,935,"2 x 4 & 1 x 3,5",11.5,3]
["(18 / 1500 / 70 / SERIE 3)","SERIE 3",70,18,12000,1500,935,"3 x 4",12,3]
["(18,75 / 1500 / 70 / SERIE 3)","SERIE 3",70,18.75,12500,1500,935,"1 x 3,5 & 3 x 3",12.5,4]
["(19,5 / 1500 / 70 / SERIE 3)","SERIE 3",70,19.5,13000,1500,935,"2 x 3,5 & 2 x 3",13,4]
["(20,25 / 1500 / 70 / SERIE 3)","SERIE 3",70,20.25,13500,1500,935,"3 x 3,5 & 1 x 3",13.5,4]
["(21 / 1500 / 70 / SERIE 3)","SERIE 3",70,21,14000,1500,935,"4 x 3,5",14,4]
["(21,75 / 1500 / 70 / SERIE 3)","SERIE 3",70,21.75,14500,1500,935,"1 x 4 & 3 x 3,5",14.5,4]
["(22,5 / 1500 / 70 / SERIE 3)","SERIE 3",70,22.5,15000,1500,935,"3 x 4 & 1 x 3",15,4]
["(13,75 / 1250 / 70 / SERIE 3)","SERIE 3",70,13.75,11000,1250,935,"2 x 4 & 1 x 3",11,3]
["14,38 / 1250 / 70 / SERIE 3","SERIE 3",70,14.38,11500,1250,935,"2 x 4 & 1 x 3,5",11.5,3]
["15 / 1250 / 70 / SERIE 3","SERIE 3",70,15,12000,1250,935,"3 x 4",12,3]
["15,63 / 1250 / 70 / SERIE 3","SERIE 3",70,15.63,12500,1250,935,"1 x 3,5 & 3 x 3",12.5,4]
["9 / 2000 / 70 / SERIE 3","SERIE 3",70,9,4500,2000,935,"2,5 + 2",4.5,2]
["10 / 2000 / 70 / SERIE 3","SERIE 3",70,10,5000,2000,935,"2,5 x 2",5,2]
["11 / 2000 / 70 / SERIE 3","SERIE 3",70,11,5500,2000,935,"1 x 3 & 1 x 2,5",5.5,2]
["(37 / 2000 / 70 / SERIE 3)","SERIE 3",70,37,18500,2000,1210,"2 x 4 & 3 x 3,5",18.5,5]
["(38 / 2000 / 70 / SERIE 3)","SERIE 3",70,38,19000,2000,1210,"4 x 4 & 1 x 3",19,5]
["(39 / 2000 / 70 / SERIE 3)","SERIE 3",70,39,19500,2000,1210,"4 x 4 & 1 x 3,5",19.5,5]
["(40 / 2000 / 70 / SERIE 3)","SERIE 3",70,40,20000,2000,1210,"5 x 4",20,5]

{"sheet":"Données (2)","index":13,"n_rows":35,"n_cols":9,"rows_kept":35,"cut":false,"hidden":true,"merged":[]}
[null,null,null,null,null,null,"3 bar","5 bar","1 bar"]
["m3/h","2 opérations côté gâteau",null,1,"CM 02 F- dia 0,9",null,0.8,1.02,0.44]
["gpm","1 opération + 1 in stand by",null,3,"CM 03 F - dia 1,1",null,1.2,1.55,0.68]
["cfm",null,null,5,"CM 04 F - dia 1,3",null,1.6,2.0699999999999998,0.91]
[null,null,null,null,"CM 06 F - dia 1,6",null,2.4,3.1,1.4]
[null,null,null,null,"CM 10 F - dia 2,0",null,3.9,5.0999999999999996,2.2999999999999998]
[]
[]
["Matière ballon"]
["Exclu"]
["304L"]
["316L"]
["U45N"]
["Acier au Carbone"]
["904L"]
["SANICRO "]
["FRP"]
["POLYPROPYLÈNE"]
["Acier caoutchouté"]
[]
[]
[]
[]
[]
[]
[]
[]
[]
[]
["TYPE GOULLOTES DE LAVAGE"]
["TypeSpreaderSurPatin (serie1&2)"]
["GoulottePetiteSurPatin (serie1&2)"]
["TUB"]
["OVER"]
["OVER"]

{"sheet":"Char2","index":14,"n_rows":113,"n_cols":22,"rows_kept":113,"cut":false,"hidden":true,"merged":[[3,2,4,6]]}
[]
["FAB",{"$f":"'Série 2'!B6","v":90},"M2",null,null,null,null,"CHARPENTE \"INOX\" Lg.",{"$f":"'Série 2'!B5","v":3000}]
[]
[null,null,"Prix moyen matière"]
["Désignation","Poids",null,null,null,null,null,"Quantité","Poids total","Total","Total","Total","Total","Total","M. O.","PEINTURE","PEINTURE"]
[null,null,"E24","304 L","316 L","904 L","U45N",null,null,"E24","304L","316L","904L","U45N",{"$f":"HLOOKUP($I$2,$B$39:$P$57,19,0)","v":5},"UNITAIRE","TOTAL"]
[null,null,null,null,null,null,null,null,null,null,null,null,null,null," mn/kg"]
["Bati d' entée",{"$f":"HLOOKUP($I$2,$B$39:$G$57,2,0)","v":{"$error":"#N/A"}},5,16.5,20,{"$f":"E8*2.75","v":55},28,1,{"$f":"H8*B8","v":{"$error":"#N/A"}},{"$f":"I8*C8","v":{"$error":"#N/A"}},{"$f":"D8*I8","v":{"$error":"#N/A"}},{"$f":"I8*E8","v":{"$error":"#N/A"}},{"$f":"I8*F8","v":{"$error":"#N/A"}},{"$f":"I8*G8","v":{"$error":"#N/A"}},null,12,{"$f":"P8*H8","v":12}]
["Bati de sortie",{"$f":"HLOOKUP($I$2,$B$39:$G$57,3,0)","v":{"$error":"#N/A"}},5,16.5,20,55,28,1,{"$error":"#N/A"},{"$error":"#N/A"},{"$error":"#N/A"},{"$error":"#N/A"},{"$error":"#N/A"},{"$f":"I9*G9","v":{"$error":"#N/A"}},null,10.5,{"$f":"P9*H9","v":10.5}]
["Poteau",{"$f":"HLOOKUP($I$2,$B$39:$G$57,4,0)","v":{"$error":"#N/A"}},5,16.5,20,55,28,{"$f":"IF(SUM(H13+H14+H15+H16)=0,0,(H13+H14+H15+H16)-1)","v":4},{"$error":"#N/A"},{"$error":"#N/A"},{"$error":"#N/A"},{"$error":"#N/A"},{"$error":"#N/A"},{"$error":"#N/A"},null,4,{"$f":"P10*H10","v":16}]
["Support tension de toile",{"$f":"HLOOKUP($I$2,$B$39:$G$57,5,0)","v":{"$error":"#N/A"}},5,16.5,20,55,28,1,{"$error":"#N/A"},{"$error":"#N/A"},{"$error":"#N/A"},{"$error":"#N/A"},{"$error":"#N/A"},{"$error":"#N/A"},null,0.7,{"$f":"P11*H11","v":0.7}]
["Renforts de table",{"$f":"HLOOKUP($I$2,$B$39:$G$57,6,0)","v":{"$error":"#N/A"}},5,16.5,20,55,28,1,{"$error":"#N/A"},{"$error":"#N/A"},{"$error":"#N/A"},{"$error":"#N/A"},{"$error":"#N/A"},{"$error":"#N/A"}]
["Bati intermédiaire Pas de 2000",{"$f":"HLOOKUP($I$2,$B$39:$G$57,7,0)","v":{"$error":"#N/A"}},5,16.5,20,55,28,{"$f":"'Série 2'!B11","v":0},{"$error":"#N/A"},{"$error":"#N/A"},{"$error":"#N/A"},{"$error":"#N/A"},{"$error":"#N/A"},{"$error":"#N/A"},null,{"$f":"B13/40*2","v":{"$error":"#N/A"}},{"$f":"P13*H13","v":{"$error":"#N/A"}}]
["Bati intermédiaire Pas de 2500",{"$f":"HLOOKUP($I$2,$B$39:$G$57,8,0)","v":{"$error":"#N/A"}},5,16.5,20,55,28,{"$f":"'Série 2'!B12","v":0},{"$error":"#N/A"},{"$error":"#N/A"},{"$error":"#N/A"},{"$error":"#N/A"},{"$error":"#N/A"},{"$error":"#N/A"},null,{"$f":"B14/40*2","v":{"$error":"#N/A"}},{"$f":"P14*H14","v":{"$error":"#N/A"}}]
["Bati intermédiaire Pas de 3000",{"$f":"HLOOKUP($I$2,$B$39:$G$57,9,0)","v":{"$error":"#N/A"}},5,16.5,20,55,28,{"$f":"'Série 2'!B13","v":5},{"$error":"#N/A"},{"$error":"#N/A"},{"$error":"#N/A"},{"$error":"#N/A"},{"$error":"#N/A"},{"$error":"#N/A"},null,{"$f":"B15/40*2","v":{"$error":"#N/A"}},{"$f":"P15*H15","v":{"$error":"#N/A"}}]
["Bati intermédiaire Pas de 3500",{"$f":"HLOOKUP($I$2,$B$39:$G$57,10,0)","v":{"$error":"#N/A"}},5,16.5,20,55,28,{"$f":"'Série 2'!B14","v":0},{"$error":"#N/A"},{"$error":"#N/A"},{"$error":"#N/A"},{"$error":"#N/A"},{"$error":"#N/A"},{"$error":"#N/A"},null,{"$f":"B16/40*2","v":{"$error":"#N/A"}},{"$f":"P16*H16","v":{"$error":"#N/A"}}]
[null,{"$f":"HLOOKUP($I$2,$B$39:$G$57,11,0)","v":{"$error":"#N/A"}},5,16.5,20,55,28]
["Rails  Pas de 2000",{"$f":"HLOOKUP($I$2,$B$39:$G$57,12,0)","v":{"$error":"#N/A"}},5,16.5,20,55,28,{"$f":"'Série 2'!B11","v":0},{"$error":"#N/A"},{"$error":"#N/A"},{"$error":"#N/A"},{"$error":"#N/A"},{"$error":"#N/A"},{"$error":"#N/A"},null,{"$f":"B18/40*2","v":{"$error":"#N/A"}},{"$f":"P18*H18","v":{"$error":"#N/A"}}]
["Rails Pas de 2500",{"$f":"HLOOKUP($I$2,$B$39:$G$57,13,0)","v":{"$error":"#N/A"}},5,16.5,20,55,28,{"$f":"'Série 2'!B12","v":0},{"$error":"#N/A"},{"$error":"#N/A"},{"$error":"#N/A"},{"$error":"#N/A"},{"$error":"#N/A"},{"$error":"#N/A"},null,{"$f":"B19/40*2","v":{"$error":"#N/A"}},{"$f":"P19*H19","v":{"$error":"#N/A"}}]
["Rails Pas de 3000",{"$f":"HLOOKUP($I$2,$B$39:$G$57,14,0)","v":{"$error":"#N/A"}},5,16.5,20,55,28,{"$f":"'Série 2'!B13","v":5},{"$error":"#N/A"},{"$error":"#N/A"},{"$error":"#N/A"},{"$error":"#N/A"},{"$error":"#N/A"},{"$error":"#N/A"},null,{"$f":"B20/40*2","v":{"$error":"#N/A"}},{"$f":"P20*H20","v":{"$error":"#N/A"}}]
["Rails Pas de 3500",{"$f":"HLOOKUP($I$2,$B$39:$G$57,15,0)","v":{"$error":"#N/A"}},5,16.5,20,55,28,{"$f":"'Série 2'!B14","v":0},{"$error":"#N/A"},{"$error":"#N/A"},{"$error":"#N/A"},{"$error":"#N/A"},{"$error":"#N/A"},{"$error":"#N/A"},null,{"$f":"B21/40*2","v":{"$error":"#N/A"}},{"$f":"P21*H21","v":{"$error":"#N/A"}}]
[null,{"$f":"HLOOKUP($I$2,$B$39:$G$57,16,0)","v":{"$error":"#N/A"}},5,16.5,20,55,28,{"$f":"'Série 2'!B15","v":0},{"$error":"#N/A"},{"$error":"#N/A"},{"$error":"#N/A"},{"$error":"#N/A"},{"$error":"#N/A"},{"$error":"#N/A"}]
["Rails Bati de sortie",{"$f":"HLOOKUP($I$2,$B$39:$G$57,17,0)","v":{"$error":"#N/A"}},5,16.5,20,55,28,1,{"$error":"#N/A"},{"$error":"#N/A"},{"$error":"#N/A"},{"$error":"#N/A"},{"$error":"#N/A"},{"$error":"#N/A"}]
["Sous-traitance tubes (mètres)",{"$f":"HLOOKUP($I$2,$B$39:$G$57,18,0)","v":{"$error":"#N/A"}},500,500,500,500,500,1,{"$f":"H24*B24","v":{"$error":"#N/A"}},{"$f":"I24*C24","v":{"$error":"#N/A"}},{"$f":"D24*I24","v":{"$error":"#N/A"}},{"$f":"I24*E24","v":{"$error":"#N/A"}},{"$f":"I24*F24","v":{"$error":"#N/A"}},{"$error":"#N/A"}]
[null,null,null,null,null,null,null,null,{"$f":"H25*B25","v":0},null,{"$f":"D25*I25","v":0},{"$f":"I25*E25","v":0},{"$f":"I25*F25","v":0},{"$f":"J25*G25","v":0}]
[]
[null,null,null,null,null,null,null,"TOTAL :",{"$f":"SUM(I8:I23)","v":{"$error":"#N/A"}},{"$f":"SUM(J8:J25)","v":{"$error":"#N/A"}},{"$f":"SUM(K8:K25)","v":{"$error":"#N/A"}},{"$f":"SUM(L8:L25)","v":{"$error":"#N/A"}},{"$f":"SUM(M8:M25)","v":{"$error":"#N/A"}},{"$f":"SUM(N8:N25)","v":{"$error":"#N/A"}},{"$f":"((I27*O6)/60)+IF('Série 2'!B85=0,0,Char2!B93)","v":{"$error":"#N/A"}},null,{"$f":"SUM(Q8:Q25)","v":{"$error":"#N/A"}}]
[]
[null,null,null,null,null,null,null,null,"prix moyen :",{"$f":"J27/I27","v":{"$error":"#N/A"}},{"$f":"K27/I27","v":{"$error":"#N/A"}},{"$f":"L27/I27","v":{"$error":"#N/A"}},{"$f":"M27/I27","v":{"$error":"#N/A"}},{"$f":"N27/I27","v":{"$error":"#N/A"}},30]
[]
[]
["LONGUEUR BAV",{"$f":"B2/I2/0.001","v":30}]
[]
[]
[]
[]
[]
[]
[null,null,500,750,1000,1250,1500,null,null,null,2000,2250,2500,3000,4000,4200]
["Bati d' entée",null,254,263,272,281,290,null,null,null,1175,null,1200,1245,1962,2087]
["Bati de sortie",null,195,206,217,239,250,null,null,null,850,null,1230,1271,1928,2073]
["Poteau",null,75,82,89,103,110,null,null,null,227,null,290,315,462,499]
["Support tension de toile",null,13,13,13,13,13,null,null,null,120,null,120,145,145,145]
["Renforts de table",null,null,null,null,null,0,null,null,null,190,null,190,{"$f":"(63*2)+((LOOKUP($T$44,$U$44:$U$49,$V$44:$V$49))*68)","v":398},{"$f":"(63*2)+((LOOKUP($T$44,$U$44:$U$49,$V$44:$V$49))*68)","v":398},{"$f":"(63*2)+((LOOKUP($T$44,$U$44:$U$49,$V$44:$V$49))*68)","v":398},null,null,"Couple Nm",{"$f":"'Série 2'!B78","v":88238.119392556851},0,1]
["Bati intermédiaire Pas de 2000",null,63,63,63,63,63,null,null,null,null,null,null,null,null,null,null,null,null,null,10000,1]
["Bati intermédiaire Pas de 2500",null,78,78,78,78,78,null,null,null,null,null,null,null,null,null,null,null,{"$f":"(LOOKUP(T44,U44:U49,V44:V49))","v":4},null,20000,2]
["Bati intermédiaire Pas de 3000",null,94,94,94,94,94,null,null,null,372,null,372,440,513,584,null,null,null,null,40000,3]
["Bati intermédiaire Pas de 3500",null,109,109,109,109,109,null,null,null,424,null,424,503,592,674,null,null,null,null,80000,4]
[null,null,null,null,null,null,null,null,null,null,476,null,476,565,671,764,null,null,null,null,100000,5]
["Rails  Pas de 2000",null,87,87,87,116,116]
["Rails Pas de 2500",null,109,109,109,145,145]
["Rails Pas de 3000",null,130,130,130,173,173,null,null,null,312,null,312,375,452,517]
["Rails Pas de 3500",null,152,152,152,202,202,null,null,null,364,null,364,438,522,603]
[null,null,null,null,null,null,null,null,null,null,416,null,416,500,602,689]
["Rails Bati de sortie",null,0,0,0,0,0,null,null,null,60,null,60,65,35,35]
["Sous-traitance tubes (mètres)",null,{"$f":"($H$10*3)+6","v":18},{"$f":"($H$10*3)+6","v":18},{"$f":"($H$10*3)+6","v":18},{"$f":"($H$10*3)+6","v":18},{"$f":"($H$10*3)+6","v":18},null,null,null,30,null,30,30,35,38]
["MO",null,14,14,14,14,14,null,null,null,7,7,5,5,5,5]
[]
[]
["GUIDAGE TOILE",null,500,750,1000,1250,1500,null,null,null,2000,2250,2500,3000,4000,4200]
["304L",null,600,600,600,600,600,null,null,null,2000,2160,2275,2500,2800,2870]
["316L",null,700,700,700,700,700,null,null,null,2340,2480,2615,2875,3200,3300]
["904L",null,1925,1925,1925,1925,1925,null,null,null,6500,6820,7190,7910,8800,9075]
["U45N",null,{"$f":"C63*0.54","v":1039.5},{"$f":"D63*0.54","v":1039.5},{"$f":"E63*0.54","v":1039.5},{"$f":"F63*0.54","v":1039.5},{"$f":"G63*0.54","v":1039.5},null,null,null,{"$f":"K63*0.54","v":3510.0000000000005},3682.8,3882.6000000000004,4271.4000000000005,4752,4900.5]
["E24",null,9600,9600,9600,9600,9600]
["NEGOCE",null,4830,4830,4830,4830,4830,null,null,null,31145,32300,33500,41000,53000,55000]
["MO",null,40,40,40,40,40,null,null,null,30,30,30,30,30,30]
["TENSION TOILE",null,500,750,1000,1250,1500,null,null,null,2000,2250,2500,3000,4000,4200]
["304L",null,2100,2450,2800,3150,3500,null,null,null,4200,4900,5305,6050,7600,7950]
["316L",null,2400,2800,3200,3600,4000,null,null,null,4800,5610,6100,6950,8725,9100]
["904L",null,6600,7700,8800,9900,11000,null,null,null,13200,15430,16775,19115,24000,25025]
["U45N",null,{"$f":"C71*0.54","v":3564.0000000000005},{"$f":"D71*0.54","v":4158},{"$f":"E71*0.54","v":4752},{"$f":"F71*0.54","v":5346},{"$f":"G71*0.54","v":5940},null,null,null,{"$f":"K71*0.54","v":7128.0000000000009},8332.2000000000007,9058.5,10322.1,12960,13513.5]
["E24",null,2100,2450,2800,3150,3500]
["NEGOCE",null,500,500,500,500,500,null,null,null,1500,1500,1500,1500,1500,1500]
["MO",null,40,40,40,40,40,null,null,null,50,50,50,50,60,60]
[]
["BRAS DE REACTION",null,500,750,1000,1250,1500,null,null,null,2000,2250,2500,3000,4000,4200]
["304L",null,255,255,598,935,1190,null,null,null,1678,1910,2170,2610,5128,5128]
["316L",null,300,300,705,1100,1400,null,null,null,1980,2250,2550,3075,6080,6080]
["904L",null,825,825,1955,3050,3880,null,null,null,5490,6240,7075,8530,17080,17080]
["U45N",null,{"$f":"C80*0.54","v":445.50000000000006},{"$f":"D80*0.54","v":445.50000000000006},{"$f":"E80*0.54","v":1055.7},{"$f":"F80*0.54","v":1647},{"$f":"G80*0.54","v":2095.2000000000003},null,null,null,{"$f":"K80*0.54","v":2964.6000000000004},3369.6000000000004,3820.5000000000005,4606.2000000000007,9223.2000000000007,9223.2000000000007]
["E24",null,255,255,598,935,1190,null,null,null,null,null,null,null,{"$f":"O81*0.54","v":4980.5280000000012},{"$f":"P81*0.54","v":4980.5280000000012}]
["NEGOCE",null,200,200,900,900,900,null,null,null,900,900,900,900,900,900]
["MO",null,10,10,20,25,25,null,null,null,25,30,30,30,50,50]
[]
["GRILLES DE PROTECTION",null,500,750,1000,1250,1500,null,null,null,2000,2250,2500,3000,4000,4200]
["E24",20000,20000,20000,20000,20000,20000]
["304L",25000,25000,25000,25000,25000,25000,null,null,null,4100,null,null,4879,5644,5797]
["316L",30000,30000,30000,30000,30000,30000,null,null,null,4825,null,null,5740,6640,6820]
["904L",30000,30000,30000,30000,30000,30000,null,null,null,13265,null,null,15785,18260,18755]
["U45N",30000,30000,30000,30000,30000,30000,null,null,null,{"$f":"K90*0.54","v":7163.1},null,null,{"$f":"N90*0.54","v":8523.9000000000015},{"$f":"O90*0.54","v":9860.4000000000015},{"$f":"P90*0.54","v":10127.700000000001}]
["NEGOCE",null,20000,20000,20000,20000,20000,null,null,null,13850,null,null,16610,18120,19630]
["MO",50,50,50,50,50,50,null,null,null,50,null,null,50,50,50]
[]
["PROTECTION ET PEINTURE"]
[null,"E24","304L","316L","U45N","904L"]
["NEGOCE",{"$f":"Q27*13+100","v":{"$error":"#N/A"}},100,100,100,100]
["MO",{"$f":"Q27*1+20","v":{"$error":"#N/A"}},40,40,40,40]
[]
["RENFORCEMENT POUR TRANSPORT"]
[]
["MATIERE",{"$f":"(B32+0.4)*2*61.3*0.7","v":2608.9279999999994}]
["MO",15]
[]
["MONTAGE USINE OU PREMONTAGE"]
[]
[{"$f":"'Série 2'!B83","v":"PRE"},350]
["Demontage accessoires",20]
[{"$f":"IF(A107=\"PRE\",\"pre-assembly + labelling\",\"full erection in factory + reinforcement\")","v":"pre-assembly + labelling"},100]
["preparation si part local",50,"Pour la part France à expedier"]
[{"$f":"IF(A107=\"PRE\",B109,B107+B103+B108)","v":100}]
[]
["GRILLES DE PROTECTION CE",null,{"$f":"(((B2/I2/0.001)+3.2)*2+((I2*0.001)+1.7))*256","v":18201.600000000002}]

{"sheet":"Acc. sup2","index":15,"n_rows":51,"n_cols":13,"rows_kept":51,"cut":false,"hidden":true,"merged":[]}
["Accessoires supérieurs"]
[]
["BARRAGE D'ENTREE"]
[null,250,500,750,1000,1250,1500]
["304L",53,107,160,212.5,266,320]
["316L",62.5,125,187.5,250,313,376.5]
["904L",172.5,345,520,690,863,1035]
["U45N",{"$f":"B7*0.54","v":93.15},186.3,280.8,372.6,466.02000000000004,558.90000000000009]
["SBR",123,135,148,163.5,165,246]
["EPDM",184.5,202.5,222,245,247.5,369]
["BUTYL",246,270,296,327,330,492]
["MO",4,4,4,4,4,4]
[]
["GOULOTTE DE LAVAGE"]
[null,250,500,750,1000,1250,1500]
["304L",139,183,227,271,315,359]
["316L",153,206,259,312,365,418]
["904L",618,751,884,1017,1150,1283]
["U45N",{"$f":"B18*0.54","v":333.72},405.54,477.36,549.18000000000006,621,692.82]
["POLYPROPYLENE",1080,1220,1360,1500,1640,1780]
["TOILE",22,44,66,90,110,132]
["MO",12,12,12,12,12,12]
[]
["CHARIOT GOULOTTE"]
[null,250,500,750,1000,1250,1500]
["304L",53,107,160,212.5,266,320]
["316L",62.5,125,187.5,250,313,376.5]
["904L",172.5,345,520,690,863,1035]
["U45N",{"$f":"B28*0.54","v":93.15},186.3,280.8,372.6,466.02000000000004,558.90000000000009]
[]
[]
["MO",4,4,4,4,4,4]
[]
["ALIMENTATEUR"]
[null,250,500,750,1000,1250,1500]
["304L",755,825,895,965,1035,1105]
["316L",888,972,1056,1140,1224,1308]
["904L",2514,2724,2934,3144,3354,3560]
["U45N",{"$f":"B38*0.54","v":1357.5600000000002},1470.96,1584.3600000000001,1697.7600000000002,1811.16,1922.4]
["POLYPROPYLENE",3050,3250,3450,3650,3850,4050]
["BAVETTE",164,164,164,164,164,164]
["MO",25,25,25,25,25,25]
[]
["CHARIOT ALIMENTATEUR"]
[null,250,500,750,1000,1250,1500]
["304L",445,475,505,535,565,595,null,null,null,null,null,{"$f":"G46/6.55957","v":90.707165256259174}]
["316L",532,568,604,640,676,712,null,null,null,null,null,{"$f":"G47/6.55957","v":108.54370027303619}]
["904L",1346,1436,1526,1616,1706,1800,null,null,null,null,null,{"$f":"G48/6.55957","v":274.40823102733867}]
["U45N",{"$f":"B48*0.54","v":726.84},775.44,824.04000000000008,872.6400000000001,921.24,972.00000000000011,null,null,null,null,null,{"$f":"G49/6.55957","v":148.1804447547629}]
["BAVETTE",164,164,164,164,164,164,null,null,null,null,null,{"$f":"G50/6.55957","v":25.001638826935302}]
["MO",5,5,5,5,5,5]

{"sheet":"Access2","index":16,"n_rows":18,"n_cols":13,"rows_kept":18,"cut":false,"hidden":true,"merged":[]}
["ACCESSOIRES"]
[]
["Equipement pneumatique:",null,6000,10]
[null,null,250,500,750,1000,1250,1500,2000,2500,3000,4000,4200]
["Equipement électrique:",null,"STD","US"]
[null,"Matière",300,300]
[null,"Négoce",2500,5850]
[null,"MO",40,40]
[null,null,null,"Prix base 2003","E/kg  base 2003"]
["Visserie",null,304,2500,2.2000000000000002]
[null,null,316,2500,2.9]
[null,null,"904L",12000,7.6]
[]
[]
[]
["Vérin pneuride",null,"12x2","10x2","8x2","6x2","8x3"]
[null,"Matière",1300,850,650,590,750]
[null,"Négoce",1300,845,635.5,454,705]

{"sheet":"Gr de Cde2","index":17,"n_rows":58,"n_cols":12,"rows_kept":58,"cut":false,"hidden":true,"merged":[[29,2,29,3]]}
["Groupe de Commande:"]
[]
["Tarif BREVINI:"]
[]
["Puissance",0.37,0.55000000000000004,0.75,1.1000000000000001,1.5,2.2000000000000002,3,4,5.5,7.5,11]
[null,1386,1386,1386,1386,1785,1785,2450,2450,2835,2835,2835]
[]
[]
[null,{"$f":"E26","v":90},{"$f":"HLOOKUP(B9,B5:L6,2)","v":2835}]
[]
[]
[]
[]
[]
[]
[]
[null,null,null,null,null,"CALCUL DE LA PUISSANCE D'UN MOTEUR"]
[]
[]
["COUPLE EN Nm:",null,null,null,{"$f":"'Série 2'!B78","v":88238.119392556851}]
[]
["VITESSE MAXI EN Tr/mn :",null,null,null,{"$f":"'Série 2'!B79","v":6.5333548165374458}]
[null,null,null,null,null,"Rendement",null,null,null,"declassement"]
["Formule","P en kw=","C(newton)x N(rpm) / 9550",null,{"$f":"ROUND(E20*E22/9550,3)","v":60.366},"/0,85","Puissance absorbée moteur:",null,{"$f":"E24/0.85","v":71.018823529411762},"x 1,15"]
[null,null,null,null,null,null,null,null,"reactual","remise"]
["Type de moteur",null,null,null,{"$f":"LOOKUP(I24*1.15,A33:A58,B33:B58)","v":90},"Kw","Prix B3",{"$f":"ROUNDUP((LOOKUP(E26,B33:B58,C33:C58))*I26*J26,0)","v":5524},1.2,0.5]
[]
[null,null,null,null,null,null,"Prix B5",{"$f":"ROUNDUP((LOOKUP(E26,B33:B58,D33:D58))*I28*J28,0)","v":5823},1.2,0.5]
[]
[null,null,"Tarif Moteur, forme",null,null,null,"Variateur de fréquence",{"$f":"ROUNDUP((LOOKUP(E26,B33:B58,E33:E58)),0)","v":9089},0,0]
[null,"Puissance","B3","B5","Variateur"]
[null,null,"Euro","Euro","Euro",null,null,null,null,"PRIX EN FRANCS"]
[0,0.25,273.49353692391423,302.91619725073446,0,null,null,null,1794,1987]
[0.25,0.37,278.52435449274878,307.94701481956895,320.14293619856181,null,null,null,1827,2020,2100]
[0.37,0.55000000000000004,290.87272488897901,320.29538521579923,320.14293619856181,null,null,null,1908,2101,2100]
[0.55000000000000004,0.75,308.70925990575603,338.13192023257625,320.14293619856181,null,null,null,2025,2218,2100]
[0.75,1.1000000000000001,338.74171630152586,368.16437662834608,463.74991043620236,null,null,null,2222,2415,3042]
[1.1000000000000001,1.5,379.29315488667703,408.71581521349725,570.76912053686442,null,null,null,2488,2681,3744]
[1.5,2.2000000000000002,454.90786743643258,497.28869422843269,673.82465618935385,null,null,null,2984,3262,4420]
[2.2000000000000002,3,529.15053883105145,571.53136562305156,0,null,null,null,3471,3749]
[3,4,629.61444119050486,679.16037179266323,959.20921645778617,null,null,null,4130,4455,6292]
[4,5.5,761.94018815257709,822.46244799582905,1141.5382410737288,null,null,null,4998,5395,7488]
[5.5,7.5,948.9951323028796,1009.5173921461316,1347.6493123787077,null,null,null,6225,6622,8840]
[7.5,11,1324.4770617586214,1447.655867686449,1874.8180139856729,null,null,null,8688,9496,12298]
[11,15,1663.2187780601473,1786.3975839879749,2356.0995614041776,null,null,null,10910,11718,15455]
[15,18.5,2010.6500883442054,2168.7397192194003,3088.9219872644089,null,null,null,13189,14226,20262]
[18.5,22,2380.9487512138753,2539.0383820890697,3088.9219872644089,null,null,null,15618,16655,20262]
[22,30,3192.2824209513733,3393.3626746875175,4006.3601729991447,null,null,null,20940,22259,26280]
[30,37,3862.4483007270296,4140.9726552197781,4839.6465012188301,null,null,null,25336,27163,31746]
[37,45,4638.5662474826859,4917.0906019754348,5301.5670234481831,null,null,null,30427,32254,34776]
[45,55,5626.1309811466299,5980.574946223609,6353.4652423863154,null,null,null,36905,39230,41676]
[55,75,7677.9423041449363,8175.5358964078441,7826.1227488996992,null,null,null,50364,53628,51336]
[75,90,9206.3961509672135,9703.9897432301204,9088.4006116254568,null,null,null,60390,63654,59616]
[90,110,10899.494936405892,11569.813265198785,10939.741476956569,null,null,null,71496,75893,71760]
[110,132,12963.044833731479,13633.363162524372,12538.626769742528,null,null,null,85032,89429,82248]
[132,160,15233.01070039652,15903.329029189414,14432.043563831166,null,null,null,99922,104319,94668]
[160,200,20580.6173270504,21250.935655843296,0,null,null,null,135000,139397]
[200,250,26343.190178624514,27923.781589341987,0,null,null,null,172800,183168]

{"sheet":"Lavage2","index":18,"n_rows":42,"n_cols":16,"rows_kept":42,"cut":false,"hidden":true,"merged":[]}
["Lavage et évacuation gâteau"]
[]
[]
[null,null,"PRIX EN EUROS",null,null,null,null,"PRIX EN EUROS",null,null,null,null,null,"PRIX EN FRANCS"]
["Matière","POLYPROPYLENE","304L","316L","904L","U45N","PPH","304L","316L","904L","U45N",null,"POLYPROPYLENE","304L","316L","904L"]
[250,202.75719292575582,464.96950257410168,544.2429915375551,1501.6228197884923,{"$f":"E6*0.54","v":810.87632268578591},202.75719292575582,464.96950257410168,544.2429915375551,1501.6228197884923,{"$f":"J6*0.54","v":810.87632268578591},null,1330,3050,3570,9850]
[500,283.55517206158333,762.24508618705192,891.82675083885078,2454.4291775223073,{"$f":"E7*0.54","v":1325.391755862046},283.55517206158333,762.24508618705192,891.82675083885078,2454.4291775223073,1325.391755862046,null,1860,5000,5850,16100]
[750,368.9266217145331,1053.4227091105058,1239.4105101401465,3414.8579861179924,1844.0233125037159,368.9266217145331,1053.4227091105058,1239.4105101401465,3414.8579861179924,1844.0233125037159,null,2420,6910,8130,22400]
[1000,448.20011067798652,1176.9064130728082,1384.2370765156863,3806.6519604181372,2055.5920586257944,448.20011067798652,1176.9064130728082,1384.2370765156863,3806.6519604181372,2055.5920586257944,null,2940,7720,9080,24970]
[1250,688.76465987862014,2180.0209464949685,2562.6679797608685,7058.3894980921004,3811.5303289697345,688.76465987862014,2180.0209464949685,2562.6679797608685,7058.3894980921004,3811.5303289697345,null,4518,14300,16810,46300]
[1500,681.44710705122441,2526.8424607100769,2972.7558361295023,8175.0785493561316,4414.5424166523117,681.44710705122441,2526.8424607100769,2972.7558361295023,8175.0785493561316,4414.5424166523117,null,4470,16575,19500,53625]
[2000,748.82957267015979,3023.8262569040348,3557.3978172349712,9782.9583341590987,5282.797500445914,748.82957267015979,3023.8262569040348,3557.3978172349712,9782.9583341590987,5282.797500445914,null,4912,19835,23335,64172]
[2500,825.51142834057725,3725.8539812823096,4382.9092455755481,12053.381547875852,6508.8260358529606,825.51142834057725,3725.8539812823096,4382.9092455755481,12053.381547875852,6508.8260358529606,null,5415,24440,28750,79065]
[3000,1038.1778073867647,4781.5634256513767,5625.3687360604426,15469.764024166219,8353.6725730497583,1038.1778073867647,4781.5634256513767,5625.3687360604426,15469.764024166219,8353.6725730497583,null,6810,31365,36900,101475]
[4000,1169.2839622109377,6360.9352442309482,7482.9600110982883,20580.6173270504,11113.533356607217,1169.2839622109377,6360.9352442309482,7482.9600110982883,20580.6173270504,11113.533356607217,null,7670,41725,49085,135000]
[4200,1227.9768338473407,6679.5536902571357,7857.2223484161314,21609.648193402922,11669.210024437578,1227.9768338473407,6679.5536902571357,7857.2223484161314,21609.648193402922,11669.210024437578,null,8055,43815,51540,141750]
[]
["Négoce","POLYPROPYLENE","304L","316L","904L","U45N","PPH","304L","316L","904L","U45N",null,"POLYPROPYLENE","304L","316L","904L"]
[250,2888.9088766489267,1509.2452706503627,1509.2452706503627,1509.2452706503627,1509.2452706503627,2888.9088766489267,1509.2452706503627,1509.2452706503627,1509.2452706503627,1509.2452706503627,null,18950,9900,9900,9900]
[500,3084.5009657645242,1509.2452706503627,1509.2452706503627,1509.2452706503627,1509.2452706503627,3084.5009657645242,1509.2452706503627,1509.2452706503627,1509.2452706503627,1509.2452706503627,null,20233,9900,9900,9900]
[750,3308.1436740518052,1509.2452706503627,1509.2452706503627,1509.2452706503627,1509.2452706503627,3308.1436740518052,1509.2452706503627,1509.2452706503627,1509.2452706503627,1509.2452706503627,null,21700,9900,9900,9900]
[1000,3613.0417085266258,1509.2452706503627,1509.2452706503627,1509.2452706503627,1509.2452706503627,3613.0417085266258,1509.2452706503627,1509.2452706503627,1509.2452706503627,1509.2452706503627,null,23700,9900,9900,9900]
[1250,4219.0265520453322,1524.4901723741038,1524.4901723741038,1524.4901723741038,1524.4901723741038,4219.0265520453322,1524.4901723741038,1524.4901723741038,1524.4901723741038,1524.4901723741038,null,27675,10000,10000,10000]
[1500,4756.4093378072039,1524.4901723741038,1524.4901723741038,1524.4901723741038,1524.4901723741038,4756.4093378072039,1524.4901723741038,1524.4901723741038,1524.4901723741038,1524.4901723741038,null,31200,10000,10000,10000]
[2000,5264.8268102939674,1524.4901723741038,1524.4901723741038,1524.4901723741038,1524.4901723741038,5264.8268102939674,1524.4901723741038,1524.4901723741038,1524.4901723741038,1524.4901723741038,null,34535,10000,10000,10000]
[2500,6280.899510181308,1524.4901723741038,1524.4901723741038,1524.4901723741038,1524.4901723741038,6280.899510181308,1524.4901723741038,1524.4901723741038,1524.4901723741038,1524.4901723741038,null,41200,10000,10000,10000]
[3000,6814.4710705122443,1524.4901723741038,1524.4901723741038,1524.4901723741038,1524.4901723741038,6814.4710705122443,1524.4901723741038,1524.4901723741038,1524.4901723741038,1524.4901723741038,null,44700,10000,10000,10000]
[4000,12927.676661732401,1829.3882068489245,1829.3882068489245,1829.3882068489245,1829.3882068489245,12927.676661732401,1829.3882068489245,1829.3882068489245,1829.3882068489245,1829.3882068489245,null,84800,12000,12000,12000]
[4200,13575.584984991394,1829.3882068489245,1829.3882068489245,1829.3882068489245,1829.3882068489245,13575.584984991394,1829.3882068489245,1829.3882068489245,1829.3882068489245,1829.3882068489245,null,89050,12000,12000,12000]
[]
["MO","POLYPROPYLENE","304L","316L","904L","U45N"]
[250,30,80,80,80,80]
[500,40,100,100,100,100]
[750,47.5,110,110,110,110]
[1000,50,120,120,120,120]
[1250,50,120,120,120,120]
[1500,50,120,120,120,120]
[2000,58,184,184,184,184]
[2500,60,200,200,200,200]
[3000,60,200,200,200,200]
[4000,65,265,265,265,265]
[4200,65,265,265,265,265]

{"sheet":"Band","index":19,"n_rows":38,"n_cols":17,"rows_kept":38,"cut":false,"hidden":true,"merged":[]}
[]
[]
[null,null,"PRIX BANDE EP. ",{"$f":"HLOOKUP(H3,B13:G21,6,0)","v":3700},null,null," LARGEUR",{"$f":"'Séries 3-4-5'!B3","v":3000}]
[null,null,null,null,null,null,"Epaisseur",{"$f":"Calculations!E24","v":31}]
[null,"MATIERE :",{"$f":"'Séries 3-4-5'!B17","v":"SBR"},null,"Prix bande tarif 02 mai 2005 x coef>>",null,null,0]
[null,"Nombre de pas de 3500 :",{"$f":"'Séries 3-4-5'!B10","v":4}]
[null,"Nombre de pas de 4000 :",{"$f":"'Séries 3-4-5'!B11","v":4},null," "]
[null,"Hauteur talons :",{"$f":"'Séries 3-4-5'!B18","v":120}]
[null,"Surface :",{"$f":"'Séries 3-4-5'!B4","v":90},"M2"]
[null,"Longueur de bande :",{"$f":"(('Séries 3-4-5'!B9*3+'Séries 3-4-5'!B10*3.5+'Séries 3-4-5'!B11*4))*2+LOOKUP(H3,B13:G13,B14:G14)","v":68.599999999999994},"M"]
[null,null,null,null,null,null,null,null,null,null,null,null,null,null,"Conversion US-->Eur",null,0.74]
["Largeur bande brute",2250,2500,2750,3250,4310,4510,"Prix resultat"]
[null,2000,2250,2500,3000,4000,4200,null,"KOREA DUDE !!!!!",2000,2250,2500,3000,4000,4200]
["Longueur bande",7.09,8.35,8.35,8.6,8.6,9.6,null,null,7.09,8.35,8.35,8.6,8.6,9.6]
["Prix au m SBRLT",670,740,{"$f":"IF(H4=28,800,770)","v":770},{"$f":"IF(H4=31,860,980)","v":860},1760,1890,null,"Prix au m SBRLT Dollars",600,684,749,990,1217]
["Prix au m SBR",730,810,{"$f":"IF(H4=28,870,840)","v":840},{"$f":"IF(H4=31,940,1060)","v":940},1890,2000,null,"Prix au m SBRLT Euros",{"$f":"J15*$Q$11","v":444},{"$f":"K15*$Q$11","v":506.15999999999997},554.26,732.6,900.58]
["Prix au m EPDM",890,970,{"$f":"IF(H4=28,1060,1020)","v":1020},{"$f":"IF(H4=31,1070,1260)","v":1070},2140,2350,null,"Prix au m SBR Dollars",647,739,809,1070,1314]
["Prix jonction SBRLT",2900,3100,3300,3700,10000,10200,null,"Prix au m SBR Euros",{"$f":"J17*$Q$11","v":478.78},{"$f":"K17*$Q$11","v":546.86},598.66,791.8,972.36]
["Prix jonction SBR",2900,3100,3300,3700,10000,10200,null,"Prix Jonction SBR Dollars",5000,5000,5000,7100,10000]
["Prix jonction EPDM",3100,3300,3500,3900,10800,11000,null,"Prix Jonction SBR Euros",{"$f":"J19*$Q$11","v":3700},{"$f":"K19*$Q$11","v":3700},3700,5254,7400]
["Epaisseur",27,32,{"$f":"IF(H3=2500,H4,28)","v":28},{"$f":"IF(H3=3000,H4,31)","v":31},35,35]
["SBRLT",{"$f":"((($C$10+1)*B15)+B18)","v":49531.999999999993},{"$f":"((($C$10+1)*C15)+C18)","v":54603.999999999993},56891.999999999993,63555.999999999993,132496,141744,{"$f":"(HLOOKUP($H$3,$B13:G22,10,0))","v":63555.999999999993},"SBRLT",{"$f":"((($C$10+1)*J16)+J20)*1.1","v":38062.639999999999},{"$f":"((($C$10+1)*K16)+K20)*1.1","v":42821.609600000003},46504.145600000003,61867.256000000001,77088.404799999989,{"$f":"(HLOOKUP($H$3,$J13:N22,10,0))","v":61867.256000000001}]
["SBR",{"$f":"((($C$10+1)*B16)+B19)","v":53707.999999999993},59475.999999999993,61763.999999999993,69124,141544,149400,{"$f":"(HLOOKUP($H$3,B$13:G23,11,0))","v":69124},"SBR",{"$f":"((($C$10+1)*J18)+J20)*1.1","v":40725.396800000002},{"$f":"((($C$10+1)*K18)+K20)*1.1","v":45937.601600000002},49903.409599999999,66399.607999999993,82583.881599999993,{"$f":"(HLOOKUP($H$3,$J13:N23,11,0))","v":66399.607999999993}]
["EPDM",{"$f":"((($C$10+1)*B17)+B20)","v":65043.999999999993},70812,74492,78372,159744,174560,{"$f":"(HLOOKUP($H$3,B$13:G24,12,0))","v":78372}]
[70,{"$f":"((($C$10+1)*2)*367)+1000","v":52086.399999999994},52086.399999999994,52086.399999999994,52086.399999999994,52086.399999999994,52086.399999999994]
[120,{"$f":"((($C$10+1)*2)*487)+1000","v":68790.399999999994},68790.399999999994,68790.399999999994,68790.399999999994,68790.399999999994,68790.399999999994]
["MO BANDE",{"$f":"40+$C$10*1.45","v":139.46999999999997},{"$f":"64+$C$10*1.5","v":166.89999999999998},{"$f":"64+$C$10*1.5","v":166.89999999999998},{"$f":"64+$C$10*1.5","v":166.89999999999998},{"$f":"150+$C$10*2","v":287.2},{"$f":"150+$C$10*2","v":287.2}]
["MO TALONS"]
[70,{"$f":"12+((($C$10+1)*2)*0.57)","v":91.34399999999998},91.34399999999998,91.34399999999998,91.34399999999998,91.34399999999998,91.34399999999998]
[120,{"$f":"12+((($C$10+1)*2)*0.7)","v":109.43999999999998},109.43999999999998,109.43999999999998,109.43999999999998,109.43999999999998,109.43999999999998]
[]
[]
["Prix au m SBRLT",520,585,605,625,1070,1115]
["Prix au m SBR",570,640,660,685,1160,1210]
["Prix au m EPDM",685,745,770,790,1320,1420]
["Prix jonction SBRLT",2400,2600,2800,2950,8200,8400]
["Prix jonction SBR",2400,2600,2800,2950,8200,8400]
["Prix jonction EPDM",2700,2850,3000,3160,9150,9400]

{"sheet":"Tabl2","index":20,"n_rows":31,"n_cols":12,"rows_kept":31,"cut":false,"hidden":true,"merged":[]}
["NEGOCE TABLE"]
[null,null,"Surface filtre",{"$f":"'Série 2'!B6","v":90}]
[null,null,"Largeur",{"$f":"'Série 2'!B5","v":3000}]
[null,null,"Longueur de boite à vide",{"$f":"(D2/D3)/0.001","v":30}]
[null,null,"Type de courroies",{"$f":"'Série 2'!B17","v":"DUNL"},null,null,null,"Tension de courroies"]
[]
[null,"Quantité","DUNL","ALIAS","30X7","40X7","50X5",null,4000,4200,3000]
["Réglette",{"$f":"((D4/2)*(LOOKUP(D3,A20:A31,B20:B31))+((LOOKUP(D3,A20:A31,B20:B31))/2))","v":155},{"$f":"$E$20*$B$8","v":15500},{"$f":"$E$20*$B$8","v":15500},{"$f":"$E$20*$B$8","v":15500},{"$f":"$E$23*$B$8","v":0},{"$f":"$E$24*$B$8","v":0},"Inox",5730,6685,4775]
["Taquet de fixation",{"$f":"ROUND((3.65*D4)*LOOKUP(D3,A20:A31,B20:B31),0)","v":1095},{"$f":"$B$9*14","v":15330},{"$f":"$B$9*14","v":15330},{"$f":"$B$9*14","v":15330},{"$f":"$B$9*14","v":15330},{"$f":"$B$9*14","v":15330},"Contre-poids",720,840,600]
["Roue d'extrémité",{"$f":"(LOOKUP(D3,A20:A31,B20:B31))*2","v":20},{"$f":"$B$10*145","v":2900},{"$f":"$B$10*145","v":2900},{"$f":"$B$10*145","v":2900},{"$f":"$B$10*200","v":4000},{"$f":"$B$10*200","v":4000},"Roue de tension",5400,6300,4500]
["Entretoise de roue",{"$f":"(LOOKUP(D3,A20:A31,B20:B31))*2","v":20},{"$f":"$B$11*17.5","v":350},{"$f":"$B$11*17.5","v":350},{"$f":"$B$11*17.5","v":350},{"$f":"$B$11*20","v":400},{"$f":"$B$11*20","v":400},"Entretoise",660,770,550]
["Galet de retour",{"$f":"ROUND((0.8*D4)*LOOKUP(D3,A20:A31,B20:B31),0)","v":240},{"$f":"$B$12*24","v":5760},{"$f":"$B$12*24","v":5760},{"$f":"$B$12*24","v":5760},{"$f":"$B$12*30","v":7200},{"$f":"$B$12*30","v":7200},null,{"$f":"SUM(I8:I11)","v":12510},{"$f":"SUM(J8:J11)","v":14595},{"$f":"SUM(K8:K11)","v":10425}]
["Entretoise de galet",{"$f":"ROUND((0.8*D4)*LOOKUP(D3,A20:A31,B20:B31),0)","v":240},{"$f":"$B$13*9","v":2160},{"$f":"$B$13*9","v":2160},{"$f":"$B$13*9","v":2160},{"$f":"$B$13*11","v":2640},{"$f":"$B$13*11","v":2640},"MO",36,42,30]
["Courroies",{"$f":"(LOOKUP(D3,A20:A31,B20:B31))*((D4*2)+3.14)","v":631.4},{"$f":"($B$14*$F$20)+(G20*B10/2)","v":9114},{"$f":"$B$14*$F$21","v":54300.4},{"$f":"$B$14*$F$22","v":0},{"$f":"$B$14*$F$23","v":0},{"$f":"$B$14*$F$24","v":0},null,{"$f":"IF('Série 2'!B84=0,\"0\",HLOOKUP(D3,I7:K13,6,0))","v":"0"},{"$f":"IF('Série 2'!B84=0,\"0\",HLOOKUP(D3,I7:K13,7,0))","v":"0"}]
["Chape tendeur",{"$f":"(LOOKUP(D3,A20:A31,B20:B31))*2","v":20},{"$f":"$B$15*45","v":900},{"$f":"$B$15*45","v":900},{"$f":"$B$15*45","v":900},{"$f":"$B$15*45","v":900},{"$f":"$B$15*45","v":900}]
["Support galet",{"$f":"ROUND((0.8*D4)*LOOKUP(D3,A20:A31,B20:B31),0)","v":240},{"$f":"$B$16*9","v":2160},{"$f":"$B$16*9","v":2160},{"$f":"$B$16*9","v":2160},{"$f":"$B$16*9","v":2160},{"$f":"$B$16*9","v":2160},"Lavage des courroies"]
["Axes de roue",{"$f":"(LOOKUP(D3,A20:A31,B20:B31))*2","v":20},null,null,null,{"$f":"B17*9","v":180},{"$f":"$B$17*9","v":180}]
["TOTAL",null,{"$f":"SUM(C8:C16)","v":54174},{"$f":"SUM(D8:D16)","v":99360.4},{"$f":"SUM(E8:E16)","v":45060},{"$f":"(SUM(F8:F17))","v":32810},{"$f":"(SUM(G8:G17))","v":32810},null,2000,3000,4000,4200]
["MO",null,{"$f":"((LOOKUP($D$3,$A$20:$A$31,$B$20:$B$31))*3)+($B$15*1.5)+($B$16*0.1)","v":84},{"$f":"((LOOKUP($D$3,$A$20:$A$31,$B$20:$B$31))*3)+($B$15*1.5)+($B$16*0.1)","v":84},{"$f":"((LOOKUP($D$3,$A$20:$A$31,$B$20:$B$31))*3)+($B$15*1.5)+($B$16*0.1)","v":84},{"$f":"((LOOKUP($D$3,$A$20:$A$31,$B$20:$B$31))*3)+($B$15*1.5)+($B$16*0.1)+(B17*0.25)","v":89},{"$f":"((LOOKUP($D$3,$A$20:$A$31,$B$20:$B$31))*3)+($B$15*1.5)+($B$16*0.1)+(B17*0.25)","v":89},"Inox"]
[250,2,null,"DUNL",100,10,280]
[500,4,null,"PPH",100,86]
[750,4]
[1000,4]
[1250,6]
[1500,6]
[2000,8]
[2250,8]
[2500,8]
[3000,10]
[4000,12]
[4200,14]

{"sheet":"Band2","index":21,"n_rows":41,"n_cols":8,"rows_kept":41,"cut":false,"hidden":true,"merged":[]}
[]
[]
[null,null,"PRIX BANDE EP. ",{"$f":"HLOOKUP(H3,B16:M24,7,0)","v":{"$error":"#N/A"}},null,null," LARGEUR",{"$f":"'Série 2'!B5","v":3000}]
[]
[null,"MATIERE :",{"$f":"'Série 2'!B18","v":"SBR"},null,"Prix bande tarif 02 mai 2005 x coef>>",null,null,1]
[null,"Nombre de pas de 2000 :",{"$f":"'Série 2'!B11","v":0}]
[null,"Nombre de pas de 2500 :",{"$f":"'Série 2'!B12","v":0}]
[null,"Nombre de pas de 3000 :",{"$f":"'Série 2'!B13","v":5}]
[null,"Nombre de pas de 3500 :",{"$f":"'Série 2'!B9+'Série 2'!B14","v":0}]
[null,null,null,null," "]
[null,"Hauteur talons :",{"$f":"'Série 2'!B19","v":120}]
[null,"Surface :",{"$f":"'Série 2'!B6","v":90},"M2"]
[null,"Longueur de bande :",{"$f":"((C6*2+C7*2.5+C8*3+C9*3.5+C10*4))*2+LOOKUP(H3,B16:M16,B17:M17)","v":34.980000000000004},"M"]
[]
[null,430,680,930,1170,1430,1680,"Prix resultat"]
[null,250,500,750,1000,1250,1500]
["Longueur bande",4.9800000000000004,4.9800000000000004,4.9800000000000004,4.9800000000000004,4.9800000000000004,4.9800000000000004]
["Prix au m SBRLT",480,390,410,450,550,550]
["Prix au m SBR",520,430,450,480,600,590]
["Prix au m EPDM",600,530,590,620,750,740]
["Prix jonction SBRLT",950,1070,1600,1700,1850,2350]
["Prix jonction SBR",950,1070,1600,1700,1850,2350]
["Prix jonction EPDM",1070,1200,1800,1900,2100,2450]
["Epaisseur",24,24,24,24,24,27]
["SBRLT",{"$f":"((($C$13+1)*B18)+B21)","v":18220.400000000001},{"$f":"((($C$13+1)*C18)+C21)","v":15102.2},16351.800000000001,17891,21639.000000000004,22139.000000000004,{"$f":"(HLOOKUP($H$3,$B16:G25,10,0))","v":{"$error":"#N/A"}}]
["SBR",{"$f":"((($C$13+1)*B19)+B22)","v":19659.600000000002},16541.400000000001,17791,18970.400000000001,23438.000000000004,23578.2,{"$f":"(HLOOKUP($H$3,B$16:G26,11,0))","v":{"$error":"#N/A"}}]
["EPDM",{"$f":"((($C$13+1)*B20)+B23)","v":22658.000000000004},20269.400000000001,23028.2,24207.600000000002,29085.000000000004,{"$f":"((($C$13+1)*G20)+G23)","v":29075.200000000004},{"$f":"(HLOOKUP($H$3,B$16:G27,12,0))","v":{"$error":"#N/A"}}]
[70,{"$f":"((($C$13+1)*2)*367)+1000","v":27409.320000000003},27409.320000000003,27409.320000000003,27409.320000000003,27409.320000000003,27409.320000000003]
[120,{"$f":"((($C$13+1)*2)*487)+1000","v":36044.520000000004},36044.520000000004,36044.520000000004,36044.520000000004,36044.520000000004,36044.520000000004]
["MO BANDE",{"$f":"16+$C$13","v":50.980000000000004},{"$f":"16+$C$13","v":50.980000000000004},{"$f":"20+$C$13","v":54.980000000000004},{"$f":"25+$C$13","v":59.980000000000004},{"$f":"31+$C$13*1.2","v":72.975999999999999},{"$f":"31+$C$13*1.4","v":79.972000000000008}]
["MO TALONS"]
[70,{"$f":"12+((($C$13+1)*2)*0.57)","v":53.017200000000003},53.017200000000003,53.017200000000003,53.017200000000003,53.017200000000003,53.017200000000003]
[120,{"$f":"12+((($C$13+1)*2)*0.7)","v":62.372},62.372,62.372,62.372,62.372,62.372]
[]
[]
["Prix au m SBRLT",380,315,330,335,355,405]
["Prix au m SBR",425,345,360,370,385,440]
["Prix au m EPDM",485,410,420,440,460,515]
["Prix jonction SBRLT",760,840,1260,1370,1480,1950]
["Prix jonction SBR",760,840,1260,1370,1480,1950]
["Prix jonction EPDM",860,950,1470,1580,1740,2100]

{"sheet":"Tamb2","index":22,"n_rows":10,"n_cols":13,"rows_kept":10,"cut":false,"hidden":true,"merged":[]}
["TAMBOURS REVETUS \"NATUREL\""]
[]
["Désignation",250,500,750,1000,1250,1500,2000,2250,2500,3000,4000,4200]
["Matière tambour moteur",900,1000,1100,1200,3607,4145,5221,5760,7070,12200,15452,0]
["Revêtement tambour moteur",4980,5890,6780,7700,10585,11700,13910,15080,16250,23800,29600,82000]
["Matière tambour libre",600,700,800,900,2852,3330,4288,5250,6230,10150,13008,0]
["Revêtement tambour libre",3900,4650,5400,6150,8220,9100,10790,11650,12510,19800,24400,68880]
["MO Tambour moteur",32,32,32,32,55,55,55,55,60,90,120,0]
["MO Tambour libre",28,28,28,28,46,46,46,46,50,80,110,0]
["Paliers de tambours",1200,3200,3200,4000,10000,13350,17800,null,23500,32000,35000,40300]

{"sheet":"Roul2","index":23,"n_rows":317,"n_cols":37,"rows_kept":317,"cut":false,"hidden":true,"merged":[]}
["ROULEAUX"]
[]
[250]
[null,null,null,null,null,null,null,null,null,null,null,null,null,null,null,"u",null,null,null,null,"u",null,null,null,null,"u",null,null,null,null,"u",null,null,null,null,"u"]
[null,null,null,null,null,null,null,"Ø",null,null,null,null,"500304L","500316L","500904L",null,"500CAOUT","750304L","750316L","750904L","750U45N","750CAOUT","1000304L","1000316L","1000904L","1000U45N","1000CAOUT","1250304L","1250316L","1250904L","1250U45N","1250CAOUT","1500304L","1500316L","1500904L","1500U45N","1500CAOUT"]
[null,null,null,null,null,null,"Rouleau soutien bande",219,null,null,null,null,{"$f":"B61","v":587.9},{"$f":"C61","v":658.2},{"$f":"E61","v":1907.55},{"$f":"F61","v":1030.077},{"$f":"D61","v":360.4},{"$f":"B113","v":745.4},{"$f":"C113","v":833.2},{"$f":"E113","v":2388.8000000000002},{"$f":"F113","v":1289.952},{"$f":"D113","v":450.4},{"$f":"B165","v":902.9},{"$f":"C165","v":1008.2},{"$f":"E165","v":2870.05},{"$f":"F165","v":1549.8269999999998},{"$f":"D165","v":540.4},{"$f":"B217","v":1060.4000000000001},{"$f":"C217","v":1183.1999999999998},{"$f":"E217","v":3351.3},{"$f":"F217","v":1809.702},{"$f":"D217","v":630.4},{"$f":"B273","v":1165.4000000000001},{"$f":"C273","v":1298.1999999999998},{"$f":"E273","v":3667.55},{"$f":"F273","v":1980.4770000000001},{"$f":"D273","v":660.4}]
[]
[]
[]
[null,null,null,null,null,null,null,"Ø",null,null,null,null,"500304L","500316L","500904L",null,"500CAOUT","750304L","750316L","750904L","750U45N","750CAOUT","1000304L","1000316L","1000904L","1000U45N","1000CAOUT","1250304L","1250316L","1250904L","1250U45N","1250CAOUT","1500304L","1500316L","1500904L","1500U45N","1500CAOUT"]
[null,null,null,null,null,null,"Revêtement caoutchouc",219,null,null,null,null,15,15,15,null,{"$f":"D62+15","v":700},15,15,15,15,{"$f":"D114+15","v":1015},15,15,15,15,{"$f":"D166+15","v":1275},15,15,15,15,{"$f":"D218+15","v":1655},15,15,15,15,{"$f":"D274+15","v":2115}]
[]
[]
[]
[null,null,null,null,null,null,null,"Ø",null,null,null,null,"500304L","500316L","500904L",null,"500CAOUT","750304L","750316L","750904L","750U45N","750CAOUT","1000304L","1000316L","1000904L","1000U45N","1000CAOUT","1250304L","1250316L","1250904L","1250U45N","1250CAOUT","1500304L","1500316L","1500904L","1500U45N","1500CAOUT"]
[null,null,null,null,null,null,"Rouleau soutien toile",60,null,null,null,null,{"$f":"B73","v":282.98},{"$f":"C73","v":324.45999999999998},{"$f":"E73","v":868.28},null,{"$f":"D73","v":267.06},{"$f":"B125","v":305.23},{"$f":"C125","v":350.21000000000004},{"$f":"E125","v":931.78},{"$f":"F125","v":503.16120000000001},{"$f":"D125","v":275.31},{"$f":"B177","v":327.48},{"$f":"C177","v":375.96000000000004},{"$f":"E177","v":995.28},{"$f":"F177","v":537.45119999999997},{"$f":"D177","v":283.56},0,0,0,0,0,0,0,0,0,0]
[null,null,null,null,null,null,null,88.9,null,null,null,null,0,0,0,null,0,0,0,0,0,0,0,0,0,0,0,{"$f":"B231","v":332.8},{"$f":"C231","v":396.75},{"$f":"E231","v":1088},{"$f":"F231","v":587.52},{"$f":"D231","v":163.81},{"$f":"B287","v":367.8},{"$f":"C287","v":440.5},{"$f":"E287","v":1213},{"$f":"F287","v":664.22},{"$f":"D287","v":172.06}]
[]
[]
[]
[null,null,null,null,null,null,null,"Ø",null,null,null,null,"500304L","500316L","500904L",null,"500CAOUT","750304L","750316L","750904L","750U45N","750CAOUT","1000304L","1000316L","1000904L","1000U45N","1000CAOUT","1250304L","1250316L","1250904L","1250U45N","1250CAOUT","1500304L","1500316L","1500904L","1500U45N","1500CAOUT"]
[null,null,null,null,null,null,"Revêtement caoutchouc",60,null,null,null,null,15,15,15,null,{"$f":"D74+15","v":385},15,15,15,15,{"$f":"D126+15","v":540},15,15,15,15,{"$f":"D178+15","v":675},0,0,0,0,0,0,0,0,0,0]
[null,null,null,null,null,null,null,88.9,null,null,null,null,0,0,0,null,0,0,0,0,0,0,0,0,0,0,0,15,15,15,15,{"$f":"D232+15","v":1115},15,15,15,15,{"$f":"D288+10","v":1520}]
[]
[]
[]
[null,null,null,null,null,null,null,"Ø",null,null,null,null,"500304L","500316L","500904L",null,"500CAOUT","750304L","750316L","750904L","750U45N","750CAOUT","1000304L","1000316L","1000904L","1000U45N","1000CAOUT","1250304L","1250316L","1250904L","1250U45N","1250CAOUT","1500304L","1500316L","1500904L","1500U45N","1500CAOUT"]
[null,null,null,null,null,null,"Rouleau d'entrée",219,null,null,null,null,{"$f":"B87","v":1437.5},{"$f":"C87","v":1603},{"$f":"E87","v":3755.75},null,{"$f":"D87","v":896},{"$f":"B139","v":1595},{"$f":"C139","v":1778},{"$f":"E139","v":4237},{"$f":"F139","v":2287.98},{"$f":"D139","v":986},{"$f":"B191","v":1752.5},{"$f":"C191","v":1953},{"$f":"E191","v":4718.25},{"$f":"F191","v":2547.855},{"$f":"D191","v":1076},{"$f":"B245","v":1910},{"$f":"C245","v":2128},{"$f":"E245","v":5199.5},{"$f":"F245","v":2807.73},{"$f":"D245","v":1166},{"$f":"B301","v":2067.5},{"$f":"C301","v":2303},{"$f":"E301","v":5680.75},{"$f":"F301","v":3067.605},{"$f":"D301","v":1256}]
[]
[]
[null,null,null,null,null,null,null,"Ø",null,null,null,null,"500304L","500316L","500904L",null,"500CAOUT","750304L","750316L","750904L","750U45N","750CAOUT","1000304L","1000316L","1000904L","1000U45N","1000CAOUT","1250304L","1250316L","1250904L","1250U45N","1250CAOUT","1500304L","1500316L","1500904L","1500U45N","1500CAOUT"]
[null,null,null,null,null,null,"Revêtement caoutchouc",219,null,null,null,null,15,15,15,null,{"$f":"D88","v":810},15,15,15,15,{"$f":"D140","v":1150},15,15,15,15,{"$f":"D192+15","v":1535},15,15,15,15,{"$f":"D246+15","v":1983},15,15,15,15,{"$f":"D302+15","v":2515}]
[]
[]
[null,null,null,null,null,null,null,"Ø",null,null,null,null,"500304L","500316L","500904L",null,"500CAOUT","750304L","750316L","750904L","750U45N","750CAOUT","1000304L","1000316L","1000904L","1000U45N","1000CAOUT","1250304L","1250316L","1250904L","1250U45N","1250CAOUT","1500304L","1500316L","1500904L","1500U45N","1500CAOUT"]
[null,null,null,null,null,null,"rouleau débatissage",60,null,null,null,null,{"$f":"B99","v":282.98},{"$f":"C99","v":324.45999999999998},{"$f":"E99","v":868.28},null,{"$f":"D99","v":267.06},{"$f":"B151","v":305.23},{"$f":"C151","v":350.21000000000004},{"$f":"E151","v":931.78},{"$f":"F151","v":503.16120000000001},{"$f":"D151","v":275.31},{"$f":"B203","v":327.48},{"$f":"C203","v":375.96000000000004},{"$f":"E203","v":995.28},{"$f":"F203","v":537.45119999999997},{"$f":"D203","v":283.56},0,0,0,0,0,0,0,0,0,0]
[null,null,null,null,null,null,null,88.9,null,null,null,null,0,0,0,null,0,0,0,0,0,0,0,0,0,0,0,{"$f":"B259","v":332.8},{"$f":"C259","v":396.75},{"$f":"E259","v":1088},{"$f":"F259","v":587.52},{"$f":"D259","v":163.81},{"$f":"B315","v":367.8},{"$f":"C315","v":440.5},{"$f":"E315","v":1213},{"$f":"F315","v":703.32},{"$f":"D315","v":172.06}]
[]
[]
[null,null,null,null,null,null,null,"Ø",null,null,null,null,"500304L","500316L","500904L",null,"500CAOUT","750304L","750316L","750904L","750U45N","750CAOUT","1000304L","1000316L","1000904L","1000U45N","1000CAOUT","1250304L","1250316L","1250904L","1250U45N","1250CAOUT","1500304L","1500316L","1500904L","1500U45N","1500CAOUT"]
[null,null,null,null,null,null,"Revêtement caoutchouc",60,null,null,null,null,{"$f":"B100+15","v":375},{"$f":"C100+15","v":375},{"$f":"E100+15","v":375},null,{"$f":"D100+15","v":625},{"$f":"B152+15","v":460},{"$f":"C152+15","v":460},{"$f":"E152+15","v":460},{"$f":"F152+15","v":460},{"$f":"D152+15","v":770},{"$f":"B204+15","v":605},{"$f":"C204+15","v":605},{"$f":"E204+15","v":605},{"$f":"F204+15","v":605},{"$f":"D204+15","v":1015},0,0,0,0,0,0,0,0,0,0]
[null,null,null,null,null,null,null,88.9,null,null,null,null,0,0,0,null,0,0,0,0,null,0,0,0,0,0,0,{"$f":"B260+15","v":725},{"$f":"C260+15","v":725},{"$f":"E260+15","v":725},{"$f":"F260+15","v":725},{"$f":"D260+15","v":1215},{"$f":"B316+15","v":870},{"$f":"C316+15","v":870},{"$f":"E316+15","v":870},{"$f":"F316+15","v":870},{"$f":"D316+15","v":1465}]
[]
[null,null,null,null,null,null,"Ø"]
[null,null,null,null,null,null,60,3.5]
[null,null,null,null,null,null,88.9,5]
[null,null,null,null,null,null,168,5]
[null,null,null,null,null,null,219,7]
[null,null,null,null,null,null,273,7]
[500,null,null,null,null,null,355,13]
["Soutien de bande",null,null,null,null,null,406,15]
["Matière","304 L","316 L","E24","904L","U45N"]
["Désignation",null,null,null,null,null,"SNH507",200,0.15]
[null,420,460,120,1265,{"$f":"E54*0.54","v":683.1},"SNH509",270,0.15]
["1 Tube ø 219,1 x 3,76 Lg 470",{"$f":"A56*B54","v":197.39999999999998},{"$f":"A56*C54","v":216.2},{"$f":"A56*D54","v":56.4},{"$f":"A56*E54","v":594.54999999999995},{"$f":"A56*F54","v":321.05700000000002},"SNH511",326,0.15]
[0.47]
["2 Galettes ép 10 ø 220 x ø 30",170,190,52,620,{"$f":"E57*0.54","v":334.8},250,200]
[null,21,24,24,66,{"$f":"E58*0.54","v":35.64},500,200]
["1 Ronds ø 40 Lg 1050",{"$f":"A60*B58","v":220.5},{"$f":"A60*C58","v":252},{"$f":"A60*D58","v":252},{"$f":"A60*E58","v":693},{"$f":"A60*F58","v":374.22},750,200]
[10.5,null,null,null,null,null,1000,200]
["TOTAL Matière",{"$f":"B55+B57+B59","v":587.9},{"$f":"C55+C57+C59","v":658.2},{"$f":"D55+D57+D59","v":360.4},{"$f":"E55+E57+E59","v":1907.55},{"$f":"F55+F57+F59","v":1030.077},1250,270]
["Revêtement caoutchouc",null,null,685,null,null,1500,270]
["M. O.",5,5,5,5,5,2000,270]
["Soutien de toile",null,null,null,null,null,2250,270]
["Matière","304 L","316 L (4404)","E24","904L","U45N",2500,270]
["Désignation",null,null,null,null,null,3000,270]
[null,89,103,33,254,{"$f":"E67*0.54","v":137.16},4000,270,326]
["1 Tube ø 60,3 x 2,77 Lg 820",{"$f":"A69*B67","v":72.97999999999999},{"$f":"A69*C67","v":84.46},{"$f":"A69*D67","v":27.06},{"$f":"A69*E67","v":208.28},{"$f":"A69*F67","v":112.4712},4200,270,326]
[0.82]
[null,21,24,24,66,{"$f":"E70*0.54","v":35.64}]
["2 Ronds ø 60",{"$f":"A72*B70","v":210},{"$f":"A72*C70","v":240},{"$f":"A72*D70","v":240},{"$f":"A72*E70","v":660},{"$f":"A72*F70","v":356.4}]
[10]
["TOTAL Matière",{"$f":"B68+B71","v":282.98},{"$f":"C68+C71","v":324.45999999999998},{"$f":"D68+D71","v":267.06},{"$f":"E68+E71","v":868.28},{"$f":"F68+F71","v":468.87119999999999}]
["Revêtement caoutchouc",null,null,370]
["M. O.",null,2,2,2,2]
["Rouleau d'entrée"]
["Matière","304 L","316 L","E24","904L","U45N"]
["Désignation"]
[null,420,460,120,1265,{"$f":"E79*0.54","v":683.1}]
["1 Tube ø 219,1 x 3,76 Lg 350",{"$f":"A81*B79","v":147},{"$f":"A81*C79","v":161},{"$f":"A81*D79","v":42},{"$f":"A81*E79","v":442.75},{"$f":"A81*F79","v":239.08499999999998}]
[0.35]
["2 Galettes ép 10 ø 220 x ø 30",170,190,52,620,{"$f":"E82*0.54","v":334.8}]
[null,21,24,24,66,{"$f":"E83*0.54","v":35.64}]
["1 Ronds ø 40 Lg 1050",{"$f":"A85*B83","v":220.5},{"$f":"A85*C83","v":252},{"$f":"A85*D83","v":252},{"$f":"A85*E83","v":693},{"$f":"A85*F83","v":374.22}]
[10.5]
["2 Fond Ø 219 x 3",900,1000,550,2000,{"$f":"E86*0.54","v":1080}]
["TOTAL Matière",{"$f":"B80+B82+B84+B86","v":1437.5},{"$f":"C80+C82+C84+C86","v":1603},{"$f":"D80+D82+D84+D86","v":896},{"$f":"E80+E82+E84+E86","v":3755.75},{"$f":"F80+F82+F84+F86","v":2028.105}]
["Revêtement caoutchouc",null,null,810]
["M. O.",8,8,8,8,8]
["Rouleau débatissage"]
["Matière","304 L","316 L (4404)","E24","904L","U45N"]
["Désignation"]
[null,89,103,33,254,{"$f":"E93*0.54","v":137.16}]
["1 Tube ø 60,3 x 2,77 Lg 820",{"$f":"A95*B93","v":72.97999999999999},{"$f":"A95*C93","v":84.46},{"$f":"A95*D93","v":27.06},{"$f":"A95*E93","v":208.28},{"$f":"A95*F93","v":112.4712}]
[0.82]
[null,21,24,24,66,{"$f":"E96*0.54","v":35.64}]
["2 Ronds ø 60",{"$f":"A98*B96","v":210},{"$f":"A98*C96","v":240},{"$f":"A98*D96","v":240},{"$f":"A98*E96","v":660},{"$f":"A98*F96","v":356.4}]
[10]
["TOTAL Matière",{"$f":"B94+B97","v":282.98},{"$f":"C94+C97","v":324.45999999999998},{"$f":"D94+D97","v":267.06},{"$f":"E94+E97","v":868.28},{"$f":"F94+F97","v":468.87119999999999}]
["Revêtement caoutchouc",360,360,610,360,360]
["M. O.",2,2,2,2,2]
[750]
["Soutien de bande"]
["Matière","304 L","316 L","E24","904L","U45N"]
["Désignation"]
[null,420,460,120,1265,{"$f":"E106*0.54","v":683.1}]
["1 Tube ø 219,1 x 3,76 Lg 720",{"$f":"A108*B106","v":302.39999999999998},{"$f":"A108*C106","v":331.2},{"$f":"A108*D106","v":86.399999999999991},{"$f":"A108*E106","v":910.8},{"$f":"A108*F106","v":491.83199999999999}]
[0.72]
["2 Galettes ép 10 ø 220 x ø 30",170,190,52,620,{"$f":"E109*0.54","v":334.8}]
[null,21,24,24,66,{"$f":"E110*0.54","v":35.64}]
["1 Ronds ø 40 Lg 1300",{"$f":"A112*B110","v":273},{"$f":"A112*C110","v":312},{"$f":"A112*D110","v":312},{"$f":"A112*E110","v":858},{"$f":"A112*F110","v":463.32}]
[13]
["TOTAL Matière",{"$f":"B107+B109+B111","v":745.4},{"$f":"C107+C109+C111","v":833.2},{"$f":"D107+D109+D111","v":450.4},{"$f":"E107+E109+E111","v":2388.8000000000002},{"$f":"F107+F109+F111","v":1289.952}]
["Revêtement caoutchouc",null,null,1000]
["M. O.",5,5,5,5,5]
["Soutien de toile"]
["Matière","304 L","316 L (4404)","E24","904L","U45N"]
["Désignation"]
[null,89,103,33,254,{"$f":"E119*0.54","v":137.16}]
["1 Tube ø 60,3 x 2,77 Lg 1070",{"$f":"A121*B119","v":95.23},{"$f":"A121*C119","v":110.21000000000001},{"$f":"A121*D119","v":35.31},{"$f":"A121*E119","v":271.78000000000003},{"$f":"A121*F119","v":146.7612}]
[1.07]
[null,21,24,24,66,{"$f":"E122*0.54","v":35.64}]
["2 Ronds ø 60",{"$f":"A124*B122","v":210},{"$f":"A124*C122","v":240},{"$f":"A124*D122","v":240},{"$f":"A124*E122","v":660},{"$f":"A124*F122","v":356.4}]
[10]
["TOTAL Matière",{"$f":"B120+B123","v":305.23},{"$f":"C120+C123","v":350.21000000000004},{"$f":"D120+D123","v":275.31},{"$f":"E120+E123","v":931.78},{"$f":"F120+F123","v":503.16120000000001}]
["Revêtement caoutchouc",null,null,525]
["M. O.",null,2,2,2,2]
["Rouleau d'entrée"]
["Matière","304 L","316 L","E24","904L","U45N"]
["Désignation"]
[null,420,460,120,1265,{"$f":"E131*0.54","v":683.1}]
["1 Tube ø 219,1 x 3,76 Lg 600",{"$f":"A133*B131","v":252},{"$f":"A133*C131","v":276},{"$f":"A133*D131","v":72},{"$f":"A133*E131","v":759},{"$f":"A133*F131","v":409.86}]
[0.6]
["2 Galettes ép 10 ø 220 x ø 30",170,190,52,620,{"$f":"E134*0.54","v":334.8}]
[null,21,24,24,66,{"$f":"E135*0.54","v":35.64}]
["1 Ronds ø 40 Lg 1300",{"$f":"A137*B135","v":273},{"$f":"A137*C135","v":312},{"$f":"A137*D135","v":312},{"$f":"A137*E135","v":858},{"$f":"A137*F135","v":463.32}]
[13]
["2 Fond Ø 219 x 3",900,1000,550,2000,{"$f":"E138*0.54","v":1080}]
["TOTAL Matière",{"$f":"B132+B134+B136+B138","v":1595},{"$f":"C132+C134+C136+C138","v":1778},{"$f":"D132+D134+D136+D138","v":986},{"$f":"E132+E134+E136+E138","v":4237},{"$f":"F132+F134+F136+F138","v":2287.98}]
["Revêtement caoutchouc",null,null,1150]
["M. O.",8,8,8,8,8]
["Rouleau débatissage"]
["Matière","304 L","316 L (4404)","E24","904L","U45N"]
["Désignation"]
[null,89,103,33,254,{"$f":"E145*0.54","v":137.16}]
["1 Tube ø 60,3 x 2,77 Lg 1070",{"$f":"A147*B145","v":95.23},{"$f":"A147*C145","v":110.21000000000001},{"$f":"A147*D145","v":35.31},{"$f":"A147*E145","v":271.78000000000003},{"$f":"A147*F145","v":146.7612}]
[1.07]
[null,21,24,24,66,{"$f":"E148*0.54","v":35.64}]
["2 Ronds ø 60",{"$f":"A150*B148","v":210},{"$f":"A150*C148","v":240},{"$f":"A150*D148","v":240},{"$f":"A150*E148","v":660},{"$f":"A150*F148","v":356.4}]
[10]
["TOTAL Matière",{"$f":"B146+B149","v":305.23},{"$f":"C146+C149","v":350.21000000000004},{"$f":"D146+D149","v":275.31},{"$f":"E146+E149","v":931.78},{"$f":"F146+F149","v":503.16120000000001}]
["Revêtement caoutchouc",445,445,755,445,445]
["M. O.",null,2,2,2,2]
[1000]
["Soutien de bande"]
["Matière","304 L","316 L","E24","904L","U45N"]
["Désignation"]
[null,420,460,120,1265,{"$f":"E158*0.54","v":683.1}]
["1 Tube ø 219,1 x 3,76 Lg 970",{"$f":"A160*B158","v":407.4},{"$f":"A160*C158","v":446.2},{"$f":"A160*D158","v":116.39999999999999},{"$f":"A160*E158","v":1227.05},{"$f":"A160*F158","v":662.60699999999997}]
[0.97]
["2 Galettes ép 10 ø 220 x ø 30",170,190,52,620,{"$f":"E161*0.54","v":334.8}]
[null,21,24,24,66,{"$f":"E162*0.54","v":35.64}]
["1 Ronds ø 40 Lg 1550",{"$f":"A164*B162","v":325.5},{"$f":"A164*C162","v":372},{"$f":"A164*D162","v":372},{"$f":"A164*E162","v":1023},{"$f":"A164*F162","v":552.41999999999996}]
[15.5]
["TOTAL Matière",{"$f":"B159+B161+B163","v":902.9},{"$f":"C159+C161+C163","v":1008.2},{"$f":"D159+D161+D163","v":540.4},{"$f":"E159+E161+E163","v":2870.05},{"$f":"F159+F161+F163","v":1549.8269999999998}]
["Revêtement caoutchouc",null,null,1260]
["M. O.",5,5,5,5,5]
["Soutien de toile"]
["Matière","304 L","316 L (4404)","E24","904L","U45N"]
["Désignation"]
[null,89,103,33,254,{"$f":"E171*0.54","v":137.16}]
["1 Tube ø 60,3 x 2,77 Lg 1320",{"$f":"A173*B171","v":117.48},{"$f":"A173*C171","v":135.96},{"$f":"A173*D171","v":43.56},{"$f":"A173*E171","v":335.28000000000003},{"$f":"A173*F171","v":181.05119999999999}]
[1.32]
[null,21,24,24,66,{"$f":"E174*0.54","v":35.64}]
["2 Ronds ø 60",{"$f":"A176*B174","v":210},{"$f":"A176*C174","v":240},{"$f":"A176*D174","v":240},{"$f":"A176*E174","v":660},{"$f":"A176*F174","v":356.4}]
[10]
["TOTAL Matière",{"$f":"B172+B175","v":327.48},{"$f":"C172+C175","v":375.96000000000004},{"$f":"D172+D175","v":283.56},{"$f":"E172+E175","v":995.28},{"$f":"F172+F175","v":537.45119999999997}]
["Revêtement caoutchouc",null,null,660]
["M. O.",null,2,2,2,2]
["Rouleau d'entrée"]
["Matière","304 L","316 L","E24","904L","U45N"]
["Désignation"]
[null,420,460,120,1265,{"$f":"E183*0.54","v":683.1}]
["1 Tube ø 219,1 x 3,76 Lg 850",{"$f":"A185*B183","v":357},{"$f":"A185*C183","v":391},{"$f":"A185*D183","v":102},{"$f":"A185*E183","v":1075.25},{"$f":"A185*F183","v":580.63499999999999}]
[0.85]
["2 Galettes ép 10 ø 220 x ø 30",170,190,52,620,{"$f":"E186*0.54","v":334.8}]
[null,21,24,24,66,{"$f":"E187*0.54","v":35.64}]
["1 Ronds ø 40 Lg 1550",{"$f":"A189*B187","v":325.5},{"$f":"A189*C187","v":372},{"$f":"A189*D187","v":372},{"$f":"A189*E187","v":1023},{"$f":"A189*F187","v":552.41999999999996}]
[15.5]
["2 Fond Ø 219 x 3",900,1000,550,2000,{"$f":"E190*0.54","v":1080}]
["TOTAL Matière",{"$f":"B184+B186+B188+B190","v":1752.5},{"$f":"C184+C186+C188+C190","v":1953},{"$f":"D184+D186+D188+D190","v":1076},{"$f":"E184+E186+E188+E190","v":4718.25},{"$f":"F184+F186+F188+F190","v":2547.855}]
["Revêtement caoutchouc",null,null,1520]
["M. O.",8,8,8,8,8]
["Soutien de débatissage"]
["Matière","304 L","316 L (4404)","E24","904L","U45N"]
["Désignation"]
[null,89,103,33,254,{"$f":"E197*0.54","v":137.16}]
["1 Tube ø 60,3 x 2,77 Lg 1320",{"$f":"A199*B197","v":117.48},{"$f":"A199*C197","v":135.96},{"$f":"A199*D197","v":43.56},{"$f":"A199*E197","v":335.28000000000003},{"$f":"A199*F197","v":181.05119999999999}]
[1.32]
[null,21,24,24,66,{"$f":"E200*0.54","v":35.64}]
["2 Ronds ø 60",{"$f":"A202*B200","v":210},{"$f":"A202*C200","v":240},{"$f":"A202*D200","v":240},{"$f":"A202*E200","v":660},{"$f":"A202*F200","v":356.4}]
[10]
["TOTAL Matière",{"$f":"B198+B201","v":327.48},{"$f":"C198+C201","v":375.96000000000004},{"$f":"D198+D201","v":283.56},{"$f":"E198+E201","v":995.28},{"$f":"F198+F201","v":537.45119999999997}]
["Revêtement caoutchouc",590,590,1000,590,590]
["M. O.",null,2,2,2,2]
[1250]
["Soutien de bande"]
["Matière","304 L","316 L","E24","904L","U45N"]
["Désignation"]
[null,420,460,120,1265,{"$f":"E210*0.54","v":683.1}]
["1 Tube ø 219,1 x 3,76 Lg 1220",{"$f":"A212*B210","v":512.4},{"$f":"A212*C210","v":561.19999999999993},{"$f":"A212*D210","v":146.4},{"$f":"A212*E210","v":1543.3},{"$f":"A212*F210","v":833.38200000000006}]
[1.22]
["2 Galettes ép 10 ø 220 x ø 30",170,190,52,620,{"$f":"E213*0.54","v":334.8}]
[null,21,24,24,66,{"$f":"E214*0.54","v":35.64}]
["1 Ronds ø 40 Lg 1800",{"$f":"A216*B214","v":378},{"$f":"A216*C214","v":432},{"$f":"A216*D214","v":432},{"$f":"A216*E214","v":1188},{"$f":"A216*F214","v":641.52}]
[18]
["TOTAL Matière",{"$f":"B211+B213+B215","v":1060.4000000000001},{"$f":"C211+C213+C215","v":1183.1999999999998},{"$f":"D211+D213+D215","v":630.4},{"$f":"E211+E213+E215","v":3351.3},{"$f":"F211+F213+F215","v":1809.702}]
["Revêtement caoutchouc",null,null,1640]
["M. O.",5,5,5,5,5]
["Soutien de toile"]
["Matière","304 L","316 L (4404)","E24","904L","U45N"]
["Désignation"]
[null,140,175,33,500,{"$f":"E223*0.54","v":270}]
["1 Tube ø 88,9 x 3,05 Lg 1570",{"$f":"$A$225*B223","v":219.8},{"$f":"$A$225*C223","v":274.75},{"$f":"$A$225*D223","v":51.81},{"$f":"$A$225*E223","v":785},{"$f":"A225*F223","v":423.90000000000003}]
[1.57]
[null,21,24,24,66,{"$f":"E226*0.54","v":35.64}]
["2 Ronds ø 30 Lg 250",{"$f":"A228*B226","v":63},{"$f":"A228*C226","v":72},{"$f":"A228*D226","v":72},{"$f":"A228*E226","v":198},{"$f":"A228*F226","v":106.92}]
[3]
["2 Galettes ép 8 ø90 x ø30",20,20,20,20,{"$f":"E229*0.54","v":10.8}]
["2 Galettes ép 8 ø90 x ø30",30,30,20,85,{"$f":"E230*0.54","v":45.900000000000006}]
["TOTAL Matière",{"$f":"B224+B227+B229+B230","v":332.8},{"$f":"C224+C227+C229+C230","v":396.75},{"$f":"D224+D227+D229+D230","v":163.81},{"$f":"E224+E227+E229+E230","v":1088},{"$f":"F224+F227+F229+F230","v":587.52}]
["Revêtement caoutchouc",null,null,1100]
["M. O.",null,2,2,2,2]
["Rouleau d'entrée"]
["Matière","304 L","316 L","E24","904L","U45N"]
["Désignation"]
[null,420,460,120,1265,{"$f":"E237*0.54","v":683.1}]
["1 Tube ø 219,1 x 3,76 Lg 1100",{"$f":"A239*B237","v":462.00000000000006},{"$f":"A239*C237","v":506.00000000000006},{"$f":"A239*D237","v":132},{"$f":"A239*E237","v":1391.5},{"$f":"A239*F237","v":751.41000000000008}]
[1.1000000000000001]
["2 Galettes ép 10 ø 220 x ø 30",170,190,52,620,{"$f":"E240*0.54","v":334.8}]
[null,21,24,24,66,{"$f":"E241*0.54","v":35.64}]
["1 Ronds ø 40 Lg 1800",{"$f":"A243*B241","v":378},{"$f":"A243*C241","v":432},{"$f":"A243*D241","v":432},{"$f":"A243*E241","v":1188},{"$f":"A243*F241","v":641.52}]
[18]
["2 Fond Ø 219 x 3",900,1000,550,2000,{"$f":"E244*0.54","v":1080}]
["TOTAL Matière",{"$f":"B238+B240+B242+B244","v":1910},{"$f":"C238+C240+C242+C244","v":2128},{"$f":"D238+D240+D242+D244","v":1166},{"$f":"E238+E240+E242+E244","v":5199.5},{"$f":"F238+F240+F242+F244","v":2807.73}]
["Revêtement caoutchouc",null,null,1968]
["M. O.",8,8,8,8,8]
["Soutien de débatissage"]
["Matière","304 L","316 L (4404)","E24","904L","U45N"]
["Désignation"]
[null,140,175,33,500,{"$f":"E251*0.54","v":270}]
["1 Tube ø 88,9 x 3,05 Lg 1570",{"$f":"$A$253*B251","v":219.8},{"$f":"$A$253*C251","v":274.75},{"$f":"$A$253*D251","v":51.81},{"$f":"$A$253*E251","v":785},{"$f":"A253*F251","v":423.90000000000003}]
[1.57]
[null,21,24,24,66,{"$f":"E254*0.54","v":35.64}]
["2 Ronds ø 30 Lg 250",{"$f":"A256*B254","v":63},{"$f":"A256*C254","v":72},{"$f":"A256*D254","v":72},{"$f":"A256*E254","v":198},{"$f":"A256*F254","v":106.92}]
[3]
["2 Galettes ép 8 ø90 x ø30",20,20,20,20,{"$f":"E257*0.54","v":10.8}]
["2 Galettes ép 8 ø90 x ø30",30,30,20,85,{"$f":"E258*0.54","v":45.900000000000006}]
["TOTAL Matière",{"$f":"B252+B255+B257+B258","v":332.8},{"$f":"C252+C255+C257+C258","v":396.75},{"$f":"D252+D255+D257+D258","v":163.81},{"$f":"E252+E255+E257+E258","v":1088},{"$f":"F252+F255+F257+F258","v":587.52}]
["Revêtement caoutchouc",710,710,1200,710,710]
["M. O.",2,2,2,2,2]
[1500]
["Soutien de bande"]
["Matière","304 L","316 L","E24","904L","U45N"]
["Désignation"]
[null,420,460,120,1265,{"$f":"E266*0.54","v":683.1}]
["1 Tube ø 219,1 x 3,76 Lg 1470",{"$f":"A268*B266","v":617.4},{"$f":"A268*C266","v":676.19999999999993},{"$f":"A268*D266","v":176.4},{"$f":"A268*E266","v":1859.55},{"$f":"A268*F266","v":1004.157}]
[1.47]
["2 Galettes ép 10 ø 220 x ø 30",170,190,52,620,{"$f":"E269*0.54","v":334.8}]
[null,21,24,24,66,{"$f":"E270*0.54","v":35.64}]
["1 Ronds ø 40 Lg 1800",{"$f":"A272*B270","v":378},{"$f":"A272*C270","v":432},{"$f":"A272*D270","v":432},{"$f":"A272*E270","v":1188},{"$f":"A272*F270","v":641.52}]
[18]
["TOTAL Matière",{"$f":"B267+B269+B271","v":1165.4000000000001},{"$f":"C267+C269+C271","v":1298.1999999999998},{"$f":"D267+D269+D271","v":660.4},{"$f":"E267+E269+E271","v":3667.55},{"$f":"F267+F269+F271","v":1980.4770000000001}]
["Revêtement caoutchouc",null,null,2100]
["M. O.",5,5,5,5,5]
["Soutien de toile"]
["Matière","304 L","316 L (4404)","E24","904L","U45N"]
["Désignation"]
[null,140,175,33,500,{"$f":"E279*0.54","v":270}]
["1 Tube ø 88,9 x 3,05 Lg 1820",{"$f":"$A$281*B279","v":254.8},{"$f":"$A$281*C279","v":318.5},{"$f":"$A$281*D279","v":60.06},{"$f":"$A$281*E279","v":910},{"$f":"A281*F279","v":491.40000000000003}]
[1.82]
[null,21,24,24,66,{"$f":"E282*0.54","v":35.64}]
["2 Ronds ø 30 Lg 250",{"$f":"A284*B282","v":63},{"$f":"A284*C282","v":72},{"$f":"A284*D282","v":72},{"$f":"A284*E282","v":198},{"$f":"A284*F282","v":106.92}]
[3]
["2 Galettes ép 8 ø90 x ø30",20,20,20,20,20]
["2 Galettes ép 8 ø90 x ø30",30,30,20,85,{"$f":"E286*0.54","v":45.900000000000006}]
["TOTAL Matière",{"$f":"B280+B283+B285+B286","v":367.8},{"$f":"C280+C283+C285+C286","v":440.5},{"$f":"D280+D283+D285+D286","v":172.06},{"$f":"E280+E283+E285+E286","v":1213},{"$f":"F280+F283+F285+F286","v":664.22}]
["Revêtement caoutchouc",null,null,1510]
["M. O.",null,2,2,2,2]
["Rouleau d'entrée"]
["Matière","304 L","316 L","E24","904L","U45N"]
["Désignation"]
[null,420,460,120,1265,{"$f":"E293*0.54","v":683.1}]
["1 Tube ø 219,1 x 3,76 Lg 1350",{"$f":"A295*B293","v":567},{"$f":"A295*C293","v":621},{"$f":"A295*D293","v":162},{"$f":"A295*E293","v":1707.75},{"$f":"A295*F293","v":922.18500000000006}]
[1.35]
["2 Galettes ép 10 ø 220 x ø 30",170,190,52,620,{"$f":"E296*0.54","v":334.8}]
[null,21,24,24,66,{"$f":"E297*0.54","v":35.64}]
["1 Ronds ø 40 Lg 2050",{"$f":"A299*B297","v":430.5},{"$f":"A299*C297","v":492},{"$f":"A299*D297","v":492},{"$f":"A299*E297","v":1353},{"$f":"A299*F297","v":730.62}]
[20.5]
["2 Fond Ø 219 x 3",900,1000,550,2000,{"$f":"E300*0.54","v":1080}]
["TOTAL Matière",{"$f":"B294+B296+B298+B300","v":2067.5},{"$f":"C294+C296+C298+C300","v":2303},{"$f":"D294+D296+D298+D300","v":1256},{"$f":"E294+E296+E298+E300","v":5680.75},{"$f":"F294+F296+F298+F300","v":3067.605}]
["Revêtement caoutchouc",null,null,2500]
["M. O.",8,8,8,8,8]
["Soutien de débatissage"]
["Matière","304 L","316 L (4404)","E24","904L","U45N"]
["Désignation"]
[null,140,175,33,500,{"$f":"E307*0.54","v":270}]
["1 Tube ø 88,9 x 3,05 Lg 1820",{"$f":"$A$309*B307","v":254.8},{"$f":"$A$309*C307","v":318.5},{"$f":"$A$309*D307","v":60.06},{"$f":"$A$309*E307","v":910},{"$f":"A309*F307","v":491.40000000000003}]
[1.82]
[null,21,24,24,66,{"$f":"E310*0.54","v":35.64}]
["2 Ronds ø 30 Lg 250",{"$f":"A312*B310","v":63},{"$f":"A312*C310","v":72},{"$f":"A312*D310","v":72},{"$f":"A312*E310","v":198},{"$f":"A312*F310","v":106.92}]
[3]
["2 Galettes ép 8 ø90 x ø30",20,20,20,20,20]
["2 Galettes ép 8 ø90 x ø30",30,30,20,85,85]
["TOTAL Matière",{"$f":"B308+B311+B313+B314","v":367.8},{"$f":"C308+C311+C313+C314","v":440.5},{"$f":"D308+D311+D313+D314","v":172.06},{"$f":"E308+E311+E313+E314","v":1213},{"$f":"F308+F311+F313+F314","v":703.32}]
["Revêtement caoutchouc",855,855,1450,855,855]
["M. O.",2,2,2,2,2]

{"sheet":"B. à V.2","index":24,"n_rows":93,"n_cols":36,"rows_kept":93,"cut":false,"hidden":true,"merged":[]}
["BOITE A VIDE",null,18,21,55,null,18,21,55,30,30,"poids110","poids110","poids140","poids140"]
[null,"USVR","110304L","110316L","110904L","110SVR","140304L","140316L","140904L","110U45N","140U45N",null,null,"??","??"]
[2000,5620,1580,1690,2920,null,null,null,null,{"$f":"(((E3-D3)/($E$1-$D$1))*$J$1)+(E3-((E3-D3)/($E$1-$D$1))*$E$1)","v":2015.5882352941176},null,{"$f":"(D3-C3)/($D$1-$C$1)","v":36.666666666666664},{"$f":"(E3-D3)/($E$1-$D$1)","v":36.176470588235297}]
[2500,6400,2650,2780,4290,null,null,null,null,{"$f":"(((E4-D4)/($E$1-$D$1))*$J$1)+(E4-((E4-D4)/($E$1-$D$1))*$E$1)","v":3179.705882352941},null,45,{"$f":"(E4-D4)/($E$1-$D$1)","v":44.411764705882355}]
[3000,7380,2800,2950,4750,8130,3050,3250,6105,{"$f":"(((E5-D5)/($E$1-$D$1))*$J$1)+(E5-((E5-D5)/($E$1-$D$1))*$E$1)","v":3426.4705882352941},{"$f":"(((I5-H5)/($E$1-$D$1))*$J$1)+(I5-((I5-H5)/($E$1-$D$1)*$I$1))","v":4005.7352941176468},52,{"$f":"(E5-D5)/($E$1-$D$1)","v":52.941176470588232},{"$f":"(H5-G5)/($H$1-$G$1)","v":66.666666666666671},{"$f":"(I5-H5)/($I$1-$H$1)","v":83.970588235294116}]
[3500,8960,2910,3081,5100,9291,3230,3470,6675,{"$f":"(((E6-D6)/($E$1-$D$1))*$J$1)+(E6-((E6-D6)/($E$1-$D$1))*$E$1)","v":3615.4411764705883},{"$f":"(((I6-H6)/($E$1-$D$1))*$J$1)+(I6-((I6-H6)/($E$1-$D$1)*$I$1))","v":4318.3823529411766},58,{"$f":"(E6-D6)/($E$1-$D$1)","v":59.382352941176471},{"$f":"(H6-G6)/($H$1-$G$1)","v":80},{"$f":"(I6-H6)/($I$1-$H$1)","v":94.264705882352942}]
[4000,null,null,null,null,10843,3400,3650,7176,null,{"$f":"(((I7-H7)/($E$1-$D$1))*$J$1)+(I7-((I7-H7)/($E$1-$D$1)*$I$1))","v":4583.3529411764703},null,null,{"$f":"(H7-G7)/($H$1-$G$1)","v":83.333333333333329},{"$f":"(I7-H7)/($I$1-$H$1)","v":103.70588235294117}]
[]
["Berceau","304L","316L","U45N","904L"]
[null,910,1090,{"$f":"C10*1.37","v":1493.3000000000002},2050]
[]
["Entrée et sortie","SVR","304L","316L","904L","U45N"]
["U",1312]
[110,null,1764,1878,2785,{"$f":"(((E14-D14)/($E$1-$D$1))*$J$1)+(E14-((E14-D14)/($E$1-$D$1))*$E$1)","v":2118.0882352941176}]
[140,1878,1764,1878,2785,{"$f":"(((E15-D15)/($E$1-$D$1))*$J$1)+(E15-((E15-D15)/($E$1-$D$1))*$E$1)","v":2118.0882352941176}]
[]
["Déflecteur + Goulotte","SVR","304L","316L",{"$f":"$B$72","v":"U45N"},"MO","904L","U45N"]
[250,0,0,0,0,0,0]
[500,0,0,0,0,0,0]
[750,0,0,0,0,0,0]
[1000,0,0,0,0,0,0]
[1250,2120,433,500,{"$f":"IF($E$17=$G$17,G22,H22)","v":707.79411764705878},10,1285,{"$f":"(((G22-D22)/($E$1-$D$1))*$J$1)+(G22-((G22-D22)/($E$1-$D$1))*$E$1)","v":707.79411764705878}]
[1500,2544,505,583,{"$f":"IF($E$17=$G$17,G23,H23)","v":825.73529411764707},12,1500,{"$f":"(((G23-D23)/($E$1-$D$1))*$J$1)+(G23-((G23-D23)/($E$1-$D$1))*$E$1)","v":825.73529411764707}]
[2000,3392,650,752,1063.8235294117646,12,1930,1063.8235294117646]
[2500,4240,800,921,1301.9117647058824,12,2360,1301.9117647058824]
[3000,5088,941,1089,1539.2647058823532,12,2790,1539.2647058823532]
[4000,6784,1235,1430,2017.6470588235293,14,3650,2017.6470588235293]
[4200,7125,1292,1495,2110.9705882352941,14,3822,2110.9705882352941]
[]
["Rampe de lubrification","SVR","304L","316L",{"$f":"$B$72","v":"U45N"},null,"904L","U45N"]
["Prix au mètre",432,360,432,{"$f":"IF($B$72=$G$30,G31,H31)","v":632.11764705882342},null,1188,{"$f":"(((G31-D31)/($E$1-$D$1))*$J$1)+(G31-((G31-D31)/($E$1-$D$1))*$E$1)","v":632.11764705882342}]
[null,0,0.5,0.5,0.5,null,0.5]
["Tension de courroies","SVR","304L","316L",{"$f":"$B$72","v":"U45N"},null,"904L"]
[null,500,420,500,{"$f":"IF($B$72=$G$30,G34,H34)","v":731.61764705882342},null,1375,{"$f":"(((G34-D34)/($E$1-$D$1))*$J$1)+(G34-((G34-D34)/($E$1-$D$1))*$E$1)","v":731.61764705882342}]
[]
["Barrage interne","SVR","304L","316L",{"$f":"$B$72","v":"U45N"},null,"904L"]
[null,300,250,250,{"$f":"IF($B$72=$G$30,G37,H37)","v":263.23529411764707},null,300,{"$f":"(((G37-D37)/($E$1-$D$1))*$J$1)+(G37-((G37-D37)/($E$1-$D$1))*$E$1)","v":263.23529411764707}]
[]
["Outillage de barrage","SVR","304L","316L",{"$f":"$B$72","v":"U45N"},null,"904L"]
[null,775,775,775,{"$f":"IF($B$72=$G$30,G40,H40)","v":775},null,775,{"$f":"(((G40-D40)/($E$1-$D$1))*$J$1)+(G40-((G40-D40)/($E$1-$D$1))*$E$1)","v":775}]
[]
["Courroies",55]
[]
["Piquages",40,50,65,80,100,125,150]
["SVR",100,200,250,280,320,380,450]
["304L",227,270,334,382,446,790,939]
["316L",244,291,368,420,497,893,1020,"U45N",{"$f":"(B47/$H$1)*$J$1","v":348.57142857142856},415.71428571428572,525.71428571428578,600,710,1275.7142857142858,1457.1428571428571]
[{"$f":"B72","v":"U45N"},{"$f":"IF($A$48=$I$48,J48,J47)","v":348.57142857142856},415.71428571428572,525.71428571428578,600,710,1275.7142857142858,1457.1428571428571,"904L",460,582,722,850,1168,2044,2335,null,null,null,null,null,null,null,null,null,null,null,null,null,"904L"]
[null,1.5,1.5,1.5,2,2,2.5,2.5,null,null,null,null,null,null,null,null,null,null,null,null,null,null,null,null,null,null,null,null,null,"U45N40","U45N50","U45N65","U45N80","U45N100","U45N125","U45N150"]
["Tuyauteries de liaison","SVR40","SVR50","SVR65","SVR80","SVR100","SVR125","SVR150","304L40","304L50","304L65","304L80","304L100","304L125","304L150","316L40","316L50","316L65","316L80","316L100","316L125","316L150",{"$f":"IF($B$72=$AD$48,AD50,AD49)","v":"U45N40"},{"$f":"IF($B$72=$AD$48,AE50,AE49)","v":"U45N50"},"U45N65","U45N80","U45N100","U45N125","U45N150","904L40","904L50","904L65","904L80","904L100","904L125","904L150"]
[250,342,461,590,732,"-","-","-",155,175,231,270,"-","-","-",166,191,258,315,"-","-","-",{"$f":"IF($B$72=$AD$48,AD51,AD51/55*30)","v":182.18181818181816},{"$f":"IF($B$72=$AD$48,AE51,AE51/55*30)","v":226.36363636363637},{"$f":"IF($B$72=$AD$48,AF51,AF51/55*30)","v":286.36363636363637},{"$f":"IF($B$72=$AD$48,AG51,AG51/55*30)","v":361.63636363636363},"-","-","-",334,415,525,663,"-","-","-"]
[500,342,461,590,732,"-","-","-",163,186,245,287,408,828,"-",175,204,274,337,469,959,1115,{"$f":"IF($B$72=$AD$48,AD52,AD52/55*30)","v":195.27272727272725},{"$f":"IF($B$72=$AD$48,AE52,AE52/55*30)","v":245.45454545454544},{"$f":"IF($B$72=$AD$48,AF52,AF52/55*30)","v":310.90909090909088},396,706.36363636363637,1276.909090909091,1476,358,450,570,726,1295,2341,2706]
[750,342,461,590,732,"-","-","-",170,197,258,304,408,828,"-",183,217,290,358,469,959,1115,{"$f":"IF($B$72=$AD$48,AD53,AD53/55*30)","v":208.36363636363637},{"$f":"IF($B$72=$AD$48,AE53,AE53/55*30)","v":264.54545454545456},335.45454545454544,429.81818181818187,706.36363636363637,1276.909090909091,1476,382,485,615,788,1295,2341,2706]
[1000,342,461,590,732,1625,1885,2000,177,208,272,320,408,828,1008,null,null,306,380,469,959,1115,null,null,360,464.18181818181819,{"$f":"IF($B$72=$AD$48,AH54,AH54/55*30)","v":706.36363636363637},{"$f":"IF($B$72=$AD$48,AI54,AI54/55*30)","v":1276.909090909091},{"$f":"IF($B$72=$AD$48,AJ54,AJ54/55*30)","v":1476},null,null,660,851,1295,2341,2706]
[1250,"-","-",603,758,1676,1949,2070,"-","-",286,337,431,871,1062,"-","-",322,401,496,1014,1180,"-","-",384.54545454545456,498.00000000000006,756,1358.7272727272727,1574.7272727272727,"-","-",705,913,1386,2491,2887]
[1500,"-","-",616,784,1727.5,2013.5,2140,"-","-",300,354,453,914,1116,"-","-",355,423,523,1069,1256,"-","-",409.09090909090912,532.36363636363637,806.18181818181813,1441.0909090909092,1674,"-","-",750,976,1478,2642,3069]
[2000,"-","-",642,836,1830,2142,2280,"-","-",327,387,498,1000,1225,"-","-",388,466,577,1178,1376,"-","-",458.18181818181819,600.54545454545462,905.4545454545455,1522.909090909091,1871.4545454545455,"-","-",840,1101,1660,2792,3431]
[2500,"-","-",668,888,1932.5,2270.5,2420,"-","-",355,421,543,1086,1334,"-","-",420,509,631,1288,1507,"-","-",507.27272727272731,668.72727272727263,1005.2727272727273,1687.6363636363637,2069.4545454545455,"-","-",930,1226,1843,3094,3794]
[3000,"-","-",694,940,2035,2400,2560,"-","-",382,480,588,1172,1443,"-","-",453,552,685,1397,1637,"-","-",556.36363636363637,736.90909090909088,1104.5454545454545,1851.8181818181818,2266.909090909091,"-","-",1020,1351,2025,3395,4156]
[4000,"-","-",746,1044,2240,2656,2840,"-","-",437,546,678,1344,1660,"-","-",518,638,793,1616,1898,"-","-",654.5454545454545,873.27272727272725,1303.6363636363635,2180.7272727272725,2662.3636363636365,"-","-",1200,1601,2390,3998,4881]
[4200,"-","-",759,1070,2281,2708,2896,"-","-",448,560,696,1379,1704,"-","-",531,655,815,1660,1950,"-","-",674.18181818181813,900.54545454545462,1343.4545454545455,2246.181818181818,2741.454545454545,"-","-",1236,1651,2463,4118,5026]
[null,0,0,0,0,0,0,0,2,2,2.5,2.5,2.8,3,3,2,2,2.5,2.5,2.8,3,3,2,2,2.5,2.5,2.8,3,3,2,2,2.5,2.5,2.8,3,3]
[]
["Longueur boite à vide",{"$f":"B66*2+B67*2.5+B68*3+B69*3.5+B70*4","v":15}]
["Largeur",{"$f":"'Série 2'!B5","v":3000},null,null,"USVR","110304L","110316L","110904L","110SVR","140304L","140316L","140904L","110U45N","140U45N"]
[2000,{"$f":"'Série 2'!B11","v":0},null,2000,32.200000000000003,20,20,20,15,20,20,20,20,20]
[2500,{"$f":"'Série 2'!B12","v":0},null,2500,38.450000000000003,20,20,20,15,20,20,20,20,20]
[3000,{"$f":"'Série 2'!B13","v":5},null,3000,44.45,20,20,20,16,20,20,20,20,20]
[3500,{"$f":"'Série 2'!B9+'Série 2'!B14","v":0},null,3500,52.2,20,20,20,17,20,20,20,20,20]
[null,null,null,4000,0,0,0,0,18,20,20,20,null,20]
["Boite à vide 140: Section",{"$f":"'Série 2'!B46","v":110}]
["Boite à vide 140: Matière",{"$f":"'Série 2'!B47","v":"U45N"}]
["Supportage: Matière",{"$f":"'Série 2'!B48","v":"316L"}]
["Boite à vide 140: DN Piquages",{"$f":"'Série 2'!B49","v":150}]
["Boite à vide 140: Nombre de piquages",{"$f":"'Série 2'!B50","v":28}]
["Boite à vide 140: Nombre de barrages internes",{"$f":"'Série 2'!B51","v":4}]
[]
["Corps de Boite à vide",{"$f":"((HLOOKUP(B71&B72,A2:K7,2,0))*B66)+((HLOOKUP(B71&B72,A2:K7,3,0))*B67)+((HLOOKUP(B71&B72,A2:K7,4,0))*B68)+((HLOOKUP(B71&B72,A2:K7,5,0))*B69)+((HLOOKUP(B71&B72,A2:K7,6,0))*B70)","v":17132.352941176472},{"$f":"((HLOOKUP(B71&B72,E65:N70,2,0))*B66)+((HLOOKUP(B71&B72,E65:N70,3,0))*B67)+((HLOOKUP(B71&B72,E65:N70,4,0))*B68)+((HLOOKUP(B71&B72,E65:N70,5,0))*B69)+((HLOOKUP(B71&B72,E65:N70,6,0))*B70)","v":100}]
["Berceau",{"$f":"(LOOKUP(B73,B9:E9,B10:E10))*((B66+B67+B68+B69+B70)+1)","v":6540},{"$f":"((B66+B67+B68+B69+B70)+1)*8.2","v":49.199999999999996}]
["Entrée et sortie",{"$f":"INDEX(A12:F15,MATCH(B71,A13:A15,0)+1,MATCH(B72,B12:F12,0)+1)","v":2118.0882352941176},27.25]
["Déflecteur + Goulotte",{"$f":"INDEX(A17:E28,MATCH(B65,A18:A28,0)+1,MATCH(B72,B17:E17,0)+1)","v":1539.2647058823532},{"$f":"VLOOKUP(B65,A18:F28,6,0)","v":12}]
["Rampe de lubrification",{"$f":"(HLOOKUP(B72,B30:E31,2,0))*B64","v":9481.7647058823513},{"$f":"(HLOOKUP(B73,B30:E32,3,0))*B64","v":7.5}]
["Tension de courroies",{"$f":"(HLOOKUP(B72,B33:E34,2,0))*(LOOKUP(B64,D83:D88,E83:E88))","v":1463.2352941176468},{"$f":"0.5*(LOOKUP(B64,D83:D88,E83:E88))","v":1},0,1]
["Barrage interne",{"$f":"(HLOOKUP(B72,B36:E37,2,0))*B76","v":1052.9411764705883},{"$f":"B76*8","v":32},15,2]
["Outillage de barrage",{"$f":"IF(B76>0,B40,\"\")","v":775},null,20,2]
["Courroies",{"$f":"(((2*B64)+2.51)*2)*B42","v":3576.1},5,25,4]
["Piquages",{"$f":"(INDEX(A44:H48,MATCH(B72,A45:A48,0)+1,MATCH(B74,B44:H44,0)+1))*B75","v":40800},{"$f":"(HLOOKUP(B74,B44:H49,6,0))*B75","v":70},30,4]
["Tuyauteries de liaison",{"$f":"(INDEX(A50:AC61,MATCH(B65,A51:A61,0)+1,MATCH(B72&B74,B50:AC50,0)+1))*B75","v":63473.454545454544},{"$f":"(HLOOKUP(B72&B74,B50:AC62,13,0))*B75","v":84},40,6]
["TOTAL:",{"$f":"SUM(B78:B88)","v":147952.20160427806},{"$f":"SUM(C78:C88)","v":387.95}]
[]
["Négoce"]
[0,1000]
[1250,2500]

{"sheet":"Toile2","index":25,"n_rows":21,"n_cols":5,"rows_kept":21,"cut":false,"hidden":true,"merged":[]}
[]
[null,null,null,null,"TOILE FILTRANTE"]
[]
[null,"Longueur boite à vide :",{"$f":"'B. à V.2'!B64","v":15}]
[null,"Largeur :",{"$f":"'Série 2'!B5","v":3000}]
[null,"Hauteur talons :",{"$f":"'Série 2'!B19","v":120}]
[null,"Longueur toile :",{"$f":"(LOOKUP(C5,A12:A21,B12:B21))+(C4*2)","v":46.3}]
[null,"Largeur toile :",{"$f":"((LOOKUP(C6,D13:D14,E13:E14))+C5)*0.001","v":3.3000000000000003}]
[null,"Prix / m2 :",200]
[null,"Prix total :",{"$f":"C7*C8*C9","v":30558}]
[]
[250,10.4]
[500,10.4,null,70,200]
[750,10.4,null,120,300]
[1000,10.4]
[1500,15.25]
[2000,15.25]
[2500,16.3]
[3000,16.3]
[4000,17]
[4200,17]

{"sheet":"Tabl","index":26,"n_rows":90,"n_cols":16,"rows_kept":90,"cut":false,"hidden":true,"merged":[]}
["NEGOCE TABLE",null,null,"CORRECTION PRIX MATIERE",null,{"$f":"'Séries 3-4-5'!B14","v":"316L"}]
[null,null,null,null,"E24",{"$f":"'Séries 3-4-5'!F26","v":0.76}]
[null,null,"Surface filtre",{"$f":"'Séries 3-4-5'!B4","v":90},"304L",{"$f":"'Séries 3-4-5'!F27","v":2.2000000000000002}]
[null,null,"Largeur",{"$f":"'Séries 3-4-5'!B3","v":3000},"316L",{"$f":"'Séries 3-4-5'!F29","v":2.9}]
[null,null,"Longueur de boite à vide",{"$f":"(D3/D4)/0.001","v":30},"904L",{"$f":"'Séries 3-4-5'!F32","v":7.6}]
[null,null,"Type de courroies",{"$f":"'Séries 3-4-5'!B15","v":"50X5"},"U45N",{"$f":"'Séries 3-4-5'!F31","v":4}]
[null,null,null,null,null,{"$f":"IF(F1=E2,1,IF(F1=E3,1,IF(F1=E4,F4/F3,IF(F1=E5,F5/F3,IF(F1=E6,F6/F3,\"?\")))))","v":1.3181818181818181},{"$f":"IF(F1=E2,F2/F3*1.2,IF(F1=E3,1,IF(F1=E4,F4/F3,IF(F1=E5,F5/F3,IF(F1=E6,F6/F3,\"?\")))))","v":1.3181818181818181},"pour E24, une partie rest en 304L"]
[null,null,null,null,null,{"$f":"IF(F1=E2,E3,IF(F1=E3,E3,IF(F1=E4,E4,IF(F1=E5,E5,IF(F1=E6,E6,\"?\")))))","v":"316L"},{"$f":"IF(F1=E2,E2,IF(F1=E3,E3,IF(F1=E4,E4,IF(F1=E5,E5,IF(F1=E6,E6,\"?\")))))","v":"316L"}]
["Réglette"]
["Taquet de fixation"]
["Roue d'extrémité"]
["Entretoise de roue"]
["Galet de retour"]
["Entretoise de galet"]
["Courroies"]
["Chape tendeur"]
["Support galet"]
["Axes de roue"]
["TOTAL"]
["MO"]
[250,2,null,"DUNL",100,35]
[500,4,null,"ALIAS",100,86]
[750,4,null,"30X7",100,27]
[1000,4,null,"40X7",135,46.3]
[1250,6,null,"50X5",150,110]
[1500,6]
[2000,8]
[2250,8]
[2500,8]
[3000,10,null,null,null,null,null,null,"TIENT COMPTE DE LA MATIERE MARS 2006"]
[4000,12]
[4200,14,null,null,null,"BASE COST",null,null,{"$f":"\"base \"&F1","v":"base 316L"},null,null,"base 304L","Total paint","m² peinture","poids peint","poids"]
[" REV","REP","QTE","REP ARTICLE","DESIGNATION","MATIERE","POIDS","Matiere","Prix Unitaire","Prix total",null,"Prix Unitaire",null,13]
["  ",1,{"$f":"(LOOKUP(D4,A21:A32,B21:B32))","v":10},"20 085-A        ","CHAPE TENDEUR                                     ",{"$f":"$G$8","v":"316L"},8,"               ",{"$f":"L34*K34","v":37.304545454545455},{"$f":"I34*C34","v":373.04545454545456},{"$f":"$G$7","v":1.3181818181818181},28.3,{"$f":"IF($F$1=$E$2,N34*C34,0)","v":0},0.5,{"$f":"IF(M34>0,G34*C34,0)","v":0},{"$f":"C34*G34","v":80}]
["  ",2,{"$f":"(LOOKUP(D4,A21:A32,B21:B32))","v":10},"20 086-A        ","CHAPE TENDEUR                                     ",{"$f":"$G$8","v":"316L"},8,"               ",{"$f":"L35*K35","v":37.304545454545455},373.04545454545456,{"$f":"$G$7","v":1.3181818181818181},28.3,{"$f":"IF($F$1=$E$2,N35*C35,0)","v":0},0.5,{"$f":"IF(M35>0,G35*C35,0)","v":0},{"$f":"C35*G35","v":80}]
["  ",5,{"$f":"IF('Séries 3-4-5'!C5>20.1,(LOOKUP(D4,A21:A32,B21:B32))*3,(LOOKUP(D4,A21:A32,B21:B32))*2)","v":30},"20 089-A        ","ROUE                                              ","PEHD 1000",2,"               ",{"$f":"L36*K36","v":19.7},591,1,19.7,{"$f":"IF($F$1=$E$2,N36*C36,0)","v":0},null,0,{"$f":"C36*G36","v":60}]
["  ",6,{"$f":"IF('Séries 3-4-5'!C5>20.1,(LOOKUP(D4,A21:A32,B21:B32)),(0))","v":10},"20 090-A        ","ROUE DE SORTIE                                    ","PEHD 1000",2,"               ",14.6,146,1,14.6,0,null,0,{"$f":"C37*G37","v":20}]
["  ",7,{"$f":"C36+C37","v":40},"20 091-A        ","ENTRETOISE DE ROUE                                ",{"$f":"$F$8","v":"316L"},"      .","               ",2.6627272727272726,106.5090909090909,{"$f":"$F$7","v":1.3181818181818181},2.02,0,null,0]
["  ",10,{"$f":"SUM(C55:C60)*2","v":160},"20 092-A        ","GALET DE RENVOI                                   ","PEHD 1000","      .","               ",2.65,424,1,2.65,0,null,0]
["  ",11,{"$f":"C39","v":160},"20 093-A        ","ENTRETOISE DE GALET                               ",{"$f":"$F$8","v":"316L"},"      .","               ",2.3727272727272726,379.63636363636363,{"$f":"$F$7","v":1.3181818181818181},1.8,0,null,0]
["  ",12,{"$f":"C39","v":160},"15 267-B        ","SUPPORT DE GALET DE RENVOI                        ",{"$f":"$F$8","v":"316L"},"      .","               ",2.6363636363636362,421.81818181818181,{"$f":"$F$7","v":1.3181818181818181},2,0,null,0]
["  ",15,{"$f":"IF('Séries 3-4-5'!C5>20.1,(LOOKUP(D4,A21:A32,B21:B32)),(0))","v":10},"20 094-A        ","FER SUPPORT TENDEUR                               ",{"$f":"$G$8","v":"316L"},21,null,105.45454545454545,1054.5454545454545,{"$f":"$G$7","v":1.3181818181818181},80,0,0.5,0,{"$f":"C42*G42","v":210}]
["  ",16,{"$f":"IF('Séries 3-4-5'!C5>20.1,(LOOKUP(D4,A21:A32,B21:B32)),(0))","v":10},"20 095-A        ","CHAPE FEMELLE                                     ",{"$f":"$G$8","v":"316L"},1,"               ",9.2272727272727266,92.272727272727266,{"$f":"$G$7","v":1.3181818181818181},7,0,0.5,0,{"$f":"C43*G43","v":10}]
["  ",17,{"$f":"IF('Séries 3-4-5'!C5>20.1,(LOOKUP(D4,A21:A32,B21:B32)),(0))","v":10},"20 096-A        ","BRAS TENDEUR                                      ",{"$f":"$G$8","v":"316L"},3,null,41.522727272727273,415.22727272727275,{"$f":"$G$7","v":1.3181818181818181},31.5,0,0.5,0,{"$f":"C44*G44","v":30}]
["  ",18,{"$f":"IF('Séries 3-4-5'!C5>20.1,(LOOKUP(D4,A21:A32,B21:B32)*3),(0))","v":30},"20 097-A        ","CONTRE POIDS                                      ",{"$f":"$G$8","v":"316L"},4,"               ",7.6454545454545446,229.36363636363635,{"$f":"$G$7","v":1.3181818181818181},5.8,0,0.5,0,{"$f":"C45*G45","v":120}]
["  ",19,{"$f":"IF('Séries 3-4-5'!C5>20.1,(LOOKUP(D4,A21:A32,B21:B32)),(0))","v":10},"70 179-A        ","AXE                                               ",{"$f":"$F$8","v":"316L"},1,"               ",1.9772727272727271,19.77272727272727,{"$f":"$F$7","v":1.3181818181818181},1.5,0,null,0,{"$f":"C46*G46","v":10}]
["  ",20,{"$f":"(LOOKUP(D4,A21:A32,B21:B32))","v":10},"70 219-A        ","SUPPORT DE BUSE                                   ","316L","      .","               ",9.161363636363637,91.613636363636374,1.3181818181818181,6.95,0,null,0]
[" B",21,{"$f":"((D5*4)+3)*(LOOKUP(D4,A21:A32,B21:B32))","v":1230},"16 806-A        ","TAQUET DE FIXATION                                ","316L","      .","               ",1.45,1783.5,1.3181818181818181,1.1000000000000001,0,null,0]
[" B",22,{"$f":"IF('Séries 3-4-5'!B83=1,(3),(0))","v":3},"20 098-B        ","RAMPE DE LAVAGE ET DE LUBRIFICATION               ","316L",3,"               ",14.895454545454546,44.686363636363637,1.3181818181818181,11.3,0,null,0,{"$f":"C49*G49","v":9}]
[" B",23,{"$f":"C49","v":3},"20 099-B        ","RAMPE DE LAVAGE ET DE LUBRIFICATION               ","316L",3,"               ",14.895454545454546,44.686363636363637,1.3181818181818181,11.3,0,null,0,{"$f":"C50*G50","v":9}]
["  ",26,{"$f":"IF('Séries 3-4-5'!B83=1,(30),(0))","v":30},"20 102-A        ","COUDE DE LIAISON                                  ","316L","      .","               ",5.1409090909090907,154.22727272727272,1.3181818181818181,3.9,0,null,0]
["  ",27,{"$f":"C51","v":30},"16 880-A        ","COLLIER DE SERRAGE DN20                           ","316L","      .","               ",3.9545454545454541,118.63636363636363,1.3181818181818181,3,0,null,0]
["  ",30,2,"70 217-A        ","TUYAUTERIE D'ALIMENTATION                         ","316L",10,"               ",39.545454545454547,79.090909090909093,1.3181818181818181,30,0,null,0,{"$f":"C53*G53","v":20}]
["  ",31,{"$f":"IF('Séries 3-4-5'!B83=1,(4),(0))","v":4},"70 218-A        ","TUYAUTERIE D'ALIMENTATION                         ","316L",10,"               ",40.86363636363636,163.45454545454544,1.3181818181818181,31,0,null,0,40]
[" B",40,{"$f":"(LOOKUP(D4,A21:A32,B21:B32))/2","v":5},"19 647-B        ","FER DE GLISSEMENT D'ENTREE                        ",{"$f":"$G$8","v":"316L"},52,"               ",204.31818181818181,1021.590909090909,{"$f":"$G$7","v":1.3181818181818181},155,0,1.5,0,260]
[" B",41,{"$f":"C55","v":5},"19 648-B        ","FER DE GLISSEMENT D'ENTREE                        ","316L",52,"               ",204.31818181818181,1021.590909090909,1.3181818181818181,155,0,1.5,0,260]
[" B",42,{"$f":"(((SUM('Séries 3-4-5'!B8:B11)*((LOOKUP(D4,A21:A32,B21:B32)))))-(C55+C56+C59+C60))/2","v":30},"19 658-B        ","FER DE GLISSEMENT INTERMEDIAIRE                   ","316L",52,"               ",201.68181818181816,6050.454545454545,1.3181818181818181,153,0,1.5,0,1560]
[" B",43,{"$f":"C57","v":30},"19 659-B        ","FER DE GLISSEMENT INTERMEDIAIRE                   ","316L",52,"               ",201.68181818181816,6050.454545454545,1.3181818181818181,153,0,1.5,0,1560]
[" B",58,{"$f":"C55","v":5},"19 649-B        ","FER DE GLISSEMENT DE SORTIE                       ","316L",52,"               ",204.31818181818181,1021.590909090909,1.3181818181818181,155,0,1.5,0,260]
[" B",59,{"$f":"C55","v":5},"19 650-B        ","FER DE GLISSEMENT DE SORTIE                       ","316L",52,"               ",204.31818181818181,1021.590909090909,1.3181818181818181,155,0,1.5,0,260]
[" B",60,{"$f":"((ROUNDUP(D5/2,0))*(LOOKUP(D4,A21:A32,B21:B32)))-(C62+C63+C64)","v":110},"20 126-A        ","REGLETTE DE GLISSEMENT (LG.2000)                  ","PEHDS",2,"               ",12.9,1419,1,12.9,{"$f":"IF($F$1=$E$2,N61*C61,0)","v":0},null,0,220]
[" B",61,{"$f":"(LOOKUP(D4,A21:A32,B21:B32))","v":10},"20 127-B        ","REGLETTE DE GLISSEMENT (LG.500)                   ","PEHDS",1,"               ",12.9,129,1,12.9,{"$f":"IF($F$1=$E$2,N62*C62,0)","v":0},null,0,10]
["  ",65,{"$f":"(LOOKUP(D4,A21:A32,B21:B32))*1.5","v":15},"20 128-A        ","REGLETTE DE GLISSEMENT LUBRIFIEE (LG.2000)        ","PEHDS",2,"               ",14.3,214.5,1,14.3,{"$f":"IF($F$1=$E$2,N63*C63,0)","v":0},null,0,30]
["  ",66,{"$f":"C63","v":15},"20 129-A        ","REGLETTE DE GLISSEMENT LUBRIFIEE (LG.2000)        ","PEHDS",2,"               ",14.3,214.5,1,14.3,0,null,{"$f":"IF(M64>0,G64*C64,0)","v":0},30]
["  ",500,{"$f":"(LOOKUP(D4,A21:A32,B21:B32))","v":10},{"$f":"(D5*2)+3.15","v":63.15},"COURROIE PLATE 50X5","                ","       ",55,3.5,{"$f":"((D65*I65)+H65)*C65","v":2760.25},1,3.5,0,null,0]
["  ",501,{"$f":"(LOOKUP(D4,A21:A32,B21:B32))","v":10},"                ","BUSES REF. 1/4 CM01 65 PVDF                       ","PVDF            ","       ",null,3,{"$f":"I66*C66","v":30},1,3,0,null,0]
["  ",502,{"$f":"(LOOKUP(D4,A21:A32,B21:B32))","v":10},"                ","COUDE LONG MALE REF.1A0210.32 DN4/6 NPT1/4\" PP    ","PP              ","       ",null,2.2000000000000002,22,1,2.2000000000000002,0,null,0]
["  ",503,40,"                ","RACCORD S.M REF.1A0100.32 DN4/6 NPT1/4\" PP        ","PP              ","       ",null,1.6,64,1,1.6,0,null,0]
["  ",504,30,"                ","RACCORD DROIT REF.1A0100.20 DN4/6 D6 PP           ","PP              ","       ",null,1.65,49.5,1,1.65,0,null,0]
["  ",505,25,"                ","TUYAU SOUPLE DN4/6  LG.25M                        ","PE              ","       ",null,0.4,10,1,0.4,{"$f":"IF($F$1=$E$2,N70*C70,0)","v":0},null,0]
["  ",506,20,"                ","COLLIER \"LE NORDET\" DIA.36/39 REF. HA365036       ",316,"       ",null,3,60,1,3,{"$f":"IF($F$1=$E$2,N71*C71,0)","v":0},null,0]
["  ",507,20,"                ","TUYAU \"BERGADUC\" DIA.25/35 LG.20M                 ","EPDM NOIR","       ",null,5,100,1,5,{"$f":"IF($F$1=$E$2,N72*C72,0)","v":0},null,0]
["  ",508,8,"                ","RACCORD UNION F-F MODELE 5116  DIA.3/4\" NPT       ","316 L           ","       ",null,9.11,72.88,1,9.11,0,null,0]
[" B",820,1480,"                ","RONDELLE M 6 N                                    ",{"$f":"$F$8","v":"316L"},"       ","               ",1.3181818181818182E-2,19.509090909090908,{"$f":"$F$7","v":1.3181818181818181},0.01,0,null,0]
[" B",821,1480,"                ","ECROU H, M6                                       ","316L","       ","               ",1.3181818181818182E-2,19.509090909090908,1.3181818181818181,0.01,0,null,0]
["  ",840,70,"                ","RONDELLE M 10 N                                   ","316L","       ","               ",2.6363636363636363E-2,1.8454545454545455,1.3181818181818181,0.02,0,null,0]
["  ",841,35,"                ","ECROU H, M10                                      ","316L","       ","               ",6.5909090909090903E-2,2.3068181818181817,1.3181818181818181,0.05,0,null,0]
["  ",842,35,"                ","VIS H, M10-30                                     ","316L","       ","               ",0.13181818181818181,4.6136363636363633,1.3181818181818181,0.1,0,null,0]
["  ",850,1040,"                ","RONDELLE M 12 N                                   ","316L","       ","               ",5.2727272727272727E-2,54.836363636363636,1.3181818181818181,0.04,0,null,0]
["  ",851,520,"                ","ECROU H, M12                                      ","316L","       ","               ",9.2272727272727284E-2,47.981818181818184,1.3181818181818181,7.0000000000000007E-2,0,null,0]
["  ",852,320,"                ","VIS H, M12-30                                     ","316L","       ","               ",0.22409090909090909,71.709090909090904,1.3181818181818181,0.17,0,null,0]
["  ",853,200,"                ","VIS H, M12-110                                    ","316L","       ","               ",0.79090909090909089,158.18181818181819,1.3181818181818181,0.6,0,null,0]
["  ",870,170,"                ","RONDELLE M 16 N                                   ","316L","       ","               ",9.2272727272727284E-2,15.686363636363637,1.3181818181818181,7.0000000000000007E-2,0,null,0]
["  ",871,50,"                ","ECROU H, M16                                      ","316L","       ","               ",0.17136363636363636,8.5681818181818183,1.3181818181818181,0.13,0,null,0]
["  ",872,40,"                ","VIS H, M16-120                                    ","316L","       ","               ",1.3181818181818181,52.727272727272727,1.3181818181818181,1,0,null,0]
["  ",950,24,"                ","GOUPILLE CYLINDRIQUE FENDUE V5-28                 ","316L","       ","               ",0.13181818181818181,3.1636363636363631,1.3181818181818181,0.1,0,null,0]
[null,700,{"$f":"IF('Séries 3-4-5'!C5>20.1,(2),(0))","v":2},null,"DEBITMETRE",316,null,null,200,400,1,200,0,null,0,{"$f":"C87*G87","v":0}]
["  ","    ","    ","                ","TOTAL","                ","       ","               ","Mat",{"$f":"SUM(J34:J87)","v":29299.67318181818},{"$f":"J34+J35+J42+J43+J44+J45+J46+J47+J49+J50+J51+J53+J54+J55+J56+J57+J58+J59+J60","v":19322.304545454543},null,{"$f":"SUM(M34:M87)*N33","v":0},null,{"$f":"SUM(O34:O87)","v":0},{"$f":"SUM(P34:P87)","v":5148}]
[null,null,null,null,"MO : ",null,null,null,"MO",{"$f":"SUM(C55:C60)*0.5 + SUM(C55:C56)*3","v":70},{"$f":"SUM(J36:J41)+SUM(J61:J87)+J48+J52","v":9977.3686363636371},null,{"$f":"O88*2/60","v":0}]
[null,null,null,null,null,null,null,null,null,{"$f":"K88+K89","v":29299.67318181818},null,null,null,"peinture ajouté linge peinture locale"]

{"sheet":"B. à V.","index":27,"n_rows":91,"n_cols":36,"rows_kept":91,"cut":false,"hidden":false,"merged":[]}
["BOITE A VIDE"]
[null,"140SVR","140304L","140316L","140U45N","140904L",null,"170304L","170316L","170U45N","170904L"]
[2000]
[2500]
[3000,8130,{"$f":"3050*1.3","v":3965},{"$f":"3250*1.3","v":4225},{"$f":"D5*1.37","v":5788.25},{"$f":"6105*1.3","v":7936.5},null,{"$f":"C5*1.33","v":5273.4500000000007},5619.25,7698.3725000000004,10555.545]
[3500,9291,{"$f":"3230*1.3","v":4199},{"$f":"3470*1.3","v":4511},{"$f":"D6*1.37","v":6180.0700000000006},{"$f":"6675*1.3","v":8677.5},null,5584.67,5999.63,8219.4931000000015,11541.075000000001]
[4000,10843,{"$f":"3400*1.3","v":4420},{"$f":"3650*1.3","v":4745},{"$f":"D7*1.37","v":6500.6500000000005},{"$f":"7176*1.3","v":9328.8000000000011},null,5878.6,6310.85,8645.8645000000015,12407.304000000002]
[]
["Berceau","304L","316L","U45N","904L"]
[null,{"$f":"910*1.3","v":1183},{"$f":"1090*1.3","v":1417},{"$f":"C10*1.37","v":1941.2900000000002},{"$f":"2050*1.3","v":2665}]
[]
["Entrée et sortie","SVR","304L","316L","U45N","904L"]
[]
[170,null,{"$f":"C15*1.33","v":3049.9560000000006},{"$f":"D15*1.33","v":3247.0620000000004},{"$f":"E15*1.33","v":4448.474940000001},{"$f":"F15*1.33","v":4815.2650000000003}]
[140,{"$f":"1878*1.3","v":2441.4},{"$f":"1764*1.3","v":2293.2000000000003},{"$f":"1878*1.3","v":2441.4},{"$f":"D15*1.37","v":3344.7180000000003},{"$f":"2785*1.3","v":3620.5}]
[]
["Déflecteur + Goulotte","SVR","304L","316L","U45N","904L","MO"]
[250,0,0,0,{"$f":"F18*0.54","v":0},0,0]
[500,0,0,0,{"$f":"F19*0.54","v":0},0,0]
[750,0,0,0,0,0,0]
[1000,0,0,0,0,0,0]
[1250,2120,433,500,693.90000000000009,1285,10]
[1500,2544,505,583,810,1500,12]
[2000,3392,650,752,1042.2,1930,12]
[2500,4240,800,921,1274.4000000000001,2360,12]
[3000,5088,941,1089,1506.6000000000001,2790,12]
[4000,6784,1235,1430,1971.0000000000002,3650,14]
[4200,7125,1292,1495,2063.88,3822,14]
[]
["Rampe de lubrification","SVR","304L","316L","U45N","904L"]
["Prix au mètre",432,360,432,{"$f":"F31*0.54","v":641.5200000000001},1188]
[null,0,0.5,0.5,0.5,0.5]
["Tension de courroies","SVR","304L","316L","U45N","904L"]
[null,{"$f":"500*1.3","v":650},{"$f":"420*1.3","v":546},{"$f":"500*1.3","v":650},{"$f":"F34*0.54","v":965.25000000000011},{"$f":"1375*1.3","v":1787.5}]
[]
["Barrage interne","SVR","304L","316L","U45N","904L"]
[null,300,250,250,300,300]
[]
["Outillage de barrage","SVR","304L","316L","U45N","904L"]
[null,775,775,775,775,775]
[]
["Courroies",55]
[]
["Piquages",40,50,65,80,100,125,150]
["SVR",100,200,250,280,320,380,450]
["304L",227,270,334,382,446,790,939]
["316L",244,291,368,420,497,893,1020]
["U45N",{"$f":"B47*1.37","v":334.28000000000003},{"$f":"C47*1.37","v":398.67},504.16,575.40000000000009,680.8900000000001,1223.4100000000001,1397.4]
["904L",460,582,722,850,1168,2044,2335]
[null,1.5,1.5,1.5,2,2,2.5,2.5]
["Tuyauteries de liaison","SVR40","SVR50","SVR65","SVR80","SVR100","SVR125","SVR150","304L40","304L50","304L65","304L80","304L100","304L125","304L150","316L40","316L50","316L65","316L80","316L100","316L125","316L150","U45N40","U45N50","U45N65","U45N80","U45N100","U45N125","U45N150","904L40","904L50","904L65","904L80","904L100","904L125","904L150"]
[250,342,461,590,732,"-","-","-",155,175,231,270,"-","-","-",166,191,258,315,"-","-","-",{"$f":"P52*1.37","v":227.42000000000002},{"$f":"Q52*1.37","v":261.67},353.46000000000004,431.55,"-","-","-",334,415,525,663,"-","-","-"]
[500,342,461,590,732,"-","-","-",163,186,245,287,"-","-","-",175,204,274,337,"-","-","-",{"$f":"P53*1.37","v":239.75000000000003},279.48,375.38000000000005,461.69000000000005,"-","-","-",358,450,570,726,"-","-","-"]
[750,342,461,590,732,"-","-","-",170,197,258,304,"-","-","-",183,217,290,358,"-","-","-",{"$f":"P54*1.37","v":250.71},297.29000000000002,397.3,490.46000000000004,"-","-","-",382,485,615,788,"-","-","-"]
[1000,342,461,590,732,1625,1885,2000,177,208,272,320,408,828,1008,null,null,306,380,469,959,1115,null,null,{"$f":"R55*1.37","v":419.22},{"$f":"S55*1.37","v":520.6},{"$f":"T55*1.37","v":642.53000000000009},{"$f":"U55*1.37","v":1313.8300000000002},{"$f":"V55*1.37","v":1527.5500000000002},null,null,660,851,1295,2341,2706]
[1250,"-","-",603,758,1676,1949,2070,"-","-",286,337,431,871,1062,"-","-",322,401,496,1014,1180,"-","-",441.14000000000004,549.37,679.5200000000001,1389.18,1616.6000000000001,"-","-",705,913,1386,2491,2887]
[1500,"-","-",616,784,1727.5,2013.5,2140,"-","-",300,354,453,914,1116,"-","-",355,423,523,1069,1256,"-","-",486.35,579.51,716.5100000000001,1464.5300000000002,1720.72,"-","-",750,976,1478,2642,3069]
[2000,"-","-",642,836,1830,2142,2280,"-","-",327,387,498,1000,1225,"-","-",388,466,577,1178,1376,"-","-",531.56000000000006,638.42000000000007,790.49,1613.8600000000001,1885.1200000000001,"-","-",840,1101,1660,2792,3431]
[2500,"-","-",668,888,1932.5,2270.5,2420,"-","-",355,421,543,1086,1334,"-","-",420,509,631,1288,1507,"-","-",575.40000000000009,697.33,864.47,1764.5600000000002,2064.59,"-","-",930,1226,1843,3094,3794]
[3000,"-","-",694,940,2035,2400,2560,"-","-",382,480,588,1172,1443,"-","-",453,552,685,1397,1637,"-","-",620.61,756.24,938.45,1913.89,2242.69,"-","-",1020,1351,2025,3395,4156]
[4000,"-","-",746,1044,2240,2656,2840,"-","-",437,546,678,1344,1660,"-","-",518,638,793,1616,1898,"-","-",709.66000000000008,874.06000000000006,1086.4100000000001,2213.92,2600.2600000000002,"-","-",1200,1601,2390,3998,4881]
[4200,"-","-",759,1070,2281,2708,2896,"-","-",448,560,696,1379,1704,"-","-",531,655,815,1660,1950,"-","-",727.47,897.35,1116.5500000000002,2274.2000000000003,2671.5,"-","-",1236,1651,2463,4118,5026]
[null,0,0,0,0,0,0,0,2,2,2.5,2.5,2.8,3,3,2,2,2.5,2.5,2.8,3,3,2,2,2.5,2.5,2.8,3,3,2,2,2.5,2.5,2.8,3,3]
[]
["Longueur boite à vide",{"$f":"B67*3.5+B68*4","v":30}]
["Largeur",{"$f":"'Séries 3-4-5'!B3","v":3000},null,null,"USVR","110304L","110316L","110904L","140SVR","140304L","140316L","140U45N","140904L","170304L","170316L","170U45N","170904L"]
[3500,{"$f":"'Séries 3-4-5'!B10","v":4},null,3500,52.2,10,10,10,17,10,10,10,10,10,10,10,10]
[4000,{"$f":"'Séries 3-4-5'!B11","v":4},null,4000,0,0,0,0,18,10,10,10,10,10,10,10,10]
["Boite à vide 140: Section",{"$f":"'Séries 3-4-5'!B46","v":140}]
["Boite à vide 140: Matière",{"$f":"'Séries 3-4-5'!B47","v":"U45N"}]
["Supportage: Matière",{"$f":"'Séries 3-4-5'!B48","v":"316L"}]
["Boite à vide 140: DN Piquages",{"$f":"'Séries 3-4-5'!B49","v":150}]
["Boite à vide 140: Nombre de piquages",{"$f":"'Séries 3-4-5'!B50","v":28}]
["Boite à vide 140: Nombre de barrages internes",{"$f":"'Séries 3-4-5'!B51","v":4}]
[null,"Mat","Heure"]
["Corps de Boite à vide",{"$f":"((HLOOKUP(B69&B70,A2:K7,5,0))*B67)+((HLOOKUP(B69&B70,A2:K7,6,0))*B68)","v":50722.880000000005},{"$f":"((HLOOKUP(B69&B70,E66:Q68,2,0))*B67)+((HLOOKUP(B69&B70,E66:Q68,3,0))*B68)","v":80}]
["Berceau",{"$f":"(HLOOKUP(B71,B9:E10,2,0))*((B67+B68)+1)","v":12753},{"$f":"((B67+B68)+1)*4","v":36},null,null,{"$f":"(HLOOKUP(B71,B9:E10,2,0))","v":1417}]
["Entrée et sortie",{"$f":"INDEX(A12:F15,MATCH(B69,A13:A15,0)+1,MATCH(B70,B12:F12,0)+1)","v":3344.7180000000003},15]
["Déflecteur + Goulotte",{"$f":"INDEX(A17:F28,MATCH(B66,A18:A28,0)+1,MATCH(B70,B17:F17,0)+1)","v":1506.6000000000001},{"$f":"VLOOKUP(B66,A18:G28,7,0)","v":12}]
["Rampe de lubrification",{"$f":"(HLOOKUP(B70,B30:F31,2,0))*B65","v":19245.600000000002},{"$f":"(HLOOKUP(B71,B30:F32,3,0))*B65","v":15}]
["Tension de courroies",{"$f":"(HLOOKUP(B70,B33:F34,2,0))*(LOOKUP(B65,D81:D86,E81:E86))","v":3861.0000000000005},{"$f":"0.5*(LOOKUP(B65,D81:D86,E81:E86))","v":2},0,1]
["Barrage interne",{"$f":"(HLOOKUP(B70,B36:F37,2,0))*B74","v":1200},{"$f":"B74*8","v":32},15,2]
["Outillage de barrage",{"$f":"IF(B74>0,B40,\"\")","v":775},null,20,2]
["Courroies",{"$f":"(((2*B65)+2.51)*2)*B42","v":6876.0999999999995},5,25,4]
["Piquages",{"$f":"(INDEX(A44:H49,MATCH(B70,A45:A49,0)+1,MATCH(B72,B44:H44,0)+1))*B73","v":39127.200000000004},{"$f":"(HLOOKUP(B72,B44:H50,7,0))*B73","v":70},30,4]
["Tuyauteries de liaison",{"$f":"(INDEX(A51:AJ62,MATCH(B66,A52:A62,0)+1,MATCH(B70&B72,B51:AJ51,0)+1))*B73","v":62795.32},{"$f":"(HLOOKUP(B70&B72,B51:AJ63,13,0))*B73","v":84},40,6]
["TOTAL:",{"$f":"SUM(B76:B86)","v":202207.41800000003},{"$f":"SUM(C76:C86)","v":351}]
[]
["Négoce"]
[0,1000]
[1250,2500]

{"sheet":"Data Instrum_Armoires","index":28,"n_rows":84,"n_cols":81,"rows_kept":84,"cut":false,"hidden":true,"merged":[[60,21,60,24],[61,21,61,24],[42,3,44,3],[42,4,44,4],[42,5,44,5],[48,1,48,5],[50,1,52,1],[50,3,52,3],[50,4,52,4],[50,5,52,5],[26,15,26,16],[27,21,27,24],[28,1,28,5],[28,21,28,24],[30,3,32,3],[30,4,32,4],[30,5,32,5],[35,1,35,5],[36,3,38,3],[36,4,38,4],[36,5,38,5],[39,3,41,3],[39,4,41,4],[39,5,41,5],[18,2,19,2],[20,2,21,2],[22,2,23,2],[24,2,25,2],[24,14,24,19],[25,15,25,16],[16,39,17,39],[12,39,13,39],[14,1,14,6],[14,39,15,39],[15,14,15,19],[11,2,12,2],[11,5,12,5],[11,6,12,6],[16,2,17,2],[10,39,11,39],[9,2,10,2],[9,5,10,5],[9,6,10,6],[3,75,4,75],[4,36,5,36],[4,37,5,37],[3,50,6,50],[3,66,4,66],[3,67,4,67],[3,68,4,68],[3,69,4,69],[3,72,4,72],[6,39,7,39],[3,47,6,47],[3,49,6,49],[4,39,5,39],[3,73,4,73],[7,2,8,2],[7,5,8,5],[7,6,8,6],[3,74,4,74],[3,48,6,48],[5,2,6,2],[5,5,6,5],[5,6,6,6],[5,8,6,8],[5,10,6,10],[5,11,6,11],[3,14,3,19],[5,12,6,12],[8,39,9,39],[3,2,4,2],[3,5,4,5],[1,1,1,6],[1,8,1,12],[1,14,1,19],[1,21,1,24],[1,27,1,32],[3,6,4,6],[3,8,4,8],[3,10,4,10],[3,11,4,11],[3,12,4,12],[4,27,5,27],[4,29,5,29],[4,30,5,30],[3,32,13,32],[4,34,5,34],[1,77,1,80],[2,21,2,24],[2,27,2,32],[2,34,2,39],[2,77,2,80],[1,65,1,69],[1,71,1,75],[1,41,1,45],[1,47,1,51],[1,53,1,57],[1,59,1,63],[1,34,1,39]]}
[]
[null,"CONTROLE DE DEBIT – DEBITMETRE A SECTION VARIABLE",null,null,null,null,null,null,"CONTROLE DE NIVEAU - DETECTEUR DE NIVEAU",null,null,null,null,null,"VANNE DE CONTRÔLE - REGULATION DE DEBIT / NIVEAU",null,null,null,null,null,null,"DEPART-MOTEUR FILTRE A BANDE",null,null,null,null,null,"CELLULE DE PUISSANCE",null,null,null,null,null,null,"CELLULE DE DISTRIBUTION",null,null,null,null,null,null,"CELLULE AUTOMATE",null,null,null,null,null,"Automate Programmable Industriel",null,null,null,null,null,"COFFRET DE COMMANDE LOCAL - MAINTENANCE",null,null,null,null,null,"COFFRET DE COMMANDE LOCAL – MULTIFONCTION",null,null,null,null,null,"Armoire électrique de PUISSANCE-CONTRÔLE - PETIT FILTRE",null,null,null,null,null,"Armoire AUTOMATE",null,null,null,null,null,"VARIATEUR DE FREQUENCE"]
[null,"Désignation",null,"Caractéristique","Fabricant-Type","Code article","Tarif (€)",null,"Désignation","Caractéristique","Fabricant-Type","Code article","Tarif (€)",null,"Désignation",null,"Caractéristique","Fabricant-Type","Code article","Tarif (€)",null,"Démarreur électrique composé : Disjoncteur + Contacteur + Variateur de fréquence (*)",null,null,null,null,null,"(Additionner la puissance (KW) de tous les départ-moteurs sélectionnés pour obtenir la Puissance Totale Utile de l’unité de filtration)",null,null,null,null,null,null,"(Ajouter 30% de la Puissance Totale Utile de l’unité de filtration pour obtenir la Puissance Totale Installée de l’unité de filtration)",null,null,null,null,null,null,"Désignation","Caractéristique","Code article","Tarif (€)",null,null,"Désignation","Caractéristique","Code article","Tarif (€)",null,null,"Désignation","Fonction - Caractéristique","Code article","Tarif (€)",null,null,"Désignation","Fonction - Caractéristique","Code article","Tarif (€)",null,null,"Désignation - Caractéristique","Dimension Cellule","Code article","Tarif (€)",null,null,"Désignation - Caractéristique","Dimension Cellule","Code article","Tarif (€)",null,null,"A associer aux moteurs d’entrainement du filtre à bande et rouleau presseur (*)"]
[null,"Débitmètre à section variable",0.63,"Montage à bride 316L DN15 – ½’’","KROHNE","Note 1",1300,null,"Capteur de niveau – Technologie à lame vibrante","Montage à bride 316L DN50","Endress Hauser Liquifant M-FTL50","EELE000794-0000",1200,null,"Exécution DIN PN16",null,null,null,null,null,null,"Désignation - Caractéristique",null,"Code article","Tarif (€)",null,null,"Désignation - Caractéristique",null,"Dimension Cellule","Code article","Tarif (€)",null,null,"Désignation - Caractéristique",null,"Dimension Cellule","Code article","Tarif (€)",null,null,"Cellule Automate","2000x800x500","PLC_EC",{"$f":"3000+120+180+180+300+70","v":3850},null,null,"Automate Modicon M340 (*)","1 rack principal 12 emplacements\n1 module d’alimentation 230Vac\n1 Processeur équipé de 2 ports de liaison Modbus RTU RS485 et Modbus TCP/IP Ethernet (pour la communication avec le terminal graphique)\n1 module Modbus RTU RS485  pour la communication avec le DCS Client\n2 cartes - 32 x Entrées TOR 24VCC\n1 carte - 16 x Sorties relais\n3 cartes - 4 x Entrées Analogiques\n1 carte - 4 x Sorties analogiques\n6 embases de raccordement ABE-7","CONF_PLC_STA",16800,null,null,"Coffret de commande local (*)","Maintenance - 600x400x200 (**)","LCP_MAIN_FRP",{"$f":"3620+75","v":3695},null,null,"Coffret de commande local (*)","Multi-fonction - 600x400x200 (**)","LCP_AUTO_FRP",{"$f":"11000+75","v":11075},null,null,"Puissance Totale Installée  ≤ 50 KW","1 cellule monobloc 2000x1200x500","PTI_020_KVA",{"$f":"14500+120+180+180+300+70","v":15350},null,null,"Puissance Totale Installée  ≤ 5 KVA","1 cellule monobloc 2000x800x500","PTI_005_KVA",{"$f":"12500+120+180+180+300+70","v":13350},null,null,"Désignation - Caractéristique",null,"Référence","Tarif (€)"]
[null,"Echelle de débit : maxi 630 l/h",null,"Contact SB3,5-E2 24VCC 3fils NO PNP","H250/RR/M9/K1 MAX",null,null,null,null,"Lame vibrante 316L",null,null,null,null,"Vanne de contrôle - Corps Inox - KVS = 4\nDébit maxi : 2,5 m3/h - Signal de commande: 4-20mA",2.5,"Montage à bride DN15","SAMSON","Note 1",3000,null,"Puissance moteur ≤ 0,75 kW - 3 x 380…480V AC 50/60 HZ",0.75,"VBF_MS_VFD_0.75",2200,null,null,"Puissance Totale Utile 50 ≤ … ≤ 100 KW\n3 x 380…480V AC 50/60 HZ",0,"1 cellule 2000x800x500","PTU_100_KW",3000,null,null,"Puissance Totale Installée  ≤ 100 KVA\n3 x 380…480V AC 50/60 HZ",0,"1 cellule 2000x800x500","PTI_100_KVA",11600,null,null,null,null,null,null,null,null,null,null,null,null,null,null,"Coffret de commande local (*)","Maintenance - 500x400x200 (***)","LCP_MAIN_SS",{"$f":"3900+75","v":3975},null,null,"Coffret de commande local (*)","Multi-fonction - 500x500x210 (***)","LCP_AUTO_SS",{"$f":"11200+75","v":11275},null,null,"3 x 380…480V AC 50/60 HZ",null,null,null,null,null,"1x230…2 x 380…3x380…480V AC 50/60 HZ",null,null,null,null,null,"Puissance 0,75 KW (1HP) - 3 x 380…480V AC 50/60 HZ",0.75,"VFD_0.75",1000]
[null,"Débitmètre à section variable",4,"Montage à bride 316L DN25 – 1’’","KROHNE","Note 1",1600,null,"Capteur de niveau – Technologie à lame vibrante","Montage à bride 316L DN50","Endress Hauser Liquifant M-FTL51C","EELE000793-0000",1500,null,"Vanne de contrôle - Corps Inox - KVS = 6,3\nDébit maxi : 3,5 m3/h - Signal de commande: 4-20mA",3.5,"Montage à bride DN20","SAMSON","Note 1",3200,null,"Puissance moteur 1,1 kW - 3 x 380…480V AC 50/60 HZ",1.1000000000000001,"VBF_MS_VFD_1.1",2400,null,null,null,100,null,null,3000,null,null,null,100,null,null,11600,null,null,null,null,null,null,null,null,null,null,null,null,null,null,null,null,null,null,null,null,null,null,null,null,null,null,null,null,null,null,null,null,null,null,null,null,null,null,"Puissance 1,5 KW (2HP) - 3 x 380…480V AC 50/60 HZ",1.5,"VFD_1.5",1200]
[null,"Echelle de débit : maxi 4 m3/h",null,"Contact SB3,5-E2 24VCC 3fils NO PNP","H250/RR/M9/K1 MAX",null,null,null,null,"Lame et bride revêtue PFA",null,null,null,null,"Vanne de contrôle - Corps Inox - KVS = 10\nDébit maxi : 6 m3/h - Signal de commande: 4-20mA",6,"Montage à bride DN25","SAMSON","Note 1",3400,null,"Puissance moteur 1,5 kW - 3 x 380…480V AC 50/60 HZ",1.5,"VBF_MS_VFD_1.5",2500,null,null,"Puissance Totale Utile  ≤ 150 KW  3 x 380…480V AC 50/60 HZ",150,"1 cellule 2000x800x500","PTU_150_KW",3750,null,null,"Puissance Totale Installée  ≤ 200 KVA\n3 x 380…480V AC 50/60 HZ",200,"1 cellule 2000x800x500","PTI_200_KVA",11850,null,null,null,null,null,null,null,null,null,null,null,null,null,null,null,null,null,null,null,null,null,null,null,null,null,null,null,null,null,null,null,null,null,null,null,null,null,null,"Puissance 2,2 KW  (3HP) - 3 x 380…480V AC 50/60 HZ",2.2000000000000002,"VFD_2.2",1300]
[null,"Débitmètre à section variable",10,"Montage à bride 316L DN50 – 2’’","KROHNE","Note 1",2000,null,null,null,null,null,null,null,"Vanne de contrôle - Corps Inox - KVS = 16\nDébit maxi : 8 m3/h - Signal de commande: 4-20mA",8,"Montage à bride DN32","SAMSON","Note 1",3500,null,"Puissance moteur 2,2 kW - 3 x 380…480V AC 50/60 HZ",2.2000000000000002,"VBF_MS_VFD_2.2",2700,null,null,"Puissance Totale Utile  ≤ 200 KW  3 x 380…480V AC 50/60 HZ",200,"1 cellule 2000x800x500","PTU_200_KW",4600,null,null,"Puissance Totale Installée  ≤ 300 KVA\n3 x 380…480V AC 50/60 HZ",300,"1 cellule 2000x800x500","PTI_300-KVA",12000,null,null,null,null,null,null,null,null,null,null,null,null,null,null,null,null,null,null,null,null,null,null,null,null,null,null,null,null,null,null,null,null,null,null,null,null,null,null,"Puissance 3 KW (4HP) - 3 x 380…480V AC 50/60 HZ",3,"VFD_3",1400]
[null,"Echelle de débit : maxi 10 m3/h ",null,"Contact SB3,5-E2 24VCC 3fils NO PNP","H250/RR/M9/K1 MAX",null,null,null,null,null,null,null,null,null,"Vanne de contrôle - Corps Inox - KVS = 25\nDébit maxi : 14 m3/h - Signal de commande: 4-20mA",14,"Montage à bride DN40","SAMSON","Note 1",3800,null,"Puissance moteur 3 kW - 3 x 380…480V AC 50/60 HZ",3,"VBF_MS_VFD_3",2900,null,null,"Puissance Totale Utile  ≤ 250 KW  3 x 380…480V AC 50/60 HZ",250,"2 cellules 2000x800x500","PTU_250_KW",6000,null,null,"Puissance Totale Installée  ≤ 400 KVA\n3 x 380…480V AC 50/60 HZ",400,"1 cellule 2000x800x500","PTI_400-KVA",11500,null,null,null,null,null,null,null,null,null,null,null,null,null,null,null,null,null,null,null,null,null,null,null,null,null,null,null,null,null,null,null,null,null,null,null,null,null,null,"Puissance 4 KW (5,5HP) - 3 x 380…480V AC 50/60 HZ",4,"VFD_4",1600]
[null,"Débitmètre à section variable",40,"Montage à bride 316L DN80 – 3’’","KROHNE","Note 1",2800,null,null,null,null,null,null,null,"Vanne de contrôle - Corps Inox - KVS = 40\nDébit maxi : 25 m3/h - Signal de commande: 4-20mA",25,"Montage à bride DN50","SAMSON","Note 1",4200,null,"Puissance moteur 4 kW - 3 x 380…480V AC 50/60 HZ",4,"VBF_MS_VFD_4",3100,null,null,"Puissance Totale Utile  ≤ 300 KW  3 x 380…480V AC 50/60 HZ",300,"2 cellules 2000x800x500","PTU_300_KW",7000,null,null,"Puissance Totale Installée  ≤ 500 KVA\n3 x 380…480V AC 50/60 HZ",500,"1 cellule 2000x800x500","PTI_500-KVA",12500,null,null,null,null,null,null,null,null,null,null,null,null,null,null,null,null,null,null,null,null,null,null,null,null,null,null,null,null,null,null,null,null,null,null,null,null,null,null,"Puissance 5,5 KW (10HP) - 3 x 380…480V AC 50/60 HZ",5.5,"VFD_5.5",1800]
[null,"Echelle de débit : maxi 40 m3/h",null,"Contact SB3,5-E2 24VCC 3fils NO PNP","H250/RR/M9/K1 MAX",null,null,null,null,null,null,null,null,null,"Vanne de contrôle - Corps Inox - KVS = 60\nDébit maxi : 35 m3/h - Signal de commande: 4-20mA",35,"Montage à bride DN65","SAMSON","Note 1",4500,null,"Puissance moteur 5,5 kW - 3 x 380…480V AC 50/60 HZ",5.5,"VBF_MS_VFD_5.5",3500,null,null,"Puissance Totale Utile  ≤ 400 KW  3 x 380…480V AC 50/60 HZ",400,"2 cellules 2000x800x500","PTU_400_KW",7300,null,null,"Puissance Totale Installée  ≤ 600 KVA\n3 x 380…480V AC 50/60 HZ",600,"1 cellule 2000x800x500","PTI_600-KVA",13500,null,null,null,null,null,null,null,null,null,null,null,null,null,null,null,null,null,null,null,null,null,null,null,null,null,null,null,null,null,null,null,null,null,null,null,null,null,null,"Puissance 7,5 KW (1HP) - 3 x 380…480V AC 50/60 HZ",7.5,"VFD_7.5",2200]
[null,"Débitmètre à section variable",63,"Montage à bride 316L DN100 – 4’’","KROHNE","Note 1",3200,null,null,null,null,null,null,null,"Vanne de contrôle - Corps Inox - KVS = 80\nDébit maxi : 45 m3/h - Signal de commande: 4-20mA",45,"Montage à bride DN80","SAMSON","Note 1",5000,null,"Puissance moteur 7,5 kW - 3 x 380…480V AC 50/60 HZ",7.5,"VBF_MS_VFD_7.5",4150,null,null,"Puissance Totale Utile  ≤ 500 KW  3 x 380…480V AC 50/60 HZ",500,"2 cellules 2000x800x500","PTU_500_KW",8500,null,null,"Puissance Totale Installée  ≤ 700 KVA\n3 x 380…480V AC 50/60 HZ",700,"1 cellule 2000x800x500","PTI_700-KVA",15600,null,null,null,null,null,null,null,null,null,null,null,null,null,null,null,null,null,null,null,null,null,null,null,null,null,null,null,null,null,null,null,null,null,null,null,null,null,null,"Puissance 11 KW (15HP) - 3 x 380…480V AC 50/60 HZ",11,"VFD_11",2800]
[null,"Echelle de débit : maxi 63 m3/h",null,"Contact SB3,5-E2 24VCC 3fils NO PNP","H250/RR/M9/K1 MAX",null,null,null,null,null,null,null,null,null,"Vanne de contrôle - Corps Inox - KVS = 160\nDébit maxi : 90 m3/h - Signal de commande: 4-20mA",90,"Montage à bride DN100","SAMSON","Note 1","sur demande",null,"Puissance moteur 11 kW - 3 x 380…480V AC 50/60 HZ",11,"VBF_MS_VFD_11",4800,null,null,"Puissance Totale Utile  ≤ 600 KW  3 x 380…480V AC 50/60 HZ",600,"2 cellules 2000x800x500","PTU_600_KW",9600,null,null,null,null,null,null,null,null,null,null,null,null,null,null,null,null,null,null,null,null,null,null,null,null,null,null,null,null,null,null,null,null,null,null,null,null,null,null,null,null,null,null,null,null,null,"Puissance 15 KW (20HP) - 3 x 380…480V AC 50/60 HZ",15,"VFD_15",3200]
[null,null,null,null,null,null,null,null,null,null,null,null,null,null,"Vanne de contrôle - Corps Inox - KVS = 160\nDébit maxi : 120 m3/h - Signal de commande: 4-20mA",120,"Montage à bride DN125","SAMSON","Note 1","sur  demande",null,"Puissance moteur 15 kW - 3 x 380…480V AC 50/60 HZ",15,"VBF_MS_VFD_15",5700,null,null,"Puissance Totale Utile  ≤ 700 KW  3 x 380…480V AC 50/60 HZ",700,"2 cellules 2000x800x500","PTU_700_KW",11000,null,null,null,null,null,null,null,null,null,null,null,null,null,null,null,null,null,null,null,null,null,null,null,null,null,null,null,null,null,null,null,null,null,null,null,null,null,null,null,null,null,null,null,null,null,"Puissance 18,5 KW (25HP) - 3 x 380…480V AC 50/60 HZ",18.5,"VFD_18.5",3600]
[null,"CONTROLE ET MESURE DE DEBIT - DEBITMETRE ELECTROMAGNETIQUE",null,null,null,null,null,null,null,null,null,null,null,null,"Vanne de contrôle - Corps Inox - KVS = 260\nDébit maxi : 165 m3/h - Signal de commande: 4-20mA",165,"Montage à bride DN150","SAMSON","Note 1","sur demande",null,"Puissance moteur 18,5 kW - 3 x 380…480V AC 50/60 HZ",18.5,"VBF_MS_VFD_18.5",6100,null,null,null,null,null,null,null,null,null,null,null,null,null,null,null,null,null,null,null,null,null,null,null,null,null,null,null,null,null,null,null,null,null,null,null,null,null,null,null,null,null,null,null,null,null,null,null,null,null,null,null,null,"Puissance 22 KW (30HP) - 3 x 380…480V AC 50/60 HZ",22,"VFD_22",4400]
[null,"Désignation",null,"Caractéristique","Fabricant-Type","Code article","Tarif (€)",null,null,null,null,null,null,null,"Exécution ANSI 150 lbs",null,null,null,null,null,null,"Puissance moteur 22 kW - 3 x 380…480V AC 50/60 HZ",22,"VBF_MS_VFD_22",7500,null,null,null,null,null,null,null,null,null,null,null,null,null,null,null,null,null,null,null,null,null,null,null,null,null,null,null,null,null,null,null,null,null,null,null,null,null,null,null,null,null,null,null,null,null,null,null,null,null,null,null,null,"Puissance 30 KW (40HP) - 3 x 380…480V AC 50/60 HZ",30,"VFD_30",5400]
[null,"Débitmètre électromagnétique",4.5,"Montage à bride 316L revêtue PTFE","Endress Hauser","Note 1",1800,null,null,null,null,null,null,null,"Vanne de contrôle - Corps Inox - CV = 5\nDébit maxi : 2,5 m3/h - Signal de commande: 4-20mA",2.5,"Montage à bride 1/2’’","SAMSON","Note 1",3000,null,"Puissance moteur 30 kW - 3 x 380…480V AC 50/60 HZ",30,"VBF_MS_VFD_30",8800,null,null,null,null,null,null,null,null,null,null,null,null,null,null,null,null,null,null,null,null,null,null,null,null,null,null,null,null,null,null,null,null,null,null,null,null,null,null,null,null,null,null,null,null,null,null,null,null,null,null,null,null,"Puissance 37 KW (50HP) - 3 x 380…480V AC 50/60 HZ",37,"VFD_37",6500]
[null,"Débit : 1,6 à 4,5 m3/h (à 2,5m/s)",null,"DN15 à DN25","Promag 50",null,null,null,null,null,null,null,null,null,"Vanne de contrôle - Corps Inox - CV = 7,5\nDébit maxi : 3,5 m3/h - Signal de commande: 4-20mA",3.5,"Montage à bride 3/4’’","SAMSON","Note 1",3200,null,"Puissance moteur 37 kW - 3 x 380…480V AC 50/60 HZ",37,"VBF_MS_VFD_37",10500,null,null,null,null,null,null,null,null,null,null,null,null,null,null,null,null,null,null,null,null,null,null,null,null,null,null,null,null,null,null,null,null,null,null,null,null,null,null,null,null,null,null,null,null,null,null,null,null,null,null,null,null,"Puissance 45 KW (60HP) - 3 x 380…480V AC 50/60 HZ",45,"VFD_45",7500]
[null,"Débitmètre électromagnétique",11,"Montage à bride 316L revêtue PTFE","Endress Hauser","Note 1",2000,null,null,null,null,null,null,null,"Vanne de contrôle - Corps Inox - CV = 12\nDébit maxi : 6 m3/h - Signal de commande: 4-20mA",6,"Montage à bride 1’’","SAMSON","Note 1",3400,null,"Puissance moteur 45 kW - 3 x 380…480V AC 50/60 HZ",45,"VBF_MS_VFD_45",13000,null,null,null,null,null,null,null,null,null,null,null,null,null,null,null,null,null,null,null,null,null,null,null,null,null,null,null,null,null,null,null,null,null,null,null,null,null,null,null,null,null,null,null,null,null,null,null,null,null,null,null,null,"Puissance 55 KW (75HP) - 3 x 380…480V AC 50/60 HZ",55,"VFD_55",8800]
[null,"Débit : 7 à 11 m3/h (à 2,5m/s)",null,"DN32 à DN40","Promag 50",null,null,null,null,null,null,null,null,null,"Vanne de contrôle - Corps Inox - CV = 30\nDébit maxi : 14 m3/h - Signal de commande: 4-20mA",14,"Montage à bride 1 1/2’’","SAMSON","Note 1",3800,null,"Puissance moteur 55 kW - 3 x 380…480V AC 50/60 HZ",55,"VBF_MS_VFD_55",14800,null,null,null,null,null,null,null,null,null,null,null,null,null,null,null,null,null,null,null,null,null,null,null,null,null,null,null,null,null,null,null,null,null,null,null,null,null,null,null,null,null,null,null,null,null,null,null,null,null,null,null,null,"Puissance 75 KW (100HP) - 3 x 380…480V AC 50/60 HZ",75,"VFD_75",12000]
[null,"Débitmètre électromagnétique",30,"Montage à bride 316L revêtue PTFE","Endress Hauser","Note 1",2500,null,null,null,null,null,null,null,"Vanne de contrôle - Corps Inox - CV = 47\nDébit maxi : 25 m3/h - Signal de commande: 4-20mA",25,"Montage à bride DN 2’’","SAMSON","Note 1",4200,null,"Puissance moteur 75 kW - 3 x 380…480V AC 50/60 HZ",75,"VBF_MS_VFD_75",18000,null,null,null,null,null,null,null,null,null,null,null,null,null,null,null,null,null,null,null,null,null,null,null,null,null,null,null,null,null,null,null,null,null,null,null,null,null,null,null,null,null,null,null,null,null,null,null,null,null,null,null,null,"Puissance 90 KW (125HP) - 3 x 380…480V AC 50/60 HZ",90,"VFD_90",14100]
[null,"Débit : 15 à 30 m3/h (à 2,5m/s)",null,"DN50 à DN65","Promag 50",null,null,null,null,null,null,null,null,null,"Vanne de contrôle - Corps Inox - CV = 95\nDébit maxi : 45 m3/h - Signal de commande: 4-20mA",45,"Montage à bride DN 3’’","SAMSON","Note 1",5000,null,"Puissance moteur 90 kW - 3 x 380…480V AC 50/60 HZ",90,"VBF_MS_VFD_90",21800,null,null,null,null,null,null,null,null,null,null,null,null,null,null,null,null,null,null,null,null,null,null,null,null,null,null,null,null,null,null,null,null,null,null,null,null,null,null,null,null,null,null,null,null,null,null,null,null,null,null,null,null,"Puissance 110 KW (150HP) - 3 x 380…480V AC 50/60 HZ",110,"VFD_110",17500]
[null,"Débitmètre électromagnétique",70,"Montage à bride 316L revêtue PTFE","Endress Hauser","Note 1",3000,null,null,null,null,null,null,null,"Vanne de contrôle - Corps Inox - CV = 190\nDébit maxi : 90 m3/h - Signal de commande: 4-20mA",90,"Montage à bride DN 4’’","SAMSON","Note 1","sur demande",null,"Puissance moteur 110 kW - 3 x 380…480V AC 50/60 HZ",110,"VBF_MS_VFD_110",24500,null,null,null,null,null,null,null,null,null,null,null,null,null,null,null,null,null,null,null,null,null,null,null,null,null,null,null,null,null,null,null,null,null,null,null,null,null,null,null,null,null,null,null,null,null,null,null,null,null,null,null,null,"Puissance 132 KW (200HP) - 3 x 380…480V AC 50/60 HZ",132,"VFD_132",19900]
[null,"Débit : 30 à 70 m3/h (à 2,5m/s)",null,"DN65 à DN80","Promag 50",null,null,null,null,null,null,null,null,null,"Vanne de contrôle - Corps Inox - CV = 300\nDébit maxi : 165 m3/h - Signal de commande: 4-20mA",165,"Montage à bride DN 6’’","SAMSON","Note 1","sur demande",null,"Puissance moteur 132 kW - 3 x 380…480V AC 50/60 HZ",132,"VBF_MS_VFD_132",30100,null,null,null,null,null,null,null,null,null,null,null,null,null,null,null,null,null,null,null,null,null,null,null,null,null,null,null,null,null,null,null,null,null,null,null,null,null,null,null,null,null,null,null,null,null,null,null,null,null,null,null,null,"Puissance 160 KW (250HP) - 3 x 380…480V AC 50/60 HZ",160,"VFD_160",22000]
[null,"Débitmètre électromagnétique",110,"Montage à bride 316L revêtue PTFE","Endress Hauser","Note 1","Sur demande",null,null,null,null,null,null,null,"Option pour vanne de contrôle",null,null,null,null,null,null,"Puissance moteur 160 kW - 3 x 380…480V AC 50/60 HZ",160,"VBF_MS_VFD_160",33100]
[null,"Débit : 110 à … m3/h (à 2,5m/s)",null,"DN125 à …","Promag 50",null,null,null,null,null,null,null,null,null,"Positionneur type HART (4-20mA) pour vanne DN15 à DN40",null,null,"SAMSON","Note 1",1200]
[null,null,null,null,null,null,null,null,null,null,null,null,null,null,"Positionneur type HART (4-20mA) pour vanne DN50 à DN150",null,null,"SAMSON","Note 1",1200]
[null,null,null,null,null,null,null,null,null,null,null,null,null,null,null,null,null,null,null,null,null,"DEPART-MOTEUR POMPE A VIDE (et pour pompes sans VFD)"]
[null,"CONTROLE ET MESURE DE NIVEAU - TRANSMETTEUR DE NIVEAU POUR BAC",null,null,null,null,null,null,null,null,null,null,null,null,null,null,null,null,null,null,null,"Démarreur électrique de type ‘’Direct’’ DOL composé : Disjoncteur + Contacteur (*)"]
[null,"Désignation","Caractéristique","Fabricant-Type","Code article","Tarif (€)",null,null,null,null,null,null,null,null,null,null,null,null,null,null,null,"Désignation - Caractéristique",null,"Code article","Tarif (€)"]
[null,"Transmetteur de niveau – Technologie à ultrason (*)","Montage G 1½ ''","Endress Hauser Prosonic M-FMU40","EELE000795-0000",1100,null,null,null,null,null,null,null,null,null,null,null,null,null,null,null,"Puissance moteur ≤ 0,75 kW - 3 x 380…480V AC 50/60 HZ",0.75,"P_MS_DOL_0.75",1000]
[null,null,"Signal 2 fils 4-20mA HART",null,null,null,null,null,null,null,null,null,null,null,null,null,null,null,null,null,null,"Puissance moteur 1,1 kW - 3 x 380…480V AC 50/60 HZ",1.1000000000000001,"P_MS_DOL_1.1",1050]
[null,"(*) non compatible  pour une installation dans un ballon séparateur soumis au vide",null,null,null,null,null,null,null,null,null,null,null,null,null,null,null,null,null,null,null,"Puissance moteur 1,5 kW - 3 x 380…480V AC 50/60 HZ",1.5,"P_MS_DOL_1.5",1100]
[null,"Option -  Bride de raccordement pour transmetteur de niveau à ultrason","Montage bride DN50 polypropylène","Endress Hauser","EELE000796-0000",250,null,null,null,null,null,null,null,null,null,null,null,null,null,null,null,"Puissance moteur 2,2 kW - 3 x 380…480V AC 50/60 HZ",2.2000000000000002,"P_MS_DOL_2.2",1150]
[null,"Option -  Capot de protection pour transmetteur de niveau à ultrason","Acier Inox 316Ti","Endress Hauser","EELE000797-0000",100,null,null,null,null,null,null,null,null,null,null,null,null,null,null,null,"Puissance moteur 3 kW - 3 x 380…480V AC 50/60 HZ",3,"P_MS_DOL_3",1200]
[null,"POUR BALLON VIDE",null,null,null,null,null,null,null,null,null,null,null,null,null,null,null,null,null,null,null,"Puissance moteur 4 kW - 3 x 380…480V AC 50/60 HZ",4,"P_MS_DOL_4",1250]
[null,"Transmetteur de niveau - Technologie à pression différentielle(*)","Montage à bride 316L DN50","Endress Hauser Deltabar S-FMD78","Note 1",3200,null,null,null,null,null,null,null,null,null,null,null,null,null,null,null,"Puissance moteur 5,5 kW - 3 x 380…480V AC 50/60 HZ",5.5,"P_MS_DOL_5.5",1300]
[null,null,"Séparateur 316L et capillaire",null,null,null,null,null,null,null,null,null,null,null,null,null,null,null,null,null,null,"Puissance moteur 7,5 kW - 3 x 380…480V AC 50/60 HZ",7.5,"P_MS_DOL_7.5",1350]
[null,"(*) généralement utilisé pour les mesures de niveaux dans les ballons séparateurs soumis au vide","Signal 2 fils 4-20mA HART",null,null,null,null,null,null,null,null,null,null,null,null,null,null,null,null,null,null,"Puissance moteur 11 kW - 3 x 380…480V AC 50/60 HZ",11,"P_MS_DOL_11",1400]
[null,"Transmetteur de niveau - Technologie à sonde capacitive (*)","Montage à bride 316L DN50","Endress Hauser Liquicap M-FMI51","Note 1",2500,null,null,null,null,null,null,null,null,null,null,null,null,null,null,null,"Puissance moteur 15 kW - 3 x 380…480V AC 50/60 HZ",15,"P_MS_DOL_15",1450]
[null,null,"Tige 316L revêtue PTFE",null,null,null,null,null,null,null,null,null,null,null,null,null,null,null,null,null,null,"Puissance moteur 18,5 kW - 3 x 380…480V AC 50/60 HZ",18.5,"MS_DOL_18.5",1500]
[null,"(*) généralement utilisé dans des ballons séparateurs en acier inox soumis au vide. Le principal inconvénient est la longueur imposante des tiges (manutention, installation et remplacement difficile). Ne pas utiliser dans des ballons séparateurs en FRP","Signal 2 fils 4-20mA HART",null,null,null,null,null,null,null,null,null,null,null,null,null,null,null,null,null,null,"Puissance moteur 22 kW - 3 x 380…480V AC 50/60 HZ",22,"P_MS_DOL_22",16000]
[null,"Transmetteur de niveau - Technologie à radar filoguidé (*)","Montage à bride 316L DN50","Endress Hauser Levelflex FMP52","Note 1",2600,null,null,null,null,null,null,null,null,null,null,null,null,null,null,null,"Puissance moteur 30 kW - 3 x 380…480V AC 50/60 HZ",30,"P_MS_DOL_30",1650]
[null,null,"Tige 316L revêtue PTFE",null,null,null,null,null,null,null,null,null,null,null,null,null,null,null,null,null,null,"Puissance moteur 37 kW - 3 x 230…690V AC 50/60 HZ",37,"P_MS_ESS_37",5000]
[null,"(* généralement utilisé dans des ballons séparateurs en acier inox ou en FRP soumis au vide. Le principal inconvénient est la longueur imposante des tiges (manutention, installation et remplacement difficile)","Signal 2 fils 4-20mA HART",null,null,null,null,null,null,null,null,null,null,null,null,null,null,null,null,null,null,"Puissance moteur 45 kW - 3 x 230…690V AC 50/60 HZ",45,"P_MS_ESS_45",5800]
[null,null,null,null,null,null,null,null,null,null,null,null,null,null,null,null,null,null,null,null,null,"Puissance moteur 55 kW - 3 x 230…690V AC 50/60 HZ",55,"P_MS_ESS_55",7000]
[null,null,null,null,null,null,null,null,null,null,null,null,null,null,null,null,null,null,null,null,null,"Puissance moteur 75 kW - 3 x 230…690V AC 50/60 HZ",75,"P_MS_ESS_75",7300]
[null,null,null,null,null,null,null,null,null,null,null,null,null,null,null,null,null,null,null,null,null,"Puissance moteur 90 kW - 3 x 230…690V AC 50/60 HZ",90,"P_MS_ESS_90",9100]
[null,"CONTROLE ET MESURE DE PRESSION - TRANSMETTEUR DE PRESSION",null,null,null,null,null,null,null,null,null,null,null,null,null,null,null,null,null,null,null,"Puissance moteur 110 kW - 3 x 230…690V AC 50/60 HZ",110,"P_MS_ESS_110",10600]
[null,"Désignation","Caractéristique","Fabricant-Type","Code article","Tarif (€)",null,null,null,null,null,null,null,null,null,null,null,null,null,null,null,"Puissance moteur 132 kW - 3 x 230…690V AC 50/60 HZ",132,"P_MS_ESS_132",13800]
[null,"Transmetteur de pression - Technologie à séparateur","Montage à bride 316L DN50","Endress Hauser Cérabar M-PMP55","EELE001208-0000",1200,null,null,null,null,null,null,null,null,null,null,null,null,null,null,null,"Puissance moteur 160 kW - 3 x 230…690V AC 50/60 HZ",160,"P_MS_ESS_160",16100]
[null,null,"Séparateur et membrane 316L",null,null,null,null,null,null,null,null,null,null,null,null,null,null,null,null,null,null,"Puissance moteur 220 kW - 3 x 230…690V AC 50/60 HZ",220,"P_MS_ESS_220",20500]
[null,null,"Signal 2 fils 4-20mA HART",null,null,null,null,null,null,null,null,null,null,null,null,null,null,null,null,null,null,"Puissance moteur 250 kW - 3 x 230…690V AC 50/60 HZ",250,"P_MS_ESS_250",23600]
[null,null,null,null,null,null,null,null,null,null,null,null,null,null,null,null,null,null,null,null,null,"Puissance moteur 315 kW - 3 x 230…690V AC 50/60 HZ",315,"P_MS_ESS_315",28000]
[null,null,null,null,null,null,null,null,null,null,null,null,null,null,null,null,null,null,null,null,null,"Puissance moteur 355 kW - 3 x 230…690V AC 50/60 HZ",355,"P_MS_ESS_355",34000]
[null,null,null,null,null,null,null,null,null,null,null,null,null,null,null,null,null,null,null,null,null,"Puissance moteur 400 kW - 3 x 230…690V AC 50/60 HZ",400,"P_MS_ESS_400",36700]
[null,null,null,null,null,null,null,null,null,null,null,null,null,null,null,null,null,null,null,null,null,"Puissance moteur 450 kW - 3 x 230…690V AC 50/60 HZ",450,"P_MS_ESS_450",{"$f":"(Y56+Y58)/2","v":42350}]
[null,null,null,null,null,null,null,null,null,null,null,null,null,null,null,null,null,null,null,null,null,"Puissance moteur 500 kW - 3 x 230…690V AC 50/60 HZ",500,"P_MS_ESS_500",48000]
[]
[]
[null,null,null,null,null,null,null,null,null,null,null,null,null,null,null,null,null,null,null,null,null,"DEPART-MOTEUR POMPES A FILTRATS (et Pompes avec VFD)"]
[null,null,null,null,null,null,null,null,null,null,null,null,null,null,null,null,null,null,null,null,null,"Démarreur électrique composé : Disjoncteur + Contacteur + Variateur de fréquence (*)"]
[null,null,null,null,null,null,null,null,null,null,null,null,null,null,null,null,null,null,null,null,null,"Désignation - Caractéristique",null,"Code article","Tarif (€)"]
[null,null,null,null,null,null,null,null,null,null,null,null,null,null,null,null,null,null,null,null,null,"Puissance moteur ≤ 0,75 kW - 3 x 380…480V AC 50/60 HZ",0.75,"P_MS_VFD_0.75",2200]
[null,null,null,null,null,null,null,null,null,null,null,null,null,null,null,null,null,null,null,null,null,"Puissance moteur 1,1 kW - 3 x 380…480V AC 50/60 HZ",1.1000000000000001,"P_MS_VFD_1.1",2400]
[null,null,null,null,null,null,null,null,null,null,null,null,null,null,null,null,null,null,null,null,null,"Puissance moteur 1,5 kW - 3 x 380…480V AC 50/60 HZ",1.5,"P_MS_VFD_1.5",2500]
[null,null,null,null,null,null,null,null,null,null,null,null,null,null,null,null,null,null,null,null,null,"Puissance moteur 2,2 kW - 3 x 380…480V AC 50/60 HZ",2.2000000000000002,"P_MS_VFD_2.2",2700]
[null,null,null,null,null,null,null,null,null,null,null,null,null,null,null,null,null,null,null,null,null,"Puissance moteur 3 kW - 3 x 380…480V AC 50/60 HZ",3,"P_MS_VFD_3",2900]
[null,null,null,null,null,null,null,null,null,null,null,null,null,null,null,null,null,null,null,null,null,"Puissance moteur 4 kW - 3 x 380…480V AC 50/60 HZ",4,"P_MS_VFD_4",3100]
[null,null,null,null,null,null,null,null,null,null,null,null,null,null,null,null,null,null,null,null,null,"Puissance moteur 5,5 kW - 3 x 380…480V AC 50/60 HZ",5.5,"P_MS_VFD_5.5",3500]
[null,null,null,null,null,null,null,null,null,null,null,null,null,null,null,null,null,null,null,null,null,"Puissance moteur 7,5 kW - 3 x 380…480V AC 50/60 HZ",7.5,"P_MS_VFD_7.5",4150]
[null,null,null,null,null,null,null,null,null,null,null,null,null,null,null,null,null,null,null,null,null,"Puissance moteur 11 kW - 3 x 380…480V AC 50/60 HZ",11,"P_MS_VFD_11",4800]
[null,null,null,null,null,null,null,null,null,null,null,null,null,null,null,null,null,null,null,null,null,"Puissance moteur 15 kW - 3 x 380…480V AC 50/60 HZ",15,"P_MS_VFD_15",5700]
[null,null,null,null,null,null,null,null,null,null,null,null,null,null,null,null,null,null,null,null,null,"Puissance moteur 18,5 kW - 3 x 380…480V AC 50/60 HZ",18.5,"P_MS_VFD_18.5",6100]
[null,null,null,null,null,null,null,null,null,null,null,null,null,null,null,null,null,null,null,null,null,"Puissance moteur 22 kW - 3 x 380…480V AC 50/60 HZ",22,"P_MS_VFD_22",7500]
[null,null,null,null,null,null,null,null,null,null,null,null,null,null,null,null,null,null,null,null,null,"Puissance moteur 30 kW - 3 x 380…480V AC 50/60 HZ",30,"P_MS_VFD_30",8800]
[null,null,null,null,null,null,null,null,null,null,null,null,null,null,null,null,null,null,null,null,null,"Puissance moteur 37 kW - 3 x 380…480V AC 50/60 HZ",37,"P_MS_VFD_37",10500]
[null,null,null,null,null,null,null,null,null,null,null,null,null,null,null,null,null,null,null,null,null,"Puissance moteur 45 kW - 3 x 380…480V AC 50/60 HZ",45,"P_MS_VFD_45",13000]
[null,null,null,null,null,null,null,null,null,null,null,null,null,null,null,null,null,null,null,null,null,"Puissance moteur 55 kW - 3 x 380…480V AC 50/60 HZ",55,"P_MS_VFD_55",14800]
[null,null,null,null,null,null,null,null,null,null,null,null,null,null,null,null,null,null,null,null,null,"Puissance moteur 75 kW - 3 x 380…480V AC 50/60 HZ",75,"P_MS_VFD_75",18000]
[null,null,null,null,null,null,null,null,null,null,null,null,null,null,null,null,null,null,null,null,null,"Puissance moteur 90 kW - 3 x 380…480V AC 50/60 HZ",90,"P_MS_VFD_90",21800]
[null,null,null,null,null,null,null,null,null,null,null,null,null,null,null,null,null,null,null,null,null,"Puissance moteur 110 kW - 3 x 380…480V AC 50/60 HZ",110,"P_MS_VFD_110",24500]
[null,null,null,null,null,null,null,null,null,null,null,null,null,null,null,null,null,null,null,null,null,"Puissance moteur 132 kW - 3 x 380…480V AC 50/60 HZ",132,"P_MS_VFD_132",30100]
[null,null,null,null,null,null,null,null,null,null,null,null,null,null,null,null,null,null,null,null,null,"Puissance moteur 160 kW - 3 x 380…480V AC 50/60 HZ",160,"P_MS_VFD_160",33100]

{"sheet":"Instrum et Elec","index":29,"n_rows":36,"n_cols":27,"rows_kept":36,"cut":false,"hidden":false,"merged":[[3,15,3,16],[11,11,11,12],[13,11,13,12],[13,13,13,14],[6,15,6,16],[16,2,16,4],[20,2,20,8],[10,2,10,4],[11,2,11,4],[12,2,12,4],[13,2,13,4],[14,2,14,4],[15,2,15,4],[8,2,8,4],[3,2,3,4],[4,2,4,4],[5,2,5,4],[6,2,6,4],[7,2,7,4],[1,18,1,21],[1,22,1,23],[30,2,30,5],[30,6,30,7],[32,2,32,5],[32,6,32,7],[6,11,6,12],[7,11,7,12],[8,11,8,12],[9,11,9,12],[10,11,10,12],[12,11,12,12],[31,6,31,7],[24,2,24,5],[28,2,28,5],[31,2,31,5],[24,6,24,7],[28,6,28,7],[1,15,1,16],[2,2,2,4],[17,7,17,8],[17,4,17,6],[1,11,1,14],[3,11,3,14],[13,19,13,20],[7,15,7,16],[8,15,8,16],[9,15,9,16],[10,15,10,16],[11,15,11,16],[33,2,33,5],[33,6,33,7],[35,7,36,8],[35,1,36,6],[16,15,16,16],[17,15,17,16],[18,15,18,16],[19,15,19,16],[20,15,20,16],[17,11,17,12],[18,11,18,12],[19,11,19,12],[20,11,20,12],[25,11,25,12],[26,11,26,12],[27,11,27,12],[27,13,27,14],[21,15,21,16],[13,25,13,26],[0,1,0,6],[14,11,14,12],[15,11,15,12],[16,11,16,12],[13,21,13,22],[6,23,6,24],[7,23,7,24],[8,23,8,24],[9,23,9,24],[10,23,10,24],[11,23,11,24],[12,23,12,24],[13,23,13,24],[12,15,12,16],[13,15,13,16],[13,17,13,18],[6,19,6,20],[7,19,7,20],[8,19,8,20],[9,19,9,20],[10,19,10,20],[11,19,11,20],[12,19,12,20],[20,25,20,26],[21,11,21,12],[22,11,22,12],[23,11,23,12],[24,11,24,12],[20,21,20,22],[14,23,14,24],[15,23,15,24],[16,23,16,24],[17,23,17,24],[18,23,18,24],[19,23,19,24],[20,23,20,24],[20,17,20,18],[14,19,14,20],[15,19,15,20],[16,19,16,20],[17,19,17,20],[18,19,18,20],[19,19,19,20],[20,19,20,20],[20,13,20,14],[14,15,14,16],[15,15,15,16],[22,15,22,16],[23,15,23,16],[24,15,24,16],[25,15,25,16],[26,15,26,16],[27,15,27,16],[29,11,29,12],[30,11,30,12],[31,11,31,12],[31,13,31,14],[28,15,28,16],[29,15,29,16],[30,15,30,16],[31,15,31,16],[27,17,27,18],[28,11,28,12],[31,25,31,26],[35,15,36,20],[35,21,36,22],[31,21,31,22],[28,23,28,24],[29,23,29,24],[30,23,30,24],[31,23,31,24],[31,17,31,18],[28,19,28,20],[29,19,29,20],[30,19,30,20],[31,19,31,20]]}
[null,"ELEMENTS A SELECTIONNER EN ROUGE"]
[null,null,null,null,null,null,null,null,null,null,null,"TYPE DE REGULATION (pour C; D; E; F et G) :",null,null,null,"VFD",null,null,"COFFRET DE COMMANDE LOCAL :",null,null,null,"LCP3 (MULTIFONCTION)"]
[null,"N°","Elements",null,null,"Quantité","kW","Prix uni","Prix tot"]
[null,"A","Départ Moteur Filtre",null,null,{"$f":"'Offre NEW'!H7/'Offre NEW'!H7","v":1},{"$f":"Calculations!H73","v":90},{"$f":"IF(OR($G$4=\"N/A\",$F$4=0),0,VLOOKUP($G$4,'Data Instrum_Armoires'!$W$5:$Y$25,3,FALSE))","v":21800},{"$f":"H4*F4","v":21800},null,null,"TYPE DE REGULATION (pour H et I) :",null,null,null,"VFD"]
[null,"B","Départ Moteur Rouleau Presseur",null,null,{"$f":"'Offre NEW'!H56/'Offre NEW'!H7","v":0},{"$f":"'Offre NEW'!G56","v":0},{"$f":"IF(OR(G5=\"N/A\",F5=0),0,VLOOKUP(G5,'Data Instrum_Armoires'!$W$5:$Y$25,3,FALSE))","v":0},{"$f":"H5*F5","v":0}]
[null,"C","Départ Moteur Pompe Filtrats 1",null,null,{"$f":"'Offre NEW'!H43/'Offre NEW'!H7","v":0},{"$f":"'Offre NEW'!G43","v":45},{"$f":"IF(OR(G6=\"N/A\",F6=0),0,IF($P$2=\"VFD\",VLOOKUP(G6,'Data Instrum_Armoires'!$W$64:$Y$84,3,FALSE),VLOOKUP(G6,'Data Instrum_Armoires'!$W$31:$Y$58,3,FALSE)))","v":0},0]
[null,"D","Départ Moteur Pompe Filtrats 2",null,null,{"$f":"'Offre NEW'!H44/'Offre NEW'!H7","v":0},{"$f":"'Offre NEW'!G44","v":7.5},{"$f":"IF(OR(G7=\"N/A\",F7=0),0,IF($P$2=\"VFD\",VLOOKUP(G7,'Data Instrum_Armoires'!$W$64:$Y$84,3,FALSE),VLOOKUP(G7,'Data Instrum_Armoires'!$W$31:$Y$58,3,FALSE)))","v":0},0,null,null,"Ballon 1 ",null,{"$f":"IF('Offre NEW'!H29<>0,Calculations!$D$44,\"N/A\")","v":"Barometrique"},null,"Ballon 2 ",null,{"$f":"IF('Offre NEW'!H30<>0,Calculations!$D$44,\"N/A\")","v":"Barometrique"},null,"Ballon 3 ",null,{"$f":"IF('Offre NEW'!H31<>0,Calculations!$D$44,\"N/A\")","v":"Barometrique"},null,"Ballon 4 ",null,{"$f":"IF('Offre NEW'!H32<>0,Calculations!$D$44,\"N/A\")","v":"N/A"}]
[null,"E","Départ Moteur Pompe Filtrats 3",null,null,{"$f":"'Offre NEW'!H45/'Offre NEW'!H7","v":0},{"$f":"'Offre NEW'!G45","v":22},{"$f":"IF(OR(G8=\"N/A\",F8=0),0,IF($P$2=\"VFD\",VLOOKUP(G8,'Data Instrum_Armoires'!$W$64:$Y$84,3,FALSE),VLOOKUP(G8,'Data Instrum_Armoires'!$W$31:$Y$58,3,FALSE)))","v":0},0,null,null,"Capteur Niveau 1",null,{"$f":"IF(OR(N7=\"krogh\",N7=\"Forcée\"),\"LIT\",IF(N7=\"Barometrique\",\"LSH\",\"N/A\"))","v":"LSH"},{"$f":"IF(N8=\"LIT\",'Data Instrum_Armoires'!$F$37,IF(N8=\"N/A\",0,'Data Instrum_Armoires'!$M$6))","v":1500},"Capteur Niveau 1",null,{"$f":"IF(OR(R7=\"krogh\",R7=\"Forcée\"),\"LIT\",IF(R7=\"Barometrique\",\"LSH\",\"N/A\"))","v":"LSH"},{"$f":"IF(R8=\"LIT\",'Data Instrum_Armoires'!$F$37,IF(R8=\"N/A\",0,'Data Instrum_Armoires'!$M$6))","v":1500},"Capteur Niveau 1",null,{"$f":"IF(OR(V7=\"krogh\",V7=\"Forcée\"),\"LIT\",IF(V7=\"Barometrique\",\"LSH\",\"N/A\"))","v":"LSH"},{"$f":"IF(V8=\"LIT\",'Data Instrum_Armoires'!$F$37,IF(V8=\"N/A\",0,'Data Instrum_Armoires'!$M$6))","v":1500},"Capteur Niveau 1",null,{"$f":"IF(OR(Z7=\"krogh\",Z7=\"Forcée\"),\"LIT\",IF(Z7=\"Barometrique\",\"LSH\",\"N/A\"))","v":"N/A"},{"$f":"IF(Z8=\"LIT\",'Data Instrum_Armoires'!$F$37,IF(Z8=\"N/A\",0,'Data Instrum_Armoires'!$M$6))","v":0}]
[null,"F","Départ Moteur Pompe Filtrats 4",null,null,{"$f":"'Offre NEW'!H46/'Offre NEW'!H7","v":0},{"$f":"'Offre NEW'!G46","v":7.5},{"$f":"IF(OR(G9=\"N/A\",F9=0),0,IF($P$2=\"VFD\",VLOOKUP(G9,'Data Instrum_Armoires'!$W$64:$Y$84,3,FALSE),VLOOKUP(G9,'Data Instrum_Armoires'!$W$31:$Y$58,3,FALSE)))","v":0},0,null,null,"Capteur Niveau 2",null,"N/A",{"$f":"IF(N9=\"LIT\",'Data Instrum_Armoires'!$F$37,IF(N9=\"N/A\",0,'Data Instrum_Armoires'!$M$6))","v":0},"Capteur Niveau 2",null,"N/A",{"$f":"IF(R9=\"LIT\",'Data Instrum_Armoires'!$F$37,IF(R9=\"N/A\",0,'Data Instrum_Armoires'!$M$6))","v":0},"Capteur Niveau 2",null,"N/A",{"$f":"IF(V9=\"LIT\",'Data Instrum_Armoires'!$F$37,IF(V9=\"N/A\",0,'Data Instrum_Armoires'!$M$6))","v":0},"Capteur Niveau 2",null,"N/A",{"$f":"IF(Z9=\"LIT\",'Data Instrum_Armoires'!$F$37,IF(Z9=\"N/A\",0,'Data Instrum_Armoires'!$M$6))","v":0}]
[null,"G","Départ Moteur Pompe Cloudy ",null,null,{"$f":"'Offre NEW'!H42/'Offre NEW'!H7","v":0},{"$f":"'Offre NEW'!G42","v":11},{"$f":"IF(OR(G10=\"N/A\",F10=0),0,IF($P$2=\"VFD\",VLOOKUP(G10,'Data Instrum_Armoires'!$W$64:$Y$84,3,FALSE),VLOOKUP(G10,'Data Instrum_Armoires'!$W$31:$Y$58,3,FALSE)))","v":0},0,null,null,"Capteur Pression",null,{"$f":"IF(N7=\"N/A\",\"N/A\",\"PIT\")","v":"PIT"},{"$f":"IF(N10=\"PIT\",'Data Instrum_Armoires'!$F$51,0)","v":1200},"Capteur Pression",null,0,{"$f":"IF(R10=\"PIT\",'Data Instrum_Armoires'!$F$51,0)","v":0},"Capteur Pression",null,0,{"$f":"IF(V10=\"PIT\",'Data Instrum_Armoires'!$F$51,0)","v":0},"Capteur Pression",null,0,{"$f":"IF(Z10=\"PIT\",'Data Instrum_Armoires'!$F$51,0)","v":0}]
[null,"H","Départ Moteur Pompe Récup A.Liq",null,null,{"$f":"'Offre NEW'!H47/'Offre NEW'!H7","v":0},{"$f":"'Offre NEW'!G47","v":55},{"$f":"IF(OR(G11=\"N/A\",F11=0),0,IF($P$4=\"VFD\",VLOOKUP(G11,'Data Instrum_Armoires'!$W$64:$Y$84,3,FALSE),VLOOKUP(G11,'Data Instrum_Armoires'!$W$31:$Y$58,3,FALSE)))","v":0},0,null,null,"Type de Régulation",null,{"$f":"IF(N7=\"Barometrique\",\"N/A\",$P$2)","v":"N/A"},null,"Type de Régulation",null,{"$f":"IF(R7=\"Barometrique\",\"N/A\",$P$2)","v":"N/A"},null,"Type de Régulation",null,{"$f":"IF(V7=\"Barometrique\",\"N/A\",$P$2)","v":"N/A"},null,"Type de Régulation",null,{"$f":"IF(Z7=\"Barometrique\",\"N/A\",$P$2)","v":"VFD"}]
[null,"I","Départ Moteur Pompe Récup T&B",null,null,{"$f":"'Offre NEW'!H48/'Offre NEW'!H7","v":0},{"$f":"'Offre NEW'!G48","v":5.5},{"$f":"IF(OR(G12=\"N/A\",F12=0),0,IF($P$4=\"VFD\",VLOOKUP(G12,'Data Instrum_Armoires'!$W$64:$Y$84,3,FALSE),VLOOKUP(G12,'Data Instrum_Armoires'!$W$31:$Y$58,3,FALSE)))","v":0},0,null,null,"Vanne de Régulation",null,2.5,{"$f":"IF(OR(N11=\"VFD\",N11=\"N/A\",N12=\"N/A\",N11=\"Pas de Regulation\"),0,VLOOKUP(N12,'Data Instrum_Armoires'!$P$5:$T$15,5,FALSE))","v":0},"Vanne de Régulation",null,"N/A",{"$f":"IF(OR(R11=\"VFD\",R11=\"N/A\",R12=\"N/A\",R11=\"Pas de Regulation\"),0,VLOOKUP(R12,'Data Instrum_Armoires'!$P$5:$T$15,5,FALSE))","v":0},"Vanne de Régulation",null,2.5,{"$f":"IF(OR(V11=\"VFD\",V11=\"N/A\",V12=\"N/A\",V11=\"Pas de Regulation\"),0,VLOOKUP(V12,'Data Instrum_Armoires'!$P$5:$T$15,5,FALSE))","v":0},"Vanne de Régulation",null,2.5,{"$f":"IF(OR(Z11=\"VFD\",Z11=\"N/A\",Z12=\"N/A\",Z11=\"Pas de Regulation\"),0,VLOOKUP(Z12,'Data Instrum_Armoires'!$P$5:$T$15,5,FALSE))","v":0}]
[null,"J","Départ Moteur Pompe HP",null,null,{"$f":"'Offre NEW'!H57/'Offre NEW'!H7","v":1},{"$f":"'Offre NEW'!G57","v":3},{"$f":"IF(OR(G13=\"N/A\",F13=0),0,VLOOKUP(G13,'Data Instrum_Armoires'!$W$31:$Y$58,3,FALSE))","v":1200},1200,null,null,"Débimètre",null,"N/A",{"$f":"IF(N13=\"N/A\",0,VLOOKUP(N13,'Data Instrum_Armoires'!$C$17:$G$26,5,FALSE))","v":0},"Débimètre",null,"N/A",{"$f":"IF(R13=\"N/A\",0,VLOOKUP(R13,'Data Instrum_Armoires'!$C$17:$G$26,5,FALSE))","v":0},"Débimètre",null,"N/A",{"$f":"IF(V13=\"N/A\",0,VLOOKUP(V13,'Data Instrum_Armoires'!$C$17:$G$26,5,FALSE))","v":0},"Débimètre",null,"N/A",{"$f":"IF(Z13=\"N/A\",0,VLOOKUP(Z13,'Data Instrum_Armoires'!$C$17:$G$26,5,FALSE))","v":0}]
[null,"K","Départ Moteur PàV",null,null,{"$f":"'Offre NEW'!H49/'Offre NEW'!H7","v":0},{"$f":"'Offre NEW'!G49","v":1000},{"$f":"IF(OR(G14=\"N/A\",F14=0),0,VLOOKUP(G14,'Data Instrum_Armoires'!$W$31:$Y$58,3,FALSE))","v":0},0,null,null,"Prix total Inst ballon 1",null,{"$f":"IF(N7=\"N/A\",0,SUM(O8:O13))","v":2700},null,"Prix total Inst ballon 2",null,{"$f":"IF(R7=\"N/A\",0,SUM(S8:S13))","v":1500},null,"Prix total Inst ballon 3",null,{"$f":"IF(V7=\"N/A\",0,SUM(W8:W13))","v":1500},null,"Prix total Inst ballon 4",null,{"$f":"IF(Z7=\"N/A\",0,SUM(AA8:AA13))","v":0}]
[null,"L","Départ Accessoire 1",null,null,0,"N/A",{"$f":"IF(OR(G15=\"N/A\",F15=0),0,VLOOKUP(G15,'Data Instrum_Armoires'!$W$64:$Y$84,3,FALSE))","v":0},0,null,null,"Bac Barométrique 1 ",null,{"$f":"IF(AND(N7=\"Barometrique\",'Offre NEW'!H36),\"\",\"N/A\")","v":"N/A"},null,"Bac Barométrique 2 ",null,{"$f":"IF(AND(R7=\"Barometrique\",'Offre NEW'!H37),\"\",\"N/A\")","v":"N/A"},null,"Bac Barométrique 3 ",null,{"$f":"IF(AND(V7=\"Barometrique\",'Offre NEW'!H38),\"\",\"N/A\")","v":"N/A"},null,"Bac Barométrique 4 ",null,{"$f":"IF(AND(Z7=\"Barometrique\",'Offre NEW'!H39),\"\",\"N/A\")","v":"N/A"}]
[null,"M","Départ Accessoire 2",null,null,0,"N/A",{"$f":"IF(OR(G16=\"N/A\",F16=0),0,VLOOKUP(G16,'Data Instrum_Armoires'!$W$64:$Y$84,3,FALSE))","v":0},0,null,null,"Capteur Niveau 1",null,{"$f":"IF(N15=\"\",\"Ultrason\",\"N/A\")","v":"N/A"},{"$f":"IF(N16=\"N/A\",0,SUM('Data Instrum_Armoires'!F31:F35))","v":0},"Capteur Niveau 1",null,{"$f":"IF(R15=\"\",\"Ultrason\",\"N/A\")","v":"N/A"},{"$f":"IF(R16=\"N/A\",0,SUM('Data Instrum_Armoires'!F31:F35))","v":0},"Capteur Niveau 1",null,{"$f":"IF(V15=\"\",\"Ultrason\",\"N/A\")","v":"N/A"},{"$f":"IF(V16=\"N/A\",0,SUM('Data Instrum_Armoires'!F31:F35))","v":0},"Capteur Niveau 1",null,{"$f":"IF(Z15=\"\",\"Ultrason\",\"N/A\")","v":"N/A"},{"$f":"IF(Z16=\"N/A\",0,SUM('Data Instrum_Armoires'!F31:F35))","v":0}]
[null,"N","Départ Accessoire 3",null,null,0,"N/A",{"$f":"IF(OR(G17=\"N/A\",F17=0),0,VLOOKUP(G17,'Data Instrum_Armoires'!$W$64:$Y$84,3,FALSE))","v":0},0,null,null,"Capteur Niveau 2",null,"N/A",{"$f":"IF(N17=\"LIT\",'Data Instrum_Armoires'!$F$37,IF(N17=\"N/A\",0,'Data Instrum_Armoires'!$M$6))","v":0},"Capteur Niveau 2",null,"N/A",{"$f":"IF(R17=\"LIT\",'Data Instrum_Armoires'!$F$37,IF(R17=\"N/A\",0,'Data Instrum_Armoires'!$M$6))","v":0},"Capteur Niveau 2",null,"N/A",{"$f":"IF(V17=\"LIT\",'Data Instrum_Armoires'!$F$37,IF(V17=\"N/A\",0,'Data Instrum_Armoires'!$M$6))","v":0},"Capteur Niveau 2",null,"N/A",{"$f":"IF(Z17=\"LIT\",'Data Instrum_Armoires'!$F$37,IF(Z17=\"N/A\",0,'Data Instrum_Armoires'!$M$6))","v":0}]
[null,null,null,null,"Prix total Départs Moteurs",null,null,{"$f":"SUM(I4:I17)","v":23000},null,null,null,"Type de Régulation",null,{"$f":"IF(N15=\"\",$P$2,\"N/A\")","v":"N/A"},null,"Type de Régulation",null,{"$f":"IF(R15=\"\",$P$2,\"N/A\")","v":"N/A"},null,"Type de Régulation",null,{"$f":"IF(V15=\"\",$P$2,\"N/A\")","v":"N/A"},null,"Type de Régulation",null,{"$f":"IF(Z15=\"\",$P$2,\"N/A\")","v":"N/A"}]
[null,null,null,null,null,null,null,null,null,null,null,"Vanne de Régulation",null,2.5,{"$f":"IF(OR(N18=\"VFD\",N18=\"N/A\",N19=\"N/A\",N18=\"Pas de Regulation\"),0,VLOOKUP(N19,'Data Instrum_Armoires'!$P$5:$T$15,5,FALSE))","v":0},"Vanne de Régulation",null,45,{"$f":"IF(OR(R18=\"VFD\",R18=\"N/A\",R19=\"N/A\",R18=\"Pas de Regulation\"),0,VLOOKUP(R19,'Data Instrum_Armoires'!$P$5:$T$15,5,FALSE))","v":0},"Vanne de Régulation",null,2.5,{"$f":"IF(OR(V18=\"VFD\",V18=\"N/A\",V19=\"N/A\",V18=\"Pas de Regulation\"),0,VLOOKUP(V19,'Data Instrum_Armoires'!$P$5:$T$15,5,FALSE))","v":0},"Vanne de Régulation",null,2.5,{"$f":"IF(OR(Z18=\"VFD\",Z18=\"N/A\",Z19=\"N/A\",Z18=\"Pas de Regulation\"),0,VLOOKUP(Z19,'Data Instrum_Armoires'!$P$5:$T$15,5,FALSE))","v":0}]
[null,null,null,null,null,null,null,null,null,null,null,"Débimètre",null,"N/A",{"$f":"IF(N20=\"N/A\",0,VLOOKUP(N20,'Data Instrum_Armoires'!$C$17:$G$26,5,FALSE))","v":0},"Débimètre",null,"N/A",{"$f":"IF(R20=\"N/A\",0,VLOOKUP(R20,'Data Instrum_Armoires'!$C$17:$G$26,5,FALSE))","v":0},"Débimètre",null,"N/A",{"$f":"IF(V20=\"N/A\",0,VLOOKUP(V20,'Data Instrum_Armoires'!$C$17:$G$26,5,FALSE))","v":0},"Débimètre",null,"N/A",{"$f":"IF(Z20=\"N/A\",0,VLOOKUP(Z20,'Data Instrum_Armoires'!$C$17:$G$26,5,FALSE))","v":0}]
[null,null,{"$f":"IF(F28=50,\"ATTENTION CONFIGURATION PARTICULIERE : FILTRE PETIT\",\"OK CONFIGURATION NORMALE\")","v":"OK CONFIGURATION NORMALE"},null,null,null,null,null,null,null,null,"Prix total Inst Bac Bar 1",null,{"$f":"IF(N15=\"N/A\",0,SUM(O16:O20))","v":0},null,"Prix total Inst Bac Bar 2",null,{"$f":"IF(R15=\"N/A\",0,SUM(S16:S20))","v":0},null,"Prix total Inst Bac Bar 3",null,{"$f":"IF(V15=\"N/A\",0,SUM(W16:W20))","v":0},null,"Prix total Inst Bac Bar 4",null,{"$f":"IF(Z15=\"N/A\",0,SUM(AA16:AA20))","v":0}]
[null,null,null,null,null,null,null,null,null,null,null,"Bac Récup Anneau Liquide",null,{"$f":"IF('Offre NEW'!H40<>0,\"\",\"N/A\")","v":"N/A"},null,"Bac Récup Lavage T&B",null,{"$f":"IF('Offre NEW'!H41<>0,\"\",\"N/A\")","v":""}]
[null,null,"Puissance Totale Utile ",null,null,{"$f":"SUMPRODUCT(F4:F17,G4:G17)","v":93},"kW",null,null,null,null,"Capteur Niveau 1",null,{"$f":"IF(N22=\"\",\"Ultrason\",\"N/A\")","v":"N/A"},{"$f":"IF(N23=\"N/A\",0,SUM('Data Instrum_Armoires'!F38:F42))","v":0},"Capteur Niveau 1",null,{"$f":"IF(R22=\"\",\"Ultrason\",\"N/A\")","v":"Ultrason"},{"$f":"IF(R23=\"N/A\",0,SUM('Data Instrum_Armoires'!F38:F42))","v":2500}]
[null,null,"Standard Puissance Totale Utile",null,null,{"$f":"INDEX('Data Instrum_Armoires'!AC5:AC14,MATCH(F23,'Data Instrum_Armoires'!AC5:AC14)+1)","v":100},"kW",null,null,null,null,"Capteur Niveau 2",null,"N/A",{"$f":"IF(N24=\"LIT\",'Data Instrum_Armoires'!$F$37,IF(N24=\"N/A\",0,'Data Instrum_Armoires'!$M$6))","v":0},"Capteur Niveau 2",null,"N/A",{"$f":"IF(R24=\"LIT\",'Data Instrum_Armoires'!$F$37,IF(R24=\"N/A\",0,'Data Instrum_Armoires'!$M$6))","v":0}]
[null,null,{"$f":"\"Cellule de Puissance \"&F24&\" kW\"","v":"Cellule de Puissance 100 kW"},null,null,null,{"$f":"VLOOKUP($F$24,'Data Instrum_Armoires'!$AC$5:$AF$14,4,FALSE)","v":3000},null,null,null,null,"Type de Régulation",null,{"$f":"IF(N22=\"\",$P$4,\"N/A\")","v":"N/A"},null,"Type de Régulation",null,{"$f":"IF(R22=\"\",$P$4,\"N/A\")","v":"VFD"}]
[null,null,null,null,null,null,null,null,null,null,null,"Vanne de Régulation",null,2.5,{"$f":"IF(OR(N25=\"VFD\",N25=\"N/A\",N26=\"N/A\",N25=\"Pas de Regulation\"),0,VLOOKUP(N26,'Data Instrum_Armoires'!$P$5:$T$15,5,FALSE))","v":0},"Vanne de Régulation",null,2.5,{"$f":"IF(OR(R25=\"VFD\",R25=\"N/A\",R26=\"N/A\",R25=\"Pas de Regulation\"),0,VLOOKUP(R26,'Data Instrum_Armoires'!$P$5:$T$15,5,FALSE))","v":0}]
[null,null,"Puissance Totale Installée",null,null,{"$f":"1.3*F23","v":120.9},"kVA",null,null,null,null,"Débimètre",null,"N/A",{"$f":"IF(N27=\"N/A\",0,VLOOKUP(N27,'Data Instrum_Armoires'!$C$17:$G$26,5,FALSE))","v":0},"Débimètre",null,"N/A",{"$f":"IF(R27=\"N/A\",0,VLOOKUP(R27,'Data Instrum_Armoires'!$C$17:$G$26,5,FALSE))","v":0}]
[null,null,"Standard Puissance Totale Installée",null,null,{"$f":"IF(F27<50,50,INDEX('Data Instrum_Armoires'!AJ5:AJ12,MATCH(F27,'Data Instrum_Armoires'!AJ5:AJ12)+1))","v":200},"kVA",null,null,null,null,"Prix tot Inst Bac Récup AL",null,{"$f":"IF(N22=\"N/A\",0,SUM(O23:O27))","v":0},null,"Prix tot Inst Bac Récup T&B",null,{"$f":"IF(R22=\"N/A\",0,SUM(S23:S27))","v":2500}]
[null,null,{"$f":"\"Cellule de Distribution \"&F28&\" kVA\"","v":"Cellule de Distribution 200 kVA"},null,null,null,{"$f":"VLOOKUP($F$28,'Data Instrum_Armoires'!$AJ$5:$AM$12,4,FALSE)","v":11850},null,null,null,null,"Lavage Gateau 1",null,{"$f":"IF(Calculations!$R$11<>0,\"\",\"N/A\")","v":""},null,"Lavage Gateau 2",null,{"$f":"IF(Calculations!$R$11>1,\"\",\"N/A\")","v":""},null,"Lavage Gateau 3",null,{"$f":"IF(Calculations!$R$11>2,\"\",\"N/A\")","v":""},null,"Lavage Gateau 3",null,{"$f":"IF(Calculations!$R$11>3,\"\",\"N/A\")","v":""}]
[null,null,null,null,null,null,null,null,null,null,null,"Vanne de Régulation",null,"N/A",{"$f":"IF(OR(N30=\"N/A\",N29=\"N/A\"),0,VLOOKUP(N30,'Data Instrum_Armoires'!$P$5:$T$15,5,FALSE))","v":0},"Vanne de Régulation",null,"N/A",{"$f":"IF(OR(R30=\"N/A\",R29=\"N/A\"),0,VLOOKUP(R30,'Data Instrum_Armoires'!$P$5:$T$15,5,FALSE))","v":0},"Vanne de Régulation",null,"N/A",{"$f":"IF(OR(V30=\"N/A\",V29=\"N/A\"),0,VLOOKUP(V30,'Data Instrum_Armoires'!$P$5:$T$15,5,FALSE))","v":0},"Vanne de Régulation",null,"N/A",{"$f":"IF(OR(Z30=\"N/A\",Z29=\"N/A\"),0,VLOOKUP(Z30,'Data Instrum_Armoires'!$P$5:$T$15,5,FALSE))","v":0}]
[null,null,"Cellule Automate",null,null,null,{"$f":"'Data Instrum_Armoires'!AS4","v":3850},null,null,null,null,"Débimètre",null,"N/A",{"$f":"IF(N31=\"N/A\",0,VLOOKUP(N31,'Data Instrum_Armoires'!$C$17:$G$26,5,FALSE))","v":0},"Débimètre",null,"N/A",{"$f":"IF(R31=\"N/A\",0,VLOOKUP(R31,'Data Instrum_Armoires'!$C$17:$G$26,5,FALSE))","v":0},"Débimètre",null,"N/A",{"$f":"IF(V31=\"N/A\",0,VLOOKUP(V31,'Data Instrum_Armoires'!$C$17:$G$26,5,FALSE))","v":0},"Débimètre",null,"N/A",{"$f":"IF(Z31=\"N/A\",0,VLOOKUP(Z31,'Data Instrum_Armoires'!$C$17:$G$26,5,FALSE))","v":0}]
[null,null,{"$f":"\"Armoire Electrique de Puissance-Contrôle \"&F28&\" kVA\"","v":"Armoire Electrique de Puissance-Contrôle 200 kVA"},null,null,null,{"$f":"'Data Instrum_Armoires'!BQ4","v":15350},null,null,null,null,"Prix tot Inst Lav Gateau 1",null,{"$f":"IF(N29=\"N/A\",0,SUM(O30:O31))","v":0},null,"Prix tot Inst Lav Gateau 2",null,{"$f":"IF(R29=\"N/A\",0,SUM(S30:S31))","v":0},null,"Prix tot Inst Lav Gateau 3",null,{"$f":"IF(V29=\"N/A\",0,SUM(W30:W31))","v":0},null,"Prix tot Inst Lav Gateau 3",null,{"$f":"IF(Z29=\"N/A\",0,SUM(AA30:AA31))","v":0}]
[null,null,{"$f":"\"COFFRET DE COMMANDE LOCAL \"&W2","v":"COFFRET DE COMMANDE LOCAL LCP3 (MULTIFONCTION)"},null,null,null,{"$f":"IF(W2=\"LCP3 (MULTIFONCTION)\",'Data Instrum_Armoires'!BK5,'Data Instrum_Armoires'!BE5)","v":11275}]
[null,null,"Automate Programmable industriel",null,null,null,{"$f":"'Data Instrum_Armoires'!AY4","v":16800}]
[]
[null,"TOTAL ELECTRIQUE",null,null,null,null,null,{"$f":"IF(C21=\"ATTENTION CONFIGURATION PARTICULIERE : FILTRE PETIT\",(H18+G32+G33+G34),(H18+G25+G29+G31+G33+G34))","v":69775},null,null,null,null,null,null,null,"TOTAL INSTRUMENTATION",null,null,null,null,null,{"$f":"N14+R14+V14+Z14+N21+R21+V21+Z21+N28+R28+N32+R32+V32+Z32","v":8200}]

{"sheet":"Recap revisions","index":30,"n_rows":84,"n_cols":163,"rows_kept":84,"cut":false,"hidden":false,"merged":[[66,154,66,162],[79,124,79,132],[79,139,79,147],[79,154,79,162],[23,124,23,132],[23,139,23,147],[23,154,23,162],[3,143,3,144],[3,154,21,154],[3,156,3,157],[3,158,3,159],[66,124,66,132],[66,139,66,147],[13,156,13,159],[14,156,14,159],[15,156,15,159],[16,156,16,159],[17,156,17,159],[18,141,18,144],[18,156,18,159],[19,141,19,144],[19,156,19,159],[20,141,20,144],[20,156,20,159],[1,153,1,158],[1,159,1,163],[2,124,2,132],[2,139,2,147],[2,154,2,162],[3,124,21,124],[3,126,3,127],[3,128,3,129],[3,139,21,139],[3,141,3,142],[1,144,1,148],[1,123,1,128],[1,129,1,133],[1,138,1,143],[4,126,4,127],[5,156,5,159],[6,156,6,159],[7,156,7,159],[8,156,8,159],[9,156,9,159],[10,156,10,159],[11,156,11,159],[12,156,12,159],[4,147,21,147],[66,64,66,72],[66,79,66,87],[66,94,66,102],[66,109,66,117],[79,64,79,72],[79,79,79,87],[79,94,79,102],[79,109,79,117],[21,81,21,84],[23,64,23,72],[23,79,23,87],[23,94,23,102],[23,109,23,117],[2,64,2,72],[2,79,2,87],[2,94,2,102],[2,109,2,117],[3,94,21,94],[3,109,21,109],[4,85,21,85],[4,86,21,86],[4,87,21,87],[4,113,4,114],[4,115,21,115],[4,116,21,116],[4,117,21,117],[6,111,6,114],[7,66,7,69],[7,81,7,84],[3,81,3,82],[5,81,5,84],[6,81,6,84],[3,113,3,114],[4,81,4,82],[4,83,4,84],[12,81,12,84],[11,81,11,84],[1,99,1,103],[1,108,1,113],[1,114,1,118],[4,10,21,10],[79,34,79,42],[79,49,79,57],[1,63,1,68],[1,69,1,73],[1,78,1,83],[1,84,1,88],[3,64,21,64],[3,66,3,67],[3,68,3,69],[3,79,21,79],[23,34,23,42],[23,49,23,57],[3,51,3,52],[1,33,1,38],[1,39,1,43],[1,48,1,53],[1,54,1,58],[2,34,2,42],[2,49,2,57],[18,81,18,84],[8,81,8,84],[4,57,21,57],[79,19,79,27],[3,4,21,4],[66,4,66,12],[23,4,23,12],[79,4,79,12],[3,19,21,19],[3,21,3,22],[3,23,3,24],[8,6,8,9],[9,6,9,9],[10,6,10,9],[11,6,11,9],[12,6,12,9],[13,6,13,9],[14,6,14,9],[15,6,15,9],[16,6,16,9],[17,6,17,9],[18,6,18,9],[19,6,19,9],[20,6,20,9],[21,6,21,9],[7,6,7,9],[15,21,15,24],[20,51,20,54],[21,51,21,54],[66,34,66,42],[66,49,66,57],[1,18,1,23],[1,24,1,28],[2,19,2,27],[19,51,19,54],[18,51,18,54],[17,51,17,54],[16,51,16,54],[15,51,15,54],[14,51,14,54],[13,51,13,54],[12,51,12,54],[11,51,11,54],[10,51,10,54],[9,51,9,54],[8,51,8,54],[7,51,7,54],[6,51,6,54],[23,19,23,27],[66,19,66,27],[4,11,21,11],[4,12,21,12],[4,8,4,9],[4,6,4,7],[5,6,5,9],[3,34,21,34],[3,38,3,39],[3,36,3,37],[15,36,15,39],[17,36,17,39],[18,36,18,39],[19,36,19,39],[20,36,20,39],[21,36,21,39],[16,21,16,24],[17,21,17,24],[18,21,18,24],[19,21,19,24],[20,21,20,24],[21,21,21,24],[4,36,4,37],[4,38,4,39],[5,36,5,39],[6,36,6,39],[1,9,1,13],[3,6,3,7],[3,8,3,9],[2,4,2,12],[1,3,1,8],[6,6,6,9],[3,49,21,49],[3,53,3,54],[4,21,4,22],[4,23,4,24],[4,25,21,25],[4,26,21,26],[4,27,21,27],[5,21,5,24],[6,21,6,24],[7,21,7,24],[8,21,8,24],[9,21,9,24],[10,21,10,24],[11,21,11,24],[12,21,12,24],[13,21,13,24],[14,21,14,24],[16,36,16,39],[1,93,1,98],[3,83,3,84],[3,96,3,97],[3,98,3,99],[12,66,12,69],[12,96,12,99],[16,66,16,69],[16,96,16,99],[7,36,7,39],[8,36,8,39],[9,36,9,39],[10,36,10,39],[11,36,11,39],[12,36,12,39],[13,36,13,39],[14,36,14,39],[5,51,5,54],[4,53,4,54],[4,51,4,52],[4,40,21,40],[4,41,21,41],[4,42,21,42],[4,55,21,55],[4,56,21,56],[3,111,3,112],[4,66,4,67],[4,68,4,69],[4,70,21,70],[4,71,21,71],[4,72,21,72],[4,96,4,97],[4,98,4,99],[4,100,21,100],[4,101,21,101],[4,102,21,102],[4,111,4,112],[5,66,5,69],[5,96,5,99],[5,111,5,114],[6,66,6,69],[6,96,6,99],[7,96,7,99],[7,111,7,114],[8,66,8,69],[8,96,8,99],[8,111,8,114],[9,66,9,69],[9,96,9,99],[9,111,9,114],[10,66,10,69],[10,96,10,99],[10,111,10,114],[9,81,9,84],[10,81,10,84],[11,66,11,69],[11,96,11,99],[11,111,11,114],[12,111,12,114],[13,66,13,69],[13,96,13,99],[13,111,13,114],[13,81,13,84],[14,66,14,69],[14,96,14,99],[14,111,14,114],[15,66,15,69],[15,96,15,99],[15,111,15,114],[16,111,16,114],[15,81,15,84],[16,81,16,84],[14,81,14,84],[20,66,20,69],[20,96,20,99],[20,111,20,114],[21,66,21,69],[21,96,21,99],[21,111,21,114],[17,66,17,69],[17,96,17,99],[17,111,17,114],[18,66,18,69],[18,96,18,99],[18,111,18,114],[19,66,19,69],[19,96,19,99],[19,111,19,114],[19,81,19,84],[20,81,20,84],[17,81,17,84],[20,126,20,129],[21,126,21,129],[21,141,21,144],[14,126,14,129],[4,128,4,129],[4,130,21,130],[4,131,21,131],[4,132,21,132],[4,141,4,142],[4,143,4,144],[13,126,13,129],[13,141,13,144],[14,141,14,144],[15,126,15,129],[15,141,15,144],[16,126,16,129],[16,141,16,144],[17,126,17,129],[17,141,17,144],[18,126,18,129],[19,126,19,129],[4,145,21,145],[4,146,21,146],[21,156,21,159],[4,156,4,157],[4,158,4,159],[4,160,21,160],[4,161,21,161],[4,162,21,162],[5,126,5,129],[5,141,5,144],[6,126,6,129],[6,141,6,144],[7,126,7,129],[7,141,7,144],[8,126,8,129],[8,141,8,144],[9,126,9,129],[9,141,9,144],[10,126,10,129],[10,141,10,144],[11,126,11,129],[11,141,11,144],[12,126,12,129],[12,141,12,144]]}
[]
[null,"Revision actuelle",null,"REVISION",null,null,null,null,null,0,null,null,null,null,null,null,null,null,"REVISION",null,null,null,null,null,1,null,null,null,null,null,null,null,null,"REVISION",null,null,null,null,null,2,null,null,null,null,null,null,null,null,"REVISION",null,null,null,null,null,3,null,null,null,null,null,null,null,null,"REVISION",null,null,null,null,null,4,null,null,null,null,null,null,null,null,"REVISION",null,null,null,null,null,5,null,null,null,null,null,null,null,null,"REVISION",null,null,null,null,null,6,null,null,null,null,null,null,null,null,"REVISION",null,null,null,null,null,7,null,null,null,null,null,null,null,null,"REVISION",null,null,null,null,null,8,null,null,null,null,null,null,null,null,"REVISION",null,null,null,null,null,9,null,null,null,null,null,null,null,null,"REVISION",null,null,null,null,null,10]
[null,{"$f":"Calculations!G2","v":2},null,null,"FILTRE",null,null,null,null,null,null,null,null,null,null,null,null,null,null,"FILTRE",null,null,null,null,null,null,null,null,null,null,null,null,null,null,"FILTRE",null,null,null,null,null,null,null,null,null,null,null,null,null,null,"FILTRE",null,null,null,null,null,null,null,null,null,null,null,null,null,null,"FILTRE",null,null,null,null,null,null,null,null,null,null,null,null,null,null,"FILTRE",null,null,null,null,null,null,null,null,null,null,null,null,null,null,"FILTRE",null,null,null,null,null,null,null,null,null,null,null,null,null,null,"FILTRE",null,null,null,null,null,null,null,null,null,null,null,null,null,null,"FILTRE",null,null,null,null,null,null,null,null,null,null,null,null,null,null,"FILTRE",null,null,null,null,null,null,null,null,null,null,null,null,null,null,"FILTRE"]
[null,null,null,null,1,null,{"$f":"IF($C$3=\"FR\",\"Taille (m²)\",\"Size (m²)\")","v":"Size (m²)"},null,{"$f":"IF($C$3=\"FR\",\"Largeur (m)\",\"Width (m)\")","v":"Width (m)"},null,"QTE","PR","K",null,null,null,null,null,null,1,null,{"$f":"IF($C$3=\"FR\",\"Taille (m²)\",\"Size (m²)\")","v":"Size (m²)"},null,{"$f":"IF($C$3=\"FR\",\"Largeur (m)\",\"Width (m)\")","v":"Width (m)"},null,"QTE","PR","K",null,null,null,null,null,null,1,null,{"$f":"IF($C$3=\"FR\",\"Taille (m²)\",\"Size (m²)\")","v":"Size (m²)"},null,{"$f":"IF($C$3=\"FR\",\"Largeur (m)\",\"Width (m)\")","v":"Width (m)"},null,"QTE","PR","K",null,null,null,null,null,null,1,null,{"$f":"IF($C$3=\"FR\",\"Taille (m²)\",\"Size (m²)\")","v":"Size (m²)"},null,{"$f":"IF($C$3=\"FR\",\"Largeur (m)\",\"Width (m)\")","v":"Width (m)"},null,"QTE","PR","K",null,null,null,null,null,null,1,null,{"$f":"IF($C$3=\"FR\",\"Taille (m²)\",\"Size (m²)\")","v":"Size (m²)"},null,{"$f":"IF($C$3=\"FR\",\"Largeur (m)\",\"Width (m)\")","v":"Width (m)"},null,"QTE","PR","K",null,null,null,null,null,null,1,null,{"$f":"IF($C$3=\"FR\",\"Taille (m²)\",\"Size (m²)\")","v":"Size (m²)"},null,{"$f":"IF($C$3=\"FR\",\"Largeur (m)\",\"Width (m)\")","v":"Width (m)"},null,"QTE","PR","K",null,null,null,null,null,null,1,null,{"$f":"IF($C$3=\"FR\",\"Taille (m²)\",\"Size (m²)\")","v":"Size (m²)"},null,{"$f":"IF($C$3=\"FR\",\"Largeur (m)\",\"Width (m)\")","v":"Width (m)"},null,"QTE","PR","K",null,null,null,null,null,null,1,null,{"$f":"IF($C$3=\"FR\",\"Taille (m²)\",\"Size (m²)\")","v":"Size (m²)"},null,{"$f":"IF($C$3=\"FR\",\"Largeur (m)\",\"Width (m)\")","v":"Width (m)"},null,"QTE","PR","K",null,null,null,null,null,null,1,null,{"$f":"IF($C$3=\"FR\",\"Taille (m²)\",\"Size (m²)\")","v":"Size (m²)"},null,{"$f":"IF($C$3=\"FR\",\"Largeur (m)\",\"Width (m)\")","v":"Width (m)"},null,"QTE","PR","K",null,null,null,null,null,null,1,null,{"$f":"IF($C$3=\"FR\",\"Taille (m²)\",\"Size (m²)\")","v":"Size (m²)"},null,{"$f":"IF($C$3=\"FR\",\"Largeur (m)\",\"Width (m)\")","v":"Width (m)"},null,"QTE","PR","K",null,null,null,null,null,null,1,null,{"$f":"IF($C$3=\"FR\",\"Taille (m²)\",\"Size (m²)\")","v":"Size (m²)"},null,{"$f":"IF($C$3=\"FR\",\"Largeur (m)\",\"Width (m)\")","v":"Width (m)"},null,"QTE","PR","K"]
[null,null,null,null,null,"Filter",45,null,3,null,1,389600.86931307957,1.7654723239999999,null,null,null,null,null,null,null,null,null,null,null,null,null,null,null,null,null,null,null,null,null,null,"Filter",90,null,3,null,1,432478.12552315055,1.7654723239999999]
[]
[null,null,null,null,null,null,"MOC",null,null,null,null,null,null,null,null,null,null,null,null,null,null,null,null,null,null,null,null,null,null,null,null,null,null,null,null,null,"MOC"]
[null,null,null,null,null,"Frame","316L",null,null,null,null,null,null,null,null,null,null,null,null,null,null,null,null,null,null,null,null,null,null,null,null,null,null,null,null,"Frame","316L"]
[null,null,null,null,null,"Vacuum box","316L",null,null,null,null,null,null,null,null,null,null,null,null,null,null,null,null,null,null,null,null,null,null,null,null,null,null,null,null,"Vacuum box","U45N"]
[null,null,null,null,null,"Slurry Feeder","316L",null,null,null,null,null,null,null,null,null,null,null,null,null,null,null,null,null,null,null,null,null,null,null,null,null,null,null,null,"Slurry Feeder","U45N"]
[null,null,null,null,null,"Cake Washing Feeder","316L",null,null,null,null,null,null,null,null,null,null,null,null,null,null,null,null,null,null,null,null,null,null,null,null,null,null,null,null,"Cake Washing Feeder","U45N"]
[null,null,null,null,null,"Collection through","316L",null,null,null,null,null,null,null,null,null,null,null,null,null,null,null,null,null,null,null,null,null,null,null,null,null,null,null,null,"Collection through","316L"]
[null,null,null,null,null,"Cake discharge hopper","316L",null,null,null,null,null,null,null,null,null,null,null,null,null,null,null,null,null,null,null,null,null,null,null,null,null,null,null,null,"Cake discharge hopper","316L"]
[null,null,null,null,null,"Cloth & belt support rollers","316L",null,null,null,null,null,null,null,null,null,null,null,null,null,null,null,null,null,null,null,null,null,null,null,null,null,null,null,null,"Cloth & belt support rollers","316L"]
[null,null,null,null,null,"Belt","SBR",null,null,null,null,null,null,null,null,null,null,null,null,null,null,null,null,null,null,null,null,null,null,null,null,null,null,null,null,"Belt","SBR"]
[null,null,null,null,null,"Curbs","SBR",null,null,null,null,null,null,null,null,null,null,null,null,null,null,null,null,null,null,null,null,null,null,null,null,null,null,null,null,"Curbs","Natural rubber"]
[null,null,null,null,null,"Filter Cloth",null,null,null,null,null,null,null,null,null,null,null,null,null,null,null,null,null,null,null,null,null,null,null,null,null,null,null,null,null,"Filter Cloth"]
[null,null,null,null,null,"Gear box type planetary",null,null,null,null,null,null,null,null,null,null,null,null,null,null,null,null,null,null,null,null,null,null,null,null,null,null,null,null,null,"Gear box type planetary"]
[null,null,null,null,null,"Safety guards according CE rules",null,null,null,null,null,null,null,null,null,null,null,null,null,null,null,null,null,null,null,null,null,null,null,null,null,null,null,null,null,"Safety guards according CE rules"]
[null,null,null,null,null,"Local control panel",null,null,null,null,null,null,null,null,null,null,null,null,null,null,null,null,null,null,null,null,null,null,null,null,null,null,null,null,null,"Local control panel"]
[null,null,null,null,null,null,"Power (kW)",null,null,null,null,null,null,null,null,null,null,null,null,null,null,null,null,null,null,null,null,null,null,null,null,null,null,null,null,null,"Power (kW)"]
[null,null,null,null,null,"Electric motor","18,5 kW",null,null,null,null,null,null,null,null,null,null,null,null,null,null,null,null,null,null,null,null,null,null,null,null,null,null,null,null,"Electric motor","90 kW"]
[]
[null,null,null,null,"ACCESSOIRES",null,null,null,null,null,null,null,null,null,null,null,null,null,null,"ACCESSOIRES",null,null,null,null,null,null,null,null,null,null,null,null,null,null,"ACCESSOIRES",null,null,null,null,null,null,null,null,null,null,null,null,null,null,"ACCESSOIRES",null,null,null,null,null,null,null,null,null,null,null,null,null,null,"ACCESSOIRES",null,null,null,null,null,null,null,null,null,null,null,null,null,null,"ACCESSOIRES",null,null,null,null,null,null,null,null,null,null,null,null,null,null,"ACCESSOIRES",null,null,null,null,null,null,null,null,null,null,null,null,null,null,"ACCESSOIRES",null,null,null,null,null,null,null,null,null,null,null,null,null,null,"ACCESSOIRES",null,null,null,null,null,null,null,null,null,null,null,null,null,null,"ACCESSOIRES",null,null,null,null,null,null,null,null,null,null,null,null,null,null,"ACCESSOIRES"]
[null,null,null,null,null,"ELEMENTS","MOC","DN","DEBIT","PUISSANCE","QTE","PR","K",null,null,null,null,null,null,null,"ELEMENTS","MOC","DN","DEBIT","PUISSANCE","QTE","PR","K",null,null,null,null,null,null,null,"ELEMENTS","MOC","DN","DEBIT","PUISSANCE","QTE","PR","K",null,null,null,null,null,null,null,"ELEMENTS","MOC","DN","DEBIT","PUISSANCE","QTE","PR","K",null,null,null,null,null,null,null,"ELEMENTS","MOC","DN","DEBIT","PUISSANCE","QTE","PR","K",null,null,null,null,null,null,null,"ELEMENTS","MOC","DN","DEBIT","PUISSANCE","QTE","PR","K",null,null,null,null,null,null,null,"ELEMENTS","MOC","DN","DEBIT","PUISSANCE","QTE","PR","K",null,null,null,null,null,null,null,"ELEMENTS","MOC","DN","DEBIT","PUISSANCE","QTE","PR","K",null,null,null,null,null,null,null,"ELEMENTS","MOC","DN","DEBIT","PUISSANCE","QTE","PR","K",null,null,null,null,null,null,null,"ELEMENTS","MOC","DN","DEBIT","PUISSANCE","QTE","PR","K",null,null,null,null,null,null,null,"ELEMENTS","MOC","DN","DEBIT","PUISSANCE","QTE","PR","K"]
[null,null,null,null,{"$f":"IF(Tableau01[[#This Row],[ELEMENTS]]=\"\",\"\",1)","v":1},"Manifold","316L",300,null,null,1,null,1.7654723239999999,null,null,null,null,null,null,{"$f":"IF(Tableau0110[[#This Row],[ELEMENTS]]=\"\",\"\",1)","v":""},null,null,null,null,null,null,null,null,null,null,null,null,null,null,{"$f":"IF(Tableau0114[[#This Row],[ELEMENTS]]=\"\",\"\",1)","v":1},"Manifold","FRP",700,null,null,1,20897.888888888887,1.7654723239999999,null,null,null,null,null,null,{"$f":"IF(Tableau011017[[#This Row],[ELEMENTS]]=\"\",\"\",1)","v":""},null,null,null,null,null,null,null,null,null,null,null,null,null,null,{"$f":"IF(Tableau0120[[#This Row],[ELEMENTS]]=\"\",\"\",1)","v":""},null,null,null,null,null,null,null,null,null,null,null,null,null,null,{"$f":"IF(Tableau011023[[#This Row],[ELEMENTS]]=\"\",\"\",1)","v":""},null,null,null,null,null,null,null,null,null,null,null,null,null,null,{"$f":"IF(Tableau011426[[#This Row],[ELEMENTS]]=\"\",\"\",1)","v":""},null,null,null,null,null,null,null,null,null,null,null,null,null,null,{"$f":"IF(Tableau01101729[[#This Row],[ELEMENTS]]=\"\",\"\",1)","v":""},null,null,null,null,null,null,null,null,null,null,null,null,null,null,{"$f":"IF(Tableau0141[[#This Row],[ELEMENTS]]=\"\",\"\",1)","v":""},null,null,null,null,null,null,null,null,null,null,null,null,null,null,{"$f":"IF(Tableau011043[[#This Row],[ELEMENTS]]=\"\",\"\",1)","v":""},null,null,null,null,null,null,null,null,null,null,null,null,null,null,{"$f":"IF(Tableau011445[[#This Row],[ELEMENTS]]=\"\",\"\",1)","v":""}]
[null,null,null,null,{"$f":"IF(Tableau01[[#This Row],[ELEMENTS]]=\"\",\"\",E26+1)","v":2},"Cloudy Port Receiver","304L",null,null,null,1,null,1.7654723239999999,null,null,null,null,null,null,{"$f":"IF(Tableau0110[[#This Row],[ELEMENTS]]=\"\",\"\",T26+1)","v":""},null,null,null,null,null,null,null,null,null,null,null,null,null,null,{"$f":"IF(Tableau0114[[#This Row],[ELEMENTS]]=\"\",\"\",AI26+1)","v":2},"Filtrate Receiver 1","316L",3400,null,null,1,40470.36,1.7654723239999999,null,null,null,null,null,null,{"$f":"IF(Tableau011017[[#This Row],[ELEMENTS]]=\"\",\"\",AX26+1)","v":""},null,null,null,null,null,null,null,null,null,null,null,null,null,null,{"$f":"IF(Tableau0120[[#This Row],[ELEMENTS]]=\"\",\"\",BM26+1)","v":""},null,null,null,null,null,null,null,null,null,null,null,null,null,null,{"$f":"IF(Tableau011023[[#This Row],[ELEMENTS]]=\"\",\"\",CB26+1)","v":""},null,null,null,null,null,null,null,null,null,null,null,null,null,null,{"$f":"IF(Tableau011426[[#This Row],[ELEMENTS]]=\"\",\"\",CQ26+1)","v":""},null,null,null,null,null,null,null,null,null,null,null,null,null,null,{"$f":"IF(Tableau01101729[[#This Row],[ELEMENTS]]=\"\",\"\",DF26+1)","v":""},null,null,null,null,null,null,null,null,null,null,null,null,null,null,{"$f":"IF(Tableau0141[[#This Row],[ELEMENTS]]=\"\",\"\",DU26+1)","v":""},null,null,null,null,null,null,null,null,null,null,null,null,null,null,{"$f":"IF(Tableau011043[[#This Row],[ELEMENTS]]=\"\",\"\",EJ26+1)","v":""},null,null,null,null,null,null,null,null,null,null,null,null,null,null,{"$f":"IF(Tableau011445[[#This Row],[ELEMENTS]]=\"\",\"\",EY26+1)","v":""}]
[null,null,null,null,{"$f":"IF(Tableau01[[#This Row],[ELEMENTS]]=\"\",\"\",E27+1)","v":3},"Filtrate Receiver 1","304L",1200,null,null,1,null,1.7654723239999999,null,null,null,null,null,null,{"$f":"IF(Tableau0110[[#This Row],[ELEMENTS]]=\"\",\"\",T27+1)","v":""},null,null,null,null,null,null,null,null,null,null,null,null,null,null,{"$f":"IF(Tableau0114[[#This Row],[ELEMENTS]]=\"\",\"\",AI27+1)","v":3},"Filtrate Receiver 2","316L",3400,null,null,1,40470.36,1.7654723239999999,null,null,null,null,null,null,{"$f":"IF(Tableau011017[[#This Row],[ELEMENTS]]=\"\",\"\",AX27+1)","v":""},null,null,null,null,null,null,null,null,null,null,null,null,null,null,{"$f":"IF(Tableau0120[[#This Row],[ELEMENTS]]=\"\",\"\",BM27+1)","v":""},null,null,null,null,null,null,null,null,null,null,null,null,null,null,{"$f":"IF(Tableau011023[[#This Row],[ELEMENTS]]=\"\",\"\",CB27+1)","v":""},null,null,null,null,null,null,null,null,null,null,null,null,null,null,{"$f":"IF(Tableau011426[[#This Row],[ELEMENTS]]=\"\",\"\",CQ27+1)","v":""},null,null,null,null,null,null,null,null,null,null,null,null,null,null,{"$f":"IF(Tableau01101729[[#This Row],[ELEMENTS]]=\"\",\"\",DF27+1)","v":""},null,null,null,null,null,null,null,null,null,null,null,null,null,null,{"$f":"IF(Tableau0141[[#This Row],[ELEMENTS]]=\"\",\"\",DU27+1)","v":""},null,null,null,null,null,null,null,null,null,null,null,null,null,null,{"$f":"IF(Tableau011043[[#This Row],[ELEMENTS]]=\"\",\"\",EJ27+1)","v":""},null,null,null,null,null,null,null,null,null,null,null,null,null,null,{"$f":"IF(Tableau011445[[#This Row],[ELEMENTS]]=\"\",\"\",EY27+1)","v":""}]
[null,null,null,null,{"$f":"IF(Tableau01[[#This Row],[ELEMENTS]]=\"\",\"\",E28+1)","v":4},"Filtrate Receiver 2","304L",1200,null,null,1,null,1.7654723239999999,null,null,null,null,null,null,{"$f":"IF(Tableau0110[[#This Row],[ELEMENTS]]=\"\",\"\",T28+1)","v":""},null,null,null,null,null,null,null,null,null,null,null,null,null,null,{"$f":"IF(Tableau0114[[#This Row],[ELEMENTS]]=\"\",\"\",AI28+1)","v":4},"Filtrate Receiver 3","316L",3400,null,null,1,40470.36,1.7654723239999999,null,null,null,null,null,null,{"$f":"IF(Tableau011017[[#This Row],[ELEMENTS]]=\"\",\"\",AX28+1)","v":""},null,null,null,null,null,null,null,null,null,null,null,null,null,null,{"$f":"IF(Tableau0120[[#This Row],[ELEMENTS]]=\"\",\"\",BM28+1)","v":""},null,null,null,null,null,null,null,null,null,null,null,null,null,null,{"$f":"IF(Tableau011023[[#This Row],[ELEMENTS]]=\"\",\"\",CB28+1)","v":""},null,null,null,null,null,null,null,null,null,null,null,null,null,null,{"$f":"IF(Tableau011426[[#This Row],[ELEMENTS]]=\"\",\"\",CQ28+1)","v":""},null,null,null,null,null,null,null,null,null,null,null,null,null,null,{"$f":"IF(Tableau01101729[[#This Row],[ELEMENTS]]=\"\",\"\",DF28+1)","v":""},null,null,null,null,null,null,null,null,null,null,null,null,null,null,{"$f":"IF(Tableau0141[[#This Row],[ELEMENTS]]=\"\",\"\",DU28+1)","v":""},null,null,null,null,null,null,null,null,null,null,null,null,null,null,{"$f":"IF(Tableau011043[[#This Row],[ELEMENTS]]=\"\",\"\",EJ28+1)","v":""},null,null,null,null,null,null,null,null,null,null,null,null,null,null,{"$f":"IF(Tableau011445[[#This Row],[ELEMENTS]]=\"\",\"\",EY28+1)","v":""}]
[null,null,null,null,{"$f":"IF(Tableau01[[#This Row],[ELEMENTS]]=\"\",\"\",E29+1)","v":5},"Filtrate Receiver 3","304L",1200,null,null,1,null,1.7654723239999999,null,null,null,null,null,null,{"$f":"IF(Tableau0110[[#This Row],[ELEMENTS]]=\"\",\"\",T29+1)","v":""},null,null,null,null,null,null,null,null,null,null,null,null,null,null,{"$f":"IF(Tableau0114[[#This Row],[ELEMENTS]]=\"\",\"\",AI29+1)","v":5},"Scrubber","316L",3000,null,null,1,26532.6,1.7654723239999999,null,null,null,null,null,null,{"$f":"IF(Tableau011017[[#This Row],[ELEMENTS]]=\"\",\"\",AX29+1)","v":""},null,null,null,null,null,null,null,null,null,null,null,null,null,null,{"$f":"IF(Tableau0120[[#This Row],[ELEMENTS]]=\"\",\"\",BM29+1)","v":""},null,null,null,null,null,null,null,null,null,null,null,null,null,null,{"$f":"IF(Tableau011023[[#This Row],[ELEMENTS]]=\"\",\"\",CB29+1)","v":""},null,null,null,null,null,null,null,null,null,null,null,null,null,null,{"$f":"IF(Tableau011426[[#This Row],[ELEMENTS]]=\"\",\"\",CQ29+1)","v":""},null,null,null,null,null,null,null,null,null,null,null,null,null,null,{"$f":"IF(Tableau01101729[[#This Row],[ELEMENTS]]=\"\",\"\",DF29+1)","v":""},null,null,null,null,null,null,null,null,null,null,null,null,null,null,{"$f":"IF(Tableau0141[[#This Row],[ELEMENTS]]=\"\",\"\",DU29+1)","v":""},null,null,null,null,null,null,null,null,null,null,null,null,null,null,{"$f":"IF(Tableau011043[[#This Row],[ELEMENTS]]=\"\",\"\",EJ29+1)","v":""},null,null,null,null,null,null,null,null,null,null,null,null,null,null,{"$f":"IF(Tableau011445[[#This Row],[ELEMENTS]]=\"\",\"\",EY29+1)","v":""}]
[null,null,null,null,{"$f":"IF(Tableau01[[#This Row],[ELEMENTS]]=\"\",\"\",E30+1)","v":6},"Filtrate Receiver 4","304L",1200,null,null,1,null,1.7654723239999999,null,null,null,null,null,null,{"$f":"IF(Tableau0110[[#This Row],[ELEMENTS]]=\"\",\"\",T30+1)","v":""},null,null,null,null,null,null,null,null,null,null,null,null,null,null,{"$f":"IF(Tableau0114[[#This Row],[ELEMENTS]]=\"\",\"\",AI30+1)","v":6},"Cloth & Belt Wash Recirculating Tank","316L","2 m3",null,null,1,null,1.7654723239999999,null,null,null,null,null,null,{"$f":"IF(Tableau011017[[#This Row],[ELEMENTS]]=\"\",\"\",AX30+1)","v":""},null,null,null,null,null,null,null,null,null,null,null,null,null,null,{"$f":"IF(Tableau0120[[#This Row],[ELEMENTS]]=\"\",\"\",BM30+1)","v":""},null,null,null,null,null,null,null,null,null,null,null,null,null,null,{"$f":"IF(Tableau011023[[#This Row],[ELEMENTS]]=\"\",\"\",CB30+1)","v":""},null,null,null,null,null,null,null,null,null,null,null,null,null,null,{"$f":"IF(Tableau011426[[#This Row],[ELEMENTS]]=\"\",\"\",CQ30+1)","v":""},null,null,null,null,null,null,null,null,null,null,null,null,null,null,{"$f":"IF(Tableau01101729[[#This Row],[ELEMENTS]]=\"\",\"\",DF30+1)","v":""},null,null,null,null,null,null,null,null,null,null,null,null,null,null,{"$f":"IF(Tableau0141[[#This Row],[ELEMENTS]]=\"\",\"\",DU30+1)","v":""},null,null,null,null,null,null,null,null,null,null,null,null,null,null,{"$f":"IF(Tableau011043[[#This Row],[ELEMENTS]]=\"\",\"\",EJ30+1)","v":""},null,null,null,null,null,null,null,null,null,null,null,null,null,null,{"$f":"IF(Tableau011445[[#This Row],[ELEMENTS]]=\"\",\"\",EY30+1)","v":""}]
[null,null,null,null,{"$f":"IF(Tableau01[[#This Row],[ELEMENTS]]=\"\",\"\",E31+1)","v":7},"Moisture trap","Exclu",1200,null,null,1,null,1.7654723239999999,null,null,null,null,null,null,{"$f":"IF(Tableau0110[[#This Row],[ELEMENTS]]=\"\",\"\",T31+1)","v":""},null,null,null,null,null,null,null,null,null,null,null,null,null,null,{"$f":"IF(Tableau0114[[#This Row],[ELEMENTS]]=\"\",\"\",AI31+1)","v":7},"Instrumentation & Valves",null,null,null,null,1,8200,1.7654723239999999,null,null,null,null,null,null,{"$f":"IF(Tableau011017[[#This Row],[ELEMENTS]]=\"\",\"\",AX31+1)","v":""},null,null,null,null,null,null,null,null,null,null,null,null,null,null,{"$f":"IF(Tableau0120[[#This Row],[ELEMENTS]]=\"\",\"\",BM31+1)","v":""},null,null,null,null,null,null,null,null,null,null,null,null,null,null,{"$f":"IF(Tableau011023[[#This Row],[ELEMENTS]]=\"\",\"\",CB31+1)","v":""},null,null,null,null,null,null,null,null,null,null,null,null,null,null,{"$f":"IF(Tableau011426[[#This Row],[ELEMENTS]]=\"\",\"\",CQ31+1)","v":""},null,null,null,null,null,null,null,null,null,null,null,null,null,null,{"$f":"IF(Tableau01101729[[#This Row],[ELEMENTS]]=\"\",\"\",DF31+1)","v":""},null,null,null,null,null,null,null,null,null,null,null,null,null,null,{"$f":"IF(Tableau0141[[#This Row],[ELEMENTS]]=\"\",\"\",DU31+1)","v":""},null,null,null,null,null,null,null,null,null,null,null,null,null,null,{"$f":"IF(Tableau011043[[#This Row],[ELEMENTS]]=\"\",\"\",EJ31+1)","v":""},null,null,null,null,null,null,null,null,null,null,null,null,null,null,{"$f":"IF(Tableau011445[[#This Row],[ELEMENTS]]=\"\",\"\",EY31+1)","v":""}]
[null,null,null,null,{"$f":"IF(Tableau01[[#This Row],[ELEMENTS]]=\"\",\"\",E32+1)","v":8},"Scrubber","Exclu",1200,null,null,1,null,1.7654723239999999,null,null,null,null,null,null,{"$f":"IF(Tableau0110[[#This Row],[ELEMENTS]]=\"\",\"\",T32+1)","v":""},null,null,null,null,null,null,null,null,null,null,null,null,null,null,{"$f":"IF(Tableau0114[[#This Row],[ELEMENTS]]=\"\",\"\",AI32+1)","v":8},"Engineering","Cat. 1 (HASLER Standard)",null,null,null,1,null,2,null,null,null,null,null,null,{"$f":"IF(Tableau011017[[#This Row],[ELEMENTS]]=\"\",\"\",AX32+1)","v":""},null,null,null,null,null,null,null,null,null,null,null,null,null,null,{"$f":"IF(Tableau0120[[#This Row],[ELEMENTS]]=\"\",\"\",BM32+1)","v":""},null,null,null,null,null,null,null,null,null,null,null,null,null,null,{"$f":"IF(Tableau011023[[#This Row],[ELEMENTS]]=\"\",\"\",CB32+1)","v":""},null,null,null,null,null,null,null,null,null,null,null,null,null,null,{"$f":"IF(Tableau011426[[#This Row],[ELEMENTS]]=\"\",\"\",CQ32+1)","v":""},null,null,null,null,null,null,null,null,null,null,null,null,null,null,{"$f":"IF(Tableau01101729[[#This Row],[ELEMENTS]]=\"\",\"\",DF32+1)","v":""},null,null,null,null,null,null,null,null,null,null,null,null,null,null,{"$f":"IF(Tableau0141[[#This Row],[ELEMENTS]]=\"\",\"\",DU32+1)","v":""},null,null,null,null,null,null,null,null,null,null,null,null,null,null,{"$f":"IF(Tableau011043[[#This Row],[ELEMENTS]]=\"\",\"\",EJ32+1)","v":""},null,null,null,null,null,null,null,null,null,null,null,null,null,null,{"$f":"IF(Tableau011445[[#This Row],[ELEMENTS]]=\"\",\"\",EY32+1)","v":""}]
[null,null,null,null,{"$f":"IF(Tableau01[[#This Row],[ELEMENTS]]=\"\",\"\",E33+1)","v":9},"Cloudy Port Barometric Tank",null,null,null,null,1,null,1.7654723239999999,null,null,null,null,null,null,{"$f":"IF(Tableau0110[[#This Row],[ELEMENTS]]=\"\",\"\",T33+1)","v":""},null,null,null,null,null,null,null,null,null,null,null,null,null,null,{"$f":"IF(Tableau0114[[#This Row],[ELEMENTS]]=\"\",\"\",AI33+1)","v":9},"Pressure Roller","U45N",null,null,3,1,6971.12,1.7654723239999999,null,null,null,null,null,null,{"$f":"IF(Tableau011017[[#This Row],[ELEMENTS]]=\"\",\"\",AX33+1)","v":""},null,null,null,null,null,null,null,null,null,null,null,null,null,null,{"$f":"IF(Tableau0120[[#This Row],[ELEMENTS]]=\"\",\"\",BM33+1)","v":""},null,null,null,null,null,null,null,null,null,null,null,null,null,null,{"$f":"IF(Tableau011023[[#This Row],[ELEMENTS]]=\"\",\"\",CB33+1)","v":""},null,null,null,null,null,null,null,null,null,null,null,null,null,null,{"$f":"IF(Tableau011426[[#This Row],[ELEMENTS]]=\"\",\"\",CQ33+1)","v":""},null,null,null,null,null,null,null,null,null,null,null,null,null,null,{"$f":"IF(Tableau01101729[[#This Row],[ELEMENTS]]=\"\",\"\",DF33+1)","v":""},null,null,null,null,null,null,null,null,null,null,null,null,null,null,{"$f":"IF(Tableau0141[[#This Row],[ELEMENTS]]=\"\",\"\",DU33+1)","v":""},null,null,null,null,null,null,null,null,null,null,null,null,null,null,{"$f":"IF(Tableau011043[[#This Row],[ELEMENTS]]=\"\",\"\",EJ33+1)","v":""},null,null,null,null,null,null,null,null,null,null,null,null,null,null,{"$f":"IF(Tableau011445[[#This Row],[ELEMENTS]]=\"\",\"\",EY33+1)","v":""}]
[null,null,null,null,{"$f":"IF(Tableau01[[#This Row],[ELEMENTS]]=\"\",\"\",E34+1)","v":10},"Filtrate Receiver Barometric Tank 1",null,null,null,null,1,null,1.7654723239999999,null,null,null,null,null,null,{"$f":"IF(Tableau0110[[#This Row],[ELEMENTS]]=\"\",\"\",T34+1)","v":""},null,null,null,null,null,null,null,null,null,null,null,null,null,null,{"$f":"IF(Tableau0114[[#This Row],[ELEMENTS]]=\"\",\"\",AI34+1)","v":10},"High Pressure pump & Ramp ",null,null,null,15,1,14800,1.7654723239999999,null,null,null,null,null,null,{"$f":"IF(Tableau011017[[#This Row],[ELEMENTS]]=\"\",\"\",AX34+1)","v":""},null,null,null,null,null,null,null,null,null,null,null,null,null,null,{"$f":"IF(Tableau0120[[#This Row],[ELEMENTS]]=\"\",\"\",BM34+1)","v":""},null,null,null,null,null,null,null,null,null,null,null,null,null,null,{"$f":"IF(Tableau011023[[#This Row],[ELEMENTS]]=\"\",\"\",CB34+1)","v":""},null,null,null,null,null,null,null,null,null,null,null,null,null,null,{"$f":"IF(Tableau011426[[#This Row],[ELEMENTS]]=\"\",\"\",CQ34+1)","v":""},null,null,null,null,null,null,null,null,null,null,null,null,null,null,{"$f":"IF(Tableau01101729[[#This Row],[ELEMENTS]]=\"\",\"\",DF34+1)","v":""},null,null,null,null,null,null,null,null,null,null,null,null,null,null,{"$f":"IF(Tableau0141[[#This Row],[ELEMENTS]]=\"\",\"\",DU34+1)","v":""},null,null,null,null,null,null,null,null,null,null,null,null,null,null,{"$f":"IF(Tableau011043[[#This Row],[ELEMENTS]]=\"\",\"\",EJ34+1)","v":""},null,null,null,null,null,null,null,null,null,null,null,null,null,null,{"$f":"IF(Tableau011445[[#This Row],[ELEMENTS]]=\"\",\"\",EY34+1)","v":""}]
[null,null,null,null,{"$f":"IF(Tableau01[[#This Row],[ELEMENTS]]=\"\",\"\",E35+1)","v":11},"Filtrate Receiver Barometric Tank 2",null,null,null,null,1,null,1.7654723239999999,null,null,null,null,null,null,{"$f":"IF(Tableau0110[[#This Row],[ELEMENTS]]=\"\",\"\",T35+1)","v":""},null,null,null,null,null,null,null,null,null,null,null,null,null,null,{"$f":"IF(Tableau0114[[#This Row],[ELEMENTS]]=\"\",\"\",AI35+1)","v":11},"Fume Hood",null,null,null,null,1,6319.2,1.7654723239999999,null,null,null,null,null,null,{"$f":"IF(Tableau011017[[#This Row],[ELEMENTS]]=\"\",\"\",AX35+1)","v":""},null,null,null,null,null,null,null,null,null,null,null,null,null,null,{"$f":"IF(Tableau0120[[#This Row],[ELEMENTS]]=\"\",\"\",BM35+1)","v":""},null,null,null,null,null,null,null,null,null,null,null,null,null,null,{"$f":"IF(Tableau011023[[#This Row],[ELEMENTS]]=\"\",\"\",CB35+1)","v":""},null,null,null,null,null,null,null,null,null,null,null,null,null,null,{"$f":"IF(Tableau011426[[#This Row],[ELEMENTS]]=\"\",\"\",CQ35+1)","v":""},null,null,null,null,null,null,null,null,null,null,null,null,null,null,{"$f":"IF(Tableau01101729[[#This Row],[ELEMENTS]]=\"\",\"\",DF35+1)","v":""},null,null,null,null,null,null,null,null,null,null,null,null,null,null,{"$f":"IF(Tableau0141[[#This Row],[ELEMENTS]]=\"\",\"\",DU35+1)","v":""},null,null,null,null,null,null,null,null,null,null,null,null,null,null,{"$f":"IF(Tableau011043[[#This Row],[ELEMENTS]]=\"\",\"\",EJ35+1)","v":""},null,null,null,null,null,null,null,null,null,null,null,null,null,null,{"$f":"IF(Tableau011445[[#This Row],[ELEMENTS]]=\"\",\"\",EY35+1)","v":""}]
[null,null,null,null,{"$f":"IF(Tableau01[[#This Row],[ELEMENTS]]=\"\",\"\",E36+1)","v":12},"Filtrate Receiver Barometric Tank 3",null,null,null,null,1,null,1.7654723239999999,null,null,null,null,null,null,{"$f":"IF(Tableau0110[[#This Row],[ELEMENTS]]=\"\",\"\",T36+1)","v":""},null,null,null,null,null,null,null,null,null,null,null,null,null,null,{"$f":"IF(Tableau0114[[#This Row],[ELEMENTS]]=\"\",\"\",AI36+1)","v":12},"Hydrocyclone",null,null,null,null,1,25274.399999999998,null,null,null,null,null,null,null,{"$f":"IF(Tableau011017[[#This Row],[ELEMENTS]]=\"\",\"\",AX36+1)","v":""},null,null,null,null,null,null,null,null,null,null,null,null,null,null,{"$f":"IF(Tableau0120[[#This Row],[ELEMENTS]]=\"\",\"\",BM36+1)","v":""},null,null,null,null,null,null,null,null,null,null,null,null,null,null,{"$f":"IF(Tableau011023[[#This Row],[ELEMENTS]]=\"\",\"\",CB36+1)","v":""},null,null,null,null,null,null,null,null,null,null,null,null,null,null,{"$f":"IF(Tableau011426[[#This Row],[ELEMENTS]]=\"\",\"\",CQ36+1)","v":""},null,null,null,null,null,null,null,null,null,null,null,null,null,null,{"$f":"IF(Tableau01101729[[#This Row],[ELEMENTS]]=\"\",\"\",DF36+1)","v":""},null,null,null,null,null,null,null,null,null,null,null,null,null,null,{"$f":"IF(Tableau0141[[#This Row],[ELEMENTS]]=\"\",\"\",DU36+1)","v":""},null,null,null,null,null,null,null,null,null,null,null,null,null,null,{"$f":"IF(Tableau011043[[#This Row],[ELEMENTS]]=\"\",\"\",EJ36+1)","v":""},null,null,null,null,null,null,null,null,null,null,null,null,null,null,{"$f":"IF(Tableau011445[[#This Row],[ELEMENTS]]=\"\",\"\",EY36+1)","v":""}]
[null,null,null,null,{"$f":"IF(Tableau01[[#This Row],[ELEMENTS]]=\"\",\"\",E37+1)","v":13},"Filtrate Receiver Barometric Tank 4",null,null,null,null,1,null,1.7654723239999999,null,null,null,null,null,null,{"$f":"IF(Tableau0110[[#This Row],[ELEMENTS]]=\"\",\"\",T37+1)","v":""},null,null,null,null,null,null,null,null,null,null,null,null,null,null,{"$f":"IF(Tableau0114[[#This Row],[ELEMENTS]]=\"\",\"\",AI37+1)","v":""},null,null,null,null,null,null,null,null,null,null,null,null,null,null,{"$f":"IF(Tableau011017[[#This Row],[ELEMENTS]]=\"\",\"\",AX37+1)","v":""},null,null,null,null,null,null,null,null,null,null,null,null,null,null,{"$f":"IF(Tableau0120[[#This Row],[ELEMENTS]]=\"\",\"\",BM37+1)","v":""},null,null,null,null,null,null,null,null,null,null,null,null,null,null,{"$f":"IF(Tableau011023[[#This Row],[ELEMENTS]]=\"\",\"\",CB37+1)","v":""},null,null,null,null,null,null,null,null,null,null,null,null,null,null,{"$f":"IF(Tableau011426[[#This Row],[ELEMENTS]]=\"\",\"\",CQ37+1)","v":""},null,null,null,null,null,null,null,null,null,null,null,null,null,null,{"$f":"IF(Tableau01101729[[#This Row],[ELEMENTS]]=\"\",\"\",DF37+1)","v":""},null,null,null,null,null,null,null,null,null,null,null,null,null,null,{"$f":"IF(Tableau0141[[#This Row],[ELEMENTS]]=\"\",\"\",DU37+1)","v":""},null,null,null,null,null,null,null,null,null,null,null,null,null,null,{"$f":"IF(Tableau011043[[#This Row],[ELEMENTS]]=\"\",\"\",EJ37+1)","v":""},null,null,null,null,null,null,null,null,null,null,null,null,null,null,{"$f":"IF(Tableau011445[[#This Row],[ELEMENTS]]=\"\",\"\",EY37+1)","v":""}]
[null,null,null,null,{"$f":"IF(Tableau01[[#This Row],[ELEMENTS]]=\"\",\"\",E38+1)","v":14},"Liquid Ring Water Recirculating Tank","Polyethylène",null,null,null,1,null,1.7654723239999999,null,null,null,null,null,null,{"$f":"IF(Tableau0110[[#This Row],[ELEMENTS]]=\"\",\"\",T38+1)","v":""},null,null,null,null,null,null,null,null,null,null,null,null,null,null,{"$f":"IF(Tableau0114[[#This Row],[ELEMENTS]]=\"\",\"\",AI38+1)","v":""},null,null,null,null,null,null,null,null,null,null,null,null,null,null,{"$f":"IF(Tableau011017[[#This Row],[ELEMENTS]]=\"\",\"\",AX38+1)","v":""},null,null,null,null,null,null,null,null,null,null,null,null,null,null,{"$f":"IF(Tableau0120[[#This Row],[ELEMENTS]]=\"\",\"\",BM38+1)","v":""},null,null,null,null,null,null,null,null,null,null,null,null,null,null,{"$f":"IF(Tableau011023[[#This Row],[ELEMENTS]]=\"\",\"\",CB38+1)","v":""},null,null,null,null,null,null,null,null,null,null,null,null,null,null,{"$f":"IF(Tableau011426[[#This Row],[ELEMENTS]]=\"\",\"\",CQ38+1)","v":""},null,null,null,null,null,null,null,null,null,null,null,null,null,null,{"$f":"IF(Tableau01101729[[#This Row],[ELEMENTS]]=\"\",\"\",DF38+1)","v":""},null,null,null,null,null,null,null,null,null,null,null,null,null,null,{"$f":"IF(Tableau0141[[#This Row],[ELEMENTS]]=\"\",\"\",DU38+1)","v":""},null,null,null,null,null,null,null,null,null,null,null,null,null,null,{"$f":"IF(Tableau011043[[#This Row],[ELEMENTS]]=\"\",\"\",EJ38+1)","v":""},null,null,null,null,null,null,null,null,null,null,null,null,null,null,{"$f":"IF(Tableau011445[[#This Row],[ELEMENTS]]=\"\",\"\",EY38+1)","v":""}]
[null,null,null,null,{"$f":"IF(Tableau01[[#This Row],[ELEMENTS]]=\"\",\"\",E39+1)","v":15},"Cloth & Belt Wash Recirculating Tank","316L",null,null,null,1,null,1.7654723239999999,null,null,null,null,null,null,{"$f":"IF(Tableau0110[[#This Row],[ELEMENTS]]=\"\",\"\",T39+1)","v":""},null,null,null,null,null,null,null,null,null,null,null,null,null,null,{"$f":"IF(Tableau0114[[#This Row],[ELEMENTS]]=\"\",\"\",AI39+1)","v":""},null,null,null,null,null,null,null,null,null,null,null,null,null,null,{"$f":"IF(Tableau011017[[#This Row],[ELEMENTS]]=\"\",\"\",AX39+1)","v":""},null,null,null,null,null,null,null,null,null,null,null,null,null,null,{"$f":"IF(Tableau0120[[#This Row],[ELEMENTS]]=\"\",\"\",BM39+1)","v":""},null,null,null,null,null,null,null,null,null,null,null,null,null,null,{"$f":"IF(Tableau011023[[#This Row],[ELEMENTS]]=\"\",\"\",CB39+1)","v":""},null,null,null,null,null,null,null,null,null,null,null,null,null,null,{"$f":"IF(Tableau011426[[#This Row],[ELEMENTS]]=\"\",\"\",CQ39+1)","v":""},null,null,null,null,null,null,null,null,null,null,null,null,null,null,{"$f":"IF(Tableau01101729[[#This Row],[ELEMENTS]]=\"\",\"\",DF39+1)","v":""},null,null,null,null,null,null,null,null,null,null,null,null,null,null,{"$f":"IF(Tableau0141[[#This Row],[ELEMENTS]]=\"\",\"\",DU39+1)","v":""},null,null,null,null,null,null,null,null,null,null,null,null,null,null,{"$f":"IF(Tableau011043[[#This Row],[ELEMENTS]]=\"\",\"\",EJ39+1)","v":""},null,null,null,null,null,null,null,null,null,null,null,null,null,null,{"$f":"IF(Tableau011445[[#This Row],[ELEMENTS]]=\"\",\"\",EY39+1)","v":""}]
[null,null,null,null,{"$f":"IF(Tableau01[[#This Row],[ELEMENTS]]=\"\",\"\",E40+1)","v":16},"Cloudy Port Pump",null,null,null,11,1,null,1.5674999999999999,null,null,null,null,null,null,{"$f":"IF(Tableau0110[[#This Row],[ELEMENTS]]=\"\",\"\",T40+1)","v":""},null,null,null,null,null,null,null,null,null,null,null,null,null,null,{"$f":"IF(Tableau0114[[#This Row],[ELEMENTS]]=\"\",\"\",AI40+1)","v":""},null,null,null,null,null,null,null,null,null,null,null,null,null,null,{"$f":"IF(Tableau011017[[#This Row],[ELEMENTS]]=\"\",\"\",AX40+1)","v":""},null,null,null,null,null,null,null,null,null,null,null,null,null,null,{"$f":"IF(Tableau0120[[#This Row],[ELEMENTS]]=\"\",\"\",BM40+1)","v":""},null,null,null,null,null,null,null,null,null,null,null,null,null,null,{"$f":"IF(Tableau011023[[#This Row],[ELEMENTS]]=\"\",\"\",CB40+1)","v":""},null,null,null,null,null,null,null,null,null,null,null,null,null,null,{"$f":"IF(Tableau011426[[#This Row],[ELEMENTS]]=\"\",\"\",CQ40+1)","v":""},null,null,null,null,null,null,null,null,null,null,null,null,null,null,{"$f":"IF(Tableau01101729[[#This Row],[ELEMENTS]]=\"\",\"\",DF40+1)","v":""},null,null,null,null,null,null,null,null,null,null,null,null,null,null,{"$f":"IF(Tableau0141[[#This Row],[ELEMENTS]]=\"\",\"\",DU40+1)","v":""},null,null,null,null,null,null,null,null,null,null,null,null,null,null,{"$f":"IF(Tableau011043[[#This Row],[ELEMENTS]]=\"\",\"\",EJ40+1)","v":""},null,null,null,null,null,null,null,null,null,null,null,null,null,null,{"$f":"IF(Tableau011445[[#This Row],[ELEMENTS]]=\"\",\"\",EY40+1)","v":""}]
[null,null,null,null,{"$f":"IF(Tableau01[[#This Row],[ELEMENTS]]=\"\",\"\",E41+1)","v":17},"Filtrate Pump 1","CD4Mcu",null,15,1.5,1,null,1.5674999999999999,null,null,null,null,null,null,{"$f":"IF(Tableau0110[[#This Row],[ELEMENTS]]=\"\",\"\",T41+1)","v":""},null,null,null,null,null,null,null,null,null,null,null,null,null,null,{"$f":"IF(Tableau0114[[#This Row],[ELEMENTS]]=\"\",\"\",AI41+1)","v":""},null,null,null,null,null,null,null,null,null,null,null,null,null,null,{"$f":"IF(Tableau011017[[#This Row],[ELEMENTS]]=\"\",\"\",AX41+1)","v":""},null,null,null,null,null,null,null,null,null,null,null,null,null,null,{"$f":"IF(Tableau0120[[#This Row],[ELEMENTS]]=\"\",\"\",BM41+1)","v":""},null,null,null,null,null,null,null,null,null,null,null,null,null,null,{"$f":"IF(Tableau011023[[#This Row],[ELEMENTS]]=\"\",\"\",CB41+1)","v":""},null,null,null,null,null,null,null,null,null,null,null,null,null,null,{"$f":"IF(Tableau011426[[#This Row],[ELEMENTS]]=\"\",\"\",CQ41+1)","v":""},null,null,null,null,null,null,null,null,null,null,null,null,null,null,{"$f":"IF(Tableau01101729[[#This Row],[ELEMENTS]]=\"\",\"\",DF41+1)","v":""},null,null,null,null,null,null,null,null,null,null,null,null,null,null,{"$f":"IF(Tableau0141[[#This Row],[ELEMENTS]]=\"\",\"\",DU41+1)","v":""},null,null,null,null,null,null,null,null,null,null,null,null,null,null,{"$f":"IF(Tableau011043[[#This Row],[ELEMENTS]]=\"\",\"\",EJ41+1)","v":""},null,null,null,null,null,null,null,null,null,null,null,null,null,null,{"$f":"IF(Tableau011445[[#This Row],[ELEMENTS]]=\"\",\"\",EY41+1)","v":""}]
[null,null,null,null,{"$f":"IF(Tableau01[[#This Row],[ELEMENTS]]=\"\",\"\",E42+1)","v":18},"Filtrate Pump 2","CD4Mcu",null,20,3,1,null,1.5674999999999999,null,null,null,null,null,null,{"$f":"IF(Tableau0110[[#This Row],[ELEMENTS]]=\"\",\"\",T42+1)","v":""},null,null,null,null,null,null,null,null,null,null,null,null,null,null,{"$f":"IF(Tableau0114[[#This Row],[ELEMENTS]]=\"\",\"\",AI42+1)","v":""},null,null,null,null,null,null,null,null,null,null,null,null,null,null,{"$f":"IF(Tableau011017[[#This Row],[ELEMENTS]]=\"\",\"\",AX42+1)","v":""},null,null,null,null,null,null,null,null,null,null,null,null,null,null,{"$f":"IF(Tableau0120[[#This Row],[ELEMENTS]]=\"\",\"\",BM42+1)","v":""},null,null,null,null,null,null,null,null,null,null,null,null,null,null,{"$f":"IF(Tableau011023[[#This Row],[ELEMENTS]]=\"\",\"\",CB42+1)","v":""},null,null,null,null,null,null,null,null,null,null,null,null,null,null,{"$f":"IF(Tableau011426[[#This Row],[ELEMENTS]]=\"\",\"\",CQ42+1)","v":""},null,null,null,null,null,null,null,null,null,null,null,null,null,null,{"$f":"IF(Tableau01101729[[#This Row],[ELEMENTS]]=\"\",\"\",DF42+1)","v":""},null,null,null,null,null,null,null,null,null,null,null,null,null,null,{"$f":"IF(Tableau0141[[#This Row],[ELEMENTS]]=\"\",\"\",DU42+1)","v":""},null,null,null,null,null,null,null,null,null,null,null,null,null,null,{"$f":"IF(Tableau011043[[#This Row],[ELEMENTS]]=\"\",\"\",EJ42+1)","v":""},null,null,null,null,null,null,null,null,null,null,null,null,null,null,{"$f":"IF(Tableau011445[[#This Row],[ELEMENTS]]=\"\",\"\",EY42+1)","v":""}]
[null,null,null,null,{"$f":"IF(Tableau01[[#This Row],[ELEMENTS]]=\"\",\"\",E43+1)","v":19},"Filtrate Pump 3","CD4Mcu",null,30,5.5,1,null,1.5674999999999999,null,null,null,null,null,null,{"$f":"IF(Tableau0110[[#This Row],[ELEMENTS]]=\"\",\"\",T43+1)","v":""},null,null,null,null,null,null,null,null,null,null,null,null,null,null,{"$f":"IF(Tableau0114[[#This Row],[ELEMENTS]]=\"\",\"\",AI43+1)","v":""},null,null,null,null,null,null,null,null,null,null,null,null,null,null,{"$f":"IF(Tableau011017[[#This Row],[ELEMENTS]]=\"\",\"\",AX43+1)","v":""},null,null,null,null,null,null,null,null,null,null,null,null,null,null,{"$f":"IF(Tableau0120[[#This Row],[ELEMENTS]]=\"\",\"\",BM43+1)","v":""},null,null,null,null,null,null,null,null,null,null,null,null,null,null,{"$f":"IF(Tableau011023[[#This Row],[ELEMENTS]]=\"\",\"\",CB43+1)","v":""},null,null,null,null,null,null,null,null,null,null,null,null,null,null,{"$f":"IF(Tableau011426[[#This Row],[ELEMENTS]]=\"\",\"\",CQ43+1)","v":""},null,null,null,null,null,null,null,null,null,null,null,null,null,null,{"$f":"IF(Tableau01101729[[#This Row],[ELEMENTS]]=\"\",\"\",DF43+1)","v":""},null,null,null,null,null,null,null,null,null,null,null,null,null,null,{"$f":"IF(Tableau0141[[#This Row],[ELEMENTS]]=\"\",\"\",DU43+1)","v":""},null,null,null,null,null,null,null,null,null,null,null,null,null,null,{"$f":"IF(Tableau011043[[#This Row],[ELEMENTS]]=\"\",\"\",EJ43+1)","v":""},null,null,null,null,null,null,null,null,null,null,null,null,null,null,{"$f":"IF(Tableau011445[[#This Row],[ELEMENTS]]=\"\",\"\",EY43+1)","v":""}]
[null,null,null,null,{"$f":"IF(Tableau01[[#This Row],[ELEMENTS]]=\"\",\"\",E44+1)","v":20},"Filtrate Pump 4","CD4Mcu",null,35,5.5,1,null,1.5674999999999999,null,null,null,null,null,null,{"$f":"IF(Tableau0110[[#This Row],[ELEMENTS]]=\"\",\"\",T44+1)","v":""},null,null,null,null,null,null,null,null,null,null,null,null,null,null,{"$f":"IF(Tableau0114[[#This Row],[ELEMENTS]]=\"\",\"\",AI44+1)","v":""},null,null,null,null,null,null,null,null,null,null,null,null,null,null,{"$f":"IF(Tableau011017[[#This Row],[ELEMENTS]]=\"\",\"\",AX44+1)","v":""},null,null,null,null,null,null,null,null,null,null,null,null,null,null,{"$f":"IF(Tableau0120[[#This Row],[ELEMENTS]]=\"\",\"\",BM44+1)","v":""},null,null,null,null,null,null,null,null,null,null,null,null,null,null,{"$f":"IF(Tableau011023[[#This Row],[ELEMENTS]]=\"\",\"\",CB44+1)","v":""},null,null,null,null,null,null,null,null,null,null,null,null,null,null,{"$f":"IF(Tableau011426[[#This Row],[ELEMENTS]]=\"\",\"\",CQ44+1)","v":""},null,null,null,null,null,null,null,null,null,null,null,null,null,null,{"$f":"IF(Tableau01101729[[#This Row],[ELEMENTS]]=\"\",\"\",DF44+1)","v":""},null,null,null,null,null,null,null,null,null,null,null,null,null,null,{"$f":"IF(Tableau0141[[#This Row],[ELEMENTS]]=\"\",\"\",DU44+1)","v":""},null,null,null,null,null,null,null,null,null,null,null,null,null,null,{"$f":"IF(Tableau011043[[#This Row],[ELEMENTS]]=\"\",\"\",EJ44+1)","v":""},null,null,null,null,null,null,null,null,null,null,null,null,null,null,{"$f":"IF(Tableau011445[[#This Row],[ELEMENTS]]=\"\",\"\",EY44+1)","v":""}]
[null,null,null,null,{"$f":"IF(Tableau01[[#This Row],[ELEMENTS]]=\"\",\"\",E45+1)","v":21},"Liquid Ring Water Recirculating Pump",null,null,null,55,1,null,1.5674999999999999,null,null,null,null,null,null,{"$f":"IF(Tableau0110[[#This Row],[ELEMENTS]]=\"\",\"\",T45+1)","v":""},null,null,null,null,null,null,null,null,null,null,null,null,null,null,{"$f":"IF(Tableau0114[[#This Row],[ELEMENTS]]=\"\",\"\",AI45+1)","v":""},null,null,null,null,null,null,null,null,null,null,null,null,null,null,{"$f":"IF(Tableau011017[[#This Row],[ELEMENTS]]=\"\",\"\",AX45+1)","v":""},null,null,null,null,null,null,null,null,null,null,null,null,null,null,{"$f":"IF(Tableau0120[[#This Row],[ELEMENTS]]=\"\",\"\",BM45+1)","v":""},null,null,null,null,null,null,null,null,null,null,null,null,null,null,{"$f":"IF(Tableau011023[[#This Row],[ELEMENTS]]=\"\",\"\",CB45+1)","v":""},null,null,null,null,null,null,null,null,null,null,null,null,null,null,{"$f":"IF(Tableau011426[[#This Row],[ELEMENTS]]=\"\",\"\",CQ45+1)","v":""},null,null,null,null,null,null,null,null,null,null,null,null,null,null,{"$f":"IF(Tableau01101729[[#This Row],[ELEMENTS]]=\"\",\"\",DF45+1)","v":""},null,null,null,null,null,null,null,null,null,null,null,null,null,null,{"$f":"IF(Tableau0141[[#This Row],[ELEMENTS]]=\"\",\"\",DU45+1)","v":""},null,null,null,null,null,null,null,null,null,null,null,null,null,null,{"$f":"IF(Tableau011043[[#This Row],[ELEMENTS]]=\"\",\"\",EJ45+1)","v":""},null,null,null,null,null,null,null,null,null,null,null,null,null,null,{"$f":"IF(Tableau011445[[#This Row],[ELEMENTS]]=\"\",\"\",EY45+1)","v":""}]
[null,null,null,null,{"$f":"IF(Tableau01[[#This Row],[ELEMENTS]]=\"\",\"\",E46+1)","v":22},"Cloth & Belt Wash Recirculating Pump","316L",null,20,5.5,1,null,1.5674999999999999,null,null,null,null,null,null,{"$f":"IF(Tableau0110[[#This Row],[ELEMENTS]]=\"\",\"\",T46+1)","v":""},null,null,null,null,null,null,null,null,null,null,null,null,null,null,{"$f":"IF(Tableau0114[[#This Row],[ELEMENTS]]=\"\",\"\",AI46+1)","v":""},null,null,null,null,null,null,null,null,null,null,null,null,null,null,{"$f":"IF(Tableau011017[[#This Row],[ELEMENTS]]=\"\",\"\",AX46+1)","v":""},null,null,null,null,null,null,null,null,null,null,null,null,null,null,{"$f":"IF(Tableau0120[[#This Row],[ELEMENTS]]=\"\",\"\",BM46+1)","v":""},null,null,null,null,null,null,null,null,null,null,null,null,null,null,{"$f":"IF(Tableau011023[[#This Row],[ELEMENTS]]=\"\",\"\",CB46+1)","v":""},null,null,null,null,null,null,null,null,null,null,null,null,null,null,{"$f":"IF(Tableau011426[[#This Row],[ELEMENTS]]=\"\",\"\",CQ46+1)","v":""},null,null,null,null,null,null,null,null,null,null,null,null,null,null,{"$f":"IF(Tableau01101729[[#This Row],[ELEMENTS]]=\"\",\"\",DF46+1)","v":""},null,null,null,null,null,null,null,null,null,null,null,null,null,null,{"$f":"IF(Tableau0141[[#This Row],[ELEMENTS]]=\"\",\"\",DU46+1)","v":""},null,null,null,null,null,null,null,null,null,null,null,null,null,null,{"$f":"IF(Tableau011043[[#This Row],[ELEMENTS]]=\"\",\"\",EJ46+1)","v":""},null,null,null,null,null,null,null,null,null,null,null,null,null,null,{"$f":"IF(Tableau011445[[#This Row],[ELEMENTS]]=\"\",\"\",EY46+1)","v":""}]
[null,null,null,null,{"$f":"IF(Tableau01[[#This Row],[ELEMENTS]]=\"\",\"\",E47+1)","v":23},"Vacuum Pump","Cast Iron",null,1000,160,1,null,1.5674999999999999,null,null,null,null,null,null,{"$f":"IF(Tableau0110[[#This Row],[ELEMENTS]]=\"\",\"\",T47+1)","v":""},null,null,null,null,null,null,null,null,null,null,null,null,null,null,{"$f":"IF(Tableau0114[[#This Row],[ELEMENTS]]=\"\",\"\",AI47+1)","v":""},null,null,null,null,null,null,null,null,null,null,null,null,null,null,{"$f":"IF(Tableau011017[[#This Row],[ELEMENTS]]=\"\",\"\",AX47+1)","v":""},null,null,null,null,null,null,null,null,null,null,null,null,null,null,{"$f":"IF(Tableau0120[[#This Row],[ELEMENTS]]=\"\",\"\",BM47+1)","v":""},null,null,null,null,null,null,null,null,null,null,null,null,null,null,{"$f":"IF(Tableau011023[[#This Row],[ELEMENTS]]=\"\",\"\",CB47+1)","v":""},null,null,null,null,null,null,null,null,null,null,null,null,null,null,{"$f":"IF(Tableau011426[[#This Row],[ELEMENTS]]=\"\",\"\",CQ47+1)","v":""},null,null,null,null,null,null,null,null,null,null,null,null,null,null,{"$f":"IF(Tableau01101729[[#This Row],[ELEMENTS]]=\"\",\"\",DF47+1)","v":""},null,null,null,null,null,null,null,null,null,null,null,null,null,null,{"$f":"IF(Tableau0141[[#This Row],[ELEMENTS]]=\"\",\"\",DU47+1)","v":""},null,null,null,null,null,null,null,null,null,null,null,null,null,null,{"$f":"IF(Tableau011043[[#This Row],[ELEMENTS]]=\"\",\"\",EJ47+1)","v":""},null,null,null,null,null,null,null,null,null,null,null,null,null,null,{"$f":"IF(Tableau011445[[#This Row],[ELEMENTS]]=\"\",\"\",EY47+1)","v":""}]
[null,null,null,null,{"$f":"IF(Tableau01[[#This Row],[ELEMENTS]]=\"\",\"\",E48+1)","v":24},"Piping",null,null,null,null,1,null,1.7654723239999999,null,null,null,null,null,null,{"$f":"IF(Tableau0110[[#This Row],[ELEMENTS]]=\"\",\"\",T48+1)","v":""},null,null,null,null,null,null,null,null,null,null,null,null,null,null,{"$f":"IF(Tableau0114[[#This Row],[ELEMENTS]]=\"\",\"\",AI48+1)","v":""},null,null,null,null,null,null,null,null,null,null,null,null,null,null,{"$f":"IF(Tableau011017[[#This Row],[ELEMENTS]]=\"\",\"\",AX48+1)","v":""},null,null,null,null,null,null,null,null,null,null,null,null,null,null,{"$f":"IF(Tableau0120[[#This Row],[ELEMENTS]]=\"\",\"\",BM48+1)","v":""},null,null,null,null,null,null,null,null,null,null,null,null,null,null,{"$f":"IF(Tableau011023[[#This Row],[ELEMENTS]]=\"\",\"\",CB48+1)","v":""},null,null,null,null,null,null,null,null,null,null,null,null,null,null,{"$f":"IF(Tableau011426[[#This Row],[ELEMENTS]]=\"\",\"\",CQ48+1)","v":""},null,null,null,null,null,null,null,null,null,null,null,null,null,null,{"$f":"IF(Tableau01101729[[#This Row],[ELEMENTS]]=\"\",\"\",DF48+1)","v":""},null,null,null,null,null,null,null,null,null,null,null,null,null,null,{"$f":"IF(Tableau0141[[#This Row],[ELEMENTS]]=\"\",\"\",DU48+1)","v":""},null,null,null,null,null,null,null,null,null,null,null,null,null,null,{"$f":"IF(Tableau011043[[#This Row],[ELEMENTS]]=\"\",\"\",EJ48+1)","v":""},null,null,null,null,null,null,null,null,null,null,null,null,null,null,{"$f":"IF(Tableau011445[[#This Row],[ELEMENTS]]=\"\",\"\",EY48+1)","v":""}]
[null,null,null,null,{"$f":"IF(Tableau01[[#This Row],[ELEMENTS]]=\"\",\"\",E49+1)","v":25},"Electrical & Control Cabinet",null,null,null,null,1,108125,1.7654723239999999,null,null,null,null,null,null,{"$f":"IF(Tableau0110[[#This Row],[ELEMENTS]]=\"\",\"\",T49+1)","v":""},null,null,null,null,null,null,null,null,null,null,null,null,null,null,{"$f":"IF(Tableau0114[[#This Row],[ELEMENTS]]=\"\",\"\",AI49+1)","v":""},null,null,null,null,null,null,null,null,null,null,null,null,null,null,{"$f":"IF(Tableau011017[[#This Row],[ELEMENTS]]=\"\",\"\",AX49+1)","v":""},null,null,null,null,null,null,null,null,null,null,null,null,null,null,{"$f":"IF(Tableau0120[[#This Row],[ELEMENTS]]=\"\",\"\",BM49+1)","v":""},null,null,null,null,null,null,null,null,null,null,null,null,null,null,{"$f":"IF(Tableau011023[[#This Row],[ELEMENTS]]=\"\",\"\",CB49+1)","v":""},null,null,null,null,null,null,null,null,null,null,null,null,null,null,{"$f":"IF(Tableau011426[[#This Row],[ELEMENTS]]=\"\",\"\",CQ49+1)","v":""},null,null,null,null,null,null,null,null,null,null,null,null,null,null,{"$f":"IF(Tableau01101729[[#This Row],[ELEMENTS]]=\"\",\"\",DF49+1)","v":""},null,null,null,null,null,null,null,null,null,null,null,null,null,null,{"$f":"IF(Tableau0141[[#This Row],[ELEMENTS]]=\"\",\"\",DU49+1)","v":""},null,null,null,null,null,null,null,null,null,null,null,null,null,null,{"$f":"IF(Tableau011043[[#This Row],[ELEMENTS]]=\"\",\"\",EJ49+1)","v":""},null,null,null,null,null,null,null,null,null,null,null,null,null,null,{"$f":"IF(Tableau011445[[#This Row],[ELEMENTS]]=\"\",\"\",EY49+1)","v":""}]
[null,null,null,null,{"$f":"IF(Tableau01[[#This Row],[ELEMENTS]]=\"\",\"\",E50+1)","v":26},"Instrumentation & Valves",null,null,null,null,1,19000,1.7654723239999999,null,null,null,null,null,null,{"$f":"IF(Tableau0110[[#This Row],[ELEMENTS]]=\"\",\"\",T50+1)","v":""},null,null,null,null,null,null,null,null,null,null,null,null,null,null,{"$f":"IF(Tableau0114[[#This Row],[ELEMENTS]]=\"\",\"\",AI50+1)","v":""},null,null,null,null,null,null,null,null,null,null,null,null,null,null,{"$f":"IF(Tableau011017[[#This Row],[ELEMENTS]]=\"\",\"\",AX50+1)","v":""},null,null,null,null,null,null,null,null,null,null,null,null,null,null,{"$f":"IF(Tableau0120[[#This Row],[ELEMENTS]]=\"\",\"\",BM50+1)","v":""},null,null,null,null,null,null,null,null,null,null,null,null,null,null,{"$f":"IF(Tableau011023[[#This Row],[ELEMENTS]]=\"\",\"\",CB50+1)","v":""},null,null,null,null,null,null,null,null,null,null,null,null,null,null,{"$f":"IF(Tableau011426[[#This Row],[ELEMENTS]]=\"\",\"\",CQ50+1)","v":""},null,null,null,null,null,null,null,null,null,null,null,null,null,null,{"$f":"IF(Tableau01101729[[#This Row],[ELEMENTS]]=\"\",\"\",DF50+1)","v":""},null,null,null,null,null,null,null,null,null,null,null,null,null,null,{"$f":"IF(Tableau0141[[#This Row],[ELEMENTS]]=\"\",\"\",DU50+1)","v":""},null,null,null,null,null,null,null,null,null,null,null,null,null,null,{"$f":"IF(Tableau011043[[#This Row],[ELEMENTS]]=\"\",\"\",EJ50+1)","v":""},null,null,null,null,null,null,null,null,null,null,null,null,null,null,{"$f":"IF(Tableau011445[[#This Row],[ELEMENTS]]=\"\",\"\",EY50+1)","v":""}]
[null,null,null,null,{"$f":"IF(Tableau01[[#This Row],[ELEMENTS]]=\"\",\"\",E51+1)","v":27},"Engineering","Cat. 1 (HASLER Standard)",null,null,null,1,null,2,null,null,null,null,null,null,{"$f":"IF(Tableau0110[[#This Row],[ELEMENTS]]=\"\",\"\",T51+1)","v":""},null,null,null,null,null,null,null,null,null,null,null,null,null,null,{"$f":"IF(Tableau0114[[#This Row],[ELEMENTS]]=\"\",\"\",AI51+1)","v":""},null,null,null,null,null,null,null,null,null,null,null,null,null,null,{"$f":"IF(Tableau011017[[#This Row],[ELEMENTS]]=\"\",\"\",AX51+1)","v":""},null,null,null,null,null,null,null,null,null,null,null,null,null,null,{"$f":"IF(Tableau0120[[#This Row],[ELEMENTS]]=\"\",\"\",BM51+1)","v":""},null,null,null,null,null,null,null,null,null,null,null,null,null,null,{"$f":"IF(Tableau011023[[#This Row],[ELEMENTS]]=\"\",\"\",CB51+1)","v":""},null,null,null,null,null,null,null,null,null,null,null,null,null,null,{"$f":"IF(Tableau011426[[#This Row],[ELEMENTS]]=\"\",\"\",CQ51+1)","v":""},null,null,null,null,null,null,null,null,null,null,null,null,null,null,{"$f":"IF(Tableau01101729[[#This Row],[ELEMENTS]]=\"\",\"\",DF51+1)","v":""},null,null,null,null,null,null,null,null,null,null,null,null,null,null,{"$f":"IF(Tableau0141[[#This Row],[ELEMENTS]]=\"\",\"\",DU51+1)","v":""},null,null,null,null,null,null,null,null,null,null,null,null,null,null,{"$f":"IF(Tableau011043[[#This Row],[ELEMENTS]]=\"\",\"\",EJ51+1)","v":""},null,null,null,null,null,null,null,null,null,null,null,null,null,null,{"$f":"IF(Tableau011445[[#This Row],[ELEMENTS]]=\"\",\"\",EY51+1)","v":""}]
[null,null,null,null,{"$f":"IF(Tableau01[[#This Row],[ELEMENTS]]=\"\",\"\",E52+1)","v":""},null,null,null,null,null,null,null,null,null,null,null,null,null,null,{"$f":"IF(Tableau0110[[#This Row],[ELEMENTS]]=\"\",\"\",T52+1)","v":""},null,null,null,null,null,null,null,null,null,null,null,null,null,null,{"$f":"IF(Tableau0114[[#This Row],[ELEMENTS]]=\"\",\"\",AI52+1)","v":""},null,null,null,null,null,null,null,null,null,null,null,null,null,null,{"$f":"IF(Tableau011017[[#This Row],[ELEMENTS]]=\"\",\"\",AX52+1)","v":""},null,null,null,null,null,null,null,null,null,null,null,null,null,null,{"$f":"IF(Tableau0120[[#This Row],[ELEMENTS]]=\"\",\"\",BM52+1)","v":""},null,null,null,null,null,null,null,null,null,null,null,null,null,null,{"$f":"IF(Tableau011023[[#This Row],[ELEMENTS]]=\"\",\"\",CB52+1)","v":""},null,null,null,null,null,null,null,null,null,null,null,null,null,null,{"$f":"IF(Tableau011426[[#This Row],[ELEMENTS]]=\"\",\"\",CQ52+1)","v":""},null,null,null,null,null,null,null,null,null,null,null,null,null,null,{"$f":"IF(Tableau01101729[[#This Row],[ELEMENTS]]=\"\",\"\",DF52+1)","v":""},null,null,null,null,null,null,null,null,null,null,null,null,null,null,{"$f":"IF(Tableau0141[[#This Row],[ELEMENTS]]=\"\",\"\",DU52+1)","v":""},null,null,null,null,null,null,null,null,null,null,null,null,null,null,{"$f":"IF(Tableau011043[[#This Row],[ELEMENTS]]=\"\",\"\",EJ52+1)","v":""},null,null,null,null,null,null,null,null,null,null,null,null,null,null,{"$f":"IF(Tableau011445[[#This Row],[ELEMENTS]]=\"\",\"\",EY52+1)","v":""}]
[null,null,null,null,{"$f":"IF(Tableau01[[#This Row],[ELEMENTS]]=\"\",\"\",E53+1)","v":""},null,null,null,null,null,null,null,null,null,null,null,null,null,null,{"$f":"IF(Tableau0110[[#This Row],[ELEMENTS]]=\"\",\"\",T53+1)","v":""},null,null,null,null,null,null,null,null,null,null,null,null,null,null,{"$f":"IF(Tableau0114[[#This Row],[ELEMENTS]]=\"\",\"\",AI53+1)","v":""},null,null,null,null,null,null,null,null,null,null,null,null,null,null,{"$f":"IF(Tableau011017[[#This Row],[ELEMENTS]]=\"\",\"\",AX53+1)","v":""},null,null,null,null,null,null,null,null,null,null,null,null,null,null,{"$f":"IF(Tableau0120[[#This Row],[ELEMENTS]]=\"\",\"\",BM53+1)","v":""},null,null,null,null,null,null,null,null,null,null,null,null,null,null,{"$f":"IF(Tableau011023[[#This Row],[ELEMENTS]]=\"\",\"\",CB53+1)","v":""},null,null,null,null,null,null,null,null,null,null,null,null,null,null,{"$f":"IF(Tableau011426[[#This Row],[ELEMENTS]]=\"\",\"\",CQ53+1)","v":""},null,null,null,null,null,null,null,null,null,null,null,null,null,null,{"$f":"IF(Tableau01101729[[#This Row],[ELEMENTS]]=\"\",\"\",DF53+1)","v":""},null,null,null,null,null,null,null,null,null,null,null,null,null,null,{"$f":"IF(Tableau0141[[#This Row],[ELEMENTS]]=\"\",\"\",DU53+1)","v":""},null,null,null,null,null,null,null,null,null,null,null,null,null,null,{"$f":"IF(Tableau011043[[#This Row],[ELEMENTS]]=\"\",\"\",EJ53+1)","v":""},null,null,null,null,null,null,null,null,null,null,null,null,null,null,{"$f":"IF(Tableau011445[[#This Row],[ELEMENTS]]=\"\",\"\",EY53+1)","v":""}]
[null,null,null,null,{"$f":"IF(Tableau01[[#This Row],[ELEMENTS]]=\"\",\"\",E54+1)","v":""},null,null,null,null,null,null,null,null,null,null,null,null,null,null,{"$f":"IF(Tableau0110[[#This Row],[ELEMENTS]]=\"\",\"\",T54+1)","v":""},null,null,null,null,null,null,null,null,null,null,null,null,null,null,{"$f":"IF(Tableau0114[[#This Row],[ELEMENTS]]=\"\",\"\",AI54+1)","v":""},null,null,null,null,null,null,null,null,null,null,null,null,null,null,{"$f":"IF(Tableau011017[[#This Row],[ELEMENTS]]=\"\",\"\",AX54+1)","v":""},null,null,null,null,null,null,null,null,null,null,null,null,null,null,{"$f":"IF(Tableau0120[[#This Row],[ELEMENTS]]=\"\",\"\",BM54+1)","v":""},null,null,null,null,null,null,null,null,null,null,null,null,null,null,{"$f":"IF(Tableau011023[[#This Row],[ELEMENTS]]=\"\",\"\",CB54+1)","v":""},null,null,null,null,null,null,null,null,null,null,null,null,null,null,{"$f":"IF(Tableau011426[[#This Row],[ELEMENTS]]=\"\",\"\",CQ54+1)","v":""},null,null,null,null,null,null,null,null,null,null,null,null,null,null,{"$f":"IF(Tableau01101729[[#This Row],[ELEMENTS]]=\"\",\"\",DF54+1)","v":""},null,null,null,null,null,null,null,null,null,null,null,null,null,null,{"$f":"IF(Tableau0141[[#This Row],[ELEMENTS]]=\"\",\"\",DU54+1)","v":""},null,null,null,null,null,null,null,null,null,null,null,null,null,null,{"$f":"IF(Tableau011043[[#This Row],[ELEMENTS]]=\"\",\"\",EJ54+1)","v":""},null,null,null,null,null,null,null,null,null,null,null,null,null,null,{"$f":"IF(Tableau011445[[#This Row],[ELEMENTS]]=\"\",\"\",EY54+1)","v":""}]
[null,null,null,null,{"$f":"IF(Tableau01[[#This Row],[ELEMENTS]]=\"\",\"\",E55+1)","v":""},null,null,null,null,null,null,null,null,null,null,null,null,null,null,{"$f":"IF(Tableau0110[[#This Row],[ELEMENTS]]=\"\",\"\",T55+1)","v":""},null,null,null,null,null,null,null,null,null,null,null,null,null,null,{"$f":"IF(Tableau0114[[#This Row],[ELEMENTS]]=\"\",\"\",AI55+1)","v":""},null,null,null,null,null,null,null,null,null,null,null,null,null,null,{"$f":"IF(Tableau011017[[#This Row],[ELEMENTS]]=\"\",\"\",AX55+1)","v":""},null,null,null,null,null,null,null,null,null,null,null,null,null,null,{"$f":"IF(Tableau0120[[#This Row],[ELEMENTS]]=\"\",\"\",BM55+1)","v":""},null,null,null,null,null,null,null,null,null,null,null,null,null,null,{"$f":"IF(Tableau011023[[#This Row],[ELEMENTS]]=\"\",\"\",CB55+1)","v":""},null,null,null,null,null,null,null,null,null,null,null,null,null,null,{"$f":"IF(Tableau011426[[#This Row],[ELEMENTS]]=\"\",\"\",CQ55+1)","v":""},null,null,null,null,null,null,null,null,null,null,null,null,null,null,{"$f":"IF(Tableau01101729[[#This Row],[ELEMENTS]]=\"\",\"\",DF55+1)","v":""},null,null,null,null,null,null,null,null,null,null,null,null,null,null,{"$f":"IF(Tableau0141[[#This Row],[ELEMENTS]]=\"\",\"\",DU55+1)","v":""},null,null,null,null,null,null,null,null,null,null,null,null,null,null,{"$f":"IF(Tableau011043[[#This Row],[ELEMENTS]]=\"\",\"\",EJ55+1)","v":""},null,null,null,null,null,null,null,null,null,null,null,null,null,null,{"$f":"IF(Tableau011445[[#This Row],[ELEMENTS]]=\"\",\"\",EY55+1)","v":""}]
[null,null,null,null,{"$f":"IF(Tableau01[[#This Row],[ELEMENTS]]=\"\",\"\",E56+1)","v":""},null,null,null,null,null,null,null,null,null,null,null,null,null,null,{"$f":"IF(Tableau0110[[#This Row],[ELEMENTS]]=\"\",\"\",T56+1)","v":""},null,null,null,null,null,null,null,null,null,null,null,null,null,null,{"$f":"IF(Tableau0114[[#This Row],[ELEMENTS]]=\"\",\"\",AI56+1)","v":""},null,null,null,null,null,null,null,null,null,null,null,null,null,null,{"$f":"IF(Tableau011017[[#This Row],[ELEMENTS]]=\"\",\"\",AX56+1)","v":""},null,null,null,null,null,null,null,null,null,null,null,null,null,null,{"$f":"IF(Tableau0120[[#This Row],[ELEMENTS]]=\"\",\"\",BM56+1)","v":""},null,null,null,null,null,null,null,null,null,null,null,null,null,null,{"$f":"IF(Tableau011023[[#This Row],[ELEMENTS]]=\"\",\"\",CB56+1)","v":""},null,null,null,null,null,null,null,null,null,null,null,null,null,null,{"$f":"IF(Tableau011426[[#This Row],[ELEMENTS]]=\"\",\"\",CQ56+1)","v":""},null,null,null,null,null,null,null,null,null,null,null,null,null,null,{"$f":"IF(Tableau01101729[[#This Row],[ELEMENTS]]=\"\",\"\",DF56+1)","v":""},null,null,null,null,null,null,null,null,null,null,null,null,null,null,{"$f":"IF(Tableau0141[[#This Row],[ELEMENTS]]=\"\",\"\",DU56+1)","v":""},null,null,null,null,null,null,null,null,null,null,null,null,null,null,{"$f":"IF(Tableau011043[[#This Row],[ELEMENTS]]=\"\",\"\",EJ56+1)","v":""},null,null,null,null,null,null,null,null,null,null,null,null,null,null,{"$f":"IF(Tableau011445[[#This Row],[ELEMENTS]]=\"\",\"\",EY56+1)","v":""}]
[null,null,null,null,{"$f":"IF(Tableau01[[#This Row],[ELEMENTS]]=\"\",\"\",E57+1)","v":""},null,null,null,null,null,null,null,null,null,null,null,null,null,null,{"$f":"IF(Tableau0110[[#This Row],[ELEMENTS]]=\"\",\"\",T57+1)","v":""},null,null,null,null,null,null,null,null,null,null,null,null,null,null,{"$f":"IF(Tableau0114[[#This Row],[ELEMENTS]]=\"\",\"\",AI57+1)","v":""},null,null,null,null,null,null,null,null,null,null,null,null,null,null,{"$f":"IF(Tableau011017[[#This Row],[ELEMENTS]]=\"\",\"\",AX57+1)","v":""},null,null,null,null,null,null,null,null,null,null,null,null,null,null,{"$f":"IF(Tableau0120[[#This Row],[ELEMENTS]]=\"\",\"\",BM57+1)","v":""},null,null,null,null,null,null,null,null,null,null,null,null,null,null,{"$f":"IF(Tableau011023[[#This Row],[ELEMENTS]]=\"\",\"\",CB57+1)","v":""},null,null,null,null,null,null,null,null,null,null,null,null,null,null,{"$f":"IF(Tableau011426[[#This Row],[ELEMENTS]]=\"\",\"\",CQ57+1)","v":""},null,null,null,null,null,null,null,null,null,null,null,null,null,null,{"$f":"IF(Tableau01101729[[#This Row],[ELEMENTS]]=\"\",\"\",DF57+1)","v":""},null,null,null,null,null,null,null,null,null,null,null,null,null,null,{"$f":"IF(Tableau0141[[#This Row],[ELEMENTS]]=\"\",\"\",DU57+1)","v":""},null,null,null,null,null,null,null,null,null,null,null,null,null,null,{"$f":"IF(Tableau011043[[#This Row],[ELEMENTS]]=\"\",\"\",EJ57+1)","v":""},null,null,null,null,null,null,null,null,null,null,null,null,null,null,{"$f":"IF(Tableau011445[[#This Row],[ELEMENTS]]=\"\",\"\",EY57+1)","v":""}]
[null,null,null,null,{"$f":"IF(Tableau01[[#This Row],[ELEMENTS]]=\"\",\"\",E58+1)","v":""},null,null,null,null,null,null,null,null,null,null,null,null,null,null,{"$f":"IF(Tableau0110[[#This Row],[ELEMENTS]]=\"\",\"\",T58+1)","v":""},null,null,null,null,null,null,null,null,null,null,null,null,null,null,{"$f":"IF(Tableau0114[[#This Row],[ELEMENTS]]=\"\",\"\",AI58+1)","v":""},null,null,null,null,null,null,null,null,null,null,null,null,null,null,{"$f":"IF(Tableau011017[[#This Row],[ELEMENTS]]=\"\",\"\",AX58+1)","v":""},null,null,null,null,null,null,null,null,null,null,null,null,null,null,{"$f":"IF(Tableau0120[[#This Row],[ELEMENTS]]=\"\",\"\",BM58+1)","v":""},null,null,null,null,null,null,null,null,null,null,null,null,null,null,{"$f":"IF(Tableau011023[[#This Row],[ELEMENTS]]=\"\",\"\",CB58+1)","v":""},null,null,null,null,null,null,null,null,null,null,null,null,null,null,{"$f":"IF(Tableau011426[[#This Row],[ELEMENTS]]=\"\",\"\",CQ58+1)","v":""},null,null,null,null,null,null,null,null,null,null,null,null,null,null,{"$f":"IF(Tableau01101729[[#This Row],[ELEMENTS]]=\"\",\"\",DF58+1)","v":""},null,null,null,null,null,null,null,null,null,null,null,null,null,null,{"$f":"IF(Tableau0141[[#This Row],[ELEMENTS]]=\"\",\"\",DU58+1)","v":""},null,null,null,null,null,null,null,null,null,null,null,null,null,null,{"$f":"IF(Tableau011043[[#This Row],[ELEMENTS]]=\"\",\"\",EJ58+1)","v":""},null,null,null,null,null,null,null,null,null,null,null,null,null,null,{"$f":"IF(Tableau011445[[#This Row],[ELEMENTS]]=\"\",\"\",EY58+1)","v":""}]
[null,null,null,null,{"$f":"IF(Tableau01[[#This Row],[ELEMENTS]]=\"\",\"\",E59+1)","v":""},null,null,null,null,null,null,null,null,null,null,null,null,null,null,{"$f":"IF(Tableau0110[[#This Row],[ELEMENTS]]=\"\",\"\",T59+1)","v":""},null,null,null,null,null,null,null,null,null,null,null,null,null,null,{"$f":"IF(Tableau0114[[#This Row],[ELEMENTS]]=\"\",\"\",AI59+1)","v":""},null,null,null,null,null,null,null,null,null,null,null,null,null,null,{"$f":"IF(Tableau011017[[#This Row],[ELEMENTS]]=\"\",\"\",AX59+1)","v":""},null,null,null,null,null,null,null,null,null,null,null,null,null,null,{"$f":"IF(Tableau0120[[#This Row],[ELEMENTS]]=\"\",\"\",BM59+1)","v":""},null,null,null,null,null,null,null,null,null,null,null,null,null,null,{"$f":"IF(Tableau011023[[#This Row],[ELEMENTS]]=\"\",\"\",CB59+1)","v":""},null,null,null,null,null,null,null,null,null,null,null,null,null,null,{"$f":"IF(Tableau011426[[#This Row],[ELEMENTS]]=\"\",\"\",CQ59+1)","v":""},null,null,null,null,null,null,null,null,null,null,null,null,null,null,{"$f":"IF(Tableau01101729[[#This Row],[ELEMENTS]]=\"\",\"\",DF59+1)","v":""},null,null,null,null,null,null,null,null,null,null,null,null,null,null,{"$f":"IF(Tableau0141[[#This Row],[ELEMENTS]]=\"\",\"\",DU59+1)","v":""},null,null,null,null,null,null,null,null,null,null,null,null,null,null,{"$f":"IF(Tableau011043[[#This Row],[ELEMENTS]]=\"\",\"\",EJ59+1)","v":""},null,null,null,null,null,null,null,null,null,null,null,null,null,null,{"$f":"IF(Tableau011445[[#This Row],[ELEMENTS]]=\"\",\"\",EY59+1)","v":""}]
[null,null,null,null,{"$f":"IF(Tableau01[[#This Row],[ELEMENTS]]=\"\",\"\",E60+1)","v":""},null,null,null,null,null,null,null,null,null,null,null,null,null,null,{"$f":"IF(Tableau0110[[#This Row],[ELEMENTS]]=\"\",\"\",T60+1)","v":""},null,null,null,null,null,null,null,null,null,null,null,null,null,null,{"$f":"IF(Tableau0114[[#This Row],[ELEMENTS]]=\"\",\"\",AI60+1)","v":""},null,null,null,null,null,null,null,null,null,null,null,null,null,null,{"$f":"IF(Tableau011017[[#This Row],[ELEMENTS]]=\"\",\"\",AX60+1)","v":""},null,null,null,null,null,null,null,null,null,null,null,null,null,null,{"$f":"IF(Tableau0120[[#This Row],[ELEMENTS]]=\"\",\"\",BM60+1)","v":""},null,null,null,null,null,null,null,null,null,null,null,null,null,null,{"$f":"IF(Tableau011023[[#This Row],[ELEMENTS]]=\"\",\"\",CB60+1)","v":""},null,null,null,null,null,null,null,null,null,null,null,null,null,null,{"$f":"IF(Tableau011426[[#This Row],[ELEMENTS]]=\"\",\"\",CQ60+1)","v":""},null,null,null,null,null,null,null,null,null,null,null,null,null,null,{"$f":"IF(Tableau01101729[[#This Row],[ELEMENTS]]=\"\",\"\",DF60+1)","v":""},null,null,null,null,null,null,null,null,null,null,null,null,null,null,{"$f":"IF(Tableau0141[[#This Row],[ELEMENTS]]=\"\",\"\",DU60+1)","v":""},null,null,null,null,null,null,null,null,null,null,null,null,null,null,{"$f":"IF(Tableau011043[[#This Row],[ELEMENTS]]=\"\",\"\",EJ60+1)","v":""},null,null,null,null,null,null,null,null,null,null,null,null,null,null,{"$f":"IF(Tableau011445[[#This Row],[ELEMENTS]]=\"\",\"\",EY60+1)","v":""}]
[null,null,null,null,{"$f":"IF(Tableau01[[#This Row],[ELEMENTS]]=\"\",\"\",E61+1)","v":""},null,null,null,null,null,null,null,null,null,null,null,null,null,null,{"$f":"IF(Tableau0110[[#This Row],[ELEMENTS]]=\"\",\"\",T61+1)","v":""},null,null,null,null,null,null,null,null,null,null,null,null,null,null,{"$f":"IF(Tableau0114[[#This Row],[ELEMENTS]]=\"\",\"\",AI61+1)","v":""},null,null,null,null,null,null,null,null,null,null,null,null,null,null,{"$f":"IF(Tableau011017[[#This Row],[ELEMENTS]]=\"\",\"\",AX61+1)","v":""},null,null,null,null,null,null,null,null,null,null,null,null,null,null,{"$f":"IF(Tableau0120[[#This Row],[ELEMENTS]]=\"\",\"\",BM61+1)","v":""},null,null,null,null,null,null,null,null,null,null,null,null,null,null,{"$f":"IF(Tableau011023[[#This Row],[ELEMENTS]]=\"\",\"\",CB61+1)","v":""},null,null,null,null,null,null,null,null,null,null,null,null,null,null,{"$f":"IF(Tableau011426[[#This Row],[ELEMENTS]]=\"\",\"\",CQ61+1)","v":""},null,null,null,null,null,null,null,null,null,null,null,null,null,null,{"$f":"IF(Tableau01101729[[#This Row],[ELEMENTS]]=\"\",\"\",DF61+1)","v":""},null,null,null,null,null,null,null,null,null,null,null,null,null,null,{"$f":"IF(Tableau0141[[#This Row],[ELEMENTS]]=\"\",\"\",DU61+1)","v":""},null,null,null,null,null,null,null,null,null,null,null,null,null,null,{"$f":"IF(Tableau011043[[#This Row],[ELEMENTS]]=\"\",\"\",EJ61+1)","v":""},null,null,null,null,null,null,null,null,null,null,null,null,null,null,{"$f":"IF(Tableau011445[[#This Row],[ELEMENTS]]=\"\",\"\",EY61+1)","v":""}]
[null,null,null,null,{"$f":"IF(Tableau01[[#This Row],[ELEMENTS]]=\"\",\"\",E62+1)","v":""},null,null,null,null,null,null,null,null,null,null,null,null,null,null,{"$f":"IF(Tableau0110[[#This Row],[ELEMENTS]]=\"\",\"\",T62+1)","v":""},null,null,null,null,null,null,null,null,null,null,null,null,null,null,{"$f":"IF(Tableau0114[[#This Row],[ELEMENTS]]=\"\",\"\",AI62+1)","v":""},null,null,null,null,null,null,null,null,null,null,null,null,null,null,{"$f":"IF(Tableau011017[[#This Row],[ELEMENTS]]=\"\",\"\",AX62+1)","v":""},null,null,null,null,null,null,null,null,null,null,null,null,null,null,{"$f":"IF(Tableau0120[[#This Row],[ELEMENTS]]=\"\",\"\",BM62+1)","v":""},null,null,null,null,null,null,null,null,null,null,null,null,null,null,{"$f":"IF(Tableau011023[[#This Row],[ELEMENTS]]=\"\",\"\",CB62+1)","v":""},null,null,null,null,null,null,null,null,null,null,null,null,null,null,{"$f":"IF(Tableau011426[[#This Row],[ELEMENTS]]=\"\",\"\",CQ62+1)","v":""},null,null,null,null,null,null,null,null,null,null,null,null,null,null,{"$f":"IF(Tableau01101729[[#This Row],[ELEMENTS]]=\"\",\"\",DF62+1)","v":""},null,null,null,null,null,null,null,null,null,null,null,null,null,null,{"$f":"IF(Tableau0141[[#This Row],[ELEMENTS]]=\"\",\"\",DU62+1)","v":""},null,null,null,null,null,null,null,null,null,null,null,null,null,null,{"$f":"IF(Tableau011043[[#This Row],[ELEMENTS]]=\"\",\"\",EJ62+1)","v":""},null,null,null,null,null,null,null,null,null,null,null,null,null,null,{"$f":"IF(Tableau011445[[#This Row],[ELEMENTS]]=\"\",\"\",EY62+1)","v":""}]
[null,null,null,null,{"$f":"IF(Tableau01[[#This Row],[ELEMENTS]]=\"\",\"\",E63+1)","v":""},null,null,null,null,null,null,null,null,null,null,null,null,null,null,{"$f":"IF(Tableau0110[[#This Row],[ELEMENTS]]=\"\",\"\",T63+1)","v":""},null,null,null,null,null,null,null,null,null,null,null,null,null,null,{"$f":"IF(Tableau0114[[#This Row],[ELEMENTS]]=\"\",\"\",AI63+1)","v":""},null,null,null,null,null,null,null,null,null,null,null,null,null,null,{"$f":"IF(Tableau011017[[#This Row],[ELEMENTS]]=\"\",\"\",AX63+1)","v":""},null,null,null,null,null,null,null,null,null,null,null,null,null,null,{"$f":"IF(Tableau0120[[#This Row],[ELEMENTS]]=\"\",\"\",BM63+1)","v":""},null,null,null,null,null,null,null,null,null,null,null,null,null,null,{"$f":"IF(Tableau011023[[#This Row],[ELEMENTS]]=\"\",\"\",CB63+1)","v":""},null,null,null,null,null,null,null,null,null,null,null,null,null,null,{"$f":"IF(Tableau011426[[#This Row],[ELEMENTS]]=\"\",\"\",CQ63+1)","v":""},null,null,null,null,null,null,null,null,null,null,null,null,null,null,{"$f":"IF(Tableau01101729[[#This Row],[ELEMENTS]]=\"\",\"\",DF63+1)","v":""},null,null,null,null,null,null,null,null,null,null,null,null,null,null,{"$f":"IF(Tableau0141[[#This Row],[ELEMENTS]]=\"\",\"\",DU63+1)","v":""},null,null,null,null,null,null,null,null,null,null,null,null,null,null,{"$f":"IF(Tableau011043[[#This Row],[ELEMENTS]]=\"\",\"\",EJ63+1)","v":""},null,null,null,null,null,null,null,null,null,null,null,null,null,null,{"$f":"IF(Tableau011445[[#This Row],[ELEMENTS]]=\"\",\"\",EY63+1)","v":""}]
[null,null,null,null,{"$f":"IF(Tableau01[[#This Row],[ELEMENTS]]=\"\",\"\",E64+1)","v":""},null,null,null,null,null,null,null,null,null,null,null,null,null,null,{"$f":"IF(Tableau0110[[#This Row],[ELEMENTS]]=\"\",\"\",T64+1)","v":""},null,null,null,null,null,null,null,null,null,null,null,null,null,null,{"$f":"IF(Tableau0114[[#This Row],[ELEMENTS]]=\"\",\"\",AI64+1)","v":""},null,null,null,null,null,null,null,null,null,null,null,null,null,null,{"$f":"IF(Tableau011017[[#This Row],[ELEMENTS]]=\"\",\"\",AX64+1)","v":""},null,null,null,null,null,null,null,null,null,null,null,null,null,null,{"$f":"IF(Tableau0120[[#This Row],[ELEMENTS]]=\"\",\"\",BM64+1)","v":""},null,null,null,null,null,null,null,null,null,null,null,null,null,null,{"$f":"IF(Tableau011023[[#This Row],[ELEMENTS]]=\"\",\"\",CB64+1)","v":""},null,null,null,null,null,null,null,null,null,null,null,null,null,null,{"$f":"IF(Tableau011426[[#This Row],[ELEMENTS]]=\"\",\"\",CQ64+1)","v":""},null,null,null,null,null,null,null,null,null,null,null,null,null,null,{"$f":"IF(Tableau01101729[[#This Row],[ELEMENTS]]=\"\",\"\",DF64+1)","v":""},null,null,null,null,null,null,null,null,null,null,null,null,null,null,{"$f":"IF(Tableau0141[[#This Row],[ELEMENTS]]=\"\",\"\",DU64+1)","v":""},null,null,null,null,null,null,null,null,null,null,null,null,null,null,{"$f":"IF(Tableau011043[[#This Row],[ELEMENTS]]=\"\",\"\",EJ64+1)","v":""},null,null,null,null,null,null,null,null,null,null,null,null,null,null,{"$f":"IF(Tableau011445[[#This Row],[ELEMENTS]]=\"\",\"\",EY64+1)","v":""}]
[]
[null,null,null,null,"OPTIONS",null,null,null,null,null,null,null,null,null,null,null,null,null,null,"OPTIONS",null,null,null,null,null,null,null,null,null,null,null,null,null,null,"OPTIONS",null,null,null,null,null,null,null,null,null,null,null,null,null,null,"OPTIONS",null,null,null,null,null,null,null,null,null,null,null,null,null,null,"OPTIONS",null,null,null,null,null,null,null,null,null,null,null,null,null,null,"OPTIONS",null,null,null,null,null,null,null,null,null,null,null,null,null,null,"OPTIONS",null,null,null,null,null,null,null,null,null,null,null,null,null,null,"OPTIONS",null,null,null,null,null,null,null,null,null,null,null,null,null,null,"OPTIONS",null,null,null,null,null,null,null,null,null,null,null,null,null,null,"OPTIONS",null,null,null,null,null,null,null,null,null,null,null,null,null,null,"OPTIONS"]
[null,null,null,null,"Colonne1","ELEMENTS","MOC","DN","DEBIT","PUISSANCE","QTE","PR","K",null,null,null,null,null,null,"Colonne1","ELEMENTS","MOC","DN","DEBIT","PUISSANCE","QTE","PR","K",null,null,null,null,null,null,"Colonne1","ELEMENTS","MOC","DN","DEBIT","PUISSANCE","QTE","PR","K",null,null,null,null,null,null,"Colonne1","ELEMENTS","MOC","DN","DEBIT","PUISSANCE","QTE","PR","K",null,null,null,null,null,null,"Colonne1","ELEMENTS","MOC","DN","DEBIT","PUISSANCE","QTE","PR","K",null,null,null,null,null,null,"Colonne1","ELEMENTS","MOC","DN","DEBIT","PUISSANCE","QTE","PR","K",null,null,null,null,null,null,"Colonne1","ELEMENTS","MOC","DN","DEBIT","PUISSANCE","QTE","PR","K",null,null,null,null,null,null,"Colonne1","ELEMENTS","MOC","DN","DEBIT","PUISSANCE","QTE","PR","K",null,null,null,null,null,null,"Colonne1","ELEMENTS","MOC","DN","DEBIT","PUISSANCE","QTE","PR","K",null,null,null,null,null,null,"Colonne1","ELEMENTS","MOC","DN","DEBIT","PUISSANCE","QTE","PR","K",null,null,null,null,null,null,"Colonne1","ELEMENTS","MOC","DN","DEBIT","PUISSANCE","QTE","PR","K"]
[null,null,null,null,1,"Cloth Ultrasonic welding machine",null,null,null,null,1,6000,1.5674999999999999,null,null,null,null,null,null,null,null,null,null,null,null,null,null,null,null,null,null,null,null,null,1,"Cloth Ultrasonic welding machine",null,null,null,null,1,7500,1.5674999999999999]
[null,null,null,null,2,"Automatic lubrication system",null,null,null,null,1,12000,1.5674999999999999,null,null,null,null,null,null,null,null,null,null,null,null,null,null,null,null,null,null,null,null,null,2,"Filtrate Pump 1","CD4Mcu",null,442,45,1,31021.559999999998,1.5674999999999999]
[null,null,null,null,null,null,null,null,null,null,null,null,null,null,null,null,null,null,null,null,null,null,null,null,null,null,null,null,null,null,null,null,null,null,3,"Filtrate Pump 2","CD4Mcu",null,37,7.5,1,9610.56,1.25]
[null,null,null,null,null,null,null,null,null,null,null,null,null,null,null,null,null,null,null,null,null,null,null,null,null,null,null,null,null,null,null,null,null,null,4,"Filtrate Pump 3","CD4Mcu",null,37,7.5,1,9610.56,1.25]
[null,null,null,null,null,null,null,null,null,null,null,null,null,null,null,null,null,null,null,null,null,null,null,null,null,null,null,null,null,null,null,null,null,null,5,"Cloth & Belt Wash Recirculating Pump","CD4MCu",null,20,5.5,1]
[null,null,null,null,null,null,null,null,null,null,null,null,null,null,null,null,null,null,null,null,null,null,null,null,null,null,null,null,null,null,null,null,null,null,6,"Vacuum Pump","Cast Iron",null,43020,1000,1,212400]
[null,null,null,null,null,null,null,null,null,null,null,null,null,null,null,null,null,null,null,null,null,null,null,null,null,null,null,null,null,null,null,null,null,null,7,"Moisture trap","316L",3000,null,null,1,25186.079999999998]
[null,null,null,null,null,null,null,null,null,null,null,null,null,null,null,null,null,null,null,null,null,null,null,null,null,null,null,null,null,null,null,null,null,null,9,"Commissioning Spare Parts",null,null,null,null,1,14142]
[null,null,null,null,null,null,null,null,null,null,null,null,null,null,null,null,null,null,null,null,null,null,null,null,null,null,null,null,null,null,null,null,null,null,10,"2 Year Spare Parts",null,null,null,null,1,50055.11]
[]
[]
[]
[]
[null,null,null,null,"A","Erection for 3 weeks",null,null,null,null,1,12647.125,2,null,null,null,null,null,null,null,null,null,null,null,null,null,null,null,null,null,null,null,null,null,"A","Erection for 8 weeks",null,null,null,null,1,75266,2]
[null,null,null,null,"B","Cold Commissioning for 1 week",null,null,null,null,1,4420,2,null,null,null,null,null,null,null,null,null,null,null,null,null,null,null,null,null,null,null,null,null,"B","Cold Commissioning for 1 week",null,null,null,null,1,13337,2]
[null,null,null,null,"C","Hot Commissioning for 5 weeks",null,null,null,null,1,20740,2,null,null,null,null,null,null,null,null,null,null,null,null,null,null,null,null,null,null,null,null,null,"C","Hot Commissioning for 3 weeks",null,null,null,null,1,42123,2]

{"sheet":"Offre NEW","index":31,"n_rows":92,"n_cols":20,"rows_kept":92,"cut":false,"hidden":false,"merged":[[3,18,3,19],[5,3,5,4],[3,12,3,14],[4,13,4,14],[5,13,5,14],[6,13,6,14],[5,5,5,6],[13,3,13,6],[15,3,15,6],[11,13,11,14],[9,13,9,14],[6,9,23,9],[6,8,23,8],[7,3,7,6],[8,3,8,6],[6,3,6,4],[6,5,6,6],[6,7,23,7],[1,10,1,11],[4,2,4,9],[5,1,23,1],[19,3,19,6],[20,3,20,6],[21,3,21,6],[22,3,22,6],[23,3,23,6],[17,3,17,6],[18,3,18,6],[9,3,9,6],[10,3,10,6],[11,3,11,6],[12,3,12,6],[16,3,16,6],[14,3,14,6]]}
[null,null,null,null,null,null,null,null,null,null,{"$f":"IF(Calculations!I9=\"SERIE 3\",'Séries 3-4-5'!B8,IF(Calculations!I9=\"SERIE 4\",'Séries 3-4-5'!B8,IF(Calculations!I9=\"SERIE 5\",'Séries 3-4-5'!B8,'Série 2'!B10)))","v":"RIGHT"},{"$f":"IF(K1=\"RIGHT\",\"You can keep working\",IF(Calculations!I9=\"SERIE 2\",\"correct values in flowsheet série 2\",\"correct values in flowsheet séries 3-4-5\"))","v":"You can keep working"}]
[]
[null,null,"GB",null,null,null,null,null,null,null,null,null,null,null,null,null,null,3]
[null,null,null,null,null,null,null,null,null,null,null,"Country","INDONESIA",null,null,null,null,4,"Coefficient K 25/03/22"]
[null,null,{"$f":" IF(M4=\"Maroc\",\"ATTENTION : Destination Maroc --> inclure une ligne pour une inspection de la marchandise par BUREAU VERITAS au Mêle avant expédition\",\"\")","v":""},null,null,null,null,null,null,null,null,"Erection Time",8,"weeks",null,null,null,5,"EQ Eng",{"$f":"1.6*1.03*1.01*1.015*1.045","v":1.7654723239999999}]
[null,1,{"$f":"IF($C$3=\"FR\",\"Filtre\",\"Filter\")","v":"Filter"},{"$f":"IF($C$3=\"FR\",\"Taille (m²)\",\"Size (m²)\")","v":"Size (m²)"},null,{"$f":"IF($C$3=\"FR\",\"Largeur (m)\",\"Width (m)\")","v":"Width (m)"},null,{"$f":"IF($C$3=\"FR\",\"Qté\",\"Qty\")","v":"Qty"},"Prix Revient (€)","K",null,"Cold Commissioning Time",1,"weeks",null,null,null,6,"Buy & Sell",{"$f":"1.5*1.045","v":1.5674999999999999}]
[null,null,{"$f":"IF(C3=\"FR\",\"Filtre\",\"Filter\")","v":"Filter"},{"$f":"Calculations!$C$9","v":90},null,{"$f":"Calculations!$E$9/1000","v":3},null,1,{"$f":"IF(Calculations!I9=\"SERIE 2\",'Cost List2.xls'!U100,'Cost list'!V101)","v":432478.12552315055},{"$f":"T5","v":1.7654723239999999},null,"Hot Commissioning Time",3,"weeks",null,null,null,7,"Services or Spares",{"$f":"2","v":2}]
[null,null,null,null,null,null,null,null,null,null,null,null,null,null,null,null,null,8,"Packing or Transport",1.25]
[null,null,null,{"$f":"IF($C$3=\"FR\",\"Matériau\",\"MOC\")","v":"MOC"},null,null,null,null,null,null,null,null,null,null,null,null,null,9]
[null,null,{"$f":"IF($C$3=\"FR\",\"Charpente\",\"Frame\")","v":"Frame"},{"$f":"Calculations!$E$22","v":"316L"},null,null,null,null,null,null,null,"INCOTERM","FCA","Le Mêle sur Sarthe",null,null,null,10,"Mise à jour PR quotes",2022]
[null,null,{"$f":"IF($C$3=\"FR\",\"Boîte à vide\",\"Vacuum box\")","v":"Vacuum box"},{"$f":"Calculations!$E$11","v":"U45N"},null,null,null,null,null,null,null,null,null,null,null,null,null,11]
[null,null,{"$f":"IF($C$3=\"FR\",\"Alimentateur\",\"Slurry Feeder\")","v":"Slurry Feeder"},{"$f":"Calculations!$E$13","v":"U45N"},null,null,null,null,null,null,null,"Delivery Time",45,"weeks",null,null,null,12]
[null,null,{"$f":"IF($C$3=\"FR\",\"Goulotte de lavage\",\"Cake Washing Feeder\")","v":"Cake Washing Feeder"},{"$f":"Calculations!$E$14","v":"U45N"},null,null,null,null,null,null,null,null,null,null,null,null,null,13]
[null,null,{"$f":"IF($C$3=\"FR\",\"Bac de récupération\",\"Collection through\")","v":"Collection through"},{"$f":"Calculations!$E$17","v":"316L"},null,null,null,null,null,null,null,"Offer Type","Budget",null,null,null,null,14]
[null,null,{"$f":"IF($C$3=\"FR\",\"Trémie de décharge gâteau\",\"Cake discharge hopper\")","v":"Cake discharge hopper"},{"$f":"Calculations!$E$16","v":"316L"},null,null,null,null,null,null,null,null,null,null,null,null,null,15]
[null,null,{"$f":"IF($C$3=\"FR\",\"Rouleaux supports toile & bande\",\"Cloth & belt support rollers\")","v":"Cloth & belt support rollers"},{"$f":"Calculations!$E$19","v":"316L"},null,null,null,null,null,null,null,"Application Engineer","Baptiste Joly",null,null,null,null,16]
[null,null,{"$f":"IF($C$3=\"FR\",\"Bande\",\"Belt\")","v":"Belt"},{"$f":"Calculations!$H$23","v":"SBR"},null,null,null,null,null,null,null,null,null,null,null,null,null,17]
[null,null,{"$f":"IF($C$3=\"FR\",\"Talons\",\"Curbs\")","v":"Curbs"},"Natural rubber",null,null,null,null,null,null,null,"Regional Sales Manager","Wei Song",null,null,null,null,18]
[null,null,{"$f":"IF($C$3=\"FR\",\"Toile\",\"Filter Cloth\")","v":"Filter Cloth"},null,null,null,null,null,null,null,null,null,null,null,null,null,null,19]
[null,null,{"$f":"IF($C$3=\"FR\",\"Réducteur type planétaire\",\"Gear box type planetary\")","v":"Gear box type planetary"},null,null,null,null,null,null,null,null,"RFQ received on ",{"$f":"TODAY()","v":"2026-02-11"},null,null,null,null,20]
[null,null,{"$f":"IF($C$3=\"FR\",\"Protection grillagée normes CE\",\"Safety guards according CE rules\")","v":"Safety guards according CE rules"}]
[null,null,{"$f":"IF($C$3=\"FR\",\"Boitier de commande locale\",\"Local control panel\")","v":"Local control panel"},null,null,null,null,null,null,null,null,"China or Europe quoting","China"]
[null,null,null,{"$f":"IF($C$3=\"FR\",\"Puissance (kW)\",\"Power (kW)\")","v":"Power (kW)"}]
[null,null,{"$f":"IF($C$3=\"FR\",\"Moteur électrique\",\"Electric motor\")","v":"Electric motor"},{"$f":"Calculations!$R$25","v":"90 kW"}]
[]
[null,null,"Accessoires","Matériau","Ø (mm)","Débit (m3/h)","Puissance (kW)","Qté","Prix Revient (€)","K"]
[null,2,{"$f":"IF(C3=\"FR\",\"Collecteur\",\"Manifold\")","v":"Manifold"},"FRP",{"$f":"Calculations!$E$32","v":700},null,null,1,{"$f":"29697/1.35*0.95","v":20897.888888888887},{"$f":"$T$5","v":1.7654723239999999},null,"prix HC 01/25 sans interco pour Ø800"]
[null,3,{"$f":"IF(C3=\"FR\",\"Ballon Cloudy\",\"Cloudy Port Receiver\")","v":"Cloudy Port Receiver"},{"$f":"Calculations!$C$44","v":"316L"},null,null,null,0,null,{"$f":"$T$5","v":1.7654723239999999}]
[null,4,{"$f":"IF(C3=\"FR\",\"Ballon 1\",\"Filtrate Receiver 1\")","v":"Filtrate Receiver 1"},{"$f":"Calculations!$C$44","v":"316L"},{"$f":"Calculations!$E$44","v":3400},null,null,1,{"$f":"337253*0.12","v":40470.36},1.7654723239999999,null,"prix HC 09/25 en RMB sans interco"]
[null,5,{"$f":"IF(C3=\"FR\",\"Ballon 2\",\"Filtrate Receiver 2\")","v":"Filtrate Receiver 2"},{"$f":"Calculations!$C$44","v":"316L"},{"$f":"Calculations!$E$44","v":3400},null,null,1,{"$f":"I29","v":40470.36},1.7654723239999999,null,"prix HC 09/25 en RMB sans interco"]
[null,6,{"$f":"IF(C3=\"FR\",\"Ballon 3\",\"Filtrate Receiver 3\")","v":"Filtrate Receiver 3"},{"$f":"Calculations!$C$44","v":"316L"},{"$f":"Calculations!$E$44","v":3400},null,null,1,{"$f":"I30","v":40470.36},1.7654723239999999,null,"prix HC 09/25 en RMB sans interco"]
[null,7,{"$f":"IF(C3=\"FR\",\"Ballon 4\",\"Filtrate Receiver 4\")","v":"Filtrate Receiver 4"},{"$f":"Calculations!$C$44","v":"316L"},{"$f":"Calculations!$E$44","v":3400},null,null,0,null,1.7654723239999999]
[null,8,{"$f":"IF(C3=\"FR\",\"Cyclone\",\"Moisture trap\")","v":"Moisture trap"},{"$f":"Calculations!$C$46","v":"316L"},{"$f":"Calculations!$E$46","v":3000},null,null,0,{"$f":"209884*0.12","v":25186.079999999998},1.7654723239999999,null,"prix HC 09/25 en RMB sans interco"]
[null,9,{"$f":"IF(C3=\"FR\",\"Laveur de gaz\",\"Scrubber\")","v":"Scrubber"},{"$f":"Calculations!$C$48","v":"316L"},{"$f":"Calculations!$E$48","v":3000},null,null,1,{"$f":"221105*0.12","v":26532.6},1.7654723239999999,null,"prix HC 09/25 en RMB sans interco"]
[null,10,{"$f":"IF(C3=\"FR\",\"Bac Barométrique Cloudy \",\"Cloudy Port Barometric Tank\")","v":"Cloudy Port Barometric Tank"},null,null,null,null,0,null,1.7654723239999999,null,"prix HC 09/25 en RMB sans interco"]
[null,11,{"$f":"IF(C3=\"FR\",\"Bac Barométrique 1 \",\"Filtrate Receiver Barometric Tank 1\")","v":"Filtrate Receiver Barometric Tank 1"},"316L","38 m3",null,null,0,null,1.7654723239999999,null,"prix HC 09/25 en RMB sans interco"]
[null,12,{"$f":"IF(C3=\"FR\",\"Bac Barométrique 2 \",\"Filtrate Receiver Barometric Tank 2\")","v":"Filtrate Receiver Barometric Tank 2"},"316L","4,5 m3",null,null,0,null,{"$f":"$T$5","v":1.7654723239999999},null,"prix HC 09/25 en RMB sans interco"]
[null,13,{"$f":"IF(C3=\"FR\",\"Bac Barométrique 3 \",\"Filtrate Receiver Barometric Tank 3\")","v":"Filtrate Receiver Barometric Tank 3"},"316L","4,5 m3",null,null,0,null,1.7654723239999999,null,"prix HC 09/25 en RMB sans interco"]
[null,14,{"$f":"IF(C3=\"FR\",\"Bac Barométrique 4 \",\"Filtrate Receiver Barometric Tank 4\")","v":"Filtrate Receiver Barometric Tank 4"},"316L","4,5 m3",null,null,0,null,1.7654723239999999,null,"prix HC 09/25 en RMB sans interco"]
[null,15,{"$f":"IF(C3=\"FR\",\"Bac Recirculation Anneau Liquide\",\"Liquid Ring Water Recirculating Tank\")","v":"Liquid Ring Water Recirculating Tank"},"Polyethylène",null,null,null,0,null,1.7654723239999999,null,"prix HC 09/25 en RMB sans interco"]
[null,16,{"$f":"IF(C3=\"FR\",\"Bac Recirculation Lavage Toile & Bande\",\"Cloth & Belt Wash Recirculating Tank\")","v":"Cloth & Belt Wash Recirculating Tank"},{"$f":"IF(Calculations!H16=\"Basic ou option\",Calculations!E16,Calculations!H16)","v":"316L"},"2 m3",null,null,1,{"$f":"70796*0.12","v":8495.52},1.7654723239999999,null,"prix HC 10/25 en RMB sans interco"]
[null,17,{"$f":"IF(C3=\"FR\",\"Pompe Cloudy\",\"Cloudy Port Pump\")","v":"Cloudy Port Pump"},null,null,null,11,0,null,{"$f":"$T$6","v":1.5674999999999999}]
[null,18,{"$f":"IF(C3=\"FR\",\"Pompe Filtrats 1\",\"Filtrate Pump 1\")","v":"Filtrate Pump 1"},"CD4Mcu",null,{"$f":"ROUNDUP(Flowsheet!H35,0)","v":442},45,0,null,{"$f":"$T$6","v":1.5674999999999999}]
[null,19,{"$f":"IF(C3=\"FR\",\"Pompe Filtrats 2\",\"Filtrate Pump 2\")","v":"Filtrate Pump 2"},"CD4Mcu",null,{"$f":"ROUNDUP(Flowsheet!M35,0)","v":37},7.5,0,null,1.5674999999999999]
[null,20,{"$f":"IF(C3=\"FR\",\"Pompe Filtrats 3\",\"Filtrate Pump 3\")","v":"Filtrate Pump 3"},"CD4Mcu",null,154,22,0,null,1.5674999999999999]
[null,21,{"$f":"IF(C3=\"FR\",\"Pompe Filtrats 4\",\"Filtrate Pump 4\")","v":"Filtrate Pump 4"},"CD4Mcu",null,{"$f":"F44","v":37},7.5,0,null,1.5674999999999999]
[null,22,{"$f":"IF(C3=\"FR\",\"Pompe Recirculation Anneau Liquide\",\"Liquid Ring Water Recirculating Pump\")","v":"Liquid Ring Water Recirculating Pump"},null,null,null,55,0,null,1.5674999999999999]
[null,23,{"$f":"IF(C3=\"FR\",\"Pompe Recirculation Lavage T&B\",\"Cloth & Belt Wash Recirculating Pump\")","v":"Cloth & Belt Wash Recirculating Pump"},"CD4MCu",null,20,5.5,0,null,1.5674999999999999]
[null,24,{"$f":"IF(C3=\"FR\",\"Pompe à Vide\",\"Vacuum Pump\")","v":"Vacuum Pump"},"Cast Iron",null,{"$f":"Calculations!N11","v":43020},1000,0,{"$f":"145885*0.12","v":17506.2},1.5674999999999999,null,"prix HC 09/25 en RMB avec interco"]
[null,25,{"$f":"IF(C3=\"FR\",\"Passerelles (0,85 de largeur - \"&Calculations!I31&\")\",\"Walkways (0.85 width - \"&Calculations!I31&\")\")","v":"Walkways (0.85 width - N/A)"},{"$f":"IF(C3=\"GB\",\"FRP frame & \"&Calculations!J31&\" duckboard\",\"Bati en FRP & \"&Calculations!J31&\" caillebotis\")","v":"FRP frame & N/A duckboard"},null,null,null,0,null,{"$f":"$T$5","v":1.7654723239999999}]
[null,26,{"$f":"IF(C3=\"FR\",\"Tuyauterie\",\"Piping\")","v":"Piping"},null,null,null,null,0,null,{"$f":"$T$5","v":1.7654723239999999}]
[null,27,{"$f":"IF(C3=\"FR\",\"Armoire Puissance / Contrôle\",\"Electrical & Control Cabinet\")","v":"Electrical & Control Cabinet"},null,null,null,null,0,{"$f":"'Instrum et Elec'!H36","v":69775},1.7654723239999999]
[null,28,{"$f":"IF(C3=\"FR\",\"Instrumentation & Vannes\",\"Instrumentation & Valves\")","v":"Instrumentation & Valves"},null,null,null,null,1,{"$f":"+'Instrum et Elec'!V36","v":8200},1.7654723239999999]
[null,29,"Engineering","Cat. 1 (HASLER Standard)",null,null,null,1,null,{"$f":"T7","v":2}]
[null,30,{"$f":"IF(C3=\"FR\",\"Factory Acceptance Test incluant :\nInspection visuelle dimensionnelle \nRevue documentaire (Manufacturer data Book)\",\"Factory Acceptance Test including :\nVisual dimensional inspection\nDocumentation review and approval (Manufacturer data Book)\")","v":"Factory Acceptance Test including :\nVisual dimensional inspection\nDocumentation review and approval (Manufacturer data Book)"},null,null,null,null,0,{"$f":"#REF!*50","v":{"$error":"#REF!"}},{"$f":"T7","v":2}]
[null,31,{"$f":"IF(C4=\"FR\",\"Certification CE\",\"CE Certification\")","v":"CE Certification"},null,null,null,null,0,null,{"$f":"$T$5","v":1.7654723239999999}]
[null,32,{"$f":"IF(C4=\"FR\",\"Rouleau Presseur\",\"Pressure Roller\")","v":"Pressure Roller"},"U45N",null,null,3,1,{"$f":"16426*0.12+3000+2000","v":6971.12},{"$f":"$T$5","v":1.7654723239999999},null,"prix HC 09/25 en RMB sans interco + estimations (3000 motored et 2000 cadre)"]
[null,33,{"$f":"IF(C3=\"FR\",\"Rampe et pompe à Haute Pression\",\"High Pressure pump & Ramp \")","v":"High Pressure pump & Ramp "},null,null,null,15,1,14800,{"$f":"$T$5","v":1.7654723239999999},null,"PR : B10 = 12800 € / B15 = 13500 € / B20 = 14000 € / B30 = 14800 € / B40 = 20500 € / B42 = 21000 €"]
[null,34,"Fume Hood",null,null,null,null,1,{"$f":"52660*0.12","v":6319.2},{"$f":"$T$5","v":1.7654723239999999},null,"prix HC 09/25 en RMB sans interco"]
[null,35,"Drip Pan",null,null,null,null,0,null,1.7654723239999999]
[null,36,"Cake pressure roller",null,null,null,null,0,{"$f":"16426*0.12","v":1971.12},null,null,"Ajouter le moteur !"]
[null,37,"Hydrocyclone",null,null,null,null,1,{"$f":"210620*0.12","v":25274.399999999998},null,null,"prix 09/25 HC pour hydrocyclone AKW en RMB sans interco"]
[null,38,null,null,null,null,null,0]
[null,39,null,null,null,null,null,0]
[null,40,null,null,null,null,null,0]
[null,41,null,null,null,null,null,0]
[]
[]
[null,"Colonne1","Options","Colonne3","Colonne4","Colonne5","Colonne6","Qté","Colonne8","Colonne9"]
[null,1,"Cloth Ultrasonic welding machine",null,null,null,null,1,7500,{"$f":"$T$6","v":1.5674999999999999}]
[null,2,{"$f":"IF(C31=\"FR\",\"Pompe Filtrats 1\",\"Filtrate Pump 1\")","v":"Filtrate Pump 1"},"CD4Mcu",null,{"$f":"ROUNDUP(Flowsheet!H35,0)","v":442},90,1,{"$f":"258513*0.12","v":31021.559999999998},{"$f":"$T$6","v":1.5674999999999999},null,"prix HC 09/25 en RMB sans interco"]
[null,3,{"$f":"IF(C31=\"FR\",\"Pompe Filtrats 2\",\"Filtrate Pump 2\")","v":"Filtrate Pump 2"},"CD4Mcu",null,{"$f":"ROUNDUP(Flowsheet!M35,0)","v":37},15,1,{"$f":"80088*0.12","v":9610.56},{"$f":"$T$8","v":1.25},null,"prix HC 09/25 en RMB sans interco"]
[null,4,{"$f":"IF(C31=\"FR\",\"Pompe Filtrats 3\",\"Filtrate Pump 3\")","v":"Filtrate Pump 3"},"CD4Mcu",null,{"$f":"F72","v":37},15,1,{"$f":"I72","v":9610.56},1.25,null,"prix HC 09/25 en RMB sans interco"]
[null,5,{"$f":"IF(C29=\"FR\",\"Pompe Recirculation Lavage T&B\",\"Cloth & Belt Wash Recirculating Pump\")","v":"Cloth & Belt Wash Recirculating Pump"},"CD4MCu",null,11,5.5,1,{"$f":"57257*0.12","v":6870.84},null,null,"prix HC 10/25 en RMB sans interco"]
[null,6,{"$f":"IF(C29=\"FR\",\"Pompe à Vide\",\"Vacuum Pump + accessories for total recirculation\")","v":"Vacuum Pump + accessories for total recirculation"},"Cast Iron",null,{"$f":"Calculations!N11","v":43020},450,2,{"$f":"1770000*0.12*0.5","v":106200},null,null,"prix HC 10/25 en RMB avec interco"]
[null,7,{"$f":"IF(C46=\"FR\",\"Cyclone\",\"Moisture trap\")","v":"Moisture trap"},{"$f":"Calculations!$C$46","v":"316L"},{"$f":"Calculations!$E$46","v":3000},null,null,1,{"$f":"209884*0.12","v":25186.079999999998},null,null,"prix HC 09/25 en RMB sans interco"]
[null,8,"Local control panel",null,null,null,null,1,{"$f":"'Instrum et Elec'!G33","v":11275}]
[null,9,{"$f":"IF(C7=\"FR\",\"PDR Commissioning\",\"Commissioning Spare Parts\")","v":"Commissioning Spare Parts"},null,null,null,null,1,{"$f":"'PdR ENG'!M65/2","v":5962.8110440166056}]
[null,10,{"$f":"IF(C6=\"FR\",\"PDR 2 Ans\",\"2 Year Spare Parts\")","v":"2 Year Spare Parts"},null,null,null,null,1,{"$f":"'PdR ENG'!O65/2","v":25517.543132049817}]
[]
[]
[null,"Colonne10","Services","Colonne12","Colonne13","Colonne14","Colonne15","Qté","Colonne17","Colonne18"]
[null,"A",{"$f":"IF(C3=\"FR\",\"Supervision de montage\",\"Erection\")&IF(C3=\"FR\",\" pour \",\" for \")&M5&IF(C3=\"FR\",IF(M5=1,\" semaine\",\" semaines\"),IF(M5=1,\" week\",\" weeks\"))","v":"Erection for 8 weeks"},null,null,null,null,1,{"$f":"IF(M4=\"France\",'Service Calculation mounting'!H32,'Service Calculation mounting'!K32)","v":75266},{"$f":"$T$7","v":2},null,"Ajouter le coût de transport de la caisse collage talons au prix global"]
[null,"B",{"$f":"\"Cold Commissioning \"&IF(C3=\"GB\",\"for \",\"pour \")&M6&IF(C3=\"GB\",IF(M6>1,\" weeks\",\" week\"),IF(M6>1,\" semaines\",\" semaine\"))","v":"Cold Commissioning for 1 week"},null,null,null,null,1,{"$f":"IF(M4=\"France\",'Service Calculation cold comm'!H31,'Service Calculation cold comm'!K31)","v":13337},{"$f":"$T$7","v":2}]
[null,"C",{"$f":"\"Hot Commissioning \"&IF(C3=\"GB\",\"for \",\"pour \")&M7&IF(C3=\"GB\",IF(M7>1,\" weeks\",\" week\"),IF(M7>1,\" semaines\",\" semaine\"))","v":"Hot Commissioning for 3 weeks"},null,null,null,null,1,{"$f":"'Service Calculation hot comm'!K31","v":42123},2]
[null,"D",{"$f":"IF(C3=\"FR\",\"PDR Commissioning\",\"Commissioning Spare Parts\")","v":"Commissioning Spare Parts"},null,null,null,null,0,{"$f":"'PdR ENG'!M65/2","v":5962.8110440166056},2]
[null,"E",{"$f":"IF(C3=\"FR\",\"PDR 1 An\",\"One Year Spare Parts\")","v":"One Year Spare Parts"},null,null,null,null,0,{"$f":"'PdR ENG'!N65/2","v":5054.8110440166056},2]
[null,"F",{"$f":"IF(C3=\"FR\",\"PDR 2 Ans\",\"2 Year Spare Parts\")","v":"2 Year Spare Parts"},null,null,null,null,0,{"$f":"'PdR ENG'!O65/2","v":25517.543132049817},2]
[null,"G",{"$f":"IF(C3=\"FR\",\"PDR Stratégiques\",\"Strategic Spare Parts\")","v":"Strategic Spare Parts"},null,null,null,null,0,{"$f":"'PdR ENG'!P65/2","v":14753.421044016606},2]
[null,"H",null,null,null,null,null,0]
[null,"I",null,null,null,null,null,0]
[null,"J",null,null,null,null,null,0]

{"sheet":"Dimens. scrubber","index":32,"n_rows":21,"n_cols":3,"rows_kept":21,"cut":false,"hidden":true,"merged":[[0,0,2,2]]}
["SCRUBBER AND NOZZLE CALCULATION"]
[]
[]
["Air speed :",30,"m/s"]
["Water / Air :",1.5E-3]
["Water speed",2,"m/s"]
[]
[]
["Vacuum pump flow :",{"$f":"Calculations!N11","v":43020},"m3/h"]
["Air temperature",{"$f":"Calculations!R49","v":65},"°C"]
[]
["Results"]
[]
["Piping : Theorical Ø",{"$f":"SQRT((B9/3600)*4/(PI()*$B$4))*1000","v":712.16132441053912},"mm"]
["Srubber : Theorical Ø",{"$f":"B14*SQRT($B$4/2)","v":2758.1889492550358},"mm"]
["Water flow :",{"$f":"($B$5*B9)*(SQRT(B10/25))","v":104.0514984995411},"m3/h"]
["Connection D : Theorical Ø :",{"$f":"SQRT((B16/3600)*4/(PI()*$B$6))*1000","v":135.64787061571874},"mm"]
["Nozzle : Theorical flow :",{"$f":"(B16*1000)/60","v":1734.1916416590182},"l/mn @ 1 bar"]
["Nozzle type :","Full cone"]
[null,"Angle @ 1 bar :","≈ 120°"]
[null,"Material :","316SS - PP - PVDF"]

{"sheet":"Services","index":33,"n_rows":21,"n_cols":6,"rows_kept":21,"cut":false,"hidden":true,"merged":[[20,1,20,4],[3,1,3,5],[8,1,8,4],[10,1,10,5],[14,1,14,4],[16,1,16,5]]}
[null,"Mise à jour 2024 - Prix juste des jours travaillés, de voyage et off"]
[null,"Le reste : frais hébergement et voyage facturés au frais réels + 15%"]
[]
[null,"Supervision Montage - HASLER GROUP"]
[null,"HASLER GROUP - Tarif Forfaitaire Journalier (Lundi au Vendredi)",{"$f":"IF('Offre NEW'!M4=\"France\",#REF!,#REF!)","v":{"$error":"#REF!"}},{"$f":"'Offre NEW'!M5*5","v":40},"jours",{"$f":"C5*D5","v":{"$error":"#REF!"}}]
[null,"HASLER GROUP - Tarif journée de voyage",{"$f":"IF('Offre NEW'!M4=\"France\",#REF!,#REF!)","v":{"$error":"#REF!"}},2,"jours",{"$f":"C6*D6","v":{"$error":"#REF!"}}]
[null,"HASLER GROUP - Tarif journée de repos",{"$f":"IF('Offre NEW'!M4=\"France\",#REF!,#REF!)","v":{"$error":"#REF!"}},{"$f":"2*'Offre NEW'!M5-2","v":14},"jours",{"$error":"#REF!"}]
[null,"HASLER GROUP - Pour 1x caisse d'outillage - Collage talon Location (transport à ajouter)",220,{"$f":"D5+D6+D7","v":56},"jours",12320]
[null,"Prix TOTAL",null,null,null,{"$f":"SUM(F5:F8)","v":{"$error":"#REF!"}}]
[]
[null,"COLD COMMISSIONING - HASLER GROUP"]
[null,"HASLER GROUP - Tarif Forfaitaire Journalier (Lundi au Vendredi)",{"$f":"IF('Offre NEW'!M$4=\"France\",#REF!,#REF!)","v":{"$error":"#REF!"}},{"$f":"'Offre NEW'!M6*5","v":5},"jours",{"$f":"C12*D12","v":{"$error":"#REF!"}}]
[null,"HASLER GROUP - Tarif journée de voyage",{"$f":"IF('Offre NEW'!M$4=\"France\",#REF!,#REF!)","v":{"$error":"#REF!"}},2,"jours",{"$f":"C13*D13","v":{"$error":"#REF!"}}]
[null,"HASLER GROUP - Tarif journée de repos",{"$f":"IF('Offre NEW'!M$4=\"France\",#REF!,#REF!)","v":{"$error":"#REF!"}},{"$f":"2*'Offre NEW'!M6-2","v":0},"jours",{"$error":"#REF!"}]
[null,"Prix TOTAL",null,null,null,{"$f":"SUM(F12:F14)","v":{"$error":"#REF!"}}]
[]
[null,"HOT COMMISSIONING - HASLER GROUP"]
[null,"HASLER GROUP - Tarif Forfaitaire Journalier (Lundi au Vendredi)",{"$f":"IF('Offre NEW'!M$4=\"France\",#REF!,#REF!)","v":{"$error":"#REF!"}},{"$f":"'Offre NEW'!M7*5","v":15},"jours",{"$f":"C18*D18","v":{"$error":"#REF!"}}]
[null,"HASLER GROUP - Tarif journée de voyage",{"$f":"IF('Offre NEW'!M$4=\"France\",#REF!,#REF!)","v":{"$error":"#REF!"}},2,"jours",{"$f":"C19*D19","v":{"$error":"#REF!"}}]
[null,"HASLER GROUP - Tarif journée de repos",{"$f":"IF('Offre NEW'!M$4=\"France\",#REF!,#REF!)","v":{"$error":"#REF!"}},{"$f":"2*'Offre NEW'!M7-2","v":4},"jours",{"$error":"#REF!"}]
[null,"Prix TOTAL",null,null,null,{"$f":"SUM(F18:F20)","v":{"$error":"#REF!"}}]

{"sheet":"Service Calculation mounting","index":34,"n_rows":54,"n_cols":20,"rows_kept":54,"cut":false,"hidden":false,"merged":[[2,6,2,10],[2,12,2,16],[3,6,3,7],[3,9,3,10],[3,12,3,13],[3,15,3,16],[35,6,35,7],[35,9,35,10],[35,12,35,13],[35,15,35,16],[31,0,31,2],[32,0,32,2],[34,6,34,7],[34,9,34,10],[34,12,34,13],[34,15,34,16]]}
["Only blue cell should be modified ",null,null,null,null,null,"Version of 13/03/2025"]
[null,null,null,null,null,null,null,null,null,null,null,null,null,null,null,null,null,null,null,"Instruction : "]
[null,null,null,null,null,null,"FILTRATION / KNEADING",null,null,null,null,null,"DOSING / MIXING"]
[null,null,null,null,null,null,"PRICE FOR France",null,null,"PRICE FOR Worlwide",null,null,"PRICE FOR France",null,null,"PRICE FOR Worlwide"]
["Details",null,"Quantity",null,"Unit price",null,"Unit price ","Total price ",null,"Unit price ","Total price ",null,"Unit price ","Prix total ",null,"Unit price ","Prix total ",null,null,"STEP 1 - Language"]
[null,null,null,null,null,null,"€","€",null,"€","€",null,"€","€",null,"€","€",null,null,"On sheet \"Configuration\" , cell B2 : Choose de correct language for your offer "]
["Working day  [Monday to Friday - 8h/day]",null,{"$f":"5*'Offre NEW'!M5","v":40},null,null,null,1017,{"$f":"G7*C7","v":40680},null,1222,{"$f":"C7*J7","v":48880},null,1152,{"$f":"C7*M7","v":46080},null,1352,{"$f":"C7*P7","v":54080}]
["Saturday working [8h/day]",null,0,null,null,null,1525,{"$f":"G8*C8","v":0},null,1830,{"$f":"C8*J8","v":0},null,1730,{"$f":"C8*M8","v":0},null,2030,{"$f":"C8*P8","v":0}]
["Sunday working [8h/day]",null,0,null,null,null,2033,{"$f":"G9*C9","v":0},null,2444,{"$f":"C9*J9","v":0},null,2304,{"$f":"C9*M9","v":0},null,2704,{"$f":"C9*P9","v":0},null,null,"STEP 2 - Country "]
["Travel day",null,2,null,null,null,760,{"$f":"G10*C10","v":1520},null,920,{"$f":"C10*J10","v":1840},null,860,{"$f":"C10*M10","v":1720},null,1010,{"$f":"C10*P10","v":2020},null,null,"On sheet \"Simplified P&L\" , cell B10 : Write ‘France’ (case sensitive) if the customer is in France, otherwise indicate the country. "]
["Day off invoiced",null,{"$f":"2*'Offre NEW'!M5-2","v":14},null,null,null,508,7112,null,610,8540,null,580,8120,null,680,9520,null,null,"On sheet \"Simplified P&L\" , cell G2 : Choose the corresponding DAS"]
["Day off not invoiced",null,0,null,null,null,0,0,null,0,0,null,0,0,null,{"$f":"0","v":0},0]
[]
["Detailed report ",null,0,null,null,null,973,0,null,973,0,null,null,null,null,null,null,null,null,"STEP 3 - Quotation option "]
[null,null,null,null,null,null,null,null,null,null,null,null,null,null,null,null,null,null,null,"On sheet \"Service Calculation\" ; cell A32 :"]
["Lodging fees (hotel + meals) per day",null,{"$f":"SUM(C7:C12)-1-C10+2","v":55},null,150,null,null,{"$f":"E16*C16","v":8250},null,null,{"$f":"E16*C16","v":8250},null,null,{"$f":"E16*C16","v":8250},null,null,{"$f":"E16*C16","v":8250},null,null,"Depending on the customer's requirements, select the costing option : "]
[null,null,null,null,null,null,null,null,null,null,null,null,null,null,null,null,null,null,null,"All-inclusive (Service + travel expenses + accommodation); Service + air ticket or only Service "]
["Bus",null,0,null,0,null,null,{"$f":"E18*C18","v":0},null,null,{"$f":"E18*C18","v":0},null,null,{"$f":"E18*C18","v":0},null,null,{"$f":"E18*C18","v":0}]
["Taxi",null,0,null,0,null,null,0,null,null,0,null,null,0,null,null,0,null,null,"STEP 4 - Service duration "]
["Train ticket",null,0,null,0,null,null,0,null,null,0,null,null,0,null,null,0,null,null,"On sheet \"Service Calculation\" ; cell C7 : nter the number of Working days on site [Mondayto Friday]"]
["Flight ticket",null,0,null,1000,null,null,0,null,null,0,null,null,0,null,null,0,null,null,"On sheet \"Service Calculation\" ; cell C8 : enter the number of Saturday working "]
[null,null,null,null,null,null,null,null,null,null,null,null,null,null,null,null,null,null,null,"On sheet \"Service Calculation\" ; cell C9 : enter the number of Sunday working "]
["Company car ",null,0,null,1.3,null,null,0,null,null,0,null,null,0,null,null,0,null,null,"On sheet \"Service Calculation\" ; cell C10 : enter the number of travelling days"]
["Car rental",null,{"$f":"SUM(C7:C14)","v":56},null,120,null,null,6720,null,null,6720,null,null,6720,null,null,6720,null,null,"On sheet \"Service Calculation\" ; cell C11 : enter the number of day off if the supervisor does not work on Saturday or Sunday"]
["Fees for toll and petrol ",null,1,null,700,null,null,700,null,null,{"$f":"E25*C25","v":700},null,null,700,null,null,700]
["Transport cost for curbs gluing box",null,1,null,null,null,null,0,null,null,0]
[null,null,null,null,null,null,null,null,null,null,null,null,null,null,null,null,null,null,null,"STEP 5 -  Report "]
["Fees for visa ",null,1,null,0,null,null,0,null,null,0,null,null,0,null,null,0,null,null,"On sheet \"Service Calculation\" ; cell C14 : add 1 detailled report, for mechanical or process audit and lab test"]
[]
["Administrative fees",null,1,null,336,null,null,336,null,null,336,null,null,336,null,null,336,null,null,"STEP 6 - Lodging fees"]
[null,null,null,null,null,null,null,null,null,null,null,null,null,null,null,null,null,null,null,"On sheet \"Service Calculation\" ; cell E16 : enter the amount accordinf to the country of intervention on the following link "]
[{"$f":"_xlfn.CONCAT(\"Total cost for \",'Service Calculation mounting'!C16-1,\" days on site\")","v":"Total cost for 54 days on site"},null,null,null,null,null,null,{"$f":"SUM(H7:H30)","v":65318},null,null,{"$f":"SUM(K7:K30)","v":75266},null,null,{"$f":"SUM(N6:N30)","v":71926},null,null,{"$f":"SUM(Q7:Q30)","v":81626}]
["Including flight ticket ",null,null,null,null,null,null,null,null,null,null,null,null,null,null,null,null,null,null,"STEP 7 - Travelling fees"]
[null,null,null,null,null,null,null,null,null,null,null,null,null,null,null,null,null,null,null,"On sheet \"Service Calculation\" ; cell C18 -> C21 and E18 -> E21 : enter the quantity and the amount for Bus, Taxi, Train or Flight ticket"]
["Estimation cost of flight ticket will be invoiced at real cost + 15%",null,null,null,null,null,{"$f":"H21","v":0},null,null,{"$f":"K21","v":0},null,null,{"$f":"N21","v":0},null,null,{"$f":"Q21","v":0},null,null,null,"Make an estimate on KDS Website (Link below) and add +15% "]
["Additional day ",null,null,null,null,null,{"$f":"G7+E24+E16","v":1287},null,null,{"$f":"J7+E24+E16","v":1492},null,null,{"$f":"M7+E24+E16","v":1422},null,null,{"$f":"P7+E24+E16","v":1622},null,null,null,"Choose a ticket that can be changed free of charge and, depending on the price, cancelled free of charge "]
[]
[]
[]
[null,null,null,null,null,null,null,null,null,null,null,null,null,null,null,null,null,null,null,"STEP 8 - Car"]
[null,null,null,null,null,null,null,null,null,null,null,null,null,null,null,null,null,null,null,"On sheet \"Service Calculation\" ; cell C23 : enter the number of km if the operation is less than 500 kms (round trip) from the place of departure (Greven, Neuchatel, Pont Evêque) "]
[null,null,null,null,null,null,null,null,null,null,null,null,null,null,null,null,null,null,null,"Link for number of kms"]
[]
[null,null,null,null,null,null,null,null,null,null,null,null,null,null,null,null,null,null,null,"On sheet \"Service Calculation\" ; cell C24 : For other locations, Fixed price of €120 per day for intervention from 1 to 5 days, for longest mission make an estimated cost on KDS +15% ; "]
[]
[]
[null,null,null,null,null,null,null,null,null,null,null,null,null,null,null,null,null,null,null,"On sheet \"Service Calculation\" ; cell C25 : enter fees for toll and petrol : make an estimate on ViaMichelin and add +15%"]
[]
[]
[null,null,null,null,null,null,null,null,null,null,null,null,null,null,null,null,null,null,null,"STEP 9 - VISA"]
[null,null,null,null,null,null,null,null,null,null,null,null,null,null,null,null,null,null,null,"On sheet \"Service Calculation\" ; cell C27 : If the country of intervention requires a VISA, add the cost of this VISA "]
[]
[]
[null,null,null,null,null,null,null,null,null,null,null,null,null,null,null,null,null,null,null,"On sheet \"PRICE_LIST\" ; cell B26 : Describe the scope of the service"]

{"sheet":"Service Calculation cold comm","index":35,"n_rows":53,"n_cols":20,"rows_kept":53,"cut":false,"hidden":false,"merged":[[34,6,34,7],[34,9,34,10],[34,12,34,13],[34,15,34,16],[30,0,30,2],[31,0,31,2],[33,6,33,7],[33,9,33,10],[33,12,33,13],[33,15,33,16],[2,6,2,10],[2,12,2,16],[3,6,3,7],[3,9,3,10],[3,12,3,13],[3,15,3,16]]}
["Only blue cell should be modified ",null,null,null,null,null,"Version of 13/03/2025"]
[null,null,null,null,null,null,null,null,null,null,null,null,null,null,null,null,null,null,null,"Instruction : "]
[null,null,null,null,null,null,"FILTRATION / KNEADING",null,null,null,null,null,"DOSING / MIXING"]
[null,null,null,null,null,null,"PRICE FOR France",null,null,"PRICE FOR Worlwide",null,null,"PRICE FOR France",null,null,"PRICE FOR Worlwide"]
["Details",null,"Quantity",null,"Unit price",null,"Unit price ","Total price ",null,"Unit price ","Total price ",null,"Unit price ","Prix total ",null,"Unit price ","Prix total ",null,null,"STEP 1 - Language"]
[null,null,null,null,null,null,"€","€",null,"€","€",null,"€","€",null,"€","€",null,null,"On sheet \"Configuration\" , cell B2 : Choose de correct language for your offer "]
["Working day  [Monday to Friday - 8h/day]",null,{"$f":"5*'Offre NEW'!M6","v":5},null,null,null,1471,{"$f":"G7*C7","v":7355},null,1471,{"$f":"C7*J7","v":7355},null,1152,{"$f":"C7*M7","v":5760},null,1352,{"$f":"C7*P7","v":6760}]
["Saturday working [8h/day]",null,0,null,null,null,2206,{"$f":"G8*C8","v":0},null,2206,{"$f":"C8*J8","v":0},null,1730,{"$f":"C8*M8","v":0},null,2030,{"$f":"C8*P8","v":0}]
["Sunday working [8h/day]",null,0,null,null,null,2942,{"$f":"G9*C9","v":0},null,2942,{"$f":"C9*J9","v":0},null,2304,{"$f":"C9*M9","v":0},null,2704,{"$f":"C9*P9","v":0},null,null,"STEP 2 - Country "]
["Travel day",null,2,null,null,null,1103,{"$f":"G10*C10","v":2206},null,1103,{"$f":"C10*J10","v":2206},null,860,{"$f":"C10*M10","v":1720},null,1010,{"$f":"C10*P10","v":2020},null,null,"On sheet \"Simplified P&L\" , cell B10 : Write ‘France’ (case sensitive) if the customer is in France, otherwise indicate the country. "]
["Day off invoiced",null,{"$f":"'Offre NEW'!M6*2-2","v":0},null,null,null,740,0,null,740,0,null,580,0,null,680,0,null,null,"On sheet \"Simplified P&L\" , cell G2 : Choose the corresponding DAS"]
["Day off not invoiced",null,0,null,null,null,0,0,null,0,0,null,0,0,null,0,0]
[]
["Detailed report ",null,0,null,null,null,973,0,null,973,0,null,null,null,null,null,null,null,null,"STEP 3 - Quotation option "]
[null,null,null,null,null,null,null,null,null,null,null,null,null,null,null,null,null,null,null,"On sheet \"Service Calculation\" ; cell A32 :"]
["Lodging fees (hotel + meals) per day",null,{"$f":"SUM(C7:C12)-1-C10+2","v":6},null,150,null,null,{"$f":"E16*C16","v":900},null,null,{"$f":"E16*C16","v":900},null,null,{"$f":"E16*C16","v":900},null,null,{"$f":"E16*C16","v":900},null,null,"Depending on the customer's requirements, select the costing option : "]
[null,null,null,null,null,null,null,null,null,null,null,null,null,null,null,null,null,null,null,"All-inclusive (Service + travel expenses + accommodation); Service + air ticket or only Service "]
["Bus",null,0,null,0,null,null,{"$f":"E18*C18","v":0},null,null,{"$f":"E18*C18","v":0},null,null,{"$f":"E18*C18","v":0},null,null,{"$f":"E18*C18","v":0}]
["Taxi",null,0,null,0,null,null,0,null,null,0,null,null,0,null,null,0,null,null,"STEP 4 - Service duration "]
["Train ticket",null,0,null,0,null,null,0,null,null,0,null,null,0,null,null,0,null,null,"On sheet \"Service Calculation\" ; cell C7 : nter the number of Working days on site [Mondayto Friday]"]
["Flight ticket",null,1,null,1000,null,null,1000,null,null,1000,null,null,1000,null,null,1000,null,null,"On sheet \"Service Calculation\" ; cell C8 : enter the number of Saturday working "]
[null,null,null,null,null,null,null,null,null,null,null,null,null,null,null,null,null,null,null,"On sheet \"Service Calculation\" ; cell C9 : enter the number of Sunday working "]
["Company car ",null,0,null,1.3,null,null,0,null,null,0,null,null,0,null,null,0,null,null,"On sheet \"Service Calculation\" ; cell C10 : enter the number of travelling days"]
["Car rental",null,{"$f":"SUM(C7:C14)","v":7},null,120,null,null,840,null,null,840,null,null,840,null,null,840,null,null,"On sheet \"Service Calculation\" ; cell C11 : enter the number of day off if the supervisor does not work on Saturday or Sunday"]
["Fees for toll and petrol ",null,1,null,700,null,null,700,null,null,700,null,null,700,null,null,700]
[null,null,null,null,null,null,null,null,null,null,null,null,null,null,null,null,null,null,null,"STEP 5 -  Report "]
["Fees for visa ",null,1,null,0,null,null,0,null,null,0,null,null,0,null,null,0,null,null,"On sheet \"Service Calculation\" ; cell C14 : add 1 detailled report, for mechanical or process audit and lab test"]
[]
["Administrative fees",null,1,null,336,null,null,336,null,null,336,null,null,336,null,null,336,null,null,"STEP 6 - Lodging fees"]
[null,null,null,null,null,null,null,null,null,null,null,null,null,null,null,null,null,null,null,"On sheet \"Service Calculation\" ; cell E16 : enter the amount accordinf to the country of intervention on the following link "]
[{"$f":"_xlfn.CONCAT(\"Total cost for \",'Service Calculation cold comm'!C16-1,\" days on site\")","v":"Total cost for 5 days on site"},null,null,null,null,null,null,{"$f":"SUM(H7:H29)","v":13337},null,null,{"$f":"SUM(K7:K29)","v":13337},null,null,{"$f":"SUM(N6:N29)","v":11256},null,null,{"$f":"SUM(Q7:Q29)","v":12556}]
["Including flight ticket ",null,null,null,null,null,null,null,null,null,null,null,null,null,null,null,null,null,null,"STEP 7 - Travelling fees"]
[null,null,null,null,null,null,null,null,null,null,null,null,null,null,null,null,null,null,null,"On sheet \"Service Calculation\" ; cell C18 -> C21 and E18 -> E21 : enter the quantity and the amount for Bus, Taxi, Train or Flight ticket"]
["Estimation cost of flight ticket will be invoiced at real cost + 15%",null,null,null,null,null,{"$f":"H21","v":1000},null,null,{"$f":"K21","v":1000},null,null,{"$f":"N21","v":1000},null,null,{"$f":"Q21","v":1000},null,null,null,"Make an estimate on KDS Website (Link below) and add +15% "]
["Additional day ",null,null,null,null,null,{"$f":"G7+E24+E16","v":1741},null,null,{"$f":"J7+E24+E16","v":1741},null,null,{"$f":"M7+E24+E16","v":1422},null,null,{"$f":"P7+E24+E16","v":1622},null,null,null,"Choose a ticket that can be changed free of charge and, depending on the price, cancelled free of charge "]
[]
[]
[]
[null,null,null,null,null,null,null,null,null,null,null,null,null,null,null,null,null,null,null,"STEP 8 - Car"]
[null,null,null,null,null,null,null,null,null,null,null,null,null,null,null,null,null,null,null,"On sheet \"Service Calculation\" ; cell C23 : enter the number of km if the operation is less than 500 kms (round trip) from the place of departure (Greven, Neuchatel, Pont Evêque) "]
[null,null,null,null,null,null,null,null,null,null,null,null,null,null,null,null,null,null,null,"Link for number of kms"]
[]
[null,null,null,null,null,null,null,null,null,null,null,null,null,null,null,null,null,null,null,"On sheet \"Service Calculation\" ; cell C24 : For other locations, Fixed price of €120 per day for intervention from 1 to 5 days, for longest mission make an estimated cost on KDS +15% ; "]
[]
[]
[null,null,null,null,null,null,null,null,null,null,null,null,null,null,null,null,null,null,null,"On sheet \"Service Calculation\" ; cell C25 : enter fees for toll and petrol : make an estimate on ViaMichelin and add +15%"]
[]
[]
[null,null,null,null,null,null,null,null,null,null,null,null,null,null,null,null,null,null,null,"STEP 9 - VISA"]
[null,null,null,null,null,null,null,null,null,null,null,null,null,null,null,null,null,null,null,"On sheet \"Service Calculation\" ; cell C27 : If the country of intervention requires a VISA, add the cost of this VISA "]
[]
[]
[null,null,null,null,null,null,null,null,null,null,null,null,null,null,null,null,null,null,null,"On sheet \"PRICE_LIST\" ; cell B26 : Describe the scope of the service"]

{"sheet":"Service Calculation hot comm","index":36,"n_rows":53,"n_cols":20,"rows_kept":53,"cut":false,"hidden":false,"merged":[[2,6,2,10],[2,12,2,16],[3,6,3,7],[3,9,3,10],[3,12,3,13],[3,15,3,16],[34,6,34,7],[34,9,34,10],[34,12,34,13],[34,15,34,16],[30,0,30,2],[31,0,31,2],[33,6,33,7],[33,9,33,10],[33,12,33,13],[33,15,33,16]]}
["Only blue cell should be modified ",null,null,null,null,null,"Version of 13/03/2025"]
[null,null,null,null,null,null,null,null,null,null,null,null,null,null,null,null,null,null,null,"Instruction : "]
[null,null,null,null,null,null,"FILTRATION / KNEADING",null,null,null,null,null,"DOSING / MIXING"]
[null,null,null,null,null,null,"PRICE FOR France",null,null,"PRICE FOR Worlwide",null,null,"PRICE FOR France",null,null,"PRICE FOR Worlwide"]
["Details",null,"Quantity",null,"Unit price",null,"Unit price ","Total price ",null,"Unit price ","Total price ",null,"Unit price ","Prix total ",null,"Unit price ","Prix total ",null,null,"STEP 1 - Language"]
[null,null,null,null,null,null,"€","€",null,"€","€",null,"€","€",null,"€","€",null,null,"On sheet \"Configuration\" , cell B2 : Choose de correct language for your offer "]
["Working day  [Monday to Friday - 8h/day]",null,{"$f":"'Offre NEW'!M7*5","v":15},null,null,null,1471,{"$f":"G7*C7","v":22065},null,1471,{"$f":"C7*J7","v":22065},null,1152,{"$f":"C7*M7","v":17280},null,1352,{"$f":"C7*P7","v":20280}]
["Saturday working [8h/day]",null,2,null,null,null,2206,{"$f":"G8*C8","v":4412},null,2206,{"$f":"C8*J8","v":4412},null,1730,{"$f":"C8*M8","v":3460},null,2030,{"$f":"C8*P8","v":4060}]
["Sunday working [8h/day]",null,2,null,null,null,2942,{"$f":"G9*C9","v":5884},null,2942,{"$f":"C9*J9","v":5884},null,2304,{"$f":"C9*M9","v":4608},null,2704,{"$f":"C9*P9","v":5408},null,null,"STEP 2 - Country "]
["Travel day",null,2,null,null,null,1103,{"$f":"G10*C10","v":2206},null,1103,{"$f":"C10*J10","v":2206},null,860,{"$f":"C10*M10","v":1720},null,1010,{"$f":"C10*P10","v":2020},null,null,"On sheet \"Simplified P&L\" , cell B10 : Write ‘France’ (case sensitive) if the customer is in France, otherwise indicate the country. "]
["Day off invoiced",null,{"$f":"'Offre NEW'!M6*2-2","v":0},null,null,null,740,0,null,740,0,null,580,0,null,680,0,null,null,"On sheet \"Simplified P&L\" , cell G2 : Choose the corresponding DAS"]
["Day off not invoiced",null,0,null,null,null,0,0,null,0,0,null,0,0,null,0,0]
[]
["Detailed report ",null,0,null,null,null,973,0,null,973,0,null,null,null,null,null,null,null,null,"STEP 3 - Quotation option "]
[null,null,null,null,null,null,null,null,null,null,null,null,null,null,null,null,null,null,null,"On sheet \"Service Calculation\" ; cell A32 :"]
["Lodging fees (hotel + meals) per day",null,{"$f":"SUM(C7:C12)-1-C10+2","v":20},null,150,null,null,{"$f":"E16*C16","v":3000},null,null,{"$f":"E16*C16","v":3000},null,null,{"$f":"E16*C16","v":3000},null,null,{"$f":"E16*C16","v":3000},null,null,"Depending on the customer's requirements, select the costing option : "]
[null,null,null,null,null,null,null,null,null,null,null,null,null,null,null,null,null,null,null,"All-inclusive (Service + travel expenses + accommodation); Service + air ticket or only Service "]
["Bus",null,0,null,0,null,null,{"$f":"E18*C18","v":0},null,null,{"$f":"E18*C18","v":0},null,null,{"$f":"E18*C18","v":0},null,null,{"$f":"E18*C18","v":0}]
["Taxi",null,0,null,0,null,null,0,null,null,0,null,null,0,null,null,0,null,null,"STEP 4 - Service duration "]
["Train ticket",null,0,null,0,null,null,0,null,null,0,null,null,0,null,null,0,null,null,"On sheet \"Service Calculation\" ; cell C7 : nter the number of Working days on site [Mondayto Friday]"]
["Flight ticket",null,1,null,1000,null,null,1000,null,null,1000,null,null,1000,null,null,1000,null,null,"On sheet \"Service Calculation\" ; cell C8 : enter the number of Saturday working "]
[null,null,null,null,null,null,null,null,null,null,null,null,null,null,null,null,null,null,null,"On sheet \"Service Calculation\" ; cell C9 : enter the number of Sunday working "]
["Company car ",null,0,null,1.3,null,null,0,null,null,0,null,null,0,null,null,0,null,null,"On sheet \"Service Calculation\" ; cell C10 : enter the number of travelling days"]
["Car rental",null,{"$f":"SUM(C7:C14)","v":21},null,120,null,null,2520,null,null,2520,null,null,2520,null,null,2520,null,null,"On sheet \"Service Calculation\" ; cell C11 : enter the number of day off if the supervisor does not work on Saturday or Sunday"]
["Fees for toll and petrol ",null,1,null,700,null,null,700,null,null,700,null,null,700,null,null,700]
[null,null,null,null,null,null,null,null,null,null,null,null,null,null,null,null,null,null,null,"STEP 5 -  Report "]
["Fees for visa ",null,1,null,0,null,null,0,null,null,0,null,null,0,null,null,0,null,null,"On sheet \"Service Calculation\" ; cell C14 : add 1 detailled report, for mechanical or process audit and lab test"]
[]
["Administrative fees",null,1,null,336,null,null,336,null,null,336,null,null,336,null,null,336,null,null,"STEP 6 - Lodging fees"]
[null,null,null,null,null,null,null,null,null,null,null,null,null,null,null,null,null,null,null,"On sheet \"Service Calculation\" ; cell E16 : enter the amount accordinf to the country of intervention on the following link "]
[{"$f":"_xlfn.CONCAT(\"Total cost for \",'Service Calculation hot comm'!C16-1,\" days on site\")","v":"Total cost for 19 days on site"},null,null,null,null,null,null,{"$f":"SUM(H7:H29)","v":42123},null,null,{"$f":"SUM(K7:K29)","v":42123},null,null,{"$f":"SUM(N6:N29)","v":34624},null,null,{"$f":"SUM(Q7:Q29)","v":39324}]
["Including flight ticket ",null,null,null,null,null,null,null,null,null,null,null,null,null,null,null,null,null,null,"STEP 7 - Travelling fees"]
[null,null,null,null,null,null,null,null,null,null,null,null,null,null,null,null,null,null,null,"On sheet \"Service Calculation\" ; cell C18 -> C21 and E18 -> E21 : enter the quantity and the amount for Bus, Taxi, Train or Flight ticket"]
["Estimation cost of flight ticket will be invoiced at real cost + 15%",null,null,null,null,null,{"$f":"H21","v":1000},null,null,{"$f":"K21","v":1000},null,null,{"$f":"N21","v":1000},null,null,{"$f":"Q21","v":1000},null,null,null,"Make an estimate on KDS Website (Link below) and add +15% "]
["Additional day ",null,null,null,null,null,{"$f":"G7+E24+E16","v":1741},null,null,{"$f":"J7+E24+E16","v":1741},null,null,{"$f":"M7+E24+E16","v":1422},null,null,{"$f":"P7+E24+E16","v":1622},null,null,null,"Choose a ticket that can be changed free of charge and, depending on the price, cancelled free of charge "]
[]
[]
[]
[null,null,null,null,null,null,null,null,null,null,null,null,null,null,null,null,null,null,null,"STEP 8 - Car"]
[null,null,null,null,null,null,null,null,null,null,null,null,null,null,null,null,null,null,null,"On sheet \"Service Calculation\" ; cell C23 : enter the number of km if the operation is less than 500 kms (round trip) from the place of departure (Greven, Neuchatel, Pont Evêque) "]
[null,null,null,null,null,null,null,null,null,null,null,null,null,null,null,null,null,null,null,"Link for number of kms"]
[]
[null,null,null,null,null,null,null,null,null,null,null,null,null,null,null,null,null,null,null,"On sheet \"Service Calculation\" ; cell C24 : For other locations, Fixed price of €120 per day for intervention from 1 to 5 days, for longest mission make an estimated cost on KDS +15% ; "]
[]
[]
[null,null,null,null,null,null,null,null,null,null,null,null,null,null,null,null,null,null,null,"On sheet \"Service Calculation\" ; cell C25 : enter fees for toll and petrol : make an estimate on ViaMichelin and add +15%"]
[]
[]
[null,null,null,null,null,null,null,null,null,null,null,null,null,null,null,null,null,null,null,"STEP 9 - VISA"]
[null,null,null,null,null,null,null,null,null,null,null,null,null,null,null,null,null,null,null,"On sheet \"Service Calculation\" ; cell C27 : If the country of intervention requires a VISA, add the cost of this VISA "]
[]
[]
[null,null,null,null,null,null,null,null,null,null,null,null,null,null,null,null,null,null,null,"On sheet \"PRICE_LIST\" ; cell B26 : Describe the scope of the service"]

{"sheet":"Synthèse chiffrage","index":37,"n_rows":40,"n_cols":6,"rows_kept":40,"cut":false,"hidden":false,"merged":[[27,4,27,5],[29,5,30,5],[5,4,5,5],[7,5,8,5],[13,4,13,5],[15,5,16,5],[20,4,20,5],[22,5,23,5]]}
[]
[]
[null,"OFFRE ",{"$f":"Calculations!C3&\" _rev\"&Calculations!G2","v":"760895 _rev2"},"FOR INTERNAL USE ONLY",null,"2025-10-17"]
[null,"CLIENT",{"$f":"Calculations!C2","v":"PKT"},null,null,{"$f":"'Offre NEW'!M16","v":"Baptiste Joly"}]
[]
[null,"TOTAL sans SERVICES ni PACK & TRANSP",null,"€","%"]
[null,null,"Prix revient",{"$f":"D15+D22+D29","v":1016334.8885881059}]
[null,null,"Prix consulté",{"$f":"D16+D23+D30","v":844324.1618406286},{"$f":"D8/$D$7","v":0.83075388960971819},{"$f":"E8+E9","v":0.85269547623671982}]
[null,null,"Prix d'après autres affaires",{"$f":"D17+D24+D31","v":22300},{"$f":"D9/$D$7","v":2.1941586627001654E-2}]
[null,null,"Prix configurateur (+/-10%)",{"$f":"D18+D25+D32","v":149710.72674747731},{"$f":"D10/$D$7","v":0.14730452376328013}]
[null,null,"Coût des heures à facturer",{"$f":"D19+D26+D33","v":0},{"$f":"D11/$D$7","v":0}]
[]
[]
[null,"FILTRE ",null,"€","%"]
[null,null,"Prix revient",{"$f":"'Offre NEW'!I7","v":432478.12552315055}]
[null,null,"Prix consulté",{"$f":"'Cost list'!U11+'Cost list'!U12+'Cost list'!U14+'Cost list'!U16+'Cost list'!U17+'Cost list'!U18+'Cost list'!U20+'Cost list'!U21+'Cost list'!U22+'Cost list'!U26+'Cost list'!U31+'Cost list'!U35+'Cost list'!U38+'Cost list'!U50","v":321218.87295173964},{"$f":"D16/$D$15","v":0.74274016185945757},{"$f":"E16+E17","v":0.74274016185945757}]
[null,null,"Prix d'après autres affaires",null,{"$f":"D17/$D$15","v":0}]
[null,null,"Prix configurateur (+/-10%)",{"$f":"D15-D16","v":111259.25257141091},{"$f":"D18/$D$15","v":0.25725983814054243}]
[null,null,"Coût des heures à facturer",null,{"$f":"D19/$D$15","v":0}]
[]
[null,"ACCESSOIRES ",null,"€","%"]
[null,null,"Prix revient",{"$f":"'Offre NEW'!I27+'Offre NEW'!I29+'Offre NEW'!I30+'Offre NEW'!I31+'Offre NEW'!I34+'Offre NEW'!I41+'Offre NEW'!I53+'Offre NEW'!I57+'Offre NEW'!I58+'Offre NEW'!I59+'Offre NEW'!I62","v":238901.80888888889}]
[null,null,"Prix consulté",{"$f":"'Offre NEW'!I27+'Offre NEW'!I29+'Offre NEW'!I30+'Offre NEW'!I31+'Offre NEW'!I34+'Offre NEW'!I41+'Offre NEW'!I53+'Offre NEW'!I59+'Offre NEW'!I62","v":217130.68888888889},{"$f":"D23/$D$22","v":0.90887000771883841},{"$f":"E23+E24","v":0.97082014559696284}]
[null,null,"Prix d'après autres affaires",{"$f":"'Offre NEW'!I58","v":14800},{"$f":"D24/$D$22","v":6.1950137878124437E-2}]
[null,null,"Prix configurateur (+/-10%)",{"$f":"'Offre NEW'!I57","v":6971.12},{"$f":"D25/$D$22","v":2.9179854403037216E-2}]
[null,null,"Coût des heures à facturer",null,{"$f":"D26/$D$22","v":0}]
[]
[null,"OPTIONS",null,"€","%"]
[null,null,"Prix revient",{"$f":"'Offre NEW'!I70+'Offre NEW'!I71+'Offre NEW'!I72+'Offre NEW'!I73+'Offre NEW'!I74+'Offre NEW'!I75*'Offre NEW'!H75+'Offre NEW'!I76+'Offre NEW'!I77+'Offre NEW'!I78+'Offre NEW'!I79","v":344954.95417606644}]
[null,null,"Prix consulté",{"$f":"'Offre NEW'!I71+'Offre NEW'!I72+'Offre NEW'!I73+'Offre NEW'!I74+'Offre NEW'!I75*'Offre NEW'!H75+'Offre NEW'!I76+'Offre NEW'!I77","v":305974.60000000003},{"$f":"D30/$D$29","v":0.88699871184870516},{"$f":"E30+E31","v":0.90874068108035144}]
[null,null,"Prix d'après autres affaires",{"$f":"'Offre NEW'!I70","v":7500},{"$f":"D31/$D$29","v":2.1741969231646313E-2}]
[null,null,"Prix configurateur (+/-10%)",{"$f":"'Offre NEW'!I78+'Offre NEW'!I79","v":31480.354176066423},{"$f":"D32/$D$29","v":9.1259318919648613E-2}]
[null,null,"Coût des heures à facturer",null,{"$f":"D33/$D$29","v":0}]
[]
[null,"SERVICES ",null,"€"]
[null,null,"Prix revient (=PV/2)"]
[]
[null,"PACK & TRANSPORT ",null,"€"]
[null,null,"Packaging "]
[null,null,"Transport"]

{"sheet":"Quotation","index":38,"n_rows":79,"n_cols":18,"rows_kept":79,"cut":false,"hidden":false,"merged":[[77,1,77,7],[77,8,77,9],[78,1,78,2],[78,3,78,7],[78,8,78,9],[69,1,71,7],[69,8,71,9],[75,1,76,7],[75,8,76,9],[8,8,8,9],[9,8,68,9],[9,1,26,1],[13,3,13,6],[25,3,25,6],[14,3,14,6],[15,3,15,6],[16,3,16,6],[17,3,17,6],[18,3,18,6],[5,2,5,9],[26,3,26,6],[8,3,8,4],[8,5,8,6],[19,3,19,6],[20,3,20,6],[21,3,21,6],[22,3,22,6],[23,3,23,6],[24,3,24,6],[9,3,9,4],[9,5,9,6],[9,7,26,7],[10,2,10,6],[11,3,11,6],[12,3,12,6]]}
[null,null,null,null,null,null,null,null,null,null,null,null,null,null,null,null,"FR",1]
[null,null,null,null,null,null,null,null,null,null,null,null,null,null,null,null,"GB",2]
[]
[]
[]
[null,null,{"$f":"\"Price List \"&IF('Offre NEW'!C3=\"FR\",\"- Offre N° \",\"- Offer N° \")&Calculations!C3&\"_\"&Calculations!G1&Calculations!H3","v":"Price List - Offer N° 760895_01rev2"}]
[]
[]
[null,null,{"$f":"IF('Offre NEW'!C3=\"FR\",\"Filtre\",\"Filter\")","v":"Filter"},{"$f":"IF('Offre NEW'!C3=\"FR\",\"Taille (m²)\",\"Size (m²)\")","v":"Size (m²)"},null,{"$f":"IF('Offre NEW'!C3=\"FR\",\"Largeur (m)\",\"Width (m)\")","v":"Width (m)"},null,{"$f":"IF('Offre NEW'!C3=\"FR\",\"Qté\",\"Qty\")","v":"Qty"},{"$f":"IF('Offre NEW'!C3=\"FR\",\"GRAND TOTAL EQUIPEMENT, € (hors taxes)\",\"GRAND TOTAL EQUIPMENT, € (excluding VAT)\")","v":"GRAND TOTAL EQUIPMENT, € (excluding VAT)"}]
[null,1,{"$f":"'Offre NEW'!C7","v":"Filter"},{"$f":"Calculations!$C$9","v":90},null,{"$f":"Calculations!$E$9/1000","v":3},null,{"$f":"'Offre NEW'!H7","v":1}]
[]
[null,null,null,{"$f":"'Offre NEW'!D9","v":"MOC"}]
[null,null,{"$f":"'Offre NEW'!C10","v":"Frame"},{"$f":"'Offre NEW'!D10","v":"316L"}]
[null,null,{"$f":"'Offre NEW'!C11","v":"Vacuum box"},{"$f":"'Offre NEW'!D11","v":"U45N"}]
[null,null,{"$f":"'Offre NEW'!C12","v":"Slurry Feeder"},{"$f":"'Offre NEW'!D12","v":"U45N"}]
[null,null,{"$f":"'Offre NEW'!C13","v":"Cake Washing Feeder"},{"$f":"'Offre NEW'!D13","v":"U45N"}]
[null,null,{"$f":"'Offre NEW'!C14","v":"Collection through"},{"$f":"'Offre NEW'!D14","v":"316L"}]
[null,null,{"$f":"'Offre NEW'!C15","v":"Cake discharge hopper"},{"$f":"'Offre NEW'!D15","v":"316L"}]
[null,null,{"$f":"'Offre NEW'!C16","v":"Cloth & belt support rollers"},{"$f":"'Offre NEW'!D16","v":"316L"}]
[null,null,{"$f":"'Offre NEW'!C17","v":"Belt"},{"$f":"'Offre NEW'!D17","v":"SBR"}]
[null,null,{"$f":"'Offre NEW'!C18","v":"Curbs"},{"$f":"'Offre NEW'!D18","v":"Natural rubber"}]
[null,null,{"$f":"'Offre NEW'!C19","v":"Filter Cloth"}]
[null,null,{"$f":"'Offre NEW'!C20","v":"Gear box type planetary"}]
[null,null,{"$f":"'Offre NEW'!C21","v":"Safety guards according CE rules"}]
[null,null,{"$f":"'Offre NEW'!C22","v":"Local control panel"}]
[null,null,null,{"$f":"'Offre NEW'!D23","v":"Power (kW)"}]
[null,null,{"$f":"'Offre NEW'!C24","v":"Electric motor"},{"$f":"'Offre NEW'!D24","v":"90 kW"}]
[]
[null,null,{"$f":"IF('Offre NEW'!C3=\"FR\",\"Accessoires\",\"Accessories\")","v":"Accessories"},{"$f":"IF('Offre NEW'!C3=\"FR\",\"Matériau\",\"MOC\")","v":"MOC"},"Ø (mm)",{"$f":"IF('Offre NEW'!C3=\"FR\",\"Débit (m3/h)\",\"Flowrate (m3/h)\")","v":"Flowrate (m3/h)"},{"$f":"IF('Offre NEW'!C3=\"FR\",\"Puissance (kW)\",\"Power (kW)\")","v":"Power (kW)"},{"$f":"IF('Offre NEW'!C3=\"FR\",\"Qté\",\"Qty\")","v":"Qty"}]
[null,2,"Manifold","FRP",700,null,null,1]
[null,3,"Filtrate Receiver 1","316L",3400,null,null,1]
[null,4,"Filtrate Receiver 2","316L",3400,null,null,1]
[null,5,"Filtrate Receiver 3","316L",3400,null,null,1]
[null,6,"Scrubber","316L",3000,null,null,1]
[null,7,"Cloth & Belt Wash Recirculating Tank","316L","2 m3",null,null,1]
[null,8,"Instrumentation & Valves",null,null,null,null,1]
[null,9,"Engineering","Cat. 1 (HASLER Standard)",null,null,null,1]
[null,10,"Pressure Roller","U45N",null,null,3,1]
[null,11,"High Pressure pump & Ramp ",null,null,null,15,1]
[null,12,"Fume Hood",null,null,null,null,1]
[null,13,"Hydrocyclone",null,null,null,null,1]
[null,14]
[null,15]
[null,16]
[null,17]
[null,18]
[null,19]
[null,20]
[null,21]
[null,22]
[null,23]
[null,24]
[null,25]
[null,26]
[null,27]
[null,28]
[null,29]
[null,30]
[null,31]
[null,32]
[null,33]
[null,34]
[null,35]
[null,36]
[null,37]
[null,38]
[null,39]
[null,40]
[null,41]
[null,"GRAND TOTAL EQUIPMENT excluding Options, € \n(excluding VAT)",null,null,null,null,null,null,{"$f":"'Offre NEW'!I7+SUM('Offre NEW'!I27:I66)","v":{"$error":"#REF!"}}]
[]
[]
[]
[]
[]
[null,"Packing and Delivery costs",null,null,null,null,null,null,"Total Sale Price (€ ex VAT)"]
[]
[null,"Packing",null,null,null,null,null,null,"TO BE QUOTED"]
[null,"Freight",null,{"$f":"'Offre NEW'!M10 & \" - \" &'Offre NEW'!N10","v":"FCA - Le Mêle sur Sarthe"},null,null,null,null,"TO BE QUOTED"]

{"sheet":"Quotation2","index":39,"n_rows":78,"n_cols":18,"rows_kept":78,"cut":false,"hidden":false,"merged":[[21,1,21,8],[33,2,33,9],[34,1,34,8],[7,2,7,6],[25,2,25,6]]}
[null,null,null,null,null,null,null,null,null,null,null,null,null,null,null,null,"FR",1]
[null,null,null,null,null,null,null,null,null,null,null,null,null,null,null,null,"GB",2]
[]
[]
[]
[]
[]
[null,null,{"$f":"\"Price List Options \"&IF('Offre NEW'!C3=\"FR\",\"- Offre N° \",\"- Offer N° \")&Calculations!C3&\"_\"&Calculations!G1&Calculations!H3","v":"Price List Options - Offer N° 760895_01rev2"}]
[]
[]
[null,null,"Options",null,null,null,null,"Qty","Unit Sale Price (€ ex VAT)","Total Sale Price\n(€ ex VAT)"]
[null,"A","Cloth Ultrasonic welding machine",null,null,null,null,1,null,{"$f":"H12*I12","v":0}]
[null,"B","Filtrate Pump 1","CD4Mcu",null,442,45,1,null,0]
[null,"C","Filtrate Pump 2","CD4Mcu",null,37,7.5,1,null,0]
[null,"D","Filtrate Pump 3","CD4Mcu",null,37,7.5,1,null,0]
[null,"E","Cloth & Belt Wash Recirculating Pump","CD4MCu",null,20,5.5,1,null,0]
[null,"F","Vacuum Pump","Cast Iron",null,43020,1000,1,null,0]
[null,"G","Moisture trap","316L",3000,null,null,1,null,0]
[null,"H","Commissioning Spare Parts",null,null,null,null,1,null,0]
[null,"I","2 Year Spare Parts",null,null,null,null,1,null,0]
[null,"J",null,null,null,null,null,null,null,0]
[null,{"$f":"IF('Offre NEW'!C3=\"FR\",\"GRAND TOTAL OPTIONS, € (hors taxes)\",\"GRAND TOTAL OPTIONS, € (excluding VAT)\")","v":"GRAND TOTAL OPTIONS, € (excluding VAT)"},null,null,null,null,null,null,null,{"$f":"SUM(J12:J21)","v":0}]
[]
[]
[]
[null,null,{"$f":"\"Price List Services \"&IF('Offre NEW'!C3=\"FR\",\"- Offre N° \",\"- Offer N° \")&Calculations!C3&\"_\"&Calculations!G1&Calculations!H3","v":"Price List Services - Offer N° 760895_01rev2"}]
[null,null,"Spare Parts & Services",null,null,null,null,"Qty","Unit Sale Price (€ ex VAT)","Total Sale Price\n(€ ex VAT)"]
[null,"A","Erection for 8 weeks",null,null,null,null,1,null,{"$f":"H28*I28","v":0}]
[null,"B","Cold Commissioning for 1 week",null,null,null,null,1,null,{"$f":"H29*I29","v":0}]
[null,"C","Hot Commissioning for 3 weeks",null,null,null,null,1,null,0]
[null,"D",null,null,null,null,null,null,null,0]
[null,"E",null,null,null,null,null,null,null,0]
[null,"F",null,null,null,null,null,null,null,0]
[null,"J","- The intervention time is an estimate, and will be invoiced according to the time spent on site. \n- The warranty period is only valid if Hasler supervises installation and commissioning.\n- The tools required for assembly are not supplied by Hasler, but a list can be provided.\n- The notice period for starting work is 1 month.\n- If the intervention takes place more than 2 years after the order, the price will be updated according to the current year's price sheet.\n- Resources (materials and tools) required will be specified by Hasler but will not be supplied.\n- Labor resources will be specified by Hasler and may be supplied.\n- If performance tests are to be carried out, but for reasons of production upstream of the filter it is impossible to carry out the tests, the performance will then be validated de facto.\n- Intervention must take place according to the following date :\n      •   Mounting : maximum 3 months after delivery\n      •   Commissioning : maximum 2 months after mounting\n      •   Performance tests : maximum 1 month after commissionning"]
[null,{"$f":"IF('Offre NEW'!C19=\"FR\",\"GRAND TOTAL SERVICES/PDR, € (hors taxes)\",\"GRAND TOTAL SERVICES/SPARE PARTS, € (excluding VAT)\")","v":"GRAND TOTAL SERVICES/SPARE PARTS, € (excluding VAT)"},null,null,null,null,null,null,null,{"$f":"SUM(J28:J34)","v":0}]
[]
[]
[]
[]
[]
[]
[]
[]
[]
[]
[]
[]
[]
[]
[]
[]
[]
[]
[]
[]
[]
[]
[]
[]
[]
[]
[]
[]
[]
[]
[]
[]
[]
[]
[]
[]
[]
[]
[]
[]
[]
[]
[null,null,null,null,null,null,null,null,null,{"$f":"J65+J75","v":0}]

{"sheet":"Quotation3","index":40,"n_rows":19,"n_cols":18,"rows_kept":19,"cut":false,"hidden":true,"merged":[[18,1,18,8],[17,2,17,9],[7,2,7,3]]}
[null,null,null,null,null,null,null,null,null,null,null,null,null,null,null,null,"FR",1]
[null,null,null,null,null,null,null,null,null,null,null,null,null,null,null,null,"GB",2]
[]
[]
[]
[]
[]
[null,null,{"$f":"\"Price List Services \"&IF('Offre NEW'!C3=\"FR\",\"- Offre N° \",\"- Offer N° \")&Calculations!C3&\"_\"&Calculations!G1&Calculations!H3","v":"Price List Services - Offer N° 760895_01rev2"}]
[]
[]
[null,null,"Spare Parts & Services",null,null,null,null,"Qty","Unit Sale Price (€ ex VAT)","Total Sale Price\n(€ ex VAT)"]
[null,"A","Erection for 3 weeks",null,null,null,null,1,null,{"$f":"H12*I12","v":0}]
[null,"B","Cold Commissioning for 1 week",null,null,null,null,1,null,{"$f":"H13*I13","v":0}]
[null,"C","Hot Commissioning for 5 weeks",null,null,null,null,1,null,0]
[null,"D",null,null,null,null,null,null,null,0]
[null,"E",null,null,null,null,null,null,null,0]
[null,"F",null,null,null,null,null,null,null,0]
[null,"J","- The intervention time is an estimate, and will be invoiced according to the time spent on site. \n- The warranty period is only valid if Hasler supervises installation and commissioning.\n- The tools required for assembly are not supplied by Hasler, but a list can be provided.\n- The notice period for starting work is 1 month.\n- If the intervention takes place more than 2 years after the order, the price will be updated according to the current year's price sheet.\n- Resources (materials and tools) required will be specified by Hasler but will not be supplied.\n- Labor resources will be specified by Hasler and may be supplied.\n- If performance tests are to be carried out, but for reasons of production upstream of the filter it is impossible to carry out the tests, the performance will then be validated de facto.\n- Intervention must take place according to the following date :\n      •   Mounting : maximum 3 months after delivery\n      •   Commissioning : maximum 2 months after mounting\n      •   Performance tests : maximum 1 month after commissionning"]
[null,{"$f":"IF('Offre NEW'!C3=\"FR\",\"GRAND TOTAL SERVICES/PDR, € (hors taxes)\",\"GRAND TOTAL SERVICES/SPARE PARTS, € (excluding VAT)\")","v":"GRAND TOTAL SERVICES/SPARE PARTS, € (excluding VAT)"},null,null,null,null,null,null,null,{"$f":"SUM(J12:J18)","v":0}]

{"sheet":"listes","index":41,"n_rows":44,"n_cols":23,"rows_kept":44,"cut":false,"hidden":true,"merged":[[27,10,31,35],[33,10,37,35],[39,10,41,22],[43,10,45,22]]}
["{stage}",null,"{type_de_piece}",null,"{EMBALLAGE}",null,"{LANGUE}",null,"{INCOTERM}",null,"{ASM}",null,null,null,null,null,"{AE}",null,null,null,null,null,"The equipment must not be modified without prior consultation with HASLER. Modification without HASLER written consent may invalidate the warranty and any product liability.Any warranty for newly purchased equipment will be void unless HASLER has supervised and/or validated on site the equipment assembly and mounting.Expertise for abnormal conditions under warranty periods are to be exclusively conducted by HASLER. Should the expertise conclude that the causes of the conditions are not related to the warranty then the full expertise will have to be covered by the main contractor or the end user."]
["Budget",null,"EQ NEUFS",null,"plateau - palette",null,"FR",null,"EXW",null,"BROU","Benoît Roudaut","b.roudaut@hasler.group",null,null,null,null,null,null,null,null,null,"L'équipement ne doit pas être modifié sans consultation préalable avec HASLER. Toute modification sans le consentement écrit de HASLER peut invalider la garantie et toute responsabilité du produit.Toute garantie pour les équipements nouvellement achetés sera annulée à moins que HASLER n'ait supervisé et / ou validé sur place le montage et le montage de l'équipement.L'expertise pour les conditions anormales pendant les périodes de garantie doit être exclusivement menée par HASLER. Si l'expertise conclut que les causes des conditions ne sont pas liées à la garantie, l'expertise complète devra être couverte par l'entrepreneur principal ou l'utilisateur final."]
["Commercial",null,"PDR achat revente",null,"Seaworthy",null,"GB",null,"FCA",null,"NDEL","Nicolas Delattre","n.delattre@hasler.group",null,null,null,"FBAD","Francis Badin","f.badin@hasler.group"]
[null,null,"PDR copiables",null,null,null,"CN",null,"CPT",null,"CPIS","Cosimo Piscopiello","c.piscopiello@hasler.group",null,null,null,"BROU","Benoît Roudaut","b.roudaut@hasler.group"]
[null,null,"PDR hélices LUMPP",null,null,null,null,null,"CIP",null,"WSON","Wei Song","w.song@hasler.group",null,null,null,"AGIL","Alexis Gilbert","a.gilbert@hasler.group"]
[null,null,"SERVICES",null,null,null,null,null,"FAS",null,"LZHA","Li Zhang","l.zhang@hasler.group",null,null,null,"BJOL","Baptiste Joly","b.joly@hasler.group"]
[null,null,null,null,null,null,null,null,"FOB",null,"PTES","Phirun Tes","p.tes@hasler.group",null,null,null,"ANGO","Ahou N'gotta","a.n'gotta@hasler.group"]
[null,null,null,null,null,null,null,null,"CFR",null,"AHOU","Adrien Hourlier","a.hourlier@hasler.group"]
[null,null,null,null,null,null,null,null,"CIF",null,"LMEN","Laurent Menigoz","l.menigoz@hasler.group"]
[null,null,null,null,null,null,null,null,"DAT",null,"EGUA","Enrico Gualdi","e.gualdi@hasler.group"]
[null,null,null,null,null,null,null,null,"DAP",null,"LLI","Leo Li","l.li@hasler.group",null,null,null,"{Engineering}"]
[null,null,null,null,null,null,null,null,"DDP",null,"TOUE","Toufik Ouerdani","t.ouerdani@hasler.group",null,null,null,"Cat. 1 (HASLER Standard)"]
[null,null,null,null,null,null,null,null,null,null,"EVAQ","Emilie VAQUERO","e.vaquero@hasler.group",null,null,null,"Cat. 2"]
[null,null,null,null,null,null,null,null,null,null,"MJAM","Michel Jamey","m.jamey@hasler.group",null,null,null,"Cat. 3"]
[null,null,null,null,null,null,null,null,null,null,"DCRI","Daniel Criado","d.criado@hasler.group",null,null,null,"Cat. 4"]
[]
[]
[]
[]
[]
[]
[]
[null,null,"PRE"]
[null,null,"MONT"]
[]
[]
[]
[null,null,null,null,null,null,null,null,null,null,"IMPORTANT / COVID 19 HEALTH PANDEMIC - Delivery time and costs :\nIn view of the COVID 19 health pandemic, the delivery times and costs we indicate are currently indicative and cannot be considered contractual. HASLER GROUP obviously does everything in its power to maintain these deadlines and costs as they are stated. However, we reserve the right to update the transport costs before shipping if they should fluctuate.\nWe will notify you in advance of any additional impact"]
[]
[]
[]
[]
[]
[null,null,null,null,null,null,null,null,null,null,"IMPORTANT / CONTEXTE SANITAIRE  COVID 19 - Délais et coûts de transport  :\nAu regard du contexte sanitaire COVID 19,  les délais et frais de livraison  que nous indiquons sont aujourd’hui à titre indicatif et ne peuvent être considérés comme contractuels.\nHASLER GROUP met bien évidemment tout en œuvre pour maintenir ces frais et délais mais se réserve le droit de réactualiser avant expédition les couts de transports si ces derniers devaient fluctuer.\nNous vous informerons au préalable de tout impact  supplémentaire."]
[]
[]
[]
[]
[]
[null,null,null,null,null,null,null,null,null,null,"Période de validité : 1 semaine\nEn raison de la fluctuation des cours de Nickel présent dans les alliages INOX de nos équipements , nous garantissons ce prix sur un délai d’un mois.\nPassé ce délai, nous réviserons nos prix et ajusterons notre offre ."]
[]
[]
[]
[null,null,null,null,null,null,null,null,null,null,"Validity period : 1 week\nDue to the fluctuation of the price of Nickel present in the stainless steel alloys of our equipment, we guarantee this price for a period of one month.\nAfter this period, we will revise our prices and adjust our offer accordingly."]

{"sheet":"Spec PAV","index":42,"n_rows":199,"n_cols":3,"rows_kept":199,"cut":false,"hidden":true,"merged":[[196,0,196,2],[198,0,198,2],[162,0,162,2],[170,0,170,2],[8,0,8,2],[6,1,6,2],[7,0,7,2],[69,0,69,2],[148,0,148,2],[40,0,40,2],[21,0,21,2],[35,0,35,2],[54,0,54,2],[45,0,45,2],[44,0,44,2],[43,0,43,2],[42,0,42,2],[41,0,41,2],[0,0,5,2],[62,0,62,2],[61,0,61,2],[60,0,60,2],[59,0,59,2],[58,0,58,2],[57,0,57,2],[56,0,56,2],[55,0,55,2],[53,0,53,2],[52,0,52,2],[51,0,51,2],[50,0,50,2],[49,0,49,2],[47,0,47,2],[46,0,46,2]]}
["TECHNICAL SPECIFICATION FOR VACUUM PUMP PACKAGE"]
[]
[]
[]
[]
[]
["Specification N°",{"$f":"Calculations!C3","v":760895}]
[]
["1. Technical Specification"]
[]
["APPLICATION"]
[]
["Country","Spain"]
["Altitude","Sea Level"]
["Absolute discharge pressure","Atmospheric"]
["Ambiance","Chemical Industry"]
["Air temperature","Maxi 40°C / Mini 0°C"]
["Operating","24h/24"]
[]
["1.1 REQUESTED FLOWRATE"]
[]
["Expressed in m3/h in suction conditions, in saturated air."]
["Range:",{"$f":"Calculations!N11","v":43020}," +/- 5% m3/h"]
[]
["1.2 PRESSURE"]
["Requested Delta P ",{"$f":"-(1013-B27)","v":-613},"mbar rel"]
["Nominal pressure ",400,"mbar abs"]
[]
["1.3 SATURATED AIR"]
[]
["Air (gas) at suction",null,"°C"]
["Temperature of sealing water",null,"°C"]
[]
["1.4 OPERATING GUARANTEE"]
[]
["In addition to the conditions above:\n- The pump and separators/silencers must be guaranteed for correct operation with a suction pressure equal to\natmospheric pressure (water delivery for example). The separator must be computed at pressure 0.\n- The flow rate is the nominal value at the vacuum\n- Pump must be able to run in all the pressure range of is curve without disturbance, mainly at low pressure for the\nefficiency of the water separator\n- Pump must be able to run in all the air temperature and assume the required flow at +/- 5% in the range that could be\ndue to change of weather or process.\n- Pump must be able to run in all the water temperature. Range that could be due to change of weather or process that is\nusually fixed at +/- 5°C of the nominal."]
[]
["1.5 SUPPLY"]
[]
["Type","Liquid Ring Pump"]
["Material of Construction"]
["The complete pump will be delivered in operating order."]
["The limits of the supply will be at the flanges for:"]
["Water input"]
["Gas input"]
["Gas output"]
["Water output"]
["The flanges will be either standard EN 1092-1 PN10"]
["Body, heads and rotor material","Cast Iron & Carbon Steel"]
["A complete transmission: pulleys/belts, coupling or reduction gearing"]
["A safety guard for transmission according to NF EN 12100 or OSHA"]
["A common base plate in painted carbon steel for pump/motor/transmission"]
["A inlet manifold (flange-mounted)"]
["A discharge separator (flange-mounted)"]
["A liquid-ring water supply pipe fitted with : \n             1 manometer with isolating valve\n             1 globe valve or restriction orifice\n             1 on/off solenoid valve\n             1 Y filter\n             1 Flowmeter supply by RPA\n"]
["1 vacuum relief valve (delivered separately)"]
["2 drip pan for recovery of gland packing"]
["1 vacuum gauge on the pump"]
["2 temporary start-up strainer"]
["1 silencer if required for respecting required noise level"]
["Shaft sealing: packing type"]
["Paint :  \nSupplier standard \nTop Color : Supplier standard\nSafety guard: Safety yellow RAL 1021"]
["\n- 1 suitable motor : \n\n             1 Cast iron frame – xx kW– 400 V – xx Hz – Cl. F/B – IP55 – xxxx rpm – IM1001 (B3), equipped with winding thermistors (detail  for motor see attached specification). \n             Painting according supplier’s standard according to environment conditions \n             Top Color : Supplier standard \n\n\n- 1 Set of motor slide rails (if necessary)\n- Inspection, tests and documentation as per specification chapter 2 \n- Language : English\n- Noise level : less than 85 dB(A) at 1 m (DIN 45635)\n- Vibration level: less than 4.5 mm/s (ISO DR 2372 machine group II)"]
[]
[]
["1.6 PRICE LIST"]
[]
["Price list should be detailed according to the following items and type of pump\n\n- Pump with accessories\n- Transmission \n- Common base \n- Motor \n- Vacuum breaker valve \n- Paint extra cost if required\n- Spare parts : Commissioning and 2 years operation\n- Tests certificate & Documentation"]
[]
["2. Inspection & Tests"]
[]
[]
[]
[]
[]
[]
[]
[]
[]
[]
[]
[]
[]
[]
[]
[]
[]
[]
[]
[]
[]
[]
[]
[]
[]
[]
[]
[]
[]
[]
[]
[]
[]
[]
[]
[]
[]
[]
[]
[]
[]
[]
[]
[]
[]
[]
[]
[]
[]
[]
[]
[]
[]
[]
[]
[]
[]
[]
[]
[]
[]
[]
[]
[]
[]
[]
[]
[]
[]
[]
[]
[]
[]
[]
[]
[]
[]
[]
["3. Packing"]
[]
["Packing shall be in accordance with S.E.I.L.A. technical specifications and suitable for sea transport."]
["Website : www.seila.fr "]
["E-Mail : info@seila.fr "]
[]
["The VENDOR shall specify whether the equipment will be supplied pre-assembled in one piece or in several pieces to be assembled on site. "]
[]
["The VENDOR shall take the limitations of transportation into consideration when carrying out his design."]
[]
["The packing shall be suitable for transportation by container 20’ or 40’."]
["Maximum width : 210 cm"]
["Maximum height : 200 cm "]
[]
["The packing shall be suitable for the type of equipment subject of this Purchase Order and such as to protect it from damage during overseas transportation, loading and unloading and during possible site storage. The packing material shall be new and uncontaminated in accordance with ISPM No. 15 \"INTERNATIONAL STANDARDS FOR PHYTOSANITARY MEASURES\". "]
["Website : http://www.ippc.int"]
["E-Mail : ippc@fao.org"]
[]
["Packing shall be suitable for transportation on roads having gradients up to 20%. "]
[]
["Equipment and parts transported loose, on pallets, in crates or in boxes shall be adequately fastened in order to prevent any movement. "]
[]
["Flanges shall be protected by blind flanges. Threaded connections shall be plugged. Machined surfaces shall be protected with a rust preventive product (grease, removable varnish, ... ). "]
[]
["The VENDOR shall provide the following shipping data as soon as possible: "]
["-          Total Gross Weight "]
["-          Total Net Weight "]
["-          Total Shipping Volume "]
["-          Certificate of Origin "]
["-          Customs Tariff Code"]
[]
["It is incumbent upon the VENDOR to liaise with the shipping agency chosen by the RPA Process (depending of the P.O.). "]
[]
["Each parcel shall be marked as follows : "]
[]
["Depending of the P.O."]
["-          Purchase Order No : "]
["-          Dimensions (L x W x H) : "]
["-          Gross Weight : "]
["-          Net Weight : "]
["-          Parcel No 1, 2, etc. / X"]
["(X being the total number of parcels in the consignment) "]
[]
["VENDOR shall notify RPA Process as soon as the equipment is ready for dispatch. "]
[]
["No shipment shall be made without written approval from RPA Process"]
[]
[]
["4. Guarantee"]
[]
["Addendum to clause 15 of our P.G.C\n\nGUARANTEE PERIOD\nThe guarantee period is of   24  months after industrial start-up on the site of the final client and will come to an end on  36 months after delivery.\n"]

{"sheet":"Spec Bande","index":43,"n_rows":60,"n_cols":13,"rows_kept":60,"cut":false,"hidden":true,"merged":[[30,2,30,3],[24,2,24,3],[26,2,26,3],[27,2,27,3],[28,2,28,3],[29,2,29,3],[6,1,6,4],[9,0,9,4],[11,0,11,4],[10,0,10,4],[16,0,16,4],[15,0,15,4],[49,0,49,4],[52,0,52,4],[35,0,35,4],[32,1,32,4],[34,1,34,4],[36,1,36,3],[37,0,37,4],[41,0,41,4],[33,0,33,4],[40,1,40,4],[43,1,43,4],[44,1,44,4],[46,1,46,4],[50,1,50,4],[51,1,51,4],[42,2,42,4],[48,1,48,4],[0,0,5,4],[7,0,7,4],[8,0,8,4],[22,1,22,4],[39,0,39,4],[38,1,38,4],[25,2,25,3],[23,0,23,4],[21,0,21,4],[47,0,47,4],[45,0,45,4],[19,0,19,4],[18,1,18,4],[17,0,17,4],[31,0,31,4]]}
["TECHNICAL SPECIFICATION FOR RUBBER BELT"]
[]
[]
[]
[]
[]
["Specification N°",{"$f":"Calculations!C3","v":760895}]
[]
["1. Technical Specification"]
[]
["1.1 APPLICATION"]
[]
["·         Caractéristiques de la composition du produit / Product characteristics",null,null,{"$f":"Calculations!K3","v":"Soda ash"}]
["·         Température Produit / Product Temperature",null,null,"°C"]
["·         Temps d'opération / Operating",null,null,"24h/24"]
[]
["1.1 SPECIFICATIONS BANDE / BELT SPECIFICATIONS"]
[]
["·         Choix du caoutchouc / Rubber selection","SBR - LT"]
[]
["·         Carcasse / Carcass","Type 4EE200 arrêtée à  \n4EE 200 type up to",{"$f":"IF(OR(Calculations!E9=4000,Calculations!E9=4200),\"105 mm\",\"60 mm\")","v":"60 mm"},"des bords et sans dans la partie médiane sur une largeur de :\nfrom edges and without any in the middle line for a width of :",{"$f":"IF(OR(Calculations!E9=4000,Calculations!E9=4200),\"115 mm\",IF(OR(Calculations!E9=3000,Calculations!E9=2500,Calculations!E9=2000,Calculations!E9=2250),\"100 mm\",\"80 mm\"))","v":"100 mm"}]
[]
["·         Impression toile / Cloth marking","Sur toute la largeur de la bande en face supérieure\nOn the whole width of the cloth on upper side"]
[]
["·         Dimensions / Sizes","Désignation / Designation",{"$f":"Calculations!K10","v":"90B30"}]
[null,"Quantité / Quantity"]
[null,"Longueur sans fin interne/Length inner endless",{"$f":"IF(Calculations!$I$9=\"SERIE 2\",Band2!C13,Band!C10)*1000","v":68600},null,{"$f":"\"+/- 75  mm\"","v":"+/- 75  mm"}]
[null,"Largeur / Width",{"$f":"IF(Calculations!$I$9=\"SERIE 2\",LOOKUP(Band2!H3,Band2!B16:G16,Band2!B15:G15),LOOKUP(Band!H3,Band!B13:G13,Band!B12:G12))","v":3250},null,{"$f":"\"+/- 10  mm\"","v":"+/- 10  mm"}]
[null,"Revêtement supérieur / Cover top side",{"$f":"Calculations!R60","v":18},null,{"$f":"\"+/- 0,5  mm\"","v":"+/- 0,5  mm"}]
[null,"Revêtement inférieur / Cover bottom side",{"$f":"Calculations!R61","v":7},null,{"$f":"\"+/-  0,5  mm\"","v":"+/-  0,5  mm"}]
[null,"Epaisseur totale / Total thickness",{"$f":"Calculations!E24","v":31},null,{"$f":"\"+/- 1  mm\"","v":"+/- 1  mm"},null,null,null,null,null,null,null,"SBR - LT"]
[null,null,null,null,null,null,null,null,null,null,null,null,"SBR - HT"]
["·         Bande / Belt","Sans fin / Endless",null,null,null,null,null,null,null,null,null,null,"EPDM"]
[null,null,null,null,null,null,null,null,null,null,null,null,"NITRILE"]
["·         Jonction / Junction","En notre usine / In our plant"]
[]
["·         Marquage / Marking","Oui ",null,null,"Marking to be confirmed"]
[null,null,null,null,null,null,null,null,null,null,null,null,"Sans fin / Endless"]
["·         Garantie / Warranty","La période de garantie est de  18 mois  après la mise en service industrielle sur le site du client final devant intervenir de 6 à 18 mois après la date de livraison. La période de garantie de prorata temporis est de 12 mois prenant effet après la période initiale.\n\nAutres clauses habituelles entre nos deux sociétés. \n\nThe guarantee period is 18 months after industrial start-up on final customer’s site which must take place from 6 to 18 months after delivery. The guarantee prorata temporis period is 12 months effective after the initial period.\n\nOther conditions as per the usual ones between our two companies.",null,null,null,null,null,null,null,null,null,null,"Ouvert / Open"]
[]
["·         Contrôle / Checking","Selon notre spécification FP 92.04 / As per our specification FP 92.04"]
[]
["·         Documents / Documents","Langue / Language","English"]
[null,"Certificat de conformité / Compliance certificate"]
[null,"Certificat dimensionnel / Dimensional certificate"]
[]
["·         Echantillon / Sample","Pour chaque bande, nous fournir un échantillon de longueur 100 mm montrant la section de la bande dans sa largeur\nFor each belt, supply of  one 100 mm long sample showing the belt section"]
[]
["·        Vitesse du filtre / Filter speed",{"$f":"Calculations!F25","v":25.471698113207548}]
[]
["·        Travaux effectués par nos soins / Works carried out by HASLER GROUP","Taillage de la bande et perçage central / Belt cutting and central drilling"]
[null,"Collage des talons sans préchauffage/ Belt curbs gluing without preheating"]
[]
[]
[null,null,null,null,null,null,null,null,null,null,null,null,"En notre usine / In our plant"]
[null,null,null,null,null,null,null,null,null,null,null,null,"En votre usine / In oyur plant"]
[null,null,null,null,null,null,null,null,null,null,null,null,"Sur site / On site"]
[]
[null,null,null,null,null,null,null,null,null,null,null,null,"Oui "]
[null,null,null,null,null,null,null,null,null,null,null,null,"Non"]

{"sheet":"Manifold INOX","index":44,"n_rows":41,"n_cols":29,"rows_kept":41,"cut":false,"hidden":true,"merged":[[2,10,2,11],[7,10,7,11]]}
[]
[]
[null,null,null,null,null,null,null,null,null,null,"MANUEL"]
[null,null,null,"DN","Poids au mètre MANIFOLD (kg)",null,null,null,null,null,"Matière","DN manifold","Nombre Troncons","Troncon 1 (m)","Troncon 2 (m)","Troncon 3 (m)","Troncon 4 (m)","Longueur Totale Troncons (m)","Poids total Troncons (kg)","Nbre brides pleines","Nbre brides plates","Poids total brides","Nbre piquages vers BAV","DN piquages vers BAV","Poids piquages vers BAV (kg)","Poids piquages vers ballons (kg)","Poids total (kg)","Prix (Euros)"]
[null,null,null,65,5.49,null,null,null,null,null,"904L",200,1,5.9,0,0,0,10,{"$f":"VLOOKUP(L5,D5:E19,2,TRUE)*R5","v":202.7},4,4,{"$f":"T5*VLOOKUP(L5,D22:E34,2,TRUE)+U5*VLOOKUP(L5,D22:F34,3,TRUE)","v":103.24000000000001},8,100,{"$f":"VLOOKUP(X5,D5:E9,2,TRUE)*W5*0.3","v":20.376000000000001},{"$f":"M5*0.5*VLOOKUP(L5,D5:E19,2,TRUE)","v":10.135},{"$f":"$S$5+$V$5+$Y$5+$Z$5","v":336.45099999999996},{"$f":"AA5*VLOOKUP(K5,D37:E38,2,FALSE)/0.8","v":{"$error":"#N/A"}}]
[null,null,null,80,6.56]
[null,null,null,100,8.49]
[null,null,null,125,10.27,null,null,null,null,null,"AUTO"]
[null,null,null,150,14.04,null,null,null,null,null,"Matière","DN manifold","Nombre Troncons","Troncon 1 (m)","Troncon 2 (m)","Troncon 3 (m)","Troncon 4 (m)","Longueur Totale Troncons (m)","Poids total Troncons (kg)","Nbre brides pleines","Nbre brides plates","Poids total brides","Nbre piquages vers BAV","DN piquages vers BAV","Poids piquages vers BAV (kg)","Poids piquages vers ballons (kg)","Poids total (kg)","Prix (Euros)"]
[null,null,null,200,20.27,null,null,null,null,null,{"$f":"Calculations!E31","v":"SVR"},{"$f":"Calculations!E32","v":700},{"$f":"Calculations!S31","v":3},{"$f":"IF(M10=1,Calculations!AC51,IF(M10=2,Calculations!Z50,IF(M10=3,Calculations!Z49,IF(M10=4,Calculations!Z48))))","v":9905.66},{"$f":"IF(M10=1,0,IF(M10=2,Calculations!AD50,IF(M10=3,Calculations!AB49,IF(M10=4,Calculations!AB48))))","v":" "},{"$f":"IF(M10=1,0,IF(M10=2,0,IF(M10=3,Calculations!AF49,IF(M10=4,Calculations!AD48))))","v":18962},{"$f":"IF(M10=1,0,IF(M10=2,0,IF(M10=3,0,IF(M10=4,Calculations!AF48))))","v":0},{"$f":"SUM(N10:Q10)/1000","v":28.867660000000001},{"$f":"VLOOKUP(L10,D5:E19,2,TRUE)*R10","v":0},{"$f":"M10*2","v":6},{"$f":"M10*3+IF(N10>12000,2,0)+IF(O10>12000,2,0)+IF(P10>12000,2,0)+IF(Q10>12000,2,0)","v":13},{"$f":"T10*VLOOKUP(L10,D22:E34,2,TRUE)+U10*VLOOKUP(L10,D22:F34,3,TRUE)","v":1433.44},{"$f":"Calculations!R36","v":28},{"$f":"Calculations!H29","v":150},{"$f":"VLOOKUP(X10,D5:E19,2,TRUE)*W10*0.3","v":117.93599999999999},{"$f":"M10*0.5*VLOOKUP(L10,D10:E24,2,TRUE)","v":8.4750000000000014},{"$f":"$S$10+$V$10+$Y$10+$Z$10","v":1559.8509999999999},{"$f":"AA10*VLOOKUP(K10,D37:E41,2,FALSE)/0.8","v":{"$error":"#N/A"}}]
[null,null,null,250,28.21]
[null,null,null,300,33.04]
[null,null,null,350,41.99]
[null,null,null,400,48.07]
[null,null,null,450,54.15]
[null,null,null,500,69.95]
[null,null,null,600,95.49]
[null,null,null,700]
[null,null,null,800,null,null,null,null,null,null,null,null,null,null,null,null,null,null,null,null,null,null,null,null,null,null,null,15000]
[null,null,null,null,null,null,null,null,null,null,null,null,null,null,null,null,null,null,null,null,null,null,null,null,null,null,null,{"$f":"AB19/AA5","v":44.583015060142493}]
[null,null,null,null,"Poids unitaire brides pleines (kg)","Poids unitaire brides plates (kg)"]
[null,null,null,65,3.66,3]
[null,null,null,80,4.7699999999999996,3.79]
[null,null,null,100,5.65,4.03]
[null,null,null,125,8.42,5.46,null,null,null,null,null,null,null,null,null,null,null,null,null,null,null,null,null,null,null,null,null,{"$f":"AA10*45","v":70193.294999999998}]
[null,null,null,150,10.4,6.57]
[null,null,null,200,16.5,9.31]
[null,null,null,250,24.9,11.9]
[null,null,null,300,35.1,13.8]
[null,null,null,350,40.6,20.6,null,null,null,null,null,null,null,null,null,null,null,null,null,null,null,null,null,null,null,null,null,{"$f":"AA10/4","v":389.96274999999997}]
[null,null,null,400,49.4,27.9]
[null,null,null,450,60.2,35.4]
[null,null,null,500,75,41.1,null,null,null,null,null,null,null,null,null,null,null,null,null,null,null,null,null,null,null,null,null,null,{"$f":"AB30*25","v":9749.0687499999985}]
[null,null,null,600,103.49,62.5]
[]
[null,null,null,null,"Prix au kilo (Euros)"]
[null,null,null,"304L",11.5]
[null,null,null,"316L",13]
[null,null,null,"U45N",17]
[null,null,null,"904L",35]
[null,null,null,"E24",3]

{"sheet":"PdR FR","index":45,"n_rows":76,"n_cols":20,"rows_kept":76,"cut":false,"hidden":true,"merged":[[0,2,3,15],[4,2,5,3],[6,2,7,3],[8,2,9,3],[4,4,5,6],[6,4,7,6],[8,4,9,6],[4,13,9,15],[4,7,6,9],[7,7,9,9],[4,10,6,12],[7,10,9,12]]}
[null,null,"LISTE PIECES DE RECHANGE"]
[]
[null,null,null,null,null,null,null,null,null,null,null,null,null,null,null,null,null,null,"Commission",0]
[]
[null,null,"Client",null,{"$f":"Calculations!C2","v":"PKT"},null,null,"Date",null,null,{"$f":"TODAY()","v":"2026-02-11"},null,null,"Customers Service\nJose PINTO\nPhone : +33 (0)2 33 81 13 14 \nMob : +33 (0)6 37 07 29 37\njose.pinto@hasler-gp.com"]
[]
[null,null,"Type de filtre",null,{"$f":"Calculations!K10","v":"90B30"}]
[null,null,null,null,null,null,null,"Validité des prix",null,null,{"$f":"YEAR(K5)","v":2026}]
[null,null,"Référence du filtre",null,{"$f":"Calculations!C4","v":"Soda ash filter"}]
[]
["Code Article","Matière","Désignation","Quantité installée par Filtre","Quantité recommandée pour commissioning","Quantité recommandée pour 1 an","Quantité recommandée pour 2 ans","Quantité \nen stock","Prix\nRevient Formule JPIN","Prix\nRevient Unitaire","Marge\nBrute","Prix Vente\n Unitaire","Prix Vente Total Commissioning","Prix Vente Total \n1 an","Prix Vente Total  \n2 ans","Prix Vente Total Stock"]
["E00000000000018","PE-UHMW","Galet guide bande",{"$f":"IF(Calculations!I9=\"SERIE 2\",6,'Séries 3-4-5'!B23)","v":24},0,0,0,2,null,20,0.55000000000000004,{"$f":"ROUNDUP((J12/(1-K12))/(1-$T$3),)","v":45},{"$f":"L12*E12","v":0},{"$f":"L12*F12","v":0},{"$f":"L12*G12","v":0},{"$f":"L12*H12","v":90}]
["E000000536-0006","316L","Palette palpeur",{"$f":"1","v":1},0,1,2,1,null,93,0.55000000000000004,{"$f":"ROUNDUP((J13/(1-K13))/(1-$T$3),)","v":207},0,{"$f":"L13*F13","v":207},{"$f":"L13*G13","v":414},{"$f":"L13*H13","v":207}]
["ECOM000249-0006","316L","JUD",{"$f":"1","v":1},0,0,0,1,null,846,0.4,1410,0,0,0,1410]
["EGUIDROUPOL9",null,"Rouleau 9\" polyuréthane",null,null,null,null,null,null,148,0.55000000000000004,329,0,0,0,0]
["EGUIDROUNIO9","316L","Rouleau 9\" inox",null,null,null,null,null,null,106,0.55000000000000004,236,0,0,0,0]
["EGUIDVERIN09",null,"Vérin 5\"1/4 - 9\"",null,null,null,null,null,null,157,0.55000000000000004,349,0,0,0,0]
["EGUIDPAL09NO",null,"Palpeur pnematique 9\"",null,null,null,null,null,null,105,0.55000000000000004,234,0,0,0,0]
[null,null,"Palier complet tambour moteur",2,0,0,0,1,"Somme des composants + 250€ de peinture",null,0.4,0,0,0,0,0]
[null,null,"Roulement pour tambour moteur",{"$f":"2","v":2},0,0,0,1,"Voir CEGID",null,0.4,0,0,0,0,0]
[null,null,"Manchon de serrage",{"$f":"D20","v":2},0,0,0,1,"Voir CEGID",null,0.4,0,0,0,0,0]
[null,null,"Palier complet tambour libre",{"$f":"D20","v":2},0,0,0,1,"Somme des composants + 250€ peinture",null,0.4,0,0,0,0,0]
[null,null,"Roulement pour tambour libre",{"$f":"2","v":2},0,0,0,1,"Voir CEGID",null,0.4,0,0,0,0,0]
[null,null,"Manchon de serrage",{"$f":"D23","v":2},0,0,0,1,"Voir CEGID",null,0.4,0,0,0,0,0]
[null,null,"Palier complet rouleaux toile et bande",{"$f":"D23","v":2},0,0,0,0,"Somme des composants + 40€ peinture",null,0.4,0,0,0,0,0]
[{"$f":"IF(Calculations!I9=\"SERIE 2\",\"E00000000000361\",\"\")","v":""},null,"Palier complet rouleaux toile",{"$f":"('Séries 3-4-5'!B26+'Séries 3-4-5'!B29+'Séries 3-4-5'!B32+'Séries 3-4-5'!B35+'Séries 3-4-5'!B38+'Séries 3-4-5'!B41)*2-D27","v":40},0,0,0,{"$f":"CEILING(D26/10,5)","v":5},"Voir CEGID",null,0.4,0,0,0,0,0]
[null,null,"Palier complet rouleaux bande",{"$f":"'Séries 3-4-5'!B26*2","v":18},0,0,0,{"$f":"CEILING(D27/10,5)","v":5},"Voir CEGID",null,0.4,0,0,0,0,0]
["E000002479-8005",null,"Palier plastique rouleau entrée",2,0,0,0,2,null,22,0.55000000000000004,49,0,0,0,98]
[null,null,null,null,null,null,null,null,null,null,null,0,null,0]
[null,null,null,null,null,null,null,null,null,null,null,null,null,0]
["ECOM000034-7058","SBR","Véssie vérin 8x2 - Guidage toile",{"$f":"IF(Calculations!$I$9=\"SERIE 2\",'Série 2'!B73,'Séries 3-4-5'!$B$73)","v":2},0,0,0,{"$f":"IF(D31=0,0,1)","v":1},null,45,0.4,75,0,0,0,75]
["ECOM001026-7058","SBR","Véssie vérin 8x3 - Basculement boîte à vide",{"$f":"IF(Calculations!I9=\"SERIE 2\",0,'Séries 3-4-5'!B72)","v":9},0,0,0,{"$f":"IF(D32=0,0,1)","v":1},null,62,0.4,104,0,0,0,104]
["ECOM000435-7058","SBR","Vessie vérin 6x2 - Basculement boîte à vide",{"$f":"IF(Calculations!I9=\"SERIE 2\",'Série 2'!B74-'PdR FR'!D34,0)","v":0},null,null,null,null,null,null,null,null,null,0]
["ECOM000435-7058","SBR","Véssie vérin 6x2 - Tension toile",{"$f":"IF(Calculations!$I$9=\"SERIE 2\",2,'Séries 3-4-5'!$B$73)","v":2},null,null,null,null,null,null,null,null,null,0]
["ECOM000088-7058","SBR","Véssie vérin 10x2 - Tension toile",{"$f":"IF(Calculations!I9=\"SERIE 2\",0,'Séries 3-4-5'!B71)","v":2},0,0,0,1,null,47,0.4,79,0,0,0,79]
["ECOM000100-7058","SBR","Véssie vérin 12x2 - Tension toile",{"$f":"IF(Calculations!I9=\"SERIE 2\",0,'Séries 3-4-5'!B70)","v":0},0,0,0,0,null,68,0.4,114,0,0,0,0]
[null,null,"Toile",{"$f":"1","v":1},1,1,3,1,"Voir CEGID",null,0.4,{"$f":"250*Calculations!C9","v":22500},22500,22500,67500,22500]
[null,null,null,null,null,null,null,null,null,null,null,0,null,0]
[null,"PE-UHMW","Longueur réglettes table - Droite",{"$f":"D41/2","v":5},0,0,0,1,"(20 x longueur table) + 15",{"$f":"20*Tabl!D5+15","v":615},0.55000000000000004,1367,0,0,0,1367]
[null,"PE-UHMW","Longueur réglettes table - Gauche",{"$f":"D39","v":5},0,0,0,1,"(20 x longueur table) + 15",{"$f":"J39","v":615},0.55000000000000004,1367,0,0,0,1367]
[null,null,"Courroie de table",{"$f":"IF(Calculations!I9=\"SERIE 2\",'Cost List2.xls'!G12,'Cost list'!H13)","v":10},2,0,{"$f":"D41","v":10},2,"6,5 x longueur (mètres) + 90",{"$f":"6.5*Tabl!D65+90","v":500.47499999999997},0.55000000000000004,1113,{"$f":"L41*E41","v":2226},0,11130,2226]
["E000002231-8005","PE-UHMW","Roue de tension",{"$f":"IF(OR(Calculations!$I$9=\"SERIE 3\",Calculations!$I$9=\"SERIE 4\",Calculations!$I$9=\"SERIE 5\"),Tabl!$C$36,IF(Calculations!$E$9=500,4,IF(Calculations!$E$9=1000,8,12)))","v":30},0,0,0,0,null,34,0.55000000000000004,76,0,0,0,0]
["E000002232-8005","PE-UHMW","Roue de sortie",{"$f":"IF(Calculations!I9=\"SERIE 2\",Tabl2!B10,Tabl!C37)","v":10},0,0,0,0,null,29,0.55000000000000004,65,0,0,0,0]
["E000002234-8005","PE-UHMW","Galet de renvoi",{"$f":"IF(Calculations!I9=\"SERIE 2\",Tabl2!B12,Tabl!C39)","v":160},0,0,0,0,null,3,0.55000000000000004,7,0,0,0,0]
[null,null,null,null,null,null,null,null,null,null,null,0,null,0]
[null,null,"Réducteur",1,0,0,0,0,"Voir CEGID",null,0.4,0,0,0,0,0]
[null,null,"Moteur",1,0,0,0,0,"Voir CEGID",null,0.4,0,0,0,0,0]
[null,null,"Jeu de courroies de transmission",1,0,0,1,1,"Voir CEGID",null,0.4,0,0,0,0,0]
[null,null,null,null,null,null,null,null,null,null,null,0,null,0]
[null,"PE-UHMW","Dessus de BAV",1,0,0,1,1,"100 x longueur boite",{"$f":"100*Tabl!D5","v":3000},0.55000000000000004,6667,0,0,6667,6667]
[null,null,"Courroie boite à vide",2,2,2,4,2,"11 x longueur (mètres) + 90",{"$f":"11*('B. à V.'!B65*2+2.51)+90","v":777.61},0.55000000000000004,1729,3458,3458,6916,3458]
["E000000746-8005","PE-UHMW","Roue de sortie BAV",2,0,0,0,0,null,56,0.55000000000000004,125,0,0,0,0]
["E000000384-8005","PE-UHMW","Galet de renvoi",{"$f":"'Séries 3-4-5'!N65","v":24},0,0,0,0,null,8,0.55000000000000004,18,0,0,0,0]
[{"$f":"'Séries 3-4-5'!L53","v":"E000000568-7023"},"Rubber","Manchette",{"$f":"Calculations!R36","v":28},0,0,{"$f":"D54","v":28},{"$f":"CEILING(D54/10,5)","v":5},"Voir CEGID",null,0.4,200,0,0,5600,1000]
[null,null,null,null,null,null,null,null,null,null,null,0,null,0]
[null,"PU 90 shore","Lame de grattoir",1,0,1,2,1,"27 x longueur (mètres) + 45 €",{"$f":"27*(Calculations!E9/1000+0.38)+45","v":136.26},0.55000000000000004,303,0,303,606,303]
[null,"PVDF","Buse",{"$f":"3*Calculations!H75+2*Calculations!H76","v":161},{"$f":"CEILING(D57/10,10)","v":20},0,{"$f":"D57","v":161},{"$f":"CEILING(D57/2,10)","v":90},null,2.5,0.4,5,100,0,805,450]
[null,null,null,null,null,null,null,null,null,null,null,0,null,0]
["EELE000311-9034",null,"Corps de détecteur - Dérive bande ou toile",4,0,0,0,{"$f":"D59","v":4},null,31,0.4,52,0,0,0,208]
["EELE000313-9034",null,"Tête de détecteur - Dérive bande ou toile",4,0,0,0,{"$f":"D60","v":4},null,31,0.4,52,0,0,0,208]
["EELE000449-9034",null,"Arrêt d'urgence à cable - GAUCHE",1,0,0,0,1,null,352,0.4,587,0,0,0,587]
["EELE000450-9034",null,"Arrêt d'urgence à cable - DROIT",1,0,0,0,1,null,352,0.4,587,0,0,0,587]
["EELE000192-0000",null,"Détecteur inductif - Tension et rotation toile",2,0,0,0,2,null,100,0.4,167,0,0,0,334]
["EELE000484-0000",null,"Pressostat air",1,0,0,0,1,null,320,0.4,534,0,0,0,534]
["EELE000485-0000",null,"Pressostat eau",1,0,0,0,1,null,320,0.4,534,0,0,0,534]
[null,null,"Capteur surcouple",1,0,0,0,1,null,57,0.4,{"$f":"ROUNDUP((J66/(1-K66))/(1-$T$3),)","v":95},{"$f":"L66*E66","v":0},0,{"$f":"L66*G66","v":0},{"$f":"L66*H66","v":95}]
["EELE000317-0000",null,"Transmetteur épaisseur gateau",1,0,0,0,1,null,543,0.4,905,0,0,{"$f":"$L$12*G67","v":0},905]
[null,null,null,null,null,null,null,null,null,null,null,null,{"$f":"SUM(M12:M67)","v":28284},{"$f":"SUM(N12:N67)","v":26468},99638,45393,"TOTAL (€)"]
[]
[]
[null,null,null,null,{"$f":"IF(OR(Calculations!$I$9=\"SERIE 3\",Calculations!$I$9=\"SERIE 4\",Calculations!$I$9=\"SERIE 5\"),Tabl!$C$36,IF(Calculations!$E$9=500,4,IF(Calculations!$E$9=1000,8,12)))","v":30}]
[]
[]
[null,null,null,null,"B0,5 => 4"]
[null,null,null,null,"B10 => 8"]
[null,null,null,null,"B12,5 / B15 => 12"]

{"sheet":"CSFRAME 3 meter","index":46,"n_rows":31,"n_cols":15,"rows_kept":31,"cut":false,"hidden":true,"merged":[]}
[]
["FILTRE :",{"$f":"Surface","v":90},"M2",null,"CHARPENTE LG. :",{"$f":"'Séries 3-4-5'!B3","v":3000},null,null,"5 mn/kg = 2000"]
[null,null,null,null,null,null,null,null,"4 mn/kg > 2000"]
[]
["Désignation","Poids","Prix moyen","Surface peinture","Prix au M2","Quantité","Poids total","Total","M. O.",null,"Désignation","Poids"]
[null,null," matière: E24 2",null,null,null,null,null,{"$f":"IF('Séries 3-4-5'!B6=\"serie 3\",5,4)","v":4}]
[null,null,null,null,13,null,null,null,"mn / kg",null,null,2000,3000,"4000/ 4200","4200 S5"]
["Bati d' entée",{"$f":"IF($F$2=2000,L8,M8)","v":1469},0.85,77,13,1,{"$f":"F8*B8","v":1469},{"$f":"((B8*C8))*F8","v":1248.6499999999999},null,null,"Bati d' entée",1353,1469,2624,2624]
["Bati de sortie",{"$f":"IF($F$2=2000,L9,M9)","v":1060},0.85,56,13,1,{"$f":"F9*B9","v":1060},{"$f":"((B9*C9))*F9","v":901},null,null,"Bati de sortie",1100,1060,2671,2671]
["Poteau",{"$f":"IF($F$2=2000,L10,M10)","v":315},0.85,15,13,{"$f":"IF(SUM(F14+F15+F17+F18+F19)=0,\"\",(F14+F15+F17+F18+F19)-1)","v":7},{"$f":"IF(F10=\"\",\"\",F10*B10)","v":2205},{"$f":"IF(F10=\"\",\"\",((B10*C10))*F10)","v":1874.25},null,null,"Poteau",350,315,740,740]
["Support tension de toile",{"$f":"IF($F$2=2000,L11,M11)","v":235},0.85,10,13,1,{"$f":"F11*B11","v":235},{"$f":"((B11*C11))*F11","v":199.75},null,null,"Support tension de toile",102,235,235,235]
["Rails bati d'entrée :",{"$f":"IF(F6=2000,L12,M12)","v":0},null,null,null,null,null,null,null,null,"Rails"]
["Pas de 3000",{"$f":"IF($F$2=2000,L13,M13)","v":130},0.85,6.5,13,{"$f":"'Séries 3-4-5'!B9","v":0},{"$f":"F13*B13","v":0},{"$f":"((B13*C13))*F13","v":0},null,null,"Pas de 3000",130,130,156,156]
["Pas de 3500",{"$f":"IF($F$2=2000,L14,M14)","v":140},0.85,7,13,{"$f":"'Séries 3-4-5'!B10","v":4},{"$f":"F14*B14","v":560},{"$f":"((B14*C14))*F14","v":476},null,null,"Pas de 3500",140,140,168,168]
["Pas de 4000",153,0.85,7.65,13,{"$f":"'Séries 3-4-5'!B11","v":4},{"$f":"F15*B15","v":612},{"$f":"((B15*C15))*F15","v":520.19999999999993},null,null,"Pas de 4000",153,153,184,184]
["Rails :",0,null,null,null,null,null,null,null,null,"Rails :"]
["Intermédiaire 3000",75,0.85,3.75,13,0,{"$f":"F17*B17","v":0},{"$f":"((B17*C17))*F17","v":0},null,null,"Intermédiaire 3000",75,75,90,90]
["Intermédiaire 3500",87,0.85,4.3499999999999996,13,0,{"$f":"F18*B18","v":0},{"$f":"((B18*C18))*F18","v":0},null,null,"Intermédiaire 3500",87,87,105,105]
["Intermédiaire 4000",100,0.85,5,13,0,{"$f":"F19*B19","v":0},{"$f":"((B19*C19))*F19","v":0},null,null,"Intermédiaire 4000",100,100,120,120]
["Bati de sortie",40,0.85,2,13,1,{"$f":"F20*B20","v":40},{"$f":"((B20*C20))*F20","v":34},null,null,"Bati de sortie",40,40,48,48]
["Reforts de table",190,0.85,16,13,{"$f":"LOOKUP(B26,C26:C31,D26:D31)","v":5},{"$f":"F21*B21","v":950},{"$f":"((B21*C21))*F21","v":807.5},null,null,"Reforts de table",60,190,190,190]
[null,null,"Peinture:",{"$f":"IF(F2=3000,D8+D9+D10+D11+D13*F13+D14*F14+D15*F15+D17*F17+D18*F18+D19*F19+D20+D21*F21,L22*0.03)","v":298.60000000000002},{"$f":"D22*E7","v":3881.8},"TOTAL :",{"$f":"SUM(G8:G21)","v":7131},{"$f":"SUM(H8:H21)+(HLOOKUP(F2,Char!H84:M90,2,0)/6.655957)","v":6794.3775721432694},{"$f":"((G22*I6)/60)+70","v":545.4},"inclu 70 h pour protection",null,{"$f":"SUM(L8:L21)","v":3690},{"$f":"SUM(M8:M21)","v":3994},{"$f":"SUM(N8:N21)","v":7331},{"$f":"SUM(O8:O21)","v":7331}]
[null,null,"M.O. :",2,{"$f":"(G22*D23/60)+50","v":287.7}]
["Note:difference rails entrée mise dans bati d'entrée ",null,null,null,null,null,"prix moyen :",{"$f":"H22/G22","v":0.95279449896834512}]
[]
["Couple DaNm",{"$f":"'Séries 3-4-5'!B77","v":88238.119392556851},0,1]
[null,null,1000,1]
[null,null,2000,2]
[null,null,4000,3]
[null,null,8000,4]
[null,null,10000,5]

{"sheet":"CSFRAME 4 meter","index":47,"n_rows":31,"n_cols":9,"rows_kept":31,"cut":false,"hidden":true,"merged":[]}
[]
["FILTRE :",{"$f":"(((F13+F17)*3)+((F14+F18)*3.5)+((F15+F19)*4))*F2*0.001","v":126},"M2",null,"CHARPENTE LG. :",4200]
[]
[]
["Désignation","Poids","Prix moyen","Surface peinture","Prix au M2","Quantité","Poids total","Total","M. O."]
[null,null," matière: E24 2",null,null,null,null,null,4]
[null,null,null,null,null,null,null,null,"mn / kg"]
["Bati d' entée",2624,0.85,null,13,1,{"$f":"F8*B8","v":2624},{"$f":"((B8*C8))*F8","v":2230.4}]
["Bati de sortie",2671,0.85,null,13,1,{"$f":"F9*B9","v":2671},{"$f":"((B9*C9))*F9","v":2270.35}]
["Poteau",740,0.85,null,13,{"$f":"IF(SUM(F14+F15+F17+F18+F19)=0,\"\",(F14+F15+F17+F18+F19)-1)","v":7},{"$f":"IF(F10=\"\",\"\",F10*B10)","v":5180},{"$f":"IF(F10=\"\",\"\",((B10*C10))*F10)","v":4403}]
["Support tension de toile",235,0.85,null,13,1,{"$f":"F11*B11","v":235},{"$f":"((B11*C11))*F11","v":199.75}]
["Rails bati d'entrée :"]
["Pas de 3000",156,0.85,null,13,{"$f":"'Séries 3-4-5'!B9","v":0},{"$f":"F13*B13","v":0},{"$f":"((B13*C13))*F13","v":0}]
["Pas de 3500",168,0.85,null,13,{"$f":"'Séries 3-4-5'!B10","v":4},{"$f":"F14*B14","v":672},{"$f":"((B14*C14))*F14","v":571.19999999999993}]
["Pas de 4000",184,0.85,null,13,{"$f":"'Séries 3-4-5'!B11","v":4},{"$f":"F15*B15","v":736},{"$f":"((B15*C15))*F15","v":625.6}]
["Rails :"]
["Intermédiaire 3000",90,0.85,null,13,0,{"$f":"F17*B17","v":0},{"$f":"((B17*C17))*F17","v":0}]
["Intermédiaire 3500",105,0.85,null,13,0,{"$f":"F18*B18","v":0},{"$f":"((B18*C18))*F18","v":0}]
["Intermédiaire 4000",120,0.85,null,13,0,{"$f":"F19*B19","v":0},{"$f":"((B19*C19))*F19","v":0}]
["Bati de sortie",48,0.85,null,13,1,{"$f":"F20*B20","v":48},{"$f":"((B20*C20))*F20","v":40.799999999999997}]
["Reforts de table",190,0.85,null,13,{"$f":"LOOKUP(B26,C26:C31,D26:D31)","v":5},{"$f":"F21*B21","v":950},{"$f":"((B21*C21))*F21","v":807.5}]
[null,null,"Peinture:",{"$f":"SUM(G8:G11)*0.03","v":321.3},{"$f":"D22*E21","v":4176.9000000000005},"TOTAL :",{"$f":"SUM(G8:G21)","v":13116},{"$f":"SUM(H8:H21)+(HLOOKUP(F2,Char!H84:M90,2,0)/6.655957)","v":12019.549136239913},{"$f":"(G22*I6)/60","v":874.4}]
[null,null,"M.O. :",2,{"$f":"SUM(G8:G11)*D23/60","v":357}]
["Note:difference rails entrée mise dans bati d'entrée",null,null,null,null,null,"prix moyen :",{"$f":"H22/G22","v":0.9164035632997799}]
[]
["Couple DaNm",{"$f":"'Séries 3-4-5'!B77","v":88238.119392556851},0,1,null,null,null,{"$f":"HLOOKUP(F2,Char!H84:M90,2,0)","v":5797}]
[null,null,1000,1]
[null,null,2000,2]
[null,null,4000,3]
[null,null,8000,4]
[null,null,10000,5]

{"sheet":"Char","index":48,"n_rows":96,"n_cols":18,"rows_kept":96,"cut":false,"hidden":true,"merged":[]}
[]
["FAB",{"$f":"'Séries 3-4-5'!B4","v":90},"M2",null,null,"CHARPENTE \"INOX\" Lg.",{"$f":"'Séries 3-4-5'!B3","v":3000},null,null,null,null,null," \"ADX\" "]
[]
[]
["Désignation","Poids",null,"Prix moyen matière",null,null,"Quantité","Poids total","Total","Total","Total","Total","M. O."]
[null,null,"304 L","316 L","904 L","U45N",null,null,"304L","316L","904L","U45N",{"$f":"IF('Cost list'!F11=\"\",O7,O6)","v":5.5},"E24",5.5]
[null,null,null,null,null,null,null,null,null,null,null,null," mn/kg",null,3.5]
["Bati d' entée",{"$f":"HLOOKUP($G$2,$B$36:$M$54,2,0)+53","v":1298},16.5,20,{"$f":"D8*2.75","v":55},28,1,{"$f":"G8*B8","v":1298},{"$f":"C8*H8","v":21417},{"$f":"H8*D8","v":25960},{"$f":"H8*E8","v":71390},{"$f":"F8*H8","v":36344}]
["Bati de sortie",{"$f":"HLOOKUP($G$2,$B$36:$M$53,3,0)","v":1271},16.5,20,55,28,1,1271,20971.5,25420,69905,{"$f":"F9*H9","v":35588}]
["Poteau",{"$f":"HLOOKUP($G$2,$B$36:$M$53,4,0)","v":315},16.5,20,55,28,{"$f":"IF(SUM(G13+G14+G15+G16+G17+G18+G19)=0,0,(G13+G14+G15+G16+G17+G18+G19)-1)","v":7},2205,36382.5,44100,121275,61740]
["Support tension de toile",{"$f":"HLOOKUP($G$2,$B$36:$M$53,5,0)","v":145},16.5,20,55,28,1,145,2392.5,2900,7975,4060]
["Renforts de table",{"$f":"HLOOKUP($G$2,$B$36:$M$53,6,0)","v":398},16.5,20,55,28,1,398,6567,7960,21890,11144]
["Rails bati d'entrée Pas de 3500",{"$f":"HLOOKUP($G$2,$B$36:$M$53,10,0)","v":140},16.5,20,55,28,{"$f":"'Séries 3-4-5'!B10","v":4},560,9240,11200,30800,15680]
["Rails bati d'entrée Pas de 4000",{"$f":"HLOOKUP($G$2,$B$36:$M$53,11,0)","v":153},16.5,20,55,28,{"$f":"'Séries 3-4-5'!B11","v":4},612,10098,12240,33660,17136,null,null,null,null,{"$f":"IF(E11=\";\",O24,0)","v":0}]
["Rails intermédiaires Pas de 2000",{"$f":"HLOOKUP($G$2,$B$36:$M$53,12,0)","v":0},16.5,20,55,28,null,0,0,0,0,0]
["Rails intermédiaires Pas de 2500",{"$f":"HLOOKUP($G$2,$B$36:$M$53,13,0)","v":0},16.5,20,55,28,0,0,0,0,0,0]
["Rails intermédiaires Pas de 3000",{"$f":"HLOOKUP($G$2,$B$36:$M$53,14,0)","v":75},16.5,20,55,28,0,0,0,0,0,0]
["Rails intermédiaires Pas de 3500",{"$f":"HLOOKUP($G$2,$B$36:$M$53,15,0)","v":87},16.5,20,55,28,0,0,0,0,0,0]
["Rails intermédiaires Pas de 4000",{"$f":"HLOOKUP($G$2,$B$36:$M$53,16,0)","v":100},16.5,20,55,28,0,0,0,0,0,0]
["Rails Bati de sortie",{"$f":"HLOOKUP($G$2,$B$36:$M$53,17,0)","v":40},16.5,20,55,28,1,40,660,800,2200,1120]
["Sous-traitance tubes (mètres)",{"$f":"HLOOKUP($G$2,$B$36:$M$53,18,0)","v":30},500,500,500,500,1,30,15000,15000,15000,{"$f":"F21*H21","v":15000},null,"Bati ADX",null,"mat","MO"]
[null,null,null,null,null,null,null,0,0,0,0,{"$f":"H22*F22","v":0},null,"matiere","MO","Paint","Paint"]
[null,null,null,null,null,null,null,null,null,null,null,null,null,"Euro","Euro","Euro","Euro"]
["Note:difference rails entrée mise dans bati d'entrée",null,null,null,null,null,"TOTAL :",{"$f":"SUM(H8:H20)","v":6529},{"$f":"IF('Cost list'!$F$11=\"\",(SUM(I8:I22)*1.3)+IF('Séries 3-4-5'!$B$84=0,0,HLOOKUP($G$2,$B$84:$M$87,3,0)),SUM(I8:I22)+IF('Séries 3-4-5'!$B$84=0,0,HLOOKUP($G$2,$B$84:$M$87,3,0)))","v":128468.5},{"$f":"IF('Cost list'!$F$11=\"\",(SUM(J8:J22)*1.3)+IF('Séries 3-4-5'!$B$84=0,0,HLOOKUP($G$2,$B$84:$M$87,3,0)),SUM(J8:J22)+IF('Séries 3-4-5'!$B$84=0,0,HLOOKUP($G$2,$B$84:$M$87,3,0)))","v":151320},{"$f":"IF('Cost list'!$F$11=\"\",(SUM(K8:K22)*1.3)+IF('Séries 3-4-5'!$B$84=0,0,HLOOKUP($G$2,$B$84:$M$87,3,0)),SUM(K8:K22)+IF('Séries 3-4-5'!$B$84=0,0,HLOOKUP($G$2,$B$84:$M$87,3,0)))","v":379835},{"$f":"IF('Cost list'!$F$11=\"\",(SUM(L8:L22)*1.3)+IF('Séries 3-4-5'!$B$84=0,0,HLOOKUP($G$2,$B$84:$M$87,3,0)),SUM(L8:L22)+IF('Séries 3-4-5'!$B$84=0,0,HLOOKUP($G$2,$B$84:$M$87,3,0)))","v":203552},{"$f":"((H24*M6)/60)+IF('Séries 3-4-5'!$B$84=0,0,HLOOKUP($G$2,B84:M90,7,0))","v":648.49166666666667},{"$f":"IF('Cost list'!L4=3000,'CSFRAME 3 meter'!H22,IF('Cost list'!L4=2000,'CSFRAME 3 meter'!H22,'CSFRAME 4 meter'!H22))","v":6794.3775721432694},{"$f":"IF('Cost list'!L4=3000,'CSFRAME 3 meter'!I22,IF('Cost list'!L4=2000,'CSFRAME 3 meter'!I22,'CSFRAME 4 meter'!I22))","v":545.4},{"$f":"IF('Cost list'!L4=3000,'CSFRAME 3 meter'!E22,IF('Cost list'!L4=2000,'CSFRAME 3 meter'!E22,'CSFRAME 4 meter'!E22))","v":3881.8},{"$f":"IF('Cost list'!L4=3000,'CSFRAME 3 meter'!E23,IF('Cost list'!L4=2000,'CSFRAME 3 meter'!E23,'CSFRAME 4 meter'!E23))","v":287.7}]
[]
[null,350,null,null,null,null,null,"prix moyen :",{"$f":"I24/H24","v":19.676596722315821},{"$f":"J24/H24","v":23.176596722315821},null,{"$f":"K24/H24","v":58.176596722315821}]
["Demontage accessoires",20,null,null,null,null,null,null,{"$f":"I24/6.55957","v":19584.896570964254},{"$f":"J24/6.55957","v":23068.585288364939},{"$f":"K24/6.55957","v":57905.47246237177},{"$f":"L24/6.55957","v":31031.302356709359}]
[{"$f":"IF(A26=\"PRE\",\"pre-assembly + labelling\",\"full erection in factory + reinforcement\")","v":"full erection in factory + reinforcement"},100]
[]
[]
[]
[]
[]
[]
[]
[null,250,500,750,1000,1250,1500,2000,2250,2500,3000,4000,4200]
["Bati d' entée",214,229,250,265,null,1124,1175,null,1200,1245,1962,2087]
["Bati de sortie",212,227,248,263,null,796,850,null,1230,1271,1928,2073]
["Poteau",85,92,105,112,null,200,227,null,290,315,462,499]
["Support tension de toile",null,null,null,null,null,120,120,null,120,145,145,145]
["Renforts de table",null,null,null,null,null,190,190,null,190,{"$f":"(63*2)+((LOOKUP($P$41,$Q$41:$Q$46,$R$41:$R$46))*68)","v":398},{"$f":"(63*2)+((LOOKUP($P$41,$Q$41:$Q$46,$R$41:$R$46))*68)","v":398},{"$f":"(63*2)+((LOOKUP($P$41,$Q$41:$Q$46,$R$41:$R$46))*68)","v":398},null,"Couple Nm",{"$f":"'Séries 3-4-5'!B77","v":88238.119392556851},0,1]
["Rails bati d'entrée Pas de 2000",91,182,182,182,null,null,null,null,null,null,null,null,null,null,null,10000,1]
["Rails bati d'entrée Pas de 2500",112,224,224,224,null,null,null,null,null,null,null,null,null,{"$f":"(LOOKUP(P41,Q41:Q46,R41:R46))","v":4},null,20000,2]
["Rails bati d'entrée Pas de 3000",134,268,268,268,null,130,130,null,130,130,130,130,null,null,null,40000,3]
["Rails bati d'entrée Pas de 3500",156,312,312,312,null,140,140,null,140,140,140,140,null,null,null,80000,4]
["Rails bati d'entrée Pas de 4000",null,null,null,null,null,153,153,null,153,153,153,153,null,null,null,100000,5]
["Rails intermédiaires Pas de 2000",87,174,174,174]
["Rails intermédiaires Pas de 2500",108,216,216,216]
["Rails intermédiaires Pas de 3000",130,260,260,260,null,75,75,null,75,75,75,75]
["Rails intermédiaires Pas de 3500",152,304,304,304,null,87,87,null,87,87,87,87]
["Rails intermédiaires Pas de 4000",null,null,null,null,null,100,100,null,100,100,100,100]
["Rails Bati de sortie",4,8,8,8,null,40,40,null,40,40,40,40]
["Sous-traitance tubes (mètres)",{"$f":"($G$10*3)+6","v":27},{"$f":"($G$10*3)+6","v":27},{"$f":"($G$10*3)+6","v":27},{"$f":"($G$10*3)+6","v":27},null,30,30,null,30,30,35,38]
["MO",14,12,12,12,7,7,7,7,5.5,5.5,5.5,5.5]
[]
[]
["GUIDAGE TOILE",250,500,750,1000,1250,1500,2000,2250,2500,3000,4000,4200]
["E24",600,600,600,600,1740,1840,2000,2160,2275,2500,2800,2870]
["304L",600,600,600,600,1740,1840,2000,2160,2275,2500,2800,2870]
["316L",700,700,700,700,2000,2115,2340,2480,2615,2875,3200,3300]
["904L",1925,1925,1925,1925,5500,5820,6500,6820,7190,7910,8800,9075]
["U45N",{"$f":"B61*0.54","v":1039.5},{"$f":"C61*0.54","v":1039.5},1039.5,1039.5,2970,3142.8,3510.0000000000005,3682.8,3882.6000000000004,4271.4000000000005,4752,4900.5]
["NEGOCE",4000,4830,4830,4830,23000,26200,31145,32300,33500,41000,53000,55000]
["MO",40,40,40,40,25,30,30,30,30,30,30,30]
[]
["TENSION TOILE",250,500,750,1000,1250,1500,2000,2250,2500,3000,4000,4200]
["E24",1750,2100,2450,2800,3150,3500,4200,4900,5305,6050,7600,7950]
["304L",1750,2100,2450,2800,3150,3500,4200,4900,5305,6050,7600,7950]
["316L",2000,2400,2800,3200,3600,4000,4800,5610,6100,6950,8725,9100]
["904L",5500,6600,7700,8800,9900,11000,13200,15430,16775,19115,24000,25025]
["U45N",{"$f":"B70*0.54","v":2970},3564.0000000000005,4158,4752,5346,5940,7128.0000000000009,8332.2000000000007,9058.5,10322.1,12960,13513.5]
["NEGOCE",500,500,500,500,1500,1500,1500,1500,1500,1500,1500,1500]
["MO",40,40,40,40,50,50,50,50,50,50,60,60]
[]
["BRAS DE REACTION",250,500,750,1000,1250,1500,2000,2250,2500,3000,4000,4200]
["E24",255,255,255,598,935,1190,1678,1910,2170,2610,5128,5128]
["304L",255,255,255,598,935,1190,1678,1910,2170,2610,5128,5128]
["316L",300,300,300,705,1100,1400,1980,2250,2550,3075,6080,6080]
["904L",825,825,825,1955,3050,3880,5490,6240,7075,8530,17080,17080]
["U45N",{"$f":"B79*0.54","v":445.50000000000006},445.50000000000006,445.50000000000006,1055.7,1647,2095.2000000000003,2964.6000000000004,3369.6000000000004,3820.5000000000005,4606.2000000000007,9223.2000000000007,9223.2000000000007]
["NEGOCE",200,200,200,900,900,900,900,900,900,900,900,900]
["MO",10,10,10,20,25,25,25,30,30,30,50,50]
[]
["PROTECTION",250,500,750,1000,1250,1500,2000,2250,2500,3000,4000,4200]
["304L",null,null,null,null,null,null,4100,null,4879,4879,5644,5797]
["316L",null,null,null,null,null,null,4825,null,5740,5740,6640,6820]
["904L",null,null,null,null,null,null,13265,null,15785,15785,18260,18755]
["U45N",{"$f":"B87*0.54","v":0},0,0,0,0,0,7163.1,0,8523.9000000000015,8523.9000000000015,9860.4000000000015,10127.700000000001]
["NEGOCE",null,null,null,null,null,null,13850,null,16610,16610,18120,19630]
["MO",null,null,null,null,null,null,50,null,50,50,50,50]
[]
["PROTECTION CE",{"$f":"(((B2/G2/0.001)+13)*2+((G2*0.001)+7.5))*250","v":24125}]
[]
["VISSERIE",304,1400]
[null,316,2800]
[null,"904L",14000]

{"sheet":"Tamb","index":49,"n_rows":21,"n_cols":13,"rows_kept":21,"cut":false,"hidden":true,"merged":[]}
["TAMBOURS REVETUS \"NATUREL\""]
[]
["Désignation",250,500,750,1000,1250,1500,2000,2250,2500,3000,4000,4200]
["Matière tambour moteur",900,1000,1100,1200,3607,0,0,0,0,0,0,0]
["Revêtement tambour moteur",4980,5890,6780,7700,10585,38400,42600,0,42600,65600,84300,94300]
["Matière tambour libre",600,700,800,900,2852,0,0,0,0,0,0,0]
["Revêtement tambour libre",3900,4650,5400,6150,8220,33300,37000,0,37000,48500,63400,75000]
["MO Tambour moteur",32,32,32,32,55,0,0,0,0,0,0,0]
["MO Tambour libre",28,28,28,28,46,0,0,0,0,0,0,0]
["Paliers de tambours",1200,3200,3200,4000,10000,13350,17800,null,17800,32000,35000,40300]
[]
[]
[null,null,null,null,null,null,null,null,null,null,null,"dia 1400"]
[null,null,null,null,null,null,null,null,null,null,3000,4000,4200]
[null,null,null,null,null,null,null,null,null,null,12200,15452,0]
[null,null,null,null,null,null,null,null,null,null,23800,29600,94300]
[null,null,null,null,null,null,null,null,null,null,10150,13008,0]
[null,null,null,null,null,null,null,null,null,null,19800,24400,75000]
[null,null,null,null,null,null,null,null,null,null,90,120,0]
[null,null,null,null,null,null,null,null,null,null,80,110,0]
[null,null,null,null,null,null,null,null,null,null,32000,35000,40300]

{"sheet":"Roul","index":50,"n_rows":820,"n_cols":42,"rows_kept":820,"cut":false,"hidden":true,"merged":[]}
["ROULEAUX","Mis à jour le 17/01/06"]
[3000]
["Soutien de bande"]
["Matière","304 L","316 L","E24","904L","U45N",null,"Selection des rouleaux",null,2000,3000,"4000/4200"]
["Désignation",null,null,null,null,null,null,"Cloth form rollers T70",null,273,273,273,5,null,null,null,"Ø","2000304L","2000316L","2000CAOUT","2000904L","2000U45N","2500304L","2500316L","2500CAOUT","2500904L","2500U45N","3000304L","3000316L","3000904L","3000U45N","3000CAOUT","4000304L","4000316L","4000904L","4000U45N","4000CAOUT","4200304L","4200316L","4200904L","4200U45N","4200CAOUT"]
[null,600,700,254,2490,{"$f":"E6*0.54","v":1344.6000000000001},null,"Cloth form rollers T120",null,355,355,355,6,null,null,"Rouleau soutien bande",219,0,0,0,0,0,0,0,0,0,0,0,0,0,0,0,0,0,0,0,0,0,0,0,0,0]
["1 Tube ø 273 x 4,19 Lg 2970",{"$f":"A8*B6","v":1782.0000000000002},{"$f":"A8*C6","v":2079},{"$f":"A8*D6","v":754.38},{"$f":"A8*E6","v":7395.3},{"$f":"A8*F6","v":3993.4620000000004},null,"belt support roller T70",null,273,273,355,7,null,null,null,273,{"$f":"Roul!B112","v":2275},{"$f":"Roul!C112","v":2631},{"$f":"Roul!D112","v":1262.3800000000001},{"$f":"Roul!E112","v":8323.2999999999993},{"$f":"Roul!F112","v":4494.5820000000003},{"$f":"Roul!B112","v":2275},{"$f":"Roul!C112","v":2631},{"$f":"Roul!D112","v":1262.3800000000001},{"$f":"Roul!E112","v":8323.2999999999993},{"$f":"Roul!F112","v":4494.5820000000003},{"$f":"B13","v":2875},{"$f":"C13","v":3331},{"$f":"E13","v":10813.3},{"$f":"F13","v":5839.1820000000007},{"$f":"D13","v":1516.38},0,0,0,0,0,0,0,0,0,0]
[2.97,null,null,null,null,null,null,"belt support roller T120",null,355,355,406,8,null,null,null,355,{"$f":"Roul!B125","v":3047.05},{"$f":"Roul!C125","v":3561.3999999999996},{"$f":"Roul!D125","v":1708.1999999999998},{"$f":"Roul!E125","v":11396.3},{"$f":"Roul!F125","v":6154.0020000000004},{"$f":"Roul!B125","v":3047.05},{"$f":"Roul!C125","v":3561.3999999999996},{"$f":"Roul!D125","v":1708.1999999999998},{"$f":"Roul!E125","v":11396.3},{"$f":"Roul!F125","v":6154.0020000000004},{"$f":"B26","v":5957.05},{"$f":"C26","v":6901.4},{"$f":"E26","v":20716.300000000003},{"$f":"F26","v":11186.802000000001},{"$f":"D26","v":2838.2},{"$f":"B197","v":7231.55},{"$f":"C197","v":8389.4},{"$f":"E197","v":25393.300000000003},{"$f":"F197","v":13712.382},{"$f":"D197","v":3766.2},{"$f":"B282","v":7404.5499999999993},{"$f":"C282","v":8593.4},{"$f":"E282","v":26071.3},{"$f":"F282","v":14078.502},{"$f":"D282","v":3858.2}]
["4 Galettes ép 10 ø 270 x ø 60",610,700,210,1900,{"$f":"E9*0.54","v":1026},null,"Cloth exit rollers",null,168,168,273,9,null,null,null,406,0,0,0,0,0,0,0,0,0,0,0,0,0,0,0,{"$f":"B210","v":9083.6},{"$f":"C210","v":10301},{"$f":"E210","v":28824},{"$f":"F210","v":15564.960000000001},{"$f":"D210","v":3966.2},{"$f":"B295","v":9309.6},{"$f":"C295","v":10561},{"$f":"E295","v":29564},{"$f":"F295","v":15964.560000000001},{"$f":"D295","v":4058.2}]
[null,21,24,24,66,{"$f":"E10*0.54","v":35.64},null,"Cloth discharge rollers",null,168,168,168.3,10,null,null,null,"Ø","2000304L","2000316L","2000CAOUT","2000904L","2000U45N","2500304L","2500316L","2500CAOUT","2500904L","2500U45N","3000304L","3000316L","3000904L","3000U45N","3000CAOUT","4000304L","4000316L","4000904L","4000U45N","4000CAOUT","4200304L","4200316L","4200904L","4200U45N","4200CAOUT"]
["2 Ronds ø 70 Lg 380",{"$f":"A12*B10","v":483},{"$f":"A12*C10","v":552},{"$f":"A12*D10","v":552},{"$f":"A12*E10","v":1518},{"$f":"A12*F10","v":819.72},null,"Cloth support rollers",null,168,168,273,11,null,null,"Revêtement caoutchouc",219,0,0,0,0,0,0,0,0,0,0,0,0,0,0,0,0,0,0,0,0,0,0,0,0,0]
[23,null,null,null,null,null,null,"Cloth return rollers",null,168,219,273,12,null,null,null,273,15,15,{"$f":"Roul!D113+15","v":3030},15,15,15,15,{"$f":"Roul!I113+15","v":15},15,15,15,15,15,15,{"$f":"D14+15","v":4485},0,0,0,0,0,0,0,0,0,0]
["TOTAL Matière",{"$f":"B7+B9+B11","v":2875},{"$f":"C7+C9+C11","v":3331},{"$f":"D7+D9+D11","v":1516.38},{"$f":"E7+E9+E11","v":10813.3},{"$f":"F7+F9+F11","v":5839.1820000000007},null,{"$f":"\"T\"&'Séries 3-4-5'!B18&(LEFT('Séries 3-4-5'!B3,1))","v":"T1203"},"T702","T1202","T703","T1203","T704","T1204",null,null,355,15,15,{"$f":"Roul!D126+15","v":4025},15,15,15,15,{"$f":"Roul!I126+15","v":15},15,15,15,15,15,15,{"$f":"D27","v":5900},15,15,15,15,{"$f":"D198+15","v":7715},15,15,15,15,{"$f":"D283+15","v":8085}]
["Revêtement caoutchouc",null,null,4470,null,null,"belt support",{"$f":"IF($H$13=K13,K7,IF($H$13=L13,K8,IF($H$13=M13,L7,IF($H$13=N13,L8,IF($H$13=I13,J7,J8)))))","v":355},"7*8",null,null,null,null,null,null,null,406,0,0,0,0,0,0,0,0,0,0,0,0,0,0,0,15,15,15,15,{"$f":"D211+15","v":8827},15,15,15,15,{"$f":"D296+15","v":9250}]
["M. O.",6,6,6,6,6,"Cloth return",{"$f":"IF($H$13=K13,K12,IF($H$13=L13,K12,IF($H$13=M13,L12,IF($H$13=N13,L12,IF($H$13=I13,J12,J12)))))","v":219},12,null,null,null,null,null,null,null,"Ø","2000304L","2000316L","2000CAOUT","2000904L","2000U45N","2500304L","2500316L","2500CAOUT","2500904L","2500U45N","3000304L","3000316L","3000904L","3000U45N","3000CAOUT","4000304L","4000316L","4000904L","4000U45N","4000CAOUT","4200304L","4200316L","4200904L","4200U45N","4200CAOUT"]
["Soutien de bande",null,null,null,null,null,"Cloth support",{"$f":"IF($H$13=K13,K11,IF($H$13=L13,K11,IF($H$13=M13,L11,IF($H$13=N13,L11,IF($H$13=I13,J11,J11)))))","v":168},11,null,null,null,null,null,null,"Rouleau soutien toile",60,0,0,0,0,0,0,0,0,0,0,0,0,0,0,0,0,0,0,0,0,0,0,0,0,0]
["Matière","304 L","316 L","E24","904L","U45N","Cloth exist",{"$f":"IF($H$13=K13,K9,IF($H$13=L13,K10,IF($H$13=M13,L9,IF($H$13=N13,L9,IF($H$13=I13,J9,J9)))))","v":168},9,null,null,null,null,null,null,null,114,0,0,{"$f":"Roul!D804","v":0},0,0,0,0,{"$f":"Roul!I804","v":0},0,0,0,0,0,0,{"$f":"#REF!","v":{"$error":"#REF!"}},0,0,0,0,0,0,0,0,0,0]
["Désignation",null,null,null,null,null,"Cloth form",{"$f":"IF($H$13=K13,K5,IF(Roul!$H$13=L13,K6,IF($H$13=M13,L5,IF($H$13=N13,L6,IF($H$13=I13,J6,J5)))))","v":355},"5*6",null,null,null,null,null,null,null,168.3,{"$f":"Roul!B139","v":1056.5},{"$f":"Roul!C139","v":1178},{"$f":"Roul!D139","v":721.8},{"$f":"Roul!E139","v":4208.5},{"$f":"Roul!F139","v":2290.9900000000002},{"$f":"Roul!B139","v":1056.5},{"$f":"Roul!C139","v":1178},{"$f":"Roul!D139","v":721.8},{"$f":"Roul!E139","v":4208.5},{"$f":"Roul!F139","v":2290.9900000000002},{"$f":"B40","v":1346.5},{"$f":"C40","v":1498},{"$f":"E40","v":5538.5},{"$f":"F40","v":3009.1900000000005},{"$f":"D40","v":885.80000000000007},0,0,0,0,0,0,0,0,0,0]
[null,865,1020,460,3390,{"$f":"E19*0.54","v":1830.6000000000001},null,null,null,null,null,null,null,null,null,null,219,0,0,0,0,0,0,0,0,0,0,{"$f":"B54","v":1881},{"$f":"C54","v":2069},{"$f":"E54","v":5696.25},{"$f":"F54","v":3099.8950000000004},{"$f":"D54","v":1299.6500000000001},0,0,0,0,0,0,0,0,0,0]
["1 Tube ø 355 x 4,78 Lg 2970",{"$f":"A21*B19","v":2569.0500000000002},{"$f":"A21*C19","v":3029.4},{"$f":"A21*D19","v":1366.2},{"$f":"A21*E19","v":10068.300000000001},{"$f":"A21*F19","v":5436.8820000000005},null,null,null,null,null,null,null,null,null,null,273,0,0,0,0,0,0,0,0,0,0,0,0,0,0,0,{"$f":"B224","v":3542},{"$f":"C224","v":4098},{"$f":"E224","v":13587.5},{"$f":"F224","v":7385.5500000000011},{"$f":"D224","v":1868.3},{"$f":"B309","v":3662},{"$f":"C309","v":4238},{"$f":"E309","v":14085.5},{"$f":"F309","v":7654.4700000000012},{"$f":"D309","v":1919.1000000000001}]
[2.97,null,null,null,null,null,null,"SI($H$13=I13;K7;SI($H$13=J13;K8;SI($H$13=K13;L7;SI($H$13=J13;SI($H$13=J13;K8)))",null,null,null,null,null,null,null,null,"Ø","2000304L","2000316L","2000CAOUT","2000904L","2000U45N","2500304L","2500316L","2500CAOUT","2500904L","2500U45N","3000304L","3000316L","3000904L","3000U45N","3000CAOUT","4000304L","4000316L","4000904L","4000U45N","4000CAOUT","4200304L","4200316L","4200904L","4200U45N","4200CAOUT"]
["4 Galettes moulées ø 350",2800,3200,800,8800,{"$f":"E22*0.54","v":4752},null,null,null,null,null,null,null,null,null,"Revêtement caoutchouc",60,0,0,0,0,0,0,0,0,0,0,0,0,0,0,0,0,0,0,0,0,0,0,0,0,0]
[null,21,24,24,66,{"$f":"E23*0.54","v":35.64},null,null,null,null,null,null,null,null,null,null,114,0,0,{"$f":"Roul!D805","v":0},0,0,0,0,{"$f":"Roul!I805","v":0},0,0,0,0,0,0,{"$f":"#REF!","v":{"$error":"#REF!"}},0,0,0,0,0,0,0,0,0,0]
["2 Ronds ø 70 Lg 450",{"$f":"A25*B23","v":588},{"$f":"A25*C23","v":672},{"$f":"A25*D23","v":672},{"$f":"A25*E23","v":1848},{"$f":"A25*F23","v":997.92000000000007},null,null,null,null,null,null,null,null,null,null,168.3,15,15,{"$f":"Roul!D140+15","v":2390},15,15,15,15,{"$f":"Roul!D140+15","v":2390},15,15,15,15,15,15,{"$f":"D41","v":3325},0,0,0,0,0,0,0,0,0,0]
[28,null,null,null,null,null,null,null,null,null,null,null,null,null,null,null,219,0,0,0,0,0,0,0,0,0,0,15,15,15,15,{"$f":"D55","v":4400},0,0,0,0,0,0,0,0,0,0]
["TOTAL Matière",{"$f":"B20+B22+B24","v":5957.05},{"$f":"C20+C22+C24","v":6901.4},{"$f":"D20+D22+D24","v":2838.2},{"$f":"E20+E22+E24","v":20716.300000000003},{"$f":"F20+F22+F24","v":11186.802000000001},null,null,null,null,null,null,null,null,null,null,273,0,0,0,0,0,0,0,0,0,0,0,0,0,0,0,15,15,15,15,{"$f":"D225+15","v":6985},15,15,15,15,{"$f":"D310+15","v":7290}]
["Revêtement caoutchouc",null,null,5900,null,null,null,null,null,null,null,null,null,null,null,null,"Ø","2000304L","2000316L","2000CAOUT","2000904L","2000U45N","2500304L","2500316L","2500CAOUT","2500904L","2500U45N","3000304L","3000316L","3000904L","3000U45N","3000CAOUT","4000304L","4000316L","4000904L","4000U45N","4000CAOUT","4200304L","4200316L","4200904L","4200U45N","4200CAOUT"]
["M. O.",14,14,14,14,14,null,null,null,null,null,null,null,null,null,"Rouleau d'entrée",219,0,0,0,0,0,0,0,0,0,0,0,0,0,0,0,0,0,0,0,0,0,0,0,0,0]
["Soutien de toile",null,null,null,null,null,"Soutien de toile",null,null,null,null,null,null,null,null,null,273,{"$f":"Roul!B154","v":2224.5},{"$f":"Roul!C154","v":2618},{"$f":"Roul!D154","v":1327.9},{"$f":"Roul!E154","v":9018.5},{"$f":"Roul!F154","v":6022.29},{"$f":"Roul!B154","v":2224.5},{"$f":"Roul!C154","v":2618},{"$f":"Roul!D154","v":1327.9},{"$f":"Roul!E154","v":9018.5},{"$f":"Roul!F154","v":6022.29},{"$f":"B69","v":2824.5},{"$f":"C69","v":3318},{"$f":"E69","v":11508.5},{"$f":"F69","v":7366.89},{"$f":"D69","v":1581.9},{"$f":"B239","v":3424.5},{"$f":"C239","v":4018},{"$f":"E239","v":13998.5},{"$f":"F239","v":8711.4900000000016},{"$f":"D239","v":1835.9},{"$f":"B324","v":3544.5},{"$f":"C324","v":4158},{"$f":"E324","v":14496.5},{"$f":"F324","v":8980.41},{"$f":"D324","v":1886.7}]
["Matière","304 L","316 L","E24","904L","U45N","Matière",null,null,"E24",null,null,null,null,null,null,355,{"$f":"Roul!B169","v":3638.8},{"$f":"Roul!C169","v":4294.3999999999996},{"$f":"Roul!D169","v":2045.2},{"$f":"Roul!E169","v":14476.8},{"$f":"Roul!F169","v":9726.4720000000016},{"$f":"Roul!B169","v":3638.8},{"$f":"Roul!C169","v":4294.3999999999996},{"$f":"Roul!D169","v":2045.2},{"$f":"Roul!E169","v":14476.8},{"$f":"Roul!F169","v":9726.4720000000016},{"$f":"B84","v":4503.7999999999993},{"$f":"C84","v":5314.4},{"$f":"E84","v":17866.8},{"$f":"F84","v":11557.072},{"$f":"D84","v":2505.1999999999998},{"$f":"B254","v":5368.7999999999993},{"$f":"C254","v":6334.4},{"$f":"E254","v":21256.799999999999},{"$f":"F254","v":13387.672},{"$f":"D254","v":2965.2},{"$f":"B339","v":5541.7999999999993},{"$f":"C339","v":6538.4},{"$f":"E339","v":21934.799999999999},{"$f":"F339","v":13753.791999999999},{"$f":"D339","v":3057.2}]
["Désignation",null,null,null,null,null,"Désignation",null,null,null,null,null,null,null,null,null,"Ø","2000304L","2000316L","2000CAOUT","2000904L","2000U45N","2500304L","2500316L","2500CAOUT","2500904L","2500U45N","3000304L","3000316L","3000904L","3000U45N","3000CAOUT","4000304L","4000316L","4000904L","4000U45N","4000CAOUT","4200304L","4200316L","4200904L","4200U45N","4200CAOUT"]
[null,290,320,164,1330,{"$f":"E32*0.54","v":718.2},null,null,null,12,null,null,null,null,null,"Revêtement caoutchouc",219,0,0,0,0,0,0,0,0,0,0,0,0,0,0,0,0,0,0,0,0,0,0,0,0,0]
["1 Tube ø 168,3 x 3,4 Lg 3450",{"$f":"A34*B32","v":1000.5},{"$f":"A34*C32","v":1104},{"$f":"A34*D32","v":565.80000000000007},{"$f":"A34*E32","v":4588.5},{"$f":"A34*F32","v":2477.7900000000004},"1 Tube ø 168,3 x 7,11 Lg 3450",null,null,{"$f":"G34*J32","v":1200},null,null,null,null,null,null,273,15,15,{"$f":"Roul!D155","v":3015},15,15,15,15,{"$f":"Roul!D155","v":3015},15,15,15,15,15,15,{"$f":"D70","v":4470},15,15,15,15,{"$f":"D240","v":5850},15,15,15,15,{"$f":"D325+15","v":6165}]
[3.45,null,null,null,null,null,100,null,null,null,null,null,null,null,null,null,355,15,15,{"$f":"Roul!D170","v":4010},15,15,15,15,{"$f":"Roul!D170","v":4010},15,15,15,15,15,15,{"$f":"D85","v":5900},15,15,15,15,{"$f":"D255","v":7700},15,15,15,15,{"$f":"D340+15","v":8115}]
["2 Galettes ép 10 ø 170 x ø 50",96,114,40,250,{"$f":"E35*0.54","v":135},"2 Galettes ép 10 ø 170 x ø 50",null,null,40,null,null,null,null,null,null,"Ø","2000304L","2000316L","2000CAOUT","2000904L","2000U45N","2500304L","2500316L","2500CAOUT","2500904L","2500U45N","3000304L","3000316L","3000904L","3000U45N","3000CAOUT","4000304L","4000316L","4000904L","4000U45N","4000CAOUT","4200304L","4200316L","4200904L","4200U45N","4200CAOUT"]
["2 Galettes ép 10 ø 170 x ø 50",40,40,40,40,40,"2 Galettes ép 10 ø 170 x ø 50",null,null,40,null,null,null,null,null,"Rouleau guide",168.3,{"$f":"Roul!B183","v":1056.5},{"$f":"Roul!C183","v":1178},{"$f":"Roul!D183","v":0},{"$f":"Roul!E183","v":4208.5},{"$f":"Roul!F183","v":2290.9900000000002},{"$f":"Roul!B183","v":1056.5},{"$f":"Roul!C183","v":1178},{"$f":"Roul!D183","v":0},{"$f":"Roul!E183","v":4208.5},{"$f":"Roul!F183","v":2290.9900000000002},0,0,0,0,0,0,0,0,0,0,0,0,0,0,0]
[null,21,24,24,66,{"$f":"E37*0.54","v":35.64},null,null,null,24,null,null,null,null,null,null,219,0,0,0,0,0,0,0,0,0,0,{"$f":"B98","v":1881},{"$f":"C98","v":2069},{"$f":"E98","v":5696.25},{"$f":"F98","v":3099.8950000000004},0,0,0,0,0,0,0,0,0,0,0]
["2 Ronds ø 55 Lg 265",{"$f":"A39*B37","v":210},{"$f":"A39*C37","v":240},{"$f":"A39*D37","v":240},{"$f":"A39*E37","v":660},{"$f":"A39*F37","v":356.4},"2 Ronds ø 55 Lg 265",null,null,{"$f":"G39*J37","v":240},null,null,null,null,null,null,273,0,0,0,0,0,0,0,0,0,0,0,0,0,0,0,{"$f":"B268","v":3542},{"$f":"C268","v":4098},{"$f":"E268","v":13587.5},{"$f":"F268","v":7385.5500000000011},0,{"$f":"B353","v":3662},{"$f":"C353","v":4238},{"$f":"E353","v":14085.5},{"$f":"F353","v":7654.4700000000012},0]
[10,null,null,null,null,null,10,null,null,null,null,null,null,null,null,null,"Ø","2000304L","2000316L","2000CAOUT","2000904L","2000U45N","2500304L","2500316L","2500CAOUT","2500904L","2500U45N","3000304L","3000316L","3000904L","3000U45N","3000CAOUT","4000304L","4000316L","4000904L","4000U45N","4000CAOUT","4200304L","4200316L","4200904L","4200U45N","4200CAOUT"]
["TOTAL Matière",{"$f":"B33+B35+B36+B38","v":1346.5},{"$f":"C33+C35+C36+C38","v":1498},{"$f":"D33+D35+D36+D38","v":885.80000000000007},{"$f":"E33+E35+E36+E38","v":5538.5},{"$f":"F33+F35+F36+F38","v":3009.1900000000005},"TOTAL Matière",null,null,{"$f":"J33+J35+J36+J38","v":1520},null,null,null,null,null,"Revêtement caoutchouc",168.3,{"$f":"Roul!B184","v":2150},{"$f":"Roul!C184","v":2150},0,{"$f":"Roul!E184","v":2150},{"$f":"Roul!F184","v":2150},{"$f":"Roul!B184","v":2150},{"$f":"Roul!C184","v":2150},0,{"$f":"Roul!E184","v":2150},{"$f":"Roul!F184","v":2150},0,0,0,0,0,0,0,0,0,0,0,0,0,0,0]
["Revêtement caoutchouc",null,null,3325,null,null,"Revêtement caoutchouc",null,null,4000,null,null,null,null,null,null,219,0,0,0,0,0,0,0,0,0,0,{"$f":"B99","v":3500},{"$f":"C99","v":3500},{"$f":"E99","v":3500},{"$f":"F99","v":3500},0,0,0,0,0,0,0,0,0,0,0]
["M. O.",6,6,6,6,6,"M. O.",null,null,12,null,null,null,null,null,null,273,0,0,0,0,0,0,0,0,0,0,0,0,0,0,0,{"$f":"B269","v":5725},{"$f":"C269","v":5725},{"$f":"E269","v":5725},{"$f":"F269","v":5725},0,{"$f":"B354","v":6000},{"$f":"C354","v":6000},{"$f":"E354","v":6000},{"$f":"F354","v":6000},0]
["Soutien de toile"]
["Matière","304 L","316 L","E24","904L","U45N",null,null,null,null,null,null,null,null,null,"Ø",null,null,"Rouleau débatisseur :"]
["Désignation",null,null,null,null,null,null,null,null,null,null,null,null,null,null,60,2,null,null,1500,2000,3000,null,null,null,null,null,4000,4200]
[null,420,460,277,1265,{"$f":"E46*0.54","v":683.1},null,null,null,null,null,null,null,null,null,114,3.5,null,168,{"$f":"S378","v":0},{"$f":"J139","v":1160},{"$f":"J40","v":1520},null,null,null,null,null,{"$f":"J224","v":2168},{"$f":"J309","v":2390.5500000000002}]
["1 Tube ø 219,1 x 3,76 Lg 3450",{"$f":"A48*B46","v":1449},{"$f":"A48*C46","v":1587},{"$f":"A48*D46","v":955.65000000000009},{"$f":"A48*E46","v":4364.25},{"$f":"A48*F46","v":2356.6950000000002},null,null,null,null,null,null,null,null,null,168,5,null,null,null,{"$f":"J140","v":3000},{"$f":"J41","v":4000},null,null,null,null,null,{"$f":"J225","v":4000},{"$f":"J310","v":5000}]
[3.45,null,null,null,null,null,null,null,null,null,null,null,null,null,null,219,6,null,null,null,{"$f":"J141","v":12},{"$f":"J42","v":12},null,null,null,null,null,{"$f":"J226","v":12},{"$f":"J311","v":15}]
["2 Galettes ép 10 ø 220 x ø 50",170,190,52,620,{"$f":"E49*0.54","v":334.8},null,null,null,null,null,null,null,null,null,273,7]
["2 Galettes ép 10 ø 220 x ø 50",52,52,52,52,52,null,null,null,null,null,null,null,null,null,355,13]
[null,21,24,24,66,{"$f":"E51*0.54","v":35.64},null,null,null,null,null,null,null,null,null,406,15]
["2 Ronds ø 55 Lg 265",{"$f":"A53*B51","v":210},{"$f":"A53*C51","v":240},{"$f":"A53*D51","v":240},{"$f":"A53*E51","v":660},{"$f":"A53*F51","v":356.4}]
[10,null,null,null,null,null,null,null,null,null,null,null,null,null,null,"SNH507",200,0.15]
["TOTAL Matière",{"$f":"B47+B49+B50+B52","v":1881},{"$f":"C47+C49+C50+C52","v":2069},{"$f":"D47+D49+D50+D52","v":1299.6500000000001},{"$f":"E47+E49+E50+E52","v":5696.25},{"$f":"F47+F49+F50+F52","v":3099.8950000000004},null,null,null,null,null,null,null,null,null,"SNH509",270,0.15]
["Revêtement caoutchouc",null,null,4400,null,null,null,null,null,null,null,null,null,null,null,"SNH511",326,0.15]
["M. O.",7,7,7,7,7]
["Rouleau d'entrée",null,null,null,null,null,null,null,null,null,null,null,null,null,null,250,200]
["Matière","304 L","316 L","E24","904L","U45N",null,null,null,null,null,null,null,null,null,500,200]
["Désignation",null,null,null,null,null,null,null,null,null,null,null,null,null,null,750,200]
[null,600,700,254,2490,{"$f":"E60*0.54","v":1344.6000000000001},null,null,null,null,null,null,null,null,null,1000,200]
["1 Tube ø 273 x 4,19 Lg 2850",{"$f":"A62*B60","v":1710},{"$f":"A62*C60","v":1995},{"$f":"A62*D60","v":723.9},{"$f":"A62*E60","v":7096.5},{"$f":"A62*F60","v":3832.1100000000006},null,null,null,null,null,null,null,null,null,1250,270]
[2.85,null,null,null,null,null,null,null,null,null,null,null,null,null,null,1500,270]
["2 Galettes ép 10 ø 270 x ø 50",305,350,105,950,{"$f":"E63*0.54","v":513},null,null,null,null,null,null,null,null,null,2000,270]
["2 Galettes ép 10 ø 270 x ø 50",105,105,105,105,105,null,null,null,null,null,null,null,null,null,2250,270]
[null,21,24,24,66,{"$f":"E65*0.54","v":35.64},null,null,null,null,null,null,null,null,null,2500,270]
["2 Ronds ø 55 Lg 385",{"$f":"A67*B65","v":304.5},{"$f":"A67*C65","v":348},{"$f":"A67*D65","v":348},{"$f":"A67*E65","v":957},{"$f":"A67*F65","v":516.78},null,null,null,null,null,null,null,null,null,3000,270]
[14.5,null,null,null,null,null,null,null,null,null,null,null,null,null,null,4000,270,326]
["Fond bombé Ø 273",400,520,300,2400,2400,null,null,null,null,null,null,null,null,null,4200,270,326]
["TOTAL Matière",{"$f":"B61+B63+B64+B66+B68","v":2824.5},{"$f":"C61+C63+C64+C66+C68","v":3318},{"$f":"D61+D63+D64+D66+D68","v":1581.9},{"$f":"E61+E63+E64+E66+E68","v":11508.5},{"$f":"F61+F63+F64+F66+F68","v":7366.89}]
["Revêtement caoutchouc",null,null,4470]
["M. O.",9,9,9,9,9]
["Rouleau d'entrée"]
["Matière","304 L","316 L","E24","904L","U45N"]
["Désignation"]
[null,865,1020,460,3390,{"$f":"E75*0.54","v":1830.6000000000001}]
["1 Tube ø 355 x 4,78 Lg 2820",{"$f":"A77*B75","v":2439.2999999999997},{"$f":"A77*C75","v":2876.3999999999996},{"$f":"A77*D75","v":1297.1999999999998},{"$f":"A77*E75","v":9559.7999999999993},{"$f":"A77*F75","v":5162.2920000000004}]
[2.82]
["2 Galettes ép 10 ø 350 x ø 50",860,1000,250,3200,{"$f":"E78*0.54","v":1728}]
["2 Galettes ép 10 ø 350 x ø 50",250,250,250,250,250]
[null,21,24,24,66,{"$f":"E80*0.54","v":35.64}]
["2 Ronds ø 55 Lg 385",{"$f":"A82*B80","v":304.5},{"$f":"A82*C80","v":348},{"$f":"A82*D80","v":348},{"$f":"A82*E80","v":957},{"$f":"A82*F80","v":516.78}]
[14.5]
["Fond bombé Ø 355",650,840,360,3900,3900]
["TOTAL Matière",{"$f":"B76+B78+B79+B81+B83","v":4503.7999999999993},{"$f":"C76+C78+C79+C81+C83","v":5314.4},{"$f":"D76+D78+D79+D81+D83","v":2505.1999999999998},{"$f":"E76+E78+E79+E81+E83","v":17866.8},{"$f":"F76+F78+F79+F81+F83","v":11557.072}]
["Revêtement caoutchouc",null,null,5900]
["M. O.",10,10,10,10,10]
["Guidage toile"]
["Matière","304 L","316 L",null,"904L","U45N"]
["Désignation"]
[null,420,460,null,1265,{"$f":"E90*0.54","v":683.1}]
["1 Tube ø 219,1 x 3,76 Lg 3450",{"$f":"A92*B90","v":1449},{"$f":"A92*C90","v":1587},null,{"$f":"A92*E90","v":4364.25},{"$f":"A92*F90","v":2356.6950000000002}]
[3.45]
["2 Galettes ép 10 ø 220 x ø 50",170,190,null,620,{"$f":"E93*0.54","v":334.8}]
["2 Galettes ép 10 ø 220 x ø 50",52,52,null,52,52]
[null,21,24,null,66,{"$f":"E95*0.54","v":35.64}]
["2 Ronds ø 55 Lg 265",{"$f":"A97*B95","v":210},{"$f":"A97*C95","v":240},null,{"$f":"A97*E95","v":660},{"$f":"A97*F95","v":356.4}]
[10]
["TOTAL Matière",{"$f":"B91+B93+B94+B96","v":1881},{"$f":"C91+C93+C94+C96","v":2069},null,{"$f":"E91+E93+E94+E96","v":5696.25},{"$f":"F91+F93+F94+F96","v":3099.8950000000004}]
["Revêtement caoutchouc",3500,3500,null,3500,3500]
["M. O.",7,7,null,7,7]
[2000]
["Soutien de bande"]
["Matière","304 L","316 L","E24","904L","U45N"]
["Désignation"]
[null,600,700,254,2490,{"$f":"E105*0.54","v":1344.6000000000001}]
["1 Tube ø 273 x 4,19 Lg 1970",{"$f":"A107*B105","v":1182},{"$f":"A107*C105","v":1379},{"$f":"A107*D105","v":500.38},{"$f":"A107*E105","v":4905.3},{"$f":"A107*F105","v":2648.8620000000001}]
[1.97]
["4 Galettes ép 10 ø 270 x ø 60",610,700,210,1900,{"$f":"E108*0.54","v":1026}]
[null,21,24,24,66,{"$f":"E109*0.54","v":35.64}]
["2 Ronds ø 70 Lg 380",{"$f":"A111*B109","v":483},{"$f":"A111*C109","v":552},{"$f":"A111*D109","v":552},{"$f":"A111*E109","v":1518},{"$f":"A111*F109","v":819.72}]
[23]
["TOTAL Matière",{"$f":"B106+B108+B110","v":2275},{"$f":"C106+C108+C110","v":2631},{"$f":"D106+D108+D110","v":1262.3800000000001},{"$f":"E106+E108+E110","v":8323.2999999999993},{"$f":"F106+F108+F110","v":4494.5820000000003}]
["Revêtement caoutchouc",null,null,3015]
["M. O.",6,6,6,6,6]
["Soutien de bande"]
["Matière","304 L","316 L","E24","904L","U45N"]
["Désignation"]
[null,865,1020,460,3390,{"$f":"E118*0.54","v":1830.6000000000001}]
["1 Tube ø 355 x 4,78 Lg 1970",{"$f":"A120*B118","v":1704.05},{"$f":"A120*C118","v":2009.3999999999999},{"$f":"A120*D118","v":906.19999999999993},{"$f":"A120*E118","v":6678.3},{"$f":"A120*F118","v":3606.2820000000002}]
[1.97]
["4 Galettes ép 10 ø 350 x ø 60",860,1000,250,3200,{"$f":"E121*0.54","v":1728}]
[null,21,24,24,66,{"$f":"E122*0.54","v":35.64}]
["2 Ronds ø 70 Lg 380",{"$f":"A124*B122","v":483},{"$f":"A124*C122","v":552},{"$f":"A124*D122","v":552},{"$f":"A124*E122","v":1518},{"$f":"A124*F122","v":819.72}]
[23]
["TOTAL Matière",{"$f":"B119+B121+B123","v":3047.05},{"$f":"C119+C121+C123","v":3561.3999999999996},{"$f":"D119+D121+D123","v":1708.1999999999998},{"$f":"E119+E121+E123","v":11396.3},{"$f":"F119+F121+F123","v":6154.0020000000004}]
["Revêtement caoutchouc",null,null,4010]
["M. O.",8,8,8,8,8]
["Soutien de toile",null,null,null,null,null,"Soutien de toile"]
["Matière","304 L","316 L","E24","904L","U45N","Matière",null,null,"E24"]
["Désignation",null,null,null,null,null,"Désignation"]
[null,290,320,164,1330,{"$f":"E131*0.54","v":718.2},null,null,null,12]
["1 Tube ø 168,3 x 3,4 Lg 2450",{"$f":"A133*B131","v":710.5},{"$f":"A133*C131","v":784},{"$f":"A133*D131","v":401.8},{"$f":"A133*E131","v":3258.5000000000005},{"$f":"A133*F131","v":1759.5900000000001},"1 Tube ø 168,3 x 7,11 Lg 2450",null,null,{"$f":"G133*J131","v":840}]
[2.4500000000000002,null,null,null,null,null,70]
["2 Galettes ép 10 ø 170 x ø 50",96,114,40,250,{"$f":"E134*0.54","v":135},"2 Galettes ép 10 ø 170 x ø 50",null,null,40]
["2 Galettes ép 10 ø 170 x ø 50",40,40,40,40,40,"2 Galettes ép 10 ø 170 x ø 50",null,null,40]
[null,21,24,24,66,{"$f":"E136*0.54","v":35.64},null,null,null,24]
["2 Ronds ø 55 Lg 265",{"$f":"A138*B136","v":210},{"$f":"A138*C136","v":240},{"$f":"A138*D136","v":240},{"$f":"A138*E136","v":660},{"$f":"A138*F136","v":356.4},"2 Ronds ø 55 Lg 265",null,null,{"$f":"G138*J136","v":240}]
[10,null,null,null,null,null,10]
["TOTAL Matière",{"$f":"B132+B134+B135+B137","v":1056.5},{"$f":"C132+C134+C135+C137","v":1178},{"$f":"D132+D134+D135+D137","v":721.8},{"$f":"E132+E134+E135+E137","v":4208.5},{"$f":"F132+F134+F135+F137","v":2290.9900000000002},"TOTAL Matière",null,null,{"$f":"J132+J134+J135+J137","v":1160}]
["Revêtement caoutchouc",null,null,2375,null,null,"Revêtement caoutchouc",null,null,3000]
["M. O.",6,6,6,6,6,"M. O.",null,null,12]
["Rouleau d'entrée"]
["Matière","304 L","316 L","E24","904L","U45N"]
["Désignation"]
[null,600,700,254,2490,{"$f":"E145*0.54","v":1344.6000000000001}]
["1 Tube ø 273 x 4,19 Lg 1850",{"$f":"A147*B145","v":1110},{"$f":"A147*C145","v":1295},{"$f":"A147*D145","v":469.90000000000003},{"$f":"A147*E145","v":4606.5},{"$f":"A147*F145","v":2487.5100000000002}]
[1.85]
["2 Galettes ép 10 ø 270 x ø 50",305,350,105,950,{"$f":"E148*0.54","v":513}]
["2 Galettes ép 10 ø 270 x ø 50",105,105,105,105,105]
[null,21,24,24,66,{"$f":"E150*0.54","v":35.64}]
["2 Ronds ø 55 Lg 385",{"$f":"A152*B150","v":304.5},{"$f":"A152*C150","v":348},{"$f":"A152*D150","v":348},{"$f":"A152*E150","v":957},{"$f":"A152*F150","v":516.78}]
[14.5]
["Fond bombé Ø 273",400,520,300,2400,2400]
["TOTAL Matière",{"$f":"B146+B148+B149+B151+B153","v":2224.5},{"$f":"C146+C148+C149+C151+C153","v":2618},{"$f":"D146+D148+D149+D151+D153","v":1327.9},{"$f":"E146+E148+E149+E151+E153","v":9018.5},{"$f":"F146+F148+F149+F151+F153","v":6022.29}]
["Revêtement caoutchouc",null,null,3015]
["M. O.",9,9,9,9,9]
["Rouleau d'entrée"]
["Matière","304 L","316 L","E24","904L","U45N"]
["Désignation"]
[null,865,1020,460,3390,{"$f":"E160*0.54","v":1830.6000000000001}]
["1 Tube ø 355 x 4,78 Lg 1820",{"$f":"A162*B160","v":1574.3},{"$f":"A162*C160","v":1856.4},{"$f":"A162*D160","v":837.2},{"$f":"A162*E160","v":6169.8},{"$f":"A162*F160","v":3331.6920000000005}]
[1.82]
["2 Galettes ép 10 ø 350 x ø 50",860,1000,250,3200,{"$f":"E163*0.54","v":1728}]
["2 Galettes ép 10 ø 350 x ø 50",250,250,250,250,250]
[null,21,24,24,66,{"$f":"E165*0.54","v":35.64}]
["2 Ronds ø 55 Lg 385",{"$f":"A167*B165","v":304.5},{"$f":"A167*C165","v":348},{"$f":"A167*D165","v":348},{"$f":"A167*E165","v":957},{"$f":"A167*F165","v":516.78}]
[14.5]
["Fond bombé Ø 355",650,840,360,3900,3900]
["TOTAL Matière",{"$f":"B161+B163+B164+B166+B168","v":3638.8},{"$f":"C161+C163+C164+C166+C168","v":4294.3999999999996},{"$f":"D161+D163+D164+D166+D168","v":2045.2},{"$f":"E161+E163+E164+E166+E168","v":14476.8},{"$f":"F161+F163+F164+F166+F168","v":9726.4720000000016}]
["Revêtement caoutchouc",null,null,4010]
["M. O.",10,10,10,10,10]
["Guidage toile"]
["Matière","304 L","316 L",null,"904L","U45N"]
["Désignation"]
[null,290,320,null,1330,{"$f":"E175*0.54","v":718.2}]
["1 Tube ø 168 x 3,4 Lg 2450",{"$f":"A177*B175","v":710.5},{"$f":"A177*C175","v":784},null,{"$f":"A177*E175","v":3258.5000000000005},{"$f":"A177*F175","v":1759.5900000000001}]
[2.4500000000000002]
["2 Galettes ép 10 ø 170 x ø 50",96,114,null,250,{"$f":"E178*0.54","v":135}]
["2 Galettes ép 10 ø 170 x ø 50",40,40,null,40,40]
[null,21,24,null,66,{"$f":"E180*0.54","v":35.64}]
["2 Ronds ø 55 Lg 265",{"$f":"A182*B180","v":210},{"$f":"A182*C180","v":240},null,{"$f":"A182*E180","v":660},{"$f":"A182*F180","v":356.4}]
[10]
["TOTAL Matière",{"$f":"B176+B178+B179+B181","v":1056.5},{"$f":"C176+C178+C179+C181","v":1178},null,{"$f":"E176+E178+E179+E181","v":4208.5},{"$f":"F176+F178+F179+F181","v":2290.9900000000002}]
["Revêtement caoutchouc",2150,2150,null,2150,2150]
["M. O.",6,6,null,6,6]
[4000]
["Soutien de bande"]
["Matière","304 L","316 L","E24","904L","U45N"]
["Désignation"]
[null,865,1020,460,3390,{"$f":"E190*0.54","v":1830.6000000000001}]
["1 Tube ø 355 x 4,78 Lg 3970",{"$f":"A192*B190","v":3434.05},{"$f":"A192*C190","v":4049.4},{"$f":"A192*D190","v":1826.2},{"$f":"A192*E190","v":13458.300000000001},{"$f":"A192*F190","v":7267.4820000000009}]
[3.97]
["4 Galettes moulées ø 350",2800,3200,800,8800,{"$f":"E193*0.54","v":4752}]
[null,21,24,24,66,{"$f":"E194*0.54","v":35.64}]
["2 Ronds ø 90 Lg 475",{"$f":"A196*B194","v":997.5},{"$f":"A196*C194","v":1140},{"$f":"A196*D194","v":1140},{"$f":"A196*E194","v":3135},{"$f":"A196*F194","v":1692.9}]
[47.5]
["TOTAL Matière",{"$f":"B191+B193+B195","v":7231.55},{"$f":"C191+C193+C195","v":8389.4},{"$f":"D191+D193+D195","v":3766.2},{"$f":"E191+E193+E195","v":25393.300000000003},{"$f":"F191+F193+F195","v":13712.382}]
["Revêtement caoutchouc",null,null,7700]
["M. O.",15,15,15,15,15]
["Soutien de bande"]
["Matière","304 L","316 L","E24","904L","U45N"]
["Désignation"]
[null,1130,1300,460,3700,{"$f":"E203*0.54","v":1998.0000000000002}]
["1 Tube ø 406 x 4,78 Lg 3970",{"$f":"A205*B203","v":4486.1000000000004},{"$f":"A205*C203","v":5161},{"$f":"A205*D203","v":1826.2},{"$f":"A205*E203","v":14689},{"$f":"A205*F203","v":7932.0600000000013}]
[3.97]
["4 Galettes moulées ø 406",3600,4000,1000,11000,{"$f":"E206*0.54","v":5940}]
[null,21,24,24,66,{"$f":"E207*0.54","v":35.64}]
["2 Ronds ø 90 Lg 475",{"$f":"A209*B207","v":997.5},{"$f":"A209*C207","v":1140},{"$f":"A209*D207","v":1140},{"$f":"A209*E207","v":3135},{"$f":"A209*F207","v":1692.9}]
[47.5]
["TOTAL Matière",{"$f":"B204+B206+B208","v":9083.6},{"$f":"C204+C206+C208","v":10301},{"$f":"D204+D206+D208","v":3966.2},{"$f":"E204+E206+E208","v":28824},{"$f":"F204+F206+F208","v":15564.960000000001}]
["Revêtement caoutchouc",null,null,8812]
["M. O.",15,15,15,15,15]
["Soutien de toile",null,null,null,null,null,"Soutien de toile"]
["Matière","304 L","316 L","E24","904L","U45N","Matière",null,null,"E24"]
["Désignation",null,null,null,null,null,"Désignation"]
[null,600,700,254,2490,{"$f":"E216*0.54","v":1344.6000000000001},null,null,null,12]
["1 Tube ø 273 x 4,19 Lg 4450",{"$f":"A218*B216","v":2670},{"$f":"A218*C216","v":3115},{"$f":"A218*D216","v":1130.3},{"$f":"A218*E216","v":11080.5},{"$f":"A218*F216","v":5983.4700000000012},"1 Tube ø 168,3 x 7,11 Lg 4450",null,null,{"$f":"G218*J216","v":1560}]
[4.45,null,null,null,null,null,130]
["2 Galettes ép 10 ø 270 x ø 50",305,350,105,950,{"$f":"E219*0.54","v":513},"2 Galettes ép 10 ø 170 x ø 50",null,null,40]
["2 Galettes ép 10 ø 270 x ø 50",105,105,105,105,105,"2 Galettes ép 10 ø 170 x ø 50",null,null,40]
[null,21,24,24,66,{"$f":"E221*0.54","v":35.64},null,null,null,24]
["2 Ronds ø 70 Lg 360",{"$f":"A223*B221","v":462},{"$f":"A223*C221","v":528},{"$f":"A223*D221","v":528},{"$f":"A223*E221","v":1452},{"$f":"A223*F221","v":784.08},"2 Ronds ø 70 Lg 360",null,null,{"$f":"G223*J221","v":528}]
[22,null,null,null,null,null,22]
["TOTAL Matière",{"$f":"B217+B219+B220+B222","v":3542},{"$f":"C217+C219+C220+C222","v":4098},{"$f":"D217+D219+D220+D222","v":1868.3},{"$f":"E217+E219+E220+E222","v":13587.5},{"$f":"F217+F219+F220+F222","v":7385.5500000000011},"TOTAL Matière",null,null,{"$f":"J217+J219+J220+J222","v":2168}]
["Revêtement caoutchouc",null,null,6970,null,null,"Revêtement caoutchouc",null,null,4000]
["M. O.",8,8,8,8,8,"M. O.",null,null,12]
["Rouleau d'entrée"]
["Matière","304 L","316 L","E24","904L","U45N"]
["Désignation"]
[null,600,700,254,2490,{"$f":"E230*0.54","v":1344.6000000000001}]
["1 Tube ø 273 x 4,19 Lg 3850",{"$f":"A232*B230","v":2310},{"$f":"A232*C230","v":2695},{"$f":"A232*D230","v":977.9},{"$f":"A232*E230","v":9586.5},{"$f":"A232*F230","v":5176.7100000000009}]
[3.85]
["2 Galettes ép 10 ø 270 x ø 50",305,350,105,950,{"$f":"E233*0.54","v":513}]
["2 Galettes ép 10 ø 270 x ø 50",105,105,105,105,105]
[null,21,24,24,66,{"$f":"E235*0.54","v":35.64}]
["2 Ronds ø 55 Lg 385",{"$f":"A237*B235","v":304.5},{"$f":"A237*C235","v":348},{"$f":"A237*D235","v":348},{"$f":"A237*E235","v":957},{"$f":"A237*F235","v":516.78}]
[14.5]
["Fond bombé Ø 273",400,520,300,2400,2400]
["TOTAL Matière",{"$f":"B231+B233+B234+B236+B238","v":3424.5},{"$f":"C231+C233+C234+C236+C238","v":4018},{"$f":"D231+D233+D234+D236+D238","v":1835.9},{"$f":"E231+E233+E234+E236+E238","v":13998.5},{"$f":"F231+F233+F234+F236+F238","v":8711.4900000000016}]
["Revêtement caoutchouc",null,null,5850]
["M. O.",9,9,9,9,9]
["Rouleau d'entrée"]
["Matière","304 L","316 L","E24","904L","U45N"]
["Désignation"]
[null,865,1020,460,3390,{"$f":"E245*0.54","v":1830.6000000000001}]
["1 Tube ø 355 x 4,78 Lg 3820",{"$f":"A247*B245","v":3304.2999999999997},{"$f":"A247*C245","v":3896.3999999999996},{"$f":"A247*D245","v":1757.1999999999998},{"$f":"A247*E245","v":12949.8},{"$f":"A247*F245","v":6992.8919999999998}]
[3.82]
["2 Galettes ép 10 ø 350 x ø 50",860,1000,250,3200,{"$f":"E248*0.54","v":1728}]
["2 Galettes ép 10 ø 350 x ø 50",250,250,250,250,250]
[null,21,24,24,66,{"$f":"E250*0.54","v":35.64}]
["2 Ronds ø 55 Lg 385",{"$f":"A252*B250","v":304.5},{"$f":"A252*C250","v":348},{"$f":"A252*D250","v":348},{"$f":"A252*E250","v":957},{"$f":"A252*F250","v":516.78}]
[14.5]
["Fond bombé Ø 355",650,840,360,3900,3900]
["TOTAL Matière",{"$f":"B246+B248+B249+B251+B253","v":5368.7999999999993},{"$f":"C246+C248+C249+C251+C253","v":6334.4},{"$f":"D246+D248+D249+D251+D253","v":2965.2},{"$f":"E246+E248+E249+E251+E253","v":21256.799999999999},{"$f":"F246+F248+F249+F251+F253","v":13387.672}]
["Revêtement caoutchouc",null,null,7700]
["M. O.",10,10,10,10,10]
["Guidage toile"]
["Matière","304 L","316 L",null,"904L","U45N"]
["Désignation"]
[null,600,700,254,2490,{"$f":"E260*0.54","v":1344.6000000000001}]
["1 Tube ø 273 x 4,19 Lg 4450",{"$f":"A262*B260","v":2670},{"$f":"A262*C260","v":3115},{"$f":"A262*D260","v":1130.3},{"$f":"A262*E260","v":11080.5},{"$f":"A262*F260","v":5983.4700000000012}]
[4.45]
["2 Galettes ép 10 ø 270 x ø 50",305,350,105,950,{"$f":"E263*0.54","v":513}]
["2 Galettes ép 10 ø 270 x ø 50",105,105,105,105,105]
[null,21,24,24,66,{"$f":"E265*0.54","v":35.64}]
["2 Ronds ø 70 Lg 360",{"$f":"A267*B265","v":462},{"$f":"A267*C265","v":528},{"$f":"A267*D265","v":528},{"$f":"A267*E265","v":1452},{"$f":"A267*F265","v":784.08}]
[22]
["TOTAL Matière",{"$f":"B261+B263+B264+B266","v":3542},{"$f":"C261+C263+C264+C266","v":4098},null,{"$f":"E261+E263+E264+E266","v":13587.5},{"$f":"F261+F263+F264+F266","v":7385.5500000000011}]
["Revêtement caoutchouc",5725,5725,null,5725,5725]
["M. O.",8,8,null,8,8]
[4200]
["Soutien de bande"]
["Matière","304 L","316 L","E24","904L","U45N"]
["Désignation"]
[null,865,1020,460,3390,{"$f":"E275*0.54","v":1830.6000000000001}]
["1 Tube ø 355 x 4,78 Lg 4170",{"$f":"A277*B275","v":3607.0499999999997},{"$f":"A277*C275","v":4253.3999999999996},{"$f":"A277*D275","v":1918.2},{"$f":"A277*E275","v":14136.3},{"$f":"A277*F275","v":7633.6020000000008}]
[4.17]
["4 Galettes moulées ø 350",2800,3200,800,8800,{"$f":"E278*0.54","v":4752}]
[null,21,24,24,66,{"$f":"E279*0.54","v":35.64}]
["2 Ronds ø 90 Lg 475",{"$f":"A281*B279","v":997.5},{"$f":"A281*C279","v":1140},{"$f":"A281*D279","v":1140},{"$f":"A281*E279","v":3135},{"$f":"A281*F279","v":1692.9}]
[47.5]
["TOTAL Matière",{"$f":"B276+B278+B280","v":7404.5499999999993},{"$f":"C276+C278+C280","v":8593.4},{"$f":"D276+D278+D280","v":3858.2},{"$f":"E276+E278+E280","v":26071.3},{"$f":"F276+F278+F280","v":14078.502}]
["Revêtement caoutchouc",null,null,8070]
["M. O.",15,15,15,15,15]
["Soutien de bande"]
["Matière","304 L","316 L","E24","904L","U45N"]
["Désignation"]
[null,1130,1300,460,3700,{"$f":"E288*0.54","v":1998.0000000000002}]
["1 Tube ø 406 x 4,78 Lg 4170",{"$f":"A290*B288","v":4712.1000000000004},{"$f":"A290*C288","v":5421},{"$f":"A290*D288","v":1918.2},{"$f":"A290*E288","v":15429},{"$f":"A290*F288","v":8331.6600000000017}]
[4.17]
["4 Galettes moulées ø 406",3600,4000,1000,11000,{"$f":"E291*0.54","v":5940}]
[null,21,24,24,66,{"$f":"E292*0.54","v":35.64}]
["2 Ronds ø 90 Lg 475",{"$f":"A294*B292","v":997.5},{"$f":"A294*C292","v":1140},{"$f":"A294*D292","v":1140},{"$f":"A294*E292","v":3135},{"$f":"A294*F292","v":1692.9}]
[47.5]
["TOTAL Matière",{"$f":"B289+B291+B293","v":9309.6},{"$f":"C289+C291+C293","v":10561},{"$f":"D289+D291+D293","v":4058.2},{"$f":"E289+E291+E293","v":29564},{"$f":"F289+F291+F293","v":15964.560000000001}]
["Revêtement caoutchouc",null,null,9235]
["M. O.",15,15,15,15,15]
["Soutien de toile",null,null,null,null,null,"Soutien de toile"]
["Matière","304 L","316 L","E24","904L","U45N","Matière",null,null,"E24"]
["Désignation",null,null,null,null,null,"Désignation"]
[null,600,700,254,2490,{"$f":"E301*0.54","v":1344.6000000000001},null,null,null,385]
["1 Tube ø 273 x 4,19 Lg 4650",{"$f":"A303*B301","v":2790},{"$f":"A303*C301","v":3255.0000000000005},{"$f":"A303*D301","v":1181.1000000000001},{"$f":"A303*E301","v":11578.5},{"$f":"A303*F301","v":6252.3900000000012},"1 Tube ø 168,3 x 10,97 Lg 4630",null,null,{"$f":"G303*J301","v":1782.55}]
[4.6500000000000004,null,null,null,null,null,4.63]
["2 Galettes ép 10 ø 270 x ø 50",305,350,105,950,{"$f":"E304*0.54","v":513},"2 Galettes ép 10 ø 170 x ø 50",null,null,40]
["2 Galettes ép 10 ø 270 x ø 50",105,105,105,105,105,"2 Galettes ép 10 ø 170 x ø 50",null,null,40]
[null,21,24,24,66,{"$f":"E306*0.54","v":35.64},null,null,null,24]
["2 Ronds ø 70 Lg 360",{"$f":"A308*B306","v":462},{"$f":"A308*C306","v":528},{"$f":"A308*D306","v":528},{"$f":"A308*E306","v":1452},{"$f":"A308*F306","v":784.08},"2 Ronds ø 70 Lg 360",null,null,{"$f":"G308*J306","v":528}]
[22,null,null,null,null,null,22]
["TOTAL Matière",{"$f":"B302+B304+B305+B307","v":3662},{"$f":"C302+C304+C305+C307","v":4238},{"$f":"D302+D304+D305+D307","v":1919.1000000000001},{"$f":"E302+E304+E305+E307","v":14085.5},{"$f":"F302+F304+F305+F307","v":7654.4700000000012},"TOTAL Matière",null,null,{"$f":"J302+J304+J305+J307","v":2390.5500000000002}]
["Revêtement caoutchouc",null,null,7275,null,null,"Revêtement caoutchouc",null,null,5000]
["M. O.",8,8,8,8,8,"M. O.",null,null,15]
["Rouleau d'entrée"]
["Matière","304 L","316 L","E24","904L","U45N"]
["Désignation"]
[null,600,700,254,2490,{"$f":"E315*0.54","v":1344.6000000000001}]
["1 Tube ø 273 x 4,19 Lg 4050",{"$f":"A317*B315","v":2430},{"$f":"A317*C315","v":2835},{"$f":"A317*D315","v":1028.7},{"$f":"A317*E315","v":10084.5},{"$f":"A317*F315","v":5445.63}]
[4.05]
["2 Galettes ép 10 ø 270 x ø 50",305,350,105,950,{"$f":"E318*0.54","v":513}]
["2 Galettes ép 10 ø 270 x ø 50",105,105,105,105,105]
[null,21,24,24,66,{"$f":"E320*0.54","v":35.64}]
["2 Ronds ø 55 Lg 385",{"$f":"A322*B320","v":304.5},{"$f":"A322*C320","v":348},{"$f":"A322*D320","v":348},{"$f":"A322*E320","v":957},{"$f":"A322*F320","v":516.78}]
[14.5]
["Fond bombé Ø 273",400,520,300,2400,2400]
["TOTAL Matière",{"$f":"B316+B318+B319+B321+B323","v":3544.5},{"$f":"C316+C318+C319+C321+C323","v":4158},{"$f":"D316+D318+D319+D321+D323","v":1886.7},{"$f":"E316+E318+E319+E321+E323","v":14496.5},{"$f":"F316+F318+F319+F321+F323","v":8980.41}]
["Revêtement caoutchouc",null,null,6150]
["M. O.",9,9,9,9,9]
["Rouleau d'entrée"]
["Matière","304 L","316 L","E24","904L","U45N"]
["Désignation"]
[null,865,1020,460,3390,{"$f":"E330*0.54","v":1830.6000000000001}]
["1 Tube ø 355 x 4,78 Lg 4020",{"$f":"A332*B330","v":3477.2999999999997},{"$f":"A332*C330","v":4100.3999999999996},{"$f":"A332*D330","v":1849.1999999999998},{"$f":"A332*E330","v":13627.8},{"$f":"A332*F330","v":7359.0119999999997}]
[4.0199999999999996]
["2 Galettes ép 10 ø 350 x ø 50",860,1000,250,3200,{"$f":"E333*0.54","v":1728}]
["2 Galettes ép 10 ø 350 x ø 50",250,250,250,250,250]
[null,21,24,24,66,{"$f":"E335*0.54","v":35.64}]
["2 Ronds ø 55 Lg 385",{"$f":"A337*B335","v":304.5},{"$f":"A337*C335","v":348},{"$f":"A337*D335","v":348},{"$f":"A337*E335","v":957},{"$f":"A337*F335","v":516.78}]
[14.5]
["Fond bombé Ø 355",650,840,360,3900,3900]
["TOTAL Matière",{"$f":"B331+B333+B334+B336+B338","v":5541.7999999999993},{"$f":"C331+C333+C334+C336+C338","v":6538.4},{"$f":"D331+D333+D334+D336+D338","v":3057.2},{"$f":"E331+E333+E334+E336+E338","v":21934.799999999999},{"$f":"F331+F333+F334+F336+F338","v":13753.791999999999}]
["Revêtement caoutchouc",null,null,8100]
["M. O.",10,10,10,10,10]
["Guidage toile"]
["Matière","304 L","316 L",null,"904L","U45N"]
["Désignation"]
[null,600,700,254,2490,{"$f":"E345*0.54","v":1344.6000000000001}]
["1 Tube ø 273 x 4,19 Lg 4650",{"$f":"A347*B345","v":2790},{"$f":"A347*C345","v":3255.0000000000005},{"$f":"A347*D345","v":1181.1000000000001},{"$f":"A347*E345","v":11578.5},{"$f":"A347*F345","v":6252.3900000000012}]
[4.6500000000000004]
["2 Galettes ép 10 ø 270 x ø 50",305,350,105,950,{"$f":"E348*0.54","v":513}]
["2 Galettes ép 10 ø 270 x ø 50",105,105,105,105,105]
[null,21,24,24,66,{"$f":"E350*0.54","v":35.64}]
["2 Ronds ø 70 Lg 360",{"$f":"A352*B350","v":462},{"$f":"A352*C350","v":528},{"$f":"A352*D350","v":528},{"$f":"A352*E350","v":1452},{"$f":"A352*F350","v":784.08}]
[22]
["TOTAL Matière",{"$f":"B346+B348+B349+B351","v":3662},{"$f":"C346+C348+C349+C351","v":4238},null,{"$f":"E346+E348+E349+E351","v":14085.5},{"$f":"F346+F348+F349+F351","v":7654.4700000000012}]
["Revêtement caoutchouc",6000,6000,null,6000,6000]
["M. O.",8,8,null,8,8]
[]
[]
[]
[]
[]
[]
[]
[]
[]
[]
[]
[]
[]
[]
[]
[]
[]
[]
[]
[]
[]
[]
[]
[]
[]
[]
[]
[]
[]
[]
[]
[]
[]
[]
[]
[]
[]
[]
[]
[]
[]
[]
[]
[]
[]
[]
[]
[]
[]
[]
[]
[]
[]
[]
[]
[]
[]
[]
[]
[]
[]
[]
[]
[]
[]
[]
[]
[]
[]
[]
[]
[]
[]
[]
[]
[]
[]
[]
[]
[]
[]
[]
[]
[]
[]
[]
[]
[]
[]
[]
[]
[]
[]
[]
[]
[]
[]
[]
[]
[]
[]
[]
[]
[]
[]
[]
[]
[]
[]
[]
[]
[]
[]
[]
[]
[]
[]
[]
[]
[]
[]
[]
[]
[]
[]
[]
[]
[]
[]
[]
[]
[]
[]
[]
[]
[]
[]
[]
[]
[]
[]
[]
[]
[]
[]
[]
[]
[]
[]
[]
[]
[]
[]
[]
[]
[]
[]
[]
[]
[]
[]
[]
[]
[]
[]
[]
[]
[]
[]
[]
[]
[]
[]
[]
[]
[]
[]
[]
[]
[]
[]
[]
[]
[]
[]
[]
[]
[]
[]
[]
[]
[]
[]
[]
[]
[]
[]
[]
[]
[]
[]
[]
[]
[]
[]
[]
[]
[]
[]
[]
[]
[]
[]
[]
[]
[]
[]
[]
[]
[]
[]
[]
[]
[]
[]
[]
[]
[]
[]
[]
[]
[]
[]
[]
[]
[]
[]
[]
[]
[]
[]
[]
[]
[]
[]
[]
[]
[]
[]
[]
[]
[]
[]
[]
[]
[]
[]
[]
[]
[]
[]
[]
[]
[]
[]
[]
[]
[]
[]
[]
[]
[]
[]
[]
[]
[]
[]
[]
[]
[]
[]
[]
[]
[]
[]
[]
[]
[]
[]
[]
[]
[]
[]
[]
[]
[]
[]
[]
[]
[]
[]
[]
[]
[]
[]
[]
[]
[]
[]
[]
[]
[]
[]
[]
[]
[]
[]
[]
[]
[]
[]
[]
[]
[]
[]
[]
[]
[]
[]
[]
[]
[]
[]
[]
[]
[]
[]
[]
[]
[]
[]
[]
[]
[]
[]
[]
[]
[]
[]
[]
[]
[]
[]
[]
[]
[]
[]
[]
[]
[]
[]
[]
[]
[]
[]
[]
[]
[]
[]
[]
[]
[]
[]
[]
[]
[]
[]
[]
[]
[]
[]
[]
[]
[]
[]
[]
[]
[]
[]
[]
[]
[]
[]
[]
[]
[]
[]
[]
[]
[]
[]
[]
[]
[]
[]
[]
[]
[]
[]
[]
[]
[]
[]
[]
[]
[]
[]
[]
[]
[]
[]
[]
[]
[]
[]
[]
[]
[]
[]
[]
[]
[]
[]
[]
[]
[]
[]
[]
[]
[]
[]
[]
[]
[]
[]
[]
[]
[]
[]
[]
[]
[]
[]
[]
[]
[]
[]
[]
[]
[]
[]
[]
[]
[]
["M. O.",5,5,5,5]

{"sheet":"Budget","index":51,"n_rows":378,"n_cols":49,"rows_kept":378,"cut":false,"hidden":false,"merged":[[53,1,53,7],[65,1,65,10],[101,1,114,10],[128,1,130,10],[132,1,139,10],[220,1,256,10],[150,1,155,10],[204,1,214,10],[57,1,57,10],[58,1,58,10],[62,1,62,10],[63,1,63,10],[64,1,64,10],[348,1,348,9],[350,1,350,10],[356,1,371,10],[377,1,383,10],[309,1,309,10],[331,2,331,10],[332,2,332,10],[335,2,335,10],[337,2,337,10],[346,1,346,9],[39,0,39,11],[37,1,37,2],[36,1,36,2],[37,3,37,4],[31,0,31,11],[33,1,33,2],[33,5,33,6],[36,3,36,4],[37,5,37,6],[36,5,36,6],[37,7,37,8],[36,7,36,8],[37,9,37,11],[36,9,36,11],[0,1,0,10],[1,0,1,11],[3,4,3,10],[5,4,5,10],[7,4,7,10],[9,4,9,10],[11,4,11,10],[35,1,35,2],[34,1,34,2],[33,3,33,4],[35,3,35,4],[34,3,34,4],[35,5,35,6],[34,5,34,6],[33,7,33,8],[35,7,35,8],[34,7,34,8],[33,9,33,11],[35,9,35,11],[34,9,34,11],[46,1,46,10],[47,1,47,10],[48,1,48,10],[41,8,41,10],[45,8,45,10],[44,8,44,10],[43,8,43,10],[42,8,42,10],[42,1,42,3],[42,6,42,7],[43,1,43,3],[43,6,43,7],[44,1,44,3],[44,6,44,7],[41,1,41,3],[41,6,41,7]]}
[null,"Filtration system"]
["Horizontal Vacuum Belt Filter Philippe"]
[]
[null,{"$f":"\"Sales Offer N°\"","v":"Sales Offer N°"},null,null,{"$f":"Calculations!C3&\" - rev\"&Calculations!G2","v":"760895 - rev2"}]
[null,null,null,null,null,null,null,null,null,null,null,null,null,null,null,null,null,null,null,null,null,null,null,null,null,null,null,null,null,null,null,null,null,null,null,null,null,null,null,"T eng.",null,null,null,null,"ASM"]
[null,"Project",null,null,null,null,null,null,null,null,null,null,null,null,null,null,null,null,null,null,null,null,null,null,null,null,null,null,null,null,null,null,null,null,null,null,null,null,null,"Ahssen Boudeheb","Tender engineer","ABOU","a.boudeheb@hasler.group",null,"Alain Bernard Nankam","Business Developer Service & Spare","ABNA","ab.nankam@hasler.group","+33 6 50 40 92 77"]
[null,null,null,null,null,null,null,null,null,null,null,null,null,null,null,null,null,null,null,null,null,null,null,null,null,null,null,null,null,null,null,null,null,null,null,null,null,null,null,"Alexis Gilbert","Tender engineer","AGIB","a.gilbert@hasler.group","+33 6 13 76 81 49","Adrien Hourlier","Business Development Manager","AHOU","a.hourlier@hasler.group","+33 6 70 76 33 14"]
[null,"Customer",null,null,{"$f":"Calculations!C2","v":"PKT"},null,null,null,null,null,null,null,null,null,null,null,null,null,null,null,null,null,null,null,null,null,null,null,null,null,null,null,null,null,null,null,null,null,null,"Ahou N'gotta","Tender engineer","ANGO","ac.n'gotta@hasler.group","+33 4 74 16 11 27","Benoît Roudaut","Area Technical Sales Manager","BROU","b.roudaut@hasler.group",{"$f":"AR10","v":"+1 514-946-6350"}]
[null,null,null,null,null,null,null,null,null,null,null,null,null,null,null,null,null,null,null,null,null,null,null,null,null,null,null,null,null,null,null,null,null,null,null,null,null,null,null,"Baptiste Joly","Filtration Product Manager","BJOL","b.joly@hasler.group","+33 6 27 13 81 47","Cosimo Piscopiello","Area Sales Manager","CPIS","c.piscopiello@hasler.group","+41 79 129 42 69"]
[null,"Date",null,null,{"$f":"TODAY()","v":"2026-02-11"},null,null,null,null,null,null,null,null,null,null,null,null,null,null,null,null,null,null,null,null,null,null,null,null,null,null,null,null,null,null,null,null,null,null,"Benoît Roudaut","Area Technical Sales Manager","BROU","b.roudaut@hasler.group","+1 514-946-6350","Daniel Criado","Area Sales Manager","DCRI","d.criado@hasler.group","+41 79 968 12 70"]
[null,null,null,null,null,null,null,null,null,null,null,null,null,null,null,null,null,null,null,null,null,null,null,null,null,null,null,null,null,null,null,null,null,null,null,null,null,null,null,"Chenghao Chai","Tender engineer","CCHA","c.chai@hasler.group","+33 4 74 16 11 53","Enrico Gualdi","Process Engineer","EGUA","e.gualdi@hasler.group",{"$f":"AR12","v":"+39 345 825 82 80"}]
[null,"Offer recipient",null,null,null,null,null,null,null,null,null,null,null,null,null,null,null,null,null,null,null,null,null,null,null,null,null,null,null,null,null,null,null,null,null,null,null,null,null,"Enrico Gualdi","Process Engineer","EGUA","e.gualdi@hasler.group","+39 345 825 82 80","Emilie Vaquero","Area Sales Manager","EVAQ","e.vaquero@hasler.group","+33 6 17 39 56 78"]
[null,null,null,null,null,null,null,null,null,null,null,null,null,null,null,null,null,null,null,null,null,null,null,null,null,null,null,null,null,null,null,null,null,null,null,null,null,null,null,"Mélisa Balguy","Trial Technician Filtration","MBAL","m.balguy@hasler.group","+33 6 65 08 03 43","Leo Li","Area Sales Manager","LLI","l.li@hasler.group","+86 150 2122 2190"]
[null,null,null,null,null,null,null,null,null,null,null,null,null,null,null,null,null,null,null,null,null,null,null,null,null,null,null,null,null,null,null,null,null,null,null,null,null,null,null,"Moustapha Boujdid","Tender engineer","MBOU","m.boujdid@hasler.group","+33 6 65 08 03 43","Laurent Menigoz","Sales & Marketing Director","LMEN","l.menigoz@hasler.group","+33 6 76 45 27 88"]
[null,null,null,null,null,null,null,null,null,null,null,null,null,null,null,null,null,null,null,null,null,null,null,null,null,null,null,null,null,null,null,null,null,null,null,null,null,null,null,"Victor Ruys","Process & Product Director","VRUY","v.ruys@hasler.group","+33 6 87 85 35 42","Li Zhang","Area Sales Manager","LZHA","l.zhang@hasler.group"]
[null,null,null,null,null,null,null,null,null,null,null,null,null,null,null,null,null,null,null,null,null,null,null,null,null,null,null,null,null,null,null,null,null,null,null,null,null,null,null,"Yuri Marcuzzo","Dosing Product Manager","YMAR","y.marcuzzo@hasler.group","+41 79 260 28 03","Michel Jamey","Sales Director","MJAM","m.jamey@hasler.group","+33 6 07 85 96 09"]
[null,null,null,null,null,null,null,null,null,null,null,null,null,null,null,null,null,null,null,null,null,null,null,null,null,null,null,null,null,null,null,null,null,null,null,null,null,null,null,null,null,null,null,null,"Nicolas Delattre","Business Development Manager","NDEL","n.delattre@hasler.group","+33 7 62 65 16 60"]
[null,null,null,null,null,null,null,null,null,null,null,null,null,null,null,null,null,null,null,null,null,null,null,null,null,null,null,null,null,null,null,null,null,null,null,null,null,null,null,null,null,null,null,null,"Phirun Tes","Area Sales Manager","PTES","p.tes@hasler.group","+ 33 6 70 76 33 36"]
[null,null,null,null,null,null,null,null,null,null,null,null,null,null,null,null,null,null,null,null,null,null,null,null,null,null,null,null,null,null,null,null,null,null,null,null,null,null,null,null,null,null,null,null,"Toufik Ouerdani","Area Sales Manager","TOUE","t.ouerdani@hasler.group","+212 6 68 19 18 56"]
[null,null,null,null,null,null,null,null,null,null,null,null,null,null,null,null,null,null,null,null,null,null,null,null,null,null,null,null,null,null,null,null,null,null,null,null,null,null,null,null,null,null,null,null,"Wei Song","Area Sales Manager","WSON","w.song@hasler.group","+86 137 7681 9309"]
[]
[]
[]
[]
[]
[]
[]
[]
[]
[]
[]
["Modification History"]
[]
["REV","Date",null,"written by",null,"checked by",null,"approved by",null,"comments"]
[0]
[1]
[2]
[3]
[]
["Contacts"]
[]
[null,{"$f":"'Offre NEW'!M16","v":"Baptiste Joly"},null,null,null,null,null,null,{"$f":"'Offre NEW'!M18","v":"Wei Song"}]
[null,{"$f":"VLOOKUP(B42,AN6:AR16,2,FALSE)","v":"Filtration Product Manager"},null,null,null,null,null,null,{"$f":"VLOOKUP(I42,AS6:AW20,2,FALSE)","v":"Area Sales Manager"}]
[null,{"$f":"VLOOKUP(B42,AN6:AR16,5,FALSE)","v":"+33 6 27 13 81 47"},null,null,null,null,null,null,{"$f":"VLOOKUP(I42,AS6:AW20,5,FALSE)","v":"+86 137 7681 9309"}]
[null,{"$f":"VLOOKUP(B42,AN6:AR16,4,FALSE)","v":"b.joly@hasler.group"},null,null,null,null,null,null,{"$f":"VLOOKUP(I42,AS6:AW20,4,FALSE)","v":"w.song@hasler.group"}]
[]
[null,"HASLER France - 496 Rue Louis Breguet - 38780 Pont-Évêque - France"]
[null,"+33 4 74 16 11 50"]
[null,"www.hasler-gp.com "]
[]
[]
[]
[]
[null,"Table of contents"]
[]
[]
[null,null,"Table of content"]
[null,"I.     YOUR REQUIREMENTS ................................................................................. 3"]
[null,"II.    HASLER GROUP SOLUTION …....................................................................... 4"]
[null,null,"a.   HASLER Process possibilities"]
[null,null,"b.   A solution optimized for your project"]
[null,null,"c.   Scope of supply"]
[null,"III.     A peace of mind solution ……........................................................................ 7"]
[null,"IV.    A solution that complies with HSE requirements ……................................... 7"]
[null,"V.     A controlled & automated solution ……......................................................... 7"]
[null,"VI.    HASLER GROUP always with you …….......................................................... 8"]
[]
[]
[]
[]
[]
[]
[]
[]
[]
[]
[]
[]
[]
[]
[]
[]
[]
[]
[]
[]
[]
[]
[]
[]
[]
[]
[]
[]
[]
[]
[]
[]
[]
[null,null,"I.     YOUR REQUIREMENTS "]
[]
[null,"You are planning to build the first Soda Ash plant in Indonesia, right next to the existingplant in Gresik.  So, you requested HASLER to design the appropriate vacuum belt filter that will suit your specific needs.  \n\nWe propose the following design : it is reliable, efficient and proven filtration system that will handle your production requirements."]
[null,null,null,null,null,null,null,null,null,null,null,null,"Remplacer éléments en rouge"]
[]
[]
[]
[]
[]
[]
[]
[]
[]
[]
[]
[]
[]
[]
[null,"What are you waiting for ? "]
[null,"Slurry flowrate: XX m3/h"]
[null,"Dry solids flowrate: XX %"]
[null,"Solid percentage in the slurry: XX %",null,null,null,null,null,null,null,null,null,null,"Remplacer éléments en rouge"]
[null,"Density: XX t/m3"]
[null,"Temperature: XX °C"]
[null,"Percentage of residual moistue in cake: XX %"]
[null,"Other performances to add"]
[null,"Number of washing steps: X"]
[null,"Wash water for the cake: XX m3/h"]
[]
[null,"Thanks to our strong experience in soda ash, we can confirm that your objectives in terms of moisture and chloride content are achievable and usual in soda ash market."]
[]
[]
[]
[null,"The proposed offer is a budgetary offer non-available for order. \n\nWe highly recommend scheduling a meeting to discuss this project, in order to better understand your issues and discuss about performing some laboratory trials for process performances guarantee."]
[]
[]
[]
[]
[]
[]
[]
[]
[]
[]
[]
[]
[]
[null,null,"II.     HASLER GROUP SOLUTION"]
[]
[null,"a.   HASLER Process possibilities"]
[]
[null,"The following diagram is for reference only, in order to show possibilities of HASLER Filters. A PFD will be provided later with the firm offer in order to detail the exact scope of supply."]
[]
[]
[]
[]
[]
[]
[]
[]
[]
[]
[]
[]
[]
[]
[]
[]
[]
[]
[]
[]
[]
[]
[]
[]
[]
[]
[]
[]
[]
[]
[]
[]
[]
[]
[]
[]
[]
[]
[]
[]
[]
[]
[]
[]
[]
[]
[]
[]
[]
[]
[]
[]
[]
[null,"HASLER can help you optimize your process. Our filters are fully modular to optimize the number of washes and liquid consumption (filtrate recirculation, reuse of cloth & belt wash water and/or vacuum pump water, closed-loop vacuum pump operation, etc...). \n\nHASLER can also propose other equipments like dosing systems and mixers."]
[]
[]
[]
[]
[]
[]
[]
[]
[]
[]
[]
[]
[]
[null,"b. A solution optimized for your project"]
[]
[null,"Hasler Group and customer name were in contact to discuss about a filter installation. The purpose was to general project details. \n\nWe propose you here enclosed our technical offer with the data collected in your RFQ.\nThe HASLER Group is a leader in the field of vacuum belt filtration with our brand Filter Philippe, we have hundreds of references worldwide in various applications. The proposed filter is a “Philippe” Horizontal Vacuum Belt Filter type xxBxx with an effective filtration area of xx m².\n\nThe layout, the functional control logic and scope of supply have been adapted to your process requirements for your plant. We selected our standards material of construction for all the parts in contact with the product (please advise us if you want to select other materials). \n\nHASLER Group has been working for decades in developing and maintaining a high level of service expertise. During erection and commissioning phasis, our service technicians will supervise and assist your team. Your operational teams will benefit of our expertise and will be quickly efficiently running your unit. "]
[]
[]
[]
[]
[]
[]
[]
[]
[]
[]
[]
[]
[]
[]
[]
[]
[]
[]
[]
[]
[]
[]
[]
[]
[]
[]
[]
[]
[]
[]
[]
[]
[]
[]
[]
[]
[]
[]
[]
[]
[]
[null,"c.   Scope of supply"]
[]
[]
[null,"INSERT FIGURE FROM TAB OFFRE NEW WITH MATERIALS AND QUANTITY"]
[]
[]
[]
[]
[]
[]
[]
[]
[]
[]
[]
[]
[]
[]
[]
[]
[]
[]
[]
[]
[]
[]
[]
[]
[]
[]
[]
[]
[]
[]
[]
[]
[]
[]
[]
[]
[]
[]
[]
[]
[]
[null,"Standard list of documentation:"]
[]
[null,"The following list corresponds to the document send by HASLER to the customer during project execution."]
[]
[null,"-","Supplier documentation (user, installation and maintenance manuals)"]
[null,"-","Functional analysis"]
[null,"-","General arrangment"]
[null,"-","PID (Process & Instrumentation Diagram)"]
[null,"-","Electrical Diagrams"]
[null,"-","Declaration of incorporation"]
[null,"-","Declaration of conformity"]
[null,"-","Operation & Maintenance manual"]
[null,"-","Packing list / Shipping details"]
[null,"-","ATEX certificate (if applicable)"]
[]
[]
[null,null,"III.     A peace of mind solution"]
[]
[null,"•","High availability, made for continuous processes."]
[]
[null,null,"An equipment designed to reduce downtime:"]
[]
[null,"-","Easy access to all the parts for fast maintenance and process flexibility"]
[null,"-","Vacuum Box Tilting System: access under 60 seconds with one operator"]
[null,"-","Belt support: Wear strips + Wear belt or Dry support table guaranteeing low wear part consumption"]
[null,"-","Fully automated (System controlled by PLC, cloth guiding & tensioning, Automatic systems, Automatic lubrication units)"]
[]
[]
[null,"•","The complete filtration unit is designed to keep operating costs to a minimum:"]
[]
[null,"-","Low water consumption that can be reduced with a high-pressure cloth washing ramp"]
[null,"-","Low energy consumption: Variable speed drives, table support systems"]
[null,"-","Low wear part consumption: Table support system"]
[null,"-","Low maintenance: Fast & Easy maintenance"]
[]
[]
[]
[null,null,"IV.     A solution complies with HSE requirements"]
[]
[null,"Your health & safety is our concern."]
[]
[null,"Safety guards are installed around the unit to prevent any risk of accident."]
[]
[null,"The area classification for filter, accessories & electrical devices is non-hazardous."]
[]
[]
[]
[null,null,"V.     A controlled & automated solution"]
[]
[null,"All our equipment are fully automated (System controlled by PLC, complete communication with your DCS)\nYou will benefit of a Continuous data feedback and traceability system within your DCS. \nOur automat would be able to control the filter, and our automation engineering team will help you defining the right functional analysis to control your pilot unit. \nIn Appendix of our technical description is detailed all functions of our electrical control that we offer. "]
[]
[]
[]
[]
[]
[]
[]
[]
[]
[]
[]
[]
[]
[]
[]
[]
[]
[]
[null,null,"VI.      HASLER GROUP always with you"]
[]
[null,"At HASLER Group we take time to understand our activity’s evolutions and to listen to our customers. Our philosophy is to focus on our customer’s needs and to work with them on solutions. Services include:"]

{"sheet":"Toile","index":52,"n_rows":21,"n_cols":5,"rows_kept":21,"cut":false,"hidden":true,"merged":[]}
[]
[null,null,null,null,"TOILE FILTRANTE"]
[]
[null,"Longueur boite à vide :",{"$f":"'B. à V.'!B65","v":30}]
[null,"Largeur :",{"$f":"'Séries 3-4-5'!B3","v":3000}]
[null,"Hauteur talons :",{"$f":"'Séries 3-4-5'!B18","v":120}]
[null,"Longueur toile :",{"$f":"(LOOKUP(C5,A12:A21,B12:B21))+(C4*2)","v":76.3}]
[null,"Largeur toile :",{"$f":"((LOOKUP(C6,D13:D14,E13:E14))+C5)*0.001","v":3.3000000000000003}]
[null,"Prix / m2 :",200]
[null,"Prix total :",{"$f":"C7*C8*C9","v":50358.000000000007}]
[]
[250,10.4]
[500,10.4,null,70,200]
[750,10.4,null,120,300]
[1000,10.4]
[1500,15.25]
[2000,15.25]
[2500,16.3]
[3000,16.3]
[4000,17]
[4200,17]

{"sheet":"Ballon Séparateur","index":53,"n_rows":49,"n_cols":30,"rows_kept":49,"cut":false,"hidden":true,"merged":[[34,6,36,6],[35,7,36,7],[2,1,2,8],[48,6,49,6],[32,3,32,4],[34,4,34,5],[41,6,42,6]]}
[]
[]
[null,"FILTRATE RECEIVER"]
[]
[]
[]
[null,null,"Diamètre",null,null,null,{"$f":"Calculations!E44","v":3400}]
[null,null,null,null,null,null,null,null,null,null,null,null,null,"D",300,400,500,600,800,1000,1200,1400,1600,1800,2000,2200,2400,2600,2800,3000]
[null,null,"Matériau de construction : ",null,null,null,{"$f":"Calculations!C44","v":"316L"},null,null,null,null,null,null,"H",800,900,1050,1250,1600,1900,2200,2500,2800,3200,3500,3800,4000,4000,4000,4000]
[null,null,null,null,null,null,null,null,null,null,null,null,null,"L",600,700,850,1050,1400,1700,2000,2300,2600,3000,3300,3600,3800,3800,3800,3800]
[null,null,"Equipements / Equipments",null,null,null,null,null,null,null,null,null,null,"P",350,400,500,600,700,800,900,1000,1200,1300,1400,1500,1800,1800,1800,1800]
[null,null,null,"Pieds supports / Supporting legs :",null,null,{"$f":"Calculations!R44","v":"Non"},null,null,null,null,null,null,"F",100,100,100,100,100,100,100,100,100,100,100,100,100,100,100,100]
[null,null,null,"Connection \"A\"",null,"DN",{"$f":"Calculations!G44","v":700},null,null,null,null,null,null,"Poids",12,19,29,66,102,225,400,535,833,1077,1745,2092,2727,3327,3527,3727]
[null,null,null,"Connection \"B\" ",null,"DN",{"$f":"Calculations!I44","v":800},null,null,null,null,null,null,"Ep",2,2,2,3,3,4,5,5,6,6,8,8,10,12,12,12]
[null,null,null,"Connection \"C\"",null,"DN",{"$f":"Calculations!K44","v":500},null,null,null,null,null,null,"I",{"$f":"(O8/2)+100","v":250},{"$f":"(P8/2)+100","v":300},350,400,500,600,700,800,900,1000,1100,1200,1300,1400,1500,1600]
[null,null,null,null,null,null,null,null,null,null,null,null,null,"pds fond",1.8,3,4.5999999999999996,11.1,12.6,33.6,61.5,82,129,162,264,316,316,316,316,316]
[null,null,null,null,null,null,null,null,null,null,null,null,null,"ht fond",65,85,104,128,167,210,253,292,333,371,419,458,458,458,458,458]
[]
[null,null,"Prix de revient Production :",null,null,null,{"$f":"IF(G9=\"SVR\",Q21,IF(G9=\"Acier au Carbone\",Q22,IF(G9=\"Acier caoutchouté\",Q23,IF(G9=\"AISI 304L\",Q24,IF(G9=\"AISI 316L\",Q25,IF(G9=\"AISI 904L\",Q26,0))))))","v":0},"€"]
[]
[null,null,null,null,null,null,null,null,null,null,null,null,null,{"$f":"G7","v":3400},null,"FRP",{"$f":"HLOOKUP($N$21,O31:AD32,2,TRUE)","v":91}]
[null,null,null,null,null,null,null,null,null,null,null,null,null,{"$f":"HLOOKUP($N$21,$O$8:$AD$12,2,TRUE)","v":4000},null,"Acier au Carbone",{"$f":"HLOOKUP($N$21,O34:AD35,2,TRUE)","v":92}]
[null,null,null,null,null,null,null,null,null,null,null,null,null,{"$f":"HLOOKUP($N$21,$O$8:$AD$12,3,TRUE)","v":3800},null,"Acier caoutchouté",{"$f":"HLOOKUP($N$21,O37:AD38,2,TRUE)","v":93}]
[null,null,null,null,null,null,null,null,null,null,null,null,null,{"$f":"HLOOKUP($N$21,$O$8:$AD$12,4,TRUE)","v":1800},null,"AISI 304L",{"$f":"HLOOKUP($N$21,O40:AD41,2,TRUE)","v":94}]
[null,null,null,null,null,null,null,null,null,null,null,null,null,{"$f":"HLOOKUP($N$21,$O$8:$AD$12,5,TRUE)","v":100},null,"AISI 316L",{"$f":"HLOOKUP($N$21,O43:AD44,2,TRUE)","v":95}]
[null,null,null,null,null,null,null,null,null,null,null,null,null,{"$f":"HLOOKUP($N$21,$O$8:$AD$15,6,TRUE)","v":3727},null,"AISI 904L",{"$f":"HLOOKUP($N$21,O46:AD47,2,TRUE)","v":96}]
[null,null,null,null,null,null,null,null,null,null,null,null,null,{"$f":"HLOOKUP($N$21,$O$8:$AD$15,8,TRUE)","v":1600}]
[]
[]
[]
[null,null,null,null,null,null,null,null,null,null,null,null,null,null,300,400,500,600,800,1000,1200,1400,1600,1800,2000,2200,2400,2600,2800,3000]
[null,null,null,null,null,null,null,null,null,null,null,null,null,"SVR",1,7,{"$f":"P32+6","v":13},{"$f":"Q32+6","v":19},25,31,37,43,49,55,61,67,73,79,85,91]
[null,null,null,{"$f":"G7","v":3400}]
[null,null,null,null,null,null,null,null,null,null,null,null,null,null,300,400,500,600,800,1000,1200,1400,1600,1800,2000,2200,2400,2600,2800,3000]
[null,null,null,null,{"$f":"N27","v":1600},null,{"$f":"N23","v":3800},null,null,null,null,null,null,"Acier au Carbone",2,8,{"$f":"P35+6","v":14},20,26,32,38,44,50,56,62,68,74,80,86,92]
[null,null,null,null,null,null,null,{"$f":"N22","v":4000}]
[null,null,{"$f":"N26","v":3727},"kg",null,null,null,null,null,null,null,null,null,null,300,400,500,600,800,1000,1200,1400,1600,1800,2000,2200,2400,2600,2800,3000]
[null,null,null,null,null,null,null,null,null,null,null,null,null,"Acier caoutchouté",3,9,{"$f":"P38+6","v":15},21,27,33,39,45,51,57,63,69,75,81,87,93]
[]
[null,null,null,null,null,null,null,null,null,null,null,null,null,null,300,400,500,600,800,1000,1200,1400,1600,1800,2000,2200,2400,2600,2800,3000]
[null,null,null,null,null,null,null,null,null,null,null,null,null,"AISI 304L",4,10,{"$f":"P41+6","v":16},22,28,34,40,46,52,58,64,70,76,82,88,94]
[null,null,null,null,null,null,{"$f":"N24","v":1800}]
[null,null,null,null,null,null,null,null,null,null,null,null,null,null,300,400,500,600,800,1000,1200,1400,1600,1800,2000,2200,2400,2600,2800,3000]
[null,null,null,null,null,null,null,null,null,null,null,null,null,"AISI 316L",5,11,{"$f":"P44+6","v":17},23,29,35,41,47,53,59,65,71,77,83,89,95]
[]
[null,null,null,null,null,null,null,null,null,null,null,null,null,null,300,400,500,600,800,1000,1200,1400,1600,1800,2000,2200,2400,2600,2800,3000]
[null,null,null,null,null,null,null,null,null,null,null,null,null,"AISI 904L",6,12,{"$f":"P47+6","v":18},24,30,36,42,48,54,60,66,72,78,84,90,96]
[]
[null,null,null,null,null,null,{"$f":"N25","v":100}]

{"sheet":"Ballon Séparateur Flasqué","index":54,"n_rows":47,"n_cols":30,"rows_kept":47,"cut":false,"hidden":true,"merged":[[2,1,2,8],[32,5,36,5],[33,3,33,4],[37,5,39,5],[40,5,42,5]]}
[]
[]
[null,"FILTRATE RECEIVER (KROGH TYPE)"]
[null,"v"]
[]
[]
[null,null,"Diamètre",null,null,null,{"$f":"Calculations!E44","v":3400}]
[null,null,null,null,null,null,null,null,null,null,null,null,null,"D",300,400,500,600,800,1000,1200,1400,1600,1800,2000,2200,2400,2600,2800,3000]
[null,null,"Matériau de construction : ",null,null,null,{"$f":"Calculations!C44","v":"316L"},null,null,null,null,null,null,"H",900,1000,1150,1350,1700,2000,2300,2400,2900,3300,3600,3900,4100,4100,4100,4100]
[null,null,null,null,null,null,null,null,null,null,null,null,null,"L",800,900,1050,1250,1600,1900,2200,2500,2800,3200,3500,3800,4000,4000,4000,4000]
[null,null,"Equipements / Equipments",null,null,null,null,null,null,null,null,null,null,"P",400,500,600,700,800,900,1000,1100,1300,1400,1500,1600,1900,1900,1900,1900]
[null,null,null,"Pieds supports / Supporting legs :",null,null,{"$f":"Calculations!R44","v":"Non"},null,null,null,null,null,null,"F",100,100,100,100,100,100,100,100,100,100,100,100,100,100,100,100]
[null,null,null,"Connection \"A\"",null,"DN",{"$f":"Calculations!G44","v":700},null,null,null,null,null,null,"Poids",15,23,34,77,116,248,435,576,888,1139,1838,2193,2866,3507,3721,3935]
[null,null,null,"Connection \"B\" ",null,"DN",{"$f":"Calculations!I44","v":800},null,null,null,null,null,null,"Ep",2,2,2,3,3,4,5,5,6,6,8,8,10,12,12,12]
[null,null,null,"Connection \"C\"",null,"DN",{"$f":"Calculations!K44","v":500},null,null,null,null,null,null,"I",{"$f":"(O8/2)+100","v":250},{"$f":"(P8/2)+100","v":300},350,400,500,600,700,800,900,1000,1100,1200,1300,1400,1500,1600]
[null,null,null,null,null,null,null,null,null,null,null,null,null,"pds fond",1.8,3,4.5999999999999996,11.1,12.6,33.6,61.5,82,129,162,264,316,316,316,316,316]
[null,null,null,null,null,null,null,null,null,null,null,null,null,"ht fond",65,85,104,128,167,210,253,292,333,371,419,458,458,458,458,458]
[]
[null,null,"Prix de revient Production :",null,null,null,{"$f":"IF(G9=\"SVR\",Q21,IF(G9=\"Acier au Carbone\",Q22,IF(G9=\"Acier caoutchouté\",Q23,IF(G9=\"AISI 304L\",Q24,IF(G9=\"AISI 316L\",Q25,IF(G9=\"AISI 904L\",Q26,0))))))","v":0},"€"]
[]
[null,null,null,null,null,null,null,null,null,null,null,null,null,{"$f":"G7","v":3400},null,"FRP",{"$f":"HLOOKUP($N$21,O31:AD32,2,TRUE)","v":91}]
[null,null,null,null,null,null,null,null,null,null,null,null,null,{"$f":"HLOOKUP($N$21,$O$8:$AD$12,2,TRUE)","v":4100},null,"Acier au Carbone",{"$f":"HLOOKUP($N$21,O34:AD35,2,TRUE)","v":92}]
[null,null,null,null,null,null,null,null,null,null,null,null,null,{"$f":"HLOOKUP($N$21,$O$8:$AD$12,3,TRUE)","v":4000},null,"Acier caoutchouté",{"$f":"HLOOKUP($N$21,O37:AD38,2,TRUE)","v":93}]
[null,null,null,null,null,null,null,null,null,null,null,null,null,{"$f":"HLOOKUP($N$21,$O$8:$AD$12,4,TRUE)","v":1900},null,"AISI 304L",{"$f":"HLOOKUP($N$21,O40:AD41,2,TRUE)","v":94}]
[null,null,null,null,null,null,null,null,null,null,null,null,null,{"$f":"HLOOKUP($N$21,$O$8:$AD$12,5,TRUE)","v":100},null,"AISI 316L",{"$f":"HLOOKUP($N$21,O43:AD44,2,TRUE)","v":95}]
[null,null,null,null,null,null,null,null,null,null,null,null,null,{"$f":"HLOOKUP($N$21,$O$8:$AD$15,6,TRUE)","v":3935},null,"AISI 904L",{"$f":"HLOOKUP($N$21,O46:AD47,2,TRUE)","v":96}]
[null,null,null,null,null,null,null,null,null,null,null,null,null,{"$f":"HLOOKUP($N$21,$O$8:$AD$15,8,TRUE)","v":1600}]
[]
[]
[]
[null,null,null,null,null,null,null,null,null,null,null,null,null,null,300,400,500,600,800,1000,1200,1400,1600,1800,2000,2200,2400,2600,2800,3000]
[null,null,null,{"$f":"N21","v":3400},null,null,null,null,null,null,null,null,null,"SVR",1,7,{"$f":"P32+6","v":13},{"$f":"Q32+6","v":19},25,31,37,43,49,55,61,67,73,79,85,91]
[null,null,null,null,null,{"$f":"N22","v":4100}]
[null,null,null,{"$f":"N27","v":1600},null,null,null,null,null,null,null,null,null,null,300,400,500,600,800,1000,1200,1400,1600,1800,2000,2200,2400,2600,2800,3000]
[null,null,null,null,null,null,null,null,null,null,null,null,null,"Acier au Carbone",2,8,{"$f":"P35+6","v":14},20,26,32,38,44,50,56,62,68,74,80,86,92]
[]
[null,null,null,null,null,null,null,null,null,null,null,null,null,null,300,400,500,600,800,1000,1200,1400,1600,1800,2000,2200,2400,2600,2800,3000]
[null,null,null,null,null,{"$f":"N23","v":4000},null,null,null,null,null,null,null,"Acier caoutchouté",3,9,{"$f":"P38+6","v":15},21,27,33,39,45,51,57,63,69,75,81,87,93]
[]
[null,null,null,{"$f":"N26","v":3935},"Kg",null,null,null,null,null,null,null,null,null,300,400,500,600,800,1000,1200,1400,1600,1800,2000,2200,2400,2600,2800,3000]
[null,null,null,null,null,{"$f":"N24","v":1900},null,null,null,null,null,null,null,"AISI 304L",4,10,{"$f":"P41+6","v":16},22,28,34,40,46,52,58,64,70,76,82,88,94]
[]
[null,null,null,null,null,null,null,null,null,null,null,null,null,null,300,400,500,600,800,1000,1200,1400,1600,1800,2000,2200,2400,2600,2800,3000]
[null,null,null,null,null,null,null,null,null,null,null,null,null,"AISI 316L",5,11,{"$f":"P44+6","v":17},23,29,35,41,47,53,59,65,71,77,83,89,95]
[]
[null,null,null,null,null,null,null,null,null,null,null,null,null,null,300,400,500,600,800,1000,1200,1400,1600,1800,2000,2200,2400,2600,2800,3000]
[null,null,null,null,null,null,null,null,null,null,null,null,null,"AISI 904L",6,12,{"$f":"P47+6","v":18},24,30,36,42,48,54,60,66,72,78,84,90,96]

{"sheet":"Cyclone.","index":55,"n_rows":49,"n_cols":30,"rows_kept":49,"cut":false,"hidden":true,"merged":[[42,5,44,5],[48,5,49,5],[2,1,2,8],[29,5,32,5],[30,3,30,4],[34,5,38,5],[35,3,35,4],[39,5,41,5]]}
[]
[]
[null,"CYCLONE"]
[]
[]
[]
[null,null,"Diamètre",null,null,null,{"$f":"Calculations!E46","v":3000}]
[null,null,null,null,null,null,null,null,null,null,null,null,null,"D",300,400,500,600,800,1000,1200,1400,1600,1800,2000,2200,2400,2600,2800,3000]
[null,null,"Matériau de construction : ",null,null,null,{"$f":"Calculations!C46","v":"316L"},null,null,null,null,null,null,"H",800,900,1050,1250,1600,1900,2200,2500,2800,3200,3500,3800,4000,4000,4000,4000]
[null,null,null,null,null,null,null,null,null,null,null,null,null,"L",600,700,850,1050,1400,1700,2000,2300,2600,3000,3300,3600,3800,3800,3800,3800]
[null,null,"Equipements / Equipments",null,null,null,null,null,null,null,null,null,null,"P",200,250,300,350,400,450,500,600,650,700,750,1500,1800,1800,1800,1800]
[null,null,null,"Pieds supports / Supporting legs :",null,null,{"$f":"Calculations!R46","v":"Non"},null,null,null,null,null,null,"F",100,100,100,100,100,100,100,100,100,100,100,100,100,100,100,100]
[null,null,null,"Connection \"A\"",null,"DN",{"$f":"Calculations!G46","v":800},null,null,null,null,null,null,"Poids",16,25,58,105,185,357,478,743,963,1564,1876,2092,2727,3327,3527,3727]
[null,null,null,"Connection \"B\" ",null,"DN",{"$f":"Calculations!I46","v":800},null,null,null,null,null,null,"Ep",2,2,2,3,4,5,6,6,6,6,8,8,10,12,12,12]
[null,null,null,"Connection \"C\"",null,"DN",{"$f":"Calculations!K46","v":40},null,null,null,null,null,null,"I",{"$f":"(O8/2)+100","v":250},{"$f":"(P8/2)+100","v":300},350,400,500,600,700,800,900,1000,1100,1200,1300,1400,1500,1600]
[null,null,null,null,null,null,null,null,null,null,null,null,null,"pds fond",1.8,3,4.5999999999999996,11.1,12.6,33.6,61.5,82,129,162,264,316,316,316,316,316]
[null,null,null,null,null,null,null,null,null,null,null,null,null,"ht fond",65,85,104,128,167,210,253,292,333,371,419,458,458,458,458,458]
[]
[null,null,"Prix de revient Production :",null,null,null,{"$f":"IF(G9=\"FRP\",Q21,IF(G9=\"Acier au Carbone\",Q22,IF(G9=\"Acier caoutchouté\",Q23,IF(G9=\"304L\",Q24,IF(G9=\"316L\",Q25,IF(G9=\"904L\",Q26,0))))))","v":95},"€"]
[]
[null,null,null,null,null,null,null,null,null,null,null,null,null,{"$f":"G7","v":3000},null,"FRP",{"$f":"HLOOKUP($N$21,O31:AD32,2,TRUE)","v":91}]
[null,null,null,null,null,null,null,null,null,null,null,null,null,{"$f":"HLOOKUP($N$21,$O$8:$AD$12,2,TRUE)","v":4000},null,"Acier au Carbone",{"$f":"HLOOKUP($N$21,O34:AD35,2,TRUE)","v":92}]
[null,null,null,null,null,null,null,null,null,null,null,null,null,{"$f":"HLOOKUP($N$21,$O$8:$AD$12,3,TRUE)","v":3800},null,"Acier caoutchouté",{"$f":"HLOOKUP($N$21,O37:AD38,2,TRUE)","v":93}]
[null,null,null,null,null,null,null,null,null,null,null,null,null,{"$f":"HLOOKUP($N$21,$O$8:$AD$12,4,TRUE)","v":1800},null,"AISI 304L",{"$f":"HLOOKUP($N$21,O40:AD41,2,TRUE)","v":94}]
[null,null,null,null,null,null,null,null,null,null,null,null,null,{"$f":"HLOOKUP($N$21,$O$8:$AD$12,5,TRUE)","v":100},null,"AISI 316L",{"$f":"HLOOKUP($N$21,O43:AD44,2,TRUE)","v":95}]
[null,null,null,null,null,null,null,null,null,null,null,null,null,{"$f":"HLOOKUP($N$21,$O$8:$AD$15,6,TRUE)","v":3727},null,"AISI 904L",{"$f":"HLOOKUP($N$21,O46:AD47,2,TRUE)","v":96}]
[null,null,null,null,null,null,null,null,null,null,null,null,null,{"$f":"HLOOKUP($N$21,$O$8:$AD$15,8,TRUE)","v":1600}]
[]
[]
[null,null,null,null,null,{"$f":"N24","v":1800}]
[null,null,null,{"$f":"N27","v":1600},null,null,null,null,null,null,null,null,null,null,300,400,500,600,800,1000,1200,1400,1600,1800,2000,2200,2400,2600,2800,3000]
[null,null,null,null,null,null,null,null,null,null,null,null,null,"FRP",1,7,{"$f":"P32+6","v":13},{"$f":"Q32+6","v":19},25,31,37,43,49,55,61,67,73,79,85,91]
[]
[null,null,null,null,null,null,null,null,null,null,null,null,null,null,300,400,500,600,800,1000,1200,1400,1600,1800,2000,2200,2400,2600,2800,3000]
[null,null,null,null,null,{"$f":"N22","v":4000},null,null,null,null,null,null,null,"Acier au Carbone",2,8,{"$f":"P35+6","v":14},20,26,32,38,44,50,56,62,68,74,80,86,92]
[]
[null,null,null,{"$f":"N21","v":3000},null,null,null,null,null,null,null,null,null,null,300,400,500,600,800,1000,1200,1400,1600,1800,2000,2200,2400,2600,2800,3000]
[null,null,null,null,null,null,null,null,null,null,null,null,null,"Acier caoutchouté",3,9,{"$f":"P38+6","v":15},21,27,33,39,45,51,57,63,69,75,81,87,93]
[]
[null,null,null,null,null,{"$f":"N23","v":3800},null,null,null,null,null,null,null,null,300,400,500,600,800,1000,1200,1400,1600,1800,2000,2200,2400,2600,2800,3000]
[null,null,{"$f":"N26","v":3727},"Kg",null,null,null,null,null,null,null,null,null,"AISI 304L",4,10,{"$f":"P41+6","v":16},22,28,34,40,46,52,58,64,70,76,82,88,94]
[]
[null,null,null," 60°",null,null,null,null,null,null,null,null,null,null,300,400,500,600,800,1000,1200,1400,1600,1800,2000,2200,2400,2600,2800,3000]
[null,null,null,null,null,null,null,null,null,null,null,null,null,"AISI 316L",5,11,{"$f":"P44+6","v":17},23,29,35,41,47,53,59,65,71,77,83,89,95]
[]
[null,null,null,null,null,null,null,null,null,null,null,null,null,null,300,400,500,600,800,1000,1200,1400,1600,1800,2000,2200,2400,2600,2800,3000]
[null,null,null,null,null,null,null,null,null,null,null,null,null,"AISI 904L",6,12,{"$f":"P47+6","v":18},24,30,36,42,48,54,60,66,72,78,84,90,96]
[]
[null,null,null,null,null,{"$f":"N25","v":100}]

{"sheet":"Laveur.","index":56,"n_rows":49,"n_cols":30,"rows_kept":49,"cut":false,"hidden":true,"merged":[[48,6,49,6],[2,1,2,8],[34,6,38,6],[35,4,35,5],[39,6,41,6],[42,6,44,6]]}
[]
[]
[null,"LAVEUR"]
[]
[]
[]
[null,null,"Diamètre",null,null,null,{"$f":"Calculations!E48","v":3000}]
[null,null,null,null,null,null,null,null,null,null,null,null,null,"D",300,400,500,600,800,1000,1200,1400,1600,1800,2000,2200,2400,2600,2800,3000]
[null,null,"Matériau de construction : ",null,null,null,{"$f":"Calculations!C48","v":"316L"},null,null,null,null,null,null,"H",800,900,1050,1250,1600,1900,2200,2500,2800,3200,3500,3800,4000,4000,4000,4000]
[null,null,null,null,null,null,null,null,null,null,null,null,null,"L",600,700,850,1050,1400,1700,2000,2300,2600,3000,3300,3600,3800,3800,3800,3800]
[null,null,"Equipements / Equipments",null,null,null,null,null,null,null,null,null,null,"P",350,400,500,600,700,800,900,1000,1200,1300,1400,1500,1800,1800,1800,1800]
[null,null,null,"Pieds supports / Supporting legs :",null,null,{"$f":"Calculations!R48","v":"Non"},null,null,null,null,null,null,"F",100,100,100,100,100,100,100,100,100,100,100,100,100,100,100,100]
[null,null,null,"Connection \"A\"",null,"DN",{"$f":"Calculations!G48","v":800},null,null,null,null,null,null,"Poids",12,19,29,66,102,225,400,535,833,1077,1745,2092,2727,3327,3527,3727]
[null,null,null,"Connection \"B\" ",null,"DN",{"$f":"Calculations!I48","v":800},null,null,null,null,null,null,"Ep",2,2,2,3,3,4,5,5,6,6,8,8,10,12,12,12]
[null,null,null,"Connection \"C\"",null,"DN",{"$f":"Calculations!K48","v":250},null,null,null,null,null,null,"I",{"$f":"(O8/2)+100","v":250},{"$f":"(P8/2)+100","v":300},350,400,500,600,700,800,900,1000,1100,1200,1300,1400,1500,1600]
[null,null,null,"Connection \"D\"",null,"DN","1\"1/4",null,null,null,null,null,null,"pds fond",1.8,3,4.5999999999999996,11.1,12.6,33.6,61.5,82,129,162,264,316,316,316,316,316]
[null,null,null,null,null,null,null,null,null,null,null,null,null,"ht fond",65,85,104,128,167,210,253,292,333,371,419,458,458,458,458,458]
[]
[null,null,"Prix de revient Production :",null,null,null,{"$f":"IF(G9=\"FRP\",Q21,IF(G9=\"Acier au Carbone\",Q22,IF(G9=\"Acier caoutchouté\",Q23,IF(G9=\"304L\",Q24,IF(G9=\"316L\",Q25,IF(G9=\"904L\",Q26,0))))))","v":95},"€"]
[]
[null,null,null,null,null,null,null,null,null,null,null,null,null,{"$f":"G7","v":3000},null,"FRP",{"$f":"HLOOKUP($N$21,O31:AD32,2,TRUE)","v":91}]
[null,null,null,null,null,null,null,null,null,null,null,null,null,{"$f":"HLOOKUP($N$21,$O$8:$AD$12,2,TRUE)","v":4000},null,"Acier au Carbone",{"$f":"HLOOKUP($N$21,O34:AD35,2,TRUE)","v":92}]
[null,null,null,null,null,null,null,null,null,null,null,null,null,{"$f":"HLOOKUP($N$21,$O$8:$AD$12,3,TRUE)","v":3800},null,"Acier caoutchouté",{"$f":"HLOOKUP($N$21,O37:AD38,2,TRUE)","v":93}]
[null,null,null,null,null,null,null,null,null,null,null,null,null,{"$f":"HLOOKUP($N$21,$O$8:$AD$12,4,TRUE)","v":1800},null,"AISI 304L",{"$f":"HLOOKUP($N$21,O40:AD41,2,TRUE)","v":94}]
[null,null,null,null,null,null,null,null,null,null,null,null,null,{"$f":"HLOOKUP($N$21,$O$8:$AD$12,5,TRUE)","v":100},null,"AISI 316L",{"$f":"HLOOKUP($N$21,O43:AD44,2,TRUE)","v":95}]
[null,null,null,null,null,null,null,null,null,null,null,null,null,{"$f":"HLOOKUP($N$21,$O$8:$AD$15,6,TRUE)","v":3727},null,"AISI 904L",{"$f":"HLOOKUP($N$21,O46:AD47,2,TRUE)","v":96}]
[null,null,null,null,null,null,null,null,null,null,null,null,null,{"$f":"HLOOKUP($N$21,$O$8:$AD$15,8,TRUE)","v":1600}]
[]
[]
[]
[null,null,null,null,null,null,null,null,null,null,null,null,null,null,300,400,500,600,800,1000,1200,1400,1600,1800,2000,2200,2400,2600,2800,3000]
[null,null,null,null,null,null,null,null,null,null,null,null,null,"FRP",1,7,{"$f":"P32+6","v":13},{"$f":"Q32+6","v":19},25,31,37,43,49,55,61,67,73,79,85,91]
[]
[null,null,null,null,{"$f":"N21","v":3000},null,null,null,null,null,null,null,null,null,300,400,500,600,800,1000,1200,1400,1600,1800,2000,2200,2400,2600,2800,3000]
[null,null,null,null,null,null,{"$f":"N22","v":4000},null,null,null,null,null,null,"Acier au Carbone",2,8,{"$f":"P35+6","v":14},20,26,32,38,44,50,56,62,68,74,80,86,92]
[null,null,null,null,{"$f":"N27","v":1600}]
[null,null,null,null,null,null,null,null,null,null,null,null,null,null,300,400,500,600,800,1000,1200,1400,1600,1800,2000,2200,2400,2600,2800,3000]
[null,null,null,null,null,null,null,null,null,null,null,null,null,"Acier caoutchouté",3,9,{"$f":"P38+6","v":15},21,27,33,39,45,51,57,63,69,75,81,87,93]
[]
[null,null,null,null,null,null,{"$f":"N23","v":3800},null,null,null,null,null,null,null,300,400,500,600,800,1000,1200,1400,1600,1800,2000,2200,2400,2600,2800,3000]
[null,null,null,null,null,null,null,null,null,null,null,null,null,"AISI 304L",4,10,{"$f":"P41+6","v":16},22,28,34,40,46,52,58,64,70,76,82,88,94]
[null,null,null,null,{"$f":"N26","v":3727},"Kg"]
[null,null,null,null,null,null,{"$f":"N24","v":1800},null,null,null,null,null,null,null,300,400,500,600,800,1000,1200,1400,1600,1800,2000,2200,2400,2600,2800,3000]
[null,null,null,null,null,null,null,null,null,null,null,null,null,"AISI 316L",5,11,{"$f":"P44+6","v":17},23,29,35,41,47,53,59,65,71,77,83,89,95]
[]
[null,null,null,null,null,null,null,null,null,null,null,null,null,null,300,400,500,600,800,1000,1200,1400,1600,1800,2000,2200,2400,2600,2800,3000]
[null,null,null,null,null,null,null,null,null,null,null,null,null,"AISI 904L",6,12,{"$f":"P47+6","v":18},24,30,36,42,48,54,60,66,72,78,84,90,96]
[]
[null,null,null,null,null,null,{"$f":"N25","v":100}]

{"sheet":"Drip pan - Walkways","index":57,"n_rows":49,"n_cols":35,"rows_kept":49,"cut":false,"hidden":true,"merged":[[8,1,8,6],[9,1,9,2],[9,3,9,4],[10,4,17,4],[13,1,13,2]]}
[null,null,null,null,null,null,null,null,null,null,null,null,null,null,null,null,null,null,null,null,null,null,null,null,null,"m²","%","Poids","Longueur","Aire","Longueur","Aire HATCH","Poids","Prix"]
[null,null,null,null,null,null,null,null,null,null,null,null,null,null,null,null,null,null,null,null,"Drip Pan HOGANAS",null,null,null,"Surface Partie Externe",{"$f":"7.005*2.45-Z3","v":6.7816499999999991},{"$f":"Z2/(Z2+Z3)","v":0.39514923742516272},{"$f":"AA2*V3","v":185.72014158982648},7.0049999999999999,null,{"$f":"Calculations!C9/(Calculations!E9/1000)","v":30},null,{"$f":"AB2/AC2*AE2","v":795.37533871446033},{"$f":"AG2*V6","v":9307.5837509138983}]
["WALK WAY AND DRIP PAN BUDGET PRICE ELABORATION",null,null,null,null,null,null,null,null,null,null,null,null,null,null,null,null,null,null,null,"Poids (kg)",470,null,null,"Surface Partie Interne",{"$f":"1.58*(7.005-(2.45-1.58)/2)","v":10.380600000000001},{"$f":"1-AA2","v":0.60485076257483728},{"$f":"AA3*V3","v":284.27985841017352},7.0049999999999999,{"$f":"Z3","v":10.380600000000001},null,{"$f":"((80+Calculations!E9)/1000)*AE2","v":92.4},{"$f":"AB3/AD3*AF3","v":2530.4374426430099},{"$f":"AG3*V6","v":29611.50198837565}]
[null,"Fille the values in the green cells",null,null,null,null,null,null,null,null,null,null,null,null,null,null,null,null,null,null,"Prix ",5500]
[null,null,null,null,null,null,null,null,null,null,null,null,null,null,null,null,null,null,null,null,"Matière ","316L",null,null,null,null,null,null,null,null,null,null,"Prix total Drip Pan ",null,{"$f":"AH2+AH3","v":38919.085739289549}]
[null,null,null,null,null,"m",null,null,"Stairs",null,null,null,null,null,null,null,null,null,null,null,"Prix / kg",{"$f":"V4/V3","v":11.702127659574469}]
[null,null,null,null,null,0.85]
[null,null,null,null,null,null,null,null,null,null,"Surface (m²) - One side",{"$f":"$D$10*$F$21","v":30.574499999999997},null,null,null,"Prix SADACI - Fabrication Europe"]
[null,null,null,null,null,null,null,null,null,null,"Surface (m²) - L Shape",{"$f":"($D$10+$H$10)*$F$21+$F$14*$H$10","v":34.569499999999998},null,null,null,"m² SADACI",{"$f":"15.16*0.85","v":12.885999999999999}]
[0.85,"Longueur hors tout filtre",null,{"$f":"Calculations!R55/1000","v":35.97},null,"m",null,0.85,null,null,"Surface (m²) Entier",{"$f":"($A$10+$D$10+$H$10)*($F$7+$F$21)+$F$14*($H$10+$A$10)","v":70.584000000000003},null,null,null,"Prix Passerelles Acier / Caillebotis FRP SADACI",{"$f":"17000-2600+14*45","v":15030}]
[null,null,null,null,"Largeut H.T. filtre",null,null,null,null,null,null,null,null,null,null,"Prix m²",{"$f":"Q10/Q9","v":1166.382120130374}]
[null,null,null,null,null,null,null,null,null,null,"Poids au m² (kg/m²)",110,null,null,null,"Prix Unitaire Escalier",2000]
[null,null,null,null,null,"m",null,null,null,null,"Prix au kilo (Eur/kg)",4.5999999999999996]
[null,"Nombre d'escaliers :",null,2,null,{"$f":"Calculations!R54/1000","v":3.85},null,null,null,null,"Prix caillebotis Acier (Eur/m²)",40]
[null,null,null,null,null,null,null,null,null,null,"Prix caillebotis FRP (Eur/m²)",45]
[null,null,null,null,null,null,null,null,null,null,null,null,null,null,null,"Prix Walkways Entier avec 2 Escaliers",{"$f":"$L$10*Q11+2*Q12","v":86327.915567282325}]
[null,null,null,"FILTER",null,null,null,null,null,null,"Prix passerelles Acier (Eur)",{"$f":"L10*L12*L13+L14*L10","v":38538.864000000001},null,null,null,"Prix Walkways en L avec 2 Escaliers",{"$f":"$L$9*Q11+2*Q12","v":44321.246701846962}]
[null,null,null,null,null,null,null,null,null,null,"Prix passerelles FRP (Eur)",{"$f":"L10*L12*L13+L15*L10","v":38891.784},null,null,null,"Prix Walkways 1 côté avec 2 Escaliers",{"$f":"$L$8*Q11+Q12*2","v":39661.550131926117}]
[]
[null,null,null,null,null,"m"]
[null,null,null,null,null,0.85]
[]
[null,null,null,null,"2005 price",null,null,null,null,null,null,null,null,null,null,"Consultation Paul Yung - Fabrication Chine"]
["Stairs","Walkways + stairs - unit price _Passerelles +escaliers",null,null,null,null,"Walkways + stairs - unit price _Passerelles avec caillebotis polyester +escaliers",null,null,null,null,null,null,null,null,"m² SADACI",{"$f":"15.16*0.85","v":12.885999999999999}]
[null,null,null,"m2",480,null,null,null,"m2",680,null,null,null,null,null,"Prix Passerelles Acier / Caillebotis Inox SADACI",{"$f":"IF(P40=\"FRP\",6500,IF(P40=\"304L\",8000,N/A))","v":{"$error":"#NAME?"}}]
[null,null,null,"Escalier",2160,null,null,null,"Escalier",2160,null,null,null,null,null,"Prix m²",{"$f":"Q25/Q24","v":{"$error":"#NAME?"}}]
[null,null,null,null,null,null,null,null,null,null,null,null,null,null,null,"Prix Unitaire Escalier",2000]
[null,null,null,"Supplyer cost _ Prix d'achat :",{"$f":"(((A10+D10+H10)*(F7+F21))+(F14*(H10+A10)))*E25+D14*E26","v":38200.32},null,null,null,"Supplyer cost _ Prix d'achat :",{"$f":"(((A10+D10+H10)*(F7+F21))+(F14*(H10+A10)))*J25+D14*J26","v":52317.120000000003}]
[]
[null,"Drip pan PPH",null,null,null,null,null,null,null,{"$f":"(((A10+D10+H10)*(F7+F21))+(F14*(H10+A10)))*L12*L13+(((A10+D10+H10)*(F7+F21))+(F14*(H10+A10)))*L15+D14*J26","v":43211.784}]
[null,null,null,"m2",350,null,null,null,null,null,null,null,null,null,null,"Prix Walkways Entier avec 2 Escaliers",{"$f":"$L$10*Q26+2*Q27","v":{"$error":"#NAME?"}}]
[null,null,null,null,null,null,null,null,null,null,null,null,null,null,null,"Prix Walkways en L avec 2 Escaliers",{"$f":"$L$9*Q26+2*Q27","v":{"$error":"#NAME?"}}]
[null,null,null,null,null,null,null,null,null,null,null,null,null,null,null,"Prix Walkways 1 côté avec 2 Escaliers",{"$f":"$L$8*Q26+Q27*2","v":{"$error":"#NAME?"}}]
[null,null,null,"Supplyer cost _ Prix d'achat :",{"$f":"((D10+0.5)*(F14+0.5))*E31","v":55525.574999999997}]
[]
[]
[]
[null,null,null,null,null,null,null,null,null,null,null,null,null,null,null,"Sélection du type de Passerelle"]
[null,null,null,null,null,null,null,null,null,null,null,null,null,null,"Forme",{"$f":"Calculations!I31","v":"N/A"}]
[null,null,null,null,null,null,null,null,null,null,null,null,null,null,"Matériau",{"$f":"Calculations!J31","v":"N/A"}]
[null,null,null,null,null,null,null,null,null,null,null,null,null,null,"Prix",{"$f":"IF(OR(P39=H47,P39=N47),Q31,IF(OR(P39=H48,P39=N48),Q32,IF(OR(P39=H49,P39=N49),Q33,0)))","v":0}]
[]
[]
[]
[]
[]
[null,null,null,null,null,null,null,"on all sides of the filter + 2 stairs",null,null,null,null,null,"en entier du filtre + 2 escaliers"]
[null,null,null,null,null,null,null,"L shape, on one side of the filter + 2 stairs",null,null,null,null,null,"forme en L, sur un côté du filtre + 2 escaliers"]
[null,null,null,null,null,null,null,"on one side of the filter + 2 stairs",null,null,null,null,null,"sur un côté du filtre + 2 escaliers"]

{"sheet":"EN TETE","index":58,"n_rows":54,"n_cols":49,"rows_kept":54,"cut":false,"hidden":true,"merged":[[52,1,52,7],[51,1,51,7],[53,1,53,7],[14,4,14,7],[12,4,12,7],[44,0,44,8],[49,1,49,3],[48,1,48,3],[47,1,47,3],[46,1,46,3],[49,6,49,7],[48,6,48,7],[47,6,47,7],[46,6,46,7],[42,6,42,8],[41,6,41,8],[40,6,40,8],[39,6,39,8],[38,6,38,8],[42,2,42,3],[41,2,41,3],[40,2,40,3],[39,2,39,3],[38,2,38,3],[3,12,5,18],[3,1,3,7],[4,0,4,8],[36,0,36,8],[10,4,10,7],[8,4,8,7],[6,4,6,7]]}
[]
[]
[]
[null,"Filtration system",null,null,null,null,null,null,null,null,null,null,"Règles photo :\n - Photo petit Filtre : taille < 15m²\n - Photo grand Filtre : taille > 15m²"]
["Horizontal Vacuum Belt Filter Philippe",null,null,null,null,null,null,null,null,null,null,null,null,null,null,null,null,null,null,null,null,null,null,null,null,null,null,null,null,null,null,null,null,null,null,null,null,null,null,"T eng.",null,null,null,null,"ASM"]
[null,null,null,null,null,null,null,null,null,null,null,null,null,null,null,null,null,null,null,null,null,null,null,null,null,null,null,null,null,null,null,null,null,null,null,null,null,null,null,"Ahssen Boudeheb","Tender engineer","ABOU","a.boudeheb@hasler.group",null,"Alain Bernard Nankam","Business Developer Service & Spare","ABNA","ab.nankam@hasler.group","+33 6 50 40 92 77"]
[null,{"$f":"\"Sales Offer N°\"","v":"Sales Offer N°"},null,null,{"$f":"Calculations!C3&\" - rev\"&Calculations!G2","v":"760895 - rev2"},null,null,null,null,null,null,null,null,null,null,null,null,null,null,null,null,null,null,null,null,null,null,null,null,null,null,null,null,null,null,null,null,null,null,"Alexis Gilbert","Tender engineer","AGIB","a.gilbert@hasler.group","+33 6 13 76 81 49","Adrien Hourlier","Business Development Manager","AHOU","a.hourlier@hasler.group","+33 6 70 76 33 14"]
[null,null,null,null,null,null,null,null,null,null,null,null,null,null,null,null,null,null,null,null,null,null,null,null,null,null,null,null,null,null,null,null,null,null,null,null,null,null,null,"Ahou N'gotta","Tender engineer","ANGO","ac.n'gotta@hasler.group","+33 4 74 16 11 27","Benoît Roudaut","Area Technical Sales Manager","BROU","b.roudaut@hasler.group",{"$f":"AR10","v":"+1 514-946-6350"}]
[null,"Project",null,null,null,null,null,null,null,null,null,null,null,null,null,null,null,null,null,null,null,null,null,null,null,null,null,null,null,null,null,null,null,null,null,null,null,null,null,"Baptiste Joly","Filtration Product Manager","BJOL","b.joly@hasler.group","+33 6 27 13 81 47","Cosimo Piscopiello","Area Sales Manager","CPIS","c.piscopiello@hasler.group","+41 79 129 42 69"]
[null,null,null,null,null,null,null,null,null,null,null,null,null,null,null,null,null,null,null,null,null,null,null,null,null,null,null,null,null,null,null,null,null,null,null,null,null,null,null,"Benoît Roudaut","Area Technical Sales Manager","BROU","b.roudaut@hasler.group","+1 514-946-6350","Daniel Criado","Area Sales Manager","DCRI","d.criado@hasler.group","+41 79 968 12 70"]
[null,"Customer",null,null,{"$f":"Calculations!C2","v":"PKT"},null,null,null,null,null,null,null,null,null,null,null,null,null,null,null,null,null,null,null,null,null,null,null,null,null,null,null,null,null,null,null,null,null,null,"Chenghao Chai","Tender engineer","CCHA","c.chai@hasler.group","+33 4 74 16 11 53","Enrico Gualdi","Process Engineer","EGUA","e.gualdi@hasler.group",{"$f":"AR12","v":"+39 345 825 82 80"}]
[null,null,null,null,null,null,null,null,null,null,null,null,null,null,null,null,null,null,null,null,null,null,null,null,null,null,null,null,null,null,null,null,null,null,null,null,null,null,null,"Enrico Gualdi","Process Engineer","EGUA","e.gualdi@hasler.group","+39 345 825 82 80","Emilie Vaquero","Area Sales Manager","EVAQ","e.vaquero@hasler.group","+33 6 17 39 56 78"]
[null,"Date",null,null,{"$f":"TODAY()","v":"2026-02-11"},null,null,null,null,null,null,null,null,null,null,null,null,null,null,null,null,null,null,null,null,null,null,null,null,null,null,null,null,null,null,null,null,null,null,"Mélisa Balguy","Trial Technician Filtration","MBAL","m.balguy@hasler.group","+33 6 65 08 03 43","Leo Li","Area Sales Manager","LLI","l.li@hasler.group","+86 150 2122 2190"]
[null,null,null,null,null,null,null,null,null,null,null,null,null,null,null,null,null,null,null,null,null,null,null,null,null,null,null,null,null,null,null,null,null,null,null,null,null,null,null,"Moustapha Boujdid","Tender engineer","MBOU","m.boujdid@hasler.group","+33 6 65 08 03 43","Laurent Menigoz","Sales & Marketing Director","LMEN","l.menigoz@hasler.group","+33 6 76 45 27 88"]
[null,"Offer recipient",null,null,null,null,null,null,null,null,null,null,null,null,null,null,null,null,null,null,null,null,null,null,null,null,null,null,null,null,null,null,null,null,null,null,null,null,null,"Victor Ruys","Process & Product Director","VRUY","v.ruys@hasler.group","+33 6 87 85 35 42","Li Zhang","Area Sales Manager","LZHA","l.zhang@hasler.group"]
[null,null,null,null,null,null,null,null,null,null,null,null,null,null,null,null,null,null,null,null,null,null,null,null,null,null,null,null,null,null,null,null,null,null,null,null,null,null,null,"Yuri Marcuzzo","Dosing Product Manager","YMAR","y.marcuzzo@hasler.group","+41 79 260 28 03","Michel Jamey","Sales Director","MJAM","m.jamey@hasler.group","+33 6 07 85 96 09"]
[null,null,null,null,null,null,null,null,null,null,null,null,null,null,null,null,null,null,null,null,null,null,null,null,null,null,null,null,null,null,null,null,null,null,null,null,null,null,null,null,null,null,null,null,"Nicolas Delattre","Business Development Manager","NDEL","n.delattre@hasler.group","+33 7 62 65 16 60"]
[null,null,null,null,null,null,null,null,null,null,null,null,null,null,null,null,null,null,null,null,null,null,null,null,null,null,null,null,null,null,null,null,null,null,null,null,null,null,null,null,null,null,null,null,"Phirun Tes","Area Sales Manager","PTES","p.tes@hasler.group","+ 33 6 70 76 33 36"]
[null,null,null,null,null,null,null,null,null,null,null,null,null,null,null,null,null,null,null,null,null,null,null,null,null,null,null,null,null,null,null,null,null,null,null,null,null,null,null,null,null,null,null,null,"Toufik Ouerdani","Area Sales Manager","TOUE","t.ouerdani@hasler.group","+212 6 68 19 18 56"]
[null,null,null,null,null,null,null,null,null,null,null,null,null,null,null,null,null,null,null,null,null,null,null,null,null,null,null,null,null,null,null,null,null,null,null,null,null,null,null,null,null,null,null,null,"Wei Song","Area Sales Manager","WSON","w.song@hasler.group","+86 137 7681 9309"]
[]
[]
[]
[]
[]
[]
[]
[]
[]
[]
[]
[]
[]
[]
[]
[]
["Modification History"]
[]
["REV","Date","Written by",null,"Checked by","Approved by","Comments"]
[0]
[1]
[2]
[3]
[]
["Contacts"]
[]
[null,{"$f":"'Offre NEW'!M16","v":"Baptiste Joly"},null,null,null,null,{"$f":"'Offre NEW'!M18","v":"Wei Song"}]
[null,{"$f":"VLOOKUP(B47,AN6:AR16,2,FALSE)","v":"Filtration Product Manager"},null,null,null,null,{"$f":"VLOOKUP(G47,AS6:AW20,2,FALSE)","v":"Area Sales Manager"}]
[null,{"$f":"VLOOKUP(B47,AN6:AR16,5,FALSE)","v":"+33 6 27 13 81 47"},null,null,null,null,{"$f":"VLOOKUP(G47,AS6:AW20,5,FALSE)","v":"+86 137 7681 9309"}]
[null,{"$f":"VLOOKUP(B47,AN6:AR16,4,FALSE)","v":"b.joly@hasler.group"},null,null,null,null,{"$f":"VLOOKUP(G47,AS6:AW20,4,FALSE)","v":"w.song@hasler.group"}]
[]
[null,"HASLER France - 496 Rue Louis Breguet - 38780 Pont-Évêque - France"]
[null,"+33 4 74 16 11 50"]
[null,"www.hasler-gp.com "]

{"sheet":"Arg - Bande Mêle","index":59,"n_rows":482,"n_cols":49,"rows_kept":482,"cut":false,"hidden":false,"merged":[[9,4,9,10],[0,1,0,10],[1,0,1,11],[3,4,3,10],[5,4,5,10],[7,4,7,10],[30,0,30,11],[32,1,32,2],[32,3,32,4],[32,5,32,6],[32,7,32,8],[32,9,32,11],[34,1,34,2],[34,3,34,4],[34,5,34,6],[34,7,34,8],[34,9,34,11],[33,1,33,2],[33,3,33,4],[33,5,33,6],[33,7,33,8],[33,9,33,11],[36,1,36,2],[36,3,36,4],[36,5,36,6],[36,7,36,8],[36,9,36,11],[35,1,35,2],[35,3,35,4],[35,5,35,6],[35,7,35,8],[35,9,35,11],[38,0,38,11],[40,1,40,3],[40,6,40,7],[40,8,40,10],[41,1,41,3],[41,6,41,7],[41,8,41,10],[56,1,56,10],[42,1,42,3],[42,6,42,7],[42,8,42,10],[43,1,43,3],[43,6,43,7],[43,8,43,10],[44,8,44,10],[45,1,45,10],[46,1,46,10],[47,1,47,10],[52,1,52,7],[127,1,129,10],[57,1,57,10],[60,1,60,10],[61,1,61,10],[63,1,63,10],[64,1,64,10],[100,1,113,10],[123,1,123,10],[125,1,125,10],[235,3,235,10],[236,3,236,10],[323,2,323,10],[324,2,324,10],[327,2,327,10],[141,1,185,10],[192,1,195,10],[216,2,216,10],[215,3,215,10],[214,3,214,10],[442,1,446,10],[451,1,451,10],[238,3,238,10],[239,3,239,10],[253,2,253,10],[257,2,257,10],[291,2,291,10],[304,2,304,10],[342,1,342,10],[368,1,374,10],[329,2,329,10],[338,1,338,9],[340,1,340,9]]}
[null,"Filtration system"]
["Horizontal Vacuum Belt Filter Philippe"]
[]
[null,{"$f":"\"Sales Offer N°\"","v":"Sales Offer N°"},null,null,{"$f":"Calculations!C3&\" - rev\"&Calculations!G2","v":"760895 - rev2"}]
[null,null,null,null,null,null,null,null,null,null,null,null,null,null,null,null,null,null,null,null,null,null,null,null,null,null,null,null,null,null,null,null,null,null,null,null,null,null,null,"T eng.",null,null,null,null,"ASM"]
[null,"Project",null,null,"HVBF for PKT 300KTA Soda Ash Project",null,null,null,null,null,null,null,null,null,null,null,null,null,null,null,null,null,null,null,null,null,null,null,null,null,null,null,null,null,null,null,null,null,null,"Ahssen Boudeheb","Tender engineer","ABOU","a.boudeheb@hasler.group",null,"Alain Bernard Nankam","Business Developer Service & Spare","ABNA","ab.nankam@hasler.group","+33 6 50 40 92 77"]
[null,null,null,null,null,null,null,null,null,null,null,null,null,null,null,null,null,null,null,null,null,null,null,null,null,null,null,null,null,null,null,null,null,null,null,null,null,null,null,"Alexis Gilbert","Tender engineer","AGIB","a.gilbert@hasler.group","+33 6 13 76 81 49","Adrien Hourlier","Business Development Manager","AHOU","a.hourlier@hasler.group","+33 6 70 76 33 14"]
[null,"Customer",null,null,{"$f":"Calculations!C2","v":"PKT"},null,null,null,null,null,null,null,null,null,null,null,null,null,null,null,null,null,null,null,null,null,null,null,null,null,null,null,null,null,null,null,null,null,null,"Ahou N'gotta","Tender engineer","ANGO","ac.n'gotta@hasler.group","+33 4 74 16 11 27","Benoît Roudaut","Area Technical Sales Manager","BROU","b.roudaut@hasler.group",{"$f":"AR10","v":"+1 514-946-6350"}]
[null,null,null,null,null,null,null,null,null,null,null,null,null,null,null,null,null,null,null,null,null,null,null,null,null,null,null,null,null,null,null,null,null,null,null,null,null,null,null,"Baptiste Joly","Filtration Product Manager","BJOL","b.joly@hasler.group","+33 6 27 13 81 47","Cosimo Piscopiello","Area Sales Manager","CPIS","c.piscopiello@hasler.group","+41 79 129 42 69"]
[null,"Date",null,null,{"$f":"TODAY()","v":"2026-02-11"},null,null,null,null,null,null,null,null,null,null,null,null,null,null,null,null,null,null,null,null,null,null,null,null,null,null,null,null,null,null,null,null,null,null,"Benoît Roudaut","Area Technical Sales Manager","BROU","b.roudaut@hasler.group","+1 514-946-6350","Daniel Criado","Area Sales Manager","DCRI","d.criado@hasler.group","+41 79 968 12 70"]
[null,null,null,null,null,null,null,null,null,null,null,null,null,null,null,null,null,null,null,null,null,null,null,null,null,null,null,null,null,null,null,null,null,null,null,null,null,null,null,"Chenghao Chai","Tender engineer","CCHA","c.chai@hasler.group","+33 4 74 16 11 53","Enrico Gualdi","Process Engineer","EGUA","e.gualdi@hasler.group",{"$f":"#REF!","v":{"$error":"#REF!"}}]
[null,null,null,null,null,null,null,null,null,null,null,null,null,null,null,null,null,null,null,null,null,null,null,null,null,null,null,null,null,null,null,null,null,null,null,null,null,null,null,"Mélisa Balguy","Trial Technician Filtration","MBAL","m.balguy@hasler.group","+33 6 65 08 03 43","Leo Li","Area Sales Manager","LLI","l.li@hasler.group","+86 150 2122 2190"]
[null,null,null,null,null,null,null,null,null,null,null,null,null,null,null,null,null,null,null,null,null,null,null,null,null,null,null,null,null,null,null,null,null,null,null,null,null,null,null,"Moustapha Boujdid","Tender engineer","MBOU","m.boujdid@hasler.group","+33 6 65 08 03 43","Laurent Menigoz","Sales & Marketing Director","LMEN","l.menigoz@hasler.group","+33 6 76 45 27 88"]
[null,null,null,null,null,null,null,null,null,null,null,null,null,null,null,null,null,null,null,null,null,null,null,null,null,null,null,null,null,null,null,null,null,null,null,null,null,null,null,"Victor Ruys","Process & Product Director","VRUY","v.ruys@hasler.group","+33 6 87 85 35 42","Li Zhang","Area Sales Manager","LZHA","l.zhang@hasler.group"]
[null,null,null,null,null,null,null,null,null,null,null,null,null,null,null,null,null,null,null,null,null,null,null,null,null,null,null,null,null,null,null,null,null,null,null,null,null,null,null,"Yuri Marcuzzo","Dosing Product Manager","YMAR","y.marcuzzo@hasler.group","+41 79 260 28 03","Michel Jamey","Sales Director","MJAM","m.jamey@hasler.group","+33 6 07 85 96 09"]
[null,null,null,null,null,null,null,null,null,null,null,null,null,null,null,null,null,null,null,null,null,null,null,null,null,null,null,null,null,null,null,null,null,null,null,null,null,null,null,null,null,null,null,null,"Nicolas Delattre","Business Development Manager","NDEL","n.delattre@hasler.group","+33 7 62 65 16 60"]
[null,null,null,null,null,null,null,null,null,null,null,null,null,null,null,null,null,null,null,null,null,null,null,null,null,null,null,null,null,null,null,null,null,null,null,null,null,null,null,null,null,null,null,null,"Phirun Tes","Area Sales Manager","PTES","p.tes@hasler.group","+ 33 6 70 76 33 36"]
[null,null,null,null,null,null,null,null,null,null,null,null,null,null,null,null,null,null,null,null,null,null,null,null,null,null,null,null,null,null,null,null,null,null,null,null,null,null,null,null,null,null,null,null,"Toufik Ouerdani","Area Sales Manager","TOUE","t.ouerdani@hasler.group","+212 6 68 19 18 56"]
[null,null,null,null,null,null,null,null,null,null,null,null,null,null,null,null,null,null,null,null,null,null,null,null,null,null,null,null,null,null,null,null,null,null,null,null,null,null,null,null,null,null,null,null,"Wei Song","Area Sales Manager","WSON","w.song@hasler.group","+86 137 7681 9309"]
[]
[]
[]
[]
[]
[]
[]
[]
[]
[]
[]
["Modification History"]
[]
["REV","Date",null,"written by",null,"checked by",null,"approved by",null,"comments"]
[1,"2025-09-18",null,"BJOL",null,"AGIB",null,"ABIG",null,"First issue of offer"]
[2,"2025-10-08",null,"BJOL",null,"AGIB",null,"AGIB",null,"Update following process discussion"]
[3]
[4]
[]
["Contacts"]
[]
[null,{"$f":"'Offre NEW'!M16","v":"Baptiste Joly"},null,null,null,null,null,null,{"$f":"'Offre NEW'!M18","v":"Wei Song"}]
[null,{"$f":"VLOOKUP(B41,AN6:AR15,2,FALSE)","v":"Filtration Product Manager"},null,null,null,null,null,null,{"$f":"VLOOKUP(I41,AS6:AW19,2,FALSE)","v":"Area Sales Manager"}]
[null,{"$f":"VLOOKUP(B41,AN6:AR15,5,FALSE)","v":"+33 6 27 13 81 47"},null,null,null,null,null,null,{"$f":"VLOOKUP(I41,AS6:AW19,5,FALSE)","v":"+86 137 7681 9309"}]
[null,{"$f":"VLOOKUP(B41,AN6:AR15,4,FALSE)","v":"b.joly@hasler.group"},null,null,null,null,null,null,{"$f":"VLOOKUP(I41,AS6:AW19,4,FALSE)","v":"w.song@hasler.group"}]
[]
[null,"HASLER France - 496 Rue Louis Breguet - 38780 Pont-Évêque - France"]
[null,"+33 4 74 16 11 50"]
[null,"www.hasler-gp.com "]
[]
[]
[]
[]
[null,"Table of contents"]
[]
[]
[null,null,"Table of content"]
[null,"I.     YOUR REQUIREMENTS ................................................................................. 4"]
[null,"II.    HASLER GROUP SOLUTION …....................................................................... 5"]
[null,null,"a.   A solution optimized for your project ….................................................................... 5"]
[null,null,"b.   Key points of our design ……............................................................................................ 6"]
[null,"III.     A peace of mind solution ……........................................................................ 9"]
[null,"IV.    A solution that complies with HSE requirements ……................................... 9"]
[null,"V.    HASLER GROUP always with you ……........................................................... 10"]
[null,"VI.     A solution 4.0 ready …….............................................................................. 11"]
[null,"VII.    Technical specification ……......................................................................... 11"]
[]
[]
[]
[]
[]
[]
[]
[]
[]
[]
[]
[]
[]
[]
[]
[]
[]
[]
[]
[]
[]
[]
[]
[]
[]
[]
[]
[]
[]
[]
[]
[]
[]
[null,null,"I.     YOUR REQUIREMENTS "]
[]
[null,"You are planning to build the first Soda Ash plant in Indonesia for 300KTA.  So, you requested HASLER to design the appropriate vacuum belt filter that will suit your specific needs.  \n\nWe propose the following design : it is reliable, efficient and proven filtration system that will handle your production requirements."]
[null,null,null,null,null,null,null,null,null,null,null,null,"Remplacer éléments en rouge"]
[]
[]
[]
[]
[]
[]
[]
[]
[]
[]
[]
[]
[]
[]
[null,"What are you waiting for ? "]
[null,"Slurry flowrate: 410 m3/h"]
[null,"Dry solids flowrate: 69,95 t/h"]
[null,"Solid percentage in the slurry: 14,04 %",null,null,null,null,null,null,null,null,null,null,"Remplacer éléments en rouge"]
[null,"Density: 1,214 t/m3"]
[null,"Temperature: 40 °C"]
[null,"Percentage of residual moistue in cake: 16 %"]
[null,"Salinity of sodium bicarbonate : < 0,12 % "]
[null,"Number of washing steps: 4"]
[null,"Wash water for the cake: 15,4 m3/h for last step, 10,8 m3/h for third step and 36,2 m3/h for first and second step"]
[]
[null,"Thanks to our strong experience in soda ash, we can confirm that your objectives in terms of moisture and chloride content are achievable and usual in soda ash market. \n"]
[]
[]
[]
[]
[]
[]
[]
[]
[null,null,"II.     HASLER GROUP SOLUTION"]
[]
[]
[null,"a.   A solution optimized for your project"]
[]
[null,"Hasler Group and TCC were in contact early in April this year. The purpose was to go through our opportunities to cooperate. It turns out that HASLER is the perfect partner to support the client in this project.   \n\nOn the 11th of June, we set up a meeting between our engineering team and TCC team to clarify technical points to finalize the technical proposal. We are now in the position to send you here enclosed our best technical offer with the data we collected, and you have confirmed. \n\nThe HASLER Group is a leader in the field of vacuum belt filtration with our brand Filter Philippe, we have more than 100 references worldwide and more particularly equipment for Soda Ash using the HOU process, and SOLVAY too.\n\nThe layout, the functional control logic and scope of supply have been adapted to your process requirements for your plant. We selected specific material of construction (1.4462, …) for all the parts in contact according to materials indicated in your specification. Please keep in mind that material choice is customer responsibility.\n\nHASLER Group has been working for decades in developing and maintaining a high level of service expertise. During erection and commissioning phasis, our service technicians will supervise and assist your team. Your operational teams will benefit of our expertise and will be quickly efficiently running your unit. "]
[]
[]
[]
[]
[]
[]
[]
[]
[]
[null,null,null,null,null,null,null,null,null,null,null,null,null,null,"Remplacer éléments en rouge"]
[]
[]
[]
[]
[]
[]
[]
[]
[]
[]
[]
[]
[]
[]
[]
[]
[]
[]
[]
[]
[]
[]
[]
[]
[]
[]
[]
[]
[]
[]
[]
[]
[]
[]
[]
[]
[]
[]
[null,"b.   Key points of our design"]
[]
[null,"Our equipment is described in technical specifications in part VII of this technical offer. \nThe main operational advantages of our design are listed here below:"]
[]
[]
[]
[]
[]
[null,null,"Frame"]
[]
[]
[]
[]
[]
[]
[]
[]
[]
[]
[]
[]
[]
[]
[null,"•","Frame and internal parts of filter are completely bolted: "]
[null,null,"o","\tEasy mounting and unmounting of internal elements of the filter. It also allows to integrate an endless belt "]
[null,null,"o","The frame can be mounted and unmounted without risking the flatness of the frame."]
[null,"•","Optimized height between upper part of frame and ground level: Easy access for maintenance operations"]
[]
[]
[null,null,"Drive and head pulleys"]
[]
[]
[]
[]
[]
[]
[]
[]
[]
[]
[]
[]
[]
[null,"•","High rigidity design : erases bending phenomenon on external surface"]
[null,"•","Rubber lining on drums, flanges, and shaft offering:"]
[null,null,"o","Durability of rubber adherence. It limits the risk of slipping between the belt and the drums"]
[null,null,"o","Excellent protection against corrosion and abrasion."]
[null,"•","Chevron pattern on rubber lining, on drum cylinder"]
[null,null,"o","Water evacuation is optimized to limit belt slipping"]
[null,null,"o","Increased adherence coefficients between belt and drum"]
[]
[]
[null,null,"Belt"]
[]
[]
[]
[]
[]
[]
[]
[]
[]
[]
[null,"•","Stabilizing, edge cutting, grooving and hole punching are done in Hasler Group French factory :"]
[null,null,"o","Endless belt ready to be installed without any onsite stabilization"]
[null,null,"o","Holes on belt are perfectly aligned with vacuum box"]
[null,"•","Grooves slopped towards the center of the belt: Filtrate’s flow is optimized "]
[null,"•","Curbs have an \"accordion\" type profile: No vacuum loss and excellent cake and slurry containment"]
[]
[]
[]
[]
[]
[]
[]
[]
[]
[]
[]
[]
[]
[]
[]
[]
[]
[]
[]
[]
[]
[null,null,"Vacuum box"]
[]
[]
[]
[]
[]
[]
[]
[]
[]
[null,"•","Internal movable dams allow quick and easy set-up in case you adapt the process "]
[null,"•","Opening angle of 60°-65°: Easy access and maintenance"]
[null,"•","Automatic opening by pneumatic jacks: vacuum box opens and tilts in 45 sec. Inspection of vacuum box can be done in under 30 min without any need of special tools "]
[]
[null,null,"Support table"]
[]
[]
[]
[]
[]
[]
[]
[null,"Wear Belt Table support (Filtres Philippe Patented Design)"]
[null,"•","Excellent flatness (+/- 1mm)"]
[null,"•","No friction between table and belt with wear belt design"]
[null,"•","Uniform cake thickness on all length of filter, washing efficiency and filtrates recovery are optimized"]
[]
[]
[]
[]
[]
[]
[]
[]
[]
[]
[null,null,"III.     A peace of mind solution"]
[]
[null,"•","High availability, made for continuous processes."]
[]
[null,null,"An equipment designed to reduce downtime:"]
[]
[null,"-","Easy access to all the parts for fast maintenance and process flexibility"]
[null,"-","Vacuum Box Tilting System: access under 60 seconds with one operator"]
[null,"-","Belt support: Wear strips + Wear belt or Dry support table guaranteeing low wear part consumption"]
[null,"-","Fully automated (System controlled by PLC, cloth guiding & tensioning, Automatic systems, Automatic lubrication units)"]
[]
[]
[null,"•","The complete filtration unit is designed to keep operating costs to a minimum:"]
[]
[null,"-","Low water consumption that can be reduced with a high-pressure cloth washing ramp"]
[null,"-","Low energy consumption: Variable speed drives, table support systems"]
[null,"-","Low wear part consumption: Table support system"]
[null,"-","Low maintenance: Fast & Easy maintenance"]
[]
[]
[]
[null,null,"IV.     A solution complies with HSE requirements"]
[]
[null,"Your health & safety is our concern."]
[]
[null,"Safety guards are installed around the unit to prevent any risk of accident."]
[]
[null,"The area classification for filter, accessories & electrical devices is non-hazardous."]
[]
[]
[]
[]
[]
[]
[]
[]
[]
[]
[]
[]
[]
[]
[]
[]
[]
[]
[]
[]
[]
[]
[]
[null,null,"VI.      HASLER GROUP always with you"]
[]
[null,"At HASLER Group we take time to understand our activity’s evolutions and to listen to our customers. Our philosophy is to focus on our customer’s needs and to work with them on solutions. Services include:"]
[]
[]
[]
[]
[]
[]
[]
[]
[]
[]
[]
[]
[]
[]
[]
[]
[]
[]
[]
[]
[]
[]
[]
[]
[]
[]
[]
[]
[]
[]
[]
[]
[]
[]
[]
[]
[]
[]
[]
[]
[]
[]
[]
[]
[]
[]
[]
[]
[]
[]
[]
[]
[]
[]
[]
[]
[]
[]
[]
[]
[]
[]
[]
[]
[]
[]
[]
[]
[]
[]
[]
[null,null,"VI.     A solution 4.0 ready"]
[]
[null,"You will benefit of a Continuous data feedback and traceability system within your DCS. \n"]
[]
[]
[]
[]
[]
[]
[null,null,"VII.     Technical specifications"]
[]
[null,"You will find hereafter the technical specifications of our scope of supply, including the following appendices. "]
[]
[]
[null,"TECHNICAL DESCRIPTION OF PHILIPPE FILTER"]
[]
[null,"Design Features"]
[null,"Painting"]
[null,"Limit of supply "]
[]
[null,{"$f":"'OFFRE TECHNIQUE'!F1005","v":"COMPLEMENTARY EQUIPMENTS AND SERVICES"}]
[]
[null,"Appendix \"Cloth Ultrasonic welding machine\""]
[null,"Appendix \"Fume Hood\""]
[null,"Appendix \"Filtrate receiver\""]
[null,"Appendix \"Cyclone\""]
[null,"Appendix \"Scrubber\""]
[null,"Appendix \"Vacuum Pump\""]
[null,"Appendix \"Filtrate Pump 1\""]
[null,"Appendix \"Filtrate Pump 2&3\""]
[null,"Appendix \"High pressure washing ramp\""]
[null,"Appendix \"Cloth & Belt washing tank\""]
[null,"Appendix \"Cake washing pump\""]
[null,"Appendix \"Cake pressure roller\""]
[null,"Appendix \"Electrical parts\""]
[null,"Appendix \"Hydrocyclone\""]
[null,"Appendix \"Erection on site\""]
[null,"Appendix \"Commissioning on site\""]
[null,"Appendix ''Spare Parts - Maintenance Schedule''"]
[null,"Appendix ''Factory Acceptance Test (FAT)''"]
[null,"Appendix ''Water quality''"]
[null,"Appendix ''Process performance guarantee''"]

{"sheet":"Arg - Bande Supplier","index":60,"n_rows":503,"n_cols":49,"rows_kept":503,"cut":false,"hidden":true,"merged":[[9,4,9,10],[0,1,0,10],[1,0,1,11],[3,4,3,10],[5,4,5,10],[7,4,7,10],[11,4,11,10],[31,0,31,11],[33,1,33,2],[33,3,33,4],[33,5,33,6],[33,7,33,8],[33,9,33,11],[35,1,35,2],[35,3,35,4],[35,5,35,6],[35,7,35,8],[35,9,35,11],[34,1,34,2],[34,3,34,4],[34,5,34,6],[34,7,34,8],[34,9,34,11],[37,1,37,2],[37,3,37,4],[37,5,37,6],[37,7,37,8],[37,9,37,11],[36,1,36,2],[36,3,36,4],[36,5,36,6],[36,7,36,8],[36,9,36,11],[39,0,39,11],[41,1,41,3],[41,6,41,7],[41,8,41,10],[42,1,42,3],[42,6,42,7],[42,8,42,10],[57,1,57,10],[43,1,43,3],[43,6,43,7],[43,8,43,10],[44,1,44,3],[44,6,44,7],[44,8,44,10],[45,8,45,10],[46,1,46,10],[47,1,47,10],[48,1,48,10],[53,1,53,7],[225,3,225,10],[58,1,58,10],[61,1,61,10],[62,1,62,10],[64,1,64,10],[65,1,65,10],[101,1,114,10],[128,1,130,10],[132,1,139,10],[151,1,195,10],[202,1,205,10],[224,3,224,10],[338,2,338,10],[226,2,226,10],[245,3,245,10],[246,3,246,10],[248,3,248,10],[249,3,249,10],[263,2,263,10],[267,2,267,10],[301,2,301,10],[314,2,314,10],[334,2,334,10],[335,2,335,10],[479,1,479,10],[340,2,340,10],[349,1,349,9],[351,1,351,9],[353,1,353,10],[380,1,386,10],[454,1,474,10]]}
[null,"Filtration system"]
["Horizontal Vacuum Belt Filter Philippe"]
[]
[null,{"$f":"\"Sales Offer N°\"","v":"Sales Offer N°"},null,null,{"$f":"Calculations!C3&\" - rev\"&Calculations!G2","v":"760895 - rev2"}]
[null,null,null,null,null,null,null,null,null,null,null,null,null,null,null,null,null,null,null,null,null,null,null,null,null,null,null,null,null,null,null,null,null,null,null,null,null,null,null,"T eng.",null,null,null,null,"ASM"]
[null,"Project",null,null,null,null,null,null,null,null,null,null,null,null,null,null,null,null,null,null,null,null,null,null,null,null,null,null,null,null,null,null,null,null,null,null,null,null,null,"Ahssen Boudeheb","Tender engineer","ABOU","a.boudeheb@hasler.group",null,"Alain Bernard Nankam","Business Developer Service & Spare","ABNA","ab.nankam@hasler.group","+33 6 50 40 92 77"]
[null,null,null,null,null,null,null,null,null,null,null,null,null,null,null,null,null,null,null,null,null,null,null,null,null,null,null,null,null,null,null,null,null,null,null,null,null,null,null,"Alexis Gilbert","Tender engineer","AGIB","a.gilbert@hasler.group","+33 6 13 76 81 49","Adrien Hourlier","Business Development Manager","AHOU","a.hourlier@hasler.group","+33 6 70 76 33 14"]
[null,"Customer",null,null,{"$f":"Calculations!C2","v":"PKT"},null,null,null,null,null,null,null,null,null,null,null,null,null,null,null,null,null,null,null,null,null,null,null,null,null,null,null,null,null,null,null,null,null,null,"Ahou N'gotta","Tender engineer","ANGO","ac.n'gotta@hasler.group","+33 4 74 16 11 27","Benoît Roudaut","Area Technical Sales Manager","BROU","b.roudaut@hasler.group",{"$f":"AR10","v":"+1 514-946-6350"}]
[null,null,null,null,null,null,null,null,null,null,null,null,null,null,null,null,null,null,null,null,null,null,null,null,null,null,null,null,null,null,null,null,null,null,null,null,null,null,null,"Baptiste Joly","Filtration Product Manager","BJOL","b.joly@hasler.group","+33 6 27 13 81 47","Cosimo Piscopiello","Area Sales Manager","CPIS","c.piscopiello@hasler.group","+41 79 129 42 69"]
[null,"Date",null,null,{"$f":"TODAY()","v":"2026-02-11"},null,null,null,null,null,null,null,null,null,null,null,null,null,null,null,null,null,null,null,null,null,null,null,null,null,null,null,null,null,null,null,null,null,null,"Benoît Roudaut","Area Technical Sales Manager","BROU","b.roudaut@hasler.group","+1 514-946-6350","Daniel Criado","Area Sales Manager","DCRI","d.criado@hasler.group","+41 79 968 12 70"]
[null,null,null,null,null,null,null,null,null,null,null,null,null,null,null,null,null,null,null,null,null,null,null,null,null,null,null,null,null,null,null,null,null,null,null,null,null,null,null,"Chenghao Chai","Tender engineer","CCHA","c.chai@hasler.group","+33 4 74 16 11 53","Enrico Gualdi","Process Engineer","EGUA","e.gualdi@hasler.group",{"$f":"AR12","v":"+39 345 825 82 80"}]
[null,"Offer recipient",null,null,null,null,null,null,null,null,null,null,null,null,null,null,null,null,null,null,null,null,null,null,null,null,null,null,null,null,null,null,null,null,null,null,null,null,null,"Enrico Gualdi","Process Engineer","EGUA","e.gualdi@hasler.group","+39 345 825 82 80","Emilie Vaquero","Area Sales Manager","EVAQ","e.vaquero@hasler.group","+33 6 17 39 56 78"]
[null,null,null,null,null,null,null,null,null,null,null,null,null,null,null,null,null,null,null,null,null,null,null,null,null,null,null,null,null,null,null,null,null,null,null,null,null,null,null,"Mélisa Balguy","Trial Technician Filtration","MBAL","m.balguy@hasler.group","+33 6 65 08 03 43","Leo Li","Area Sales Manager","LLI","l.li@hasler.group","+86 150 2122 2190"]
[null,null,null,null,null,null,null,null,null,null,null,null,null,null,null,null,null,null,null,null,null,null,null,null,null,null,null,null,null,null,null,null,null,null,null,null,null,null,null,"Moustapha Boujdid","Tender engineer","MBOU","m.boujdid@hasler.group","+33 6 65 08 03 43","Laurent Menigoz","Sales & Marketing Director","LMEN","l.menigoz@hasler.group","+33 6 76 45 27 88"]
[null,null,null,null,null,null,null,null,null,null,null,null,null,null,null,null,null,null,null,null,null,null,null,null,null,null,null,null,null,null,null,null,null,null,null,null,null,null,null,"Victor Ruys","Process & Product Director","VRUY","v.ruys@hasler.group","+33 6 87 85 35 42","Li Zhang","Area Sales Manager","LZHA","l.zhang@hasler.group"]
[null,null,null,null,null,null,null,null,null,null,null,null,null,null,null,null,null,null,null,null,null,null,null,null,null,null,null,null,null,null,null,null,null,null,null,null,null,null,null,"Yuri Marcuzzo","Dosing Product Manager","YMAR","y.marcuzzo@hasler.group","+41 79 260 28 03","Michel Jamey","Sales Director","MJAM","m.jamey@hasler.group","+33 6 07 85 96 09"]
[null,null,null,null,null,null,null,null,null,null,null,null,null,null,null,null,null,null,null,null,null,null,null,null,null,null,null,null,null,null,null,null,null,null,null,null,null,null,null,null,null,null,null,null,"Nicolas Delattre","Business Development Manager","NDEL","n.delattre@hasler.group","+33 7 62 65 16 60"]
[null,null,null,null,null,null,null,null,null,null,null,null,null,null,null,null,null,null,null,null,null,null,null,null,null,null,null,null,null,null,null,null,null,null,null,null,null,null,null,null,null,null,null,null,"Phirun Tes","Area Sales Manager","PTES","p.tes@hasler.group","+ 33 6 70 76 33 36"]
[null,null,null,null,null,null,null,null,null,null,null,null,null,null,null,null,null,null,null,null,null,null,null,null,null,null,null,null,null,null,null,null,null,null,null,null,null,null,null,null,null,null,null,null,"Toufik Ouerdani","Area Sales Manager","TOUE","t.ouerdani@hasler.group","+212 6 68 19 18 56"]
[null,null,null,null,null,null,null,null,null,null,null,null,null,null,null,null,null,null,null,null,null,null,null,null,null,null,null,null,null,null,null,null,null,null,null,null,null,null,null,null,null,null,null,null,"Wei Song","Area Sales Manager","WSON","w.song@hasler.group","+86 137 7681 9309"]
[]
[]
[]
[]
[]
[]
[]
[]
[]
[]
[]
["Modification History"]
[]
["REV","Date",null,"written by",null,"checked by",null,"approved by",null,"comments"]
[0]
[1]
[2]
[3]
[]
["Contacts"]
[]
[null,{"$f":"'Offre NEW'!M16","v":"Baptiste Joly"},null,null,null,null,null,null,{"$f":"'Offre NEW'!M18","v":"Wei Song"}]
[null,{"$f":"VLOOKUP(B42,AN6:AR16,2,FALSE)","v":"Filtration Product Manager"},null,null,null,null,null,null,{"$f":"VLOOKUP(I42,AS6:AW20,2,FALSE)","v":"Area Sales Manager"}]
[null,{"$f":"VLOOKUP(B42,AN6:AR16,5,FALSE)","v":"+33 6 27 13 81 47"},null,null,null,null,null,null,{"$f":"VLOOKUP(I42,AS6:AW20,5,FALSE)","v":"+86 137 7681 9309"}]
[null,{"$f":"VLOOKUP(B42,AN6:AR16,4,FALSE)","v":"b.joly@hasler.group"},null,null,null,null,null,null,{"$f":"VLOOKUP(I42,AS6:AW20,4,FALSE)","v":"w.song@hasler.group"}]
[]
[null,"HASLER France - 496 Rue Louis Breguet - 38780 Pont-Évêque - France"]
[null,"+33 4 74 16 11 50"]
[null,"www.hasler-gp.com "]
[]
[]
[]
[]
[null,"Table of contents"]
[]
[]
[null,null,"Table of content"]
[null,"I.     YOUR REQUIREMENTS ................................................................................. 4"]
[null,"II.    HASLER GROUP SOLUTION …....................................................................... 5"]
[null,null,"a.   A solution optimized for your project ….................................................................... 5"]
[null,null,"b.   Key points of our design ……............................................................................................ 6"]
[null,"III.     A peace of mind solution ……........................................................................ 9"]
[null,"IV.    A solution that complies with HSE requirements ……................................... 9"]
[null,"V.    HASLER GROUP always with you ……........................................................... 10"]
[null,"VI.     A solution 4.0 ready …….............................................................................. 11"]
[null,"VII.    Technical specification ……......................................................................... 11"]
[]
[]
[]
[]
[]
[]
[]
[]
[]
[]
[]
[]
[]
[]
[]
[]
[]
[]
[]
[]
[]
[]
[]
[]
[]
[]
[]
[]
[]
[]
[]
[]
[]
[null,null,"I.     YOUR REQUIREMENTS "]
[]
[null,"You are planning to build the first Soda Ash plant in Indonesia, right next to the existingplant in Gresik.  So, you requested HASLER to design the appropriate vacuum belt filter that will suit your specific needs.  \n\nWe propose the following design : it is reliable, efficient and proven filtration system that will handle your production requirements."]
[null,null,null,null,null,null,null,null,null,null,null,null,"Remplacer éléments en rouge"]
[]
[]
[]
[]
[]
[]
[]
[]
[]
[]
[]
[]
[]
[]
[null,"What are you waiting for ? "]
[null,"Slurry flowrate: XX m3/h"]
[null,"Dry solids flowrate: XX %"]
[null,"Solid percentage in the slurry: XX %",null,null,null,null,null,null,null,null,null,null,"Remplacer éléments en rouge"]
[null,"Density: XX t/m3"]
[null,"Temperature: XX °C"]
[null,"Percentage of residual moistue in cake: XX %"]
[null,"Other performances to add"]
[null,"Number of washing steps: X"]
[null,"Wash water for the cake: XX m3/h"]
[]
[null,"Thanks to our strong experience in soda ash, we can confirm that your objectives in terms of moisture and chloride content are achievable and usual in soda ash market."]
[]
[]
[]
[]
[]
[]
[]
[]
[]
[]
[]
[]
[]
[]
[]
[]
[]
[null,null,"II.     HASLER GROUP SOLUTION"]
[]
[]
[null,"a.   A solution optimized for your project"]
[]
[null,"Hasler Group and Petrokemia Gresik were in contact early in April this year. The purpose was to go through our opportunities to cooperate. It turns out that HASLER is the perfect partner to support the client in this project.   \n\nOn the 13th of June, we set up a meeting between our engineering team and Mr Irfan and Arief to clarify technical points to finalize the technical proposal. We are now in the position to send you here enclosed our best technical offer with the data we collected, and you have confirmed. \n\nThe HASLER Group is a leader in the field of vacuum belt filtration with our brand Filter Philippe, we have more than 100 references worldwide and more particularly equipment for Soda Ash using the HOU process, and SOLVAY too.\n\nThe layout, the functional control logic and scope of supply have been adapted to your process requirements for your plant. We selected specific material of construction (1.4462, …) for all the parts in contact with the product to prevent and avoid corrosion effects due to the slurry characteristics. \n\nHASLER Group has been working for decades in developing and maintaining a high level of service expertise. During erection and commissioning phasis, our service technicians will supervise and assist your team. Your operational teams will benefit of our expertise and will be quickly efficiently running your unit. "]
[]
[]
[]
[]
[]
[]
[]
[]
[]
[null,null,null,null,null,null,null,null,null,null,null,null,null,null,"Remplacer éléments en rouge"]
[]
[]
[]
[]
[]
[]
[]
[]
[]
[]
[]
[]
[]
[]
[]
[]
[]
[]
[]
[]
[]
[]
[]
[]
[]
[]
[]
[]
[]
[]
[]
[]
[]
[]
[]
[]
[]
[]
[null,"b.   Key points of our design"]
[]
[null,"Our equipment is described in technical specifications in part VII of this technical offer. \nThe main operational advantages of our design are listed here below:"]
[]
[]
[]
[]
[]
[null,null,"Frame"]
[]
[]
[]
[]
[]
[]
[]
[]
[]
[]
[]
[]
[]
[]
[null,"•","Frame and internal parts of filter are completely bolted: "]
[null,null,"o","\tEasy mounting and unmounting of internal elements of the filter. It also allows to integrate an endless belt "]
[null,null,"o","The frame can be mounted and unmounted without risking the flatness of the frame."]
[null,"•","Optimized height between upper part of frame and ground level: Easy access for maintenance operations"]
[]
[]
[null,null,"Drive and head pulleys"]
[]
[]
[]
[]
[]
[]
[]
[]
[]
[]
[]
[]
[]
[null,"•","High rigidity design : erases bending phenomenon on external surface"]
[null,"•","Rubber lining on drums, flanges, and shaft offering:"]
[null,null,"o","Durability of rubber adherence. It limits the risk of slipping between the belt and the drums"]
[null,null,"o","Excellent protection against corrosion and abrasion."]
[null,"•","Chevron pattern on rubber lining, on drum cylinder"]
[null,null,"o","Water evacuation is optimized to limit belt slipping"]
[null,null,"o","Increased adherence coefficients between belt and drum"]
[]
[]
[null,null,"Belt"]
[]
[]
[]
[]
[]
[]
[]
[]
[]
[]
[null,"•","Stabilizing, edge cutting, grooving and hole punching are done based on our in-house design :"]
[null,null,"o","Endless belt ready to be installed without any onsite stabilization"]
[null,null,"o","Holes on belt are perfectly aligned with vacuum box"]
[null,"•","Grooves slopped towards the center of the belt: Filtrate’s flow is optimized "]
[null,"•","Curbs have an \"accordion\" type profile: No vacuum loss and excellent cake and slurry containment"]
[]
[]
[]
[]
[]
[]
[]
[]
[]
[]
[]
[]
[]
[]
[]
[]
[]
[]
[]
[]
[]
[null,null,"Vacuum box"]
[]
[]
[]
[]
[]
[]
[]
[]
[]
[null,"•","Internal movable dams allow quick and easy set-up in case you adapt the process "]
[null,"•","Opening angle of 60°-65°: Easy access and maintenance"]
[null,"•","Automatic opening by pneumatic jacks: vacuum box opens and tilts in 45 sec. Inspection of vacuum box can be done in under 30 min without any need of special tools "]
[]
[null,null,"Support table"]
[]
[]
[]
[]
[]
[]
[]
[null,"Wear Belt Table support (Filtres Philippe Patented Design)"]
[null,"•","Excellent flatness (+/- 1mm)"]
[null,"•","No friction between table and belt with wear belt design"]
[null,"•","Uniform cake thickness on all length of filter, washing efficiency and filtrates recovery are optimized"]
[]
[]
[]
[]
[]
[]
[]
[]
[]
[]
[]
[null,null,"III.     A peace of mind solution"]
[]
[null,"•","High availability, made for continuous processes."]
[]
[null,null,"An equipment designed to reduce downtime:"]
[]
[null,"-","Easy access to all the parts for fast maintenance and process flexibility"]
[null,"-","Vacuum Box Tilting System: access under 60 seconds with one operator"]
[null,"-","Belt support: Wear strips + Wear belt or Dry support table guaranteeing low wear part consumption"]
[null,"-","Fully automated (System controlled by PLC, cloth guiding & tensioning, Automatic systems, Automatic lubrication units)"]
[]
[]
[null,"•","The complete filtration unit is designed to keep operating costs to a minimum:"]
[]
[null,"-","Low water consumption that can be reduced with a high-pressure cloth washing ramp"]
[null,"-","Low energy consumption: Variable speed drives, table support systems"]
[null,"-","Low wear part consumption: Table support system"]
[null,"-","Low maintenance: Fast & Easy maintenance"]
[]
[]
[]
[null,null,"IV.     A solution complies with HSE requirements"]
[]
[null,"Your health & safety is our concern."]
[]
[null,"Safety guards are installed around the unit to prevent any risk of accident."]
[]
[null,"The area classification for filter, accessories & electrical devices is non-hazardous."]
[]
[]
[]
[]
[]
[]
[]
[]
[]
[]
[]
[]
[]
[]
[]
[]
[]
[]
[]
[]
[]
[]
[]
[]
[null,null,"VI.      HASLER GROUP always with you"]
[]
[null,"At HASLER Group we take time to understand our activity’s evolutions and to listen to our customers. Our philosophy is to focus on our customer’s needs and to work with them on solutions. Services include:"]
[]
[]
[]
[]
[]
[]
[]
[]
[]
[]
[]
[]
[]
[]
[]
[]
[]
[]
[]
[]
[]
[]
[]
[]
[]
[]
[]
[]
[]
[]
[]
[]
[]
[]
[]
[]
[]
[]
[]
[]
[]
[]
[]
[]
[]
[]
[]
[]
[]
[]
[]
[]
[]
[]
[]
[]
[]
[]
[]
[]
[]
[]
[]
[]
[]
[]
[]
[]
[]
[]
[]
[null,null,"VI.     A solution 4.0 ready"]
[]
[null,"All our equipment are fully automated (System controlled by PLC, complete communication with your DCS)\n\nYou will benefit of a Continuous data feedback and traceability system within your DCS. \n\nOur automat would be able to control the filter, and our automation engineering team will help you defining the right functional analysis to control your pilot unit. \n\nIn Appendix of our technical description is detailed all functions of our electrical control that we offer. "]
[]
[]
[]
[]
[]
[]
[]
[]
[]
[]
[]
[]
[]
[]
[]
[]
[]
[]
[]
[]
[]
[]
[null,null,"VII.     Technical specifications"]
[]
[null,"You will find hereafter the technical specifications of our scope of supply, including the following appendices. "]
[]
[]
[null,"TECHNICAL DESCRIPTION OF PHILIPPE FILTER"]
[]
[null,"Design Features"]
[null,"Painting"]
[null,"Limit of supply "]
[]
[null,{"$f":"'OFFRE TECHNIQUE'!F1005","v":"COMPLEMENTARY EQUIPMENTS AND SERVICES"}]
[]
[null,{"$f":"'OFFRE TECHNIQUE'!F1007","v":"Appendix \"Cloth Ultrasonic welding machine\""}]
[null,{"$f":"'OFFRE TECHNIQUE'!F1008","v":"Appendix \"Fume Hood\""}]
[null,{"$f":"'OFFRE TECHNIQUE'!F1009","v":"Appendix \"Filtrate receiver\""}]
[null,{"$f":"'OFFRE TECHNIQUE'!#REF!","v":{"$error":"#REF!"}}]
[null,{"$f":"'OFFRE TECHNIQUE'!#REF!","v":{"$error":"#REF!"}}]
[null,{"$f":"'OFFRE TECHNIQUE'!F1010","v":"Appendix \"Cyclone\""}]
[null,{"$f":"'OFFRE TECHNIQUE'!F1011","v":"Appendix \"Scrubber\""}]
[null,{"$f":"'OFFRE TECHNIQUE'!F1012","v":"Appendix \"Vacuum Pump\""}]
[null,{"$f":"'OFFRE TECHNIQUE'!F1013","v":"Appendix \"Filtrate Pump 1\""}]
[null,{"$f":"'OFFRE TECHNIQUE'!F1014","v":"Appendix \"Filtrate Pump 2&3\""}]
[null,{"$f":"'OFFRE TECHNIQUE'!F1015","v":"Appendix \"High pressure washing ramp\""}]
[null,{"$f":"'OFFRE TECHNIQUE'!F1016","v":"Appendix \"Cloth & Belt washing tank\""}]
[null,{"$f":"'OFFRE TECHNIQUE'!F1017","v":"Appendix \"Cake washing pump\""}]

{"sheet":"OFFRE TECHNIQUE","index":61,"n_rows":1026,"n_cols":41,"rows_kept":1026,"cut":false,"hidden":false,"merged":[[554,3,556,24],[474,3,475,24],[463,17,464,24],[466,17,467,24],[471,3,472,24],[473,3,473,24],[680,17,681,24],[222,3,224,24],[230,5,232,24],[233,5,235,24],[239,3,240,24],[499,17,500,24],[370,17,370,24],[1,0,4,25],[54,0,57,25],[103,0,106,25],[751,27,752,48],[366,17,366,24],[174,17,174,24],[176,17,177,24],[421,3,422,24],[423,5,423,24],[424,5,425,24],[427,5,428,24],[429,5,430,24],[446,3,447,24],[371,17,372,24],[377,3,379,24],[380,3,380,24],[384,17,385,24],[405,3,406,24],[367,17,367,24],[373,17,373,24],[448,3,451,24],[456,3,460,24],[541,3,543,24],[546,3,547,24],[868,1,868,5],[868,6,868,11],[868,12,868,16],[868,17,868,24],[695,17,696,24],[732,3,733,24],[751,3,753,24],[13,14,13,16],[15,0,15,25],[66,14,66,17],[68,0,68,25],[339,17,340,24],[364,17,365,24],[241,3,241,24],[242,3,243,24],[315,3,316,24],[324,3,324,24],[333,17,333,24],[297,17,298,23],[343,17,344,24],[353,17,354,23],[347,17,349,24],[183,17,183,23],[551,17,552,24],[836,5,837,11],[846,3,847,24],[851,3,852,24],[853,3,854,24],[858,3,859,24],[861,3,862,24],[772,17,773,24],[784,3,785,24],[589,3,590,24],[602,3,603,24],[620,17,621,24],[638,17,640,24],[663,17,664,24],[676,17,678,24],[871,1,872,5],[871,6,872,11],[871,12,872,16],[871,17,872,24],[873,1,873,5],[873,6,873,11],[873,12,873,16],[873,17,873,24],[869,1,870,5],[869,6,870,11],[869,12,870,16],[869,17,870,24],[878,1,879,5],[878,6,879,11],[878,12,879,16],[878,17,879,24],[880,1,881,5],[880,6,881,11],[880,12,881,16],[880,17,881,24],[874,1,875,5],[874,6,875,11],[874,12,875,16],[874,17,875,24],[876,1,877,5],[876,6,877,11],[876,12,877,16],[876,17,877,24],[915,1,916,23],[985,2,985,22],[882,1,883,5],[882,6,883,11],[882,12,883,16],[882,17,883,24],[884,1,885,5],[884,6,885,11],[884,12,885,16],[884,17,885,24],[1000,16,1000,21],[1002,0,1002,25],[926,3,927,24],[955,3,956,24],[962,3,964,24],[965,3,968,24],[969,3,970,24],[988,0,990,25],[918,3,919,24],[961,3,961,24],[974,3,974,23]]}
[]
["TECHNICAL SPECIFICATION \n FOR \"PHILIPPE\" VACUUM BELT FILTER\n"]
[]
[]
[]
[]
[null,null,null,null,null,"CLIENT",null,null,null,null,null,null,null,null,{"$f":"Calculations!$C$2","v":"PKT"}]
[null,null,null,null,null,"JOB REF",null,null,null,null,null,null,null,null,{"$f":"Calculations!$C$4","v":"Soda ash filter"}]
[null,null,null,null,null,"QUOTATION N°",null,null,null,null,null,null,null,null,{"$f":"Calculations!$C$3&\"_\"&Calculations!$K$10&\"-\"&Calculations!G1&Calculations!$H$3","v":"760895_90B30-01rev2"}]
[null,null,null,null,null,"PRODUCT",null,null,null,null,null,null,null,null,{"$f":"Calculations!$K$3","v":"Soda ash"}]
[null,null,null,null,null,"SELECTED FILTER",null,null,null,null,null,null,null,null,{"$f":"\"VACUUM BELT FILTER \"&Calculations!$C$9&\" m²\"","v":"VACUUM BELT FILTER 90 m²"}]
[null,null,null,null,null,"WIDTH",null,null,null,null,null,null,null,null,{"$f":"Calculations!$E$9&\" mm\"","v":"3000 mm"}]
[null,null,null,null,null,"TYPE",null,null,null,null,null,null,null,null,{"$f":"Calculations!$K$10&\" - \"&Calculations!$I$9","v":"90B30 - SERIE 4"}]
[null,null,null,null,null,"DATE",null,null,null,null,null,null,null,null,{"$f":"Calculations!$R$2","v":"2026-02-11"}]
[]
["TABLE OF CONTENT"]
[]
[]
[null,null,null,null,null,"TECHNICAL DESCRIPTION OF PHILIPPE FILTER"]
[]
[null,null,null,null,null,"Design features"]
[null,null,null,null,null,"Painting"]
[null,null,null,null,null,"Limit of supply"]
[]
[]
[null,null,null,null,null,"COMPLEMENTARY EQUIPMENTS AND SERVICES"]
[]
[null,null,null,null,null,"Appendix \"Cloth Ultrasonic welding machine\""]
[null,null,null,null,null,"Appendix \"Fume Hood\""]
[null,null,null,null,null,"Appendix \"Filtrate receiver\""]
[null,null,null,null,null,"Appendix \"Cyclone\""]
[null,null,null,null,null,"Appendix \"Scrubber\""]
[null,null,null,null,null,"Appendix \"Vacuum Pump\""]
[null,null,null,null,null,"Appendix \"Filtrate Pump 1\""]
[null,null,null,null,null,"Appendix \"Filtrate Pump 2&3\""]
[null,null,null,null,null,"Appendix \"High pressure washing ramp\""]
[null,null,null,null,null,"Appendix \"Cloth & Belt washing tank\""]
[null,null,null,null,null,"Appendix \"Cake washing pump\""]
[null,null,null,null,null,"Appendix \"Cake pressure roller\""]
[null,null,null,null,null,"Appendix \"Electrical parts\""]
[null,null,null,null,null,"Appendix \"Hydrocyclone\""]
[null,null,null,null,null,"Appendix \"Erection on site\""]
[null,null,null,null,null,"Appendix \"Commissioning on site\""]
[null,null,null,null,null,"Appendix ''Spare Parts - Maintenance Schedule''"]
[null,null,null,null,null,"Appendix ''Factory Acceptance Test (FAT)''"]
[null,null,null,null,null,"Appendix ''Water quality''"]
[null,null,null,null,null,"Appendix ''Process performance guarantee''"]
[]
[null,null,null,null,null,"DRAWINGS FOR \"PHILIPPE\" VACUUM BELT FILTER"]
[null,null,null,null,null,null,null,null,null," "]
[null,null,null,null,null,"P&ID"]
[null,null,null,null,null,"General assembly drawing for information only"]
[]
[]
["TECHNICAL DESCRIPTION\nOF \"PHILIPPE\" VACUUM BELT FILTER\n\n"]
[]
[]
[]
[]
[null,null,null,null,null,"CLIENT",null,null,null,null,null,null,null,null,{"$f":"Calculations!$C$2","v":"PKT"}]
[null,null,null,null,null,"JOB REF",null,null,null,null,null,null,null,null,{"$f":"Calculations!$C$4","v":"Soda ash filter"}]
[null,null,null,null,null,"QUOTATION N°",null,null,null,null,null,null,null,null,{"$f":"Calculations!$C$3&\"_\"&Calculations!$K$10&\"-\"&Calculations!G1&Calculations!$H$3","v":"760895_90B30-01rev2"}]
[null,null,null,null,null,"PRODUCT",null,null,null,null,null,null,null,null,{"$f":"Calculations!$K$3","v":"Soda ash"}]
[null,null,null,null,null,"SELECTED FILTER",null,null,null,null,null,null,null,null,{"$f":"\"VACUUM BELT FILTER \"&Calculations!$C$9&\" m²\"","v":"VACUUM BELT FILTER 90 m²"}]
[null,null,null,null,null,"WIDTH",null,null,null,null,null,null,null,null,{"$f":"Calculations!$E$9&\" mm\"","v":"3000 mm"}]
[null,null,null,null,null,"TYPE",null,null,null,null,null,null,null,null,{"$f":"Calculations!$K$10&\" - \"&Calculations!$I$9","v":"90B30 - SERIE 4"}]
[null,null,null,null,null,"DATE",null,null,null,null,null,null,null,null,{"$f":"Calculations!$R$2","v":"2026-02-11"}]
[]
["TABLE OF CONTENT"]
[]
[]
[null,null,null,"1.","Main features"]
[null,null,null,"2.","Utilites"]
[null,null,null,"3.","Filter specifications"]
[null,null,null,null,"Frame"]
[null,null,null,null,"Pulleys"]
[null,null,null,null,"Drive"]
[null,null,null,null,"Rubber belt"]
[null,null,null,null,"Vacuum box"]
[null,null,null,null,"Filter cloth"]
[null,null,null,null,"Cake discharge"]
[null,null,null,null,"Fluid distribution"]
[null,null,null,null,"Process equipments"]
[null,null,null,null,"Electric & control equipments"]
[null,null,null,null,"Standard for connection"]
[null,null,null,"4.","Painting specifications"]
[null,null,null,"5.","Battery limits & exclusions"]
[null,null,null,"6.","EC declaration of integration & safety personnal protections"]
[null,null,null,"7.","Standard list of documentation"]
[]
[]
[]
[]
[]
[]
[]
[]
[]
[]
[]
[]
[]
[]
["TECHNICAL DESCRIPTION\nOF \"PHILIPPE\" VACUUM BELT FILTER\n\n"]
[]
[]
[]
[]
[]
[]
[]
[]
[]
[]
[]
[]
[]
[]
[]
[]
[]
[]
[]
[]
[]
[]
[]
[]
[]
[]
[]
[]
[]
[]
[]
[]
[]
[]
[]
[]
[]
[]
[]
[]
[]
[]
[]
[]
[]
[]
[]
[]
[null,"1.",null,"MAIN FEATURES"]
[]
[null,"1.1.",null,"ACTIVE FILTERING AREA:",null,null,null,null,null,null,null,null,null,null,null,null,null,{"$f":"Calculations!$C$9&\" m²\"","v":"90 m²"}]
[]
[null,"1.2.",null,"GENERAL DIMENSIONS"]
[]
[null,null,"-","Width under vacuum:",null,null,null,null,null,null,null,null,null,null,null,null,null,{"$f":"Calculations!$E$9&\" mm\"","v":"3000 mm"}]
[null,null,"-","Length under vacuum:",null,null,null,null,null,null,null,null,null,null,null,null,null,{"$f":"Calculations!$G$9&\" mm\"","v":"30000 mm"}]
[null,null,"-","Total width (without drive unit):",null,null,null,null,null,null,null,null,null,null,null,null,null,{"$f":"Calculations!$R$54&\" mm\"","v":"3850 mm"}]
[null,null,"-","Total length:",null,null,null,null,null,null,null,null,null,null,null,null,null,{"$f":"Calculations!$R$55&\" mm\"","v":"35970 mm"}]
[null,null,"-","Total height (without slurry distributor):",null,null,null,null,null,null,null,null,null,null,null,null,null,{"$f":"Calculations!$R$56&\" mm\"","v":"2710 mm"}]
[]
[null,"1.3.",null,"WEIGHT"]
[]
[null,null,"-","Weight of the filter:",null,null,null,null,null,null,null,null,null,null,null,null,null,"See General Assembly"]
[]
[]
[null,"2.",null,"UTILITIES"]
[]
[null,"2.1.",null,"ELECTRICITY"]
[]
[null,null,null,"Belt drive electrical motor"]
[null,null,"-","Voltage:",null,null,null,null,null,null,null,null,null,null,null,null,null,"3 x 380V (HASLER' standard)",null,null,null,null,null,null,null,null,null,"Voltage rules : Keep in std 3 x 400V (HG std) - if other request from client adapt it but quote the added-value accordingly"]
[null,null,"-","Frequency:",null,null,null,null,null,null,null,null,null,null,null,null,null,"50 Hz (HASLER' standard)",null,null,null,null,null,null,null,null,null,"Frequency rules : Keep in std 50Hz (HG std) - if other request from client adapt it but quote the added-value accordingly"]
[null,null,"-","Control/instrumentation voltage to be confirmed",null,null,null,null,null,null,null,null,null,null,null,null,null,"Refer to the part  \"ELECTRICAL CONTROL CABINET\""]
[]
[null,"2.2.",null,"WATER"]
[]
[null,null,"-","Filter cloth washing. Three spray bars in operation."]
[null,null,"-","Minimum pressure at manifold:",null,null,null,null,null,null,null,null,null,null,null,null,null,"3 bars"]
[null,null,"-","Flow in operation:"]
[null,null,null,null,"•","Cake side flow:",null,null,null,null,null,null,null,null,null,null,null,{"$f":"Calculations!$G$38&\" m3/h\"","v":"4,08 m3/h"}]
[null,null,null,null,"•","Opposite side flow:",null,null,null,null,null,null,null,null,null,null,null,{"$f":"Calculations!$G$39&\" m3/h\"","v":"2,38 m3/h"}]
[null,null,null,null,"•","Rubber belt washing:",null,null,null,null,null,null,null,null,null,null,null,{"$f":"Calculations!$G$40&\" m3/h\"","v":"4,46 m3/h"}]
[null,null,null,null,"•","Vacuum box wear belts lubrication (1 bar):",null,null,null,null,null,null,null,null,null,null,null,{"$f":"Calculations!$C$41&\" L/h to \"&Calculations!E41&\" L/h\"","v":"150 L/h to 600 L/h"}]
[null,null,null,null,{"$f":"IF(Calculations!$P$39=\"Oui\",\"•\",\"\")","v":""},{"$f":"IF(Calculations!P39=\"Oui\",\"Belt support wear belts washing (1bar):\",\"\")","v":""},null,null,null,null,null,null,null,null,null,null,null,{"$f":"IF(Calculations!P39=\"Oui\",Calculations!Q39&\" L/h\",\"\")","v":""}]
[null,null,null,null,{"$f":"IF(Calculations!$P$40=\"Oui\",\"•\",\"\")","v":"•"},{"$f":"IF(Calculations!$P$40=\"Oui\",\"Belt support wear belts lubrication (1 bar):\",\"\")","v":"Belt support wear belts lubrication (1 bar):"},null,null,null,null,null,null,null,null,null,null,null,{"$f":"IF(Calculations!P40=\"Oui\",Calculations!Q40&\" L/h\",\"\")","v":"360 L/h"}]
[]
[null,"NOTE: ",null,"For belts lubrication, free solids clean water is required."]
[]
[]
[]
[]
[]
[]
[null,"2.3.",null,"COMPRESSED AIR"]
[]
[null,null,null,"Vacuum box tilting, cloth guiding and tensioning"]
[]
[null,null,"-","Flow:",null,null,null,null,null,null,null,null,null,null,null,null,null,"4 Nm3/h - Pressure 5 bars"]
[null,null,"-","Quality:",null,null,null,null,null,null,null,null,null,null,null,null,null,"filtered - oil free"]
[]
[]
[null,"3.",null,"FILTER SPECIFICATIONS"]
[]
[null,"3.1.",null,"FRAME"]
[]
[]
[]
[]
[]
[]
[]
[]
[]
[]
[]
[]
[]
[]
[null,null,null,"The filter included consists of a high quality steel frame constructed of standard structural sectional members and sheet steel sections bolted and welded to form a composite structural framework."]
[]
[]
[null,null,"-","Material of the frame:",null,null,null,null,null,null,null,null,null,null,null,null,null,{"$f":"IF(Calculations!$E$22=\"E24\",\"Carbon steel epoxy painted\",Calculations!$E$22)","v":"316L"}]
[null,null,"-","Material of the sheet:",null,null,null,null,null,null,null,null,null,null,null,null,null,{"$f":"IF(Calculations!$E$22=\"E24\",\"Carbon steel epoxy painted\",Calculations!$E$22)","v":"316L"}]
[null,null,"-","Material of the bolt and nuts:",null,null,null,null,null,null,null,null,null,null,null,null,null,"316"]
[]
[null,null,null,"The frames includes:"]
[null,null,null,null,"•","Two modules at each end of the filter support the head and tail pulleys, the drive unite, the cake disposal elements, the cloth and belt washing system, the cloth tracking equipment."]
[]
[]
[null,null,null,null,"•","Intermediate frames evenly spaced support the belt support table, the vacuum box and its tilting system, the filter cloth and belt return rollers, guide and rails for the movable devices (feed distributor, dams, wash throughs)."]
[]
[]
[]
[null,null,null,"Special features"]
[]
[null,null,"-","The frame is made of standard profiled structural steel and is fully bolted. This allows the easy replacement of structural members if needed."]
[]
[null,null,"-","Frame can be mounted and dismounted without any risk of change in final result."]
[null,null,"-","This technology allows the supply of an endless belt for the first mount as well as replacement."]
[]
[]
[]
[null,"3.2.",null,"TAILS AND HEAD PULLEYS"]
[]
[null,"3.2.1.",null,"Tail pulley"]
[]
[]
[]
[]
[]
[]
[]
[]
[]
[]
[]
[]
[]
[]
[]
[null,null,null,"Supported by two tensioning and water - tight swivel- bearing blocks"]
[null,null,"-","Diameter of pulley: ",null,null,null,null,null,null,null,null,null,null,null,null,null,{"$f":"Calculations!$K$9&\" mm\"","v":"1210 mm"}]
[null,null,"-","Material of pulley body:",null,null,null,null,null,null,null,null,null,null,null,null,null,"S235JR / A570Gr33",null,null,null,null,null,null,null,null,null,"Warning : Choosing the right material"]
[null,null,"-","Material of shaft:",null,null,null,null,null,null,null,null,null,null,null,null,null,"EN C22E / AISI 1020"]
[null,null,"-","Drip proof disc to protect the bearing blocks"]
[null,null,"-","Lining:",null,null,null,null,null,null,null,null,null,null,null,null,null,"Rubber SBR - 65 shore"]
[null,null,"-","Thickness "]
[null,null,null,null,"•","Shells:",null,null,null,null,null,null,null,null,null,null,null,"10 mm"]
[null,null,null,null,"•","Flanges:",null,null,null,null,null,null,null,null,null,null,null,"5 mm"]
[null,null,"-","Weight",null,null,null,null,null,null,null,null,null,null,null,null,null,"2500 kg"]
[]
[null,"3.2.2.",null,"Head pulley"]
[]
[]
[]
[]
[]
[]
[]
[]
[]
[]
[]
[]
[]
[]
[null,null,null,"Supported by two water-tight swivel - bearing blocks"]
[null,null,"-","Diameter of pulley:",null,null,null,null,null,null,null,null,null,null,null,null,null,{"$f":"Calculations!$K$9&\" mm\"","v":"1210 mm"}]
[null,null,"-","Material of pulley body: ",null,null,null,null,null,null,null,null,null,null,null,null,null,"S235JR / A570Gr33",null,null,null,null,null,null,null,null,null,"Warning : Choosing the right material"]
[null,null,"-","Material of shaft: ",null,null,null,null,null,null,null,null,null,null,null,null,null,"EN C22E / AISI 1020"]
[]
[]
[null,null,"-","Drip proof disc to protect the bearing blocks"]
[null,null,"-","Lining:",null,null,null,null,null,null,null,null,null,null,null,null,null,"Rubber SBR - 65 shore with a chevron design for belt driving\n"]
[]
[null,null,"-","Thickness "]
[null,null,null,null,"•","Shells:",null,null,null,null,null,null,null,null,null,null,null,"10 mm"]
[null,null,null,null,"•","Flanges:",null,null,null,null,null,null,null,null,null,null,null,"5 mm"]
[null,null,"-","Weight",null,null,null,null,null,null,null,null,null,null,null,null,null,"2800 kg"]
[]
[null,null,null,"Special features"]
[]
[null,null,"-","One single through steel shaft :"]
[null,null,null,null,"•","Provides stiffness of the assembly"]
[null,null,null,null,"•","Eliminates torsion on the external surface"]
[null,null,"-","External surface, side flanges & shaft covered with hot vulcanized rubber:"]
[null,null,null,null,"•","Perfect adherence of the rubber and durable protection against corrosion"]
[null,null,null,null,"•","Allows final machining to have pulleys in a perfect horizontal position"]
[null,null,"-","Drip-proof discs mounted on shafts"]
[null,null,null,null,"•","Protection of bearings from corrosion"]
[null,{"$f":"IF(Calculations!$U$11=\"Oui\",\"3.2.3.\",\"\")","v":""},null,{"$f":"IF(Calculations!$U$11=\"Oui\",\"Shaft protection\",\"\")","v":""}]
[null,null,null,{"$f":"IF(Calculations!$U$11=\"Oui\",\"On each drum the unrubber lined parts of the shafts (inside the bearing blocks) will be stainless steel lined (SS 316L).\",\"\")","v":""}]
[]
[]
[null,"3.3.",null,"FILTER DRIVE"]
[]
[null,null,null,"The filter drive includes the following components:"]
[]
[null,"3.3.1.",null,"Variable Frequency Drive (VFD)"]
[]
[null,null,null,"Type: Frequency variator IP 2x, refer to the part  \"ELECTRICAL CONTROL CABINET\""]
[]
[null,null,"-","Brand"]
[null,null,null,null,"•","IEC standard:",null,null,null,null,null,null,null,null,null,null,null,"SCHNEIDER or ABB, SIEMENS"]
[null,null,null,null,"•","NEMA standard:",null,null,null,null,null,null,null,null,null,null,null,"WEG or ALLEN BRADLEY"]
[]
[null,null,"-","Rated power:",null,null,null,null,null,null,null,null,null,null,null,null,null,{"$f":"Calculations!R25","v":"90 kW"}]
[null,null,"-","Index: ",null,null,null,null,null,null,null,null,null,null,null,null,null,"IP 2x"]
[null,null,"-","Application:",null,null,null,null,null,null,null,null,null,null,null,null,null,"Constant torque"]
[null,null,"-","Power supply: ",null,null,null,null,null,null,null,null,null,null,null,null,null,{"$f":"R175","v":"3 x 380V (HASLER' standard)"}]
[null,null,"-","Output voltage:",null,null,null,null,null,null,null,null,null,null,null,null,null,"Internal supply of logic inputs"]
[]
[null,null,null,"Remote control inputs (*):"]
[null,null,"-","1 Logic input: ",null,null,null,null,null,null,null,null,null,null,null,null,null,"Stop"]
[null,null,"-","1 Logic input: ",null,null,null,null,null,null,null,null,null,null,null,null,null,"Start"]
[null,null,"-","1 Logic input: ",null,null,null,null,null,null,null,null,null,null,null,null,null,"Faster (selectable on Local/remote Input status)\n"]
[]
[]
[]
[null,null,"-","1 Logic input: ",null,null,null,null,null,null,null,null,null,null,null,null,null,"Slower (selectable on Local/remote Input status)\n"]
[]
[null,null,"-","1 Logic input: ",null,null,null,null,null,null,null,null,null,null,null,null,null,"Fault reset"]
[null,null,"-","1 Logic input: ",null,null,null,null,null,null,null,null,null,null,null,null,null,"Local/remote selection"]
[null,null,"-","1 analog input:",null,null,null,null,null,null,null,null,null,null,null,null,null,"4-20mA speed setpoint (selectable on Local/remote input status)\n"]
[]
[]
[null,null,null,"(Local / remote status change 0 to 1 or 1 to 0 will never change the actual speed)"]
[]
[null,null,null,"Remote control ouputs (**):"]
[null,null,"-","1 analog output:",null,null,null,null,null,null,null,null,null,null,null,null,null,"4-20 mA actual speed (10 to 60 Hz)"]
[]
[null,null,null,"Accessories:"]
[null,null,"-","1 EMC compatibility filter"]
[null,null,"-","1 OIM (operator interface module)"]
[null,null,null,"Frequency setting limits:",null,null,null,null,null,null,null,null,null,null,null,null,null,"10 to 60 Hz"]
[]
[null,"3.3.2.",null,"Electric motor"]
[]
[null,null,"-","Absorbed power:",null,null,null,null,null,null,null,null,null,null,null,null,null,{"$f":"Calculations!N25","v":"71,02 kW"}]
[null,null,"-","Installed power:",null,null,null,null,null,null,null,null,null,null,null,null,null,{"$f":"Calculations!R25","v":"90 kW"}]
[null,null,"-","Type:",null,null,null,null,null,null,null,null,null,null,null,null,null,"Cast-iron body – TEFC – IM1001 (B5 or B3) – 4 poles - IP 55 – CI F/B"]
[]
[null,null,"-","Voltage:",null,null,null,null,null,null,null,null,null,null,null,null,null,{"$f":"R175","v":"3 x 380V (HASLER' standard)"},null,null,null,null,null,null,null,null,null,"Voltage rules : Keep in std 3 x 400V (HG std) - if other request from client adapt it but quote the added-value accordingly"]
[null,null,"-","Insulation:",null,null,null,null,null,null,null,null,null,null,null,null,null,"F/B (HASLER' standard)"]
[null,null,"-","Brand:"]
[null,null,null,null,"•","IEC standard:",null,null,null,null,null,null,null,null,null,null,null,"WEG or ABB, SIEMENS"]
[null,null,null,null,"•","NEMA standard:",null,null,null,null,null,null,null,null,null,null,null,"WEG or TECO WESTINGHOUSE"]
[null,null,"-","Painting:",null,null,null,null,null,null,null,null,null,null,null,null,null,"Refer to Part ''4. Painting Specifications''"]
[]
[null,null,"-","Belt speed: ",null,null,null,null,null,null,null,null,null,null,null,null,null,{"$f":"\"From \"& ROUNDUP(Calculations!H25,1) &\" m/min to \" & ROUNDUP(Calculations!F25,1)&\" m/min\"","v":"From 4,3 m/min to 25,5 m/min"}]
[]
[null,"3.3.3.",null,"Planetary gear box"]
[]
[null,null,null,"It is fixed on the shaft of the filter head pulley. The gear box is locked in rotation by means of torque handle. The torque is controlled by the dynamometric handle acting on a limit switch in order to protect the gear box and the filter against overload."]
[]
[]
[null,null,null,{"$f":"\"Gear unit is design for 50 000 hours / \"&Calculations!$N$25","v":"Gear unit is design for 50 000 hours / 71,02 kW"}]
[null,null,"-","Constant output torque:",null,null,null,null,null,null,null,null,null,null,null,null,null,{"$f":"ROUNDUP(Calculations!$N$26,0)&\" Nm\"","v":"88239 Nm"}]
[null,null,"-","Safety factor:",null,null,null,null,null,null,null,null,null,null,null,null,null,"1,3 x Power installed"]
[null,null,"-","Brand:",null,null,null,null,null,null,null,null,null,null,null,null,null,"ROSSI"]
[null,null,"-","Painting:",null,null,null,null,null,null,null,null,null,null,null,null,null,"Refer to Part ''4. Painting Specifications''"]
[]
[null,"NOTE",null,"If other choices are requested, an option will be offer and price adjusted."]
[]
[null,"3.4.",null,"RUBBER BELT"]
[]
[]
[]
[]
[]
[]
[]
[]
[]
[]
[]
[]
[]
[]
[]
[]
[null,null,null,"On its upper surface, the belt presents transversal grooves which allow the liquid to flow towards oblong holes drilled in their axis (one oblong hole per groove)."]
[]
[]
[null,null,"-","Number of belt per filter:",null,null,null,null,null,null,null,null,null,null,null,null,null,1]
[null,null,"-","Material:",null,null,null,null,null,null,null,null,null,null,null,null,null,{"$f":"Calculations!$E$23","v":"SBR"}]
[null,null,"-","Width (Useful):",null,null,null,null,null,null,null,null,null,null,null,null,null,{"$f":"Calculations!$E$9&\" mm\"","v":"3000 mm"}]
[null,null,"-","Top cover thickness: ",null,null,null,null,null,null,null,null,null,null,null,null,null,{"$f":"Calculations!$R$60&\" mm\"","v":"18 mm"}]
[null,null,"-","Bottom cover thickness:",null,null,null,null,null,null,null,null,null,null,null,null,null,{"$f":"Calculations!$R$61&\" mm\"","v":"7 mm"}]
[null,null,"-","Overall thickness:",null,null,null,null,null,null,null,null,null,null,null,null,null,{"$f":"Calculations!$E$24&\" mm\"","v":"31 mm"}]
[null,null,"-","Material of the carcass:",null,null,null,null,null,null,null,null,null,null,null,null,null,"Polyester"]
[null,null,"-","Drilling zone: ",null,null,null,null,null,null,null,null,null,null,null,null,null,"without carcass"]
[null,null,"-","Number of plies:",null,null,null,null,null,null,null,null,null,null,null,null,null,4]
[null,null,"-","Weight of the rubber belt: ",null,null,null,null,null,null,null,null,null,null,null,null,null,{"$f":"Calculations!$R$63&\" kg\"","v":"6826 kg"}]
[]
[null,null,null,"Special features"]
[]
[null,null,"-","The belt is delivered endless; it is fully machined in HASLER Group factory, controlled and ready to run."]
[]
[null,null,null,null,"•","The belt is installed on our dedicated machine and run to remove mechanical stress."]
[null,null,null,null,"•","Carcass is located via our dedicated machine, so that holes are drilled in the centre of the belt, not overlapping with the carcass. Holes are perfectly aligned."]
[]
[null,null,"-","Drilling and grooving are made according to customer’s process requirements."]
[null,null,null,null,"•","Width and depth of slopes as well as step of grooves and belt thickness are optimized according to customer’s requirements. Dimensions of holes also follow that rule."]
[]
[null,null,null,null,"•","Oblong holes are preferred to round holes in order to avoid fragility in the centre of the belt."]
[]
[]
[]
[]
[]
[null,"3.4.1.",null,"Grooving"]
[]
[null,null,null,"Manufactured in our plants with a slope towards the oblong holes."]
[]
[null,null,"-","Pitch:",null,null,null,null,null,null,null,null,null,null,null,null,null,{"$f":"Calculations!$R$64&\" mm\"","v":"22 mm"}]
[null,null,"-","Width:",null,null,null,null,null,null,null,null,null,null,null,null,null,{"$f":"Calculations!$R$65&\" mm\"","v":"11 mm"}]
[null,null,"-","Depth:",null,null,null,null,null,null,null,null,null,null,null,null,null,{"$f":"Calculations!$R$66&\" mm\"","v":"5 - 14 mm"}]
[null,null,"-","Drilling oblong holes:",null,null,null,null,null,null,null,null,null,null,null,null,null,{"$f":"Calculations!$R$67&\" mm\"","v":"10 x 30 mm"}]
[]
[null,"3.4.2.",null,"Belt curbs"]
[]
[null,null,"-","The curbs are made of Natural Rubber and cold bonded on the belt sides to form a containing wall."]
[]
[null,null,"-","Type: Undulating section with and high flexibility obtained from casting. The design was patented by HASLER Group/Filtres Philippe. It’s “accordion” shape provides a good support of the filter cloth, a good thightness at the bottom as well as high flexibility when passing over the pulleys."]
[]
[]
[]
[null,null,"-","Height of rubber curb bonded to the belt:",null,null,null,null,null,null,null,null,null,null,null,null,null,{"$f":"Calculations!A9&\" mm\"","v":"120 mm"}]
[]
[null,"3.4.3.",null,"Belt support on upper side (active part)"]
[]
[null,null,null,"The rubber belt support device ensures any contact between the rubber belt and the frame support and protects the rubber belt against wear. The support table is constituted by set of steel sections. The top of these steel sections is covered by HMWPE sliding strips and a set of endless wear belts driven by the rubber belt, slide on. An automatic take-up device allows to compensate the stretch and maintain each belt under tension."]
[]
[]
[]
[]
[null,null,"-","Steel frame sections: ",null,null,null,null,null,null,null,null,null,null,null,null,null,{"$f":"IF(Calculations!$E$22=\"E24\",\"304L\",Calculations!$E$22)","v":"316L"}]
[null,null,"-","Sliding strips: ",null,null,null,null,null,null,null,null,null,null,null,null,null,"HMWPE"]
[null,null,"-","Endless wear belts:  ",null,null,null,null,null,null,null,null,null,null,null,null,null,"Polyester reinforced rubber with PE\nsliding side"]
[]
[null,null,"-","Dimensions of belts (W x T):  ",null,null,null,null,null,null,null,null,null,null,null,null,null,{"$f":"Calculations!$R$77","v":"50 mm x 5,8 mm"}]
[null,null,"-","Support distribution : ",null,null,null,null,null,null,null,null,null,null,null,null,null,{"$f":"Calculations!$R$68&\" sections (on each side of the vacuum box)\n\"","v":"2 x 5 sections (on each side of the vacuum box)\n"}]
[]
[]
[null,null,null,"Special features"]
[]
[null,null,"-","Belt supporting system provides optimum flatness, hence maximizing cake washing efficiency and recovery of filtrates."]
[]
[null,null,"-","Best solution to reduce belt wear and low cost of spare parts (wear belts and sliding rules)."]
[null,null,"-","Doesn’t require blowers and air boxes (air support table) nor important amount of water (water support table)."]
[]
[]
[]
[null,"3.4.4.",null,"Belt support on return side"]
[]
[null,null,null,"By rollers supported by water-tight ball bearing blocks."]
[]
[null,null,"-","Material of roller: ",null,null,null,null,null,null,null,null,null,null,null,null,null,{"$f":"IF(Calculations!$E$19=\"CAOUT\",\"Carbon steel rubber lined\",Calculations!$E$19)","v":"316L"}]
[null,null,"-","Diameter of roller:",null,null,null,null,null,null,null,null,null,null,null,null,null,{"$f":"Calculations!$T$69&\" mm\"","v":"355 mm"}]
[]
[null,"3.4.5.",null,"Belt tracking"]
[]
[null,null,"-","Roller made of HMWPE fitted on shaft."]
[null,null,"-","Diameter of roller:  ",null,null,null,null,null,null,null,null,null,null,null,null,null,{"$f":"Calculations!$R$78&\" mm\"","v":"100 mm"}]
[null,null,"-","Shaft: ",null,null,null,null,null,null,null,null,null,null,null,null,null,"316L"]
[]
[null,"3.4.6.",null,"Rubber belt washing"]
[]
[null,null,"-","2 wash headers fitted with spray nozzles"]
[null,null,"-","Construction:"]
[null,null,null,null,"•","Wash pipes: ",null,null,null,null,null,null,null,null,null,null,null,{"$f":"Calculations!$E$18","v":"316L"}]
[null,null,null,null,"•","Spray nozzles: ",null,null,null,null,null,null,null,null,null,null,null,"PVDF"]
[null,null,"-","Wash collection trough"]
[null,null,null,null,"•","Material: ",null,null,null,null,null,null,null,null,null,null,null,{"$f":"Calculations!$E$16","v":"316L"}]
[null,null,null,null,"•","Outlet pipe connection:",null,null,null,null,null,null,null,null,null,null,null,"DN50, flexible hose to cloth trough"]
[]
[]
[null,"3.5.",null,"VACUUM BOX"]
[]
[]
[]
[]
[]
[]
[]
[]
[]
[null,null,"-","Number:",null,null,null,null,null,null,null,null,null,null,null,null,null,1]
[]
[null,null,"-","Type: Omega section with special articulated support mechanism"]
[null,null,"-","Body is constituted of several pieces, flange-jointed. "]
[]
[null,null,"-","Construction:"]
[null,null,null,null,"•","Body of the box: ",null,null,null,null,null,null,null,null,null,null,null,{"$f":"IF(Calculations!$E$11=\"SVR\",\"FRP\",Calculations!$E$11)","v":"U45N"}]
[null,null,null,null,"•","Supporting parts:  ",null,null,null,null,null,null,null,null,null,null,null,{"$f":"IF(Calculations!$E$21=\"SVR\",\"FRP\",Calculations!$E$21)","v":"316L"}]
[null,null,null,null,"•","Sliding strips, made of UHMWPE, and supporting :"]
[null,null,"-","Endless wear belts, made of rubber, with polyester down sliding side"]
[null,null,null,null,"•","Number:",null,null,null,null,null,null,null,null,null,null,null,2]
[null,null,null,null,"•","Wear belts supporting rollers: ",null,null,null,null,null,null,null,null,null,null,null,"UHMWPE"]
[]
[]
[]
[null,null,"-","Size of wear belts"]
[null,null,null,null,"•","Width:",null,null,null,null,null,null,null,null,null,null,null,{"$f":"Calculations!$R$76&\" mm\"","v":"38 mm"}]
[null,null,null,null,"•","Thickness:",null,null,null,null,null,null,null,null,null,null,null,"10 mm"]
[]
[null,null,"-","Filtrate / gas nozzles "]
[null,null,null,null,"•","Number:",null,null,null,null,null,null,null,null,null,null,null,{"$f":"Calculations!$R$36","v":28}]
[null,null,null,null,"•","Connection: ",null,null,null,null,null,null,null,null,null,null,null,{"$f":"Calculations!$F$29","v":"DN150"}]
[]
[null,null,"-","Connection from vacuum box nozzles  to the external frame side made by means of : "]
[null,null,null,null,"•","Elbows to allow the rotating during vacuum box tilting operation."]
[null,null,null,null,"•","Material  of pipe connection:  ",null,null,null,null,null,null,null,null,null,null,null,{"$f":"IF(Calculations!$E$30=\"SVR\",\"FRP\",Calculations!$E$30)","v":"FRP"}]
[null,null,null,null,"•","Connection with the others: ",null,null,null,null,null,null,null,null,null,null,null,"EPDM sleeve"]
[]
[null,null,"-","Maintenance:"]
[null,null,null,"The tilting system for the vacuum box allows the access for inspection, cleaning and parts replacement. Powered raising and lowering mechanism consist of an articulated frame pneumatically driven. It is operated by a pneumatic bellow after unclamping. "]
[]
[]
[null,null,null,"During operation the vacuum box is clamped in the normal working position."]
[]
[null,null,"-","If required by process, vacuum box is equipped with movable internal baffles for separating the filtrate ports. The number of baffles is equal to the number of sections minus one."]
[]
[]
[null,"3.6.",null,"FILTER CLOTH"]
[]
[null,null,"-","Type:",null,null,null,null,null,null,null,null,null,null,null,null,null,"Monofilament or/and multifilament"]
[]
[null,null,"-","Material: ",null,null,null,null,null,null,null,null,null,null,null,null,null,"Polyester or polypropylene"]
[null,null,null,"Endless joining of the cloth is made by means of ultrasonic welding process. The welded cloth is installed with the help of a fitting up constituted by a winding with a tension-ratchet, fitted on of the filter feed end frame."]
[]
[]
[]
[null,"3.6.1.",null,"Cloth rollers, supported by water-tight ball bearing blocks, consisting of:"]
[]
[null,null,null,"One cloth positioning roller with caps at the ends to bend the cloth on each side."]
[null,null,"-","Diameter of roller: ",null,null,null,null,null,null,null,null,null,null,null,null,null,{"$f":"Calculations!$R$71&\" mm\"","v":"168,3 mm"}]
[null,null,"-","Material of roller : ",null,null,null,null,null,null,null,null,null,null,null,null,null,{"$f":"IF(Calculations!$E$12=\"CAOUT\",\"Carbon steel rubber lined\",Calculations!$E$12)","v":"U45N"}]
[]
[null,null,null,"One set of exit rollers."]
[null,null,"-","Diameter of roller: ",null,null,null,null,null,null,null,null,null,null,null,null,null,{"$f":"Calculations!R70&\" mm\"","v":"168,3 mm"}]
[null,null,"-","Material of roller : ",null,null,null,null,null,null,null,null,null,null,null,null,null,{"$f":"IF(Calculations!$E$15=\"CAOUT\",\"Carbon steel rubber lined\",Calculations!$E$15)","v":"316L"}]
[]
[null,null,null,"One set of cloth rollers on return circuit."]
[null,null,"-","Diameter of roller: ",null,null,null,null,null,null,null,null,null,null,null,null,null,{"$f":"Calculations!R71&\" mm\"","v":"168,3 mm"}]
[null,null,"-","Material of roller : ",null,null,null,null,null,null,null,null,null,null,null,null,null,{"$f":"IF(Calculations!$E$20=\"CAOUT\",\"Carbon steel rubber lined\",Calculations!$E$20)","v":"316L"}]
[]
[]
[]
[]
[null,"3.6.2.",null,"Cloth tensioning"]
[]
[]
[]
[]
[]
[]
[]
[]
[]
[]
[]
[]
[null,null,null,"Obtained by a framework supporting a cloth roller pneumatically driven."]
[null,null,null,"Regulation and operating of this system by means of adjustment of the air pressure in the pneumatic bellow. "]
[]
[]
[null,null,"-","Number:",null,null,null,null,null,null,null,null,null,null,null,null,null,1]
[null,null,"-","Framework:",null,null,null,null,null,null,null,null,null,null,null,null,null,{"$f":"IF(Calculations!$E$22=\"E24\",\"Carbon steel epoxy painted\",Calculations!$E$22)","v":"316L"}]
[]
[null,null,null,"Special features"]
[]
[null,null,"-","Fully automatized system, high accuracy and reliable adjustment."]
[null,null,"-","No counterweights required."]
[]
[null,"3.6.3.",null,"Take-up device"]
[]
[null,null,null,"Obtained by means of a roller fitted on set of rails at the feed end of the filter and moving vertically. Take up length is approximately 800 mm."]
[]
[]
[null,"3.6.4.",null,"Cloth tracking",null,null,null,null,null,null,null,null,null,null,null,null,null,null,null,null,null,null,null,null,null,null,null,"Rule : for small width filter (B10) use the picture & description"]
[]
[]
[]
[]
[]
[]
[]
[]
[]
[]
[null,null,null,"Roller with angular displacement. The system is driven by a pneumatic bellow.",null,null,null,null,null,null,null,null,null,null,null,null,null,null,null,null,null,null,null,null,null,null,null,null,"The system is made of 2 main pinches which put a pressure or not on the cloth"]
[null,null,null,null,null,null,null,null,null,null,null,null,null,null,null,null,null,null,null,null,null,null,null,null,null,null,null,null,"and control its tracking."]
[null,null,"-","Number:",null,null,null,null,null,null,null,null,null,null,null,null,null,1,null,null,null,null,null,null,null,null,null,null,"The control of the pressure is made thanks to 2 sensors on both sides of the cloth."]
[null,null,"-","Diameter of roller: ",null,null,null,null,null,null,null,null,null,null,null,null,null,{"$f":"Calculations!$R$71&\" mm\"","v":"168,3 mm"}]
[null,null,"-","Material of roller : ",null,null,null,null,null,null,null,null,null,null,null,null,null,"Carbon steel rubber lined, shell rubber lined",null,null,null,null,null,null,null,null,null,"-","Number of pinches:",null,null,null,null,null,null,null,null,null,null,null,2]
[null,null,null,null,null,null,null,null,null,null,null,null,null,null,null,null,null,null,null,null,null,null,null,null,null,null,null,"-","Type of pinche:",null,null,null,null,null,null,null,null,null,null,null,"Made by 2 rollers (1 static and 1 movable)"]
[null,null,null,null,null,null,null,null,null,null,null,null,null,null,null,null,null,null,null,null,null,null,null,null,null,null,null,"-","Material of rollers: ",null,null,null,null,null,null,null,null,null,null,null,"1 x Stainless steel and 1 x Polyurethane"]
[]
[null,null,null,"Special features"]
[]
[null,null,"-","Long operational life, no bearing wear as bearing blocks are not used as pivot."]
[null,null,"-","Pneumatically driven, very soft action on the cloth."]
[]
[null,"3.6.5.",null,"Filter cloth washing "]
[]
[null,null,"-","3 wash headers fitted with spray nozzles"]
[]
[null,null,"-","Construction:"]
[null,null,null,null,"•","Wash pipes:",null,null,null,null,null,null,null,null,null,null,null,{"$f":"Calculations!$E$18","v":"316L"}]
[null,null,null,null,"•","Spray nozzles:",null,null,null,null,null,null,null,null,null,null,null,"PVDF"]
[null,null,"-","Wash collection trough"]
[null,null,null,null,"•","Material: ",null,null,null,null,null,null,null,null,null,null,null,{"$f":"Calculations!$E$16","v":"316L"}]
[null,null,null,null,"•","Outlet pipe connection:",null,null,null,null,null,null,null,null,null,null,null,{"$f":"\"Flat welding flange, norm according to \"&Calculations!C2&\"’s requirement.\"","v":"Flat welding flange, norm according to PKT’s requirement."}]
[]
[]
[]
[null,{"$f":"IF(Calculations!$U$12=\"Oui\",\"3.6.6.\",\"\")","v":""},null,{"$f":"IF(Calculations!$U$12=\"Oui\",\"Cloth dewrinkling roller\",\"\")","v":""}]
[]
[null,null,{"$f":"IF(Calculations!$U$12=\"Oui\",\"-\",\"\")","v":""},{"$f":"IF(Calculations!$U$12=\"Oui\",\"Number:\",\"\")","v":""},null,null,null,null,null,null,null,null,null,null,null,null,null,{"$f":"IF(Calculations!$U$12=\"Oui\",\"Curved spread roller\",\"\")","v":""}]
[null,null,{"$f":"IF(Calculations!$U$12=\"Oui\",\"-\",\"\")","v":""},{"$f":"IF(Calculations!$U$12=\"Oui\",\"Type:\",\"\")","v":""},null,null,null,null,null,null,null,null,null,null,null,null,null,{"$f":"IF(Calculations!$U$12=\"Oui\",\"1\",\"\")","v":""}]
[null,null,{"$f":"IF(Calculations!$U$12=\"Oui\",\"-\",\"\")","v":""},{"$f":"IF(Calculations!$U$12=\"Oui\",\"Curved roller covered with rubber sleeves\",\"\")","v":""}]
[]
[null,"3.7.",null,"CAKE DISCHARGE"]
[]
[null,null,"-",{"$f":"IF(Calculations!$U$12=\"Oui\",\"Type:\",\"\")","v":""},null,null,null,null,null,null,null,null,null,null,null,null,null,"Discharge roller"]
[null,null,"-","Diameter of roller: ",null,null,null,null,null,null,null,null,null,null,null,null,null,"168,3 mm"]
[null,null,"-","Construction:"]
[null,null,null,null,"•","Cake discharge hopper",null,null,null,null,null,null,null,null,null,null,null,{"$f":"Calculations!$E$16","v":"316L"}]
[null,null,null,null,"•","Scrapper",null,null,null,null,null,null,null,null,null,null,null,"Polyurethane"]
[]
[null,"3.8.",null,"FLUIDS DISTRIBUTION"]
[]
[null,"3.8.1.",null,"Compressed air circuit"]
[]
[null,null,null,"1 cabinet for control of the cloth tracking, cloth tensioning and vacuum box tilting. "]
[]
[null,null,"-",{"$f":"IF(Calculations!$U$12=\"Oui\",\"Type:\",\"\")","v":""},null,null,null,null,null,null,null,null,null,null,null,null,null,"Marina IP 55 "]
[null,null,null,null,"•","Compressed air connection on cabinet:",null,null,null,null,null,null,null,null,null,null,null,"1/4 \" threaded hole or 1/2 “ NPT"]
[]
[null,null,null,null,"•","Air pressure regulator:",null,null,null,null,null,null,null,null,null,null,null,"Brand NORGREN"]
[null,null,null,null,"•","Valves:",null,null,null,null,null,null,null,null,null,null,null,"Polypropylene"]
[null,null,"-","Distribution pipes inside the filter"]
[null,null,null,null,"•","Material of pipes:",null,null,null,null,null,null,null,null,null,null,null,"Polyethylene"]
[null,null,null,null,"•","Material of fittings:",null,null,null,null,null,null,null,null,null,null,null,"Polypropylene"]
[]
[]
[]
[null,"3.8.2.",null,"Belt and cloth washing"]
[]
[null,null,"-","A manifold piping with outlets and valves"]
[null,null,null,null,"•","Manifold connection:",null,null,null,null,null,null,null,null,null,null,null,"Flat welding flange, norm according to customer requirement."]
[]
[]
[null,null,null,null,"•","Manifold:",null,null,null,null,null,null,null,null,null,null,null,{"$f":"Calculations!$E$18","v":"316L"}]
[null,null,null,null,"•","Valves:",null,null,null,null,null,null,null,null,null,null,null,"Membrane type, body made of cast iron, EPDM membrane."]
[]
[null,null,null,null,"•","Hoses:",null,null,null,null,null,null,null,null,null,null,null,"High quality rubber hoses"]
[]
[null,null,"-","Outlets distribution:"]
[null,null,null,null,"•","Cloth and belt washing: ",null,null,null,null,null,null,null,null,null,null,null,5]
[null,null,null,null,"•","Wear belts lubrication: ",null,null,null,null,null,null,null,null,null,null,null,2]
[]
[null,"3.8.3.",null,"Vacuum piping"]
[]
[null,"3.8.3.1.",null,"Filtrate internal pipes for connection from vacuum box to the filter side"]
[]
[null,null,"-","Diameter:",null,null,null,null,null,null,null,null,null,null,null,null,null,{"$f":"Calculations!$F$29","v":"DN150"}]
[null,null,"-","Quantity:",null,null,null,null,null,null,null,null,null,null,null,null,null,{"$f":"Calculations!$R$36","v":28}]
[null,null,"-","Material:",null,null,null,null,null,null,null,null,null,null,null,null,null,{"$f":"IF(Calculations!$E$30=\"SVR\",\"FRP\",Calculations!$E$30)","v":"FRP"}]
[null,null,"-","Connection:",null,null,null,null,null,null,null,null,null,null,null,null,null,"Pipes with EPDM sleeve, smooth pipe"]
[]
[]
[null,"3.8.3.2.",null,"Vacuum manifold between above pipes and filtrate receivers"]
[]
[null,null,null,{"$f":"IF(Calculations!$U$31=1,\"\",\"It is divided in \"&Calculations!$U$31&\" tight zones by an obturator between two flanges.\")","v":"It is divided in  tight zones by an obturator between two flanges."}]
[]
[null,null,"-","Number of section:",null,null,null,null,null,null,null,null,null,null,null,null,null,{"$f":"Calculations!$S$31","v":3}]
[null,null,"-","Diameter:",null,null,null,null,null,null,null,null,null,null,null,null,null,{"$f":"\"DN\"&Calculations!E32","v":"DN700"}]
[null,null,"-","Inlet connection:",null,null,null,null,null,null,null,null,null,null,null,null,null,{"$f":"Calculations!$R$36&\" x \"&Calculations!$F$29","v":"28 x DN150"}]
[null,null,"-","Outlet connection:",null,null,null,null,null,null,null,null,null,null,null,null,null,{"$f":"Calculations!$S$31&\" x DN\"&Calculations!$N$32","v":"3 x DN800"}]
[null,null,"-","Material:",null,null,null,null,null,null,null,null,null,null,null,null,null,{"$f":"Calculations!$E$30","v":"SVR"}]
[]
[null,null,null,"Pipes with EPDM sleeve for connection."]
[]
[]
[]
[null,"3.9.",null,"PROCESS EQUIPMENT"]
[]
[null,"3.9.1.",null,"Slurry entrance dam and apron"]
[]
[null,null,"-","Apron:",null,null,null,null,null,null,null,null,null,null,null,null,null,"Rubber"]
[null,null,"-","Support:",null,null,null,null,null,null,null,null,null,null,null,null,null,{"$f":"Calculations!$E$13","v":"U45N"}]
[null,null,"-","Number:",null,null,null,null,null,null,null,null,null,null,null,null,null,1]
[]
[]
[]
[null,"3.9.2.",null,"Slurry distributor",null,null,null,null,null,null,null,null,null,null,null,null,null,null,null,null,null,null,null,null,null,null,null,null,"Rule 1 : Selecting the good slurry distributor according the application"]
[null,null,null,null,null,null,null,null,null,null,null,null,null,null,null,null,null,null,null,null,null,null,null,null,null,null,null,null,"Rule 2 : if small width filter (<B15) : use this picture for the fish tail"]
[]
[]
[]
[]
[]
[]
[]
[]
[null,null,null,{"$f":"IF(Calculations!$Q$12=\"QDC\",\"Fish tail feeder\",\"High flow slurry box feeder with internal baffles\")&\" especially designed to spread \"&Calculations!$K$3&\" slurry product on the filter width.\"","v":"High flow slurry box feeder with internal baffles especially designed to spread Soda ash slurry product on the filter width."}]
[]
[]
[null,null,"-","Material:",null,null,null,null,null,null,null,null,null,null,null,null,null,{"$f":"Calculations!$E$13","v":"U45N"}]
[null,null,"-","Number/Connection:",null,null,null,null,null,null,null,null,null,null,null,null,null,{"$f":"Calculations!$I$27&\" x \"&Calculations!$S$27&\" mm\"","v":"2 x 250 mm"}]
[null,null,"-","Lateral protections of the feeding area by rubber aprons."]
[]
[null,"3.9.3.",null,"Cake wash distributor",null,null,null,null,null,null,null,null,null,null,null,null,null,null,null,null,null,null,null,null,null,null,null,"Rule : if small width filter (<B15) : use this picture and description for the wash distributor"]
[]
[]
[]
[]
[]
[]
[]
[]
[]
[]
[]
[null,null,null,"Through with overflow feeding on synthetic cloth apron to spread the flow on the filter width. The distributor is adjustable and supported by trolley, with polyethylene rollers and a wheel to move it. It is locked in position on the frame by clamps.",null,null,null,null,null,null,null,null,null,null,null,null,null,null,null,null,null,null,null,null,null,null,null,"The distributor is adjustable and locked in position on the frame by brackets. It can be moved on the frame when unscrewing the locking system."]
[]
[]
[]
[null,null,"-","Material:",null,null,null,null,null,null,null,null,null,null,null,null,null,{"$f":"Calculations!$E$14","v":"U45N"},null,null,null,null,null,null,null,null,null,null,null,null,null,null,null,null,null,null,null,null,null,null,"  "]
[null,null,"-","Connection:",null,null,null,null,null,null,null,null,null,null,null,null,null,{"$f":"Calculations!$R$11&\" x \"&Calculations!$S$28&\" mm\"","v":"4 x 100 mm"}]
[null,null,"-","Number:",null,null,null,null,null,null,null,null,null,null,null,null,null,{"$f":"Calculations!$R$11","v":4}]
[]
[null,"3.9.4.",null,"Pendular dam (separation dam)"]
[]
[null,null,"-","Type:",null,null,null,null,null,null,null,null,null,null,null,null,null,"Pendular"]
[null,null,"-","Apron:",null,null,null,null,null,null,null,null,null,null,null,null,null,"Rubber"]
[null,null,"-","Support:",null,null,null,null,null,null,null,null,null,null,null,null,null,{"$f":"Calculations!$E$14","v":"U45N"}]
[null,null,"-","Number:",null,null,null,null,null,null,null,null,null,null,null,null,null,{"$f":"Calculations!$R$11+1","v":5}]
[]
[]
[]
[]
[]
[null,"3.10.",null,"STANDARDS FOR CONNECTION"]
[]
[null,null,"-",{"$f":"\"With \"&Calculations!$C$2&\":\"","v":"With PKT:"},null,null,null,null,null,null,null,null,null,null,null,null,null,{"$f":"\"According to \"&Calculations!C2&\"’s requirement.\"","v":"According to PKT’s requirement."}]
[]
[null,null,"-","Internal:",null,null,null,null,null,null,null,null,null,null,null,null,null,"EPDM sleeve on smooth "]
[]
[null,"3.11.",null,"SITE CONDITIONS"]
[]
[null,null,null,"As per request or to be defined later."]
[null,null,"-","Geographic zone:"]
[null,null,"-","Altitude:"]
[null,null,"-","Temperature:",null,null,null,null,null,null,null,null,null,null,null,null,null,"+5 to +40°C "]
[null,null,"-","Humidity:",null,null,null,null,null,null,null,null,null,null,null,null,null,"up  to 95%"]
[]
[null,"NOTE: ",null,"The complete filtration unit (filter with associated equipment) has to be installed in a non - freezing zone with a minimum ambient temperature of 5°C (41°F)."]
[]
[]
[]
[]
[]
[]
[]
[]
[]
[]
[]
[]
[]
[]
[]
[]
[]
[]
[]
[]
[]
[]
[]
[]
[]
[]
[]
[]
[]
[]
[]
[]
[]
[]
[null,"3.12.",null,"ELECTRICAL CONTROLS AND SECURITIES"]
[]
[null,"3.12.1.",null,"List of sensors included into the filter"]
[]
[null,null,"-","Emergency stop rope (left/right) ",null,null,null,null,null,null,null,null,null,null,"NB : 2 – HS01/HS02 ",null,null,null,null,null,null,"Code 1-5"]
[null,null,"-","Cloth misalignement (left/right) ",null,null,null,null,null,null,null,null,null,null,"NB : 2 – ZS03/ZS04 ",null,null,null,null,null,null,"Code 1"]
[null,null,"-","Cloth tension (min./max.)",null,null,null,null,null,null,null,null,null,null,"NB : 2 – ZSL01/ZSH02",null,null,null,null,null,null,"Code 2"]
[null,null,"-","Belt drive unit overtorque ",null,null,null,null,null,null,null,null,null,null,"NB : 1 – WSH01 ",null,null,null,null,null,null,"Code 1"]
[null,null,"-","Belt misalignement (left/right)",null,null,null,null,null,null,null,null,null,null,"NB : 2 – ZS05/ZS06 ",null,null,null,null,null,null,"Code 1"]
[null,null,"-","Ultrasonic cake measure thickness",null,null,null,null,null,null,null,null,null,null,"NB : 2 – LT01/02 ",null,null,null,null,null,null,"Code 7"]
[null,null,"-","Slurry level control ",null,null,null,null,null,null,null,null,null,null,"NB : 1 – LSH01",null,null,null,null,null,null,"Code 7"]
[null,null,"-","Cloth run-off",null,null,null,null,null,null,null,null,null,null,"NB : 1 – SSL01  ",null,null,null,null,null,null,"Code 2"]
[null,null,"-","Vacuum box wear belt breaking",null,null,null,null,null,null,null,null,null,null,"NB : 2 – ZS07/ZS08 ",null,null,null,null,null,null,"Code 6"]
[null,null,"-","Pressure gauge"]
[null,null,null,null,"•","Compressed air circuit ",null,null,null,null,null,null,null,null,"NB : 1 – PSL02",null,null,null,null,null,null,"Code 3"]
[null,null,null,null,"•","Water circuit",null,null,null,null,null,null,null,null,"NB : 1 – PSL01",null,null,null,null,null,null,"Code 3"]
[null,null,"-","Flow indicator"]
[null,null,null,null,"•","Vacuum box and table wear belts lubrication ",null,null,null,null,null,null,null,null,"NB : 4 – FISL01/02/03/04 ",null,null,null,null,null,null,"Code 4"]
[]
[null,null,null,null,"•","Type:",null,null,null,null,null,null,null,null,"Gyrometer with floater"]
[]
[null,null,null,"Signal codification"]
[]
[null,null,null,"Code 1 – 1 SPST (NC if not acted)"]
[null,null,null,"Code 2 – inductive sensor 2 wires (NC if not acted)"]
[null,null,null,"Code 3 – 1 SPST (NO if pressure < set point)"]
[null,null,null,"Code 4 – reed switch (NO if flow < set point)"]
[null,null,null,"Code 5 – include one second SPST to be separately and directly wired in the belt drive motor main contactor coil control circuit."]
[]
[null,null,null,"Code 6 – capacitive sensor 2 wire (NO if not acted)"]
[null,null,null,"Code 7 – 4/20 mA dc"]
[]
[null,null,null,"The here above controls will be wired on one junction box fitted on the belt filter frame. This box will include one terminal block, one grounding copper bar and cable gland fittings."]
[]
[null,null,null,"Cables and terminals labelling will be in accordance with the electrical scheme identifications numbers."]
[]
[]
[null,null,null,"LIMIT OF SUPPLY"]
[]
[null,null,null,"Security and functioning of the equipment controlled by the customer's PLC/DCS according to the logic diagrams supplied by HASLER Group. Software programming works by the customer."]
[]
[]
[null,null,null,"All the control and instrumentation cables, conduits and gland fittings not installed in the HASLER Group's workshop will be supplied and installed on site by the customer."]
[]
[]
[]
[]
[null,"3.12.2.",null,"Standard list of suppliers"]
[]
[null,"MATERIAL",null,null,null,null,"TYPE",null,null,null,null,null,"BRAND",null,null,null,null,"REMARKS"]
[null,"Emergency stop trip wire switch",null,null,null,null,"XY2-CE1A270TK\nXY2-CE2A270TK",null,null,null,null,null,"Schneider Electric\nTélémécanique"]
[]
[null,"Electromechanical limit switch",null,null,null,null,"ZCK-J1TK \nZCK-E61TK",null,null,null,null,null,"Schneider Electric\nTélémécanique"]
[]
[null,"Inductive sensor",null,null,null,null,"IB0016",null,null,null,null,null,"IFM Electronic",null,null,null,null,"20 ... 250 Vca/cc"]
[null,"Pressure switch",null,null,null,null,"B4",null,null,null,null,null,"Ashcroft \nDresser",null,null,null,null,"Wetted parts st. steel 316"]
[]
[null,"Variable area flowmeter",null,null,null,null,865,null,null,null,null,null,"Gemü",null,null,null,null,"With reed switch sensor \nType 1251/1256"]
[]
[null,"Junction box enclosure (JB)",null,null,null,null,"Série KS",null,null,null,null,null,"Rittal",null,null,null,null,"GRP IP66 (IEC 529) \nNema 4x"]
[]
[null,"Terminal blocks (JB)",null,null,null,null,null,null,null,null,null,null,"ENTRELEC or  \nWEIDMÜLLER"]
[]
[null,"Cable gland fittings",null,null,null,null,"Polyamide",null,null,null,null,null,"Capri or \nLutze",null,null,null,null,"JB and sensors"]
[]
[null,"Control and instrumentation cables",null,null,null,null,"1,5 mm2  (AWG16)",null,null,null,null,null,"HELUKABEL",null,null,null,null,"300/500V DIN/VDE - \nSEV 600V-90°  UL / CSA"]
[]
[]
[]
[]
[]
[]
[]
[]
[]
[]
[]
[]
[]
[]
[]
[]
[]
[]
[]
[]
[]
[]
[]
[]
[]
[]
[]
[]
[null,"4.",null,"PAINTING SPECIFICATIONS"]
[]
[null,"According to TCC painting specification except for elements listed in deviation list send with this offer."]
[]
[]
[null,"NOTE: ",null,"In case of modification of the process or the colour, HASLER Group will have to be notified no later than I month after the order (can be subject for extra prices)."]
[]
[]
[]
[null,"5.",null,"BATTERY LIMITS AND EXCLUSION"]
[]
[null,"5.1.",null,"BATTERY LIMITS"]
[]
[null,null,null,"The equipment includes everything necessary inside the battery limits for a normal operation of the filter. The battery limits shown on the general assembly drawing are:"]
[]
[null,null,"-","Flange of the slurry distributor"]
[null,null,"-","Flanges of the wash distributors"]
[null,null,"-","Rubber sleeves of the filtrate pipes"]
[null,null,"-","Flange of the cake discharge hopper"]
[null,null,"-","Flange of the filtrate manifold"]
[null,null,"-","Flange of the water manifold"]
[null,null,"-","Flange of the vacuum pump"]
[null,null,"-","Flange of the filtrate pumps"]
[null,null,"-","flange of the Filtrate receivers"]
[null,null,"-","flange of the tanks"]
[null,null,"-","Air inlet at the entrance of the pneumatic cabinet"]
[null,null,"-","Anchor bolts"]
[null,null,"-","Terminals of the accessories electrical box"]
[]
[null,"5.2.",null,"EXCLUSION"]
[]
[null,null,"-","Civil work"]
[null,null,"-","Support steelwork"]
[null,null,"-","Operating platform"]
[null,null,"-","Electrical, wiring and instruments"]
[null,null,"-","MCC or electrical cabinet"]
[null,null,"-","Inspection by independant authorities"]
[null,null,"-","Unload, warehousing and handling on site"]
[null,null,"-","Painting on site"]
[]
[null,"5.3.",null,"MODIFICATIONS"]
[]
[null,null,null,"The technical specifications described in this agreement cannot be modified without HASLER Group consent."]
[]
[]
[]
[null,"6.",null,"EC DECLARATION OF INTEGRATION & SAFETY PERSONNEL PROTECTION"]
[]
[null,null,null,"HASLER Group will deliver an EC declaration of integration and not a certificate."]
[null,null,null,"That means that the equipment described above is destinated to be integrated or assembled in a general arrangement or to be added to other equipment in integral running with each other."]
[]
[]
[null,null,null,"In consequence, the start-up of this equipment is forbbiden as long as the general arrangement in which, it will be integrated or all of integral equipment in which, it must be assembled, are not in compliance with the provisions of directive 98/37/CEE or in compliance with the National provisions for transposition of  this directive in the country of start-up."]
[]
[]
[]
[null,null,null,"According to EC standard, safety personnel protections have to be installed all around the filter. HASLER GROUP will provide safety guards all around the filter. "]
[]
[]
[null,"7.",null,"STANDARD LIST OF DOCUMENTATION"]
[]
[null,null,null,"The following list corresponds to the document send by HASLER to the customer during project execution.",null,null,null,null,null,null,null,null,null,null,null,null,null,null,null,null,null,null,null,null,null,null,null,"à modifier/supprimer si liasse documentaire plus importante"]
[null,null,"-","Supplier documentation (user, installation and maintenance manuals)"]
[null,null,"-","Functional analysis"]
[null,null,"-","General arrangement"]
[null,null,"-","PID (Process & Instrumentation Diagram)"]
[null,null,"-","Electrical diagrams"]
[null,null,"-","Declaration of incorporation"]
[null,null,"-","Declaration of conformity"]
[null,null,"-","Operation & maintenance manual"]
[null,null,"-","Packing list / Shipping details"]
[null,null,"-","ATEX certificate (if applicable)"]
[null,null,"Please refer to deviation list about the files you requested and what can be done (or not) by HASLER GROUP"]
[]
[]
["COMPLEMENTARY EQUIPMENTS & SERVICES\nFOR \"PHILIPPE\" VACUUM BELT FILTER\n"]
[]
[]
[]
[]
[null,null,null,null,null,null,null,"CLIENT",null,null,null,null,null,null,null,null,{"$f":"Calculations!$C$2","v":"PKT"}]
[null,null,null,null,null,null,null,"JOB REF",null,null,null,null,null,null,null,null,{"$f":"Calculations!$C$4","v":"Soda ash filter"}]
[null,null,null,null,null,null,null,"QUOTATION N°",null,null,null,null,null,null,null,null,{"$f":"Calculations!$C$3&\"_\"&Calculations!$K$10&\"-\"&Calculations!G1&Calculations!$H$3","v":"760895_90B30-01rev2"}]
[null,null,null,null,null,null,null,"PRODUCT",null,null,null,null,null,null,null,null,{"$f":"Calculations!$K$3","v":"Soda ash"}]
[null,null,null,null,null,null,null,"SELECTED FILTER",null,null,null,null,null,null,null,null,{"$f":"\"VACUUM BELT FILTER \"&Calculations!$C$9&\" m²\"","v":"VACUUM BELT FILTER 90 m²"}]
[null,null,null,null,null,null,null,"WIDTH",null,null,null,null,null,null,null,null,{"$f":"Calculations!$E$9&\" mm\"","v":"3000 mm"}]
[null,null,null,null,null,null,null,"TYPE",null,null,null,null,null,null,null,null,{"$f":"Calculations!$K$10&\" - \"&Calculations!$I$9","v":"90B30 - SERIE 4"}]
[null,null,null,null,null,null,null,"DATE",null,null,null,null,null,null,null,null,{"$f":"Calculations!$R$2","v":"2026-02-11"}]
[]
["TABLE OF CONTENT"]
[]
[null,null,null,null,null,"COMPLEMENTARY EQUIPMENTS AND SERVICES"]
[]
[null,null,null,null,null,{"$f":"F28","v":"Appendix \"Cloth Ultrasonic welding machine\""}]
[null,null,null,null,null,{"$f":"F29","v":"Appendix \"Fume Hood\""}]
[null,null,null,null,null,{"$f":"F30","v":"Appendix \"Filtrate receiver\""}]
[null,null,null,null,null,{"$f":"F31","v":"Appendix \"Cyclone\""}]
[null,null,null,null,null,"Appendix \"Scrubber\""]
[null,null,null,null,null,"Appendix \"Vacuum Pump\""]
[null,null,null,null,null,"Appendix \"Filtrate Pump 1\""]
[null,null,null,null,null,"Appendix \"Filtrate Pump 2&3\""]
[null,null,null,null,null,"Appendix \"High pressure washing ramp\""]
[null,null,null,null,null,"Appendix \"Cloth & Belt washing tank\""]
[null,null,null,null,null,"Appendix \"Cake washing pump\""]
[null,null,null,null,null,"Appendix \"Cake pressure roller\""]
[null,null,null,null,null,"Appendix \"Electrical parts\""]
[null,null,null,null,null,"Appendix \"Hydrocyclone\""]
[null,null,null,null,null,"Appendix \"Erection on site\""]
[null,null,null,null,null,"Appendix \"Commissioning on site\""]
[null,null,null,null,null,"Appendix ''Spare Parts - Maintenance Schedule''"]
[null,null,null,null,null,"Appendix ''Factory Acceptance Test (FAT)''"]
[null,null,null,null,null,"Appendix ''Water quality''"]
[null,null,null,null,null,"Appendix ''Process performance guarantee''"]

{"sheet":"ULTRASONIC MACHINE","index":62,"n_rows":23,"n_cols":4,"rows_kept":23,"cut":false,"hidden":false,"merged":[[234,3,235,24],[1,0,1,25],[7,3,12,24],[14,3,17,24],[45,0,47,25],[57,16,57,21],[59,0,59,25],[94,0,96,27],[168,17,169,24],[218,3,219,24],[225,5,227,24],[228,5,230,24],[19,3,19,24],[363,17,364,24],[236,3,236,24],[237,3,238,24],[290,17,291,24],[309,3,310,24],[318,3,319,24],[328,17,329,24],[335,17,336,24],[338,17,339,24],[342,17,344,24],[348,17,349,24],[361,17,362,24],[448,3,449,24],[365,17,366,24],[370,17,371,24],[375,3,377,24],[378,3,378,24],[382,17,383,24],[405,3,406,24],[421,3,422,24],[423,5,423,24],[424,5,425,24],[427,5,428,24],[429,5,430,24],[561,3,563,24],[450,3,453,24],[458,3,462,24],[465,17,466,24],[468,17,469,24],[473,3,474,24],[475,3,475,24],[476,3,477,24],[507,17,508,24],[548,3,550,24],[553,3,554,24],[558,17,559,24],[794,3,795,24],[598,3,599,24],[611,3,612,24],[629,17,630,24],[647,17,649,24],[672,17,673,24],[685,17,687,24],[689,17,690,24],[704,17,705,24],[741,3,742,24],[760,3,762,24],[782,17,783,24],[957,3,958,24],[846,5,847,11],[856,3,857,24],[861,3,862,24],[863,3,864,24],[868,3,869,24],[871,3,872,24],[929,17,930,24],[948,3,949,24],[950,3,951,24],[952,3,953,24],[954,3,955,24],[1037,16,1037,21],[1039,0,1039,25],[980,3,981,24],[1006,3,1007,24],[1013,3,1015,24],[1016,3,1019,24],[1020,3,1021,24],[1025,0,1027,25]]}
[]
["Appendix \"ULTRASONIC CLOTH WELDING MACHINE\" / OPTION"]
[]
[null,null,null,"SPECIAL TOOL"]
[]
[null,null,"-","ONE CLOTH ULTRASONIC WELDING MACHINE"]
[]
[null,null,null,"The generator converts the power of the 220V/50Hz or 60Hz network (system) into a 35000 Hz electrical energy. The piezoelectric converter produces mechanical oscillations of the same frequency. The welding gun together with the converter, directs its high frequency oscillations in the plastic material and produces at the requested place an overheating due to friction. The plastic material melts in fractions of a second and forms a lasting molecular assembling."]
[]
[]
[]
[]
[]
[]
[null,null,null,"The ultrasonic energy is started by the impeller incorporated in the hand apparatus. The  welding time is  controlled, either manually by maintaining the impeller in an unlocked position, or automatically by a timer incorporated in the apparatus. The choice is done by a switch on the frontal side of the generator."]
[]
[]
[]
[]
[null,null,"-","ONE U 200x50x5 - LENGTH 3550: support to proceed to ultrasonic cloth welding"]
[null,null,"-","ONE CUTTER IRON DUVAUCHEL: to cut the cloth"]
[null,null,"-","ONE WINCH ROLLER: to strength the cloth"]
[null,null,"-","Tools for erection to be provided by the customer."]

{"sheet":"FUME HOOD","index":63,"n_rows":41,"n_cols":28,"rows_kept":41,"cut":false,"hidden":false,"merged":[[237,3,238,24],[1,0,1,25],[7,3,8,24],[10,3,11,24],[48,0,50,25],[60,16,60,21],[62,0,62,25],[97,0,99,27],[171,17,172,24],[221,3,222,24],[228,5,230,24],[231,5,233,24],[366,17,367,24],[239,3,239,24],[240,3,241,24],[293,17,294,24],[312,3,313,24],[321,3,322,24],[331,17,332,24],[338,17,339,24],[341,17,342,24],[345,17,347,24],[351,17,352,24],[364,17,365,24],[451,3,452,24],[368,17,369,24],[373,17,374,24],[378,3,380,24],[381,3,381,24],[385,17,386,24],[408,3,409,24],[424,3,425,24],[426,5,426,24],[427,5,428,24],[430,5,431,24],[432,5,433,24],[564,3,566,24],[453,3,456,24],[461,3,465,24],[468,17,469,24],[471,17,472,24],[476,3,477,24],[478,3,478,24],[479,3,480,24],[510,17,511,24],[551,3,553,24],[556,3,557,24],[561,17,562,24],[797,3,798,24],[601,3,602,24],[614,3,615,24],[632,17,633,24],[650,17,652,24],[675,17,676,24],[688,17,690,24],[692,17,693,24],[707,17,708,24],[744,3,745,24],[763,3,765,24],[785,17,786,24],[960,3,961,24],[849,5,850,11],[859,3,860,24],[864,3,865,24],[866,3,867,24],[871,3,872,24],[874,3,875,24],[932,17,933,24],[951,3,952,24],[953,3,954,24],[955,3,956,24],[957,3,958,24],[1040,16,1040,21],[1042,0,1042,25],[983,3,984,24],[1009,3,1010,24],[1016,3,1018,24],[1019,3,1022,24],[1023,3,1024,24],[1028,0,1030,25]]}
[]
["Appendix \"FUME HOOD\""]
[]
[null,null,null,"VAPOUR HOOD"]
[]
[]
[]
[null,null,null,"It covers the whole or part of the filter active area. The housing structure is made of steel section number and supported by the filter frame. The top is made of polypropylene plate."]
[]
[]
[null,null,null,"On each side, there is a full openings for easy access to wash through and dams. This openings are blinded by translucid PVC sheets. "]
[]
[]
[]
[null,null,"-","Frame material:",null,null,null,null,null,null,null,null,null,null,null,null,null,"316L",null,null,null,null,null,null,null,null,null,"Warning : Choosing the right material"]
[null,null,"-","Total length:",null,null,null,null,null,null,null,null,null,null,null,null,null,{"$f":"\"7000 mm\"","v":"7000 mm"}]
[null,null,"-","Exhaust flowrate to be foreseen:",null,null,null,null,null,null,null,null,null,null,null,null,null,{"$f":"Calculations!$AT$4&\" m3/h\"","v":"4100 m3/h"}]
[null,null,"-","Outlets",null,null,null,null,null,null,null,null,null,null,null,null,null,{"$f":"Calculations!$AT$5&\" x \"&Calculations!AT6&\" mm\"","v":"2 x 300 mm"}]
[null,null,"-","Exhaust fan and piping:",null,null,null,null,null,null,null,null,null,null,null,null,null,"Excluded"]
[]
[]
[]
[]
[]
[]
[]
[]
[]
[]
[]
[]
[]
[]
[]
[]
[]
[]
[]
[]
[]
[null,null,null,null,null,null,null,null,null," "]

{"sheet":"BALLON 1","index":64,"n_rows":44,"n_cols":20,"rows_kept":44,"cut":false,"hidden":false,"merged":[[172,17,173,24],[1,0,1,25],[49,0,51,25],[61,16,61,21],[63,0,63,25],[98,0,100,27],[22,17,38,17],[21,19,39,19],[27,7,27,10],[33,18,40,18],[29,7,31,9],[27,11,27,13],[29,11,29,13],[43,3,44,23],[342,17,343,24],[222,3,223,24],[229,5,231,24],[232,5,234,24],[238,3,239,24],[240,3,240,24],[241,3,242,24],[294,17,295,24],[313,3,314,24],[322,3,323,24],[332,17,333,24],[339,17,340,24],[427,5,427,24],[346,17,348,24],[352,17,353,24],[365,17,366,24],[367,17,368,24],[369,17,370,24],[374,17,375,24],[379,3,381,24],[382,3,382,24],[386,17,387,24],[409,3,410,24],[425,3,426,24],[511,17,512,24],[428,5,429,24],[431,5,432,24],[433,5,434,24],[452,3,453,24],[454,3,457,24],[462,3,466,24],[469,17,470,24],[472,17,473,24],[477,3,478,24],[479,3,479,24],[480,3,481,24],[708,17,709,24],[552,3,554,24],[557,3,558,24],[562,17,563,24],[565,3,567,24],[602,3,603,24],[615,3,616,24],[633,17,634,24],[651,17,653,24],[676,17,677,24],[689,17,691,24],[693,17,694,24],[952,3,953,24],[745,3,746,24],[764,3,766,24],[786,17,787,24],[798,3,799,24],[850,5,851,11],[860,3,861,24],[865,3,866,24],[867,3,868,24],[872,3,873,24],[875,3,876,24],[933,17,934,24],[1043,0,1043,25],[954,3,955,24],[956,3,957,24],[958,3,959,24],[961,3,962,24],[984,3,985,24],[1010,3,1011,24],[1017,3,1019,24],[1020,3,1023,24],[1024,3,1025,24],[1029,0,1031,25],[1041,16,1041,21]]}
[]
["Appendix \"FILTRATE RECEIVER\""]
[]
[null,null,"-","Material:",null,null,null,null,null,null,null,null,null,null,null,null,null,{"$f":"Calculations!$C$44 & \"*\"","v":"316L*"}]
[null,null,"-","Diameter:",null,null,null,null,null,null,null,null,null,null,null,null,null,{"$f":"Calculations!$E$44&\" mm\"","v":"3400 mm"}]
[null,null,"-","Quantity:",null,null,null,null,null,null,null,null,null,null,null,null,null,3]
[]
[null,null,null,"Equipment"]
[null,null,"-","Supporting legs",null,null,null,null,null,null,null,null,null,null,null,null,null,{"$f":"IF(Calculations!R44=\"Non\",\"Excluded\",\"Included\")","v":"Excluded"}]
[null,null,"-","Connection \"A\":",null,null,null,null,null,null,null,null,null,null,null,null,null,{"$f":"Calculations!$G$44&\" mm\"","v":"700 mm"}]
[null,null,"-","Connection \"B\":",null,null,null,null,null,null,null,null,null,null,null,null,null,{"$f":"Calculations!$I$44&\" mm\"","v":"800 mm"}]
[null,null,"-","Connection \"C\":",null,null,null,null,null,null,null,null,null,null,null,null,null,{"$f":"Calculations!K44&\" mm\"","v":"500 mm"}]
[]
[null,null,null,"Other connections"]
[]
[null,null,"- ","Level probe:",null,null,null,null,null,null,null,null,null,null,null,null,null,"DN50 (2\") - Nbre: 2"]
[null,null,"- ","Pressure indicator transmitter",null,null,null,null,null,null,null,null,null,null,null,null,null,"DN50 (2\") - Nbre: 1"]
[]
[]
[]
[]
[null,null,null,null,null,null,null,null,null,null,null,null,null,null,null,null,null,null,null,{"$f":"'Ballon Séparateur'!$H$36","v":4000}]
[]
[]
[]
[]
[]
[null,null,null,null,null,null,null,{"$f":"'Ballon Séparateur'!$D$33","v":3400}]
[]
[null,null,null,null,null,null,null,{"$f":"'Ballon Séparateur'!$C$37&\" \"&'Ballon Séparateur'!$D$37","v":"3727 kg"}]
[]
[]
[]
[]
[]
[]
[]
[]
[]
[]
[null,null,null,null,null,null,null,null,null," "]
[]
[]
[null,null,"*","For this kind of product, we usually propose FRP for receivers. According to your specification, receivers are in SS316L. As a reminder, material choice is customer's responsibility."]

{"sheet":"BALLON 1 flasq","index":65,"n_rows":41,"n_cols":19,"rows_kept":41,"cut":false,"hidden":true,"merged":[[1043,0,1043,25],[954,3,955,24],[956,3,957,24],[958,3,959,24],[961,3,962,24],[984,3,985,24],[1010,3,1011,24],[1017,3,1019,24],[1020,3,1023,24],[1024,3,1025,24],[1029,0,1031,25],[1041,16,1041,21],[952,3,953,24],[745,3,746,24],[764,3,766,24],[786,17,787,24],[798,3,799,24],[850,5,851,11],[860,3,861,24],[865,3,866,24],[867,3,868,24],[872,3,873,24],[875,3,876,24],[933,17,934,24],[708,17,709,24],[552,3,554,24],[557,3,558,24],[562,17,563,24],[565,3,567,24],[602,3,603,24],[615,3,616,24],[633,17,634,24],[651,17,653,24],[676,17,677,24],[689,17,691,24],[693,17,694,24],[511,17,512,24],[428,5,429,24],[431,5,432,24],[433,5,434,24],[452,3,453,24],[454,3,457,24],[462,3,466,24],[469,17,470,24],[472,17,473,24],[477,3,478,24],[479,3,479,24],[480,3,481,24],[427,5,427,24],[346,17,348,24],[352,17,353,24],[365,17,366,24],[367,17,368,24],[369,17,370,24],[374,17,375,24],[379,3,381,24],[382,3,382,24],[386,17,387,24],[409,3,410,24],[425,3,426,24],[342,17,343,24],[222,3,223,24],[229,5,231,24],[232,5,234,24],[238,3,239,24],[240,3,240,24],[241,3,242,24],[294,17,295,24],[313,3,314,24],[322,3,323,24],[332,17,333,24],[339,17,340,24],[172,17,173,24],[1,0,1,25],[21,18,39,18],[23,16,39,16],[27,7,27,10],[27,11,27,13],[29,7,31,9],[29,11,29,13],[33,17,40,17],[41,17,43,17],[49,0,51,25],[61,16,61,21],[63,0,63,25],[98,0,100,27]]}
[]
["Appendix \"FILTRATE RECEIVER\""]
[]
[null,null,"-","Material:",null,null,null,null,null,null,null,null,null,null,null,null,null,{"$f":"Calculations!$C$44","v":"316L"}]
[null,null,"-","Diameter:",null,null,null,null,null,null,null,null,null,null,null,null,null,{"$f":"Calculations!$E$44&\" mm\"","v":"3400 mm"}]
[]
[null,null,null,"Equipment"]
[]
[null,null,"-","Supporting legs",null,null,null,null,null,null,null,null,null,null,null,null,null,{"$f":"IF(Calculations!R44=\"Non\",\"Excluded\",\"Included\")","v":"Excluded"}]
[null,null,"-","Connection \"A\":",null,null,null,null,null,null,null,null,null,null,null,null,null,{"$f":"Calculations!$G$44&\" mm\"","v":"700 mm"}]
[null,null,"-","Connection \"B\":",null,null,null,null,null,null,null,null,null,null,null,null,null,{"$f":"Calculations!$I$44&\" mm\"","v":"800 mm"}]
[null,null,"-","Connection \"C\":",null,null,null,null,null,null,null,null,null,null,null,null,null,{"$f":"Calculations!K44&\" mm\"","v":"500 mm"}]
[]
[null,null,null,"Other connections"]
[]
[null,null,"- ","Level probe:",null,null,null,null,null,null,null,null,null,null,null,null,null,"DN50 (2\") - Nbre: 2"]
[null,null,"- ","Pressure indicator transmitter",null,null,null,null,null,null,null,null,null,null,null,null,null,"DN50 (2\") - Nbre: 1"]
[]
[]
[]
[]
[null,null,null,null,null,null,null,null,null,null,null,null,null,null,null,null,null,null,{"$f":"'Ballon Séparateur Flasqué'!F33","v":4100}]
[]
[]
[]
[]
[]
[null,null,null,null,null,null,null,{"$f":"'Ballon Séparateur Flasqué'!D32","v":3400}]
[]
[null,null,null,null,null,null,null,{"$f":"'Ballon Séparateur Flasqué'!D40&\" \"&'Ballon Séparateur'!$D$37","v":"3935 kg"}]
[]
[]
[]
[]
[]
[]
[]
[]
[]
[]
[null,null,null,null,null,null,null,null,null," "]

{"sheet":"Barometric TANK 1 EN","index":66,"n_rows":10,"n_cols":20,"rows_kept":10,"cut":false,"hidden":true,"merged":[[239,3,239,24],[1,0,1,25],[9,17,10,23],[48,0,50,25],[60,16,60,21],[62,0,62,25],[97,0,99,27],[171,17,172,24],[221,3,222,24],[228,5,230,24],[231,5,233,24],[237,3,238,24],[368,17,369,24],[240,3,241,24],[293,17,294,24],[312,3,313,24],[321,3,322,24],[331,17,332,24],[338,17,339,24],[341,17,342,24],[345,17,347,24],[351,17,352,24],[364,17,365,24],[366,17,367,24],[453,3,456,24],[373,17,374,24],[378,3,380,24],[381,3,381,24],[385,17,386,24],[408,3,409,24],[424,3,425,24],[426,5,426,24],[427,5,428,24],[430,5,431,24],[432,5,433,24],[451,3,452,24],[601,3,602,24],[461,3,465,24],[468,17,469,24],[471,17,472,24],[476,3,477,24],[478,3,478,24],[479,3,480,24],[510,17,511,24],[551,3,553,24],[556,3,557,24],[561,17,562,24],[564,3,566,24],[849,5,850,11],[614,3,615,24],[632,17,633,24],[650,17,652,24],[675,17,676,24],[688,17,690,24],[692,17,693,24],[707,17,708,24],[744,3,745,24],[763,3,765,24],[785,17,786,24],[797,3,798,24],[983,3,984,24],[859,3,860,24],[864,3,865,24],[866,3,867,24],[871,3,872,24],[874,3,875,24],[932,17,933,24],[951,3,952,24],[953,3,954,24],[955,3,956,24],[957,3,958,24],[960,3,961,24],[1042,0,1042,25],[1009,3,1010,24],[1016,3,1018,24],[1019,3,1022,24],[1023,3,1024,24],[1028,0,1030,25],[1040,16,1040,21]]}
[]
["Appendix \"BAROMETRIC TANK 1\""]
[]
[null,null,"-","Quantity:",null,null,null,null,null,null,null,null,null,null,null,null,null,1]
[null,null,"-","Type:",null,null,null,null,null,null,null,null,null,null,null,null,null,"Cylindrical"]
[null,null,"-","Capacity:",null,null,null,null,null,null,null,null,null,null,null,null,null,"1m3"]
[null,null,"-","Diameter:",null,null,null,null,null,null,null,null,null,null,null,null,null,"1000 mm"]
[null,null,"-","Height:",null,null,null,null,null,null,null,null,null,null,null,null,null,"1650 mm"]
[null,null,"-","Material:",null,null,null,null,null,null,null,null,null,null,null,null,null,"SS316L",null,"(TBC)"]
[null,null,"-","Level Detector:",null,null,null,null,null,null,null,null,null,null,null,null,null,"Radar Level transmitter DN50 (2\") - Qty : 1"]

{"sheet":"Barometric TANK 2&3 EN","index":67,"n_rows":10,"n_cols":20,"rows_kept":10,"cut":false,"hidden":true,"merged":[[239,3,239,24],[1,0,1,25],[9,17,10,23],[48,0,50,25],[60,16,60,21],[62,0,62,25],[97,0,99,27],[171,17,172,24],[221,3,222,24],[228,5,230,24],[231,5,233,24],[237,3,238,24],[368,17,369,24],[240,3,241,24],[293,17,294,24],[312,3,313,24],[321,3,322,24],[331,17,332,24],[338,17,339,24],[341,17,342,24],[345,17,347,24],[351,17,352,24],[364,17,365,24],[366,17,367,24],[453,3,456,24],[373,17,374,24],[378,3,380,24],[381,3,381,24],[385,17,386,24],[408,3,409,24],[424,3,425,24],[426,5,426,24],[427,5,428,24],[430,5,431,24],[432,5,433,24],[451,3,452,24],[601,3,602,24],[461,3,465,24],[468,17,469,24],[471,17,472,24],[476,3,477,24],[478,3,478,24],[479,3,480,24],[510,17,511,24],[551,3,553,24],[556,3,557,24],[561,17,562,24],[564,3,566,24],[849,5,850,11],[614,3,615,24],[632,17,633,24],[650,17,652,24],[675,17,676,24],[688,17,690,24],[692,17,693,24],[707,17,708,24],[744,3,745,24],[763,3,765,24],[785,17,786,24],[797,3,798,24],[983,3,984,24],[859,3,860,24],[864,3,865,24],[866,3,867,24],[871,3,872,24],[874,3,875,24],[932,17,933,24],[951,3,952,24],[953,3,954,24],[955,3,956,24],[957,3,958,24],[960,3,961,24],[1042,0,1042,25],[1009,3,1010,24],[1016,3,1018,24],[1019,3,1022,24],[1023,3,1024,24],[1028,0,1030,25],[1040,16,1040,21]]}
[]
["Appendix \"BAROMETRIC TANK 2 & 3\""]
[]
[null,null,"-","Quantity:",null,null,null,null,null,null,null,null,null,null,null,null,null,2]
[null,null,"-","Type:",null,null,null,null,null,null,null,null,null,null,null,null,null,"Cylindrical"]
[null,null,"-","Capacity:",null,null,null,null,null,null,null,null,null,null,null,null,null,"1m3"]
[null,null,"-","Diameter:",null,null,null,null,null,null,null,null,null,null,null,null,null,"1000 mm"]
[null,null,"-","Height:",null,null,null,null,null,null,null,null,null,null,null,null,null,"1650 mm"]
[null,null,"-","Material:",null,null,null,null,null,null,null,null,null,null,null,null,null,"SS316L",null,"(TBC)"]
[null,null,"-","Level Detector:",null,null,null,null,null,null,null,null,null,null,null,null,null,"Radar Level transmitter DN50 (2\") - Qty : 1"]

{"sheet":"CYCLONE","index":68,"n_rows":44,"n_cols":19,"rows_kept":44,"cut":false,"hidden":false,"merged":[[369,17,370,24],[371,17,372,24],[244,3,244,24],[102,0,104,27],[176,17,177,24],[226,3,227,24],[233,5,235,24],[236,5,238,24],[242,3,243,24],[336,17,337,24],[343,17,344,24],[346,17,347,24],[350,17,352,24],[356,17,357,24],[1,0,1,25],[4,17,4,19],[53,0,55,25],[65,16,65,21],[67,0,67,25],[28,7,28,8],[17,17,20,18],[24,7,24,9],[18,11,18,13],[561,3,562,24],[566,17,567,24],[569,3,571,24],[458,3,461,24],[378,17,379,24],[383,3,385,24],[386,3,386,24],[390,17,391,24],[413,3,414,24],[429,3,430,24],[431,5,431,24],[432,5,433,24],[435,5,436,24],[437,5,438,24],[456,3,457,24],[481,3,482,24],[483,3,483,24],[484,3,485,24],[515,17,516,24],[556,3,558,24],[23,18,27,19],[26,15,30,16],[38,1,41,23],[43,3,46,23],[466,3,470,24],[473,17,474,24],[476,17,477,24],[373,17,374,24],[245,3,246,24],[298,17,299,24],[317,3,318,24],[326,3,327,24],[965,3,966,24],[854,5,855,11],[619,3,620,24],[637,17,638,24],[655,17,657,24],[680,17,681,24],[693,17,695,24],[697,17,698,24],[712,17,713,24],[749,3,750,24],[768,3,770,24],[790,17,791,24],[802,3,803,24],[937,17,938,24],[956,3,957,24],[958,3,959,24],[606,3,607,24],[1047,0,1047,25],[1014,3,1015,24],[1021,3,1023,24],[1024,3,1027,24],[1028,3,1029,24],[1033,0,1035,25],[1045,16,1045,21],[988,3,989,24],[864,3,865,24],[869,3,870,24],[871,3,872,24],[876,3,877,24],[879,3,880,24],[960,3,961,24],[962,3,963,24]]}
[]
["Appendix \"CYCLONE\" / OPTION "]
[]
[null,null,"-","Material:",null,null,null,null,null,null,null,null,null,null,null,null,null,{"$f":"Calculations!$C$46 & \"*\"","v":"316L*"}]
[null,null,"-","Diameter:",null,null,null,null,null,null,null,null,null,null,null,null,null,{"$f":"Calculations!$E$46 & \" mm\"","v":"3000 mm"}]
[]
[null,null,null,"Equipment"]
[]
[null,null,"-","Supporting legs",null,null,null,null,null,null,null,null,null,null,null,null,null,{"$f":"IF(Calculations!R46=\"Non\", \"Excluded\", \"Included\")","v":"Excluded"}]
[null,null,"-","Connection \"A\":",null,null,null,null,null,null,null,null,null,null,null,null,null,{"$f":"Calculations!$G$46&\" mm\"","v":"800 mm"}]
[null,null,"-","Connection \"B\":",null,null,null,null,null,null,null,null,null,null,null,null,null,{"$f":"Calculations!$I$46&\" mm\"","v":"800 mm"}]
[null,null,"-","Connection \"C\":",null,null,null,null,null,null,null,null,null,null,null,null,null,{"$f":"Calculations!K46&\" mm\"","v":"40 mm"}]
[]
[]
[]
[]
[]
[]
[]
[]
[]
[]
[]
[null,null,null,null,null,null,null,null,null,null,null,null,null,null,null,null,null,null,{"$f":"'Cyclone.'!F35","v":4000}]
[null,null,null,null,null,null,null,{"$f":"'Cyclone.'!D37","v":3000}]
[]
[]
[]
[null,null,null,null,null,null,null,{"$f":"'Cyclone.'!C41","v":3727},null,"Kg"]
[]
[null,null,null,null,null,null,null,null,null,"60°"]
[]
[]
[]
[]
[]
[]
[]
[null,"PS :  We know that this item isn't part of the scope of supply you requested. But, according to our knowledge, we strongly advise you to install this equipment to protect the vacuum pump."]
[]
[]
[]
[]
[null,null,"*","For this kind of product, we usually propose FRP for cyclone. According to your specification, cyclone is in SS316L. As a reminder, material choice is customer's responsibility."]

{"sheet":"LAVEUR","index":69,"n_rows":41,"n_cols":18,"rows_kept":41,"cut":false,"hidden":false,"merged":[[240,3,240,24],[1,0,1,25],[4,17,4,19],[49,0,51,25],[61,16,61,21],[63,0,63,25],[98,0,100,27],[172,17,173,24],[222,3,223,24],[229,5,231,24],[232,5,234,24],[238,3,239,24],[26,9,27,11],[25,18,31,19],[35,12,35,13],[27,16,30,17],[452,3,453,24],[369,17,370,24],[241,3,242,24],[294,17,295,24],[313,3,314,24],[322,3,323,24],[332,17,333,24],[339,17,340,24],[342,17,343,24],[346,17,348,24],[352,17,353,24],[365,17,366,24],[367,17,368,24],[425,3,426,24],[427,5,427,24],[428,5,429,24],[431,5,432,24],[433,5,434,24],[374,17,375,24],[379,3,381,24],[382,3,382,24],[386,17,387,24],[409,3,410,24],[562,17,563,24],[565,3,567,24],[454,3,457,24],[472,17,473,24],[477,3,478,24],[479,3,479,24],[480,3,481,24],[511,17,512,24],[34,17,38,18],[28,12,28,14],[961,3,962,24],[850,5,851,11],[615,3,616,24],[633,17,634,24],[651,17,653,24],[676,17,677,24],[689,17,691,24],[693,17,694,24],[708,17,709,24],[745,3,746,24],[764,3,766,24],[786,17,787,24],[798,3,799,24],[557,3,558,24],[1043,0,1043,25],[1010,3,1011,24],[1017,3,1019,24],[1020,3,1023,24],[1024,3,1025,24],[1029,0,1031,25],[1041,16,1041,21],[40,3,43,23],[984,3,985,24],[860,3,861,24],[865,3,866,24],[867,3,868,24],[872,3,873,24],[875,3,876,24],[956,3,957,24],[958,3,959,24],[933,17,934,24],[952,3,953,24],[954,3,955,24],[602,3,603,24],[462,3,466,24],[469,17,470,24],[552,3,554,24]]}
[]
["Appendix \"SCRUBBER\""]
[]
[null,null,"-","Material:",null,null,null,null,null,null,null,null,null,null,null,null,null,{"$f":"Calculations!$C$48","v":"316L"}]
[null,null,"-","Diameter:",null,null,null,null,null,null,null,null,null,null,null,null,null,{"$f":"Calculations!$E$48 & \" mm\"","v":"3000 mm"}]
[]
[null,null,null,"Equipment"]
[]
[null,null,"-","One spraying set"]
[null,null,null,null,"•","Pipe material:",null,null,null,null,null,null,null,null,null,null,null,"Polypropylene"]
[null,null,null,null,"•","Sprayer material:",null,null,null,null,null,null,null,null,null,null,null,"Polypropylene"]
[]
[null,null,"-","Supporting legs",null,null,null,null,null,null,null,null,null,null,null,null,null,{"$f":"IF(Calculations!R48=\"Non\", \"Excluded\", \"Included\")","v":"Excluded"}]
[null,null,"-","Connection \"A\":",null,null,null,null,null,null,null,null,null,null,null,null,null,{"$f":"Calculations!$G$48&\" mm\"","v":"800 mm"}]
[null,null,"-","Connection \"B\":",null,null,null,null,null,null,null,null,null,null,null,null,null,{"$f":"Calculations!$I$48&\" mm\"","v":"800 mm"}]
[null,null,"-","Connection \"C\":",null,null,null,null,null,null,null,null,null,null,null,null,null,{"$f":"Calculations!K48&\" mm\"&\" (TBC)\"","v":"250 mm (TBC)"}]
[null,null,"-","Connection \"D\":",null,null,null,null,null,null,null,null,null,null,null,null,null,{"$f":"Calculations!M48&\" mm\"&\" (TBC)\"","v":"150 mm (TBC)"}]
[]
[]
[]
[]
[]
[]
[]
[]
[]
[null,null,null,null,null,null,null,null,null,{"$f":"Laveur.!E34","v":3000}]
[null,null,null,null,null,null,null,null,null,null,null,null,null,null,null,null,{"$f":"Laveur.!G35","v":4000}]
[]
[]
[]
[]
[]
[]
[]
[null,null,null,null,null,null,null,null,null,null,null,null,{"$f":"Laveur.!E42","v":3727},null,"Kg"]
[]
[null,null,null,null,null,null,null,null,null," "]
[]
[]
[null,null,"*","For this kind of product, we usually propose FRP for scrubbers. According to your specification, scubber is in SS316L. As a reminder, material choice is customer's responsibility."]

{"sheet":"VAC PUMP","index":70,"n_rows":47,"n_cols":28,"rows_kept":47,"cut":false,"hidden":false,"merged":[[242,3,243,24],[1,0,1,25],[26,3,28,24],[29,3,30,24],[53,0,55,25],[65,16,65,21],[67,0,67,25],[102,0,104,27],[176,17,177,24],[226,3,227,24],[233,5,235,24],[236,5,238,24],[11,17,11,18],[12,17,12,18],[7,17,7,18],[6,17,6,18],[371,17,372,24],[244,3,244,24],[245,3,246,24],[298,17,299,24],[317,3,318,24],[326,3,327,24],[336,17,337,24],[343,17,344,24],[346,17,347,24],[350,17,352,24],[356,17,357,24],[369,17,370,24],[456,3,457,24],[373,17,374,24],[378,17,379,24],[383,3,385,24],[386,3,386,24],[390,17,391,24],[413,3,414,24],[429,3,430,24],[431,5,431,24],[432,5,433,24],[435,5,436,24],[437,5,438,24],[569,3,571,24],[458,3,461,24],[466,3,470,24],[473,17,474,24],[476,17,477,24],[481,3,482,24],[483,3,483,24],[484,3,485,24],[515,17,516,24],[556,3,558,24],[561,3,562,24],[566,17,567,24],[802,3,803,24],[606,3,607,24],[619,3,620,24],[637,17,638,24],[655,17,657,24],[680,17,681,24],[693,17,695,24],[697,17,698,24],[712,17,713,24],[749,3,750,24],[768,3,770,24],[790,17,791,24],[965,3,966,24],[854,5,855,11],[864,3,865,24],[869,3,870,24],[871,3,872,24],[876,3,877,24],[879,3,880,24],[937,17,938,24],[956,3,957,24],[958,3,959,24],[960,3,961,24],[962,3,963,24],[1045,16,1045,21],[1047,0,1047,25],[988,3,989,24],[1014,3,1015,24],[1021,3,1023,24],[1024,3,1027,24],[1028,3,1029,24],[1033,0,1035,25],[23,27,26,39],[4,17,4,18],[20,17,20,18],[17,17,17,18],[24,17,24,18],[21,17,21,18],[22,17,22,18],[13,17,13,18]]}
[]
["Appendix \"VACUUM PUMP\""]
[]
[null,null,"-","Type:",null,null,null,null,null,null,null,null,null,null,null,null,null,"Liquid ring"]
[null,null,"-","Quantity:",null,null,null,null,null,null,null,null,null,null,null,null,null,2,null," per filter"]
[null,null,"-","Material:",null,null,null,null,null,null,null,null,null,null,null,null,null,"Carbon steel & cast-iron",null,null,null,null,null,null,null,null,null,"Warning : Choosing the right material"]
[null,null,"-","Delta Pressure:",null,null,null,null,null,null,null,null,null,null,null,null,null,{"$f":"'Spec PAV'!B26","v":-613},null,"mbar rel"]
[null,null,"-","Nominal pressure: ",null,null,null,null,null,null,null,null,null,null,null,null,null,{"$f":"'Spec PAV'!B27","v":400},null,"mbar abs"]
[]
[null,null,null,"Sizing basis"]
[]
[null,null,"-","Gaz temperature:",null,null,null,null,null,null,null,null,null,null,null,null,null,20,null,"°C",null,null,null,null,null,null,null,"Warning : Choosing the right temperature"]
[null,null,"-","Liquid ring temperature:",null,null,null,null,null,null,null,null,null,null,null,null,null,20,null,"°C"]
[null,null,"-","Elevation: ",null,null,null,null,null,null,null,null,null,null,null,null,null,500,null,"m"]
[]
[null,null,null,"Characteristics"]
[]
[null,null,"-","Capacity:",null,null,null,null,null,null,null,null,null,null,null,null,null,{"$f":"Calculations!N11","v":43020},null,"m3/h total"]
[null,null,"-","Rotary speed:"]
[null,null,"-","Absorbed power:"]
[null,null,"-","Installed power:",null,null,null,null,null,null,null,null,null,null,null,null,null,450,null,"kW per pump"]
[null,null,"-","Voltage",null,null,null,null,null,null,null,null,null,null,null,null,null,6600,null,"V"]
[null,null,"-","Frequency",null,null,null,null,null,null,null,null,null,null,null,null,null,50,null,"Hz"]
[null,null,"-","Liquid ring requirements:",null,null,null,null,null,null,null,null,null,null,null,null,null,"Total recirculation",null,null,null,null,null,null,null,null,null,"3 options :\n1) no recirculation\n2) Partial recirculation\n3) Complete recirulation - quoting the added value "]
[null,null,"-","Noise level:",null,null,null,null,null,null,null,null,null,null,null,null,null,85,null,"dB(A) at one meter"]
[]
[null,"NOTE: ",null,"Noise measured in open field around pump and with exhaut air flange connected to an exhaust pipe (out of supply) without any reverberation/addition of the pipe or air sound exhaust. "]
[]
[]
[null,null,null,"Injection water must be not corrosive, free solids, not hard water at a normal temperature. If not, the water must be treated."]
[]
[]
[null,null,null,"Accessories"]
[]
[null,null,"-","Inlet seal water piping with instrumentation & valves as per P&ID"]
[null,null,"-","Discharge separator in carbon steel"]
[null,null,"-","Transmission per V-Belt"]
[null,null,"-","Vacuum breaker in stainless steel"]
[null,null,"-","Base plate in SS316L"]
[null,null,"-",{"$f":"\"Electrical motor \"&'Offre NEW'!G49&\" kW\"","v":"Electrical motor 1000 kW"}]
[null,null,"-","Exhaust silencer excluded"]
[null,null,"-","Water piping in carbon steel"]
[null,null,"-","Plate Heat Exchanger"]
[null,null,null,"Temperature Indicator + their thermowell"]
[null,null,"-","Recirculating pump with closed coupled motor"]
[]
[null,null,"-","Painting:  according to deviation list"]

{"sheet":"FILTRATE PUMP 1","index":71,"n_rows":42,"n_cols":13,"rows_kept":42,"cut":false,"hidden":false,"merged":[[235,5,237,24],[1,0,1,25],[4,9,4,10],[5,9,5,10],[10,9,10,10],[11,9,11,10],[55,0,57,25],[67,16,67,21],[69,0,69,25],[104,0,106,27],[178,17,179,24],[228,3,229,24],[6,9,6,10],[7,9,7,10],[7,3,7,8],[358,17,359,24],[238,5,240,24],[244,3,245,24],[246,3,246,24],[247,3,248,24],[300,17,301,24],[319,3,320,24],[328,3,329,24],[338,17,339,24],[345,17,346,24],[348,17,349,24],[352,17,354,24],[437,5,438,24],[371,17,372,24],[373,17,374,24],[375,17,376,24],[380,17,381,24],[385,3,387,24],[388,3,388,24],[392,17,393,24],[415,3,416,24],[431,3,432,24],[433,5,433,24],[434,5,435,24],[563,3,564,24],[439,5,440,24],[458,3,459,24],[460,3,463,24],[468,3,472,24],[475,17,476,24],[478,17,479,24],[483,3,484,24],[485,3,485,24],[486,3,487,24],[517,17,518,24],[558,3,560,24],[770,3,772,24],[568,17,569,24],[571,3,573,24],[608,3,609,24],[621,3,622,24],[639,17,640,24],[657,17,659,24],[682,17,683,24],[695,17,697,24],[699,17,700,24],[714,17,715,24],[751,3,752,24],[962,3,963,24],[792,17,793,24],[804,3,805,24],[856,5,857,11],[866,3,867,24],[871,3,872,24],[873,3,874,24],[878,3,879,24],[881,3,882,24],[939,17,940,24],[958,3,959,24],[960,3,961,24],[1030,3,1031,24],[1035,0,1037,25],[1047,16,1047,21],[1049,0,1049,25],[964,3,965,24],[967,3,968,24],[990,3,991,24],[1016,3,1017,24],[1023,3,1025,24],[1026,3,1029,24]]}
[]
["Appendix \"FILTRATE PUMP 1\" / OPTION"]
[]
[null,null,"-","Type:",null,null,null,null,null,"Centrifugal"]
[null,null,"-","Capacity",null,null,null,null,null,{"$f":"'Offre NEW'!F43","v":442},null,"m3/h"]
[null,null,"-","H.M.T.:",null,null,null,null,null,30,null,"m (Maximum)"]
[null,null,"-","N.P.S.H. (required):",null,null,null,null,null,3.5,null,"m"]
[null,null,"-","Maximum head loss acceptable:",null,null,null,null,null,7.5,null,"m"]
[null,null,"-","Material:",null,null,null,null,null,{"$f":"'Offre NEW'!D43","v":"CD4Mcu"},null,null,"or equivalent"]
[null,null,"-","Shaft sealing:",null,null,null,null,null,"Standardized Simple Mechanical Seal"]
[null,null,"-","Absorbed power:",null,null,null,null,null,{"$f":"J12*0.9","v":81},null,"kW (*)"]
[null,null,"-","Installed power:",null,null,null,null,null,90,null,"kW (TBC)"]
[null,null,"-","Weight (with motor):",null,null,null,null,null,"to be given by supplier"]
[]
[null,null,null,"Accessories : "]
[null,null,"-","Base for pump and motor."]
[null,null,"-","standard electrical motor"]
[null,null,"-","Coupling and guard"]
[null,null,"-","Painting:  according to deviaiton list"]
[]
[null,null,"(*): to be confirmed depending on the final layout of the unit"]
[]
[]
[]
[]
[]
[]
[]
[]
[]
[]
[]
[]
[]
[]
[]
[]
[]
[]
[]
[]
[null,null,null,null,null,null,null,null,null," "]

{"sheet":"FILTRATE PUMP 2","index":72,"n_rows":43,"n_cols":13,"rows_kept":43,"cut":false,"hidden":false,"merged":[[6,9,6,10],[7,3,7,8],[7,9,7,10],[29,9,29,10],[28,9,28,10],[29,3,29,8],[27,9,27,10],[32,9,32,10],[33,9,33,10],[1048,16,1048,21],[1050,0,1050,25],[991,3,992,24],[1017,3,1018,24],[1024,3,1026,24],[1027,3,1030,24],[1031,3,1032,24],[1036,0,1038,25],[968,3,969,24],[857,5,858,11],[867,3,868,24],[872,3,873,24],[874,3,875,24],[963,3,964,24],[965,3,966,24],[805,3,806,24],[609,3,610,24],[622,3,623,24],[640,17,641,24],[658,17,660,24],[683,17,684,24],[696,17,698,24],[700,17,701,24],[879,3,880,24],[882,3,883,24],[940,17,941,24],[959,3,960,24],[961,3,962,24],[461,3,464,24],[469,3,473,24],[476,17,477,24],[479,17,480,24],[484,3,485,24],[569,17,570,24],[715,17,716,24],[752,3,753,24],[771,3,773,24],[793,17,794,24],[572,3,574,24],[486,3,486,24],[487,3,488,24],[518,17,519,24],[559,3,561,24],[564,3,565,24],[459,3,460,24],[376,17,377,24],[381,17,382,24],[386,3,388,24],[389,3,389,24],[393,17,394,24],[416,3,417,24],[432,3,433,24],[434,5,434,24],[435,5,436,24],[438,5,439,24],[440,5,441,24],[374,17,375,24],[247,3,247,24],[248,3,249,24],[301,17,302,24],[320,3,321,24],[329,3,330,24],[339,17,340,24],[346,17,347,24],[353,17,355,24],[359,17,360,24],[372,17,373,24],[349,17,350,24],[245,3,246,24],[1,0,1,25],[56,0,58,25],[68,16,68,21],[70,0,70,25],[105,0,107,27],[179,17,180,24],[229,3,230,24],[236,5,238,24],[239,5,241,24],[4,9,4,10],[5,9,5,10],[10,9,10,10],[11,9,11,10],[23,0,23,25],[26,9,26,10]]}
[]
["Appendix \"FILTRATE PUMP 2\" / OPTION"]
[]
[null,null,"-","Type:",null,null,null,null,null,"Centrifugal"]
[null,null,"-","Capacity",null,null,null,null,null,{"$f":"'Offre NEW'!F44","v":37},null,"m3/h"]
[null,null,"-","H.M.T.:",null,null,null,null,null,30,null,"m (Maximum)"]
[null,null,"-","N.P.S.H. (required):",null,null,null,null,null,3.5,null,"m"]
[null,null,"-","Maximum head loss acceptable:",null,null,null,null,null,7.5,null,"m"]
[null,null,"-","Material:",null,null,null,null,null,{"$f":"'Offre NEW'!D44","v":"CD4Mcu"},null,null,"or equivalent"]
[null,null,"-","Shaft sealing:",null,null,null,null,null,"Standardized Simple Mechanical Seal"]
[null,null,"-","Absorbed power:",null,null,null,null,null,{"$f":"J12*0.9","v":13.5},null,"kW (*)"]
[null,null,"-","Installed power:",null,null,null,null,null,15,null,"kW (TBC)"]
[null,null,"-","Weight (with motor):",null,null,null,null,null,"to be given by supplier"]
[]
[null,null,null,"Accessories : "]
[null,null,"-","Base for pump and motor."]
[null,null,"-","standard electrical motor"]
[null,null,"-","Coupling and guard"]
[null,null,"-","Painting:  according to deviation list"]
[]
[null,null,"(*): to be confirmed depending on the final layout of the unit"]
[]
[]
["Appendix \"FILTRATE PUMP 3\" / OPTION"]
[]
[null,null,"-","Type:",null,null,null,null,null,"Centrifugal"]
[null,null,"-","Capacity",null,null,null,null,null,{"$f":"J5","v":37},null,"m3/h"]
[null,null,"-","H.M.T.:",null,null,null,null,null,30,null,"m (Maximum)"]
[null,null,"-","N.P.S.H. (required):",null,null,null,null,null,3.5,null,"m"]
[null,null,"-","Maximum head loss acceptable:",null,null,null,null,null,7.5,null,"m"]
[null,null,"-","Material:",null,null,null,null,null,{"$f":"'Offre NEW'!D45","v":"CD4Mcu"},null,null,"or equivalent"]
[null,null,"-","Shaft sealing:",null,null,null,null,null,"Standardized Simple Mechanical Seal"]
[null,null,"-","Absorbed power:",null,null,null,null,null,{"$f":"J34*0.9","v":13.5},null,"kW (*)"]
[null,null,"-","Installed power:",null,null,null,null,null,{"$f":"J12","v":15},null,"kW (TBC)"]
[null,null,"-","Weight (with motor):",null,null,null,null,null,"to be given by supplier"]
[]
[null,null,null,"Accessories : "]
[null,null,"-","Base for pump and motor."]
[null,null,"-","standard electrical motor"]
[null,null,"-","Coupling and guard"]
[null,null,"-","Painting:  according to deviation list"]
[]
[null,null,"(*): to be confirmed depending on the final layout of the unit"]

{"sheet":"FILTRATE PUMP 3","index":73,"n_rows":41,"n_cols":13,"rows_kept":41,"cut":false,"hidden":true,"merged":[[234,5,236,24],[1,0,1,25],[4,9,4,10],[5,9,5,10],[9,9,9,10],[10,9,10,10],[54,0,56,25],[66,16,66,21],[68,0,68,25],[103,0,105,27],[177,17,178,24],[227,3,228,24],[357,17,358,24],[237,5,239,24],[243,3,244,24],[245,3,245,24],[246,3,247,24],[299,17,300,24],[318,3,319,24],[327,3,328,24],[337,17,338,24],[344,17,345,24],[347,17,348,24],[351,17,353,24],[436,5,437,24],[370,17,371,24],[372,17,373,24],[374,17,375,24],[379,17,380,24],[384,3,386,24],[387,3,387,24],[391,17,392,24],[414,3,415,24],[430,3,431,24],[432,5,432,24],[433,5,434,24],[562,3,563,24],[438,5,439,24],[457,3,458,24],[459,3,462,24],[467,3,471,24],[474,17,475,24],[477,17,478,24],[482,3,483,24],[484,3,484,24],[485,3,486,24],[516,17,517,24],[557,3,559,24],[769,3,771,24],[567,17,568,24],[570,3,572,24],[607,3,608,24],[620,3,621,24],[638,17,639,24],[656,17,658,24],[681,17,682,24],[694,17,696,24],[698,17,699,24],[713,17,714,24],[750,3,751,24],[961,3,962,24],[791,17,792,24],[803,3,804,24],[855,5,856,11],[865,3,866,24],[870,3,871,24],[872,3,873,24],[877,3,878,24],[880,3,881,24],[938,17,939,24],[957,3,958,24],[959,3,960,24],[1029,3,1030,24],[1034,0,1036,25],[1046,16,1046,21],[1048,0,1048,25],[963,3,964,24],[966,3,967,24],[989,3,990,24],[1015,3,1016,24],[1022,3,1024,24],[1025,3,1028,24]]}
[]
["Appendix \"FILTRATE PUMP\""]
[]
[null,null,"-","Type:",null,null,null,null,null,"Centrifugal"]
[null,null,"-","Capacity",null,null,null,null,null,{"$f":"'Offre NEW'!F45","v":154},null,"m3/h"]
[null,null,"-","H.M.T.:",null,null,null,null,null,30,null,"m (Maximum)"]
[null,null,"-","N.P.S.H. (required):",null,null,null,null,null,"To be confirmed"]
[null,null,"-","Material:",null,null,null,null,null,{"$f":"'Offre NEW'!D45","v":"CD4Mcu"},null,null,"or equivalent"]
[null,null,"-","Shaft sealing:",null,null,null,null,null,"Standardized Simple Mechanical Seal"]
[null,null,"-","Absorbed power:",null,null,null,null,null,{"$f":"'Offre NEW'!G45*0.9","v":19.8},null,"kW (*)"]
[null,null,"-","Installed power:",null,null,null,null,null,{"$f":"'Offre NEW'!G45","v":22},null,"kW (maximum)"]
[null,null,"-","Weight (with motor):",null,null,null,null,null,"to be given by supplier"]
[]
[null,null,null,"Accessories : "]
[null,null,"-","Base for pump and motor."]
[null,null,"-","standard electrical motor"]
[null,null,"-","Coupling and guard"]
[null,null,"-","Painting:  according to supplier’s standards."]
[]
[null,null,"(*): to be confirmed depending on the final layout of the unit"]
[]
[]
[]
[]
[]
[]
[]
[]
[]
[]
[]
[]
[]
[]
[]
[]
[]
[]
[]
[]
[null,null,null,null,null,null,null,null,null," "]

{"sheet":"FILTRATE PUMP 4","index":74,"n_rows":41,"n_cols":13,"rows_kept":41,"cut":false,"hidden":true,"merged":[[234,5,236,24],[1,0,1,25],[4,9,4,10],[5,9,5,10],[9,9,9,10],[10,9,10,10],[54,0,56,25],[66,16,66,21],[68,0,68,25],[103,0,105,27],[177,17,178,24],[227,3,228,24],[357,17,358,24],[237,5,239,24],[243,3,244,24],[245,3,245,24],[246,3,247,24],[299,17,300,24],[318,3,319,24],[327,3,328,24],[337,17,338,24],[344,17,345,24],[347,17,348,24],[351,17,353,24],[436,5,437,24],[370,17,371,24],[372,17,373,24],[374,17,375,24],[379,17,380,24],[384,3,386,24],[387,3,387,24],[391,17,392,24],[414,3,415,24],[430,3,431,24],[432,5,432,24],[433,5,434,24],[562,3,563,24],[438,5,439,24],[457,3,458,24],[459,3,462,24],[467,3,471,24],[474,17,475,24],[477,17,478,24],[482,3,483,24],[484,3,484,24],[485,3,486,24],[516,17,517,24],[557,3,559,24],[769,3,771,24],[567,17,568,24],[570,3,572,24],[607,3,608,24],[620,3,621,24],[638,17,639,24],[656,17,658,24],[681,17,682,24],[694,17,696,24],[698,17,699,24],[713,17,714,24],[750,3,751,24],[961,3,962,24],[791,17,792,24],[803,3,804,24],[855,5,856,11],[865,3,866,24],[870,3,871,24],[872,3,873,24],[877,3,878,24],[880,3,881,24],[938,17,939,24],[957,3,958,24],[959,3,960,24],[1029,3,1030,24],[1034,0,1036,25],[1046,16,1046,21],[1048,0,1048,25],[963,3,964,24],[966,3,967,24],[989,3,990,24],[1015,3,1016,24],[1022,3,1024,24],[1025,3,1028,24]]}
[]
["Appendix \"FILTRATE PUMP\""]
[]
[null,null,"-","Type:",null,null,null,null,null,"Centrifugal"]
[null,null,"-","Capacity",null,null,null,null,null,{"$f":"'Offre NEW'!F46","v":37},null,"m3/h"]
[null,null,"-","H.M.T.:",null,null,null,null,null,30,null,"m (Maximum)"]
[null,null,"-","N.P.S.H. (required):",null,null,null,null,null,"To be confirmed"]
[null,null,"-","Material:",null,null,null,null,null,{"$f":"'Offre NEW'!D46","v":"CD4Mcu"},null,null,"or equivalent"]
[null,null,"-","Shaft sealing:",null,null,null,null,null,"Standardized Simple Mechanical Seal"]
[null,null,"-","Absorbed power:",null,null,null,null,null,{"$f":"'Offre NEW'!G46*0.9","v":6.75},null,"kW (*)"]
[null,null,"-","Installed power:",null,null,null,null,null,{"$f":"'Offre NEW'!G46","v":7.5},null,"kW (maximum)"]
[null,null,"-","Weight (with motor):",null,null,null,null,null,"to be given by supplier"]
[]
[null,null,null,"Accessories : "]
[null,null,"-","Base for pump and motor."]
[null,null,"-","standard electrical motor"]
[null,null,"-","Coupling and guard"]
[null,null,"-","Painting:  according to supplier’s standards."]
[]
[null,null,"(*): to be confirmed depending on the final layout of the unit"]
[]
[]
[]
[]
[]
[]
[]
[]
[]
[]
[]
[]
[]
[]
[]
[]
[]
[]
[]
[]
[null,null,null,null,null,null,null,null,null," "]

{"sheet":"HIGH PRESSURE RAMP","index":75,"n_rows":44,"n_cols":28,"rows_kept":44,"cut":false,"hidden":false,"merged":[[240,5,242,24],[1,0,1,25],[2,9,3,16],[5,2,6,24],[16,2,17,24],[43,1,43,24],[69,16,69,21],[71,0,71,25],[106,0,108,27],[180,17,181,24],[230,3,231,24],[237,5,239,24],[373,17,374,24],[246,3,247,24],[248,3,248,24],[249,3,250,24],[302,17,303,24],[321,3,322,24],[330,3,331,24],[340,17,341,24],[347,17,348,24],[350,17,351,24],[354,17,356,24],[360,17,361,24],[441,5,442,24],[375,17,376,24],[377,17,378,24],[382,17,383,24],[387,3,389,24],[390,3,390,24],[394,17,395,24],[417,3,418,24],[433,3,434,24],[435,5,435,24],[436,5,437,24],[439,5,440,24],[570,17,571,24],[460,3,461,24],[462,3,465,24],[470,3,474,24],[477,17,478,24],[480,17,481,24],[485,3,486,24],[487,3,487,24],[488,3,489,24],[519,17,520,24],[560,3,562,24],[565,3,566,24],[794,17,795,24],[573,3,575,24],[610,3,611,24],[623,3,624,24],[641,17,642,24],[659,17,661,24],[684,17,685,24],[697,17,699,24],[701,17,702,24],[716,17,717,24],[753,3,754,24],[772,3,774,24],[966,3,967,24],[806,3,807,24],[858,5,859,11],[868,3,869,24],[873,3,874,24],[875,3,876,24],[880,3,881,24],[883,3,884,24],[941,17,942,24],[960,3,961,24],[962,3,963,24],[964,3,965,24],[1037,0,1039,25],[1049,16,1049,21],[1051,0,1051,25],[969,3,970,24],[992,3,993,24],[1018,3,1019,24],[1025,3,1027,24],[1028,3,1031,24],[1032,3,1033,24]]}
[]
["Appendix \"HIGH PRESSURE RAMP\""]
[]
[]
[]
[null,null,"One high pressure ramp constituted with an articulated frame driven by a moto-reducer, \nsupporting the washing ramp provided with spray nozzles made of hardened stainless steel."]
[]
[]
[null,null,"The ramp has a reciprocating motion."]
[]
[null,null,"-","Installed power: 0,18 kW (TBC) for reciprocating ramp motor"]
[null,null,"-","Flow rate: 68 L/min (TBC)",null,null,null,null,null,null,null,null,null,"i.e",{"$f":"68/1000*60","v":4.08},"m3/h",null,null,null,null,null,null,null,null,null,null,null,"B10 : 22 L/min / B20 : 34 L/min / B30 : 68 L/min / B40 : 90 L/min"]
[null,null,"-","Working pressure: 100 bar",null,null,null,null,null,null,null,null,null,null,null,null,null,null,null,null,null,null,null,null,null,null,null,"Pression de fonctionnement entre 50 et 100 bars"]
[]
[null,null,"Connection accessories: HP flexibles and hose-couplings"]
[]
[null,null,"Nota: Injection water must be not corrosive, free solids (< 90 µm) and not furring. Hardness \nnot more 10° THF. If not the water must be treated."]
[]
[]
[]
[null,null,"• One high pressure pump with electrical motor: "]
[]
[null,null,null,null,"o Nominal Power: 15 kW (TBC)",null,null,null,null,null,null,null,null,null,null,null,null,null,null,null,null,null,null,null,null,null,null,"B10 : 7,5 kW / B20 : 7,5 kW / B30 : 15 kW / B40 : 15 kW"]
[null,null,null,null,"o Tension: According customer’s requirements"]
[null,null,null,null,"o Frequency: 50 Hz"]
[]
[null,null,null,null,"o Requested flow rate: 68 L/min at between 50 to 100 bar"]
[null,null,null,null,"o Water pressure at inlet: 1 to 3 bar"]
[]
[null,null,null,"MOC: "]
[null,null,null,"-","Frame: Painted Steel"]
[null,null,null,"-","Pump head: 316L"]
[null,null,null,"-","Pistons: Ceramic"]
[null,null,null,"-","Seals: NBR"]
[]
[null,null,null,"Accessories:"]
[null,null,null,null,"o   One manometer in 316L"]
[null,null,null,null,"o   Pressure regulator in 316L"]
[null,null,null,null,"o   One anti-pulsating bottle"]
[]
[]
[null,null,null,"Coupling with pulley-belt guard."]
[]
[null,"Piping between High Pressure Pump & High Pressure Ramp, Electrical Cabinet EXCLUDED",null,null,null,null,null,null,null,null,null,null,null,null,null,null,null,null,null,null,null,null,null,null,null,null,null,"À conserver en rouge"]

{"sheet":"C&B WASH TANK & PUMP","index":76,"n_rows":47,"n_cols":13,"rows_kept":47,"cut":false,"hidden":false,"merged":[[179,17,180,24],[1,0,1,25],[56,0,58,25],[68,16,68,21],[70,0,70,25],[105,0,107,27],[27,0,27,25],[30,9,30,10],[31,9,31,10],[32,9,32,10],[33,3,33,8],[33,9,33,10],[36,9,36,10],[37,9,37,10],[349,17,350,24],[229,3,230,24],[236,5,238,24],[239,5,241,24],[245,3,246,24],[247,3,247,24],[248,3,249,24],[301,17,302,24],[320,3,321,24],[329,3,330,24],[339,17,340,24],[346,17,347,24],[434,5,434,24],[353,17,355,24],[359,17,360,24],[372,17,373,24],[374,17,375,24],[376,17,377,24],[381,17,382,24],[386,3,388,24],[389,3,389,24],[393,17,394,24],[416,3,417,24],[432,3,433,24],[518,17,519,24],[435,5,436,24],[438,5,439,24],[440,5,441,24],[459,3,460,24],[461,3,464,24],[469,3,473,24],[476,17,477,24],[479,17,480,24],[484,3,485,24],[486,3,486,24],[487,3,488,24],[715,17,716,24],[559,3,561,24],[564,3,565,24],[569,17,570,24],[572,3,574,24],[609,3,610,24],[622,3,623,24],[640,17,641,24],[658,17,660,24],[683,17,684,24],[696,17,698,24],[700,17,701,24],[959,3,960,24],[752,3,753,24],[771,3,773,24],[793,17,794,24],[805,3,806,24],[857,5,858,11],[867,3,868,24],[872,3,873,24],[874,3,875,24],[879,3,880,24],[882,3,883,24],[940,17,941,24],[1050,0,1050,25],[961,3,962,24],[963,3,964,24],[965,3,966,24],[968,3,969,24],[991,3,992,24],[1017,3,1018,24],[1024,3,1026,24],[1027,3,1030,24],[1031,3,1032,24],[1036,0,1038,25],[1048,16,1048,21]]}
[]
["Appendix \"CLOTH AND BELT WASHING TANK\""]
[]
[]
[]
[null,null,"CLOTH & BELT WASHING TANK"]
[]
[null,null,"-","Qty:",null,null,null,1]
[null,null,"-","Type:",null,null,null,"Cylindrical"]
[null,null,"-","Capacity:",null,null,null,"2m3 (TBC)"]
[null,null,"-","Material: ",null,null,null,"SS 316L"]
[null,null,"-","Level detector:",null,null,null,"(Qty 1) Ultrasonic level transmitter"]
[]
[]
[]
[]
[]
[]
[]
[]
[]
[]
[]
[]
[]
[]
[]
["Appendix \"CAKE WASHING PUMP\" / OPTION"]
[]
[null,null,"-","Type:",null,null,null,null,null,"Centrifugal"]
[null,null,"-","Capacity",null,null,null,null,null,{"$f":"'Offre NEW'!F74","v":11},null,"m3/h"]
[null,null,"-","H.M.T.:",null,null,null,null,null,30,null,"m (Maximum)"]
[null,null,"-","N.P.S.H. (required):",null,null,null,null,null,2,null,"m"]
[null,null,"-","Maximum head loss acceptable:",null,null,null,null,null,8,null,"m "]
[null,null,"-","Material:",null,null,null,null,null,{"$f":"'Offre NEW'!D74","v":"CD4MCu"},null,null,"or equivalent"]
[null,null,"-","Shaft sealing:",null,null,null,null,null,"Standardized Simple Mechanical Seal"]
[null,null,"-","Absorbed power:",null,null,null,null,null,{"$f":"J38*0.9","v":4.95},null,"kW (*)"]
[null,null,"-","Installed power:",null,null,null,null,null,5.5,null,"kW (TBC)"]
[null,null,"-","Weight (with motor):",null,null,null,null,null,"to be given by supplier"]
[]
[null,null,null,"Accessories : "]
[null,null,"-","Base for pump and motor."]
[null,null,"-","standard electrical motor"]
[null,null,"-","Coupling and guard"]
[null,null,"-","Painting:  according to deviation list"]
[]
[null,null,"(*): to be confirmed depending on the final layout of the unit"]

{"sheet":"CAKE WASH TANK","index":77,"n_rows":41,"n_cols":10,"rows_kept":41,"cut":false,"hidden":true,"merged":[[177,17,178,24],[1,0,1,25],[54,0,56,25],[66,16,66,21],[68,0,68,25],[103,0,105,27],[347,17,348,24],[227,3,228,24],[234,5,236,24],[237,5,239,24],[243,3,244,24],[245,3,245,24],[246,3,247,24],[299,17,300,24],[318,3,319,24],[327,3,328,24],[337,17,338,24],[344,17,345,24],[432,5,432,24],[351,17,353,24],[357,17,358,24],[370,17,371,24],[372,17,373,24],[374,17,375,24],[379,17,380,24],[384,3,386,24],[387,3,387,24],[391,17,392,24],[414,3,415,24],[430,3,431,24],[516,17,517,24],[433,5,434,24],[436,5,437,24],[438,5,439,24],[457,3,458,24],[459,3,462,24],[467,3,471,24],[474,17,475,24],[477,17,478,24],[482,3,483,24],[484,3,484,24],[485,3,486,24],[713,17,714,24],[557,3,559,24],[562,3,563,24],[567,17,568,24],[570,3,572,24],[607,3,608,24],[620,3,621,24],[638,17,639,24],[656,17,658,24],[681,17,682,24],[694,17,696,24],[698,17,699,24],[957,3,958,24],[750,3,751,24],[769,3,771,24],[791,17,792,24],[803,3,804,24],[855,5,856,11],[865,3,866,24],[870,3,871,24],[872,3,873,24],[877,3,878,24],[880,3,881,24],[938,17,939,24],[1048,0,1048,25],[959,3,960,24],[961,3,962,24],[963,3,964,24],[966,3,967,24],[989,3,990,24],[1015,3,1016,24],[1022,3,1024,24],[1025,3,1028,24],[1029,3,1030,24],[1034,0,1036,25],[1046,16,1046,21]]}
[]
["Appendix \"CAKE WASHING TANK\""]
[]
[null,null,"-","Qty:",null,null,null,null,"1 per filter"]
[null,null,"-","Type:",null,null,null,null,"conical"]
[null,null,"-","Capacity:",null,null,null,null,"1m3 (TBC)"]
[null,null,"-","Diameter:",null,null,null,null,"1000 mm (TBC)"]
[null,null,"-","Height:",null,null,null,null,"Later"]
[null,null,"-","Material: ",null,null,null,null,"Polypropylene high -density"]
[null,null,"-","Level detector:",null,null,null,null,"(Qty 1) Ultrasonic level transmitter"]
[]
[]
[]
[]
[]
[]
[]
[]
[]
[]
[]
[]
[]
[]
[]
[]
[]
[]
[]
[]
[]
[]
[]
[]
[]
[]
[]
[]
[]
[]
[null,null,null,null,null,null,null,null,null," "]

{"sheet":"Cake pressure roller","index":78,"n_rows":186,"n_cols":18,"rows_kept":186,"cut":false,"hidden":false,"merged":[[172,17,173,24],[1,0,1,25],[49,0,51,25],[61,16,61,21],[63,0,63,25],[98,0,100,27],[21,17,21,24],[342,17,343,24],[222,3,223,24],[229,5,231,24],[232,5,234,24],[238,3,239,24],[240,3,240,24],[241,3,242,24],[294,17,295,24],[313,3,314,24],[322,3,323,24],[332,17,333,24],[339,17,340,24],[427,5,427,24],[346,17,348,24],[352,17,353,24],[365,17,366,24],[367,17,368,24],[369,17,370,24],[374,17,375,24],[379,3,381,24],[382,3,382,24],[386,17,387,24],[409,3,410,24],[425,3,426,24],[511,17,512,24],[428,5,429,24],[431,5,432,24],[433,5,434,24],[452,3,453,24],[454,3,457,24],[462,3,466,24],[469,17,470,24],[472,17,473,24],[477,3,478,24],[479,3,479,24],[480,3,481,24],[708,17,709,24],[552,3,554,24],[557,3,558,24],[562,17,563,24],[565,3,567,24],[602,3,603,24],[615,3,616,24],[633,17,634,24],[651,17,653,24],[676,17,677,24],[689,17,691,24],[693,17,694,24],[952,3,953,24],[745,3,746,24],[764,3,766,24],[786,17,787,24],[798,3,799,24],[850,5,851,11],[860,3,861,24],[865,3,866,24],[867,3,868,24],[872,3,873,24],[875,3,876,24],[933,17,934,24],[1043,0,1043,25],[954,3,955,24],[956,3,957,24],[958,3,959,24],[961,3,962,24],[984,3,985,24],[1010,3,1011,24],[1017,3,1019,24],[1020,3,1023,24],[1024,3,1025,24],[1029,0,1031,25],[1041,16,1041,21]]}
[]
["Appendix \"CAKE PRESSURE ROLLER\""]
[]
[]
[]
[]
[]
[]
[]
[]
[]
[]
[]
[]
[]
[]
[]
[]
[]
[null,null,"Cake Pressure roller system includes :"]
[]
[null,null,"-","Pressure roller",null,null,null,null,null,null,null,null,null,null,null,null,null,"U45N"]
[null,null,"-","Motor and drive ",null,null,null,null,null,null,null,null,null,null,null,null,null,"3 kW (TBC) "]
[null,null,"-","Support frame",null,null,null,null,null,null,null,null,null,null,null,null,null,"316L"]
[null,null,"-","Pneumatic box",null,null,null,null,null,null,null,null,null,null,null,null,null,{"$f":"Calculations!K44&\" mm\"","v":"500 mm"}]
[]
[]
[]
[]
[]
[]
[]
[]
[]
[]
[]
[]
[]
[]
[]
[]
[]
[]
[]
[]
[]
[]
[]
[]
[]
[]
[]
[]
[]
[]
[]
[]
[]
[]
[]
[]
[]
[]
[]
[]
[]
[]
[]
[]
[]
[]
[]
[]
[]
[]
[]
[]
[]
[]
[]
[]
[]
[]
[]
[]
[]
[]
[]
[]
[]
[]
[]
[]
[]
[]
[]
[]
[]
[]
[]
[]
[]
[]
[]
[]
[]
[]
[]
[]
[]
[]
[]
[]
[]
[]
[]
[]
[]
[]
[]
[]
[]
[]
[]
[]
[]
[]
[]
[]
[]
[]
[]
[]
[]
[]
[]
[]
[]
[]
[]
[]
[]
[]
[]
[]
[]
[]
[]
[]
[]
[]
[]
[]
[]
[]
[]
[]
[]
[]
[]
[]
[]
[]
[]
[]
[]
[]
[]
[]
[]
[]
[]
[]
[]
[]
[]
[]
[]
[]
[]
[]
[]
[]
[]
[]
[null,null,"Energy consumption : cake mositure a key parameter\nWe understand that after the filter, the cake is dried using a rotary kiln. This means that cake moisture is a key parameter in your filtration process. We suggested as an option to add our cake pressure system that will help reduce the water content by pressing it out of the cake. The pressure roller system will mechanically apply a 3 bar pressure on the cake in the drying zone."]

{"sheet":"Cloth acid wash","index":79,"n_rows":186,"n_cols":5,"rows_kept":186,"cut":false,"hidden":true,"merged":[[172,17,173,24],[1,0,1,25],[49,0,51,25],[61,16,61,21],[63,0,63,25],[98,0,100,27],[342,17,343,24],[222,3,223,24],[229,5,231,24],[232,5,234,24],[238,3,239,24],[240,3,240,24],[241,3,242,24],[294,17,295,24],[313,3,314,24],[322,3,323,24],[332,17,333,24],[339,17,340,24],[427,5,427,24],[346,17,348,24],[352,17,353,24],[365,17,366,24],[367,17,368,24],[369,17,370,24],[374,17,375,24],[379,3,381,24],[382,3,382,24],[386,17,387,24],[409,3,410,24],[425,3,426,24],[511,17,512,24],[428,5,429,24],[431,5,432,24],[433,5,434,24],[452,3,453,24],[454,3,457,24],[462,3,466,24],[469,17,470,24],[472,17,473,24],[477,3,478,24],[479,3,479,24],[480,3,481,24],[708,17,709,24],[552,3,554,24],[557,3,558,24],[562,17,563,24],[565,3,567,24],[602,3,603,24],[615,3,616,24],[633,17,634,24],[651,17,653,24],[676,17,677,24],[689,17,691,24],[693,17,694,24],[952,3,953,24],[745,3,746,24],[764,3,766,24],[786,17,787,24],[798,3,799,24],[850,5,851,11],[860,3,861,24],[865,3,866,24],[867,3,868,24],[872,3,873,24],[875,3,876,24],[933,17,934,24],[1043,0,1043,25],[954,3,955,24],[956,3,957,24],[958,3,959,24],[961,3,962,24],[984,3,985,24],[1010,3,1011,24],[1017,3,1019,24],[1020,3,1023,24],[1024,3,1025,24],[1029,0,1031,25],[1041,16,1041,21]]}
[]
["Appendix \"CLOTH ACID WASH\""]
[]
[]
[null,null,"Cloth acid wash system includes :"]
[]
[null,null,"•","One acid cloth washing tank device including:"]
[]
[null,null,null,"- ","Inlet, outlet and overflow connections"]
[null,null,null,"- ","One cover made of polypropylene"]
[null,null,null,"- ","One cloth roller made of carbon steel rubber lined"]
[]
[]
[null,null,"•","One cloth rinsing system consisting of:"]
[]
[null,null,null,"- ","One Wash pipe made of AISI 316L"]
[null,null,null,"- ","Set of Spray nozzles made of PVDF"]
[null,null,null,"- ","One Wash collection trough with outlet flange made of Polypropylene"]
[null,null,null,"- ","Anti-splash protection"]
[]
[]
[]
[]
[]
[]
[]
[]
[]
[]
[]
[]
[]
[]
[]
[]
[]
[]
[]
[]
[]
[]
[]
[]
[]
[]
[]
[]
[]
[]
[]
[]
[]
[]
[]
[]
[]
[]
[]
[]
[]
[]
[]
[]
[]
[]
[]
[]
[]
[]
[]
[]
[]
[]
[]
[]
[]
[]
[]
[]
[]
[]
[]
[]
[]
[]
[]
[]
[]
[]
[]
[]
[]
[]
[]
[]
[]
[]
[]
[]
[]
[]
[]
[]
[]
[]
[]
[]
[]
[]
[]
[]
[]
[]
[]
[]
[]
[]
[]
[]
[]
[]
[]
[]
[]
[]
[]
[]
[]
[]
[]
[]
[]
[]
[]
[]
[]
[]
[]
[]
[]
[]
[]
[]
[]
[]
[]
[]
[]
[]
[]
[]
[]
[]
[]
[]
[]
[]
[]
[]
[]
[]
[]
[]
[]
[]
[]
[]
[]
[]
[]
[]
[]
[]
[]
[]
[]
[]
[]
[]
[]
[]
[]
[]
[]
[]
[null,null,"Energy consumption : cake mositure a key parameter\nWe understand that after the filter, the cake is dried using a rotary kiln. This means that cake moisture is a key parameter in your filtration process. We suggested as an option to add our cake pressure system that will help reduce the water content by pressing it out of the cake. The pressure roller system will mechanically apply a 3 bar pressure on the cake in the drying zone."]

{"sheet":"LCP","index":80,"n_rows":43,"n_cols":18,"rows_kept":43,"cut":false,"hidden":true,"merged":[[176,17,177,24],[1,0,1,25],[3,3,6,24],[23,3,24,24],[26,3,29,24],[37,3,38,24],[39,3,41,24],[34,3,35,24],[42,3,42,24],[53,0,55,25],[65,16,65,21],[67,0,67,25],[102,0,104,27],[346,17,347,24],[226,3,227,24],[233,5,235,24],[236,5,238,24],[242,3,243,24],[244,3,244,24],[245,3,246,24],[298,17,299,24],[317,3,318,24],[326,3,327,24],[336,17,337,24],[343,17,344,24],[431,5,431,24],[350,17,352,24],[356,17,357,24],[369,17,370,24],[371,17,372,24],[373,17,374,24],[378,17,379,24],[383,3,385,24],[386,3,386,24],[390,17,391,24],[413,3,414,24],[429,3,430,24],[515,17,516,24],[432,5,433,24],[435,5,436,24],[437,5,438,24],[456,3,457,24],[458,3,461,24],[466,3,470,24],[473,17,474,24],[476,17,477,24],[481,3,482,24],[483,3,483,24],[484,3,485,24],[712,17,713,24],[556,3,558,24],[561,3,562,24],[566,17,567,24],[569,3,571,24],[606,3,607,24],[619,3,620,24],[637,17,638,24],[655,17,657,24],[680,17,681,24],[693,17,695,24],[697,17,698,24],[956,3,957,24],[749,3,750,24],[768,3,770,24],[790,17,791,24],[802,3,803,24],[854,5,855,11],[864,3,865,24],[869,3,870,24],[871,3,872,24],[876,3,877,24],[879,3,880,24],[937,17,938,24],[1047,0,1047,25],[958,3,959,24],[960,3,961,24],[962,3,963,24],[965,3,966,24],[988,3,989,24],[1014,3,1015,24],[1021,3,1023,24],[1024,3,1027,24],[1028,3,1029,24],[1033,0,1035,25],[1045,16,1045,21]]}
[]
["Appendix \"LOCAL CONTROL PANEL\""]
[]
[null,null,null,"The LCP allows to start, stop the belt drive motor and to adjust the belt speed close to the filtration unit. It will be glass fiber reinforced polyester enclosure IP 66 Nema 4X (wall mounting) and will be installed on site by the customer close to the belt filter on the gangway. The area classification is non-hazardous (NFPA 70 Nec articles 500 npt applicable).\n"]
[]
[]
[]
[]
[null,null,null,"FRONT DOOR PARTS"]
[null,null,"-","1 belt drive motor START push button"]
[null,null,"-","1 belt drive motor STOP push button"]
[null,null,"-","1 belt drive motor FASTER push button"]
[null,null,"-","1 belt drive motor SLOWER push button"]
[null,null,"-","1 SPDT of each free of voltage to the customer PLC/DCS inputs"]
[null,null,"-","1 belt filter SPEED indicator"]
[null,null,null,null,"•","Input signal:",null,null,null,null,null,null,null,null,null,null,null,"4  to 20mA DC from VFD"]
[null,null,null,null,"•","Voltage supply:",null,null,null,null,null,null,null,null,null,null,null,"110 Vac - 50 Hz"]
[null,null,"- ","1 Start horn"]
[null,null,"- ","1 LCP process tag number engraved legend plate"]
[]
[null,null,null,"INTERNAL PARTS"]
[null,null,"-","1 CLOTH CHANGE key operated handswitch selector"]
[]
[null,"NOTE: ",null,"Use of this switch is allowed only in maintenance mode and local mode and at fixed minimum belt drive speed. Use reserved only for authorized personnel."]
[]
[]
[null,null,"-","1 TERMINAL BLOCK SET allowing the LCP internal components wiring connections (by HASLER GROUP) of the hereabove signals and the external wiring connections (by the customer) between the LCP and the customer PLC/DCS inputs/outputs. The analog signals will be separated from the digital signals."]
[]
[]
[]
[null,null,"-","1 GROUNDING copper bar"]
[null,null,"-","1 INVERTER as described in the technical offer"]
[]
[null,null,null,"Internal wiring will be laid within PVC wiring ducts."]
[null,null,null,"Wiring and parts labelling will be in accordance with the electrical scheme identification numbers."]
[]
[null,null,null,"LIMIT OF SUPPLY"]
[null,null,null,"Security and functioning of the equipment controlled by the customer's PLC/DCS according to the logic diagrams supplied by HASLER GROUP. Software programming works by the customer."]
[]
[null,null,null,"All the control and instrumentation cables and conduits between the LCP and the external parts not wired in the HASLER GROUP's workshop will be supplied and installed on site by the customer."]
[]
[]
[null,null,null,"Cable glands fitting (or conduit fitting) for the customer cables supplied and installed on site."]

{"sheet":"LCP 3","index":81,"n_rows":231,"n_cols":19,"rows_kept":231,"cut":false,"hidden":true,"merged":[[40,3,42,24],[44,3,45,24],[47,3,48,24],[50,3,51,24],[53,3,54,24],[58,3,60,24],[1,0,1,24],[5,3,12,24],[16,3,17,24],[21,3,22,24],[25,3,26,24],[32,5,33,24],[99,5,100,24],[103,5,104,24],[105,5,106,24],[112,3,113,24],[118,3,119,24],[121,3,122,24],[65,3,66,24],[69,16,69,21],[70,3,76,24],[80,3,81,24],[84,3,85,24],[86,3,87,24],[154,3,155,24],[169,3,170,24],[174,3,175,24],[176,3,180,24],[181,3,182,24],[199,1,199,24],[126,3,130,24],[134,3,135,24],[136,3,137,24],[143,3,144,24],[150,3,151,24],[152,3,153,24],[202,1,202,5],[202,6,202,11],[202,12,202,17],[202,18,202,24],[203,1,203,5],[203,6,203,11],[203,12,203,17],[203,18,203,24],[200,1,200,5],[200,6,200,11],[200,12,200,17],[200,18,200,24],[201,1,201,5],[201,6,201,11],[201,12,201,17],[201,18,201,24],[206,1,206,5],[206,6,206,11],[206,12,206,17],[206,18,206,24],[207,1,207,5],[207,6,207,11],[207,12,207,17],[207,18,207,24],[204,1,204,5],[204,6,204,11],[204,12,204,17],[204,18,204,24],[205,1,205,5],[205,6,205,11],[205,12,205,17],[205,18,205,24],[210,1,210,5],[210,6,210,11],[210,12,210,17],[210,18,210,24],[211,1,211,5],[211,6,211,11],[211,12,211,17],[211,18,211,24],[208,1,208,5],[208,6,208,11],[208,12,208,17],[208,18,208,24],[209,1,209,5],[209,6,209,11],[209,12,209,17],[209,18,209,24],[215,1,215,5],[215,6,215,11],[215,12,215,17],[215,18,215,24],[216,1,216,5],[216,6,216,11],[216,12,216,17],[216,18,216,24],[212,1,212,5],[212,6,212,11],[212,12,212,17],[212,18,212,24],[213,1,213,24],[214,1,214,5],[214,6,214,11],[214,12,214,17],[214,18,214,24],[219,1,219,5],[219,6,219,11],[219,12,219,17],[219,18,219,24],[220,1,220,5],[220,6,220,11],[220,12,220,17],[220,18,220,24],[217,1,217,5],[217,6,217,11],[217,12,217,17],[217,18,217,24],[218,1,218,5],[218,6,218,11],[218,12,218,17],[218,18,218,24],[224,1,224,5],[224,6,224,11],[224,12,224,17],[224,18,224,24],[225,1,225,5],[225,6,225,11],[225,12,225,17],[225,18,225,24],[221,1,221,24],[222,1,222,5],[222,6,222,11],[222,12,222,17],[222,18,222,24],[223,1,223,5],[223,6,223,11],[223,12,223,17],[223,18,223,24],[226,1,226,5],[226,6,226,11],[226,12,226,17],[226,18,226,24],[228,1,228,24],[229,1,229,5],[229,6,229,11],[229,12,229,17],[229,18,229,24],[331,3,332,24],[341,17,342,24],[348,17,349,24],[351,17,352,24],[355,17,357,24],[361,17,362,24],[230,1,230,5],[230,6,230,11],[230,12,230,17],[230,18,230,24],[303,17,304,24],[322,3,323,24],[395,17,396,24],[418,3,419,24],[434,3,435,24],[436,5,436,24],[437,5,438,24],[440,5,441,24],[374,17,375,24],[376,17,377,24],[378,17,379,24],[383,17,384,24],[388,3,390,24],[391,3,391,24],[486,3,487,24],[488,3,488,24],[489,3,490,24],[520,17,521,24],[561,3,563,24],[566,3,567,24],[442,5,443,24],[461,3,462,24],[463,3,466,24],[471,3,475,24],[478,17,479,24],[481,17,482,24],[685,17,686,24],[698,17,700,24],[702,17,703,24],[717,17,718,24],[754,3,755,24],[773,3,775,24],[571,17,572,24],[574,3,576,24],[611,3,612,24],[624,3,625,24],[642,17,643,24],[660,17,662,24],[881,3,882,24],[884,3,885,24],[942,17,943,24],[961,3,962,24],[963,3,964,24],[965,3,966,24],[795,17,796,24],[807,3,808,24],[859,5,860,11],[869,3,870,24],[874,3,875,24],[876,3,877,24],[1033,3,1034,24],[1038,0,1040,25],[1050,16,1050,21],[1052,0,1052,25],[967,3,968,24],[970,3,971,24],[993,3,994,24],[1019,3,1020,24],[1026,3,1028,24],[1029,3,1032,24]]}
[]
["Appendix \"PLC CONTROL CABINET\""]
[]
[null,null,null,"PLC CONTROL CABINET"]
[]
[null,null,null,"The PLC Control Cabinet is used for control and monitoring the belt filter equipment’s and auxiliary equipments like vacuum pump, filtrate pumps, cloth and belt washing water recirculating pump…\nThe PLC Control Cabinet will be fixed vertical type. It will be painted steel enclosure IP55, RAL 7035 paint manufacturer RITTAL or similar, size 2200 mm high, 800 mm wide, 500 mm deep, and will be installed by the Customer, inside Customer’s Technical Room.\nThe area classification is non-hazardous.\n"]
[]
[]
[]
[]
[]
[]
[]
[]
[null,null,null,"The PLC Control Cabinet includes:"]
[]
[null,null,"-","1 section 2000 mm high x 800 mm wide x 500 mm deep, mounted on 200 mm channel base, with front door equipped with handle and lock and key."]
[]
[null,null,"-","1 main power isolator switch with external pad lockable handle on the cabinet front door."]
[null,null,"-","1 set of panel lighting 230Vac interlocked with door switches."]
[null,null,"-","1 set of cooling fan with thermostatic switch and inlet-outlet filter grid."]
[null,null,"-","1 transformer 400Vac / 230Vac with protection by circuit breakers for cabinet lighting and cooling fan."]
[]
[null,null,"-","1 transformer 400Vac / 230Vac with protection by circuit breakers for instrumentation circuit."]
[null,null,"-","1 power supply 400Vac / 24Vdc with protection by circuit breakers for control circuit."]
[null,null,"-","1 power supply 400Vac / 24Vdc with protection by circuit breakers for PLC insulation power supply, PLC Inputs/Outputs and Operator graphic interface."]
[]
[null,null,"-","1 safety relay for Emergency stop circuit."]
[null,null,"-","1 set of relays for control circuits and interlocks."]
[null,null,"-","1 PLC, model SCHNEIDER M340, composed of :"]
[null,null,null,null,"•","1 rack - 12 slots backplane"]
[null,null,null,null,"•","1 Power supply module 24Vdc"]
[null,null,null,null,"•","1 CPU (processor) equipped with 1 port modbus RTU RS485 and 1 port Ethernet modbus TCP/IP ports (for communication with Operator graphic interface)"]
[null,null,null,null,"•"]
[null,null,null,null,"•","1 module Modbus RTU RS485 for communication with customer’s DCS control system"]
[null,null,null,null,"•","3 discrete Input modules (16 x DI - 24 Vdc)"]
[null,null,null,null,"•","1 relay Output module (16 x D0 - 24 Vdc or 24 to 240 Vac)"]
[null,null,null,null,"•","3 isolated Analog Input modules (4 x AI - 4-20 mA isolated)"]
[null,null,null,null,"•","1 isolated Analog Output modules (4 x AO - 4-20mA isolated)"]
[]
[null,null,null,"The PLC allows to control and operate the vacuum belt filter, the vacuum pump motor, the filtrate pumps motors, the cloth and belt washing water recirculating pump motor and all the instruments."]
[]
[]
[]
[null,"NOTE: ",null,"All electrical starters for belt filter motor, vacuum pump filtrate pumps, washing pumps motors are supplied and installed in MCC room by the Customer."]
[]
[]
[null,null,null,"Control and command motors are exchanged between the PLC Control Cabinet and the Customer’s MCC room by hardwired free potential contacts."]
[]
[]
[null,null,null,"Motors status, process values, alarms status… are exchanged between the PLC Control cabinet and the Customer’s DCS by Modbus RTU RS485 communication only for display."]
[]
[]
[null,null,null,"The PLC will be programmed according to safeties and logic sequences defined by HASLER Group."]
[]
[]
[null,null,"-","1 pilot light ‘Power on” on the cabinet front door"]
[null,null,"-","1 “Emergency stop” push button on the cabinet front door"]
[null,null,"-","1 terminal block set allowing the internal components wiring connections with the external wiring connections between the motors, the field instruments, the Local control panel, the junction box and the customer’s DCS control system."]
[]
[]
[null,null,"-","Internal wiring will be laid with PVC wiring ducts"]
[null,null,"-","Wiring and parts labelling will be in accordance with electrical scheme identification numbers;"]
[null,null,"-","Each end of wire will be provided with vinyl sleeve type marker for numbering identification."]
[]
[null,null,null,"The PLC Control Cabinet will be completely assembled, wired, adjusted, programmed and tested at HASLER Group’s factory. "]
[]
[]
[null,null,null,"LOCAL CONTROL PANEL"]
[]
[null,null,null,"The Local Control Panel is used for control and monitoring the belt filter equipment’s and auxiliary equipment.\nIt will be polyester enclosure IP66 Nema 4X, manufacturer RITTAL or similar, size 600 mm high, 400 mm wide, 200 mm deep (wall mounting) and will be installed on site by customer close to the belt filter.\nThe area classification is non-hazardous.\n"]
[]
[]
[]
[]
[]
[]
[]
[null,null,null,"The Local Control Panel includes:"]
[]
[null,null,"-","1 panel 600 mm high x 400 mm wide x 200 mm deep with front door equipped with handle and lock and key."]
[]
[null,null,"-","1 “Emergency stop” push button on the LCP front door."]
[null,null,"-","1 “Reset” push button on the LCP front door, to reset “Emergency stop” safety relay."]
[null,null,"-","1 Operator graphic interface, model SCHNEIDER MAGELIS 10 POUCES or similar, with Colour Screen and Touch screen, located on the LCP front door."]
[]
[null,null,"-","All texts on Operator graphic interface will be displayed in: English selection or Chinese selection."]
[]
[]
[null,null,null,"This operator interface allows to:"]
[]
[null,null,null,null,"•","control the start-up and the shutdown sequences of equipment"]
[null,null,null,null,"•","control and monitor the Start/Stop of the belt filter drive"]
[null,null,null,null,"•","adjust and monitor the Speed of the belt filter drive"]
[null,null,null,null,"•","control and monitor the Start/Stop of the cake pressure roller"]
[null,null,null,null,"•","adjust and monitor the Speed of the cake pressure roller"]
[null,null,null,null,"•","control and monitor the Start/Stop of the vacuum pump"]
[null,null,null,null,"•","control and monitor the Start/Stop of the filtrate pumps"]
[]
[null,null,null,null,"•","control and monitor the Start/Stop of the for cloth & belt washing water recirculating pump"]
[]
[null,null,null,null,"•","control and monitor the set points for cake wash flow"]
[null,null,null,null,"•","display the cake thickness and filtrate receivers pressure"]
[null,null,null,null,"•","display the filtrate receivers level and to set low and high level set-point for process interlocks"]
[]
[null,null,null,null,"•","display the cloth and belt washing water collecting tank level and to set low and high level set-point for process interlocks"]
[]
[null,null,null,null,"•","monitor the status of the field instruments"]
[null,null,null,null,"•","display the faults and alarms presents on the installation"]
[null,null,null,null,"•","select the Automatic mode, Manual mode, Cloth changing mode"]
[]
[null,null,"-","1 Horn for belt filter alarm start-up."]
[null,null,"-","1 Terminal block set allowing the internal components wiring connections with the Electrical Control Cabinet."]
[]
[null,null,"-","Internal wiring will be laid with PVC wiring ducts."]
[null,null,"-","Wiring and parts labelling will be in accordance with electrical scheme identification numbers."]
[null,null,"-","Each end of wire will be provided with vinyl sleeve type marker for numbering identification."]
[]
[null,null,null,"The Local control panel will be completely assembled, wired, adjusted, programmed and tested at HASLER Group’s factory. "]
[]
[]
[null,"NOTE: ",null,"This local control panel is located near the belt filter equipment, for control and monitoring the unit locally, by using Operator graphic interface."]
[]
[]
[null,null,null,"VACUUM BELT FILTER JUNCTION BOX"]
[]
[null,null,null,"The Vacuum Belt Filter Junction box is used to wire all instruments located on the belt filter.\nIt will be Polyester enclosure IP66 Nema 4X manufacturer RITTAL or similar, size 500 mm high, 500 mm wide, 300 mm deep and will be installed on the belt filter.\nThe area classification is non-hazardous."]
[]
[]
[]
[]
[]
[null,null,null,"The Vacuum Belt Filter Junction box includes:"]
[]
[null,null,"-","1 cabinet 500 mm high x 500 mm wide x 300mm deep with front door equipped with lock and key"]
[]
[null,null,"-","1 terminal block set allowing the internal components wiring connections with the external wiring connections between the belt filter instruments"]
[]
[null,null,"-","1 set of polyamide cable glands fitting"]
[null,null,"-","Internal wiring will be laid with PVC wiring ducts "]
[null,null,"-","Wiring and parts labelling will be in accordance with electrical scheme identification numbers"]
[null,null,"-","Each end of wire will be provided with vinyl sleeve type marker for numbering identification."]
[]
[null,null,null,"The Vacuum Belt Filter Junction box will be completely assembled, wired, adjusted, and tested at HASLER Group’s factory."]
[]
[]
[]
[]
[null,null,null,"INSTRUMENTATION CABLES, CONDUITS AND TAGS"]
[]
[null,null,null,"All the instrumentation cables and conduits between the Junction box located on the belt filter and the instruments located on the belt filter will be supplied by HASLER Group."]
[]
[null,null,null,"All the instrumentation cables labelling supplied by HASLER Group will be in accordance with electrical scheme identification numbers"]
[]
[null,null,null,"Fitting and wiring of these instrument cables will be done by the Customer under HASLER Group’s supervision."]
[]
[]
[null,null,null,"TECHNICAL DOCUMENTATION"]
[]
[null,null,null,"The Technical Documentation in English includes:"]
[]
[null,null,"-","The Electrical scheme."]
[null,null,"-","The PLC Control Cabinet equipment with part list"]
[null,null,"-","The Local Control Panel equipment with part list"]
[null,null,"-","The Vacuum Belt Filter Junction box equipment with part list"]
[null,null,"-","The Instrument list"]
[null,null,"-","The Instrument data sheets"]
[null,null,"-","The Functional analysis"]
[null,null,"-","The PLC and Operator Graphic Interface programs"]
[null,null,"-","The technical documentation of instruments and electrical components (PLC, Operator Graphic Interface, Emergency stop safety module,…)"]
[]
[]
[null,null,null,"LIMIT OF SUPPLY"]
[]
[null,null,"-","The power supply 400Vac, 3 phases 50Hz for Electrical Control Cabinet will be supplied by the customer."]
[]
[null,null,"-","All the power supply cable , motors cables, control cables, instrumentation cables, network cables and conduits between the Junction box located on the belt filter, the local control panel, the Electrical Control Cabinet, the motors, the field instruments (not located on the belt filter), the Customer’s DCS and MCC will be supplied and installed on site by the Customer."]
[]
[]
[]
[]
[null,null,"-","Cable glands fitting (or conduit fitting) for the Customer’s cables will be supplied and installed on site by the Customer."]
[]
[]
[]
[]
[]
[]
[]
[]
[]
[]
[]
[]
[]
[]
[]
[null,null,null,"LIST OF ELECTRICAL SUPPLIER"]
[]
[null,"ELECTRICAL CONTROL CABINET"]
[null,"DESIGNATION",null,null,null,null,"TYPE",null,null,null,null,null,"MANUFACTURER",null,null,null,null,null,"REMARKS"]
[null,"Enclosure",null,null,null,null,"TS8000 series",null,null,null,null,null,"Rittal",null,null,null,null,null,"painted steel enclosure IP55, RAL 7035"]
[null,"Main isolator switch",null,null,null,null,"Sirco series",null,null,null,null,null,"Socomec",null,null,null,null,null,"handle lockable on front door"]
[null,"Circuit breaker",null,null,null,null,"C60 series",null,null,null,null,null,"Schneider Electric"]
[null,"Safety module",null,null,null,null,"Preventa series",null,null,null,null,null,"Schneider Electric"]
[null,"Control voltage transformer",null,null,null,null,null,null,null,null,null,null,"Legrand"]
[null,"Relay, contactor",null,null,null,null,null,null,null,null,null,null,"Schneider Electric"]
[null,"Variable frequency drive",null,null,null,null,"Altivar ATV71 and ATV61 series",null,null,null,null,null,"Schneider Electric"]
[null,"Soft Electronic Starter",null,null,null,null,"Altistar ATS48",null,null,null,null,null,"Schneider Electric"]
[null,"Pushbuttons, hand switches, signalling pilot lights",null,null,null,null,null,null,null,null,null,null,"Schneider Electric",null,null,null,null,null,"IP66"]
[null,"PLC ",null,null,null,null,null,null,null,null,null,null,"Schneider Electric",null,null,null,null,null,"Processor: BMX P342020\nDigital input card: BMX DDI 1602\nRelay output card: BMX DRA 1605\nAnalog input card: BMX AMI 0410\nAnalog output card: BMX AMO 0410\nModbus RTU card"]
[null,"Terminal blocks",null,null,null,null,null,null,null,null,null,null,"ABB - Entrelec"]
[null,"Internal control wiring",null,null,null,null,"Isolated wires and ferrules",null,null,null,null,null,null,null,null,null,null,null,"Execution according to EN 60204"]
[null,"LOCAL CONTROL PANEL"]
[null,"DESIGNATION",null,null,null,null,"TYPE",null,null,null,null,null,"MANUFACTURER",null,null,null,null,null,"REMARKS"]
[null,"Enclosure",null,null,null,null,"KS series",null,null,null,null,null,"Rittal",null,null,null,null,null,"Polyester IP66 NEMA 4X"]
[null,"Pushbuttons, hand switches, signalling pilot lights",null,null,null,null,"XB5 series",null,null,null,null,null,"Schneider Electric",null,null,null,null,null,"IP66"]
[null,"Operator graphic interface",null,null,null,null,"Magelis 10 pouces",null,null,null,null,null,"Schneider Electric",null,null,null,null,null,"with Colour Screen and Touch screen"]
[null,"Horn",null,null,null,null,"T100 series",null,null,null,null,null,"AET",null,null,null,null,null,"IP66"]
[null,"Terminal blocks",null,null,null,null,null,null,null,null,null,null,"ABB - Entrelec"]
[null,"Internal control wiring",null,null,null,null,"Isolated wires and ferrules",null,null,null,null,null,null,null,null,null,null,null,"Execution according to EN 60204"]
[null,"JUNCTION BOX"]
[null,"DESIGNATION",null,null,null,null,"TYPE",null,null,null,null,null,"MANUFACTURER",null,null,null,null,null,"REMARKS"]
[null,"Enclosure",null,null,null,null,"KS series",null,null,null,null,null,"Rittal",null,null,null,null,null,"Polyester IP66 NEMA 4X"]
[null,"Terminal blocks",null,null,null,null,null,null,null,null,null,null,"ABB - Entrelec",null,null,null,null,null,"Terminal blocks"]
[null,"Cables glands",null,null,null,null,"Polyamide",null,null,null,null,null,null,null,null,null,null,null,"Iso M series"]
[null,"Internal control wiring",null,null,null,null,"Isolated wires and ferrules",null,null,null,null,null,null,null,null,null,null,null,"Execution according to EN 60204"]
[]
[null,"INSTRUMENTATION CABLES FOR VACUUM BELT FILTER"]
[null,"DESIGNATION",null,null,null,null,"TYPE",null,null,null,null,null,"MANUFACTURER",null,null,null,null,null,"REMARKS"]
[null,"Instrumentation cables",null,null,null,null,"JZ 500 HMH and JZ 500 HMH-C series",null,null,null,null,null,"Helukabel",null,null,null,null,null,"Flexible control cable, halogen free, extremely fire resistant, oil resistant, Cu-screened\n300/500V – 70°C"]

{"sheet":"Electrcial Control Cabinet","index":82,"n_rows":112,"n_cols":39,"rows_kept":112,"cut":false,"hidden":false,"merged":[[938,0,938,25],[849,3,850,24],[851,3,852,24],[853,3,854,24],[856,3,857,24],[879,3,880,24],[905,3,906,24],[912,3,914,24],[915,3,918,24],[919,3,920,24],[924,0,926,25],[936,16,936,21],[847,3,848,24],[640,3,641,24],[659,3,661,24],[681,17,682,24],[693,3,694,24],[745,5,746,11],[755,3,756,24],[760,3,761,24],[762,3,763,24],[767,3,768,24],[770,3,771,24],[828,17,829,24],[603,17,604,24],[447,3,449,24],[452,3,453,24],[457,17,458,24],[460,3,462,24],[497,3,498,24],[510,3,511,24],[528,17,529,24],[546,17,548,24],[571,17,572,24],[584,17,586,24],[588,17,589,24],[406,17,407,24],[323,5,324,24],[326,5,327,24],[328,5,329,24],[347,3,348,24],[349,3,352,24],[357,3,361,24],[364,17,365,24],[367,17,368,24],[372,3,373,24],[374,3,374,24],[375,3,376,24],[322,5,322,24],[241,17,243,24],[247,17,248,24],[260,17,261,24],[262,17,263,24],[264,17,265,24],[269,17,270,24],[274,3,276,24],[277,3,277,24],[281,17,282,24],[304,3,305,24],[320,3,321,24],[1,0,1,24],[237,17,238,24],[5,2,10,23],[12,2,48,23],[53,2,68,23],[73,2,78,23],[83,2,94,23],[99,2,105,23],[189,17,190,24],[208,3,209,24],[217,3,218,24],[227,17,228,24],[234,17,235,24]]}
[]
["Appendix \"Electrical parts\""]
[]
[null,null,"I - LOCAL CONTROL PANEL / OPTION"]
[]
[null,null,"The Local Control Panel is used for control and monitoring the belt filter equipment’s and auxiliary equipment.\nIt will be polyester enclosure IP66 Nema 4X, manufacturer RITTAL or similar, size 600 mm high, 600 mm wide, 200 mm deep (wall mounting) and will be installed on site by customer close to the belt filter.\nThe area classification is non-hazardous."]
[]
[]
[]
[]
[]
[]
[null,null,"The Local Control Panel includes:\n■ 1 panel 600 mm high x 600 mm wide x 200 mm deep with front door equipped with handle and lock and key.\n\nComponents located on the front door:\n■ 1 “Emergency stop” push button.\n■ 1 belt filter motor \"START\" push button.\n■ 1 belt filter motor \"STOP\" push button.\n■ 1 belt filter motor \"FASTER\" push button.\n■ 1 belt filter motor \"SLOWER\" push button.\n■ 1 \"BELT FILTER SPEED\" push button.\n\nComponents located inside the control panel:\n■  1 \"CLOTH CHANGE' key operated handswitch selector.\n■  1 Horn for belt filter \"ALARM START-UP\" located on the top of the control panel.\n■  1 Terminal block set allowing the control panel internal components wiring connections of the \nhereabove signals and the external wiring connections between the Local Control Panel and the \nCustomer’s PLC/DCS inputs/outputs.\n■  Analog input signal for numeric indicator: 4-20 mA from Customer’s PLC/DCS or Variable Frequency \nDrive.\n■  Voltage supply for numeric indicator: 230 Vac-/50HZ or 24 Vdc supplied by the Customer.\n\n■  Internal wiring will be laid with PVC wiring ducts.\n■  Wiring and parts labelling will be in accordance with electrical scheme identification numbers.\n■  Each end of wire will be provided with vinyl sleeve type marker for numbering identification.\n\nThe Local control panel will be completely assembled, wired, adjusted, programmed and tested at HASLER Group’s factory. \nNOTE: The use of ‘’CLOTH CHANGE’’ key operated handswitch selector is allowed only in maintenance mode and local mode, and at fixed minimum belt filter speed, and reserved only for authorized personnel."]
[]
[]
[]
[]
[]
[]
[]
[]
[]
[]
[]
[null,null,null,null,null,null,null,null,null,null,null,null,null,null,null,null,null,null,null,null,null,null,null,null,null,null,null,null,null,null,null,null,null,null,null,null,null,null,"Rule : updating according to the scope of supply and the calculated power (adding or deleting lines)"]
[]
[]
[]
[]
[]
[]
[]
[]
[]
[]
[]
[]
[]
[]
[]
[]
[]
[]
[]
[]
[]
[]
[]
[]
[]
[]
[null,null,"II - VACUUM BELT FILTER JUNCTION BOX"]
[]
[null,null,"The Vacuum Belt Filter Junction box is used to wire all instruments located on the belt filter.\nIt will be Polyester enclosure IP66 Nema 4X manufacturer RITTAL or similar, size 530 mm high, 430 mm wide, 200 mm deep and will be installed on the belt filter.\nThe area classification is non-hazardous.\nThe Vacuum Belt Filter Junction box includes:\n■ 1 cabinet 530 mm high x 430 mm wide x 200mm deep with front door equipped with lock and key\n■ 1 terminal block set allowing the internal components wiring connections with the external wiring connections between the belt filter instruments\n■ 1 set of polyamide cable glands fitting\n■ Internal wiring will be laid with PVC wiring ducts \n■ Wiring and parts labelling will be in accordance with electrical scheme identification numbers\n■ Each end of wire will be provided with vinyl sleeve type marker for numbering identification.\n\nThe Vacuum Belt Filter Junction box will be completely assembled, wired, adjusted, and tested at HASLER Group’s factory."]
[]
[]
[]
[]
[]
[]
[]
[]
[]
[]
[]
[]
[]
[]
[]
[]
[]
[null,null,"III - INSTRUMENTATION CABLES, CONDUITS AND TAGS"]
[]
[null,null,"■ All the instrumentation cables and conduits between the Junction box located on the belt filter and the instruments located on the belt filter will be supplied by HASLER Group.\n■ All the instrumentation cables labelling supplied by HASLER Group will be in accordance with electrical scheme identification numbers.\n■ Fitting and wiring of these instrument cables will be done by the Customer under HASLER Group’s supervision."]
[]
[]
[]
[]
[]
[]
[]
[null,null,"IV - TECHNICAL DOCUMENTATION"]
[]
[null,null,"The Technical Documentation in English includes:\n\n■ The Electrical scheme.\n■ The Electrical Control Cabinet equipment with part list\n■ The Local Control Panel equipment with part list\n■ The Vacuum Belt Filter Junction box equipment with part list\n■ The Instrument list\n■ The Instrument data sheets\n■ The Functional analysis\n■ The PLC and Human Machine Interface programs\n■ The technical documentation of instruments and electrical components (PLC, Human Machine Interface, Variable Frequency Drive, …)"]
[]
[]
[]
[]
[]
[]
[]
[]
[]
[]
[]
[]
[]
[null,null,"V - LIMIT OF SUPPLY"]
[]
[null,null,"■ The power supply 400 Vac, 3 phases 50Hz for Electrical Control Cabinet will be supplied by the customer.\n■ All the power supply cable, motors cables, control cables, instrumentation cables, network cables and conduits between the Junction box located on the belt filter, the local control panel, the Electrical Control Cabinet, the motors, the field instruments (not located on the belt filter), the Customer’s DCS and MCC will be supplied and installed on site by the Customer.\n■ Cable glands fitting (or conduit fitting) for the Customer’s cables will be supplied and installed on site by the Customer.",null,null,null,null,null,null,null,null,null,null,null,null,null,null,null,null,null,null,null,null,null,null,null,null,null,null,null,null,null,null,null,null,null,null,null,"Rule : update the tension according to the project (400V as standard)"]
[]
[]
[]
[]
[]
[]
[]
[]
[]
[]
[]
[null,null,"VI - LIST OF ELECTRICAL SUPPLIER"]

{"sheet":"HYDROCYCLONE","index":83,"n_rows":44,"n_cols":18,"rows_kept":44,"cut":false,"hidden":false,"merged":[[1,0,1,25],[4,17,4,19],[17,17,20,18],[18,11,18,13],[23,18,27,19],[24,7,24,9],[26,15,30,16],[28,7,28,8],[244,3,244,24],[38,1,41,23],[43,3,46,23],[53,0,55,25],[65,16,65,21],[67,0,67,25],[102,0,104,27],[176,17,177,24],[226,3,227,24],[233,5,235,24],[236,5,238,24],[242,3,243,24],[373,17,374,24],[245,3,246,24],[298,17,299,24],[317,3,318,24],[326,3,327,24],[336,17,337,24],[343,17,344,24],[346,17,347,24],[350,17,352,24],[356,17,357,24],[369,17,370,24],[371,17,372,24],[458,3,461,24],[378,17,379,24],[383,3,385,24],[386,3,386,24],[390,17,391,24],[413,3,414,24],[429,3,430,24],[431,5,431,24],[432,5,433,24],[435,5,436,24],[437,5,438,24],[456,3,457,24],[606,3,607,24],[466,3,470,24],[473,17,474,24],[476,17,477,24],[481,3,482,24],[483,3,483,24],[484,3,485,24],[515,17,516,24],[556,3,558,24],[561,3,562,24],[566,17,567,24],[569,3,571,24],[854,5,855,11],[619,3,620,24],[637,17,638,24],[655,17,657,24],[680,17,681,24],[693,17,695,24],[697,17,698,24],[712,17,713,24],[749,3,750,24],[768,3,770,24],[790,17,791,24],[802,3,803,24],[988,3,989,24],[864,3,865,24],[869,3,870,24],[871,3,872,24],[876,3,877,24],[879,3,880,24],[937,17,938,24],[956,3,957,24],[958,3,959,24],[960,3,961,24],[962,3,963,24],[965,3,966,24],[1047,0,1047,25],[1014,3,1015,24],[1021,3,1023,24],[1024,3,1027,24],[1028,3,1029,24],[1033,0,1035,25],[1045,16,1045,21]]}
[]
["Appendix \"HYDROCYCLONE\""]
[]
[null,null,"-","Material:",null,null,null,null,null,null,null,null,null,null,null,null,null,{"$f":"Calculations!$C$46 & \"*\"","v":"316L*"}]
[null,null,"-","Diameter:",null,null,null,null,null,null,null,null,null,null,null,null,null,"350 mm"]
[]
[null,null,null,"Equipment"]
[]
[]
[]
[]
[]
[]
[]
[]
[]
[]
[]
[]
[]
[]
[]
[]
[]
[]
[]
[]
[]
[]
[]
[]
[]
[]
[]
[]
[]
[]
[]
[]
[]
[]
[]
[]
[null,null,"*","As requested by customer. As a reminder, material choice is customer's responsibility."]

{"sheet":"ERECTION","index":84,"n_rows":48,"n_cols":18,"rows_kept":48,"cut":false,"hidden":false,"merged":[[243,3,244,24],[1,0,1,25],[5,3,6,24],[16,3,17,24],[54,0,56,25],[66,16,66,21],[68,0,68,25],[103,0,105,27],[177,17,178,24],[227,3,228,24],[234,5,236,24],[237,5,239,24],[7,3,7,24],[45,3,45,24],[372,17,373,24],[245,3,245,24],[246,3,247,24],[299,17,300,24],[318,3,319,24],[327,3,328,24],[337,17,338,24],[344,17,345,24],[347,17,348,24],[351,17,353,24],[357,17,358,24],[370,17,371,24],[457,3,458,24],[374,17,375,24],[379,17,380,24],[384,3,386,24],[387,3,387,24],[391,17,392,24],[414,3,415,24],[430,3,431,24],[432,5,432,24],[433,5,434,24],[436,5,437,24],[438,5,439,24],[570,3,572,24],[459,3,462,24],[467,3,471,24],[474,17,475,24],[477,17,478,24],[482,3,483,24],[484,3,484,24],[485,3,486,24],[516,17,517,24],[557,3,559,24],[562,3,563,24],[567,17,568,24],[803,3,804,24],[607,3,608,24],[620,3,621,24],[638,17,639,24],[656,17,658,24],[681,17,682,24],[694,17,696,24],[698,17,699,24],[713,17,714,24],[750,3,751,24],[769,3,771,24],[791,17,792,24],[966,3,967,24],[855,5,856,11],[865,3,866,24],[870,3,871,24],[872,3,873,24],[877,3,878,24],[880,3,881,24],[938,17,939,24],[957,3,958,24],[959,3,960,24],[961,3,962,24],[963,3,964,24],[1046,16,1046,21],[1048,0,1048,25],[989,3,990,24],[1015,3,1016,24],[1022,3,1024,24],[1025,3,1028,24],[1029,3,1030,24],[1034,0,1036,25]]}
[]
["Appendix \"ERECTION ON SITE\""]
[]
[null,null,null,"ERECTION ON SITE"]
[null,null,null,"According to HASLER Group's enclosed daily contractual fees."]
[null,null,null,"Depending of the means, manpower supplied by the client and the site conditions. The here after estimations should be discussed."]
[]
[null,null,null,"For erection, customer will provide all specified equipments for lifting, handling, power."]
[]
[null,null,null,null,null,null,null,null,null,"HASLER Group",null,null,null,null,null,null,null,"Customer"]
[null,null,null,null,null,null,null,null,null,"manpower",null,null,null,null,null,null,null,"manpower per filter"]
[null,null,null,"Erection",null,null,null,null,null,"One supervisor",null,null,null,null,null,null,null,"See planning"]
[]
[null,null,null,{"$f":"\"Estimated duration: \"&'Offre NEW'!M5&IF('Offre NEW'!M5=1,\" week \",\" weeks \")&\"- to be confirmed during KOM\"","v":"Estimated duration: 8 weeks - to be confirmed during KOM"}]
[]
[null,null,null,"Special tools for erection supplied by HASLER Group"]
[null,null,"-","Special tools and accessories (which are specific to HASLER Group) for cold bonding of the curbs. These equipments are imported temporary by HASLER Group. \n"]
[]
[]
[null,null,"-","Specific supports according HASLER Group drawing"]
[null,"NOTE: ",null,{"$f":"\"Transportation cost for these equipments will be charged toCustomer.\"","v":"Transportation cost for these equipments will be charged toCustomer."}]
[]
[null,null,null,{"$f":"\"Tools for erection to be provided by customer\"","v":"Tools for erection to be provided by customer"}]
[null,null,"-",{"$f":"\"Means of lifting, cranes, pulley block.... Heavy  piece = \"&ROUNDUP(Calculations!R63,-3)&\" kg.\"","v":"Means of lifting, cranes, pulley block.... Heavy  piece = 7000 kg."}]
[null,null,"-","One (1) theodolite."]
[null,null,"-","One (1) welding generator (TIG)."]
[null,null,"-","Standard tools and safety accessories necessary for each filter."]
[null,null,"-","Two (2) Wooden floor length 10 meters for each filter."]
[null,null,"-","Two (2) Textil slings length 2 meters, 2 tons."]
[null,null,"-","Two (2) Textil slings length 1 meters, 2 tons."]
[null,null,"-","Two (2) Textil slings length 2 meters, 4 tons."]
[null,null,"-","Two (2) Textil slings length 4 meters, 6 tons."]
[null,null,"-","Three (3) Textil slings length 6 meters, 6 tons."]
[null,null,"-","Four (4) shackles 10 tons."]
[null,null,"-","Two (2) Pulley blocks 1 ton."]
[null,null,"-","One (1) lifting beam 10 ton according the HASLER Group specifications."]
[null,null,"-","Two (2) ladders 3 meters."]
[null,null,"-","One (1) jacks 6 tons."]
[null,null,"-","Two (2) winch cables 5 tons."]
[null,null,"-","Two (2) pneumatic machine bolts"]
[null,null,"-","One (1) dynamometrical spanner machine bolts"]
[]
[null,null,null,"Utilities for filter erection"]
[null,null,"-","Compressed air: 7 bar."]
[null,null,"-","Electricity: 240 V with electrical junction box."]
[null,null,"-","Power electricity with inverter at disposal 3 weeks after the beginning of filter erection."]
[null,null,"-","Storage for small equipments as screws, nuts..... near each filter."]
[null,null,"-","Lifting."]

{"sheet":"SPARE PARTS & MAINTENANCE","index":85,"n_rows":96,"n_cols":15,"rows_kept":96,"cut":false,"hidden":false,"merged":[[1,0,1,25],[9,4,9,8],[9,9,9,13],[9,14,9,18],[10,4,10,8],[10,9,10,13],[10,14,10,18],[13,4,13,8],[13,9,13,13],[13,14,13,18],[14,4,14,8],[14,9,14,13],[14,14,14,18],[11,4,11,8],[11,9,11,13],[11,14,11,18],[12,4,12,8],[12,9,12,13],[12,14,12,18],[20,4,20,8],[20,9,20,13],[20,14,20,18],[21,4,21,8],[21,9,21,13],[21,14,21,18],[18,4,18,8],[18,9,18,13],[18,14,18,18],[19,4,19,8],[19,9,19,13],[19,14,19,18],[24,4,24,8],[24,9,24,13],[24,14,24,18],[25,4,25,8],[25,9,25,13],[25,14,25,18],[22,4,22,8],[22,9,22,13],[22,14,22,18],[23,4,23,8],[23,9,23,13],[23,14,23,18],[50,3,51,23],[54,3,55,23],[56,3,57,23],[61,3,62,23],[63,3,66,23],[67,3,70,23],[26,4,26,8],[26,9,26,13],[26,14,26,18],[27,4,27,8],[27,9,27,13],[27,14,27,18],[95,3,95,23],[131,0,133,25],[143,16,143,21],[145,0,145,25],[180,0,182,27],[254,17,255,24],[73,3,75,23],[78,3,80,23],[83,3,83,23],[86,3,86,23],[89,3,90,23],[93,3,94,23],[376,17,377,24],[395,3,396,24],[404,3,405,24],[414,17,415,24],[421,17,422,24],[424,17,425,24],[304,3,305,24],[311,5,313,24],[314,5,316,24],[320,3,321,24],[322,3,322,24],[323,3,324,24],[461,3,463,24],[464,3,464,24],[468,17,469,24],[491,3,492,24],[507,3,508,24],[509,5,509,24],[428,17,430,24],[434,17,435,24],[447,17,448,24],[449,17,450,24],[451,17,452,24],[456,17,457,24],[551,17,552,24],[554,17,555,24],[559,3,560,24],[561,3,561,24],[562,3,563,24],[593,17,594,24],[510,5,511,24],[513,5,514,24],[515,5,516,24],[534,3,535,24],[536,3,539,24],[544,3,548,24],[715,17,716,24],[733,17,735,24],[758,17,759,24],[771,17,773,24],[775,17,776,24],[790,17,791,24],[634,3,636,24],[639,3,640,24],[644,17,645,24],[647,3,649,24],[684,3,685,24],[697,3,698,24],[947,3,948,24],[949,3,950,24],[954,3,955,24],[957,3,958,24],[1015,17,1016,24],[1034,3,1035,24],[827,3,828,24],[846,3,848,24],[868,17,869,24],[880,3,881,24],[932,5,933,11],[942,3,943,24],[1099,3,1101,24],[1102,3,1105,24],[1106,3,1107,24],[1111,0,1113,25],[1123,16,1123,21],[1125,0,1125,25],[1036,3,1037,24],[1038,3,1039,24],[1040,3,1041,24],[1043,3,1044,24],[1066,3,1067,24],[1092,3,1093,24]]}
[]
["Appendix SPARE PARTS - MAINTENANCE SCHEDULE "]
[]
[]
[]
[null,null,"We offer following spare parts:"]
[]
[null,null,null,"Commissioning spare parts"]
[]
[null,null,null,null,"Description",null,null,null,null,"Qty on filter ",null,null,null,null,"Recommended qty "]
[null,null,null,null,"Filter cloth",null,null,null,null,{"$f":"'PdR ENG'!D34","v":1},null,null,null,null,{"$f":"'PdR ENG'!E34","v":1}]
[null,null,null,null,"Table wear belt",null,null,null,null,{"$f":"'PdR ENG'!D38","v":10},null,null,null,null,{"$f":"'PdR ENG'!E38","v":2}]
[null,null,null,null,"Vacuum box wear belts",null,null,null,null,{"$f":"'PdR ENG'!D48","v":2},null,null,null,null,{"$f":"'PdR ENG'!E48","v":2}]
[null,null,null,null,"Spray nozzle",null,null,null,null,{"$f":"'PdR ENG'!D54","v":161},null,null,null,null,{"$f":"'PdR ENG'!E54","v":20}]
[]
[]
[null,null,"In option are offered 2 years recommended spare parts:"]
[]
[null,null,null,null,"Description",null,null,null,null,"Qty on filter ",null,null,null,null,"Recommended qty "]
[null,null,null,null,"Cloth tracking edge sensor",null,null,null,null,{"$f":"'PdR ENG'!D13","v":1},null,null,null,null,{"$f":"'PdR ENG'!G13","v":2}]
[null,null,null,null,"Filter cloth",null,null,null,null,{"$f":"'PdR ENG'!D34","v":1},null,null,null,null,{"$f":"'PdR ENG'!G34","v":3}]
[null,null,null,null,"Table wear belt",null,null,null,null,{"$f":"'PdR ENG'!D38","v":10},null,null,null,null,{"$f":"'PdR ENG'!G38","v":10}]
[null,null,null,null,"Set of V-Belt",null,null,null,null,{"$f":"'PdR ENG'!D45","v":1},null,null,null,null,{"$f":"'PdR ENG'!G45","v":1}]
[null,null,null,null,"Vacuum box sliding rules",null,null,null,null,{"$f":"'PdR ENG'!D47","v":1},null,null,null,null,{"$f":"'PdR ENG'!G47","v":1}]
[null,null,null,null,"Vacuum box wear belts",null,null,null,null,{"$f":"'PdR ENG'!D48","v":2},null,null,null,null,{"$f":"'PdR ENG'!H48","v":2}]
[null,null,null,null,"Rubber sleeve",null,null,null,null,{"$f":"'PdR ENG'!D51","v":28},null,null,null,null,{"$f":"'PdR ENG'!G48","v":4}]
[null,null,null,null,"Scraper",null,null,null,null,{"$f":"'PdR ENG'!D53","v":1},null,null,null,null,{"$f":"'PdR ENG'!G53","v":2}]
[null,null,null,null,"Spray nozzle",null,null,null,null,{"$f":"'PdR ENG'!D54","v":161},null,null,null,null,{"$f":"'PdR ENG'!G54","v":161}]
[]
[]
[]
[]
[]
[]
[]
[]
[]
[]
[]
[]
[]
[]
[]
[]
[]
[]
[]
[null,null,"Below an estimation schedule for maintenance operations"]
[]
[null,"FRAME"]
[null,null,null,"Once a week, in the case of pulp overflow, wash the framework completely, taking care not to splash the bearing blocks"]
[]
[]
[null,"BELT SUPPORT TABLE "]
[null,null,null,"Check the wear of the wear belts and the absence of cuts. If the wear belts are \ndamaged, replace them."]
[]
[null,null,null,"If necessary, retighten the wear belts with the clevis tensioner rods located at the ends of the longitudinal support rails"]
[]
[null,null,null,"Check the state of wear of the sliding strips and replace them if they are too worn"]
[]
[null,"CONVEYOR BELT"]
[null,null,null,"The definitive tension of the belt is obtained after a certain operating time, necessary to release internal manufacturing stress"]
[]
[null,null,null,"For at least a month, make sure that the belt turns correctly.\nIt is necessary to act on the screw of the tensioner slides of the tail pulley and on the lateral belt guiding rollers in order to tension and stabilize the lateral movement of the belt."]
[]
[]
[]
[null,null,null,"Regularly do the following:\ncheck that the belt is properly washed by the spray bars\ncheck the state of the curbs as they are quite fragile\nadjust the belt tension and correct position of the lateral guiding rollers"]
[]
[]
[]
[]
[null,"TAIL and HEAD PULLEY"]
[null,null,null,"Check that the bearing block lubrication is correct\nCoat the threaded rods on both sides of the drum with grease\nOnce a year, check the state of the rubber lining."]
[]
[]
[]
[null,"ROLLERS"]
[null,null,null,"Check that the rollers are horizontal and parallel to one another\nEvery day, check that the rollers do not clog\nCheck that the lubrification is correct"]
[]
[]
[]
[null,"DRIVING GROUP"]
[null,null,null,"Check that the oil level of the gear box is correct\n"]
[]
[null,"CLOTH AND BELT WASHING"]
[null,null,null,"Regularly ensure that the spray nozzles are not blocked and, if necessary, change them\n"]
[]
[null,"CAKE SCRAPER BLADE "]
[null,null,null,"Verify that all of the scraper blades are aligned and in contact with the filter cloth.\nEvery year, check the scraper’s fixing sets."]
[]
[]
[null,"UPPER ACCESSORIES : Feeder, dams, washing pipes"]
[null,null,null,"In the case of overflow and at each stop, thoroughly wash the internal and external feeder \nparts."]
[]
[null,null,null,"Check the wear of the rubber flaps"]

{"sheet":"START UP","index":86,"n_rows":28,"n_cols":6,"rows_kept":28,"cut":false,"hidden":false,"merged":[[179,17,180,24],[1,0,1,25],[56,0,58,25],[68,16,68,21],[70,0,70,25],[105,0,107,27],[7,3,7,23],[349,17,350,24],[229,3,230,24],[236,5,238,24],[239,5,241,24],[245,3,246,24],[247,3,247,24],[248,3,249,24],[301,17,302,24],[320,3,321,24],[329,3,330,24],[339,17,340,24],[346,17,347,24],[434,5,434,24],[353,17,355,24],[359,17,360,24],[372,17,373,24],[374,17,375,24],[376,17,377,24],[381,17,382,24],[386,3,388,24],[389,3,389,24],[393,17,394,24],[416,3,417,24],[432,3,433,24],[518,17,519,24],[435,5,436,24],[438,5,439,24],[440,5,441,24],[459,3,460,24],[461,3,464,24],[469,3,473,24],[476,17,477,24],[479,17,480,24],[484,3,485,24],[486,3,486,24],[487,3,488,24],[715,17,716,24],[559,3,561,24],[564,3,565,24],[569,17,570,24],[572,3,574,24],[609,3,610,24],[622,3,623,24],[640,17,641,24],[658,17,660,24],[683,17,684,24],[696,17,698,24],[700,17,701,24],[959,3,960,24],[752,3,753,24],[771,3,773,24],[793,17,794,24],[805,3,806,24],[857,5,858,11],[867,3,868,24],[872,3,873,24],[874,3,875,24],[879,3,880,24],[882,3,883,24],[940,17,941,24],[1050,0,1050,25],[961,3,962,24],[963,3,964,24],[965,3,966,24],[968,3,969,24],[991,3,992,24],[1017,3,1018,24],[1024,3,1026,24],[1027,3,1030,24],[1031,3,1032,24],[1036,0,1038,25],[1048,16,1048,21]]}
[]
["Appendix \"COMMISSIONING ON SITE\""]
[]
[null,null,null,{"$f":"\"Estimated duration: \"&'Offre NEW'!M6+'Offre NEW'!M7&\" weeks\"","v":"Estimated duration: 4 weeks"}]
[null,null,null,"Cold commissionning: 1 week"]
[null,null,null,"Hot commissionning: 3 weeks as requested by customer in his specification"]
[]
[null,null,null,"During the period provided for commissioning, our engineer with customer technicians will do:"]
[null,null,"-","Mechanical start-up."]
[null,null,"-","Check all components."]
[null,null,"-","Adjust technical parameters."]
[null,null,"-","Feed filter with slurry."]
[null,null,"-","Optimize technical parameters."]
[]
[null,null,null,"Training of customer technicians:"]
[null,null,"-","Theory of vacuum filtration, explanation and questions-and-answers."]
[null,null,"-","Description of the installation"]
[null,null,null,null,"•","General description of the main components."]
[null,null,null,null,"•","Filter."]
[null,null,null,null,"•","Receivers, vacuum pump, filtrate pumps…"]
[null,null,"-","Details of filter"]
[null,null,null,null,"•","Description of the main components and their function."]
[null,null,null,null,"•","Theoretical."]
[null,null,null,null,"•","Practice on site including demonstration."]
[null,null,"-","Start-up – Commissioning of the filter"]
[null,null,null,null,"•","Without product"]
[null,null,null,null,"•","With product"]
[null,null,"-","Comments and verification of people knowledge"]

{"sheet":"FAT","index":87,"n_rows":26,"n_cols":31,"rows_kept":26,"cut":false,"hidden":false,"merged":[[250,3,250,24],[1,0,1,25],[5,3,5,23],[59,0,61,25],[71,16,71,21],[73,0,73,25],[108,0,110,27],[182,17,183,24],[232,3,233,24],[239,5,241,24],[242,5,244,24],[248,3,249,24],[25,2,25,22],[379,17,380,24],[251,3,252,24],[304,17,305,24],[323,3,324,24],[332,3,333,24],[342,17,343,24],[349,17,350,24],[352,17,353,24],[356,17,358,24],[362,17,363,24],[375,17,376,24],[377,17,378,24],[464,3,467,24],[384,17,385,24],[389,3,391,24],[392,3,392,24],[396,17,397,24],[419,3,420,24],[435,3,436,24],[437,5,437,24],[438,5,439,24],[441,5,442,24],[443,5,444,24],[462,3,463,24],[612,3,613,24],[472,3,476,24],[479,17,480,24],[482,17,483,24],[487,3,488,24],[489,3,489,24],[490,3,491,24],[521,17,522,24],[562,3,564,24],[567,3,568,24],[572,17,573,24],[575,3,577,24],[860,5,861,11],[625,3,626,24],[643,17,644,24],[661,17,663,24],[686,17,687,24],[699,17,701,24],[703,17,704,24],[718,17,719,24],[755,3,756,24],[774,3,776,24],[796,17,797,24],[808,3,809,24],[994,3,995,24],[870,3,871,24],[875,3,876,24],[877,3,878,24],[882,3,883,24],[885,3,886,24],[943,17,944,24],[962,3,963,24],[964,3,965,24],[966,3,967,24],[968,3,969,24],[971,3,972,24],[1053,0,1053,25],[1020,3,1021,24],[1027,3,1029,24],[1030,3,1033,24],[1034,3,1035,24],[1039,0,1041,25],[1051,16,1051,21]]}
[]
["Appendix \"FACTORY ACCEPTANCE TEST (FAT)\""]
[]
[null,null,null,{"$f":"\"Estimated duration: 1 day in HASLER GROUP factory\"","v":"Estimated duration: 1 day in HASLER GROUP factory"}]
[]
[null,null,null,"Details of works covered by the FAT:"]
[null,null,"1.","Visual and dimensional inspection of the rubber belt"]
[null,null,"2.","Visual inspection of the belt filter's parts"]
[null,null,null,"-","Frame"]
[null,null,null,"-","Belt supporting irons"]
[null,null,null,"-","Vacuum box"]
[null,null,null,"-","Pulleys"]
[null,null,null,"-","Rollers"]
[null,null,null,"-","Slurry distributor parts",null,null,null,null,null,null,null,null,null,null,null,null,null,null,null,null,null,null,null,null,null,null,null,null,null,"Retirer les éléments hors du scope"]
[null,null,null,"-","Wash distributor parts"]
[null,null,null,"-","Cake discharge hopper"]
[null,null,null,"-","Splash protection"]
[null,null,null,"-","Wash collection trough"]
[null,null,null,"-","Washing manifold"]
[null,null,null,"-","Washing ramps"]
[null,null,null,"-","Pillow block bearing"]
[null,null,null,"-","Pneumatic cabinet"]
[null,null,null,"-","Electrical junction boxes"]
[null,null,null,"-","Instrumentation"]
[]
[null,null,"Note: Filter will NOT be mounted during FAT (as filter is delivered in spare parts)"]

{"sheet":"SAT","index":88,"n_rows":4,"n_cols":2,"rows_kept":4,"cut":false,"hidden":true,"merged":[[1,0,1,25],[59,0,61,25],[71,16,71,21],[73,0,73,25],[108,0,110,27],[349,17,350,24],[182,17,183,24],[232,3,233,24],[239,5,241,24],[242,5,244,24],[248,3,249,24],[250,3,250,24],[251,3,252,24],[304,17,305,24],[323,3,324,24],[332,3,333,24],[342,17,343,24],[435,3,436,24],[352,17,353,24],[356,17,358,24],[362,17,363,24],[375,17,376,24],[377,17,378,24],[379,17,380,24],[384,17,385,24],[389,3,391,24],[392,3,392,24],[396,17,397,24],[419,3,420,24],[490,3,491,24],[437,5,437,24],[438,5,439,24],[441,5,442,24],[443,5,444,24],[462,3,463,24],[464,3,467,24],[472,3,476,24],[479,17,480,24],[482,17,483,24],[487,3,488,24],[489,3,489,24],[703,17,704,24],[521,17,522,24],[562,3,564,24],[567,3,568,24],[572,17,573,24],[575,3,577,24],[612,3,613,24],[625,3,626,24],[643,17,644,24],[661,17,663,24],[686,17,687,24],[699,17,701,24],[877,3,878,24],[882,3,883,24],[885,3,886,24],[943,17,944,24],[718,17,719,24],[755,3,756,24],[774,3,776,24],[796,17,797,24],[808,3,809,24],[860,5,861,11],[1053,0,1053,25],[3,1,25,23],[1020,3,1021,24],[1027,3,1029,24],[1030,3,1033,24],[1034,3,1035,24],[1039,0,1041,25],[1051,16,1051,21],[962,3,963,24],[964,3,965,24],[966,3,967,24],[968,3,969,24],[971,3,972,24],[994,3,995,24],[870,3,871,24],[875,3,876,24]]}
[]
["Appendix \"SITE ACCEPTANCE TEST (SAT)\""]
[]
[null,"- Audit with the customer on customer's site / SAT (Estimated duration: 2 days) :\n\nThis procedure describes the check points that will be performed for the following equipment :\n\nMECHANICAL TEST OF BELT FILTERS\n   - Checking the belt movement\n   - Checking the belt supporting device\n   - Checking the cloth course (Cloth not installed)\n   - Checking the driving unit\n   - Checking the pneumatic working\n   - Checking the electrical connections\n   - Table flatness / Alignment of vacuum box and table\n   - Square of the filter / Leveling\n   - Other controls\n\nTEST PROCEDURE FOR LOCAL CONTROL PANELS AND JUNCTION BOXES\n   - Local control panel\n   - Junction boxes located on filter\n\nINSTRUMENTATION TEST\n\n\n\n\nNB : Before the equipment leaves our assembly site in Le Mêle-sur-Sarthe, a customer visit will be scheduled.\nThe purpose of this visit is to carry out a visual inspection, in the presence of the customer and the person in charge of this subject at HASLER, and to ensure that all components meet the initial requirements."]

{"sheet":"WATER QUALITY","index":89,"n_rows":69,"n_cols":17,"rows_kept":69,"cut":false,"hidden":false,"merged":[[6,1,6,15],[6,16,6,23],[7,1,7,15],[7,16,7,23],[8,1,8,15],[8,16,8,23],[1,0,1,25],[3,1,3,15],[3,16,3,23],[4,1,4,15],[4,16,4,23],[5,1,5,15],[5,16,5,23],[12,1,12,15],[12,16,12,23],[13,1,13,15],[13,16,13,23],[14,1,14,15],[14,16,14,23],[9,1,9,15],[9,16,9,23],[10,1,10,15],[10,16,10,23],[11,1,11,15],[11,16,11,23],[18,1,18,15],[18,16,18,23],[19,1,19,15],[19,16,19,23],[20,1,20,15],[20,16,20,23],[15,1,15,15],[15,16,15,23],[16,1,16,15],[16,16,16,23],[17,1,17,15],[17,16,17,23],[24,1,24,15],[24,16,24,23],[25,1,25,15],[25,16,25,23],[26,1,26,15],[26,16,26,23],[21,1,21,15],[21,16,21,23],[22,1,22,15],[22,16,22,23],[23,1,23,15],[23,16,23,23],[30,1,30,15],[30,16,30,23],[31,1,31,15],[31,16,31,23],[32,1,32,15],[32,16,32,23],[27,1,27,15],[27,16,27,23],[28,1,28,15],[28,16,28,23],[29,1,29,15],[29,16,29,23],[54,1,54,15],[54,16,54,23],[55,1,55,15],[55,16,55,23],[56,1,56,15],[56,16,56,23],[33,1,33,15],[33,16,33,23],[50,0,50,25],[52,1,52,15],[52,16,52,23],[53,1,53,15],[53,16,53,23],[60,1,60,15],[60,16,60,23],[61,1,61,15],[61,16,61,23],[62,1,62,15],[62,16,62,23],[57,1,57,15],[57,16,57,23],[58,1,58,15],[58,16,58,23],[59,1,59,15],[59,16,59,23],[66,1,66,15],[66,16,66,23],[67,1,67,15],[67,16,67,23],[68,1,68,15],[68,16,68,23],[63,1,63,15],[63,16,63,23],[64,1,64,15],[64,16,64,23],[65,1,65,15],[65,16,65,23],[244,3,244,24],[245,3,246,24],[298,17,299,24],[317,3,318,24],[326,3,327,24],[336,17,337,24],[102,0,104,27],[176,17,177,24],[226,3,227,24],[233,5,235,24],[236,5,238,24],[242,3,243,24],[373,17,374,24],[378,17,379,24],[383,3,385,24],[386,3,386,24],[390,17,391,24],[413,3,414,24],[343,17,344,24],[346,17,347,24],[350,17,352,24],[356,17,357,24],[369,17,370,24],[371,17,372,24],[458,3,461,24],[466,3,470,24],[473,17,474,24],[476,17,477,24],[481,3,482,24],[483,3,483,24],[429,3,430,24],[431,5,431,24],[432,5,433,24],[435,5,436,24],[437,5,438,24],[456,3,457,24],[606,3,607,24],[619,3,620,24],[637,17,638,24],[655,17,657,24],[680,17,681,24],[693,17,695,24],[484,3,485,24],[515,17,516,24],[556,3,558,24],[561,3,562,24],[566,17,567,24],[569,3,571,24],[854,5,855,11],[864,3,865,24],[869,3,870,24],[871,3,872,24],[876,3,877,24],[879,3,880,24],[697,17,698,24],[712,17,713,24],[749,3,750,24],[768,3,770,24],[790,17,791,24],[802,3,803,24],[1045,16,1045,21],[1047,0,1047,25],[988,3,989,24],[1014,3,1015,24],[1021,3,1023,24],[1024,3,1027,24],[1028,3,1029,24],[1033,0,1035,25],[937,17,938,24],[956,3,957,24],[958,3,959,24],[960,3,961,24],[962,3,963,24],[965,3,966,24]]}
[]
["Appendix \"Water Content quality - Vacuum Wear Belt and Table Wear Belt lubrication\""]
[]
[null,"Water Content quality - Vacuum Wear Belt \nand Table Wear Belt lubrication",null,null,null,null,null,null,null,null,null,null,null,null,null,null," Range"]
[null,"Floating particles mg/l",null,null,null,null,null,null,null,null,null,null,null,null,null,null,"<200"]
[null,"Temperature in °C",null,null,null,null,null,null,null,null,null,null,null,null,null,null,"<45"]
[null,"Conductivity , µS/cm",null,null,null,null,null,null,null,null,null,null,null,null,null,null,"1 - 1000"]
[null,"pH",null,null,null,null,null,null,null,null,null,null,null,null,null,null,"8,5 > > 6,5"]
[null,"water hardness in °dH",null,null,null,null,null,null,null,null,null,null,null,null,null,null,"5 - 15"]
[null,"carbonate hardness in °dH",null,null,null,null,null,null,null,null,null,null,null,null,null,null,"<15"]
[null,"Chloride (Cl-) mg/l",null,null,null,null,null,null,null,null,null,null,null,null,null,null,"<360"]
[null,"Sulphate (SO4 2-) mg/l",null,null,null,null,null,null,null,null,null,null,null,null,null,null,"<350"]
[null,"free carbonic acid mg/l",null,null,null,null,null,null,null,null,null,null,null,null,null,null,0]
[null,"Nitrate (NO3-) mg/l",null,null,null,null,null,null,null,null,null,null,null,null,null,null,"<50"]
[null,"Potassium permanganate usage mg/l",null,null,null,null,null,null,null,null,null,null,null,null,null,null,25]
[null,"ammonium NH4+ mg/l",null,null,null,null,null,null,null,null,null,null,null,null,null,null,"<5"]
[null,"Organics - Hydrocarbures",null,null,null,null,null,null,null,null,null,null,null,null,null,null,"Forbidden"]
[null,"Demineralized water",null,null,null,null,null,null,null,null,null,null,null,null,null,null,"Forbidden"]
[null,{"$f":"\"Belt support wear belt lubrication water flow in l/hr for \"&Calculations!K10&\" Filters\"","v":"Belt support wear belt lubrication water flow in l/hr for 90B30 Filters"},null,null,null,null,null,null,null,null,null,null,null,null,null,null,{"$f":"Calculations!Q40","v":360}]
[null,{"$f":"\"Vacuum box wear belt lubrication water flow in l/hr for \"&Calculations!K10&\" Filters\"","v":"Vacuum box wear belt lubrication water flow in l/hr for 90B30 Filters"},null,null,null,null,null,null,null,null,null,null,null,null,null,null,{"$f":"Calculations!E41","v":600}]
[null,"Pressure for Vacuum box and Table lubrication in bar",null,null,null,null,null,null,null,null,null,null,null,null,null,null,"1 (<4 mandatory)"]
[]
[]
[]
[]
[]
[]
[]
[]
[]
[]
[]
[]
[]
[]
[]
[]
[]
[]
[]
[]
[]
[]
[]
[]
[]
[]
[]
[]
[]
["Appendix \"Water Content quality - Cloth and Belt washing water\""]
[]
[null,"Water Content quality - Cloth and Belt washing water\nand Table Wear Belt lubrication",null,null,null,null,null,null,null,null,null,null,null,null,null,null," Range"]
[null,"Floating particles mg/l",null,null,null,null,null,null,null,null,null,null,null,null,null,null,"<200"]
[null,"Temperature in °C",null,null,null,null,null,null,null,null,null,null,null,null,null,null,"<45"]
[null,"Conductivity , µS/cm",null,null,null,null,null,null,null,null,null,null,null,null,null,null,"1 - 1000"]
[null,"pH",null,null,null,null,null,null,null,null,null,null,null,null,null,null,"8,5 > > 6,5"]
[null,"water hardness in °dH",null,null,null,null,null,null,null,null,null,null,null,null,null,null,"5 - 15"]
[null,"carbonate hardness in °dH",null,null,null,null,null,null,null,null,null,null,null,null,null,null,"<15"]
[null,"Chloride (Cl-) mg/l",null,null,null,null,null,null,null,null,null,null,null,null,null,null,"<360"]
[null,"Sulphate (SO4 2-) mg/l",null,null,null,null,null,null,null,null,null,null,null,null,null,null,"<350"]
[null,"free carbonic acid mg/l",null,null,null,null,null,null,null,null,null,null,null,null,null,null,0]
[null,"Nitrate (NO3-) mg/l",null,null,null,null,null,null,null,null,null,null,null,null,null,null,"<50"]
[null,"Potassium permanganate usage mg/l",null,null,null,null,null,null,null,null,null,null,null,null,null,null,25]
[null,"ammonium NH4+ mg/l",null,null,null,null,null,null,null,null,null,null,null,null,null,null,"<5"]
[null,"Organics - Hydrocarbures",null,null,null,null,null,null,null,null,null,null,null,null,null,null,"Forbidden"]
[null,"Demineralized water",null,null,null,null,null,null,null,null,null,null,null,null,null,null,"Forbidden"]
[null,{"$f":"\"Belt and Cloth washing water flow in m3/hr for \"&Calculations!K10&\" Filters\"","v":"Belt and Cloth washing water flow in m3/hr for 90B30 Filters"},null,null,null,null,null,null,null,null,null,null,null,null,null,null,{"$f":"Calculations!G41","v":10.92}]
[null,"Pressure for Cloth and Belt washing water in bar",null,null,null,null,null,null,null,null,null,null,null,null,null,null,"> 3"]

{"sheet":"PROCESS PERFORMANCE GUARANTEE","index":90,"n_rows":219,"n_cols":28,"rows_kept":219,"cut":false,"hidden":false,"merged":[[1,0,1,25],[4,1,6,23],[8,8,8,22],[9,2,14,7],[9,8,9,17],[9,18,9,22],[10,8,10,17],[10,18,10,22],[11,8,11,17],[11,18,11,22],[15,2,15,22],[16,2,17,7],[16,8,16,17],[16,18,16,22],[17,8,17,17],[17,18,17,22],[12,8,12,17],[12,18,12,22],[13,8,13,17],[13,18,13,22],[14,8,14,17],[14,18,14,22],[23,2,23,22],[24,2,27,7],[24,8,24,17],[24,18,24,22],[25,8,25,17],[25,18,25,22],[27,8,27,17],[27,18,27,22],[18,2,18,22],[19,2,22,7],[19,8,19,17],[19,18,19,22],[20,8,20,17],[20,18,20,22],[21,8,21,17],[21,18,21,22],[22,8,22,17],[22,18,22,22],[26,18,26,22],[26,8,26,17],[28,2,28,22],[29,2,33,7],[29,8,29,17],[29,18,29,22],[30,8,30,17],[30,18,30,22],[31,8,31,17],[31,18,31,22],[33,8,33,17],[33,18,33,22],[32,8,32,17],[32,18,32,22],[92,3,93,23],[95,4,103,23],[113,3,114,23],[116,4,122,23],[124,3,125,23],[130,3,131,23],[43,3,46,23],[48,3,50,23],[58,3,61,23],[63,3,67,23],[69,3,83,23],[218,4,226,23],[283,17,284,24],[302,3,303,24],[311,3,312,24],[321,17,322,24],[328,17,329,24],[138,3,142,23],[147,3,167,23],[174,3,185,23],[189,3,189,23],[196,4,204,23],[208,4,213,23],[363,17,364,24],[368,3,370,24],[371,3,371,24],[375,17,376,24],[398,3,399,24],[414,3,415,24],[331,17,332,24],[335,17,337,24],[341,17,342,24],[354,17,355,24],[356,17,357,24],[358,17,359,24],[451,3,455,24],[458,17,459,24],[461,17,462,24],[466,3,467,24],[468,3,468,24],[469,3,470,24],[416,5,416,24],[417,5,418,24],[420,5,421,24],[422,5,423,24],[441,3,442,24],[443,3,446,24],[787,3,788,24],[839,5,840,11],[604,3,605,24],[622,17,623,24],[640,17,642,24],[665,17,666,24],[678,17,680,24],[682,17,683,24],[500,17,501,24],[541,3,543,24],[546,3,547,24],[551,17,552,24],[554,3,556,24],[591,3,592,24],[35,1,37,23],[1032,0,1032,25],[999,3,1000,24],[1006,3,1008,24],[1009,3,1012,24],[1013,3,1014,24],[1018,0,1020,25],[1030,16,1030,21],[941,3,942,24],[943,3,944,24],[945,3,946,24],[947,3,948,24],[950,3,951,24],[973,3,974,24],[849,3,850,24],[854,3,855,24],[856,3,857,24],[861,3,862,24],[864,3,865,24],[922,17,923,24],[697,17,698,24],[734,3,735,24],[753,3,755,24],[775,17,776,24]]}
[]
["Appendix \"PROCESS PERFORMANCE GUARANTEE \""]
[]
[]
[null,"According to the technical specifications of the inquiry and the enclosed general flow-sheet (based on the nominal flow rates) and provided that main characteristics the slurry shall be as follows:"]
[]
[]
[]
[null,null,null,null,null,null,null,null,"Slurry - Soda Ash (HOU Process)"]
[null,null,"Slurry Characteristics\n\n(for performances guarantee)",null,null,null,null,null,"Production (m3/h)",null,null,null,null,null,null,null,null,null,410.4]
[null,null,null,null,null,null,null,null,"Density (T/m3)",null,null,null,null,null,null,null,null,null,1.214]
[null,null,null,null,null,null,null,null,"Solids Concentration (%w/w)",null,null,null,null,null,null,null,null,null,0.1404]
[null,null,null,null,null,null,null,null,"Production Dry Solids (T/h) - NAHCO3",null,null,null,null,null,null,null,null,null,69.95]
[null,null,null,null,null,null,null,null,"Temperature (°C)",null,null,null,null,null,null,null,null,null,40]
[null,null,null,null,null,null,null,null,"Dry Solid SG (T/m3)",null,null,null,null,null,null,null,null,null,"TBC"]
[]
[null,null,"Soda Ash Production from Belt filter",null,null,null,null,null,"Production Dry Solids (T/h) - Na2CO3",null,null,null,null,null,null,null,null,null,43.7]
[null,null,null,null,null,null,null,null,"Production Dry Solids (T/day) - Na2CO3",null,null,null,null,null,null,null,null,null,{"$f":"S17*24","v":1048.8000000000002}]
[]
[null,null,"Wash Water Characteristics\n\n(for performances guarantee)",null,null,null,null,null,"Nature of fluid",null,null,null,null,null,null,null,null,null,"Process water"]
[null,null,null,null,null,null,null,null,"Density (T/m3)",null,null,null,null,null,null,null,null,null,1]
[null,null,null,null,null,null,null,null,"Wash ratio (total) m3/h of water \nper Ton of dry solids (direct water + cloth & belt wash water)",null,null,null,null,null,null,null,null,null,0.6]
[null,null,null,null,null,null,null,null,"Type of cake washing",null,null,null,null,null,null,null,null,null,"2x Direct Wash (1 fomr cloth & belt washing) + 2x counter-current wash."]
[]
[null,null,"Customer Goals\n(client expectations & HASLER GROUP's usual targets for this market)",null,null,null,null,null,"Solid recovery ",null,null,null,null,null,null,null,null,null,"> 98 %"]
[null,null,null,null,null,null,null,null,"Final cake moisture",null,null,null,null,null,null,null,null,null,"< 16 %"]
[null,null,null,null,null,null,null,null,"Washing water guarantee value",null,null,null,null,null,null,null,null,null,"< 0,6 m3/T"]
[null,null,null,null,null,null,null,null,"Salinity of sodium bicarbonate ",null,null,null,null,null,null,null,null,null,"< 0,12 %"]
[]
[null,null,"HASLER GROUP Process Guarantees",null,null,null,null,null,"Equipment Selected",null,null,null,null,null,null,null,null,null,"90m²"]
[null,null,null,null,null,null,null,null,"Solid recovery ",null,null,null,null,null,null,null,null,null,"> 98 %",null,null,null,null,null,null,null,"phrase à intégrer selon la cas de figure."]
[null,null,null,null,null,null,null,null,"Final cake moisture",null,null,null,null,null,null,null,null,null,"< 16 %",null,null,null,null,null,null,null,"1) Filtre conçu à partir des tests Büchner effectués par HASLER"]
[null,null,null,null,null,null,null,null,"Washing water guarantee value",null,null,null,null,null,null,null,null,null,"< 0,6 m3/T"]
[null,null,null,null,null,null,null,null,"Salinity of sodium bicarbonate ",null,null,null,null,null,null,null,null,null,"< 0,12 %",null,null,null,null,null,null,null,null,"All the Process performances gurantees given by HASLER will be guaranted only if the slurry during hot commissionning corresponds to slurry characteristics indicated in the table above."]
[null,null,null,null,null,null,null,null,null,null,null,null,null,null,null,null,null,null,null,null,null,null,null,null,null,null,"2) Filtre conçu sans tests Büchner pour une slurry connu par Hasler (slurry correspondant à uen slurry traditionnelle : gypse sans impuretés, granulométrie conforme aux données de référence, etc…)"]
[null,"All the Process performances gurantees given by HASLER will be guaranted only if the slurry during hot commissionning corresponds to slurry characteristics indicated in the table above.",null,null,null,null,null,null,null,null,null,null,null,null,null,null,null,null,null,null,null,null,null,null,null,null,null,"All the Process performances gurantees given by HASLER will be validated during hot commissionning by Büchner tests made by HASLER and on condition that the slurry corresponds to slurry characteristics indicated in the table above."]
[null,null,null,null,null,null,null,null,null,null,null,null,null,null,null,null,null,null,null,null,null,null,null,null,null,null,"3) Filtre conçu sans tests Büchner pour un slurry inconnu par Hasler, mais avec des données communiquées par le client"]
[null,null,null,null,null,null,null,null,null,null,null,null,null,null,null,null,null,null,null,null,null,null,null,null,null,null,null,"All the Process performances gurantees will be defined during hot commissionning, according to Büchner tests made by HASLER."]
[null,null,null,null,null,null,null,null,null,null,null,null,null,null,null,null,null,null,null,null,null,null,null,null,null,null,"Si on a besoin d'étendre la garantie de perfroamcnes sur max 3 ans:"]
[]
[]
[null,null,"A.  GENERAL RULES"]
[]
[null,null,null,"The conditions of performance control are established in direct collaboration with the customer who must have:\n      - Operational production staff\n      - Available maintenance staff\n      - Available laboratory for analyses with technical means and technicians"]
[]
[]
[]
[]
[null,null,null,"For the filter commissioning, HASLER GROUP will supply a qualified engineer who will make the training of customer's staff and manage all operations. (HASLER GROUP is ready to discuss other alternatives)."]
[]
[]
[]
[null,null,"B.   PROCESS DATA"]
[]
[null,null,null,"As per the process specifications of the contract and the design criteria."]
[]
[null,null,"C.  PROCESS GUARANTEE"]
[]
[null,null,null,"As per the process specifications of the contract and the design criteria.\nThe process performance will be conducted during the commissioning of the filters. The procedure for acquiring the samples will be mutually agreed upon by both parties or according to:"]
[]
[]
[]
[]
[null,null,null,"Sampling:\nSampling will be started no sooner than one hour after continuous and satisfactory operation of the filter at nominal capacity. Nominal capacity will be defined as the tonnage listed in the Design criteria / process data section.\nSamples will be taken every two (2) hours."]
[]
[]
[]
[]
[]
[null,null,null,"Test work period:\nThe period of the performance test will be started after satisfactory mechanical operation of the filtration unit and after insuring that the production plant can feed the filter continuously at the nominal contractual throughput.\n\nThe period of the performance test will be one week, including production shutdown not caused by HASLER GROUP equipment.\n\nDuring a three-day period of continuous operation, supervised by our engineer, the customer's shifts will assume a continuous run of the plant. The production capacity, and quality of the product therein, all based on condition as described in the appendix - \"Process data\" will be controlled. \n\nA daily record will be kept."]
[]
[]
[]
[]
[]
[]
[]
[]
[]
[]
[]
[]
[]
[]
[]
[]
[]
[]
[null,null,"D.  MEASUREMENTS"]
[]
[null,null,null,"1.  THROUGHPUT (T solids / h)"]
[]
[null,null,null,"Independently of the classical means (1) (flowmeter-densimeter weighing), the throughput of solids could be controlled as follow:"]
[]
[]
[null,null,null,null,"a) Measure the cake thickness (T) in several parts on the filter (minimum 6 measurements and make the average).\nb) Cake width (W)\nc) Measure the speed of the belt (V)\nd) Determine the specific weight (D) of the filter cake (by Buchner funnel test) calculated in dry solid for a humid cake thickness. D = T/m3 for a dry solid at 0% cake moisture content.\ne) Calculation\nV (m/min) x W (m) x T (m) x D x 60 = T solids / h"]
[]
[]
[]
[]
[]
[]
[]
[]
[]
[]
[null,null,null,"2.  THROUGHPUT (slurry - mother liquors - cake wash water)"]
[]
[null,null,null,"All flows will be controlled after pumps by classical means. (1)"]
[]
[]
[null,null,null,"3. CAKE MOISTURE CONTENT"]
[]
[null,null,null,"On the full width of the filter a sample of cake will be taken after the cake discharge roller. This sample will be properly mixed and a part of it taken for analysis."]
[]
[]
[null,null,null,null,"Measurement\na) Weight approx. 100 g of wet cake (required precision 0,1 g)\nb) Put this sample into an oven heated at 60°C during 12 to 36 hours, the drying time depending to the cake thickness (2)\nc) Weigh the dried cake\nd) Calculation % Moisture = ((Wet cake - Dry cake) / Wet cake) x 100"]
[]
[]
[]
[]
[]
[]
[]
[null,null,null,"(1)  All control and measurement equipment if needed will be supplied by the customer.\n(2) The drying procedure shall be adapted to the specific client's procedure "]
[]
[]
[]
[null,null,null,"4.  WASH EFFICIENCY"]
[]
[null,null,null,"On the full width of the filter a sample of cake will be taken after the cake discharge roller and a sample of slurry at filter feed."]
[]
[]
[]
[]
[]
[null,null,null,"Measurement"]
[]
[null,null,null,"The analysis and the measurement of the water soluble material in the cake and the soluble material concentration in the slurry and filtrate will be done according to the client procedure mutually agreed.\nThe soluble material value will be expressed in g/l in the liquid and % weight in the cake."]
[]
[]
[]
[]
[]
[]
[null,null,"E.  MEASUREMENTS CONTROL AND PROCEDURE"]
[]
[null,null,null,"In case of discrepancies between the customer' process specifications and actual filter process performances, a confirmation filtration test shall be made according to the filter \"Leaf test procedure\".\n\nIf such a test shows that the guarantee above was not met, resulting from deficiencies due to HASLER GROUP , the parts will cooperate so that the reasons of such a failure is corrected, if possible without substantial expenditure by the customer. A second test will then be carried out.\n\nHASLER GROUP will support the expenditure of the engineers of HASLER GROUP for the period for the second test.  \t\nIf the guarantee is not met, resulting from deficiencies due to the customer, the guarantee nevertheless will be regarded as being accomplished.\n\nAt the end of first and second test run, if any, the parties hereto shall draw up and sign a statement on the performances obtained, showing all the data collected.\n\nIf a test run is not required by customer within (3) three months after start-up date the warranty shall be deemed satisfied and customer shall sign a statement accordingly."]
[]
[]
[]
[]
[]
[]
[]
[]
[]
[]
[]
[]
[]
[]
[]
[]
[]
[]
[]
[]
[]
[]
[null,null,"F. LEAF TEST PROCEDURE"]
[]
[null,null,null,"1.  FILTER LEAF TEST PROCEDURE"]
[]
[null,null,null,"The quantity of feed slurry should produce a cake of approximately the same thickness as that on the industrial filter. The procedure will be adjusted to reflect the quantity, volume and concentration, the washes and other conditions in the plant.\n\nThe pulp is poured in the lab test filter (1) (Buchner) and the vacuum is adjusted and applied. \t\nWhen the liquid disappears from the cake surface, the time is noted and called the form time.\nFew seconds of delay is allowed, then the wash water is added and the wash time is noted. After the liquid disappears from the cake surface, dry time starts, the time is noted to complete the filtration cycle."]
[]
[]
[]
[]
[]
[]
[]
[]
[]
[]
[]
[]
[]
[]
[null,null,null,"(1) Lab test filter: Buchner 3 pieces allowing setting a filtering cloth"]
[]
[]
[null,null,null,"2.  MEASUREMENTS"]
[]
[null,null,null,null,"a.  THROUGHPUT (T solids / h)"]
[]
[null,null,null,null,"The following is the laboratory procedure :\nThe cake is weighed and dried as per section 4.3. Solids are weighed and filter capacity is :\n\nMetric tons Cake / m2 hour  = (Scale factor 0,9) x Dry Wt. Cake in gr x 3600  \t\t\t\t\t\t\t\n                 (Lab test filter surface in m2) (total cycle time in sec)"]
[]
[]
[]
[]
[]
[]
[]
[]
[]
[null,null,null,null,"b.  CAKE MOISTURE CONTENT"]
[]
[null,null,null,null,"According to the procedure section 4.3 of the appendix \"Process Performance Guarantee\". The difference between industrial filter and test filter values should not be more than 0,5% of the Buchner test moisture.\n\n\t(Moisture content in the filter cake = moisture content in the Buchner cake + 0,5%)."]
[]
[]
[]
[]
[]
[]
[]
[null,null,null,null,"c.  WASH EFFICIENCY\t"]
[]
[null,null,null,null,"Customer laboratory will analyze the water soluble material content in the sample from the cake discharge (E1) and in the sample from the feed of the belt filter which will be filtered and washed in the laboratory (E2), according to a procedure to be mutually agreed. The values E1 & E2 will be compared. The value of the industrial filter will not be inferior of 10% of the Buchner test.\n\n\t(Industrial filter material soluble value = Buchner material soluble value x 1.10)"]

{"sheet":"EN TETE-FR (F)","index":91,"n_rows":41,"n_cols":10,"rows_kept":41,"cut":false,"hidden":true,"merged":[[40,7,40,9]]}
[]
[]
[]
[]
[]
[]
[]
[]
[]
[]
[]
[]
[]
[]
[]
[]
[]
[]
[]
[]
[]
[]
[]
[]
[]
[]
[]
[]
[]
[]
[]
[]
[]
[]
[null,null,null,null,null,null,null,null,null,"FILTRE A BANDE SOUS VIDE HORIZONTAL"]
[null,null,null,null,null,null,null,null,null,{"$f":"\"OFFRE TECHNIQUE N°\"&Calculations!C3&\" - \"&Calculations!H3","v":"OFFRE TECHNIQUE N°760895 - rev2"}]
[null,null,null,null,null,null,null,null,null,{"$f":"\"PROJET: \"&Calculations!C4","v":"PROJET: Soda ash filter"}]
[null,null,null,null,null,null,null,null,null,{"$f":"\"CLIENT REFERENCE: \"&Calculations!C4","v":"CLIENT REFERENCE: Soda ash filter"}]
[]
[null,null,null,null,null,null,null,null,null,{"$f":"\"CLIENT: \"&Calculations!C2","v":"CLIENT: PKT"}]
[null,null,null,null,null,null,null,{"$f":"\"Date : \"&TEXT(Calculations!R2,\"jj/mm/aaaa\")","v":"Date : 11/02/2026"}]

{"sheet":"OFFRE TECHNIQUE-FR","index":92,"n_rows":1055,"n_cols":21,"rows_kept":1055,"cut":false,"hidden":true,"merged":[[1037,15,1037,20],[1039,0,1039,24],[980,2,982,23],[1006,2,1007,23],[1013,2,1015,23],[1016,2,1019,23],[1020,2,1021,23],[1025,0,1027,24],[929,16,930,23],[948,2,949,23],[950,2,951,23],[952,2,953,23],[954,2,955,23],[957,2,958,23],[894,0,895,4],[894,5,895,10],[894,11,895,15],[894,16,895,23],[896,0,897,4],[896,5,897,10],[896,11,897,15],[896,16,897,23],[890,0,891,4],[890,5,891,10],[890,11,891,15],[890,16,891,23],[892,0,893,4],[892,5,893,10],[892,11,893,15],[892,16,893,23],[886,0,887,4],[886,5,887,10],[886,11,887,15],[886,16,887,23],[888,0,889,4],[888,5,889,10],[888,11,889,15],[888,16,889,23],[883,0,884,4],[883,5,884,10],[883,11,884,15],[883,16,884,23],[885,0,885,4],[885,5,885,10],[885,11,885,15],[885,16,885,23],[871,2,872,23],[880,0,880,4],[880,5,880,10],[880,11,880,15],[880,16,880,23],[881,0,882,4],[881,5,882,10],[881,11,882,15],[881,16,882,23],[793,2,794,23],[835,2,836,12],[846,4,847,10],[856,2,857,23],[861,2,863,23],[868,2,870,23],[695,16,696,23],[708,16,709,23],[741,2,742,23],[760,2,764,23],[782,16,782,23],[783,16,784,23],[624,2,628,23],[637,2,638,23],[650,16,652,23],[662,2,663,23],[689,16,691,23],[693,16,694,23],[556,2,557,23],[561,16,562,23],[566,2,567,23],[569,2,570,23],[597,2,598,23],[610,2,611,23],[596,2,596,23],[478,2,479,23],[480,2,481,23],[506,16,507,23],[543,4,544,23],[546,16,547,23],[550,2,553,23],[449,2,450,23],[451,2,454,23],[459,2,465,23],[468,16,469,23],[471,16,472,23],[476,2,477,23],[410,2,412,23],[426,2,427,23],[428,4,429,23],[430,4,431,23],[433,4,434,23],[435,4,436,23],[366,16,368,23],[369,16,370,23],[371,16,372,23],[380,2,382,23],[383,2,383,23],[387,16,388,23],[332,16,333,23],[337,16,338,23],[340,16,341,23],[344,16,345,23],[346,2,347,23],[350,16,351,23],[240,2,240,23],[241,2,242,23],[294,16,295,23],[311,2,312,23],[320,2,321,23],[330,16,331,23],[98,0,100,24],[172,16,173,23],[221,2,223,23],[229,4,231,23],[232,4,234,23],[238,2,239,23],[1,0,3,24],[13,13,13,15],[15,0,15,24],[49,0,51,24],[61,13,61,16],[63,0,63,24]]}
[]
["SPECIFICATION TECHNIQUE\nPOUR LES FILTRES A BANDE \"PHILIPPE\""]
[]
[]
[]
[]
[null,null,null,null,"CLIENT",null,null,null,null,null,null,null,null,{"$f":"Calculations!$C$2","v":"PKT"}]
[null,null,null,null,"REFERENCE CLIENT",null,null,null,null,null,null,null,null,{"$f":"Calculations!$C$4","v":"Soda ash filter"}]
[null,null,null,null,"NUMERO D'OFFRE",null,null,null,null,null,null,null,null,{"$f":"Calculations!$C$3&\"_\"&Calculations!$K$10&\"-\"&Calculations!$H$3","v":"760895_90B30-rev2"}]
[null,null,null,null,"PRODUIT",null,null,null,null,null,null,null,null,{"$f":"Calculations!$K$3","v":"Soda ash"}]
[null,null,null,null,"FILTRE SELECTIONNE",null,null,null,null,null,null,null,null,{"$f":"\"VACUUM BELT FILTER \"&Calculations!$C$9&\" m²\"","v":"VACUUM BELT FILTER 90 m²"}]
[null,null,null,null,"LARGEUR",null,null,null,null,null,null,null,null,{"$f":"Calculations!$E$9&\" mm\"","v":"3000 mm"}]
[null,null,null,null,"TYPE",null,null,null,null,null,null,null,null,{"$f":"Calculations!$K$10&\" - \"&Calculations!$I$9","v":"90B30 - SERIE 4"}]
[null,null,null,null,"DATE",null,null,null,null,null,null,null,null,{"$f":"Calculations!$R$2","v":"2026-02-11"}]
[]
[]
[]
[]
[null,null,null,null,"DESCRIPTION TECHNIQUE DU FILTRE A BANDE SOUS VIDE « PHILIPPE »"]
[]
[null,null,null,null,"Caractéristiques du design"]
[null,null,null,null,"Spécifications peinture"]
[null,null,null,null,"Limites de batterie"]
[]
[]
[null,null,null,null,"EQUIPEMENTS ET SERVICES COMPLEMENTAIRES"]
[]
[null,null,null,null,"Annexe \"Machine à souder les toiles par ultrasons\""]
[null,null,null,null,"Annexe \"Hotte à vapeur\""]
[null,null,null,null,"Annexe \"Ballon séparateur\""]
[null,null,null,null,"Annexe \"Cyclone\""]
[null,null,null,null,"Annexe \"Laveur\""]
[null,null,null,null,"Annexe \"Pompe à vide\""]
[null,null,null,null,"Annexe \"Pompe à filtrat\""]
[null,null,null,null,"Annexe \"Tank de lavage toile et bande\""]
[null,null,null,null,"Annexe \"Tank de lavage gâteau\""]
[null,null,null,null,"Annexe \"Coffret de commande local\""]
[null,null,null,null,"Annexe \"Montage\""]
[null,null,null,null,"Annexe \"Mise en route\""]
[]
[null,null,null,null,null,null,null,null," "]
[null,null,null,null,"SCHEMA POUR FILTRE A BANDE SOUS VIDE « PHILIPPE »"]
[]
[null,null,null,null,"P&ID"]
[null,null,null,null,"Plan d’ensemble préliminaire"]
[]
[]
[]
[]
["SPECIFICATION TECHNIQUE\nPOUR LES FILTRES A BANDE \"PHILIPPE\""]
[]
[]
[]
[]
[null,null,null,null,"CLIENT",null,null,null,null,null,null,null,null,{"$f":"Calculations!$C$2","v":"PKT"}]
[null,null,null,null,"REFERENCE CLIENT",null,null,null,null,null,null,null,null,{"$f":"Calculations!$C$4","v":"Soda ash filter"}]
[null,null,null,null,"NUMERO D'OFFRE",null,null,null,null,null,null,null,null,{"$f":"Calculations!$C$3&\"_\"&Calculations!$K$10&\"-\"&Calculations!$H$3","v":"760895_90B30-rev2"}]
[null,null,null,null,"PRODUIT",null,null,null,null,null,null,null,null,{"$f":"Calculations!$K$3","v":"Soda ash"}]
[null,null,null,null,"FILTRE SELECTIONNE",null,null,null,null,null,null,null,null,{"$f":"\"VACUUM BELT FILTER \"&Calculations!$C$9&\" m²\"","v":"VACUUM BELT FILTER 90 m²"}]
[null,null,null,null,"LARGEUR",null,null,null,null,null,null,null,null,{"$f":"Calculations!$E$9&\" mm\"","v":"3000 mm"}]
[null,null,null,null,"TYPE",null,null,null,null,null,null,null,null,{"$f":"Calculations!$K$10&\" - \"&Calculations!$I$9","v":"90B30 - SERIE 4"}]
[null,null,null,null,"DATE",null,null,null,null,null,null,null,null,{"$f":"Calculations!$R$2","v":"2026-02-11"}]
[]
[]
[]
[]
[null,null,"1.","Caractéristiques dimensionnelles"]
[null,null,"2.","Utilités du filtre"]
[null,null,"3.","Définition du filtre"]
[null,null,null,"Charpente"]
[null,null,null,"Tambour"]
[null,null,null,"Groupe de commande"]
[null,null,null,"Bande"]
[null,null,null,"Boîte à vide"]
[null,null,null,"Toile filtrante"]
[null,null,null,"Décharge gâteau"]
[null,null,null,"Distribution des fluides"]
[null,null,null,"Equipements process"]
[null,null,null,"Equipements électriques et de contrôle"]
[null,null,null,"Norme pour connection"]
[null,null,"4.","Spécifications peinture"]
[null,null,"5.","Limites de fourniture et exclusions"]
[null,null,"6.","Déclaration d'intégration CE et protection du personnel"]
[]
[]
[]
[]
[]
[]
[]
[]
[]
[]
[]
[]
[]
[]
[]
["DESCRIPTION TECHNIQUE \nDU FILTRE A BANDE SOUS VIDE « PHILIPPE »"]
[]
[]
[]
[]
[]
[]
[]
[]
[]
[]
[]
[]
[]
[]
[]
[]
[]
[]
[]
[]
[]
[]
[]
[]
[]
[]
[]
[]
[]
[]
[]
[]
[]
[]
[]
[]
[]
[]
[]
[]
[]
[]
[]
[]
[]
[]
[]
[]
["1.",null,"CARACTERISTIQUES DIMENSIONNELLES"]
[]
["1.1.",null,"SURFACE ACTIVE DE FILTRATION :",null,null,null,null,null,null,null,null,null,null,null,null,null,{"$f":"Calculations!$C$9&\" m²\"","v":"90 m²"}]
[]
["1.2.",null,"DIMENSIONS GENERALES :"]
[]
[null,"-","Largeur sous vide :",null,null,null,null,null,null,null,null,null,null,null,null,null,{"$f":"Calculations!$E$9&\" mm\"","v":"3000 mm"}]
[null,"-","Longueur sous vide :",null,null,null,null,null,null,null,null,null,null,null,null,null,{"$f":"Calculations!$G$9&\" mm\"","v":"30000 mm"}]
[null,"-","Largeur totale (groupe de commande exclu) :",null,null,null,null,null,null,null,null,null,null,null,null,null,{"$f":"Calculations!$R$54&\" mm\"","v":"3850 mm"}]
[null,"-","Longueur totale :",null,null,null,null,null,null,null,null,null,null,null,null,null,{"$f":"Calculations!$R$55&\" mm\"","v":"35970 mm"}]
[null,"-","Hauteur totale (alimentateur exclu) :",null,null,null,null,null,null,null,null,null,null,null,null,null,{"$f":"Calculations!$R$56&\" mm\"","v":"2710 mm"}]
[]
["1.3.",null,"POIDS"]
[]
[null,"-","Poids du filtre : ",null,null,null,null,null,null,null,null,null,null,null,null,null,"Voir Plan d'ensemble"]
[]
[]
["2.",null,"UTILITES DU FILTRE"]
[]
["2.1.",null,"ELECTRICITE"]
[]
[null,null,"Moteur d'entrainement de la bande :"]
[null,"-","Puissance absorbée :",null,null,null,null,null,null,null,null,null,null,null,null,null,{"$f":"Calculations!$N$25","v":"71,02 kW"}]
[null,"-","Puissance installée :",null,null,null,null,null,null,null,null,null,null,null,null,null,{"$f":"Calculations!$R$25","v":"90 kW"}]
[null,"-","Vitesse de la bande :",null,null,null,null,null,null,null,null,null,null,null,null,null,{"$f":"\"De \"&ROUNDUP(Calculations!H25,1)&\" m/min à \"&ROUNDUP(Calculations!F25,1)&\" m/min\"","v":"De 4,3 m/min à 25,5 m/min"}]
[null,"-","Voltage :",null,null,null,null,null,null,null,null,null,null,null,null,null,{"$f":"\"Selon les exigences de \"&Calculations!$C$2&\".\"","v":"Selon les exigences de PKT."}]
[]
[null,"-","Fréquence :",null,null,null,null,null,null,null,null,null,null,null,null,null,"50 Hz"]
[null,"-","Voltage de l'instrumentation et des contrôles à confirmer."]
[]
["2.2.",null,"EAU"]
[]
[null,"-","Lavage toile. Trois rampes en opération."]
[null,"-","Pression minimale à la goulotte.",null,null,null,null,null,null,null,null,null,null,null,null,null,"3 bars"]
[null,"-","Débit en production :"]
[null,null,null,"•","Débit du côté gâteau :",null,null,null,null,null,null,null,null,null,null,null,{"$f":"Calculations!$G$38&\" m3/h\"","v":"4,08 m3/h"}]
[null,null,null,"•","Débit du côté opposé :",null,null,null,null,null,null,null,null,null,null,null,{"$f":"Calculations!$G$39&\" m3/h\"","v":"2,38 m3/h"}]
[null,null,null,"•","Lavage de la bande :",null,null,null,null,null,null,null,null,null,null,null,{"$f":"Calculations!$G$40&\" m3/h\"","v":"4,46 m3/h"}]
[null,null,null,"•","Lubrification des courroies de BaV (1 bar) :",null,null,null,null,null,null,null,null,null,null,null,{"$f":"Calculations!$C$41&\" L/h to \"&Calculations!E41&\" L/h\"","v":"150 L/h to 600 L/h"}]
[null,null,null,{"$f":"IF(Calculations!$P$39=\"Oui\",\"•\",\"\")","v":""},"Lavage des courroies de table (1 bar) :",null,null,null,null,null,null,null,null,null,null,null,{"$f":"IF(Calculations!P39=\"Oui\",Calculations!Q39&\" L/h\",\"\")","v":""}]
[null,null,null,{"$f":"IF(Calculations!$P$40=\"Oui\",\"•\",\"\")","v":"•"},"Lubrification des courroies de table (1 bar) :",null,null,null,null,null,null,null,null,null,null,null,{"$f":"IF(Calculations!P40=\"Oui\",Calculations!Q40&\" L/h\",\"\")","v":"360 L/h"}]
[]
["NOTE: ",null,"L’eau de lubrification des courroies doit être exempte de solides."]
[]
[]
[]
[]
[]
[]
["2.3.",null,"AIR COMPRIME"]
[]
[null,null,"Manœuvre de boîte à vide, guidage et tension toile."]
[]
[null,"-","Débit : ",null,null,null,null,null,null,null,null,null,null,null,null,null,"4 Nm3/h - Pression 5 bars"]
[null,"-","Qualité :",null,null,null,null,null,null,null,null,null,null,null,null,null,"filtré - sans huile"]
[]
[]
["3.",null,"DEFINITION DU FILTRE"]
[]
["3.1.",null,"CHARPENTE"]
[]
[]
[]
[]
[]
[]
[]
[]
[]
[]
[]
[]
[]
[]
[null,null,"Le filtre comprend un bâti métallique constitué de profils normalises et de tôles en acier, assemblés par soudure et boulons."]
[]
[]
[null,"-","Matériau du bâti:",null,null,null,null,null,null,null,null,null,null,null,null,null,{"$f":"IF(Calculations!$E$22=\"E24\",\"Carbon steel epoxy painted\",Calculations!$E$22)","v":"316L"}]
[null,"-","Matériau des tôles:",null,null,null,null,null,null,null,null,null,null,null,null,null,{"$f":"IF(Calculations!$E$22=\"E24\",\"Carbon steel epoxy painted\",Calculations!$E$22)","v":"316L"}]
[null,"-","Matériau boulonnerie:",null,null,null,null,null,null,null,null,null,null,null,null,null,"316"]
[]
[null,null,"La charpente inclut:"]
[null,null,null,"•","Deux modules d'extrémité supportant les tambours moteur et de retour bande, la trémie de décharge gâteau, le lavage toile et bande et les systèmes de guidage."]
[]
[]
[null,null,null,"•","Des bâtis transversaux régulièrement espacés supportent les rails support de bande, la boîte à vide et le système de basculement, les rails pour le déplacement du distributeur de pulpe et de liquide de lavage de gâteau, les barrages de zone. "]
[]
[]
[]
[null,null,"Avantages:"]
[]
[null,"-","La charpente est constituée de profils normalisés standard en acier et est entièrement assemblée par boulonnage afin de remplacer les éléments structuraux si nécessaire."]
[]
[null,"-","La charpente peut être montée et démontée sans modifications du résultat final."]
[null,"-","Cette technologie permet la fourniture d’une bande sans fin que ce soit pour la première monte comme pour toute opération de remplacement."]
[]
[]
[]
["3.2.",null,"TAMBOURS"]
[]
["3.2.1.",null,"Tambour libre"]
[]
[]
[]
[]
[]
[]
[]
[]
[]
[]
[]
[]
[]
[]
[]
[null,null,"Porté par deux paliers tendeurs à roulement à rotules étanches"]
[null,"-","Diamètre tambour: ",null,null,null,null,null,null,null,null,null,null,null,null,null,{"$f":"Calculations!$K$9&\" mm\"","v":"1210 mm"}]
[null,"-","Matériau carcasse:",null,null,null,null,null,null,null,null,null,null,null,null,null,"S235JR / A570Gr33"]
[null,"-","Matériau arbre:",null,null,null,null,null,null,null,null,null,null,null,null,null,"EN C22E / AISI 1020"]
[null,"-","Disque anti-goutte pour protection des paliers"]
[null,"-","Revêtement:",null,null,null,null,null,null,null,null,null,null,null,null,null,"Rubber SBR - 65 shore"]
[null,"-","Epaisseur revêtement "]
[null,null,null,"•","Virole:",null,null,null,null,null,null,null,null,null,null,null,"10 mm"]
[null,null,null,"•","Flancs:",null,null,null,null,null,null,null,null,null,null,null,"5 mm"]
[]
["3.2.2.",null,"Tambour moteur"]
[]
[]
[]
[]
[]
[]
[]
[]
[]
[]
[]
[]
[]
[]
[null,null,"Porté par deux paliers fixes à roulement à rotules étanches"]
[null,"-","Diamètre tambour: ",null,null,null,null,null,null,null,null,null,null,null,null,null,{"$f":"Calculations!$K$9&\" mm\"","v":"1210 mm"}]
[null,"-","Matériau carcasse:",null,null,null,null,null,null,null,null,null,null,null,null,null,"S235JR / A570Gr33"]
[null,"-","Matériau arbre:",null,null,null,null,null,null,null,null,null,null,null,null,null,"EN C22E / AISI 1020"]
[]
[null,"-","Disque anti-goutte pour protection des paliers"]
[null,"-","Revêtement:",null,null,null,null,null,null,null,null,null,null,null,null,null,"Rubber SBR - 65 shore avec des rainures en chevron\n"]
[]
[null,"-","Epaisseur revêtement "]
[null,null,null,"•","Virole:",null,null,null,null,null,null,null,null,null,null,null,"10 mm"]
[null,null,null,"•","Flancs:",null,null,null,null,null,null,null,null,null,null,null,"5 mm"]
[]
[null,null,"Avantages:"]
[]
[null,"-","Un seul arbre traversant en acier :"]
[null,null,null,"•","Procure rigidité à l’ensemble"]
[null,null,null,"•","Elimine les torsions sur la surface externe"]
[null,"-","Surface externe, arbre recouvert avec du caoutchouc vulcanisé à chaud:"]
[null,null,null,"•","Adhérence parfaite du caoutchouc et très bonne résistance à la corrosion"]
[null,null,null,"•","Permet d’obtenir des surfaces très planes"]
[null,"-","Disques anti-gouttes montées sur l’arbre"]
[null,null,null,"•","Protection des roulements contre la corrosion"]
[]
[null,null,{"$f":"IF(Calculations!$U$11=\"Oui\",\"Sur chaque tambour, les parties non recouvertes par du caoutchouc sur les arbres (dans les paliers) sont en Inox SS 316L.\",\"\")","v":""}]
[]
[]
["3.3.",null,"GROUPE D’ENTRAINEMENT DU TAMBOUR MOTEUR"]
[]
[null,null,"Le filtre inclut les composants suivant:"]
[]
["3.3.1.",null,"Un variateur de fréquence"]
[]
[null,null,"Type: Variateur de fréquence IP 2x, doit être installé par le client dans son armoire électrique. Le client devra configurer les paramètres en accord avec ses besoins. "]
[]
[]
[null,"-","Marque"]
[null,null,null,"•","Normes IEC:",null,null,null,null,null,null,null,null,null,null,null,"SCHNEIDER ou ABB, SIEMENS"]
[null,null,null,"•","Normes NEMA:",null,null,null,null,null,null,null,null,null,null,null,"WEG ou ALLEN BRADLEY"]
[]
[null,"-","Puissance nominale:",null,null,null,null,null,null,null,null,null,null,null,null,null,{"$f":"Calculations!R25","v":"90 kW"}]
[null,"-","Protection: ",null,null,null,null,null,null,null,null,null,null,null,null,null,"IP 2x"]
[null,"-","Application:",null,null,null,null,null,null,null,null,null,null,null,null,null,"Constant torque"]
[null,"-","Tension puissance: ",null,null,null,null,null,null,null,null,null,null,null,null,null,{"$f":"\"Suivant besoins \"&Calculations!$C$2","v":"Suivant besoins PKT"}]
[]
[null,"-","Tension de commande:",null,null,null,null,null,null,null,null,null,null,null,null,null,"Source interne d’alimentation Entrées logiques"]
[]
[null,null,"Fonctions de commande  (*):"]
[null,"-","1 Entrée logique: ",null,null,null,null,null,null,null,null,null,null,null,null,null,"Arrêt"]
[null,"-","1 Entrée logique: ",null,null,null,null,null,null,null,null,null,null,null,null,null,"Marche"]
[null,"-","1 Entrée logique: ",null,null,null,null,null,null,null,null,null,null,null,null,null,"Plus vite (sélectionnable en Local/Distance)\n"]
[]
[]
[null,"-","1 Entrée logique: ",null,null,null,null,null,null,null,null,null,null,null,null,null,"Moins vite (sélectionnable en Local/Distance)\n"]
[]
[null,"-","1 Entrée logique: ",null,null,null,null,null,null,null,null,null,null,null,null,null,"Réarmement"]
[null,"-","1 Entrée logique: ",null,null,null,null,null,null,null,null,null,null,null,null,null,"Sélection Local/Distance"]
[null,"-","1 Entrée analogique:",null,null,null,null,null,null,null,null,null,null,null,null,null,"4-20mA Réglage vitesse (sélectionnable Local/Distance)\n"]
[]
[null,null,"(Le changement en Local/Distance de 0 à 1 ou de 1 à 0 ne devra jamais changer la vitesse sélectionnée)"]
[]
[]
[null,null,"Fonctions de contrôle  (**):"]
[null,"-","1 Sortie analogique:",null,null,null,null,null,null,null,null,null,null,null,null,null,"4-20 mA vitesse (10 à 60 Hz)"]
[]
[]
[null,null,"Accessoires:"]
[null,"-","1 filtre RFI (compatibilité CEM)"]
[null,"-","1 module interface opérateur"]
[]
[null,null,"Limites réglage fréquence:",null,null,null,null,null,null,null,null,null,null,null,null,null,"10 à 60 Hz"]
[]
[null,null,"(*) : Commande depuis les sorties libres de potentiel automate Client"]
[null,null,"(**) : Signal vers entrée automate Client"]
[]
["3.3.2.",null,"Un moteur électrique fixé sur le réducteur"]
[]
[null,"-","Puissance (absorbée):",null,null,null,null,null,null,null,null,null,null,null,null,null,{"$f":"Q170","v":"71,02 kW"}]
[null,"-","Puissance (installée):",null,null,null,null,null,null,null,null,null,null,null,null,null,{"$f":"Q171","v":"90 kW"}]
[null,"-","Type:",null,null,null,null,null,null,null,null,null,null,null,null,null,"Carcasse fonte – TEFC – IM1001 (B3) – 4 pôles - IP 55 – CI F/B"]
[]
[]
[null,"-","Voltage:",null,null,null,null,null,null,null,null,null,null,null,null,null,{"$f":"\"Suivant besoins \"&Calculations!$C$2","v":"Suivant besoins PKT"}]
[]
[null,"-","Isolation:",null,null,null,null,null,null,null,null,null,null,null,null,null,"En accord avec les conditions du site"]
[]
[null,"-","Marque:"]
[null,null,null,"•","Normes IEC:",null,null,null,null,null,null,null,null,null,null,null,"WEG ou ABB, SIEMENS"]
[null,null,null,"•","Normes NEMA:",null,null,null,null,null,null,null,null,null,null,null,"WEG ou TECO WESTINGHOUSE"]
[null,"-","Peinture:",null,null,null,null,null,null,null,null,null,null,null,null,null,{"$f":"\"Suivant besoins \"&Calculations!$C$2","v":"Suivant besoins PKT"}]
[]
["3.3.3.",null,"Un réducteur à arbre creux"]
[]
[null,null,"Il est fixé sur l’arbre du tambour d’entraînement du filtre. Le réducteur est maintenu en position par une béquille dynamométrique de contrôle de couple équipéee d’un contact de fin de courses."]
[]
[]
[null,null,{"$f":"\"Le réducteur est calculé pour une durée de vie de 50 000 heures /\"&Calculations!$N$25","v":"Le réducteur est calculé pour une durée de vie de 50 000 heures /71,02 kW"}]
[null,"-","Couple constant:",null,null,null,null,null,null,null,null,null,null,null,null,null,{"$f":"ROUNDUP(Calculations!$N$26,0)&\" Nm\"","v":"88239 Nm"}]
[null,"-","Facteur de sécurité:",null,null,null,null,null,null,null,null,null,null,null,null,null,"1,3 x Puissance installée"]
[null,"-","Marque:",null,null,null,null,null,null,null,null,null,null,null,null,null,"BREVINI, (ou equivalent.)"]
[null,"-","Peinture:",null,null,null,null,null,null,null,null,null,null,null,null,null,"En accord avec le standard fournisseur"]
[]
[]
["NOTE",null,"Si d'autres choix sont demandées, une option sera offerte et le prix ajusté."]
[]
[]
["3.4.",null,"BANDE"]
[]
[]
[]
[]
[]
[]
[]
[]
[]
[]
[]
[]
[]
[]
[]
[]
[null,null,"Des rainures transversales sont sculptées dans la partie supérieure de celle-ci pour permettre l’écoulement des liquides vers des trous oblongs, percés dans leurs axes (un trou oblong par rainure). "]
[]
[]
[null,"-","Nombre de bande par filtre :",null,null,null,null,null,null,null,null,null,null,null,null,null,1]
[null,"-","Matériau :",null,null,null,null,null,null,null,null,null,null,null,null,null,{"$f":"Calculations!$E$23","v":"SBR"}]
[null,"-","Largeur (Utile) :",null,null,null,null,null,null,null,null,null,null,null,null,null,{"$f":"Calculations!$E$9&\" mm\"","v":"3000 mm"}]
[null,"-","Epaisseur partie caoutchouc supérieure : ",null,null,null,null,null,null,null,null,null,null,null,null,null,{"$f":"Calculations!$R$60&\" mm\"","v":"18 mm"}]
[null,"-","Epaisseur partie caoutchouc inférieure :",null,null,null,null,null,null,null,null,null,null,null,null,null,{"$f":"Calculations!$R$61&\" mm\"","v":"7 mm"}]
[null,"-","Epaisseur totale :",null,null,null,null,null,null,null,null,null,null,null,null,null,{"$f":"Calculations!$E$24&\" mm\"","v":"31 mm"}]
[null,"-","Matériau de la carcasse :",null,null,null,null,null,null,null,null,null,null,null,null,null,"Polyester"]
[null,"-","Zone de perforation : ",null,null,null,null,null,null,null,null,null,null,null,null,null,"exempte de carcasse"]
[null,"-","Nombre de plis de la carcasse :",null,null,null,null,null,null,null,null,null,null,null,null,null,4]
[null,"-","Poids de la bande : ",null,null,null,null,null,null,null,null,null,null,null,null,null,{"$f":"Calculations!$R$63&\" kg\"","v":"6826 kg"}]
[]
[null,null,"Avantages :"]
[]
[null,"-","La bande est livrée sans fin; elle est entièrement usinée au sein de l’atelier de HASLER Group, contrôlée et prête à fonctionner."]
[]
[null,null,null,"•","La bande est installée dans notre atelier et est mise à tourner pour enlever le stress mécanique."]
[]
[null,null,null,"•","La carcasse est localisée pour que les trous soient percés parfaitement au centre de la bande. Les trous sont parfaitement alignés."]
[]
[null,"-","Le rainurage et le perçage sont customisés en fonction des besoins process du Client."]
[null,null,null,"•","La largeur et l’épaisseur des rainures ainsi que la largeur des trous et l’épaisseur de la bande sont optimisées en fonction des besoins du client."]
[]
[null,null,null,"•","Les trous oblongs sont préférés aux trous circulaires afin d’empêcher la fragilisation de la bande en son centre."]
[]
[]
["3.4.1.",null,"Rainurage"]
[]
[null,null,"Effectué dans nos usines avec une pente vers les perforations"]
[]
[null,"-","Pas de rainurage :",null,null,null,null,null,null,null,null,null,null,null,null,null,{"$f":"Calculations!$R$64&\" mm\"","v":"22 mm"}]
[null,"-","Largeur des rainures :",null,null,null,null,null,null,null,null,null,null,null,null,null,{"$f":"Calculations!$R$65&\" mm\"","v":"11 mm"}]
[null,"-","Profondeur :",null,null,null,null,null,null,null,null,null,null,null,null,null,{"$f":"Calculations!$R$66&\" mm\"","v":"5 - 14 mm"}]
[null,"-","Perçage: Trous oblongs :",null,null,null,null,null,null,null,null,null,null,null,null,null,{"$f":"Calculations!$R$67&\" mm\"","v":"10 x 30 mm"}]
[]
["3.4.2.",null,"Talons"]
[]
[null,"-","Les talons sont en caoutchouc special et fixés par collage à froid sur les bords de la bande pour former des bordures de rétention."]
[]
[null,"-","Type: Profil ondulé à grande flexibilité obtenu par moulage. Le design des talons a été breveté par HASLER Group/Filtres Philippe. Sa forme en accordéon permet un bon support de la toile filtrante, une imperméabilité complète à sa base ainsi qu’une grande flexibilité au passage autour des tambours."]
[]
[]
[]
[null,"-","Hauteur des talons:",null,null,null,null,null,null,null,null,null,null,null,null,null,{"$f":"Calculations!A9&\" mm\"","v":"120 mm"}]
[]
["3.4.3.",null,"Supportage de la bande – Brin supérieur (partie active)"]
[]
[null,null,"Le système de supportage  de la bande assure un fonctionnement sans aucun contact de la bande  sur les fers support et la protège de l'usure. La table est constituée par un ensemble de fers support longitudinaux. Sur le dessus de ces fers sont  fixés les rails de glissement en HMWPE sur lesquels circulent les courroies d'usure entraînées par la bande. Un dispositif de rattrapage automatique permet de compenser l’étirement des courroies et les maintenir sous tension."]
[]
[]
[]
[]
[]
[]
[null,"-","Bâti support: ",null,null,null,null,null,null,null,null,null,null,null,null,null,{"$f":"IF(Calculations!$E$22=\"E24\",\"304L\",Calculations!$E$22)","v":"316L"}]
[null,"-","Réglettes de glissement: ",null,null,null,null,null,null,null,null,null,null,null,null,null,"HMWPE"]
[null,"-","Courroies de support:  ",null,null,null,null,null,null,null,null,null,null,null,null,null,"Caoutchouc renforcé polyester avec face de frottement polyester"]
[]
[null,"-","Dimensions des courroies  (W x T):  ",null,null,null,null,null,null,null,null,null,null,null,null,null,{"$f":"Calculations!$R$77","v":"50 mm x 5,8 mm"}]
[null,"-","Distribution des supports : ",null,null,null,null,null,null,null,null,null,null,null,null,null,{"$f":"Calculations!$R$68&\" sections (sur chaque côté de la boîte à vide)\"","v":"2 x 5 sections (sur chaque côté de la boîte à vide)"}]
[]
[]
[null,null,"Avantages :"]
[]
[null,"-","Support de table permettant une planéité maximale, maximisant l’efficacité du lavage et la récupération des filtrats."]
[]
[null,"-","La meilleure solution pour réduire l’usure de la bande et faible coût des pieces de rechange (courroies d’usure et réglettes de glissement)."]
[]
[null,"-","Ne nécessite ni ventilateurs ni boîtes à air (table à air) ni de grandes quantité d’eau (table à eau)."]
[]
[]
[]
[]
["3.4.4.",null,"Supportage de la bande – Brin inférieur"]
[]
[null,null,"Constitué par des rouleaux supports par des paliers étanches à roulements à billes."]
[]
[null,"-","Matériau rouleau :",null,null,null,null,null,null,null,null,null,null,null,null,null,{"$f":"IF(Calculations!$E$19=\"CAOUT\",\"Acier caoutchouté\",Calculations!$E$19)","v":"316L"}]
[null,"-","Diamètre rouleau :",null,null,null,null,null,null,null,null,null,null,null,null,null,{"$f":"Calculations!$T$69&\" mm\"","v":"355 mm"}]
[]
["3.4.5.",null,"Guidage de la bande"]
[]
[null,"-","Galet en polyethylene haute densité monté sur axe."]
[null,"-","Diamètre galet :  ",null,null,null,null,null,null,null,null,null,null,null,null,null,{"$f":"Calculations!$R$78&\" mm\"","v":"100 mm"}]
[null,"-","Axe : ",null,null,null,null,null,null,null,null,null,null,null,null,null,"316L"]
[]
["3.4.6.",null,"Lavage bande "]
[]
[null,"-","Deux rampes équipées de pulvérisateurs"]
[null,"-","Construction:"]
[null,null,null,"•","Rampes de lavage : ",null,null,null,null,null,null,null,null,null,null,null,{"$f":"Calculations!$E$18","v":"316L"}]
[null,null,null,"•","Buses :",null,null,null,null,null,null,null,null,null,null,null,"PVDF"]
[null,"-","Bac de récupération"]
[null,null,null,"•","Matériau :  ",null,null,null,null,null,null,null,null,null,null,null,{"$f":"Calculations!$E$16","v":"316L"}]
[null,null,null,"•","Trou d'évacuation :",null,null,null,null,null,null,null,null,null,null,null,"DN50, tube lisse pour tuyau flexible"]
[]
[]
["3.5.",null,"BOITE A VIDE"]
[]
[]
[]
[]
[]
[]
[]
[]
[]
[null,"-","Quantité : ",null,null,null,null,null,null,null,null,null,null,null,null,null,1]
[]
[null,"-","Type: Section Omega avec un mécanisme de basculement spécial"]
[null,"-","Corps constitué de longueurs assemblées bout à bout par brides."]
[]
[null,"-","Construction :"]
[null,null,null,"•","Corps de la boîte : ",null,null,null,null,null,null,null,null,null,null,null,{"$f":"IF(Calculations!$E$11=\"SVR\",\"FRP\",Calculations!$E$11)","v":"U45N"}]
[null,null,null,"•","Pièces de supportage :  ",null,null,null,null,null,null,null,null,null,null,null,{"$f":"IF(Calculations!$E$21=\"SVR\",\"FRP\",Calculations!$E$21)","v":"316L"}]
[null,null,null,"•","Réglettes de support faîtes en UHMWPE :"]
[null,"-","Courroies de glissement sans fin en caoutchouc avec face de frottement en textile polyester"]
[null,null,null,"•","Quantité :",null,null,null,null,null,null,null,null,null,null,null,2]
[null,null,null,"•","Galets de support courroies : ",null,null,null,null,null,null,null,null,null,null,null,"UHMWPE"]
[]
[]
[]
[null,"-","Dimension des courroies"]
[null,null,null,"•","Largeur :",null,null,null,null,null,null,null,null,null,null,null,{"$f":"Calculations!$R$76&\" mm\"","v":"38 mm"}]
[null,null,null,"•","Epaisseur :",null,null,null,null,null,null,null,null,null,null,null,"10 mm"]
[]
[null,"-","Tubulures de sorties filtrats "]
[null,null,null,"•","Quantité :",null,null,null,null,null,null,null,null,null,null,null,{"$f":"Calculations!$R$36","v":28}]
[null,null,null,"•","Diamètre :",null,null,null,null,null,null,null,null,null,null,null,{"$f":"Calculations!$F$29","v":"DN150"}]
[]
[null,"-","Tuyauteries internes de liaison entre les piquages de la boîte à vide et la sortie du filtre : "]
[null,null,null,"•","Joint tournant sur sortie spéciale coudée pour autoriser le basculement sans démontage"]
[]
[null,null,null,"•","Matériau de tuyauterie :  ",null,null,null,null,null,null,null,null,null,null,null,{"$f":"IF(Calculations!$E$30=\"SVR\",\"FRP\",Calculations!$E$30)","v":"FRP"}]
[null,null,null,"•","Raccordement externe : ",null,null,null,null,null,null,null,null,null,null,null,"Manchette tout caoutchouc EPDM"]
[]
[]
[null,"-","Maintenance:"]
[null,null,"Le système de basculement de la boîte à vide permet l’accès de l’intérieur de la boîte à vide pour l’inspection, le lavage et le remplacement de pièce. Le mécanisme de bascule consiste en un bâti articulé déplacé pneumatiquement. Il est géré par un vérin pneumatique gonflé avant le désactionnement des serres-joints de soutien."]
[]
[]
[]
[null,null,"En production, la boîte à vide est maintenue grâce à des serres-joints de soutien."]
[]
[null,"-","La boîte à vide est équipée de cloisons internes mobiles pour constituer des secteurs de filtration. Le nombre de cloisons internes est égal à celui des secteurs moins un."]
[]
[]
["3.6.",null,"TOILE FILTRANTE"]
[]
[null,"-","Type:",null,null,null,null,null,null,null,null,null,null,null,null,null,"Monofilament ou/et multifilament"]
[]
[null,"-","Matériau :",null,null,null,null,null,null,null,null,null,null,null,null,null,"Polyester ou polypropylène"]
[null,null,"La jonction sans fin se fait par le biais d'une soudure par ultrasons."]
[]
["3.6.1.",null,"Rouleaux du parcours de toile, supportés par des paliers étanches à roulement à billes constitués de :"]
[]
[]
[null,null,"Un rouleau cylindrique avec extrémités constituées de fonds bombés pour mise en forme de la toile sur la bande."]
[]
[null,"-","Diamètre du rouleau : ",null,null,null,null,null,null,null,null,null,null,null,null,null,{"$f":"Calculations!$R$71&\" mm\"","v":"168,3 mm"}]
[null,"-","Matériau du rouleau  : ",null,null,null,null,null,null,null,null,null,null,null,null,null,{"$f":"IF(Calculations!$E$12=\"CAOUT\",\"Carbon steel rubber lined\",Calculations!$E$12)","v":"U45N"}]
[]
[null,null,"Rouleaux sortie de toile."]
[null,"-","Diamètre du rouleau : ",null,null,null,null,null,null,null,null,null,null,null,null,null,{"$f":"Calculations!R70&\" mm\"","v":"168,3 mm"}]
[null,"-","Matériau du rouleau : ",null,null,null,null,null,null,null,null,null,null,null,null,null,{"$f":"IF(Calculations!$E$15=\"CAOUT\",\"Carbon steel rubber lined\",Calculations!$E$15)","v":"316L"}]
[]
[null,null,"Rouleau support de toile circuit de retour."]
[null,"-","Diamètre du rouleau : ",null,null,null,null,null,null,null,null,null,null,null,null,null,{"$f":"Calculations!R71&\" mm\"","v":"168,3 mm"}]
[null,"-","Matériau du rouleau : ",null,null,null,null,null,null,null,null,null,null,null,null,null,{"$f":"IF(Calculations!$E$20=\"CAOUT\",\"Carbon steel rubber lined\",Calculations!$E$20)","v":"316L"}]
[]
[]
["3.6.2.",null,"Tension de toile"]
[]
[]
[]
[]
[]
[]
[]
[]
[]
[]
[]
[]
[null,null,"Obtenu par un rouleau supporté par un bâti articulé commandé par deux vérins à vessie."]
[null,null,"Contrôle et régulation du système par ajustement de la pression d'air dans les vérins. Positions extrêmes contrôlées par fin de courses."]
[]
[]
[null,"-","Quantité :",null,null,null,null,null,null,null,null,null,null,null,null,null,1]
[null,"-","Matériau du bâti :",null,null,null,null,null,null,null,null,null,null,null,null,null,{"$f":"IF(Calculations!$E$22=\"E24\",\"Carbon steel epoxy painted\",Calculations!$E$22)","v":"316L"}]
[]
[null,null,"Avantages :"]
[]
[null,"-","Système entièrement automatique, à haute precision d’ajustement."]
[null,"-","Aucun contrepoids n’est requis."]
[]
["3.6.3.",null,"Rattrapage de longueur de toile"]
[]
[null,null,"Obtenu par un rouleau ajustable, monté sur des rails fixés sur le bâti d'entrée. Longueur de rattrapage environ 800 mm."]
[]
[]
["3.6.4.",null,"Guidage de la toile"]
[]
[]
[]
[]
[]
[]
[]
[]
[]
[]
[null,null,"Tout écart de la toile, hors de sa position de travail est transmis par un palpeur latéral mécanique à un positionneur pneumatique. Ce positionneur envoie de l'air comprimé sur le côté correspondant au vérin souple du guide qui corrige cet écart par un déplacement automatique du rouleau guide. "]
[]
[]
[]
[]
[]
[null,"-","Quantité :",null,null,null,null,null,null,null,null,null,null,null,null,null,1]
[null,"-","Diamètre du rouleau : ",null,null,null,null,null,null,null,null,null,null,null,null,null,{"$f":"Calculations!$R$71&\" mm\"","v":"168,3 mm"}]
[]
[null,"-","Matériau du rouleau : ",null,null,null,null,null,null,null,null,null,null,null,null,null,"Rouleau revêtu en caoutchouc"]
[]
[null,null,"Avantages :"]
[]
[null,"-","Longue durée de vie, aucune usure des roulements car les paliers ne sont pas utilisés comme pivot."]
[]
[null,"-","Activé pneumatiquement, action très douce sur la toile."]
[]
["3.6.5.",null,"Lavage toile"]
[]
[null,"-","3 rampes équipées de pulvérisateurs"]
[]
[null,"-","Construction :"]
[null,null,null,"•","Rampes de lavage :",null,null,null,null,null,null,null,null,null,null,null,{"$f":"Calculations!$E$18","v":"316L"}]
[null,null,null,"•","Buses :",null,null,null,null,null,null,null,null,null,null,null,"PVDF"]
[null,"-","Bac de récupération :"]
[null,null,null,"•","Matériau :",null,null,null,null,null,null,null,null,null,null,null,{"$f":"Calculations!$E$16","v":"316L"}]
[null,null,null,"•","Trou d'évacuation :",null,null,null,null,null,null,null,null,null,null,null,{"$f":"\"Connexion par bride plate soudée, norme suivant \"&Calculations!C2&\"’s requirement.\"","v":"Connexion par bride plate soudée, norme suivant PKT’s requirement."}]
[]
[]
[]
[{"$f":"IF(Calculations!$U$12=\"Oui\",\"3.6.6.\",\"\")","v":""},null,{"$f":"IF(Calculations!$U$12=\"Oui\",\"Rouleau Déplisseur\",\"\")","v":""}]
[]
[null,{"$f":"IF(Calculations!$U$12=\"Oui\",\"-\",\"\")","v":""},{"$f":"IF(Calculations!$U$12=\"Oui\",\"Quantité :\",\"\")","v":""},null,null,null,null,null,null,null,null,null,null,null,null,null,{"$f":"IF(Calculations!$U$12=\"Oui\",\"Rouleau courbe caoutchouté\",\"\")","v":""}]
[null,{"$f":"IF(Calculations!$U$12=\"Oui\",\"-\",\"\")","v":""},{"$f":"IF(Calculations!$U$12=\"Oui\",\"Type:\",\"\")","v":""},null,null,null,null,null,null,null,null,null,null,null,null,null,{"$f":"IF(Calculations!$U$12=\"Oui\",\"1\",\"\")","v":""}]
[null,{"$f":"IF(Calculations!$U$12=\"Oui\",\"-\",\"\")","v":""},{"$f":"IF(Calculations!$U$12=\"Oui\",\"Rouleau courbe caoutchouté\",\"\")","v":""}]
[]
["3.7.",null,"SORTIE GATEAU"]
[]
[null,null,"Rouleau de décharge gâteau de petit diamètre et a grand angle d'enroulement, permet de libérer totalement les morceaux de gâteau de la toile et de les éjecter vers la trémie."]
[]
[]
[null,"-",{"$f":"IF(Calculations!$U$12=\"Oui\",\"Type:\",\"\")","v":""},null,null,null,null,null,null,null,null,null,null,null,null,null,"Rouleau de décharge"]
[null,"-","Diamètre des rouleaux : ",null,null,null,null,null,null,null,null,null,null,null,null,null,"168,3 mm"]
[null,"-","Construction:"]
[null,null,null,"•","Trémie de sortie gâteau",null,null,null,null,null,null,null,null,null,null,null,{"$f":"Calculations!$E$16","v":"316L"}]
[null,null,null,"•","Grattoir",null,null,null,null,null,null,null,null,null,null,null,"Polyurethane"]
[]
["3.8.",null,"UTILITES"]
[]
["3.8.1.",null,"Circuit d’air comprimé"]
[]
[null,null,"1 coffret pour le contrôle guidage toile, tension toile et basculement de boite à vide."]
[]
[null,"-","Type",null,null,null,null,null,null,null,null,null,null,null,null,null,"Marina IP 55 "]
[null,null,null,"•","Connexion air comprimé sur coffret :",null,null,null,null,null,null,null,null,null,null,null,"1/4 \" gaz femelle ou 1/2 “ NPT"]
[null,null,null,"•","Filtre, régulateurs et vannes d’isolement :",null,null,null,null,null,null,null,null,null,null,null,"Marque NORGREN"]
[null,null,null,"•","Vannes :",null,null,null,null,null,null,null,null,null,null,null,"Polypropylene"]
[]
[null,"-","Tuyauteries de distribution internes au filtre :"]
[null,null,null,"•","Matériau tubes :",null,null,null,null,null,null,null,null,null,null,null,"Polyethylene"]
[null,null,null,"•","Matériau raccords :",null,null,null,null,null,null,null,null,null,null,null,"Polypropylene"]
[]
["3.8.2.",null,"Lavage toile et bande"]
[]
[null,"-","Un collecteur muni de départs avec vannes"]
[null,null,null,"•","Raccordement :",null,null,null,null,null,null,null,null,null,null,null,{"$f":"\"Connexion par bride plate soudée, norme suivant \"&Calculations!C2&\"’s requirement.\"","v":"Connexion par bride plate soudée, norme suivant PKT’s requirement."}]
[]
[]
[null,null,null,"•","Collecteur :",null,null,null,null,null,null,null,null,null,null,null,{"$f":"Calculations!$E$18","v":"316L"}]
[null,null,null,"•","Vannes :",null,null,null,null,null,null,null,null,null,null,null,"Type à membrane, Corps fonte, membrane EPDM"]
[]
[null,null,null,"•","Liaisons aux rampes :",null,null,null,null,null,null,null,null,null,null,null,"Tuyau flexible de haute qualité en caoutchouc"]
[]
[null,"-","Répartition des départs :"]
[null,null,null,"•","Lavage toile et bande : ",null,null,null,null,null,null,null,null,null,null,null,5]
[null,null,null,"•","Lubrification des courroies : ",null,null,null,null,null,null,null,null,null,null,null,2]
[]
["3.8.3.",null,"Circuit de vide"]
[]
["3.8.3.1.",null,"Tuyauteries à filtrats, internes pour connexion à la boîte à vide"]
[]
[null,"-","Diamètre :",null,null,null,null,null,null,null,null,null,null,null,null,null,{"$f":"Calculations!$F$29","v":"DN150"}]
[null,"-","Quantité :",null,null,null,null,null,null,null,null,null,null,null,null,null,{"$f":"Calculations!$R$36","v":28}]
[null,"-","Matériau : ",null,null,null,null,null,null,null,null,null,null,null,null,null,{"$f":"IF(Calculations!$E$30=\"SVR\",\"FRP\",Calculations!$E$30)","v":"FRP"}]
[null,"-","Raccordement :",null,null,null,null,null,null,null,null,null,null,null,null,null,"Tubes lisses equipées de manchette caoutchouc"]
[]
[]
["3.8.3.2.",null,"Collecteur de filtrats entre tuyauteries ci-dessus et ballons à filtrat"]
[]
[null,"-","Nombre de section :",null,null,null,null,null,null,null,null,null,null,null,null,null,{"$f":"Calculations!$S$31","v":3}]
[null,"-","Diamètre :",null,null,null,null,null,null,null,null,null,null,null,null,null,{"$f":"\"DN\"&Calculations!E32","v":"DN700"}]
[null,"-","Bride d’entrée :",null,null,null,null,null,null,null,null,null,null,null,null,null,{"$f":"Calculations!$R$36&\" x \"&Calculations!$F$29","v":"28 x DN150"}]
[null,"-","Bride de sortie :",null,null,null,null,null,null,null,null,null,null,null,null,null,{"$f":"Calculations!$S$31&\" x DN\"&Calculations!$N$32","v":"3 x DN800"}]
[null,"-","Matériau :",null,null,null,null,null,null,null,null,null,null,null,null,null,{"$f":"IF(Calculations!$E$30=\"SVR\",\"FRP\",IF(Calculations!$E$30=\"E24\",\"Carbon steel epoxy painted\",IF(Calculations!$E$30=\"CAOUT\",\"Carbon steel rubber lined\",IF(Calculations!$E$30=\"POLYPROPYLENE\",\"Polypropylene\"))))","v":"FRP"}]
[]
[null,null,"Raccord des tuyauteries par des manchettes en caoutchouc."]
[]
[null,null,"Ces fournitures ne sont pas comprises dans le prix du filtre."]
[]
["3.9.",null,"EQUIPEMENTS PROCESS"]
[]
["3.9.1.",null,"Barrage d’entrée, zone d’alimentation"]
[]
[null,"-","Bavette :",null,null,null,null,null,null,null,null,null,null,null,null,null,"Caoutchouc"]
[null,"-","Support :",null,null,null,null,null,null,null,null,null,null,null,null,null,{"$f":"Calculations!$E$13","v":"U45N"}]
[null,"-","Quantité :",null,null,null,null,null,null,null,null,null,null,null,null,null,1]
[]
["3.9.2.",null,"Alimentateur de pulpe"]
[]
[]
[]
[]
[]
[]
[]
[]
[]
[null,null,{"$f":"IF(Calculations!$Q$12=\"QDC\",\"Alimentateur type Queue de carpe\",\"Alimentateur type Boîte d'alimentation\")&\" spécialement conçu pour répartir la pulpe de \"&Calculations!$K$3&\" sur la largeur du filtre.\"","v":"Alimentateur type Boîte d'alimentation spécialement conçu pour répartir la pulpe de Soda ash sur la largeur du filtre."}]
[]
[]
[null,"-","Matériau :",null,null,null,null,null,null,null,null,null,null,null,null,null,{"$f":"Calculations!$E$13","v":"U45N"}]
[null,"-","Nombre / Raccordement",null,null,null,null,null,null,null,null,null,null,null,null,null,{"$f":"Calculations!$I$27&\" x \"&Calculations!$S$27&\" mm\"","v":"2 x 250 mm"}]
[null,"-","Protection latérale de la zone d’alimentation par bavettes en caoutchouc."]
[]
["3.9.3.",null,"Goulotte de lavage gâteau"]
[]
[]
[]
[]
[]
[]
[]
[]
[]
[]
[]
[null,null,"Type: Distribution directe sur un déflecteur de répartition et écoulement sur une bavette en tissue pour assurer une distribution uniforme sur le gâteau. La goulotte est mobile et est supporté par des patins en polyéthylène pour ajustement de son positionnement sur le filtre. Il est immobilisé en position par des clamps."]
[]
[]
[]
[]
[]
[null,"-","Matériau :",null,null,null,null,null,null,null,null,null,null,null,null,null,{"$f":"Calculations!$E$14","v":"U45N"}]
[null,"-","Raccordement :",null,null,null,null,null,null,null,null,null,null,null,null,null,{"$f":"Calculations!$R$11&\" x \"&Calculations!$S$28&\" mm\"","v":"4 x 100 mm"}]
[null,"-","Quantité :",null,null,null,null,null,null,null,null,null,null,null,null,null,{"$f":"Calculations!$R$11","v":4}]
[]
["3.9.4.",null,"Barrage pendulaire (barrage de separation)"]
[]
[null,"-","Type :",null,null,null,null,null,null,null,null,null,null,null,null,null,"Pendulaire"]
[null,"-","Bavette :",null,null,null,null,null,null,null,null,null,null,null,null,null,"Caoutchouc"]
[null,"-","Support :",null,null,null,null,null,null,null,null,null,null,null,null,null,{"$f":"Calculations!$E$14","v":"U45N"}]
[null,"-","Quantité : ",null,null,null,null,null,null,null,null,null,null,null,null,null,{"$f":"Calculations!R11+1","v":5}]
[]
[]
[]
[]
["3.10.",null,"NORMES STANDARDS POUR RACCORDEMENTS"]
[]
[null,"-",{"$f":"\"Avec \"&Calculations!$C$2&\":\"","v":"Avec PKT:"},null,null,null,null,null,null,null,null,null,null,null,null,null,{"$f":"\"Suivant besoins \"&Calculations!$C$2","v":"Suivant besoins PKT"}]
[null,"-","Internal:",null,null,null,null,null,null,null,null,null,null,null,null,null,"Manchettes EPDM sur tubes lisses"]
[]
["3.11.",null,"SITE CONDITIONS"]
[]
[null,null,"Selon la spécification ou à définir"]
[null,"-","Zone géographique :"]
[null,"-","Altitude :"]
[null,"-","Température : ",null,null,null,null,null,null,null,null,null,null,null,null,null,"+5 à +40°C "]
[null,"-","Humidité : ",null,null,null,null,null,null,null,null,null,null,null,null,null,"60%"]
[]
["NOTE: ",null,"L'unité complète de filtration (filtre + accessoires associés) doit être installée dans une zone hors – gel, d'une température ambiante minimum de 5°C. est en opération."]
[]
[]
[]
[]
[]
[]
[]
[]
[]
[]
[]
[]
[]
[]
[]
[]
[]
[]
[]
[]
[]
[]
[]
[]
[]
[]
[]
[]
[]
[]
[]
[]
[]
[]
["3.12.",null,"EQUIPEMENT ELECTRIQUE DE CONTROLE ET DE SECURITE"]
[]
["3.12.1.",null,"Listes des capteurs installés sur le filtre"]
[]
[null,"-","Cable d’arrêt d’urgence (gauche/droite)",null,null,null,null,null,null,null,null,null,null,"NB : 2 – HS01/HS02 ",null,null,null,null,null,null,"Code 1-5"]
[null,"-","Détection de dérive toile (gauche/droite)",null,null,null,null,null,null,null,null,null,null,"NB : 2 – ZS03/ZS04 ",null,null,null,null,null,null,"Code 1"]
[null,"-","Détection de tension toile (min./max.)",null,null,null,null,null,null,null,null,null,null,"NB : 2 – ZSL01/ZSH02",null,null,null,null,null,null,"Code 2"]
[null,"-","Détection surcouple groupe d’entraînement bande",null,null,null,null,null,null,null,null,null,null,"NB : 1 – WSH01 ",null,null,null,null,null,null,"Code 1"]
[]
[null,"-","Détection de dérive bande (gauche/droite)",null,null,null,null,null,null,null,null,null,null,"NB : 2 – ZS05/ZS06 ",null,null,null,null,null,null,"Code 1"]
[null,"-","Détection épaisseur gâteau",null,null,null,null,null,null,null,null,null,null,"NB : 2 – LT01/02 ",null,null,null,null,null,null,"Code 7"]
[null,"-","Détection niveau haut pulpe ",null,null,null,null,null,null,null,null,null,null,"NB : 1 – LSH01",null,null,null,null,null,null,"Code 7"]
[null,"-","Détection de rotation toile",null,null,null,null,null,null,null,null,null,null,"NB : 1 – SSL01  ",null,null,null,null,null,null,"Code 2"]
[null,"-","Détection de rupture courroies boîte à vide ",null,null,null,null,null,null,null,null,null,null,"NB : 2 – ZS07/ZS08 ",null,null,null,null,null,null,"Code 6"]
[null,"-","Détection de pression"]
[null,null,null,"•","Circuit air comprimé",null,null,null,null,null,null,null,null,"NB : 1 – PSL02",null,null,null,null,null,null,"Code 3"]
[null,null,null,"•","Circuit d’eau",null,null,null,null,null,null,null,null,"NB : 1 – PSL01",null,null,null,null,null,null,"Code 3"]
[null,"-","Débitmètres"]
[null,null,null,"•","Lubrification courroies table et boîte à vide ",null,null,null,null,null,null,null,null,"NB : 4 – FISL01/02/03/04 ",null,null,null,null,null,null,"Code 4"]
[]
[null,null,null,"•","Type:",null,null,null,null,null,null,null,null,"Gyrometer with floater"]
[]
[null,null,"Codification des signaux"]
[]
[null,null,"Code 1 – 1 SPST (NC si non activé)"]
[null,null,"Code 2 – capteur inductif deux cables (NC si non activé)"]
[null,null,"Code 3 – 1 SPST (NO pression < réglage de seuil)"]
[null,null,"Code 4 – ILS (NO si débit < réglage de seuil)"]
[null,null,"Code 5 – inclus un second SPST qui sera directement câblé en série dans le circuit de commande électromécanique de la bobine du contacteur moteur filtre."]
[]
[null,null,"Code 6 – capteur sensitif 2 fils (NO si non activé)"]
[null,null,"Code 7 – 4/20 mA dc"]
[]
[null,null,"Les capteurs ci-dessus seront câblés jusqu’à une boite de jonction fixée sur le bâti du filtre. Cette boîte sera équipée d’un bornier de raccordement, d’une barre cuivre de mise à la terre et de presse-étoupe d’entrée de câbles."]
[]
[]
[null,null,"Les fils, câbles et bornes seront repérés conformément au schéma de câblage."]
[]
[null,null,"LIMITES DE FOURNITURE"]
[]
[null,null,"Les sécurités et le fonctionnement de l’équipement seront contrôlés par l’automate client. La programmation sera réalisée par le client conformément aux diagrammes logiques fournis par HASLER Group."]
[]
[]
[null,null,"Les câbles, presse-étoupe et accessoires de liaison non installés en usine par HASLER Group seront fournis, posés et raccordés par le client. "]
[]
[]
[]
[]
[]
[]
["3.12.2.",null,"Liste standard des fournisseurs"]
[]
["MATERIEL",null,null,null,null,"TYPE",null,null,null,null,null,"MARQUE",null,null,null,null,"REMARQUE"]
["HS01/HS02",null,null,null,null,"XY2-CE1A270TK\nXY2-CE2A270TK",null,null,null,null,null,"Schneider Electric\nTélémécanique"]
[]
["WSH01",null,null,null,null,"ZCK-J1TK \nZCK-E61TK",null,null,null,null,null,"Schneider Electric\nTélémécanique"]
[]
["ZSL01; ZSH02",null,null,null,null,"IB0016",null,null,null,null,null,"IFM Electronic",null,null,null,null,"20 ... 250 Vca/cc"]
["PSL01; PSL02",null,null,null,null,"B4",null,null,null,null,null,"Ashcroft \nDresser",null,null,null,null,"Parties mouillées en 316"]
[]
["FISL01; FISL02",null,null,null,null,865,null,null,null,null,null,"Gemü",null,null,null,null,"With reed switch sensor \nType 1251/1256"]
[]
["Boîte de jonction (BJ)",null,null,null,null,"Série KS",null,null,null,null,null,"Rittal",null,null,null,null,"GRP IP66 (IEC 529) \nNema 4x"]
[]
["Bornes de raccordement",null,null,null,null,null,null,null,null,null,null,"ENTRELEC ou  \nWEIDMÜLLER"]
[]
["Presse-étoupes d’entrée de câbles",null,null,null,null,"Polyamide",null,null,null,null,null,"Capri ou \nLutze",null,null,null,null,"Boite de jonction et capteur"]
[]
["Câbles de contrôle et instrumentation",null,null,null,null,"1,5 mm2  (AWG16)",null,null,null,null,null,"HELUKABEL",null,null,null,null,"300/500V DIN/VDE - \nSEV 600V-90°  UL / CSA"]
[]
[]
[]
[]
[]
[]
[]
[]
[]
[]
[]
[]
[]
[]
[]
[]
[]
[]
[]
[]
[]
[]
[]
[]
[]
[]
[]
[]
[]
[]
["4.",null,"SPECIFICATIONS PEINTURE"]
[]
[null,null,"GRENAILLAGE :",null,null,null,null,null,null,null,null,null,null,null,null,null,"GRADE : SA 2.5 of Swedish Standard SIS 055900"]
[]
[]
[null,null,"COUCHE PRIMAIRE :"]
[null,"-","Deux composants primaire époxy  - Zinc phosphate"]
[null,"-","Diluant : ",null,null,null,null,null,null,null,null,null,null,null,null,null,"No. 1"]
[null,"-","Epaisseur totale :",null,null,null,null,null,null,null,null,null,null,null,null,null,"90 µm"]
[null,"-","Fiche technique :",null,null,null,null,null,null,null,null,null,null,null,null,null,"FREITAG D03/09.2004"]
[]
[null,null,"COUCHE FINALE :"]
[null,"-","Deux composants époxy polyamide"]
[null,"-","Thinner: ",null,null,null,null,null,null,null,null,null,null,null,null,null,"No. 1"]
[null,"-","Total thickness: ",null,null,null,null,null,null,null,null,null,null,null,null,null,"90 µm"]
[]
[null,null,"TEINTE FINALE :",null,null,null,null,null,null,null,null,null,null,null,null,null,"BLUE - RAL 5012"]
[]
[null,null,"EPAISSEUR TOTAL DU SYSTEME : ",null,null,null,null,null,null,null,null,null,null,null,null,null,"180 µm"]
[]
[null,null,"RETOUCHES :"]
[null,null,"Pendant le montage les retouches nécessaires doivent être effectuées rapidement afin de réparer toutes les détériorations dues aux soudures, l’abrasion, l’impact etc…"]
[]
[null,null,"Les retouches sont normalement effectuées suite à la préparation de la surface par brossage à grade E, F, G / SP3 suivant le standard SSPC VIS 3."]
[]
[null,null,"Le nombre de couches primaire et finale et leurs épaisseurs doivent être spécifiés dans le cycle d’application."]
[]
[null,null,"Surface tolerant paints doivent être appliquées avec la même méthode sur les écrous & les boulons après le contrôle du serrage."]
[]
[]
["NOTE: ",null,"Nous informer, un mois maximum après la commande, en cas de modification du procédé ou de la couleur (susceptible de surcoût)."]
[]
[]
[]
[]
[]
[]
[]
[]
[]
[]
[]
[]
[]
[]
[]
[]
[]
[]
["5.",null,"LIMITE DE FOURNITURES"]
[]
["5.1.",null,"EQUIPEMENTS FOURNIS"]
[]
[null,null,"En règle générale, la fourniture s’arrête au matériel spécifiquement défini dans le descriptif du présent document. Les limites de fournitures sont précisées sur le plan d’ensemble, soit principalement : "]
[]
[]
[null,"-","Bride des goulottes d’alimentation pulpe"]
[null,"-","Brides des goulottes de lavage"]
[null,"-","Manchettes caoutchouc des tubulures de filtrat"]
[null,"-","Bride de trémie de déchargement du gâteau"]
[null,"-","Bride du collecteur à filtrats"]
[null,"-","Bride du collecteur d’eau"]
[null,"-","Alimentation d’air sur l’armoire de commande"]
[null,"-","Sur bornier des équipements électriques défini dans le descriptif"]
[]
["5.2.",null,"EXCLUSIONS"]
[]
[null,"-","Génie civil"]
[null,"-","Boulons d’ancrage"]
[null,"-","Tuyauteries de liaison et supportage entre les équipements"]
[null,"-","Passerelle de service"]
[null,"-","Armoire ou coffret électrique, instrumentation et la régulation"]
[null,"-","Câblage, supportage et raccordement des câbles"]
[null,"-","Inspection par autorités compétentes"]
[null,"-","Déchargement, stockage et manutention sur site"]
[null,"-","Retouches de peinture sur site"]
[]
["5.3.",null,"MODIFICATIONS"]
[]
[null,null,"Les spécifications  Techniques décrites dans ce document ne peuvent être modifiées sans l’accord de HASLER Group."]
[]
[]
["6.",null,"EC DECLARATION OF INTEGRATION & SAFETY PERSONNEL PROTECTION"]
[]
[null,null,"HASLER Group fournit une déclaration d’intégration CE et non un certificat.."]
[]
[null,null,"Ce qui veut dire que l’équipement décrit précédemment est destiné à s’intégrer dans un arrangement général ou à être ajouté à un ensemble d’équipement interagissant les uns avec les autres."]
[]
[]
[null,null,"En conséquence, le démarrage de l’équipement fourni par HASLER Group est interdit tant que l’arrangement général ou tout autre équipement interagissant avec les fournitures HASLER Group ne sont pas en accord avec la directive 98/37/CEE ou en accord avec les directives National du pays de démarrage."]
[]
[]
[]
[null,null,"D’après les standards CE, une protection doit être installée tout autour du filtre. HASLER Group fournit les protections autour du filtre. "]
[]
[]
[]
[]
["III – EQUIPEMENTS & SERVICES COMPLEMENTAIRES POUR FILTRE A BANDE SOUS VIDE ‘’PHILIPPE’’"]
[]
[]
[]
[]
[null,null,null,null,null,null,"CLIENT",null,null,null,null,null,null,null,null,{"$f":"Calculations!$C$2","v":"PKT"}]
[null,null,null,null,null,null,"REFERENCE CLIENT",null,null,null,null,null,null,null,null,{"$f":"Calculations!$C$4","v":"Soda ash filter"}]
[null,null,null,null,null,null,"NUMERO D'OFFRE",null,null,null,null,null,null,null,null,{"$f":"Calculations!$C$3&\"_\"&Calculations!$K$10&\"-\"&Calculations!$H$3","v":"760895_90B30-rev2"}]
[null,null,null,null,null,null,"PRODUIT",null,null,null,null,null,null,null,null,{"$f":"Calculations!$K$3","v":"Soda ash"}]
[null,null,null,null,null,null,"FILTRE SELECTIONNE",null,null,null,null,null,null,null,null,{"$f":"\"VACUUM BELT FILTER \"&Calculations!$C$9&\" m²\"","v":"VACUUM BELT FILTER 90 m²"}]
[null,null,null,null,null,null,"LARGEUR",null,null,null,null,null,null,null,null,{"$f":"Calculations!$E$9&\" mm\"","v":"3000 mm"}]
[null,null,null,null,null,null,"TYPE",null,null,null,null,null,null,null,null,{"$f":"Calculations!$K$10&\" - \"&Calculations!$I$9","v":"90B30 - SERIE 4"}]
[null,null,null,null,null,null,"DATE",null,null,null,null,null,null,null,null,{"$f":"Calculations!$R$2","v":"2026-02-11"}]
[]
[]
[]
[null,null,null,null,"EQUIPEMENTS ET SERVICES COMPLEMENTAIRES"]
[]
[null,null,null,null,"Annexe \"Machine à souder les toiles par ultrasons\""]
[null,null,null,null,"Annexe \"Hotte à vapeur\""]
[null,null,null,null,"Annexe \"Ballon séparateur\""]
[null,null,null,null,"Annexe \"Cyclone\""]
[null,null,null,null,"Annexe \"Laveur\""]
[null,null,null,null,"Annexe \"Pompe à vide\""]
[null,null,null,null,"Annexe \"Pompe à filtrat\""]
[null,null,null,null,"Annexe \"Tank de lavage toile et bande\""]
[null,null,null,null,"Annexe \"Tank de lavage gâteau\""]
[null,null,null,null,"Annexe \"Coffret de commande local\""]
[null,null,null,null,"Annexe \"Montage\""]
[null,null,null,null,"Annexe \"Mise en route\""]

{"sheet":"ULTRASONIC MACHINE-FR","index":93,"n_rows":44,"n_cols":9,"rows_kept":44,"cut":false,"hidden":true,"merged":[[1044,15,1044,20],[1046,0,1046,24],[987,2,988,23],[1013,2,1014,23],[1020,2,1022,23],[1023,2,1026,23],[1027,2,1028,23],[1032,0,1034,24],[964,2,965,23],[853,4,854,10],[863,2,864,23],[868,2,869,23],[870,2,871,23],[875,2,876,23],[878,2,879,23],[936,16,937,23],[955,2,956,23],[957,2,958,23],[959,2,960,23],[961,2,962,23],[801,2,802,23],[605,2,606,23],[618,2,619,23],[636,16,637,23],[654,16,656,23],[679,16,680,23],[692,16,694,23],[696,16,697,23],[711,16,712,23],[748,2,749,23],[767,2,769,23],[789,16,790,23],[568,2,570,23],[457,2,460,23],[465,2,469,23],[472,16,473,23],[475,16,476,23],[480,2,481,23],[482,2,482,23],[483,2,484,23],[514,16,515,23],[555,2,557,23],[560,2,561,23],[565,16,566,23],[455,2,456,23],[372,16,373,23],[377,16,378,23],[382,2,384,23],[385,2,385,23],[389,16,390,23],[412,2,413,23],[428,2,429,23],[430,4,430,23],[431,4,432,23],[434,4,435,23],[436,4,437,23],[370,16,371,23],[243,2,243,23],[244,2,245,23],[297,16,298,23],[316,2,317,23],[325,2,326,23],[335,16,336,23],[342,16,343,23],[345,16,346,23],[349,16,351,23],[355,16,356,23],[368,16,369,23],[241,2,242,23],[1,0,1,24],[7,2,14,23],[15,2,20,23],[52,0,54,24],[64,15,64,20],[66,0,66,24],[101,0,103,26],[175,16,176,23],[225,2,226,23],[232,4,234,23],[235,4,237,23]]}
[]
["Annexe \"MACHINE A SOUDER LES TOILES PAR ULTRASONS\""]
[]
[null,null,"Outillage spéciale "]
[]
[null,"-","UNE MACHINE A SOUDER LES TOILES PAR ULTRASONS"]
[]
[null,null,"Le générateur converti l’alimentation électrique de 220V/50 Hz ou 60 Hz du système en une énergie électrique de 35000 Hz. Le convertisseur piézoélectrique produit une oscillation mécanique à la même fréquence.\nLe pistolet à souder avec le convertisseur dirige l’oscillation haute fréquence vers les matières plastiques (toile filtrante) ce qui produit un échauffement due à la friction au point requis. Le plastique fond en une fraction de seconde et forme un assemblement moléculaire résistant."]
[]
[]
[]
[]
[]
[]
[]
[null,null,"L’énergie ultrasonique démarre avec l’enclenchement de l’impulseur incorporé dans la poignée de la machine.\nLe temps de soudure est contrôlé soit manuellement en gardant l’impulseur en position ouverte, soit automatiquement grâce à un chronomètre intégré à la machine. Le choix est fait à l’aide d’un bouton situé à l’avant du générateur."]
[]
[]
[]
[]
[]
[]
[null,"-","UN U 200x50x5 - LONGUEUR 3550: support pour le soudage ultrasonique de la toile"]
[null,"-","UN COUTEAU A CHAUD DUVAUCHEL : pour couper la toile"]
[null,"-","UN ROULEAU WINCH : pour étirer la toile"]
[]
[]
[]
[]
[]
[]
[]
[]
[]
[]
[]
[]
[]
[]
[]
[]
[]
[]
[null,null,null,null,null,null,null,null," "]

{"sheet":"FUME HOOD-FR","index":94,"n_rows":41,"n_cols":17,"rows_kept":41,"cut":false,"hidden":true,"merged":[[1041,15,1041,20],[1043,0,1043,24],[984,2,985,23],[1010,2,1011,23],[1017,2,1019,23],[1020,2,1023,23],[1024,2,1025,23],[1029,0,1031,24],[961,2,962,23],[850,4,851,10],[860,2,861,23],[865,2,866,23],[867,2,868,23],[872,2,873,23],[875,2,876,23],[933,16,934,23],[952,2,953,23],[954,2,955,23],[956,2,957,23],[958,2,959,23],[798,2,799,23],[602,2,603,23],[615,2,616,23],[633,16,634,23],[651,16,653,23],[676,16,677,23],[689,16,691,23],[693,16,694,23],[708,16,709,23],[745,2,746,23],[764,2,766,23],[786,16,787,23],[565,2,567,23],[454,2,457,23],[462,2,466,23],[469,16,470,23],[472,16,473,23],[477,2,478,23],[479,2,479,23],[480,2,481,23],[511,16,512,23],[552,2,554,23],[557,2,558,23],[562,16,563,23],[452,2,453,23],[369,16,370,23],[374,16,375,23],[379,2,381,23],[382,2,382,23],[386,16,387,23],[409,2,410,23],[425,2,426,23],[427,4,427,23],[428,4,429,23],[431,4,432,23],[433,4,434,23],[367,16,368,23],[240,2,240,23],[241,2,242,23],[294,16,295,23],[313,2,314,23],[322,2,323,23],[332,16,333,23],[339,16,340,23],[342,16,343,23],[346,16,348,23],[352,16,353,23],[365,16,366,23],[238,2,239,23],[1,0,1,24],[7,2,9,23],[10,2,12,23],[49,0,51,24],[61,15,61,20],[63,0,63,24],[98,0,100,26],[172,16,173,23],[222,2,223,23],[229,4,231,23],[232,4,234,23]]}
[]
["Annexe \"HOTTE A VAPEUR\""]
[]
[null,null,"HOTTE A VAPEUR"]
[]
[]
[]
[null,null,"Elle couvre tout ou une partie de la surface active du filtre. La hotte est contituée d’un bâti en profilé d’acier, constitué par plusieurs éléments assemblés entre eux. Le toit est constitué de plaque de polypropylène."]
[]
[]
[null,null,"Les côtés sont fermés par des panneaux translucides en PVC souple, ce qui permet un accès aisé à l’intérieur de la hotte et aux accessoires tels que les goulottes de lavage, le gâteau et les barrages. "]
[]
[]
[]
[null,"-","Bâti :",null,null,null,null,null,null,null,null,null,null,null,null,null,"316L"]
[null,"-","Longueur totale : ",null,null,null,null,null,null,null,null,null,null,null,null,null,{"$f":"IF(Calculations!J31=\"Oui\",Calculations!R55&\" mm\",IF(Calculations!J31=\"Bicar\",\"7000 mm\",\"0 mm\"))","v":"0 mm"}]
[null,"-","Débit de ventilation à prévoir :",null,null,null,null,null,null,null,null,null,null,null,null,null,{"$f":"Calculations!$AT$4&\" m3/h\"","v":"4100 m3/h"}]
[null,"-","Evacuations :",null,null,null,null,null,null,null,null,null,null,null,null,null,{"$f":"Calculations!$AT$5&\" x \"&Calculations!AT6&\" mm\"","v":"2 x 300 mm"}]
[null,"-","Ventilateur d'évacuation et tuyauterie :",null,null,null,null,null,null,null,null,null,null,null,null,null,"Exclus"]
[]
[]
[]
[]
[]
[]
[]
[]
[]
[]
[]
[]
[]
[]
[]
[]
[]
[]
[]
[]
[]
[null,null,null,null,null,null,null,null," "]

{"sheet":"BALLON 1-FR","index":95,"n_rows":41,"n_cols":17,"rows_kept":41,"cut":false,"hidden":true,"merged":[[1043,0,1043,24],[954,2,955,23],[956,2,957,23],[958,2,959,23],[961,2,962,23],[984,2,985,23],[1010,2,1011,23],[1017,2,1019,23],[1020,2,1023,23],[1024,2,1025,23],[1029,0,1031,24],[1041,15,1041,20],[952,2,953,23],[745,2,746,23],[764,2,766,23],[786,16,787,23],[798,2,799,23],[850,4,851,10],[860,2,861,23],[865,2,866,23],[867,2,868,23],[872,2,873,23],[875,2,876,23],[933,16,934,23],[708,16,709,23],[552,2,554,23],[557,2,558,23],[562,16,563,23],[565,2,567,23],[602,2,603,23],[615,2,616,23],[633,16,634,23],[651,16,653,23],[676,16,677,23],[689,16,691,23],[693,16,694,23],[511,16,512,23],[428,4,429,23],[431,4,432,23],[433,4,434,23],[452,2,453,23],[454,2,457,23],[462,2,466,23],[469,16,470,23],[472,16,473,23],[477,2,478,23],[479,2,479,23],[480,2,481,23],[427,4,427,23],[346,16,348,23],[352,16,353,23],[365,16,366,23],[367,16,368,23],[369,16,370,23],[374,16,375,23],[379,2,381,23],[382,2,382,23],[386,16,387,23],[409,2,410,23],[425,2,426,23],[342,16,343,23],[222,2,223,23],[229,4,231,23],[232,4,234,23],[238,2,239,23],[240,2,240,23],[241,2,242,23],[294,16,295,23],[313,2,314,23],[322,2,323,23],[332,16,333,23],[339,16,340,23],[172,16,173,23],[1,0,1,24],[49,0,51,24],[61,15,61,20],[63,0,63,24],[98,0,100,26]]}
[]
["Annexe \"BALLON SEPARATEUR\""]
[]
[null,"-","Matériau :",null,null,null,null,null,null,null,null,null,null,null,null,null,{"$f":"Calculations!$C$44","v":"316L"}]
[null,"-","Diamètre : ",null,null,null,null,null,null,null,null,null,null,null,null,null,{"$f":"Calculations!$E$44&\" mm\"","v":"3400 mm"}]
[]
[null,null,"Equipement"]
[]
[null,"-","Pieds supports : ",null,null,null,null,null,null,null,null,null,null,null,null,null,"Exclus"]
[null,"-","Connection \"A\":",null,null,null,null,null,null,null,null,null,null,null,null,null,{"$f":"Calculations!$G$44&\" mm\"","v":"700 mm"}]
[null,"-","Connection \"B\":",null,null,null,null,null,null,null,null,null,null,null,null,null,{"$f":"Calculations!$I$44&\" mm\"","v":"800 mm"}]
[null,"-","Connection \"C\":",null,null,null,null,null,null,null,null,null,null,null,null,null,{"$f":"Calculations!K44&\" mm\"","v":"500 mm"}]
[]
[null,null,"Autres connections :"]
[]
[null,"- ","Contrôle de niveau :",null,null,null,null,null,null,null,null,null,null,null,null,null,"DN50 (2\") - Nbre: 2"]
[null,"- ","PIT :",null,null,null,null,null,null,null,null,null,null,null,null,null,"DN50 (2\") - Nbre: 1"]
[]
[]
[]
[]
[]
[]
[]
[]
[]
[]
[]
[]
[]
[]
[]
[]
[]
[]
[]
[]
[]
[]
[]
[null,null,null,null,null,null,null,null," "]

{"sheet":"BALLON 2-FR","index":96,"n_rows":41,"n_cols":17,"rows_kept":41,"cut":false,"hidden":true,"merged":[[1043,0,1043,24],[954,2,955,23],[956,2,957,23],[958,2,959,23],[961,2,962,23],[984,2,985,23],[1010,2,1011,23],[1017,2,1019,23],[1020,2,1023,23],[1024,2,1025,23],[1029,0,1031,24],[1041,15,1041,20],[952,2,953,23],[745,2,746,23],[764,2,766,23],[786,16,787,23],[798,2,799,23],[850,4,851,10],[860,2,861,23],[865,2,866,23],[867,2,868,23],[872,2,873,23],[875,2,876,23],[933,16,934,23],[708,16,709,23],[552,2,554,23],[557,2,558,23],[562,16,563,23],[565,2,567,23],[602,2,603,23],[615,2,616,23],[633,16,634,23],[651,16,653,23],[676,16,677,23],[689,16,691,23],[693,16,694,23],[511,16,512,23],[428,4,429,23],[431,4,432,23],[433,4,434,23],[452,2,453,23],[454,2,457,23],[462,2,466,23],[469,16,470,23],[472,16,473,23],[477,2,478,23],[479,2,479,23],[480,2,481,23],[427,4,427,23],[346,16,348,23],[352,16,353,23],[365,16,366,23],[367,16,368,23],[369,16,370,23],[374,16,375,23],[379,2,381,23],[382,2,382,23],[386,16,387,23],[409,2,410,23],[425,2,426,23],[342,16,343,23],[222,2,223,23],[229,4,231,23],[232,4,234,23],[238,2,239,23],[240,2,240,23],[241,2,242,23],[294,16,295,23],[313,2,314,23],[322,2,323,23],[332,16,333,23],[339,16,340,23],[172,16,173,23],[1,0,1,24],[49,0,51,24],[61,15,61,20],[63,0,63,24],[98,0,100,26]]}
[]
["Annexe \"BALLON SEPARATEUR\""]
[]
[null,"-","Matériau :",null,null,null,null,null,null,null,null,null,null,null,null,null,{"$f":"Calculations!$C$44","v":"316L"}]
[null,"-","Diamètre : ",null,null,null,null,null,null,null,null,null,null,null,null,null,{"$f":"Calculations!$E$44&\" mm\"","v":"3400 mm"}]
[]
[null,null,"Equipement"]
[]
[null,"-","Pieds supports : ",null,null,null,null,null,null,null,null,null,null,null,null,null,"Exclus"]
[null,"-","Connection \"A\":",null,null,null,null,null,null,null,null,null,null,null,null,null,{"$f":"Calculations!$G$44&\" mm\"","v":"700 mm"}]
[null,"-","Connection \"B\":",null,null,null,null,null,null,null,null,null,null,null,null,null,{"$f":"Calculations!$I$44&\" mm\"","v":"800 mm"}]
[null,"-","Connection \"C\":",null,null,null,null,null,null,null,null,null,null,null,null,null,{"$f":"Calculations!K44&\" mm\"","v":"500 mm"}]
[]
[null,null,"Autres connections :"]
[]
[null,"- ","Contrôle de niveau :",null,null,null,null,null,null,null,null,null,null,null,null,null,"DN50 (2\") - Nbre: 2"]
[null,"- ","PIT :",null,null,null,null,null,null,null,null,null,null,null,null,null,"DN50 (2\") - Nbre: 1"]
[]
[]
[]
[]
[]
[]
[]
[]
[]
[]
[]
[]
[]
[]
[]
[]
[]
[]
[]
[]
[]
[]
[]
[null,null,null,null,null,null,null,null," "]

{"sheet":"BALLON 3-FR","index":97,"n_rows":41,"n_cols":17,"rows_kept":41,"cut":false,"hidden":true,"merged":[[1043,0,1043,24],[954,2,955,23],[956,2,957,23],[958,2,959,23],[961,2,962,23],[984,2,985,23],[1010,2,1011,23],[1017,2,1019,23],[1020,2,1023,23],[1024,2,1025,23],[1029,0,1031,24],[1041,15,1041,20],[952,2,953,23],[745,2,746,23],[764,2,766,23],[786,16,787,23],[798,2,799,23],[850,4,851,10],[860,2,861,23],[865,2,866,23],[867,2,868,23],[872,2,873,23],[875,2,876,23],[933,16,934,23],[708,16,709,23],[552,2,554,23],[557,2,558,23],[562,16,563,23],[565,2,567,23],[602,2,603,23],[615,2,616,23],[633,16,634,23],[651,16,653,23],[676,16,677,23],[689,16,691,23],[693,16,694,23],[511,16,512,23],[428,4,429,23],[431,4,432,23],[433,4,434,23],[452,2,453,23],[454,2,457,23],[462,2,466,23],[469,16,470,23],[472,16,473,23],[477,2,478,23],[479,2,479,23],[480,2,481,23],[427,4,427,23],[346,16,348,23],[352,16,353,23],[365,16,366,23],[367,16,368,23],[369,16,370,23],[374,16,375,23],[379,2,381,23],[382,2,382,23],[386,16,387,23],[409,2,410,23],[425,2,426,23],[342,16,343,23],[222,2,223,23],[229,4,231,23],[232,4,234,23],[238,2,239,23],[240,2,240,23],[241,2,242,23],[294,16,295,23],[313,2,314,23],[322,2,323,23],[332,16,333,23],[339,16,340,23],[172,16,173,23],[1,0,1,24],[49,0,51,24],[61,15,61,20],[63,0,63,24],[98,0,100,26]]}
[]
["Annexe \"BALLON SEPARATEUR\""]
[]
[null,"-","Matériau :",null,null,null,null,null,null,null,null,null,null,null,null,null,{"$f":"Calculations!$C$44","v":"316L"}]
[null,"-","Diamètre : ",null,null,null,null,null,null,null,null,null,null,null,null,null,{"$f":"Calculations!$E$44&\" mm\"","v":"3400 mm"}]
[]
[null,null,"Equipement"]
[]
[null,"-","Pieds supports : ",null,null,null,null,null,null,null,null,null,null,null,null,null,"Exclus"]
[null,"-","Connection \"A\":",null,null,null,null,null,null,null,null,null,null,null,null,null,{"$f":"Calculations!$G$44&\" mm\"","v":"700 mm"}]
[null,"-","Connection \"B\":",null,null,null,null,null,null,null,null,null,null,null,null,null,{"$f":"Calculations!$I$44&\" mm\"","v":"800 mm"}]
[null,"-","Connection \"C\":",null,null,null,null,null,null,null,null,null,null,null,null,null,{"$f":"Calculations!K44&\" mm\"","v":"500 mm"}]
[]
[null,null,"Autres connections :"]
[]
[null,"- ","Contrôle de niveau :",null,null,null,null,null,null,null,null,null,null,null,null,null,"DN50 (2\") - Nbre: 2"]
[null,"- ","PIT :",null,null,null,null,null,null,null,null,null,null,null,null,null,"DN50 (2\") - Nbre: 1"]
[]
[]
[]
[]
[]
[]
[]
[]
[]
[]
[]
[]
[]
[]
[]
[]
[]
[]
[]
[]
[]
[]
[]
[null,null,null,null,null,null,null,null," "]

{"sheet":"BALLON 4-FR","index":98,"n_rows":41,"n_cols":17,"rows_kept":41,"cut":false,"hidden":true,"merged":[[1043,0,1043,24],[954,2,955,23],[956,2,957,23],[958,2,959,23],[961,2,962,23],[984,2,985,23],[1010,2,1011,23],[1017,2,1019,23],[1020,2,1023,23],[1024,2,1025,23],[1029,0,1031,24],[1041,15,1041,20],[952,2,953,23],[745,2,746,23],[764,2,766,23],[786,16,787,23],[798,2,799,23],[850,4,851,10],[860,2,861,23],[865,2,866,23],[867,2,868,23],[872,2,873,23],[875,2,876,23],[933,16,934,23],[708,16,709,23],[552,2,554,23],[557,2,558,23],[562,16,563,23],[565,2,567,23],[602,2,603,23],[615,2,616,23],[633,16,634,23],[651,16,653,23],[676,16,677,23],[689,16,691,23],[693,16,694,23],[511,16,512,23],[428,4,429,23],[431,4,432,23],[433,4,434,23],[452,2,453,23],[454,2,457,23],[462,2,466,23],[469,16,470,23],[472,16,473,23],[477,2,478,23],[479,2,479,23],[480,2,481,23],[427,4,427,23],[346,16,348,23],[352,16,353,23],[365,16,366,23],[367,16,368,23],[369,16,370,23],[374,16,375,23],[379,2,381,23],[382,2,382,23],[386,16,387,23],[409,2,410,23],[425,2,426,23],[342,16,343,23],[222,2,223,23],[229,4,231,23],[232,4,234,23],[238,2,239,23],[240,2,240,23],[241,2,242,23],[294,16,295,23],[313,2,314,23],[322,2,323,23],[332,16,333,23],[339,16,340,23],[172,16,173,23],[1,0,1,24],[49,0,51,24],[61,15,61,20],[63,0,63,24],[98,0,100,26]]}
[]
["Annexe \"BALLON SEPARATEUR\""]
[]
[null,"-","Matériau :",null,null,null,null,null,null,null,null,null,null,null,null,null,{"$f":"Calculations!$C$44","v":"316L"}]
[null,"-","Diamètre : ",null,null,null,null,null,null,null,null,null,null,null,null,null,{"$f":"Calculations!$E$44&\" mm\"","v":"3400 mm"}]
[]
[null,null,"Equipement"]
[]
[null,"-","Pieds supports : ",null,null,null,null,null,null,null,null,null,null,null,null,null,"Exclus"]
[null,"-","Connection \"A\":",null,null,null,null,null,null,null,null,null,null,null,null,null,{"$f":"Calculations!$G$44&\" mm\"","v":"700 mm"}]
[null,"-","Connection \"B\":",null,null,null,null,null,null,null,null,null,null,null,null,null,{"$f":"Calculations!$I$44&\" mm\"","v":"800 mm"}]
[null,"-","Connection \"C\":",null,null,null,null,null,null,null,null,null,null,null,null,null,{"$f":"Calculations!K44&\" mm\"","v":"500 mm"}]
[]
[null,null,"Autres connections :"]
[]
[null,"- ","Contrôle de niveau :",null,null,null,null,null,null,null,null,null,null,null,null,null,"DN50 (2\") - Nbre: 2"]
[null,"- ","PIT :",null,null,null,null,null,null,null,null,null,null,null,null,null,"DN50 (2\") - Nbre: 1"]
[]
[]
[]
[]
[]
[]
[]
[]
[]
[]
[]
[]
[]
[]
[]
[]
[]
[]
[]
[]
[]
[]
[]
[null,null,null,null,null,null,null,null," "]

{"sheet":"CYCLONE-FR","index":99,"n_rows":42,"n_cols":19,"rows_kept":42,"cut":false,"hidden":true,"merged":[[172,17,173,24],[1,0,1,25],[4,17,4,19],[22,17,25,18],[23,11,23,13],[28,18,32,19],[29,7,29,9],[31,15,35,16],[33,7,33,8],[41,15,43,16],[49,0,51,25],[61,16,61,21],[63,0,63,25],[98,0,100,27],[342,17,343,24],[222,3,223,24],[229,5,231,24],[232,5,234,24],[238,3,239,24],[240,3,240,24],[241,3,242,24],[294,17,295,24],[313,3,314,24],[322,3,323,24],[332,17,333,24],[339,17,340,24],[427,5,427,24],[346,17,348,24],[352,17,353,24],[365,17,366,24],[367,17,368,24],[369,17,370,24],[374,17,375,24],[379,3,381,24],[382,3,382,24],[386,17,387,24],[409,3,410,24],[425,3,426,24],[511,17,512,24],[428,5,429,24],[431,5,432,24],[433,5,434,24],[452,3,453,24],[454,3,457,24],[462,3,466,24],[469,17,470,24],[472,17,473,24],[477,3,478,24],[479,3,479,24],[480,3,481,24],[708,17,709,24],[552,3,554,24],[557,3,558,24],[562,17,563,24],[565,3,567,24],[602,3,603,24],[615,3,616,24],[633,17,634,24],[651,17,653,24],[676,17,677,24],[689,17,691,24],[693,17,694,24],[952,3,953,24],[745,3,746,24],[764,3,766,24],[786,17,787,24],[798,3,799,24],[850,5,851,11],[860,3,861,24],[865,3,866,24],[867,3,868,24],[872,3,873,24],[875,3,876,24],[933,17,934,24],[1043,0,1043,25],[954,3,955,24],[956,3,957,24],[958,3,959,24],[961,3,962,24],[984,3,985,24],[1010,3,1011,24],[1017,3,1019,24],[1020,3,1023,24],[1024,3,1025,24],[1029,0,1031,25],[1041,16,1041,21]]}
[]
["Annexe \"CYCLONE\""]
[]
[null,null,"-","Matériau :",null,null,null,null,null,null,null,null,null,null,null,null,null,{"$f":"Calculations!$C$46","v":"316L"}]
[null,null,"-","Diamètre : ",null,null,null,null,null,null,null,null,null,null,null,null,null,{"$f":"Calculations!$E$46","v":3000}]
[]
[null,null,null,"Equipement"]
[]
[null,null,"-","Pieds supports : ",null,null,null,null,null,null,null,null,null,null,null,null,null,{"$f":"IF(Calculations!R46=\"Non\", \"Exclu\", \"Inclus\")","v":"Exclu"}]
[null,null,"-","Connection \"A\":",null,null,null,null,null,null,null,null,null,null,null,null,null,{"$f":"Calculations!$G$46&\" mm\"","v":"800 mm"}]
[null,null,"-","Connection \"B\":",null,null,null,null,null,null,null,null,null,null,null,null,null,{"$f":"Calculations!$I$46&\" mm\"","v":"800 mm"}]
[null,null,"-","Connection \"C\":",null,null,null,null,null,null,null,null,null,null,null,null,null,{"$f":"Calculations!K46&\" mm\"","v":"40 mm"}]
[]
[]
[]
[]
[]
[]
[]
[]
[]
[]
[null,null,null,null,null,null,null,null,null,null,null,null,null,null,null,null,null,{"$f":"'Cyclone.'!F30","v":1800}]
[null,null,null,null,null,null,null,null,null,null,null,{"$f":"'Cyclone.'!D31","v":1600}]
[]
[]
[]
[]
[null,null,null,null,null,null,null,null,null,null,null,null,null,null,null,null,null,null,{"$f":"'Cyclone.'!F35","v":4000}]
[null,null,null,null,null,null,null,{"$f":"'Cyclone.'!D37","v":3000}]
[]
[null,null,null,null,null,null,null,null,null,null,null,null,null,null,null,{"$f":"'Cyclone.'!F40","v":3800}]
[]
[null,null,null,null,null,null,null,{"$f":"'Cyclone.'!C41","v":3727},null,"Kg"]
[]
[null,null,null,null,null,null,null,null,null,"60°"]
[]
[]
[]
[]
[]
[null,null,null,null,null,null,null,null,null,null,null,null,null,null,null,{"$f":"'Cyclone.'!F49","v":100}]

{"sheet":"LAVEUR-FR","index":100,"n_rows":45,"n_cols":19,"rows_kept":45,"cut":false,"hidden":true,"merged":[[103,0,105,27],[1,0,1,25],[4,17,4,19],[28,18,34,19],[29,9,30,11],[30,16,33,17],[31,12,31,14],[37,17,41,18],[44,16,45,17],[54,0,56,25],[66,16,66,21],[68,0,68,25],[344,17,345,24],[177,17,178,24],[227,3,228,24],[234,5,236,24],[237,5,239,24],[243,3,244,24],[245,3,245,24],[246,3,247,24],[299,17,300,24],[318,3,319,24],[327,3,328,24],[337,17,338,24],[430,3,431,24],[347,17,348,24],[351,17,353,24],[357,17,358,24],[370,17,371,24],[372,17,373,24],[374,17,375,24],[379,17,380,24],[384,3,386,24],[387,3,387,24],[391,17,392,24],[414,3,415,24],[485,3,486,24],[432,5,432,24],[433,5,434,24],[436,5,437,24],[438,5,439,24],[457,3,458,24],[459,3,462,24],[467,3,471,24],[474,17,475,24],[477,17,478,24],[482,3,483,24],[484,3,484,24],[698,17,699,24],[516,17,517,24],[557,3,559,24],[562,3,563,24],[567,17,568,24],[570,3,572,24],[607,3,608,24],[620,3,621,24],[638,17,639,24],[656,17,658,24],[681,17,682,24],[694,17,696,24],[872,3,873,24],[877,3,878,24],[880,3,881,24],[938,17,939,24],[713,17,714,24],[750,3,751,24],[769,3,771,24],[791,17,792,24],[803,3,804,24],[855,5,856,11],[1048,0,1048,25],[38,12,38,13],[1015,3,1016,24],[1022,3,1024,24],[1025,3,1028,24],[1029,3,1030,24],[1034,0,1036,25],[1046,16,1046,21],[957,3,958,24],[959,3,960,24],[961,3,962,24],[963,3,964,24],[966,3,967,24],[989,3,990,24],[865,3,866,24],[870,3,871,24]]}
[]
["Annexe \"LAVEUR\""]
[]
[null,null,"-","Matériau :",null,null,null,null,null,null,null,null,null,null,null,null,null,{"$f":"Calculations!$C$48","v":"316L"}]
[null,null,"-","Diamètre : ",null,null,null,null,null,null,null,null,null,null,null,null,null,{"$f":"Calculations!$E$48","v":3000}]
[]
[null,null,null,"Equipement"]
[]
[null,null,"-","Ensemble de pulvérisation "]
[null,null,null,null,"•","Tuyauterie :",null,null,null,null,null,null,null,null,null,null,null,"Polypropylene"]
[null,null,null,null,"•","Pulvérisateur : ",null,null,null,null,null,null,null,null,null,null,null,"Polypropylene"]
[]
[]
[null,null,"-","Pieds supports : ",null,null,null,null,null,null,null,null,null,null,null,null,null,{"$f":"IF(Calculations!R48=\"Non\", \"Exclu\", \"Inclus\")","v":"Exclu"}]
[null,null,"-","Connection \"A\":",null,null,null,null,null,null,null,null,null,null,null,null,null,{"$f":"Calculations!$G$48&\" mm\"","v":"800 mm"}]
[null,null,"-","Connection \"B\":",null,null,null,null,null,null,null,null,null,null,null,null,null,{"$f":"Calculations!$I$48&\" mm\"","v":"800 mm"}]
[null,null,"-","Connection \"C\":",null,null,null,null,null,null,null,null,null,null,null,null,null,{"$f":"Calculations!K48&\" mm\"","v":"250 mm"}]
[null,null,"-","Connection \"D\":",null,null,null,null,null,null,null,null,null,null,null,null,null,"TBD"]
[]
[]
[]
[]
[]
[]
[]
[]
[]
[]
[null,null,null,null,null,null,null,null,null,null,null,null,null,null,null,null,null,null,{"$f":"Laveur.!G35","v":4000}]
[null,null,null,null,null,null,null,null,null,{"$f":"Laveur.!E34","v":3000}]
[null,null,null,null,null,null,null,null,null,null,null,null,null,null,null,null,{"$f":"Laveur.!G40","v":3800}]
[null,null,null,null,null,null,null,null,null,null,null,null,{"$f":"Laveur.!E36","v":1600}]
[]
[]
[]
[]
[]
[null,null,null,null,null,null,null,null,null,null,null,null,null,null,null,null,null,{"$f":"Laveur.!G43","v":1800}]
[null,null,null,null,null,null,null,null,null,null,null,null,{"$f":"LAVEUR!M36","v":3727},null,"Kg"]
[]
[null,null,null,null,null,null,null,null,null," "]
[]
[]
[]
[null,null,null,null,null,null,null,null,null,null,null,null,null,null,null,null,{"$f":"Laveur.!G49","v":100}]

{"sheet":"VAC PUMP-FR","index":101,"n_rows":43,"n_cols":19,"rows_kept":43,"cut":false,"hidden":true,"merged":[[1045,15,1045,20],[1047,0,1047,24],[988,2,989,23],[1014,2,1015,23],[1021,2,1023,23],[1024,2,1027,23],[1028,2,1029,23],[1033,0,1035,24],[965,2,966,23],[854,4,855,10],[864,2,865,23],[869,2,870,23],[871,2,872,23],[876,2,877,23],[879,2,880,23],[937,16,938,23],[956,2,957,23],[958,2,959,23],[960,2,961,23],[962,2,963,23],[802,2,803,23],[606,2,607,23],[619,2,620,23],[637,16,638,23],[655,16,657,23],[680,16,681,23],[693,16,695,23],[697,16,698,23],[712,16,713,23],[749,2,750,23],[768,2,770,23],[790,16,791,23],[569,2,571,23],[458,2,461,23],[466,2,470,23],[473,16,474,23],[476,16,477,23],[481,2,482,23],[483,2,483,23],[484,2,485,23],[515,16,516,23],[556,2,558,23],[561,2,562,23],[566,16,567,23],[456,2,457,23],[373,16,374,23],[378,16,379,23],[383,2,385,23],[386,2,386,23],[390,16,391,23],[413,2,414,23],[429,2,430,23],[431,4,431,23],[432,4,433,23],[435,4,436,23],[437,4,438,23],[371,16,372,23],[244,2,244,23],[245,2,246,23],[298,16,299,23],[317,2,318,23],[326,2,327,23],[336,16,337,23],[343,16,344,23],[346,16,347,23],[350,16,352,23],[356,16,357,23],[369,16,370,23],[242,2,243,23],[1,0,1,24],[23,2,24,23],[25,2,27,23],[53,0,55,24],[65,15,65,20],[67,0,67,24],[102,0,104,26],[176,16,177,23],[226,2,227,23],[233,4,235,23],[236,4,238,23],[6,16,6,17],[7,16,7,17]]}
[]
["Appendix \"POMPE A VIDE\""]
[]
[null,"-","Type :",null,null,null,null,null,null,null,null,null,null,null,null,null,"Anneau liquide"]
[null,"-","Quantité :",null,null,null,null,null,null,null,null,null,null,null,null,null,"1 par filtre"]
[null,"-","Matériau :",null,null,null,null,null,null,null,null,null,null,null,null,null,"Fonte et acier peint"]
[null,"-","Delta Pressure:",null,null,null,null,null,null,null,null,null,null,null,null,null,{"$f":"'Spec PAV'!B26","v":-613},null,"mbar rel"]
[null,"-","Nominal pressure: ",null,null,null,null,null,null,null,null,null,null,null,null,null,{"$f":"'Spec PAV'!B27","v":400},null,"mbar abs"]
[]
[null,null,"Critère de dimensionnement "]
[]
[null,"-","Température de gaz :"]
[null,"-","Température d'eau d'anneau liquide :"]
[null,"-","Altitude :"]
[]
[null,null,"Caratéristiques :"]
[]
[null,"-","Débit : ",null,null,null,null,null,null,null,null,null,null,null,null,null,{"$f":"Calculations!N11&\" m3/h\"","v":"43020 m3/h"}]
[null,"-","Vitesse de rotation :"]
[null,"-","Puissance absorbée :"]
[null,"-","Puissance installée :"]
[null,"-","Débit d'eau d'anneau liquide :"]
[null,"-","Niveau de bruit : ",null,null,null,null,null,null,null,null,null,null,null,null,null,"85 dB(A) à un mètre"]
["NOTE: ",null,"Bruit mesuré dans un lieu ouvert et avec la sortie air connectée à une tuyauterie (hors fourniture) sans que celle-ci induise des réverbérations mécaniques ou de bruit de bouche. "]
[]
[null,null,"L’eau d’injection doit être non charge de matière abrasive ou obstruante, à température normale, non calcaire ou incrustante, non corrosive. En cas contraire, il conviendra de traiter l’eau."]
[]
[]
[]
[null,null,"Accessoires :"]
[]
[null,"-","Tuyauterie d’alimentation en eau équipée de :"]
[null,null,null,"•","1 manomètre avec robinet de coupure"]
[null,null,null,"•","1 vanne de contrôle manuelle"]
[null,null,null,"•","1 vanne d’isolation"]
[null,null,null,"•","1 débitmètre"]
[null,"-","1 Séparateur"]
[null,"-","1 Soupape casse vide fournie détachée, installée par le client sur la ligne du vide."]
[null,"-","Embase pour pompe et moteur "]
[null,"-","Moteur électrique"]
[null,"-","Réducteur & transmission complète avec carter de protection"]
[]
[null,"-","Peinture : selon standard fournisseur"]

{"sheet":"FILTRATE PUMP 1-FR","index":102,"n_rows":41,"n_cols":9,"rows_kept":41,"cut":false,"hidden":true,"merged":[[1048,0,1048,24],[959,2,960,23],[961,2,962,23],[963,2,964,23],[966,2,967,23],[989,2,990,23],[1015,2,1016,23],[1022,2,1024,23],[1025,2,1028,23],[1029,2,1030,23],[1034,0,1036,24],[1046,15,1046,20],[957,2,958,23],[750,2,751,23],[769,2,771,23],[791,16,792,23],[803,2,804,23],[855,4,856,10],[865,2,866,23],[870,2,871,23],[872,2,873,23],[877,2,878,23],[880,2,881,23],[938,16,939,23],[713,16,714,23],[557,2,559,23],[562,2,563,23],[567,16,568,23],[570,2,572,23],[607,2,608,23],[620,2,621,23],[638,16,639,23],[656,16,658,23],[681,16,682,23],[694,16,696,23],[698,16,699,23],[516,16,517,23],[433,4,434,23],[436,4,437,23],[438,4,439,23],[457,2,458,23],[459,2,462,23],[467,2,471,23],[474,16,475,23],[477,16,478,23],[482,2,483,23],[484,2,484,23],[485,2,486,23],[432,4,432,23],[351,16,353,23],[357,16,358,23],[370,16,371,23],[372,16,373,23],[374,16,375,23],[379,16,380,23],[384,2,386,23],[387,2,387,23],[391,16,392,23],[414,2,415,23],[430,2,431,23],[347,16,348,23],[227,2,228,23],[234,4,236,23],[237,4,239,23],[243,2,244,23],[245,2,245,23],[246,2,247,23],[299,16,300,23],[318,2,319,23],[327,2,328,23],[337,16,338,23],[344,16,345,23],[177,16,178,23],[1,0,1,24],[54,0,56,24],[66,15,66,20],[68,0,68,24],[103,0,105,26]]}
[]
["Annexe \"POMPE A FILTRATS\""]
[]
[null,"-","Type :"]
[null,"-","Débit :"]
[null,"-","H.M.T. :"]
[null,"-","N.P.S.H. : "]
[null,"-","Matériau : "]
[null,"-","Etanchéité : "]
[null,"-","Lubrification : "]
[null,"-","Puissance absorbée :"]
[null,"-","Puissance installée :"]
[]
[null,null,"Accessoires "]
[]
[null,"-","Accouplement complet pour entraînement"]
[null,"-","Embase pour pompe et moteur "]
[null,"-","Moteur électrique"]
[]
[null,"-","Peinture : selon standard fournisseur"]
[]
[]
[]
[]
[]
[]
[]
[]
[]
[]
[]
[]
[]
[]
[]
[]
[]
[]
[]
[]
[null,null,null,null,null,null,null,null," "]

{"sheet":"FILTRATE PUMP 2-FR","index":103,"n_rows":41,"n_cols":9,"rows_kept":41,"cut":false,"hidden":true,"merged":[[1048,0,1048,24],[959,2,960,23],[961,2,962,23],[963,2,964,23],[966,2,967,23],[989,2,990,23],[1015,2,1016,23],[1022,2,1024,23],[1025,2,1028,23],[1029,2,1030,23],[1034,0,1036,24],[1046,15,1046,20],[957,2,958,23],[750,2,751,23],[769,2,771,23],[791,16,792,23],[803,2,804,23],[855,4,856,10],[865,2,866,23],[870,2,871,23],[872,2,873,23],[877,2,878,23],[880,2,881,23],[938,16,939,23],[713,16,714,23],[557,2,559,23],[562,2,563,23],[567,16,568,23],[570,2,572,23],[607,2,608,23],[620,2,621,23],[638,16,639,23],[656,16,658,23],[681,16,682,23],[694,16,696,23],[698,16,699,23],[516,16,517,23],[433,4,434,23],[436,4,437,23],[438,4,439,23],[457,2,458,23],[459,2,462,23],[467,2,471,23],[474,16,475,23],[477,16,478,23],[482,2,483,23],[484,2,484,23],[485,2,486,23],[432,4,432,23],[351,16,353,23],[357,16,358,23],[370,16,371,23],[372,16,373,23],[374,16,375,23],[379,16,380,23],[384,2,386,23],[387,2,387,23],[391,16,392,23],[414,2,415,23],[430,2,431,23],[347,16,348,23],[227,2,228,23],[234,4,236,23],[237,4,239,23],[243,2,244,23],[245,2,245,23],[246,2,247,23],[299,16,300,23],[318,2,319,23],[327,2,328,23],[337,16,338,23],[344,16,345,23],[177,16,178,23],[1,0,1,24],[54,0,56,24],[66,15,66,20],[68,0,68,24],[103,0,105,26]]}
[]
["Annexe \"POMPE A FILTRATS\""]
[]
[null,"-","Type :"]
[null,"-","Débit :"]
[null,"-","H.M.T. :"]
[null,"-","N.P.S.H. : "]
[null,"-","Matériau : "]
[null,"-","Etanchéité : "]
[null,"-","Lubrification : "]
[null,"-","Puissance absorbée :"]
[null,"-","Puissance installée :"]
[]
[null,null,"Accessoires "]
[]
[null,"-","Accouplement complet pour entraînement"]
[null,"-","Embase pour pompe et moteur "]
[null,"-","Moteur électrique"]
[]
[null,"-","Peinture : selon standard fournisseur"]
[]
[]
[]
[]
[]
[]
[]
[]
[]
[]
[]
[]
[]
[]
[]
[]
[]
[]
[]
[]
[null,null,null,null,null,null,null,null," "]

{"sheet":"FILTRATE PUMP 3-FR","index":104,"n_rows":41,"n_cols":9,"rows_kept":41,"cut":false,"hidden":true,"merged":[[1048,0,1048,24],[959,2,960,23],[961,2,962,23],[963,2,964,23],[966,2,967,23],[989,2,990,23],[1015,2,1016,23],[1022,2,1024,23],[1025,2,1028,23],[1029,2,1030,23],[1034,0,1036,24],[1046,15,1046,20],[957,2,958,23],[750,2,751,23],[769,2,771,23],[791,16,792,23],[803,2,804,23],[855,4,856,10],[865,2,866,23],[870,2,871,23],[872,2,873,23],[877,2,878,23],[880,2,881,23],[938,16,939,23],[713,16,714,23],[557,2,559,23],[562,2,563,23],[567,16,568,23],[570,2,572,23],[607,2,608,23],[620,2,621,23],[638,16,639,23],[656,16,658,23],[681,16,682,23],[694,16,696,23],[698,16,699,23],[516,16,517,23],[433,4,434,23],[436,4,437,23],[438,4,439,23],[457,2,458,23],[459,2,462,23],[467,2,471,23],[474,16,475,23],[477,16,478,23],[482,2,483,23],[484,2,484,23],[485,2,486,23],[432,4,432,23],[351,16,353,23],[357,16,358,23],[370,16,371,23],[372,16,373,23],[374,16,375,23],[379,16,380,23],[384,2,386,23],[387,2,387,23],[391,16,392,23],[414,2,415,23],[430,2,431,23],[347,16,348,23],[227,2,228,23],[234,4,236,23],[237,4,239,23],[243,2,244,23],[245,2,245,23],[246,2,247,23],[299,16,300,23],[318,2,319,23],[327,2,328,23],[337,16,338,23],[344,16,345,23],[177,16,178,23],[1,0,1,24],[54,0,56,24],[66,15,66,20],[68,0,68,24],[103,0,105,26]]}
[]
["Annexe \"POMPE A FILTRATS\""]
[]
[null,"-","Type :"]
[null,"-","Débit :"]
[null,"-","H.M.T. :"]
[null,"-","N.P.S.H. : "]
[null,"-","Matériau : "]
[null,"-","Etanchéité : "]
[null,"-","Lubrification : "]
[null,"-","Puissance absorbée :"]
[null,"-","Puissance installée :"]
[]
[null,null,"Accessoires "]
[]
[null,"-","Accouplement complet pour entraînement"]
[null,"-","Embase pour pompe et moteur "]
[null,"-","Moteur électrique"]
[]
[null,"-","Peinture : selon standard fournisseur"]
[]
[]
[]
[]
[]
[]
[]
[]
[]
[]
[]
[]
[]
[]
[]
[]
[]
[]
[]
[]
[null,null,null,null,null,null,null,null," "]

{"sheet":"FILTRATE PUMP 4-FR","index":105,"n_rows":41,"n_cols":9,"rows_kept":41,"cut":false,"hidden":true,"merged":[[1048,0,1048,24],[959,2,960,23],[961,2,962,23],[963,2,964,23],[966,2,967,23],[989,2,990,23],[1015,2,1016,23],[1022,2,1024,23],[1025,2,1028,23],[1029,2,1030,23],[1034,0,1036,24],[1046,15,1046,20],[957,2,958,23],[750,2,751,23],[769,2,771,23],[791,16,792,23],[803,2,804,23],[855,4,856,10],[865,2,866,23],[870,2,871,23],[872,2,873,23],[877,2,878,23],[880,2,881,23],[938,16,939,23],[713,16,714,23],[557,2,559,23],[562,2,563,23],[567,16,568,23],[570,2,572,23],[607,2,608,23],[620,2,621,23],[638,16,639,23],[656,16,658,23],[681,16,682,23],[694,16,696,23],[698,16,699,23],[516,16,517,23],[433,4,434,23],[436,4,437,23],[438,4,439,23],[457,2,458,23],[459,2,462,23],[467,2,471,23],[474,16,475,23],[477,16,478,23],[482,2,483,23],[484,2,484,23],[485,2,486,23],[432,4,432,23],[351,16,353,23],[357,16,358,23],[370,16,371,23],[372,16,373,23],[374,16,375,23],[379,16,380,23],[384,2,386,23],[387,2,387,23],[391,16,392,23],[414,2,415,23],[430,2,431,23],[347,16,348,23],[227,2,228,23],[234,4,236,23],[237,4,239,23],[243,2,244,23],[245,2,245,23],[246,2,247,23],[299,16,300,23],[318,2,319,23],[327,2,328,23],[337,16,338,23],[344,16,345,23],[177,16,178,23],[1,0,1,24],[54,0,56,24],[66,15,66,20],[68,0,68,24],[103,0,105,26]]}
[]
["Annexe \"POMPE A FILTRATS\""]
[]
[null,"-","Type :"]
[null,"-","Débit :"]
[null,"-","H.M.T. :"]
[null,"-","N.P.S.H. : "]
[null,"-","Matériau : "]
[null,"-","Etanchéité : "]
[null,"-","Lubrification : "]
[null,"-","Puissance absorbée :"]
[null,"-","Puissance installée :"]
[]
[null,null,"Accessoires "]
[]
[null,"-","Accouplement complet pour entraînement"]
[null,"-","Embase pour pompe et moteur "]
[null,"-","Moteur électrique"]
[]
[null,"-","Peinture : selon standard fournisseur"]
[]
[]
[]
[]
[]
[]
[]
[]
[]
[]
[]
[]
[]
[]
[]
[]
[]
[]
[]
[]
[null,null,null,null,null,null,null,null," "]

{"sheet":"C&B WASH TANK-FR","index":106,"n_rows":41,"n_cols":9,"rows_kept":41,"cut":false,"hidden":true,"merged":[[1048,0,1048,24],[959,2,960,23],[961,2,962,23],[963,2,964,23],[966,2,967,23],[989,2,990,23],[1015,2,1016,23],[1022,2,1024,23],[1025,2,1028,23],[1029,2,1030,23],[1034,0,1036,24],[1046,15,1046,20],[957,2,958,23],[750,2,751,23],[769,2,771,23],[791,16,792,23],[803,2,804,23],[855,4,856,10],[865,2,866,23],[870,2,871,23],[872,2,873,23],[877,2,878,23],[880,2,881,23],[938,16,939,23],[713,16,714,23],[557,2,559,23],[562,2,563,23],[567,16,568,23],[570,2,572,23],[607,2,608,23],[620,2,621,23],[638,16,639,23],[656,16,658,23],[681,16,682,23],[694,16,696,23],[698,16,699,23],[516,16,517,23],[433,4,434,23],[436,4,437,23],[438,4,439,23],[457,2,458,23],[459,2,462,23],[467,2,471,23],[474,16,475,23],[477,16,478,23],[482,2,483,23],[484,2,484,23],[485,2,486,23],[432,4,432,23],[351,16,353,23],[357,16,358,23],[370,16,371,23],[372,16,373,23],[374,16,375,23],[379,16,380,23],[384,2,386,23],[387,2,387,23],[391,16,392,23],[414,2,415,23],[430,2,431,23],[347,16,348,23],[227,2,228,23],[234,4,236,23],[237,4,239,23],[243,2,244,23],[245,2,245,23],[246,2,247,23],[299,16,300,23],[318,2,319,23],[327,2,328,23],[337,16,338,23],[344,16,345,23],[177,16,178,23],[1,0,1,24],[54,0,56,24],[66,15,66,20],[68,0,68,24],[103,0,105,26]]}
[]
["Annexe \"TANK DE LAVAGE TOILE ET BANDE\""]
[]
[null,"-","Type :"]
[null,"-","Volume :"]
[null,"-","Diamètre :"]
[null,"-","Hauteur : "]
[null,"-","Matériau :"]
[null,"-","Détecteur de niveau :"]
[]
[]
[]
[]
[]
[]
[]
[]
[]
[]
[]
[]
[]
[]
[]
[]
[]
[]
[]
[]
[]
[]
[]
[]
[]
[]
[]
[]
[]
[]
[]
[null,null,null,null,null,null,null,null," "]

{"sheet":"CAKE WASH TANK-FR","index":107,"n_rows":41,"n_cols":9,"rows_kept":41,"cut":false,"hidden":true,"merged":[[1048,0,1048,24],[959,2,960,23],[961,2,962,23],[963,2,964,23],[966,2,967,23],[989,2,990,23],[1015,2,1016,23],[1022,2,1024,23],[1025,2,1028,23],[1029,2,1030,23],[1034,0,1036,24],[1046,15,1046,20],[957,2,958,23],[750,2,751,23],[769,2,771,23],[791,16,792,23],[803,2,804,23],[855,4,856,10],[865,2,866,23],[870,2,871,23],[872,2,873,23],[877,2,878,23],[880,2,881,23],[938,16,939,23],[713,16,714,23],[557,2,559,23],[562,2,563,23],[567,16,568,23],[570,2,572,23],[607,2,608,23],[620,2,621,23],[638,16,639,23],[656,16,658,23],[681,16,682,23],[694,16,696,23],[698,16,699,23],[516,16,517,23],[433,4,434,23],[436,4,437,23],[438,4,439,23],[457,2,458,23],[459,2,462,23],[467,2,471,23],[474,16,475,23],[477,16,478,23],[482,2,483,23],[484,2,484,23],[485,2,486,23],[432,4,432,23],[351,16,353,23],[357,16,358,23],[370,16,371,23],[372,16,373,23],[374,16,375,23],[379,16,380,23],[384,2,386,23],[387,2,387,23],[391,16,392,23],[414,2,415,23],[430,2,431,23],[347,16,348,23],[227,2,228,23],[234,4,236,23],[237,4,239,23],[243,2,244,23],[245,2,245,23],[246,2,247,23],[299,16,300,23],[318,2,319,23],[327,2,328,23],[337,16,338,23],[344,16,345,23],[177,16,178,23],[1,0,1,24],[54,0,56,24],[66,15,66,20],[68,0,68,24],[103,0,105,26]]}
[]
["Annexe \"TANK DE LAVAGE GATEAU\""]
[]
[null,"-","Type :"]
[null,"-","Volume :"]
[null,"-","Diamètre :"]
[null,"-","Hauteur : "]
[null,"-","Matériau :"]
[null,"-","Détecteur de niveau :"]
[]
[]
[]
[]
[]
[]
[]
[]
[]
[]
[]
[]
[]
[]
[]
[]
[]
[]
[]
[]
[]
[]
[]
[]
[]
[]
[]
[]
[]
[]
[]
[null,null,null,null,null,null,null,null," "]

{"sheet":"LCP-FR","index":108,"n_rows":43,"n_cols":17,"rows_kept":43,"cut":false,"hidden":true,"merged":[[1048,0,1048,24],[959,2,960,23],[961,2,962,23],[963,2,964,23],[966,2,967,23],[989,2,990,23],[1015,2,1016,23],[1022,2,1024,23],[1025,2,1028,23],[1029,2,1030,23],[1034,0,1036,24],[1046,15,1046,20],[957,2,958,23],[750,2,751,23],[769,2,771,23],[791,16,792,23],[803,2,804,23],[855,4,856,10],[865,2,866,23],[870,2,871,23],[872,2,873,23],[877,2,878,23],[880,2,881,23],[938,16,939,23],[713,16,714,23],[557,2,559,23],[562,2,563,23],[567,16,568,23],[570,2,572,23],[607,2,608,23],[620,2,621,23],[638,16,639,23],[656,16,658,23],[681,16,682,23],[694,16,696,23],[698,16,699,23],[516,16,517,23],[433,4,434,23],[436,4,437,23],[438,4,439,23],[457,2,458,23],[459,2,462,23],[467,2,471,23],[474,16,475,23],[477,16,478,23],[482,2,483,23],[484,2,484,23],[485,2,486,23],[432,4,432,23],[351,16,353,23],[357,16,358,23],[370,16,371,23],[372,16,373,23],[374,16,375,23],[379,16,380,23],[384,2,386,23],[387,2,387,23],[391,16,392,23],[414,2,415,23],[430,2,431,23],[347,16,348,23],[227,2,228,23],[234,4,236,23],[237,4,239,23],[243,2,244,23],[245,2,245,23],[246,2,247,23],[299,16,300,23],[318,2,319,23],[327,2,328,23],[337,16,338,23],[344,16,345,23],[177,16,178,23],[1,0,1,24],[3,2,6,23],[23,2,24,23],[26,2,27,23],[35,2,37,23],[38,2,41,23],[42,2,42,23],[54,0,56,24],[66,15,66,20],[68,0,68,24],[103,0,105,26]]}
[]
["Annexe \"COFFRET DE COMMANDE LOCAL\""]
[]
[null,null,"Ce coffret permet en local de démarrer, arrêter le moteur d'entraînement du filtre ainsi que d'ajuster la vitesse de la bande. Il sera implanté par le client près du groupe de commande sur la passerelle.\nCe coffret ne peut pas être installé en zone à risque d'explosion.\n"]
[]
[]
[]
[]
[null,null,"EQUIPEMENT DE LA FACE AVANT"]
[null,"-","1 bouton poussoir MARCHE (1 contact NO)"]
[null,"-","1 bouton poussoir ARRET (1 contact NF)"]
[null,"-","1 bouton poussoir + VITE (1 contact NO)"]
[null,"-","1 bouton poussoir - VITE (1 contact NO)"]
[null,"-","Chaque contact est libre de potentiel et doit être raccordé en entrée de l'automate client."]
[null,"-","1 signal numérique VITESSE BANDE"]
[null,null,null,"•","Signal d'entrée :",null,null,null,null,null,null,null,null,null,null,null,"4 à 20mA DC depuis le VFD"]
[null,null,null,"•","Tension d'alimentation :",null,null,null,null,null,null,null,null,null,null,null,"110 Vac - 50 Hz"]
[null,"- ","1 Alarme"]
[null,"- ","1 étiquette plastique gravée de repérage incluant le repère procédé du coffret"]
[]
[null,null,"EQUIPEMENT INTERNE"]
[null,"-","1 commutation à clé CHANGEMENT DE TOILE "]
[]
["NOTE: ",null,"A n'utiliser qu'en mode local et maintenance, à vitesse réduite et uniquement par du personnel qualifié"]
[]
[]
[null,"-","Contact NO libre de potentiel à raccorder en entrée automate client\n1 ensemble de bornes de raccordement sur lesquelles seront câblés les contacts ci-dessus"]
[]
[null,"-","1 barre cuivre de mise à la terre"]
[null,"-","1 INVERTER as described in the technical offer"]
[]
[null,null,"Les fils de câblage sont passés sous goulotte PVC."]
[null,null,"L'identification des fils, bornes et composants sera réalisée conformément au schéma de câblage."]
[]
[null,null,"LIMIT OF SUPPLY"]
[null,null,"La programmation sera réalisée par le client conformément aux diagrames logiques fournis par HASLER Group. Les sécurités et le fonctionnement de l'équipement seront contrôlés par l'automate client."]
[]
[]
[null,null,"La programmation sera réalisée par le client conformément aux diagrames logiques fournis par HASLER Group.\nLes câbles de liaison entre le coffret et l'équipement client seront fournis, posés et raccordés sur le site par le client."]
[]
[]
[]
[null,null,"Les presse-étoupes d'entrées de câbles seront fournis et installés sur le site par le client."]

{"sheet":"ERECTION-FR","index":109,"n_rows":49,"n_cols":17,"rows_kept":49,"cut":false,"hidden":true,"merged":[[1035,0,1037,24],[1047,15,1047,20],[1049,0,1049,24],[967,2,968,23],[990,2,991,23],[1016,2,1017,23],[1023,2,1025,23],[1026,2,1029,23],[1030,2,1031,23],[964,2,965,23],[804,2,805,23],[856,4,857,10],[866,2,867,23],[871,2,872,23],[873,2,874,23],[878,2,879,23],[881,2,882,23],[939,16,940,23],[958,2,959,23],[960,2,961,23],[962,2,963,23],[792,16,793,23],[571,2,573,23],[608,2,609,23],[621,2,622,23],[639,16,640,23],[657,16,659,23],[682,16,683,23],[695,16,697,23],[699,16,700,23],[714,16,715,23],[751,2,752,23],[770,2,772,23],[568,16,569,23],[458,2,459,23],[460,2,463,23],[468,2,472,23],[475,16,476,23],[478,16,479,23],[483,2,484,23],[485,2,485,23],[486,2,487,23],[517,16,518,23],[558,2,560,23],[563,2,564,23],[439,4,440,23],[373,16,374,23],[375,16,376,23],[380,16,381,23],[385,2,387,23],[388,2,388,23],[392,16,393,23],[415,2,416,23],[431,2,432,23],[433,4,433,23],[434,4,435,23],[437,4,438,23],[371,16,372,23],[244,2,245,23],[246,2,246,23],[247,2,248,23],[300,16,301,23],[319,2,320,23],[328,2,329,23],[338,16,339,23],[345,16,346,23],[348,16,349,23],[352,16,354,23],[358,16,359,23],[238,4,240,23],[1,0,1,24],[5,2,6,23],[7,2,8,23],[17,2,18,23],[55,0,57,24],[67,15,67,20],[69,0,69,24],[104,0,106,26],[178,16,179,23],[228,2,229,23],[235,4,237,23]]}
[]
["Annexe \"MONTAGE\""]
[]
[null,null,"MONTAGE SUR SITE"]
[null,null,"Supervision suivant notre tarif journalier joint."]
[null,null,"En fonction des moyens de manutention et de main d’oeuvre fournis par le client et des conditions du site, les estimations de temps indiquées ci-après devront être discutées."]
[]
[null,null,"Pour le montage le client devra prévoir tous les équipements de lavage et de manutention au sol nécessaire, les utilités électriques et autres nécessaires…"]
[]
[]
[null,null,null,null,null,null,null,null,"HASLER Group",null,null,null,null,null,null,null,{"$f":"Calculations!$C$2","v":"PKT"}]
[null,null,null,null,null,null,null,null,"Main d’oeuvre ",null,null,null,null,null,null,null,"Main d’oeuvre par filtre"]
[null,null,"Montage",null,null,null,null,null,"Un superviseur ",null,null,null,null,null,null,null,"Voir planning"]
[]
[null,null,{"$f":"\"Durée estimée : \"&'Offre NEW'!M5&IF('Offre NEW'!M5=1,\" semaine\",\" semaines\")&\"  - à confirmer durant le Kick-Off Meeting\"","v":"Durée estimée : 8 semaines  - à confirmer durant le Kick-Off Meeting"}]
[]
[null,null,"Outillages pour le montage à fournir par HASLER Group"]
[null,"-","Equipement et accessoires spéciaux (propes à HASLER Group) pour la fixation à froid des talons. Ces équipements sont importés temporairement par HASLER Group."]
[]
[]
[null,"-","Supports spéciaux selon plan HASLER Group."]
["NOTE: ",null,{"$f":"\"Le coût des transports pour ces équipements sont à la charge de \"& Calculations!C2&\".\"","v":"Le coût des transports pour ces équipements sont à la charge de PKT."}]
[]
[null,null,{"$f":"\"Outillages pour le montage à fournir par \"&Calculations!C2&\".\"","v":"Outillages pour le montage à fournir par PKT."}]
[null,"-",{"$f":"\"Moyens de lavage, grues, pont roulant …. Pièce la plus lourde = \"&ROUNDUP(Calculations!R63,-3)&\" kg.\"","v":"Moyens de lavage, grues, pont roulant …. Pièce la plus lourde = 7000 kg."}]
[null,"-","Un (1) théodolite."]
[null,"-","Un (1) générateur de soudage (TIG)."]
[null,"-","Outils standards et accessoires de sécurité nécessaire pour chaque filtre."]
[null,"-","Deux (2) planchers en bois, longueur 10 m pour chaque filtre."]
[null,"-","Deux (2) sangles de levage, longueur 2 mètres, 2 tonnes."]
[null,"-","Deux (2) sangles de levage, longueur 1 mètre, 2 tonnes."]
[null,"-","Deux (2) sangles de levage, longueur 2 mètres, 4 tonnes."]
[null,"-","Deux (2) sangles de levage, longueur 4 mètres, 6 tonnes."]
[null,"-","Trois (3) sangles de levage, longueur 6 mètres, 8 tonnes."]
[null,"-","Quatre (4) manilles d’assemblage, 10 tonnes."]
[null,"-","Deux (2) palans, 1 tonne. "]
[null,"-","Un (1) portique de levage, 10 tonnes selon les spécifications de HASLER Group."]
[null,"-","Deux (2) échelles, 3 mètres."]
[null,"-","Un (1) vérin, 6 tonnes."]
[null,"-","Deux (2) palans manuels de levage, 5 tonnes."]
[null,"-","Deux (2) verrous de machine pneumatique."]
[null,"-","Une (1) clé dynamométrique.",null,null,null,null,null," "]
[]
[null,null,"Utilités requises pour le montage du filtre :"]
[null,"-","Air comprimé : 7 bars."]
[null,"-","Electricité : 240 V avec une boîte de jonction électrique."]
[null,"-","Electricité avec onduleur à disposition 3 semaines après le démarrage du filtre.  "]
[null,"-","Stockage du petit outillage (boulons, vis…) près de chaque filtre."]
[null,"-","Moyen de levage."]

{"sheet":"START UP-FR","index":110,"n_rows":42,"n_cols":9,"rows_kept":42,"cut":false,"hidden":true,"merged":[[1049,0,1049,24],[1016,2,1017,23],[1023,2,1025,23],[1026,2,1029,23],[1030,2,1031,23],[1035,0,1037,24],[1047,15,1047,20],[990,2,991,23],[866,2,867,23],[871,2,872,23],[873,2,874,23],[878,2,879,23],[881,2,882,23],[939,16,940,23],[958,2,959,23],[960,2,961,23],[962,2,963,23],[964,2,965,23],[967,2,968,23],[856,4,857,10],[621,2,622,23],[639,16,640,23],[657,16,659,23],[682,16,683,23],[695,16,697,23],[699,16,700,23],[714,16,715,23],[751,2,752,23],[770,2,772,23],[792,16,793,23],[804,2,805,23],[608,2,609,23],[468,2,472,23],[475,16,476,23],[478,16,479,23],[483,2,484,23],[485,2,485,23],[486,2,487,23],[517,16,518,23],[558,2,560,23],[563,2,564,23],[568,16,569,23],[571,2,573,23],[460,2,463,23],[380,16,381,23],[385,2,387,23],[388,2,388,23],[392,16,393,23],[415,2,416,23],[431,2,432,23],[433,4,433,23],[434,4,435,23],[437,4,438,23],[439,4,440,23],[458,2,459,23],[375,16,376,23],[247,2,248,23],[300,16,301,23],[319,2,320,23],[328,2,329,23],[338,16,339,23],[345,16,346,23],[348,16,349,23],[352,16,354,23],[358,16,359,23],[371,16,372,23],[373,16,374,23],[246,2,246,23],[1,0,1,24],[5,2,6,23],[55,0,57,24],[67,15,67,20],[69,0,69,24],[104,0,106,26],[178,16,179,23],[228,2,229,23],[235,4,237,23],[238,4,240,23],[244,2,245,23]]}
[]
["Annexe \"MISE EN ROUTE\""]
[]
[null,null,{"$f":"\"Durée estimée : \"&'Offre NEW'!M6+'Offre NEW'!M7&\" semaines\"","v":"Durée estimée : 4 semaines"}]
[]
[null,null,"Pendant la période prévue pour la mise en service, notre ingénieur assisté du personnel d’exploitation du client, assurera :"]
[]
[null,"-","La mise en route et les réglages mécaniques du filtre."]
[null,"-","Le montage de la toile."]
[null,"-","Le contrôle de tous les équipements de notre fourniture."]
[null,"-","La mise en service du filtre avec la pulpe."]
[null,"-","Les réglages des différents paramètres de fonctionnement du filtre avec la pulpe."]
[]
[null,null,"Formation des personnels du client :"]
[null,"-","Théorie de la filtration sous vide : questions, commentaires."]
[null,"-","Description de l’installation"]
[null,null,null,"•","Description générale des principaux équipements."]
[null,null,null,"•","Filtre."]
[null,null,null,"•","Ballon séparateur, pompe à vide, pompes à filtrats…"]
[null,"-","Description du filtre "]
[null,null,null,"•","Description des principaux composants et de leur fonction."]
[null,null,null,"•","Partie théorique."]
[null,null,null,"•","Partie pratique sur site avec démonstration."]
[null,"-","Mise en service du filtre"]
[null,null,null,"•","A vide sans produit"]
[null,null,null,"•","En charge avec produit"]
[null,"-","Commentaires et vérification des connaissances des personnels d’exploitation"]
[]
[]
[]
[]
[]
[]
[]
[]
[]
[]
[]
[]
[]
[]
[null,null,null,null,null,null,null,null," "]

{"sheet":"PàV Nash","index":111,"n_rows":123,"n_cols":19,"rows_kept":123,"cut":false,"hidden":false,"merged":[]}
[null,"Débit (m3/h)","P vide (mb abs)","P atm (mb abs)","T gaz (°C)","Teau (°C)","P disp (KW)","P inst (kW)","Tension (V)","Matériau","Séparateur (oui/non)","Matériau séparateur","Echangeur (oui/non)","Type pompe","Prix (€)","Année","spares","franco Le Mele",{"$f":"\"Prix \" & 'Offre NEW'!$T$10 & \" (€)\"","v":"Prix 2022 (€)"}]
[null,300,350,1013,30,20,7.9,11,400,"Fonte","non",null,"non","VECTRA GL35",12780,2012,null,null,{"$f":"O2*1.03^('Offre NEW'!$T$10-P2)","v":17175.251328017875}]
[null,400,280,1013,30,20,11,15,400,"Fonte","oui","Acier","non","VECTRA GL45",7300,2006,null,null,{"$f":"O3*1.03^('Offre NEW'!$T$10-P3)","v":11714.357005421145}]
[null,400,473,1013,20,18,13,18.5,400,"Fonte","oui","Acier","non","VECTRA XL60",11700,2007,900,null,{"$f":"O4*1.03^('Offre NEW'!$T$10-P4)","v":18228.218774228942}]
[null,500,350,1013,30,20,11.6,15,400,"Fonte","non",null,"non","VECTRA GL60",15700,2012,null,null,{"$f":"O5*1.03^('Offre NEW'!$T$10-P5)","v":21099.487155702711}]
[null,700,280,1013,30,20,16.5,18.5,400,"Fonte","oui","Acier","non","VECTRA GL80",8830,2006,null,null,{"$f":"O6*1.03^('Offre NEW'!$T$10-P6)","v":14169.557857242289}]
[null,750,350,1013,20,30,18.399999999999999,22,400,"Fonte","oui","Acier","non","VECTRA GL80",{"$f":"24900/2","v":12450},2006,400,null,{"$f":"O7*1.03^('Offre NEW'!$T$10-P7)","v":19978.595166779898}]
[null,800,350,1013,35,20,17,22,400,"Fonte","oui","Acier","non","VECTRA XL100",19200,2008,1700,950,{"$f":"O8*1.03^('Offre NEW'!$T$10-P8)","v":29041.72271721813}]
[null,800,350,1013,35,20,17,22,400,"Fonte","oui","Acier","non","VECTRA GL100",18100,2008,1700,950,{"$f":"O9*1.03^('Offre NEW'!$T$10-P9)","v":27377.874019877509}]
[null,900,350,1013,30,20,22,30,400,"Fonte","oui","Acier","non","VECTRA GL30",13350,2008,1120,560,{"$f":"O10*1.03^('Offre NEW'!$T$10-P10)","v":20193.072826815733}]
[null,1200,280,1013,30,18,28,37,400,"Fonte","oui","Fonte","non","VECTRA GL130",13771,2006,null,null,{"$f":"O11*1.03^('Offre NEW'!$T$10-P11)","v":22098.412372829396}]
[null,1500,380,980,30,20,40,55,400,"Fonte","oui","Acier","non","VECTRA XL150",20950,2006,1013,null,{"$f":"O12*1.03^('Offre NEW'!$T$10-P12)","v":33618.599899119588}]
[null,1500,350,1013,30,20,35,45,400,"Fonte","oui","Acier","non","VECTRA XL150",18200,2008,1310,560,{"$f":"O13*1.03^('Offre NEW'!$T$10-P13)","v":27529.132992363022}]
[null,1600,350,1013,20,15,36,55,400,"Fonte","oui","Acier","non","VECTRA XL250",36000,2011,2900,2100,{"$f":"O14*1.03^('Offre NEW'!$T$10-P14)","v":49832.419346080038}]
[null,1800,350,1013,25,18,42,55,400,"Fonte","oui","Acier","non","VECTRA XL250",39690,2006,1820,null,{"$f":"O15*1.03^('Offre NEW'!$T$10-P15)","v":63690.798567830861}]
[null,2000,350,1013,35,20,45,55,400,"Fonte","oui","Acier","non","VECTRA XL250",3200,2008,2015,950,{"$f":"O16*1.03^('Offre NEW'!$T$10-P16)","v":4840.287119536355}]
[null,2500,350,1013,45,25,58,75,400,"Fonte","oui","Acier","non","VECTRA XL250",32250,2010,2800,1900,{"$f":"O17*1.03^('Offre NEW'!$T$10-P17)","v":45980.788600789259}]
[null,2500,280,1013,20,15,50,75,400,"Fonte","oui","Acier","non","VECTRA XL350",45000,2010,3150,2100,{"$f":"O18*1.03^('Offre NEW'!$T$10-P18)","v":64159.239908078038}]
[null,2500,350,1013,20,15,55,75,400,"Fonte","oui","Acier","non","VECTRA XL350",45000,2011,3150,2100,{"$f":"O19*1.03^('Offre NEW'!$T$10-P19)","v":62290.524182600049}]
[null,2800,280,1013,25,25,65,90,400,"Fonte","oui","Acier","non","VECTRA XL350",45000,2009,3150,2100,{"$f":"O20*1.03^('Offre NEW'!$T$10-P20)","v":66084.017105320381}]
[null,3000,350,1013,25,18,70,90,400,"Fonte","oui","Acier","non","VECTRA XL350",30990,2006,1680,null,{"$f":"O21*1.03^('Offre NEW'!$T$10-P21)","v":49729.852547671413}]
[null,3000,280,1013,50,30,60,75,400,"Fonte","oui","Acier","non","VECTRA XL350",37000,2006,1820,500,{"$f":"O22*1.03^('Offre NEW'!$T$10-P22)","v":59374.138246655122}]
[null,3000,280,1013,50,30,60,75,400,"Fonte","oui","Acier","non","VECTRA XL350",39000,2007,1920,500,{"$f":"O23*1.03^('Offre NEW'!$T$10-P23)","v":60760.729247429816}]
[null,3200,500,1013,38,32,66,90,400,"Fonte","oui","Acier","non","2BE3 300",43000,2006,3691,null,{"$f":"O24*1.03^('Offre NEW'!$T$10-P24)","v":69002.376881247837}]
[null,3500,350,1013,30,20,72,90,400,"Fonte","oui","Acier","non","VECTRA XL500",41000,2006,2650,null,{"$f":"O25*1.03^('Offre NEW'!$T$10-P25)","v":65792.964003050263}]
[null,3700,500,1013,35,20,72,90,400,"Fonte","oui","Acier","non","VECTRA XL500",63000,2007,2750,null,{"$f":"O26*1.03^('Offre NEW'!$T$10-P26)","v":98151.947245848161}]
[null,3800,350,1013,40,20,70,110,400,"Fonte","oui","Acier","non","2BE3 3002BY4-Z",48800,2007,4100,null,{"$f":"O27*1.03^('Offre NEW'!$T$10-P27)","v":76028.809930117306}]
[null,4000,500,1013,35,25,83,110,400,"Fonte","oui","Acier","non","2BE3 320 2BY3-Z",56100,2007,4100,2100,{"$f":"O28*1.03^('Offre NEW'!$T$10-P28)","v":87401.97207130288}]
[null,4000,130,1013,45,20,48,90,400,"Fonte","oui","Acier","non","VECTRA XL350",41000,2007,1875,650,{"$f":"O29*1.03^('Offre NEW'!$T$10-P29)","v":63876.664080631344}]
[null,4000,350,1013,45,20,89,110,400,"Fonte","oui","Acier","non","VECTRA XL350",37000,2009,null,null,{"$f":"O30*1.03^('Offre NEW'!$T$10-P30)","v":54335.747397707863}]
[null,5000,350,1013,30,20,120,160,400,"Fonte","oui","Acier","non","2BE3 320",53420,2006,3700,null,{"$f":"O31*1.03^('Offre NEW'!$T$10-P31)","v":85723.417976657205}]
[null,5000,350,1013,50,30,97,132,400,"Fonte","oui","Acier","non","2BE3 320 2BY3",50780,2006,3900,null,{"$f":"O32*1.03^('Offre NEW'!$T$10-P32)","v":81486.992977436414}]
[null,5100,500,1013,35,20,112,160,400,"Fonte","oui","Acier","non","2BE3 320 2BY3-Z",58250,2007,4900,2100,{"$f":"O33*1.03^('Offre NEW'!$T$10-P33)","v":90751.602016994526}]
[null,5100,500,1013,30,20,120,160,400,"Fonte","oui","Acier","non","2BE4 320 2B(H)Y4-Z",65000,2009,4200,null,{"$f":"O34*1.03^('Offre NEW'!$T$10-P34)","v":95454.691374351649}]
[null,5100,350,1013,34,34,105,132,400,"Fonte","oui","Acier","non","2BE4 400 2BY4",65000,2011,4200,2500,{"$f":"O35*1.03^('Offre NEW'!$T$10-P35)","v":89975.201597088962}]
[null,5200,230,900,45,20,80,110,400,"Fonte","oui","Acier","non","VECTRA XL500",57700,2007,2750,1500,{"$f":"O36*1.03^('Offre NEW'!$T$10-P36)","v":89894.719937864109}]
[null,5300,350,1013,30,20,130,160,400,"Fonte","oui","Acier","non","2BE3 320 2BY3-Z",58520,2007,4100,2100,{"$f":"O37*1.03^('Offre NEW'!$T$10-P37)","v":91172.253219476741}]
[null,6000,210,1013,20,18,147,200,400,"Fonte","oui","Acier","non","2BU5400-2BA46-Z",67100,2007,3400,null,{"$f":"O38*1.03^('Offre NEW'!$T$10-P38)","v":104539.61365391129}]
[null,6000,350,1013,35,20,115,132,400,"Fonte","oui","Acier","non","2BE4002BY4",73000,2011,4200,2500,{"$f":"O39*1.03^('Offre NEW'!$T$10-P39)","v":101049.07256288452}]
[null,6000,350,1013,45,15,96,132,400,"Fonte","oui","Acier","non","2BE4 400 2BY4",71000,2011,4200,2500,{"$f":"O40*1.03^('Offre NEW'!$T$10-P40)","v":98280.604821435627}]
[null,6300,350,1013,30,20,130,200,400,"Fonte","oui","Acier","non","2BE3 420 2BY4",89200,2007,5825,2300,{"$f":"O41*1.03^('Offre NEW'!$T$10-P41)","v":138970.69356078818}]
[null,6300,500,1013,30,25,135,160,400,"Fonte","oui","Acier","non","2BE3 420 2BY3-Z",75000,2007,5825,2300,{"$f":"O42*1.03^('Offre NEW'!$T$10-P42)","v":116847.55624505733}]
[null,6500,500,1013,25,20,130,200,400,"Fonte","oui","Acier","non","2BE3 420",72815,2006,3800,null,{"$f":"O43*1.03^('Offre NEW'!$T$10-P43)","v":116846.69936297818}]
[null,6500,670,1013,40,27,130,160,400,"Fonte","oui","Acier","non","2BE4 400 2BY4",69000,2011,4200,2500,{"$f":"O44*1.03^('Offre NEW'!$T$10-P44)","v":95512.137079986744}]
[null,6700,473,1013,20,18,151,200,400,"Fonte","oui","Acier","non","2BU5400-2BA46-Z",67000,2007,3400,null,{"$f":"O45*1.03^('Offre NEW'!$T$10-P45)","v":104383.81691225122}]
[null,7000,500,1013,35,20,150,200,415,"Fonte","oui","Acier","non","2BE3 4002BY4-Z",88000,2008,3200,null,{"$f":"O46*1.03^('Offre NEW'!$T$10-P46)","v":133107.89578724976}]
[null,7000,350,1013,45,25,125,200,400,"Fonte","oui","Acier","non","2BE3 400-2BY4-Z",72000,2007,4200,2200,{"$f":"O47*1.03^('Offre NEW'!$T$10-P47)","v":112173.65399525504}]
[null,7500,500,1013,25,20,160,200,400,"Fonte","oui","Acier","non","2BE3 420",72815,2006,3800,null,{"$f":"O48*1.03^('Offre NEW'!$T$10-P48)","v":116846.69936297818}]
[null,8000,605,1013,20,18,156,200,400,"Fonte","oui","Acier","non","2BU5420-2BA46-Z",78000,2007,3400,null,{"$f":"O49*1.03^('Offre NEW'!$T$10-P49)","v":121521.45849485963}]
[null,8000,350,1013,40,20,140,200,400,"Fonte","oui","Acier","non","2BE3 4202BY4-Z",75800,2007,5900,null,{"$f":"O50*1.03^('Offre NEW'!$T$10-P50)","v":118093.93017833795}]
[null,8500,210,1013,20,18,236,315,400,"Fonte","oui","Acier","non","2BU5420-2BA46-Z",81000,2007,4100,null,{"$f":"O51*1.03^('Offre NEW'!$T$10-P51)","v":126195.36074466191}]
[null,8500,215,1013,20,20,226,315,400,"Fonte","oui","Acier","non","2BE4 420",71700,2010,4200,2500,{"$f":"O52*1.03^('Offre NEW'!$T$10-P52)","v":102227.05558687101}]
[null,8500,215,1013,20,20,180,250,400,"Fonte","oui","Acier","non","2BE4 500",81000,2010,6000,2500,{"$f":"O53*1.03^('Offre NEW'!$T$10-P53)","v":115486.63183454047}]
[null,8500,215,1013,45,20,142,200,400,"Fonte","oui","Acier","non","2BE4 420",63200,2010,4200,2500,{"$f":"O54*1.03^('Offre NEW'!$T$10-P54)","v":90108.088048678488}]
[null,9000,350,1013,30,20,215,315,400,"Fonte","oui","Acier","non","2BE3 420 2BY3-Z",97300,2007,5825,2300,{"$f":"O55*1.03^('Offre NEW'!$T$10-P55)","v":151590.22963525439}]
[null,9100,280,940,30,20,211,250,400,"Fonte","oui","Acier","non","2BE4 420 2BY4-Z",101000,2009,5800,null,{"$f":"O56*1.03^('Offre NEW'!$T$10-P56)","v":148321.90505860795}]
[null,9300,500,1013,35,20,167,250,690,"Fonte","oui","Acier","non","2BE3 500 2xY3-Z",116000,2007,null,null,{"$f":"O57*1.03^('Offre NEW'!$T$10-P57)","v":180724.22032568869}]
[null,10000,500,1013,30,18,185,250,400,"Fonte","oui","Acier","non","2BE3 500",111735,2006,4504,null,{"$f":"O58*1.03^('Offre NEW'!$T$10-P58)","v":179301.87397270298}]
[null,10300,730,1013,20,20,215,250,400,"Fonte","oui","Acier","non","2BE3 500-2BY4-Z",128000,2009,6200,null,{"$f":"O59*1.03^('Offre NEW'!$T$10-P59)","v":187972.31532180018}]
[null,10500,479,1013,35,20,250,315,400,"Fonte","oui","Acier","non","2BE3 420 OBY ",81000,2010,null,null,{"$f":"O60*1.03^('Offre NEW'!$T$10-P60)","v":115486.63183454047}]
[null,10500,410,910,40,15,235,315,400,"Fonte","oui","Acier","non","2BE3 420 2BY4-Z",87200,2007,5825,2300,{"$f":"O61*1.03^('Offre NEW'!$T$10-P61)","v":135854.75872758665}]
[null,11000,670,1013,45,27,193,250,400,"Fonte","oui","Acier","non","2BE4 500 2BY4",106000,2011,5900,2500,{"$f":"O62*1.03^('Offre NEW'!$T$10-P62)","v":146728.79029679121}]
[null,11000,215,1013,20,20,256,315,400,"Fonte","oui","Acier","non","2BE4 500",85900,2010,6000,2500,{"$f":"O63*1.03^('Offre NEW'!$T$10-P63)","v":122472.86018008675}]
[null,11000,350,1013,40,30,215,250,400,"Fonte","oui","Acier","non","2BE3 500 2BY3",112000,2006,4504,2200,{"$f":"O64*1.03^('Offre NEW'!$T$10-P64)","v":179727.12117906415}]
[null,12000,210,875,30,20,260,355,525,"Fonte","oui","Acier","non","2BE3 500-2BY4-Z",122200,2007,5980,null,{"$f":"O65*1.03^('Offre NEW'!$T$10-P65)","v":190383.61830861343}]
[null,12600,350,1013,50,20,205,250,400,"Fonte","oui","Acier","non","2BE3 500 2BY3",112000,2006,4504,null,{"$f":"O66*1.03^('Offre NEW'!$T$10-P66)","v":179727.12117906415}]
[null,13000,170,840,30,20,360,630,6600,"Fonte","oui","Acier","non","2BE3 620",166000,2007,12000,null,{"$f":"O67*1.03^('Offre NEW'!$T$10-P67)","v":258622.5911557269}]
[null,13000,350,1013,25,20,306,350,400,"Fonte","oui","Acier","non","2BE4 500-2BY4-Z",103000,2010,6200,null,{"$f":"O68*1.03^('Offre NEW'!$T$10-P68)","v":146853.3713451564}]
[null,15000,500,1013,25,18,290,350,6600,"Fonte","oui","Acier","non","2BE3 600",175000,2006,9940,null,{"$f":"O69*1.03^('Offre NEW'!$T$10-P69)","v":280823.62684228772}]
[null,15000,500,1013,35,20,280,355,400,"Fonte","oui","Acier","non","2BE3 600 2BY4 –Z",172000,2008,11600,null,{"$f":"O70*1.03^('Offre NEW'!$T$10-P70)","v":260165.43267507909}]
[null,15000,500,1013,30,20,350,400,6300,"Fonte","oui","Acier","non","2BE3 5202BY4-Z",200000,2007,5980,null,{"$f":"O71*1.03^('Offre NEW'!$T$10-P71)","v":311593.48332015291}]
[null,18000,280,932,20,15,385,450,6000,"Fonte","oui","Acier","non","2BE4 620 2BY4 –Z",240000,2008,13600,null,{"$f":"O72*1.03^('Offre NEW'!$T$10-P72)","v":363021.53396522667}]
[null,19000,265,950,50,30,340,400,415,"Fonte","oui","Acier","non","2BE3 600 2BY3",175000,2006,10000,null,{"$f":"O73*1.03^('Offre NEW'!$T$10-P73)","v":280823.62684228772}]
[null,19000,265,950,50,30,340,400,6600,"Fonte","oui","Acier","non","2BE3 600 2BY3",195000,2006,10000,null,{"$f":"O74*1.03^('Offre NEW'!$T$10-P74)","v":312917.75562426349}]
[null,20000,415,1013,40,20,405,450,6600,"Fonte","oui","Acier","non","2BE3 620 2BY3-Z",209200,2007,12000,null,{"$f":"O75*1.03^('Offre NEW'!$T$10-P75)","v":325926.78355287993}]
[null,20000,215,1013,20,15,450,500,400,"Fonte","oui","Acier","non","2BE4 670 2BY4-Z",227000,2010,15600,null,{"$f":"O76*1.03^('Offre NEW'!$T$10-P76)","v":323647.72131408256}]
[null,24000,500,1013,30,20,545,630,400,"Fonte","oui","Acier","non","2BE3 670 2BY4",205000,2007,13900,null,{"$f":"O77*1.03^('Offre NEW'!$T$10-P77)","v":319383.32040315669}]
[null,25000,500,1013,30,20,500,630,400,"Fonte","oui","Acier","non","2BE3 720 2BY3",238000,2006,14800,null,{"$f":"O78*1.03^('Offre NEW'!$T$10-P78)","v":381920.13250551134}]
[null,30000,500,1013,30,20,680,750,6300,"Fonte","oui","Acier","non","2BE3 7202BY4-Z",331000,2007,16200,null,{"$f":"O79*1.03^('Offre NEW'!$T$10-P79)","v":515687.21489485301}]
[null,12000,350,1013,40,25,235,315,400,"Fonte ","oui","Acier","non","2BE3 500-2BY4-Z",129000,2007,6300,2200,{"$f":"O80*1.03^('Offre NEW'!$T$10-P80)","v":200977.79674149861}]
[null,400,280,1013,30,20,11,15,400,"Inox","oui","Inox","non","VECTRA XL45",14100,2006,null,null,{"$f":"O81*1.03^('Offre NEW'!$T$10-P81)","v":22626.360791292896}]
[null,700,280,1013,30,20,16.5,18.5,400,"Inox","oui","Inox","non","VECTRA XL80",17403,2006,null,null,{"$f":"O82*1.03^('Offre NEW'!$T$10-P82)","v":27926.706159636193}]
[null,750,350,1013,20,30,18.399999999999999,22,400,"Inox","oui","Inox","non","VECTRA XL80",{"$f":"45660/2","v":22830},2006,720,null,{"$f":"O83*1.03^('Offre NEW'!$T$10-P83)","v":36635.448004625308}]
[null,750,350,1013,20,30,18.399999999999999,22,400,"Inox","oui","Inox","non","VECTRA XL80",21360,2007,720,null,{"$f":"O84*1.03^('Offre NEW'!$T$10-P84)","v":33278.184018592328}]
[null,900,280,1013,50,20,17.899999999999999,30,400,"Inox","oui","Inox","non","VECTRA XL80",17170,2006,null,null,{"$f":"O85*1.03^('Offre NEW'!$T$10-P85)","v":27552.809559326175}]
[null,900,280,1013,50,20,17.899999999999999,22,400,"Inox","oui","Inox","non","VECTRA XL80",25550,2011,null,null,{"$f":"O86*1.03^('Offre NEW'!$T$10-P86)","v":35367.175397009582}]
[null,1000,350,1013,30,20,23,30,400,"Inox","oui","Inox","non","VECTRA XL130",30500,2008,1750,850,{"$f":"O87*1.03^('Offre NEW'!$T$10-P87)","v":46133.986608080886}]
[null,1800,200,850,40,30,40,75,400,"Inox","oui","Inox","non","VECTRA XL250",66500,2007,2975,null,{"$f":"O88*1.03^('Offre NEW'!$T$10-P88)","v":103604.83320395084}]
[null,1900,350,1013,30,20,45,55,400,"Inox","oui","Inox","non","VECTRA XL250",40500,2007,3400,850,{"$f":"O89*1.03^('Offre NEW'!$T$10-P89)","v":63097.680372330957}]
[null,2000,200,850,40,30,40,75,400,"Inox","oui","Inox","non","VECTRA XL350",89300,2007,3930,null,{"$f":"O90*1.03^('Offre NEW'!$T$10-P90)","v":139126.49030244828}]
[null,2200,500,1013,50,20,45,55,400,"Inox","oui","Inox","non","VECTRA XL250",37320,2006,3510,null,{"$f":"O91*1.03^('Offre NEW'!$T$10-P91)","v":59887.644307166731}]
[null,3000,280,1013,30,18,70,90,400,"Inox","oui","Inox","non","VECTRA XL350",63000,2007,3930,null,{"$f":"O92*1.03^('Offre NEW'!$T$10-P92)","v":98151.947245848161}]
[null,3000,280,1013,50,30,60,75,400,"Inox","oui","Inox","non","VECTRA XL350",58800,2007,3930,500,{"$f":"O93*1.03^('Offre NEW'!$T$10-P93)","v":91608.484096124943}]
[null,3500,200,850,40,30,60,90,400,"Inox","oui","Inox","non","VECTRA XL500",106000,2007,4400,null,{"$f":"O94*1.03^('Offre NEW'!$T$10-P94)","v":165144.54615968102}]
[null,3600,500,1013,50,20,75,90,400,"Inox","oui","Inox","non","VECTRA XL350",54600,2006,3930,null,{"$f":"O95*1.03^('Offre NEW'!$T$10-P95)","v":87616.971574793773}]
[null,3600,500,1013,50,20,75,90,400,"Inox","oui","Inox","non","VECTRA XL350",54600,2006,3930,null,{"$f":"O96*1.03^('Offre NEW'!$T$10-P96)","v":87616.971574793773}]
[null,4000,280,1013,30,18,90,110,400,"Inox","oui","Inox","non","VECTRA XL500",76000,2007,4400,null,{"$f":"O97*1.03^('Offre NEW'!$T$10-P97)","v":118405.5236616581}]
[null,4560,230,900,45,30,80,110,400,"Inox","oui","Inox","non","VECTRA XL500",143200,2008,4210,1500,{"$f":"O98*1.03^('Offre NEW'!$T$10-P98)","v":216602.84859925188}]
[null,5100,500,1013,30,20,120,160,400,"Inox","oui","Inox","non","2BE4 320 2B(H)Y4-Z",121000,2009,6200,null,{"$f":"O99*1.03^('Offre NEW'!$T$10-P99)","v":177692.57932763922}]
[null,5800,350,1013,50,25,132,160,400,"Inox","oui","Inox","non","Vectra XL500",81000,2007,4400,850,{"$f":"O100*1.03^('Offre NEW'!$T$10-P100)","v":126195.36074466191}]
[null,6000,280,1013,30,18,122,160,400,"Inox","oui","Inox","non","2BE3 400 2HY3",136000,2007,5400,null,{"$f":"O101*1.03^('Offre NEW'!$T$10-P101)","v":211883.56865770396}]
[null,6200,500,1013,50,20,105,132,400,"Inox","oui","Inox","non","VECTRA 2BE3",139500,2006,5200,null,{"$f":"O102*1.03^('Offre NEW'!$T$10-P102)","v":223856.54825428079}]
[null,7000,500,1013,30,20,140,200,400,"Inox","oui","Inox","non","2BE3 420 2HY3-Z",225000,2006,5825,null,{"$f":"O103*1.03^('Offre NEW'!$T$10-P103)","v":361058.94879722712}]
[null,9000,280,1013,30,20,230,315,690,"Inox","oui","Inox","non","2BE3 420 2HY3",239000,2006,5502,null,{"$f":"O104*1.03^('Offre NEW'!$T$10-P104)","v":383524.83894461009}]
[null,11000,280,1013,30,20,235,315,690,"Inox","oui","Inox","non","2BE3 500 2HY3",315000,2006,6502,2200,{"$f":"O105*1.03^('Offre NEW'!$T$10-P105)","v":505482.52831611794}]
[null,12600,350,1013,50,20,205,250,400,"Inox","oui","Inox","non","2BE3 500 2HY3",234000,2006,7502,null,{"$f":"O106*1.03^('Offre NEW'!$T$10-P106)","v":375501.30674911616}]
[]
[]
[null,null,null,null,null,null,null,null,null,null,null,{"$f":"Calculations!N11","v":43020},{"$f":"0.0497*L109^0.9314","v":1028.3880108971864},37]
[null,null,null,null,null,null,null,null,null,null,null,null,null,45]
[null,null,null,null,null,null,null,null,null,null,null,null,null,55]
[null,null,null,null,null,null,null,null,null,null,null,null,{"$f":"INDEX(N109:N123,MATCH(M109,N109:N123)+1)","v":{"$error":"#REF!"}},75]
[null,null,null,null,null,null,null,null,null,null,null,null,null,90]
[null,null,null,null,null,null,null,null,null,null,null,null,null,110]
[null,null,null,null,null,null,null,null,null,null,null,null,null,132]
[null,null,null,null,null,null,null,null,null,null,null,null,null,160]
[null,null,null,null,null,null,null,null,null,null,null,null,null,220]
[null,null,null,null,null,null,null,null,null,null,null,null,null,250]
[null,null,null,null,null,null,null,null,null,null,null,null,null,315]
[null,null,null,null,null,null,null,null,null,null,null,null,null,355]
[null,null,null,null,null,null,null,null,null,null,null,null,null,400]
[null,null,null,null,null,null,null,null,null,null,null,null,null,500]
[null,null,null,null,null,null,null,null,null,null,null,null,null,630]

{"sheet":"PàV Nash Fonte Mot.400V","index":112,"n_rows":111,"n_cols":23,"rows_kept":111,"cut":false,"hidden":false,"merged":[]}
[null,"Débit (m3/h)","P vide (mb abs)","P atm (mb abs)","T gaz (°C)","Teau (°C)","P disp (KW)","P inst (kW)","Tension (V)","Matériau","Séparateur (oui/non)","Matériau séparateur","Echangeur (oui/non)","Type pompe","Prix (€)","Année","spares","franco Le Mele",{"$f":"\"Prix \" & 'Offre NEW'!$T$10 & \" (€)\"","v":"Prix 2022 (€)"}]
[null,300,350,1013,30,20,7.9,11,400,"Fonte","non",null,"non","VECTRA GL35",12780,2012,null,null,{"$f":"O2*1.03^('Offre NEW'!$T$10-P2)","v":17175.251328017875},null,{"$f":"S2-(8.9775*B2+10791)","v":3691.0013280178755},{"$f":"U2/S2*100","v":21.49023183140714},{"$f":"ABS(V2)","v":21.49023183140714}]
[null,400,280,1013,30,20,11,15,400,"Fonte","oui","Acier","non","VECTRA GL45",7300,2006,null,null,{"$f":"O3*1.03^('Offre NEW'!$T$10-P3)","v":11714.357005421145},null,{"$f":"S3-(8.9775*B3+10791)","v":-2667.642994578855},{"$f":"U3/S3*100","v":-22.772423559776513},{"$f":"ABS(V3)","v":22.772423559776513}]
[null,400,280,1013,30,20,11,15,400,"Inox","oui","Inox","non","VECTRA XL45",14100,2006,null,null,{"$f":"O4*1.03^('Offre NEW'!$T$10-P4)","v":22626.360791292896}]
[null,400,473,1013,20,18,13,18.5,400,"Fonte","oui","Acier","non","VECTRA XL60",11700,2007,900,null,{"$f":"O5*1.03^('Offre NEW'!$T$10-P5)","v":18228.218774228942},null,{"$f":"S5-(8.9775*B5+10791)","v":3846.2187742289425},{"$f":"U5/S5*100","v":21.100354466157313},{"$f":"ABS(V5)","v":21.100354466157313}]
[null,500,350,1013,30,20,11.6,15,400,"Fonte","non",null,"non","VECTRA GL60",15700,2012,null,null,{"$f":"O6*1.03^('Offre NEW'!$T$10-P6)","v":21099.487155702711},null,{"$f":"S6-(8.9775*B6+10791)","v":5819.7371557027109},{"$f":"U6/S6*100","v":27.582363081890211},{"$f":"ABS(V6)","v":27.582363081890211}]
[null,700,280,1013,30,20,16.5,18.5,400,"Fonte","oui","Acier","non","VECTRA GL80",8830,2006,null,null,{"$f":"O7*1.03^('Offre NEW'!$T$10-P7)","v":14169.557857242289},null,{"$f":"S7-(8.9775*B7+10791)","v":-2905.6921427577108},{"$f":"U7/S7*100","v":-20.506583000206778},{"$f":"ABS(V7)","v":20.506583000206778}]
[null,700,280,1013,30,20,16.5,18.5,400,"Inox","oui","Inox","non","VECTRA XL80",17403,2006,null,null,{"$f":"O8*1.03^('Offre NEW'!$T$10-P8)","v":27926.706159636193}]
[null,750,350,1013,20,30,18.399999999999999,22,400,"Fonte","oui","Acier","non","VECTRA GL80",{"$f":"24900/2","v":12450},2006,400,null,{"$f":"O9*1.03^('Offre NEW'!$T$10-P9)","v":19978.595166779898},null,{"$f":"S9-(8.9775*B9+10791)","v":2454.4701667798981},{"$f":"U9/S9*100","v":12.285499287062754},{"$f":"ABS(V9)","v":12.285499287062754}]
[null,750,350,1013,20,30,18.399999999999999,22,400,"Inox","oui","Inox","non","VECTRA XL80",{"$f":"45660/2","v":22830},2006,720,null,{"$f":"O10*1.03^('Offre NEW'!$T$10-P10)","v":36635.448004625308}]
[null,750,350,1013,20,30,18.399999999999999,22,400,"Inox","oui","Inox","non","VECTRA XL80",21360,2007,720,null,{"$f":"O11*1.03^('Offre NEW'!$T$10-P11)","v":33278.184018592328}]
[null,800,350,1013,35,20,17,22,400,"Fonte","oui","Acier","non","VECTRA XL100",19200,2008,1700,950,{"$f":"O12*1.03^('Offre NEW'!$T$10-P12)","v":29041.72271721813},null,{"$f":"S12-(8.9775*B12+10791)","v":11068.72271721813},{"$f":"U12/S12*100","v":38.113175395947685},{"$f":"ABS(V12)","v":38.113175395947685}]
[null,800,350,1013,35,20,17,22,400,"Fonte","oui","Acier","non","VECTRA GL100",18100,2008,1700,950,{"$f":"O13*1.03^('Offre NEW'!$T$10-P13)","v":27377.874019877509},null,{"$f":"S13-(8.9775*B13+10791)","v":9404.8740198775085},{"$f":"U13/S13*100","v":34.352097657579868},{"$f":"ABS(V13)","v":34.352097657579868}]
[null,900,280,1013,50,20,17.899999999999999,30,400,"Inox","oui","Inox","non","VECTRA XL80",17170,2006,null,null,{"$f":"O14*1.03^('Offre NEW'!$T$10-P14)","v":27552.809559326175}]
[null,900,350,1013,30,20,22,30,400,"Fonte","oui","Acier","non","VECTRA GL30",13350,2008,1120,560,{"$f":"O15*1.03^('Offre NEW'!$T$10-P15)","v":20193.072826815733},null,{"$f":"S15-(8.9775*B15+10791)","v":1322.3228268157327},{"$f":"U15/S15*100","v":6.5483982460546155},{"$f":"ABS(V15)","v":6.5483982460546155}]
[null,900,280,1013,50,20,17.899999999999999,22,400,"Inox","oui","Inox","non","VECTRA XL80",25550,2011,null,null,{"$f":"O16*1.03^('Offre NEW'!$T$10-P16)","v":35367.175397009582}]
[null,1000,350,1013,30,20,23,30,400,"Inox","oui","Inox","non","VECTRA XL130",30500,2008,1750,850,{"$f":"O17*1.03^('Offre NEW'!$T$10-P17)","v":46133.986608080886}]
[null,1200,280,1013,30,18,28,37,400,"Fonte","oui","Fonte","non","VECTRA GL130",13771,2006,null,null,{"$f":"O18*1.03^('Offre NEW'!$T$10-P18)","v":22098.412372829396},null,{"$f":"S18-(8.9775*B18+10791)","v":534.41237282939619},{"$f":"U18/S18*100","v":2.4183292619087462},{"$f":"ABS(V18)","v":2.4183292619087462}]
[null,1500,380,980,30,20,40,55,400,"Fonte","oui","Acier","non","VECTRA XL150",20950,2006,1013,null,{"$f":"O19*1.03^('Offre NEW'!$T$10-P19)","v":33618.599899119588},null,{"$f":"S19-(8.9775*B19+10791)","v":9361.3498991195884},{"$f":"U19/S19*100","v":27.845745888319239},{"$f":"ABS(V19)","v":27.845745888319239}]
[null,1500,350,1013,30,20,35,45,400,"Fonte","oui","Acier","non","VECTRA XL150",18200,2008,1310,560,{"$f":"O20*1.03^('Offre NEW'!$T$10-P20)","v":27529.132992363022},null,{"$f":"S20-(8.9775*B20+10791)","v":3271.8829923630219},{"$f":"U20/S20*100","v":11.885165411023621},{"$f":"ABS(V20)","v":11.885165411023621}]
[null,1600,350,1013,20,15,36,55,400,"Fonte","oui","Acier","non","VECTRA XL250",36000,2011,2900,2100,{"$f":"O21*1.03^('Offre NEW'!$T$10-P21)","v":49832.419346080038},null,{"$f":"S21-(8.9775*B21+10791)","v":24677.419346080038},{"$f":"U21/S21*100","v":49.520813297661483},{"$f":"ABS(V21)","v":49.520813297661483}]
[null,1800,200,850,40,30,40,75,400,"Inox","oui","Inox","non","VECTRA XL250",66500,2007,2975,null,{"$f":"O22*1.03^('Offre NEW'!$T$10-P22)","v":103604.83320395084}]
[null,1800,350,1013,25,18,42,55,400,"Fonte","oui","Acier","non","VECTRA XL250",39690,2006,1820,null,{"$f":"O23*1.03^('Offre NEW'!$T$10-P23)","v":63690.798567830861},null,{"$f":"S23-(8.9775*B23+10791)","v":36740.298567830861},{"$f":"U23/S23*100","v":57.68541044229859},{"$f":"ABS(V23)","v":57.68541044229859}]
[null,1900,350,1013,30,20,45,55,400,"Inox","oui","Inox","non","VECTRA XL250",40500,2007,3400,850,{"$f":"O24*1.03^('Offre NEW'!$T$10-P24)","v":63097.680372330957}]
[null,2000,350,1013,35,20,45,55,400,"Fonte","oui","Acier","non","VECTRA XL250",3200,2008,2015,950,{"$f":"O25*1.03^('Offre NEW'!$T$10-P25)","v":4840.287119536355},null,{"$f":"S25-(8.9775*B25+10791)","v":-23905.712880463645},{"$f":"U25/S25*100","v":-493.89038893943848},{"$f":"ABS(V25)","v":493.89038893943848}]
[null,2000,200,850,40,30,40,75,400,"Inox","oui","Inox","non","VECTRA XL350",89300,2007,3930,null,{"$f":"O26*1.03^('Offre NEW'!$T$10-P26)","v":139126.49030244828}]
[null,2200,500,1013,50,20,45,55,400,"Inox","oui","Inox","non","VECTRA XL250",37320,2006,3510,null,{"$f":"O27*1.03^('Offre NEW'!$T$10-P27)","v":59887.644307166731}]
[null,2500,350,1013,45,25,58,75,400,"Fonte","oui","Acier","non","VECTRA XL250",32250,2010,2800,1900,{"$f":"O28*1.03^('Offre NEW'!$T$10-P28)","v":45980.788600789259},null,{"$f":"S28-(8.9775*B28+10791)","v":12746.038600789259},{"$f":"U28/S28*100","v":27.720356672113432},{"$f":"ABS(V28)","v":27.720356672113432}]
[null,2500,280,1013,20,15,50,75,400,"Fonte","oui","Acier","non","VECTRA XL350",45000,2010,3150,2100,{"$f":"O29*1.03^('Offre NEW'!$T$10-P29)","v":64159.239908078038},null,{"$f":"S29-(8.9775*B29+10791)","v":30924.489908078038},{"$f":"U29/S29*100","v":48.199588948347966},{"$f":"ABS(V29)","v":48.199588948347966}]
[null,2500,350,1013,20,15,55,75,400,"Fonte","oui","Acier","non","VECTRA XL350",45000,2011,3150,2100,{"$f":"O30*1.03^('Offre NEW'!$T$10-P30)","v":62290.524182600049},null,{"$f":"S30-(8.9775*B30+10791)","v":29055.774182600049},{"$f":"U30/S30*100","v":46.645576616798415},{"$f":"ABS(V30)","v":46.645576616798415}]
[null,2800,280,1013,25,25,65,90,400,"Fonte","oui","Acier","non","VECTRA XL350",45000,2009,3150,2100,{"$f":"O31*1.03^('Offre NEW'!$T$10-P31)","v":66084.017105320381},null,{"$f":"S31-(8.9775*B31+10791)","v":30156.017105320381},{"$f":"U31/S31*100","v":45.632845014944678},{"$f":"ABS(V31)","v":45.632845014944678}]
[null,3000,350,1013,25,18,70,90,400,"Fonte","oui","Acier","non","VECTRA XL350",30990,2006,1680,null,{"$f":"O32*1.03^('Offre NEW'!$T$10-P32)","v":49729.852547671413},null,{"$f":"S32-(8.9775*B32+10791)","v":12006.352547671413},{"$f":"U32/S32*100","v":24.143149300839035},{"$f":"ABS(V32)","v":24.143149300839035}]
[null,3000,280,1013,30,18,70,90,400,"Inox","oui","Inox","non","VECTRA XL350",63000,2007,3930,null,{"$f":"O33*1.03^('Offre NEW'!$T$10-P33)","v":98151.947245848161}]
[null,3000,280,1013,50,30,60,75,400,"Fonte","oui","Acier","non","VECTRA XL350",37000,2006,1820,500,{"$f":"O34*1.03^('Offre NEW'!$T$10-P34)","v":59374.138246655122},null,{"$f":"S34-(8.9775*B34+10791)","v":21650.638246655122},{"$f":"U34/S34*100","v":36.464762076567609},{"$f":"ABS(V34)","v":36.464762076567609}]
[null,3000,280,1013,50,30,60,75,400,"Fonte","oui","Acier","non","VECTRA XL350",39000,2007,1920,500,{"$f":"O35*1.03^('Offre NEW'!$T$10-P35)","v":60760.729247429816},null,{"$f":"S35-(8.9775*B35+10791)","v":23037.229247429816},{"$f":"U35/S35*100","v":37.914668788153641},{"$f":"ABS(V35)","v":37.914668788153641}]
[null,3000,280,1013,50,30,60,75,400,"Inox","oui","Inox","non","VECTRA XL350",58800,2007,3930,500,{"$f":"O36*1.03^('Offre NEW'!$T$10-P36)","v":91608.484096124943}]
[null,3200,500,1013,38,32,66,90,400,"Fonte","oui","Acier","non","2BE3 300",43000,2006,3691,null,{"$f":"O37*1.03^('Offre NEW'!$T$10-P37)","v":69002.376881247837},null,{"$f":"S37-(8.9775*B37+10791)","v":29483.376881247837},{"$f":"U37/S37*100","v":42.728059834791395},{"$f":"ABS(V37)","v":42.728059834791395}]
[null,3500,200,850,40,30,60,90,400,"Inox","oui","Inox","non","VECTRA XL500",106000,2007,4400,null,{"$f":"O38*1.03^('Offre NEW'!$T$10-P38)","v":165144.54615968102}]
[null,3500,350,1013,30,20,72,90,400,"Fonte","oui","Acier","non","VECTRA XL500",41000,2006,2650,null,{"$f":"O39*1.03^('Offre NEW'!$T$10-P39)","v":65792.964003050263},null,{"$f":"S39-(8.9775*B39+10791)","v":23580.714003050263},{"$f":"U39/S39*100","v":35.840783829038351},{"$f":"ABS(V39)","v":35.840783829038351}]
[null,3600,500,1013,50,20,75,90,400,"Inox","oui","Inox","non","VECTRA XL350",54600,2006,3930,null,{"$f":"O40*1.03^('Offre NEW'!$T$10-P40)","v":87616.971574793773}]
[null,3600,500,1013,50,20,75,90,400,"Inox","oui","Inox","non","VECTRA XL350",54600,2006,3930,null,{"$f":"O41*1.03^('Offre NEW'!$T$10-P41)","v":87616.971574793773}]
[null,3700,500,1013,35,20,72,90,400,"Fonte","oui","Acier","non","VECTRA XL500",63000,2007,2750,null,{"$f":"O42*1.03^('Offre NEW'!$T$10-P42)","v":98151.947245848161},null,{"$f":"S42-(8.9775*B42+10791)","v":54144.197245848161},{"$f":"U42/S42*100","v":55.163650610241419},{"$f":"ABS(V42)","v":55.163650610241419}]
[null,3800,350,1013,40,20,70,110,400,"Fonte","oui","Acier","non","2BE3 3002BY4-Z",48800,2007,4100,null,{"$f":"O43*1.03^('Offre NEW'!$T$10-P43)","v":76028.809930117306},null,{"$f":"S43-(8.9775*B43+10791)","v":31123.309930117306},{"$f":"U43/S43*100","v":40.936205576181749},{"$f":"ABS(V43)","v":40.936205576181749}]
[null,4000,280,1013,30,18,90,110,400,"Inox","oui","Inox","non","VECTRA XL500",76000,2007,4400,null,{"$f":"O44*1.03^('Offre NEW'!$T$10-P44)","v":118405.5236616581}]
[null,4000,500,1013,35,25,83,110,400,"Fonte","oui","Acier","non","2BE3 320 2BY3-Z",56100,2007,4100,2100,{"$f":"O45*1.03^('Offre NEW'!$T$10-P45)","v":87401.97207130288},null,{"$f":"S45-(8.9775*B45+10791)","v":40700.97207130288},{"$f":"U45/S45*100","v":46.5675671918465},{"$f":"ABS(V45)","v":46.5675671918465}]
[null,4000,130,1013,45,20,48,90,400,"Fonte","oui","Acier","non","VECTRA XL350",41000,2007,1875,650,{"$f":"O46*1.03^('Offre NEW'!$T$10-P46)","v":63876.664080631344},null,{"$f":"S46-(8.9775*B46+10791)","v":17175.664080631344},{"$f":"U46/S46*100","v":26.888793157624118},{"$f":"ABS(V46)","v":26.888793157624118}]
[null,4000,350,1013,45,20,89,110,400,"Fonte","oui","Acier","non","VECTRA XL350",37000,2009,null,null,{"$f":"O47*1.03^('Offre NEW'!$T$10-P47)","v":54335.747397707863},null,{"$f":"S47-(8.9775*B47+10791)","v":7634.7473977078625},{"$f":"U47/S47*100","v":14.051058029671884},{"$f":"ABS(V47)","v":14.051058029671884}]
[null,4560,230,900,45,30,80,110,400,"Inox","oui","Inox","non","VECTRA XL500",143200,2008,4210,1500,{"$f":"O48*1.03^('Offre NEW'!$T$10-P48)","v":216602.84859925188}]
[null,5000,350,1013,30,20,120,160,400,"Fonte","oui","Acier","non","2BE3 320",53420,2006,3700,null,{"$f":"O49*1.03^('Offre NEW'!$T$10-P49)","v":85723.417976657205},null,{"$f":"S49-(8.9775*B49+10791)","v":30044.917976657212},{"$f":"U49/S49*100","v":35.048670113502183},{"$f":"ABS(V49)","v":35.048670113502183}]
[null,5000,350,1013,50,30,97,132,400,"Fonte","oui","Acier","non","2BE3 320 2BY3",50780,2006,3900,null,{"$f":"O50*1.03^('Offre NEW'!$T$10-P50)","v":81486.992977436414},null,{"$f":"S50-(8.9775*B50+10791)","v":25808.492977436421},{"$f":"U50/S50*100","v":31.671917240316798},{"$f":"ABS(V50)","v":31.671917240316798}]
[null,5100,500,1013,35,20,112,160,400,"Fonte","oui","Acier","non","2BE3 320 2BY3-Z",58250,2007,4900,2100,{"$f":"O51*1.03^('Offre NEW'!$T$10-P51)","v":90751.602016994526},null,{"$f":"S51-(8.9775*B51+10791)","v":34175.352016994533},{"$f":"U51/S51*100","v":37.658125319478891},{"$f":"ABS(V51)","v":37.658125319478891}]
[null,5100,500,1013,30,20,120,160,400,"Fonte","oui","Acier","non","2BE4 320 2B(H)Y4-Z",65000,2009,4200,null,{"$f":"O52*1.03^('Offre NEW'!$T$10-P52)","v":95454.691374351649},null,{"$f":"S52-(8.9775*B52+10791)","v":38878.441374351656},{"$f":"U52/S52*100","v":40.729733462632261},{"$f":"ABS(V52)","v":40.729733462632261}]
[null,5100,500,1013,30,20,120,160,400,"Inox","oui","Inox","non","2BE4 320 2B(H)Y4-Z",121000,2009,6200,null,{"$f":"O53*1.03^('Offre NEW'!$T$10-P53)","v":177692.57932763922}]
[null,5100,350,1013,34,34,105,132,400,"Fonte","oui","Acier","non","2BE4 400 2BY4",65000,2011,4200,2500,{"$f":"O54*1.03^('Offre NEW'!$T$10-P54)","v":89975.201597088962},null,{"$f":"S54-(8.9775*B54+10791)","v":33398.95159708897},{"$f":"U54/S54*100","v":37.120174230506585},{"$f":"ABS(V54)","v":37.120174230506585}]
[null,5200,230,900,45,20,80,110,400,"Fonte","oui","Acier","non","VECTRA XL500",57700,2007,2750,1500,{"$f":"O55*1.03^('Offre NEW'!$T$10-P55)","v":89894.719937864109},null,{"$f":"S55-(8.9775*B55+10791)","v":32420.719937864116},{"$f":"U55/S55*100","v":36.065210459828521},{"$f":"ABS(V55)","v":36.065210459828521}]
[null,5300,350,1013,30,20,130,160,400,"Fonte","oui","Acier","non","2BE3 320 2BY3-Z",58520,2007,4100,2100,{"$f":"O56*1.03^('Offre NEW'!$T$10-P56)","v":91172.253219476741},null,{"$f":"S56-(8.9775*B56+10791)","v":32800.503219476748},{"$f":"U56/S56*100","v":35.976409555785459},{"$f":"ABS(V56)","v":35.976409555785459}]
[null,5800,350,1013,50,25,132,160,400,"Inox","oui","Inox","non","Vectra XL500",81000,2007,4400,850,{"$f":"O57*1.03^('Offre NEW'!$T$10-P57)","v":126195.36074466191}]
[null,6000,210,1013,20,18,147,200,400,"Fonte","oui","Acier","non","2BU5400-2BA46-Z",67100,2007,3400,null,{"$f":"O58*1.03^('Offre NEW'!$T$10-P58)","v":104539.61365391129},null,{"$f":"S58-(8.9775*B58+10791)","v":39883.613653911299},{"$f":"U58/S58*100","v":38.151675006136848},{"$f":"ABS(V58)","v":38.151675006136848}]
[null,6000,280,1013,30,18,122,160,400,"Inox","oui","Inox","non","2BE3 400 2HY3",136000,2007,5400,null,{"$f":"O59*1.03^('Offre NEW'!$T$10-P59)","v":211883.56865770396}]
[null,6000,350,1013,35,20,115,132,400,"Fonte","oui","Acier","non","2BE4002BY4",73000,2011,4200,2500,{"$f":"O60*1.03^('Offre NEW'!$T$10-P60)","v":101049.07256288452},null,{"$f":"S60-(8.9775*B60+10791)","v":36393.072562884532},{"$f":"U60/S60*100","v":36.01524649346635},{"$f":"ABS(V60)","v":36.01524649346635}]
[null,6000,350,1013,45,15,96,132,400,"Fonte","oui","Acier","non","2BE4 400 2BY4",71000,2011,4200,2500,{"$f":"O61*1.03^('Offre NEW'!$T$10-P61)","v":98280.604821435627},null,{"$f":"S61-(8.9775*B61+10791)","v":33624.604821435634},{"$f":"U61/S61*100","v":34.212859070747079},{"$f":"ABS(V61)","v":34.212859070747079}]
[null,6200,500,1013,50,20,105,132,400,"Inox","oui","Inox","non","VECTRA 2BE3",139500,2006,5200,null,{"$f":"O62*1.03^('Offre NEW'!$T$10-P62)","v":223856.54825428079}]
[null,6300,350,1013,30,20,130,200,400,"Fonte","oui","Acier","non","2BE3 420 2BY4",89200,2007,5825,2300,{"$f":"O63*1.03^('Offre NEW'!$T$10-P63)","v":138970.69356078818},null,{"$f":"S63-(8.9775*B63+10791)","v":71621.443560788175},{"$f":"U63/S63*100","v":51.537084348981622},{"$f":"ABS(V63)","v":51.537084348981622}]
[null,6300,500,1013,30,25,135,160,400,"Fonte","oui","Acier","non","2BE3 420 2BY3-Z",75000,2007,5825,2300,{"$f":"O64*1.03^('Offre NEW'!$T$10-P64)","v":116847.55624505733},null,49498.306245057334,42.361438985722152,42.361438985722152]
[null,6500,500,1013,25,20,130,200,400,"Fonte","oui","Acier","non","2BE3 420",72815,2006,3800,null,{"$f":"O65*1.03^('Offre NEW'!$T$10-P65)","v":116846.69936297818},null,47701.949362978179,40.824387529162941,40.824387529162941]
[null,6500,670,1013,40,27,130,160,400,"Fonte","oui","Acier","non","2BE4 400 2BY4",69000,2011,4200,2500,{"$f":"O66*1.03^('Offre NEW'!$T$10-P66)","v":95512.137079986744},null,26367.387079986744,27.606320920141641,27.606320920141641]
[null,6700,473,1013,20,18,151,200,400,"Fonte","oui","Acier","non","2BU5400-2BA46-Z",67000,2007,3400,null,{"$f":"O67*1.03^('Offre NEW'!$T$10-P67)","v":104383.81691225122},null,33443.566912251219,32.03903430774627,32.03903430774627]
[null,7000,500,1013,35,20,150,200,415,"Fonte","oui","Acier","non","2BE3 4002BY4-Z",88000,2008,3200,null,{"$f":"O68*1.03^('Offre NEW'!$T$10-P68)","v":133107.89578724976},null,59474.395787249756,44.681343233243972,44.681343233243972]
[null,7000,500,1013,30,20,140,200,400,"Inox","oui","Inox","non","2BE3 420 2HY3-Z",225000,2006,5825,null,{"$f":"O69*1.03^('Offre NEW'!$T$10-P69)","v":361058.94879722712}]
[null,7000,350,1013,45,25,125,200,400,"Fonte","oui","Acier","non","2BE3 400-2BY4-Z",72000,2007,4200,2200,{"$f":"O70*1.03^('Offre NEW'!$T$10-P70)","v":112173.65399525504},null,{"$f":"S70-(8.9775*B70+10791)","v":38540.153995255037},{"$f":"U70/S70*100","v":34.357580967171927},{"$f":"ABS(V70)","v":34.357580967171927}]
[null,7500,500,1013,25,20,160,200,400,"Fonte","oui","Acier","non","2BE3 420",72815,2006,3800,null,{"$f":"O71*1.03^('Offre NEW'!$T$10-P71)","v":116846.69936297818},null,38724.449362978179,33.141243675769303,33.141243675769303]
[null,8000,605,1013,20,18,156,200,400,"Fonte","oui","Acier","non","2BU5420-2BA46-Z",78000,2007,3400,null,{"$f":"O72*1.03^('Offre NEW'!$T$10-P72)","v":121521.45849485963},null,38910.458494859631,32.019413671294558,32.019413671294558]
[null,8000,350,1013,40,20,140,200,400,"Fonte","oui","Acier","non","2BE3 4202BY4-Z",75800,2007,5900,null,{"$f":"O73*1.03^('Offre NEW'!$T$10-P73)","v":118093.93017833795},null,35482.930178337949,30.046362353047172,30.046362353047172]
[null,8500,210,1013,20,18,236,315,400,"Fonte","oui","Acier","non","2BU5420-2BA46-Z",81000,2007,4100,null,{"$f":"O74*1.03^('Offre NEW'!$T$10-P74)","v":126195.36074466191},null,39095.610744661913,30.980228206460168,30.980228206460168]
[null,8500,215,1013,20,20,226,315,400,"Fonte","oui","Acier","non","2BE4 420",71700,2010,4200,2500,{"$f":"O75*1.03^('Offre NEW'!$T$10-P75)","v":102227.05558687101},null,15127.305586871007,14.797751436767198,14.797751436767198]
[null,8500,215,1013,20,20,180,250,400,"Fonte","oui","Acier","non","2BE4 500",81000,2010,6000,2500,{"$f":"O76*1.03^('Offre NEW'!$T$10-P76)","v":115486.63183454047},null,28386.881834540472,24.580231827360596,24.580231827360596]
[null,8500,215,1013,45,20,142,200,400,"Fonte","oui","Acier","non","2BE4 420",63200,2010,4200,2500,{"$f":"O77*1.03^('Offre NEW'!$T$10-P77)","v":90108.088048678488},null,3008.3380486784881,3.3385882597501277,3.3385882597501277]
[null,9000,350,1013,30,20,215,315,400,"Fonte","oui","Acier","non","2BE3 420 2BY3-Z",97300,2007,5825,2300,{"$f":"O78*1.03^('Offre NEW'!$T$10-P78)","v":151590.22963525439},null,60001.729635254407,39.581528294815769,39.581528294815769]
[null,9000,280,1013,30,20,230,315,690,"Inox","oui","Inox","non","2BE3 420 2HY3",239000,2006,5502,null,{"$f":"O79*1.03^(2012-P79)","v":285378.49887043098}]
[null,9100,280,940,30,20,211,250,400,"Fonte","oui","Acier","non","2BE4 420 2BY4-Z",101000,2009,5800,null,{"$f":"O80*1.03^('Offre NEW'!$T$10-P80)","v":148321.90505860795},null,{"$f":"S80-(8.9775*B80+10791)","v":55835.655058607968},{"$f":"U80/S80*100","v":37.644914981738573},{"$f":"ABS(V80)","v":37.644914981738573}]
[null,9300,500,1013,35,20,167,250,690,"Fonte","oui","Acier","non","2BE3 500 2xY3-Z",116000,2007,null,null,134475.79261879998]
[null,10000,500,1013,30,18,185,250,400,"Fonte","oui","Acier","non","2BE3 500",111735,2006,4504,null,{"$f":"O82*1.03^('Offre NEW'!$T$10-P82)","v":179301.87397270298},null,{"$f":"S82-(8.9775*B82+10791)","v":78735.87397270299},{"$f":"U82/S82*100","v":43.912465736241991},{"$f":"ABS(V82)","v":43.912465736241991}]
[null,10300,730,1013,20,20,215,250,400,"Fonte","oui","Acier","non","2BE3 500-2BY4-Z",128000,2009,6200,null,{"$f":"O83*1.03^('Offre NEW'!$T$10-P83)","v":187972.31532180018},null,84713.065321800197,45.066777613913636,45.066777613913636]
[null,10500,479,1013,35,20,250,315,400,"Fonte","oui","Acier","non","2BE3 420 OBY ",81000,2010,null,null,{"$f":"O84*1.03^('Offre NEW'!$T$10-P84)","v":115486.63183454047},null,10431.881834540487,9.0329778164163717,9.0329778164163717]
[null,10500,410,910,40,15,235,315,400,"Fonte","oui","Acier","non","2BE3 420 2BY4-Z",87200,2007,5825,2300,{"$f":"O85*1.03^('Offre NEW'!$T$10-P85)","v":135854.75872758665},null,30800.008727586668,22.671277043262247,22.671277043262247]
[null,11000,670,1013,45,27,193,250,400,"Fonte","oui","Acier","non","2BE4 500 2BY4",106000,2011,5900,2500,{"$f":"O86*1.03^('Offre NEW'!$T$10-P86)","v":146728.79029679121},null,37185.290296791223,25.34287253481461,25.34287253481461]
[null,11000,215,1013,20,20,256,315,400,"Fonte","oui","Acier","non","2BE4 500",85900,2010,6000,2500,{"$f":"O87*1.03^('Offre NEW'!$T$10-P87)","v":122472.86018008675},null,12929.360180086762,10.556918619419152,10.556918619419152]
[null,11000,350,1013,40,30,215,250,400,"Fonte","oui","Acier","non","2BE3 500 2BY3",112000,2006,4504,2200,{"$f":"O88*1.03^('Offre NEW'!$T$10-P88)","v":179727.12117906415},null,70183.621179064168,39.050100351376258,39.050100351376258]
[null,11000,280,1013,30,20,235,315,690,"Inox","oui","Inox","non","2BE3 500 2HY3",315000,2006,6502,2200,376126.47340663499]
[null,12000,350,1013,40,25,235,315,400,"Fonte ","oui","Acier","non","2BE3 500-2BY4-Z",129000,2007,6300,2200,{"$f":"O90*1.03^('Offre NEW'!$T$10-P90)","v":200977.79674149861},null,{"$f":"S90-(8.9775*B90+10791)","v":82456.79674149862},{"$f":"U90/S90*100","v":41.027814056274131},{"$f":"ABS(V90)","v":41.027814056274131}]
[null,12000,210,875,30,20,260,355,525,"Fonte","oui","Acier","non","2BE3 500-2BY4-Z",122200,2007,5980,null,{"$f":"O91*1.03^('Offre NEW'!$T$10-P91)","v":190383.61830861343},null,{"$f":"S91-(8.9775*B91+10791)","v":71862.618308613441},{"$f":"U91/S91*100","v":37.746219421107725},{"$f":"ABS(V91)","v":37.746219421107725}]
[null,12600,350,1013,50,20,205,250,400,"Fonte","oui","Acier","non","2BE3 500 2BY3",112000,2006,4504,null,{"$f":"O92*1.03^('Offre NEW'!$T$10-P92)","v":179727.12117906415},null,{"$f":"S92-(8.9775*B92+10791)","v":55819.621179064168},{"$f":"U92/S92*100","v":31.057984355878293},{"$f":"ABS(V92)","v":31.057984355878293}]
[null,12600,350,1013,50,20,205,250,400,"Inox","oui","Inox","non","2BE3 500 2HY3",234000,2006,7502,null,{"$f":"O93*1.03^('Offre NEW'!$T$10-P93)","v":375501.30674911616}]
[null,13000,170,840,30,20,360,630,6600,"Fonte","oui","Acier","non","2BE3 620",166000,2007,12000,null,192439.49633379997]
[null,13000,350,1013,25,20,306,350,400,"Fonte","oui","Acier","non","2BE4 500-2BY4-Z",103000,2010,6200,null,{"$f":"O95*1.03^('Offre NEW'!$T$10-P95)","v":146853.3713451564},null,{"$f":"S95-(8.9775*B95+10791)","v":19354.871345156411},{"$f":"U95/S95*100","v":13.17972557787982},{"$f":"ABS(V95)","v":13.17972557787982}]
[null,15000,500,1013,25,18,290,350,6600,"Fonte","oui","Acier","non","2BE3 600",175000,2006,9940,null,208959.151892575]
[null,15000,500,1013,35,20,280,355,400,"Fonte","oui","Acier","non","2BE3 600 2BY4 –Z",172000,2008,11600,null,{"$f":"O97*1.03^('Offre NEW'!$T$10-P97)","v":260165.43267507909},null,{"$f":"S97-(8.9775*B97+10791)","v":114711.93267507909},{"$f":"U97/S97*100","v":44.091919320558993},{"$f":"ABS(V97)","v":44.091919320558993}]
[null,15000,500,1013,30,20,350,400,6300,"Fonte","oui","Acier","non","2BE3 5202BY4-Z",200000,2007,5980,null,231854.81485999995]
[null,18000,280,932,20,15,385,450,6000,"Fonte","oui","Acier","non","2BE4 620 2BY4 –Z",240000,2008,13600,null,270122.11439999996]
[null,19000,265,950,50,30,340,400,415,"Fonte","oui","Acier","non","2BE3 600 2BY3",175000,2006,10000,null,{"$f":"O100*1.03^('Offre NEW'!$T$10-P100)","v":280823.62684228772},null,{"$f":"S100-(8.9775*B100+10791)","v":99460.126842287747},{"$f":"U100/S100*100","v":35.417293039287316},{"$f":"ABS(V100)","v":35.417293039287316}]
[null,19000,265,950,50,30,340,400,6600,"Fonte","oui","Acier","non","2BE3 600 2BY3",195000,2006,10000,null,232840.19782315497]
[null,20000,415,1013,40,20,405,450,6600,"Fonte","oui","Acier","non","2BE3 620 2BY3-Z",209200,2007,12000,null,242520.13634355998]
[null,20000,215,1013,20,15,450,500,400,"Fonte","oui","Acier","non","2BE4 670 2BY4-Z",227000,2010,15600,null,{"$f":"O103*1.03^('Offre NEW'!$T$10-P103)","v":323647.72131408256},null,{"$f":"S103-(8.9775*B103+10791)","v":133306.72131408259},{"$f":"U103/S103*100","v":41.188833578938024},{"$f":"ABS(V103)","v":41.188833578938024}]
[null,24000,500,1013,30,20,545,630,400,"Fonte","oui","Acier","non","2BE3 670 2BY4",205000,2007,13900,null,{"$f":"O104*1.03^('Offre NEW'!$T$10-P104)","v":319383.32040315669},null,{"$f":"S104-(8.9775*B104+10791)","v":93132.320403156715},{"$f":"U104/S104*100","v":29.160045141241582},{"$f":"ABS(V104)","v":29.160045141241582}]
[null,25000,500,1013,30,20,500,630,400,"Fonte","oui","Acier","non","2BE3 720 2BY3",238000,2006,14800,null,{"$f":"O105*1.03^('Offre NEW'!$T$10-P105)","v":381920.13250551134},null,{"$f":"S105-(8.9775*B105+10791)","v":146691.63250551137},{"$f":"U105/S105*100","v":38.408981360361913},{"$f":"ABS(V105)","v":38.408981360361913}]
[null,30000,500,1013,30,20,680,750,6300,"Fonte","oui","Acier","non","2BE3 7202BY4-Z",331000,2007,16200,null,383719.71859329997]
[]
[null,null,null,null,null,null,null,null,null,null,null,null,null,null,null,null,null,null,null,null,null,null,{"$f":"AVERAGE(W73:W105)","v":29.907904822909199}]
[]
[null,null,null,null,null,null,null,null,null,null,"Débit (m3/h/m²)","Prix (Euros)","Puissance (kW)"]
[null,null,null,null,null,null,null,null,null,null,25000,{"$f":"(13.829*K111+15285)*1.15","v":415161.49999999994},{"$f":"INDEX('PàV Nash'!N109:N123,MATCH('PàV Nash'!M109,'PàV Nash'!N109:N123)+1)","v":{"$error":"#REF!"}}]

{"sheet":"PàV Nash Inox Mot.400V","index":113,"n_rows":111,"n_cols":23,"rows_kept":111,"cut":false,"hidden":false,"merged":[]}
[null,"Débit (m3/h)","P vide (mb abs)","P atm (mb abs)","T gaz (°C)","Teau (°C)","P disp (KW)","P inst (kW)","Tension (V)","Matériau","Séparateur (oui/non)","Matériau séparateur","Echangeur (oui/non)","Type pompe","Prix (€)","Année","spares","franco Le Mele",{"$f":"\"Prix \" & 'Offre NEW'!$T$10 & \" (€)\"","v":"Prix 2022 (€)"}]
[null,300,350,1013,30,20,7.9,11,400,"Fonte","non",null,"non","VECTRA GL35",12780,2012,null,null,{"$f":"O2*1.03^('Offre NEW'!$T$10-P2)","v":17175.251328017875}]
[null,400,280,1013,30,20,11,15,400,"Fonte","oui","Acier","non","VECTRA GL45",7300,2006,null,null,{"$f":"O3*1.03^('Offre NEW'!$T$10-P3)","v":11714.357005421145}]
[null,400,280,1013,30,20,11,15,400,"Inox","oui","Inox","non","VECTRA XL45",14100,2006,null,null,{"$f":"O4*1.03^('Offre NEW'!$T$10-P4)","v":22626.360791292896},null,{"$f":"S4-(23.274*B4+2789.8)","v":10526.960791292895},{"$f":"U4/S4*100","v":46.525205217022318},{"$f":"ABS(V4)","v":46.525205217022318}]
[null,400,473,1013,20,18,13,18.5,400,"Fonte","oui","Acier","non","VECTRA XL60",11700,2007,900,null,{"$f":"O5*1.03^('Offre NEW'!$T$10-P5)","v":18228.218774228942}]
[null,500,350,1013,30,20,11.6,15,400,"Fonte","non",null,"non","VECTRA GL60",15700,2012,null,null,{"$f":"O6*1.03^('Offre NEW'!$T$10-P6)","v":21099.487155702711}]
[null,700,280,1013,30,20,16.5,18.5,400,"Fonte","oui","Acier","non","VECTRA GL80",8830,2006,null,null,{"$f":"O7*1.03^('Offre NEW'!$T$10-P7)","v":14169.557857242289}]
[null,700,280,1013,30,20,16.5,18.5,400,"Inox","oui","Inox","non","VECTRA XL80",17403,2006,null,null,{"$f":"O8*1.03^('Offre NEW'!$T$10-P8)","v":27926.706159636193},null,{"$f":"S8-(23.274*B8+2789.8)","v":8845.1061596361906},{"$f":"U8/S8*100","v":31.672572157544476},{"$f":"ABS(V8)","v":31.672572157544476}]
[null,750,350,1013,20,30,18.399999999999999,22,400,"Fonte","oui","Acier","non","VECTRA GL80",{"$f":"24900/2","v":12450},2006,400,null,{"$f":"O9*1.03^('Offre NEW'!$T$10-P9)","v":19978.595166779898}]
[null,750,350,1013,20,30,18.399999999999999,22,400,"Inox","oui","Inox","non","VECTRA XL80",{"$f":"45660/2","v":22830},2006,720,null,{"$f":"O10*1.03^('Offre NEW'!$T$10-P10)","v":36635.448004625308},null,{"$f":"S10-(23.274*B10+2789.8)","v":16390.148004625309},{"$f":"U10/S10*100","v":44.73849481124406},{"$f":"ABS(V10)","v":44.73849481124406}]
[null,750,350,1013,20,30,18.399999999999999,22,400,"Inox","oui","Inox","non","VECTRA XL80",21360,2007,720,null,{"$f":"O11*1.03^('Offre NEW'!$T$10-P11)","v":33278.184018592328},null,{"$f":"S11-(23.274*B11+2789.8)","v":13032.884018592329},{"$f":"U11/S11*100","v":39.163447174013264},{"$f":"ABS(V11)","v":39.163447174013264}]
[null,800,350,1013,35,20,17,22,400,"Fonte","oui","Acier","non","VECTRA XL100",19200,2008,1700,950,{"$f":"O12*1.03^('Offre NEW'!$T$10-P12)","v":29041.72271721813}]
[null,800,350,1013,35,20,17,22,400,"Fonte","oui","Acier","non","VECTRA GL100",18100,2008,1700,950,{"$f":"O13*1.03^('Offre NEW'!$T$10-P13)","v":27377.874019877509}]
[null,900,280,1013,50,20,17.899999999999999,30,400,"Inox","oui","Inox","non","VECTRA XL80",17170,2006,null,null,{"$f":"O14*1.03^('Offre NEW'!$T$10-P14)","v":27552.809559326175},null,{"$f":"S14-(23.274*B14+2789.8)","v":3816.4095593261736},{"$f":"U14/S14*100","v":13.851253720999864},{"$f":"ABS(V14)","v":13.851253720999864}]
[null,900,350,1013,30,20,22,30,400,"Fonte","oui","Acier","non","VECTRA GL30",13350,2008,1120,560,{"$f":"O15*1.03^('Offre NEW'!$T$10-P15)","v":20193.072826815733}]
[null,900,280,1013,50,20,17.899999999999999,22,400,"Inox","oui","Inox","non","VECTRA XL80",25550,2011,null,null,{"$f":"O16*1.03^('Offre NEW'!$T$10-P16)","v":35367.175397009582},null,{"$f":"S16-(23.274*B16+2789.8)","v":11630.77539700958},{"$f":"U16/S16*100","v":32.885791037734393},{"$f":"ABS(V16)","v":32.885791037734393}]
[null,1000,350,1013,30,20,23,30,400,"Inox","oui","Inox","non","VECTRA XL130",30500,2008,1750,850,{"$f":"O17*1.03^('Offre NEW'!$T$10-P17)","v":46133.986608080886},null,{"$f":"S17-(23.274*B17+2789.8)","v":20070.186608080887},{"$f":"U17/S17*100","v":43.504123713785809},{"$f":"ABS(V17)","v":43.504123713785809}]
[null,1200,280,1013,30,18,28,37,400,"Fonte","oui","Fonte","non","VECTRA GL130",13771,2006,null,null,{"$f":"O18*1.03^('Offre NEW'!$T$10-P18)","v":22098.412372829396}]
[null,1500,380,980,30,20,40,55,400,"Fonte","oui","Acier","non","VECTRA XL150",20950,2006,1013,null,{"$f":"O19*1.03^('Offre NEW'!$T$10-P19)","v":33618.599899119588}]
[null,1500,350,1013,30,20,35,45,400,"Fonte","oui","Acier","non","VECTRA XL150",18200,2008,1310,560,{"$f":"O20*1.03^('Offre NEW'!$T$10-P20)","v":27529.132992363022}]
[null,1600,350,1013,20,15,36,55,400,"Fonte","oui","Acier","non","VECTRA XL250",36000,2011,2900,2100,{"$f":"O21*1.03^('Offre NEW'!$T$10-P21)","v":49832.419346080038}]
[null,1800,200,850,40,30,40,75,400,"Inox","oui","Inox","non","VECTRA XL250",66500,2007,2975,null,{"$f":"O22*1.03^('Offre NEW'!$T$10-P22)","v":103604.83320395084},null,{"$f":"S22-(23.274*B22+2789.8)","v":58921.833203950831},{"$f":"U22/S22*100","v":56.871703164620243},{"$f":"ABS(V22)","v":56.871703164620243}]
[null,1800,350,1013,25,18,42,55,400,"Fonte","oui","Acier","non","VECTRA XL250",39690,2006,1820,null,{"$f":"O23*1.03^('Offre NEW'!$T$10-P23)","v":63690.798567830861}]
[null,1900,350,1013,30,20,45,55,400,"Inox","oui","Inox","non","VECTRA XL250",40500,2007,3400,850,{"$f":"O24*1.03^('Offre NEW'!$T$10-P24)","v":63097.680372330957},null,{"$f":"S24-(23.274*B24+2789.8)","v":16087.280372330955},{"$f":"U24/S24*100","v":25.495834834818126},{"$f":"ABS(V24)","v":25.495834834818126}]
[null,2000,350,1013,35,20,45,55,400,"Fonte","oui","Acier","non","VECTRA XL250",3200,2008,2015,950,{"$f":"O25*1.03^('Offre NEW'!$T$10-P25)","v":4840.287119536355}]
[null,2000,200,850,40,30,40,75,400,"Inox","oui","Inox","non","VECTRA XL350",89300,2007,3930,null,{"$f":"O26*1.03^('Offre NEW'!$T$10-P26)","v":139126.49030244828},null,{"$f":"S26-(23.274*B26+2789.8)","v":89788.690302448274},{"$f":"U26/S26*100","v":64.53745085300136},{"$f":"ABS(V26)","v":64.53745085300136}]
[null,2200,500,1013,50,20,45,55,400,"Inox","oui","Inox","non","VECTRA XL250",37320,2006,3510,null,{"$f":"O27*1.03^('Offre NEW'!$T$10-P27)","v":59887.644307166731},null,{"$f":"S27-(23.274*B27+2789.8)","v":5895.044307166725},{"$f":"U27/S27*100","v":9.8435067456164198},{"$f":"ABS(V27)","v":9.8435067456164198}]
[null,2500,350,1013,45,25,58,75,400,"Fonte","oui","Acier","non","VECTRA XL250",32250,2010,2800,1900,{"$f":"O28*1.03^('Offre NEW'!$T$10-P28)","v":45980.788600789259}]
[null,2500,280,1013,20,15,50,75,400,"Fonte","oui","Acier","non","VECTRA XL350",45000,2010,3150,2100,{"$f":"O29*1.03^('Offre NEW'!$T$10-P29)","v":64159.239908078038}]
[null,2500,350,1013,20,15,55,75,400,"Fonte","oui","Acier","non","VECTRA XL350",45000,2011,3150,2100,{"$f":"O30*1.03^('Offre NEW'!$T$10-P30)","v":62290.524182600049}]
[null,2800,280,1013,25,25,65,90,400,"Fonte","oui","Acier","non","VECTRA XL350",45000,2009,3150,2100,{"$f":"O31*1.03^('Offre NEW'!$T$10-P31)","v":66084.017105320381}]
[null,3000,350,1013,25,18,70,90,400,"Fonte","oui","Acier","non","VECTRA XL350",30990,2006,1680,null,{"$f":"O32*1.03^('Offre NEW'!$T$10-P32)","v":49729.852547671413}]
[null,3000,280,1013,30,18,70,90,400,"Inox","oui","Inox","non","VECTRA XL350",63000,2007,3930,null,{"$f":"O33*1.03^('Offre NEW'!$T$10-P33)","v":98151.947245848161},null,{"$f":"S33-(23.274*B33+2789.8)","v":25540.147245848158},{"$f":"U33/S33*100","v":26.021029600030182},{"$f":"ABS(V33)","v":26.021029600030182}]
[null,3000,280,1013,50,30,60,75,400,"Fonte","oui","Acier","non","VECTRA XL350",37000,2006,1820,500,{"$f":"O34*1.03^('Offre NEW'!$T$10-P34)","v":59374.138246655122}]
[null,3000,280,1013,50,30,60,75,400,"Fonte","oui","Acier","non","VECTRA XL350",39000,2007,1920,500,{"$f":"O35*1.03^('Offre NEW'!$T$10-P35)","v":60760.729247429816}]
[null,3000,280,1013,50,30,60,75,400,"Inox","oui","Inox","non","VECTRA XL350",58800,2007,3930,500,{"$f":"O36*1.03^('Offre NEW'!$T$10-P36)","v":91608.484096124943},null,{"$f":"S36-(23.274*B36+2789.8)","v":18996.68409612494},{"$f":"U36/S36*100","v":20.736817428603761},{"$f":"ABS(V36)","v":20.736817428603761}]
[null,3200,500,1013,38,32,66,90,400,"Fonte","oui","Acier","non","2BE3 300",43000,2006,3691,null,{"$f":"O37*1.03^('Offre NEW'!$T$10-P37)","v":69002.376881247837}]
[null,3500,200,850,40,30,60,90,400,"Inox","oui","Inox","non","VECTRA XL500",106000,2007,4400,null,{"$f":"O38*1.03^('Offre NEW'!$T$10-P38)","v":165144.54615968102},null,{"$f":"S38-(23.274*B38+2789.8)","v":80895.746159681017},{"$f":"U38/S38*100","v":48.984812420908874},{"$f":"ABS(V38)","v":48.984812420908874}]
[null,3500,350,1013,30,20,72,90,400,"Fonte","oui","Acier","non","VECTRA XL500",41000,2006,2650,null,{"$f":"O39*1.03^('Offre NEW'!$T$10-P39)","v":65792.964003050263}]
[null,3600,500,1013,50,20,75,90,400,"Inox","oui","Inox","non","VECTRA XL350",54600,2006,3930,null,{"$f":"O40*1.03^('Offre NEW'!$T$10-P40)","v":87616.971574793773},null,{"$f":"S40-(23.274*B40+2789.8)","v":1040.7715747937618},{"$f":"U40/S40*100","v":1.1878652686658002},{"$f":"ABS(V40)","v":1.1878652686658002}]
[null,3600,500,1013,50,20,75,90,400,"Inox","oui","Inox","non","VECTRA XL350",54600,2006,3930,null,{"$f":"O41*1.03^('Offre NEW'!$T$10-P41)","v":87616.971574793773},null,{"$f":"S41-(23.274*B41+2789.8)","v":1040.7715747937618},{"$f":"U41/S41*100","v":1.1878652686658002},{"$f":"ABS(V41)","v":1.1878652686658002}]
[null,3700,500,1013,35,20,72,90,400,"Fonte","oui","Acier","non","VECTRA XL500",63000,2007,2750,null,{"$f":"O42*1.03^('Offre NEW'!$T$10-P42)","v":98151.947245848161}]
[null,3800,350,1013,40,20,70,110,400,"Fonte","oui","Acier","non","2BE3 3002BY4-Z",48800,2007,4100,null,{"$f":"O43*1.03^('Offre NEW'!$T$10-P43)","v":76028.809930117306}]
[null,4000,280,1013,30,18,90,110,400,"Inox","oui","Inox","non","VECTRA XL500",76000,2007,4400,null,{"$f":"O44*1.03^('Offre NEW'!$T$10-P44)","v":118405.5236616581},null,{"$f":"S44-(23.274*B44+2789.8)","v":22519.723661658092},{"$f":"U44/S44*100","v":19.019149584615533},{"$f":"ABS(V44)","v":19.019149584615533}]
[null,4000,500,1013,35,25,83,110,400,"Fonte","oui","Acier","non","2BE3 320 2BY3-Z",56100,2007,4100,2100,{"$f":"O45*1.03^('Offre NEW'!$T$10-P45)","v":87401.97207130288}]
[null,4000,130,1013,45,20,48,90,400,"Fonte","oui","Acier","non","VECTRA XL350",41000,2007,1875,650,{"$f":"O46*1.03^('Offre NEW'!$T$10-P46)","v":63876.664080631344}]
[null,4000,350,1013,45,20,89,110,400,"Fonte","oui","Acier","non","VECTRA XL350",37000,2009,null,null,{"$f":"O47*1.03^('Offre NEW'!$T$10-P47)","v":54335.747397707863}]
[null,4560,230,900,45,30,80,110,400,"Inox","oui","Inox","non","VECTRA XL500",143200,2008,4210,1500,{"$f":"O48*1.03^('Offre NEW'!$T$10-P48)","v":216602.84859925188},null,{"$f":"S48-(23.274*B48+2789.8)","v":107683.60859925188},{"$f":"U48/S48*100","v":49.71477027916788},{"$f":"ABS(V48)","v":49.71477027916788}]
[null,5000,350,1013,30,20,120,160,400,"Fonte","oui","Acier","non","2BE3 320",53420,2006,3700,null,{"$f":"O49*1.03^('Offre NEW'!$T$10-P49)","v":85723.417976657205}]
[null,5000,350,1013,50,30,97,132,400,"Fonte","oui","Acier","non","2BE3 320 2BY3",50780,2006,3900,null,{"$f":"O50*1.03^('Offre NEW'!$T$10-P50)","v":81486.992977436414}]
[null,5100,500,1013,35,20,112,160,400,"Fonte","oui","Acier","non","2BE3 320 2BY3-Z",58250,2007,4900,2100,{"$f":"O51*1.03^('Offre NEW'!$T$10-P51)","v":90751.602016994526}]
[null,5100,500,1013,30,20,120,160,400,"Fonte","oui","Acier","non","2BE4 320 2B(H)Y4-Z",65000,2009,4200,null,{"$f":"O52*1.03^('Offre NEW'!$T$10-P52)","v":95454.691374351649}]
[null,5100,500,1013,30,20,120,160,400,"Inox","oui","Inox","non","2BE4 320 2B(H)Y4-Z",121000,2009,6200,null,{"$f":"O53*1.03^('Offre NEW'!$T$10-P53)","v":177692.57932763922},null,{"$f":"S53-(23.274*B53+2789.8)","v":56205.37932763921},{"$f":"U53/S53*100","v":31.630684601637011},{"$f":"ABS(V53)","v":31.630684601637011}]
[null,5100,350,1013,34,34,105,132,400,"Fonte","oui","Acier","non","2BE4 400 2BY4",65000,2011,4200,2500,{"$f":"O54*1.03^('Offre NEW'!$T$10-P54)","v":89975.201597088962}]
[null,5200,230,900,45,20,80,110,400,"Fonte","oui","Acier","non","VECTRA XL500",57700,2007,2750,1500,{"$f":"O55*1.03^('Offre NEW'!$T$10-P55)","v":89894.719937864109}]
[null,5300,350,1013,30,20,130,160,400,"Fonte","oui","Acier","non","2BE3 320 2BY3-Z",58520,2007,4100,2100,{"$f":"O56*1.03^('Offre NEW'!$T$10-P56)","v":91172.253219476741}]
[null,5800,350,1013,50,25,132,160,400,"Inox","oui","Inox","non","Vectra XL500",81000,2007,4400,850,{"$f":"O57*1.03^('Offre NEW'!$T$10-P57)","v":126195.36074466191},null,{"$f":"S57-(23.274*B57+2789.8)","v":-11583.639255338087},{"$f":"U57/S57*100","v":-9.1791324078671224},{"$f":"ABS(V57)","v":9.1791324078671224}]
[null,6000,210,1013,20,18,147,200,400,"Fonte","oui","Acier","non","2BU5400-2BA46-Z",67100,2007,3400,null,{"$f":"O58*1.03^('Offre NEW'!$T$10-P58)","v":104539.61365391129}]
[null,6000,280,1013,30,18,122,160,400,"Inox","oui","Inox","non","2BE3 400 2HY3",136000,2007,5400,null,{"$f":"O59*1.03^('Offre NEW'!$T$10-P59)","v":211883.56865770396},null,{"$f":"S59-(23.274*B59+2789.8)","v":69449.768657703971},{"$f":"U59/S59*100","v":32.777326291827499},{"$f":"ABS(V59)","v":32.777326291827499}]
[null,6000,350,1013,35,20,115,132,400,"Fonte","oui","Acier","non","2BE4002BY4",73000,2011,4200,2500,{"$f":"O60*1.03^('Offre NEW'!$T$10-P60)","v":101049.07256288452}]
[null,6000,350,1013,45,15,96,132,400,"Fonte","oui","Acier","non","2BE4 400 2BY4",71000,2011,4200,2500,{"$f":"O61*1.03^('Offre NEW'!$T$10-P61)","v":98280.604821435627}]
[null,6200,500,1013,50,20,105,132,400,"Inox","oui","Inox","non","VECTRA 2BE3",139500,2006,5200,null,{"$f":"O62*1.03^('Offre NEW'!$T$10-P62)","v":223856.54825428079},null,{"$f":"S62-(23.274*B62+2789.8)","v":76767.948254280782},{"$f":"U62/S62*100","v":34.293367271561493},{"$f":"ABS(V62)","v":34.293367271561493}]
[null,6300,350,1013,30,20,130,200,400,"Fonte","oui","Acier","non","2BE3 420 2BY4",89200,2007,5825,2300,{"$f":"O63*1.03^('Offre NEW'!$T$10-P63)","v":138970.69356078818}]
[null,6300,500,1013,30,25,135,160,400,"Fonte","oui","Acier","non","2BE3 420 2BY3-Z",75000,2007,5825,2300,{"$f":"O64*1.03^('Offre NEW'!$T$10-P64)","v":116847.55624505733}]
[null,6500,500,1013,25,20,130,200,400,"Fonte","oui","Acier","non","2BE3 420",72815,2006,3800,null,{"$f":"O65*1.03^('Offre NEW'!$T$10-P65)","v":116846.69936297818}]
[null,6500,670,1013,40,27,130,160,400,"Fonte","oui","Acier","non","2BE4 400 2BY4",69000,2011,4200,2500,{"$f":"O66*1.03^('Offre NEW'!$T$10-P66)","v":95512.137079986744}]
[null,6700,473,1013,20,18,151,200,400,"Fonte","oui","Acier","non","2BU5400-2BA46-Z",67000,2007,3400,null,{"$f":"O67*1.03^('Offre NEW'!$T$10-P67)","v":104383.81691225122}]
[null,7000,500,1013,35,20,150,200,415,"Fonte","oui","Acier","non","2BE3 4002BY4-Z",88000,2008,3200,null,{"$f":"O68*1.03^('Offre NEW'!$T$10-P68)","v":133107.89578724976}]
[null,7000,500,1013,30,20,140,200,400,"Inox","oui","Inox","non","2BE3 420 2HY3-Z",225000,2006,5825,null,{"$f":"O69*1.03^('Offre NEW'!$T$10-P69)","v":361058.94879722712},null,{"$f":"S69-(23.274*B69+2789.8)","v":195351.14879722713},{"$f":"U69/S69*100","v":54.105056652933847},{"$f":"ABS(V69)","v":54.105056652933847}]
[null,7000,350,1013,45,25,125,200,400,"Fonte","oui","Acier","non","2BE3 400-2BY4-Z",72000,2007,4200,2200,{"$f":"O70*1.03^('Offre NEW'!$T$10-P70)","v":112173.65399525504}]
[null,7500,500,1013,25,20,160,200,400,"Fonte","oui","Acier","non","2BE3 420",72815,2006,3800,null,{"$f":"O71*1.03^('Offre NEW'!$T$10-P71)","v":116846.69936297818}]
[null,8000,605,1013,20,18,156,200,400,"Fonte","oui","Acier","non","2BU5420-2BA46-Z",78000,2007,3400,null,{"$f":"O72*1.03^('Offre NEW'!$T$10-P72)","v":121521.45849485963}]
[null,8000,350,1013,40,20,140,200,400,"Fonte","oui","Acier","non","2BE3 4202BY4-Z",75800,2007,5900,null,{"$f":"O73*1.03^('Offre NEW'!$T$10-P73)","v":118093.93017833795}]
[null,8500,210,1013,20,18,236,315,400,"Fonte","oui","Acier","non","2BU5420-2BA46-Z",81000,2007,4100,null,{"$f":"O74*1.03^('Offre NEW'!$T$10-P74)","v":126195.36074466191}]
[null,8500,215,1013,20,20,226,315,400,"Fonte","oui","Acier","non","2BE4 420",71700,2010,4200,2500,{"$f":"O75*1.03^('Offre NEW'!$T$10-P75)","v":102227.05558687101}]
[null,8500,215,1013,20,20,180,250,400,"Fonte","oui","Acier","non","2BE4 500",81000,2010,6000,2500,{"$f":"O76*1.03^('Offre NEW'!$T$10-P76)","v":115486.63183454047}]
[null,8500,215,1013,45,20,142,200,400,"Fonte","oui","Acier","non","2BE4 420",63200,2010,4200,2500,{"$f":"O77*1.03^('Offre NEW'!$T$10-P77)","v":90108.088048678488}]
[null,9000,350,1013,30,20,215,315,400,"Fonte","oui","Acier","non","2BE3 420 2BY3-Z",97300,2007,5825,2300,{"$f":"O78*1.03^('Offre NEW'!$T$10-P78)","v":151590.22963525439}]
[null,9000,280,1013,30,20,230,315,690,"Inox","oui","Inox","non","2BE3 420 2HY3",239000,2006,5502,null,{"$f":"O79*1.03^('Offre NEW'!$T$10-P79)","v":383524.83894461009},null,{"$f":"S79-(23.274*B79+2789.8)","v":171269.0389446101},{"$f":"U79/S79*100","v":44.656570201792157},{"$f":"ABS(V79)","v":44.656570201792157}]
[null,9100,280,940,30,20,211,250,400,"Fonte","oui","Acier","non","2BE4 420 2BY4-Z",101000,2009,5800,null,{"$f":"O80*1.03^('Offre NEW'!$T$10-P80)","v":148321.90505860795}]
[null,9300,500,1013,35,20,167,250,690,"Fonte","oui","Acier","non","2BE3 500 2xY3-Z",116000,2007,null,null,{"$f":"O81*1.03^('Offre NEW'!$T$10-P81)","v":180724.22032568869}]
[null,10000,500,1013,30,18,185,250,400,"Fonte","oui","Acier","non","2BE3 500",111735,2006,4504,null,{"$f":"O82*1.03^('Offre NEW'!$T$10-P82)","v":179301.87397270298}]
[null,10300,730,1013,20,20,215,250,400,"Fonte","oui","Acier","non","2BE3 500-2BY4-Z",128000,2009,6200,null,{"$f":"O83*1.03^('Offre NEW'!$T$10-P83)","v":187972.31532180018}]
[null,10500,479,1013,35,20,250,315,400,"Fonte","oui","Acier","non","2BE3 420 OBY ",81000,2010,null,null,{"$f":"O84*1.03^('Offre NEW'!$T$10-P84)","v":115486.63183454047}]
[null,10500,410,910,40,15,235,315,400,"Fonte","oui","Acier","non","2BE3 420 2BY4-Z",87200,2007,5825,2300,{"$f":"O85*1.03^('Offre NEW'!$T$10-P85)","v":135854.75872758665}]
[null,11000,670,1013,45,27,193,250,400,"Fonte","oui","Acier","non","2BE4 500 2BY4",106000,2011,5900,2500,{"$f":"O86*1.03^('Offre NEW'!$T$10-P86)","v":146728.79029679121}]
[null,11000,215,1013,20,20,256,315,400,"Fonte","oui","Acier","non","2BE4 500",85900,2010,6000,2500,{"$f":"O87*1.03^('Offre NEW'!$T$10-P87)","v":122472.86018008675}]
[null,11000,350,1013,40,30,215,250,400,"Fonte","oui","Acier","non","2BE3 500 2BY3",112000,2006,4504,2200,{"$f":"O88*1.03^('Offre NEW'!$T$10-P88)","v":179727.12117906415}]
[null,11000,280,1013,30,20,235,315,690,"Inox","oui","Inox","non","2BE3 500 2HY3",315000,2006,6502,2200,{"$f":"O89*1.03^('Offre NEW'!$T$10-P89)","v":505482.52831611794},null,{"$f":"S89-(23.274*B89+2789.8)","v":246678.72831611795},{"$f":"U89/S89*100","v":48.800643839830279},{"$f":"ABS(V89)","v":48.800643839830279}]
[null,12000,350,1013,40,25,235,315,400,"Fonte ","oui","Acier","non","2BE3 500-2BY4-Z",129000,2007,6300,2200,{"$f":"O90*1.03^('Offre NEW'!$T$10-P90)","v":200977.79674149861}]
[null,12000,210,875,30,20,260,355,525,"Fonte","oui","Acier","non","2BE3 500-2BY4-Z",122200,2007,5980,null,{"$f":"O91*1.03^('Offre NEW'!$T$10-P91)","v":190383.61830861343}]
[null,12600,350,1013,50,20,205,250,400,"Fonte","oui","Acier","non","2BE3 500 2BY3",112000,2006,4504,null,{"$f":"O92*1.03^('Offre NEW'!$T$10-P92)","v":179727.12117906415}]
[null,12600,350,1013,50,20,205,250,400,"Inox","oui","Inox","non","2BE3 500 2HY3",234000,2006,7502,null,{"$f":"O93*1.03^('Offre NEW'!$T$10-P93)","v":375501.30674911616},null,{"$f":"S93-(23.274*B93+2789.8)","v":79459.106749116152},{"$f":"U93/S93*100","v":21.160806985474807},{"$f":"ABS(V93)","v":21.160806985474807}]
[null,13000,170,840,30,20,360,630,6600,"Fonte","oui","Acier","non","2BE3 620",166000,2007,12000,null,{"$f":"O94*1.03^('Offre NEW'!$T$10-P94)","v":258622.5911557269}]
[null,13000,350,1013,25,20,306,350,400,"Fonte","oui","Acier","non","2BE4 500-2BY4-Z",103000,2010,6200,null,{"$f":"O95*1.03^('Offre NEW'!$T$10-P95)","v":146853.3713451564}]
[null,15000,500,1013,25,18,290,350,6600,"Fonte","oui","Acier","non","2BE3 600",175000,2006,9940,null,{"$f":"O96*1.03^('Offre NEW'!$T$10-P96)","v":280823.62684228772}]
[null,15000,500,1013,35,20,280,355,400,"Fonte","oui","Acier","non","2BE3 600 2BY4 –Z",172000,2008,11600,null,{"$f":"O97*1.03^('Offre NEW'!$T$10-P97)","v":260165.43267507909}]
[null,15000,500,1013,30,20,350,400,6300,"Fonte","oui","Acier","non","2BE3 5202BY4-Z",200000,2007,5980,null,{"$f":"O98*1.03^('Offre NEW'!$T$10-P98)","v":311593.48332015291}]
[null,18000,280,932,20,15,385,450,6000,"Fonte","oui","Acier","non","2BE4 620 2BY4 –Z",240000,2008,13600,null,{"$f":"O99*1.03^('Offre NEW'!$T$10-P99)","v":363021.53396522667}]
[null,19000,265,950,50,30,340,400,415,"Fonte","oui","Acier","non","2BE3 600 2BY3",175000,2006,10000,null,{"$f":"O100*1.03^('Offre NEW'!$T$10-P100)","v":280823.62684228772}]
[null,19000,265,950,50,30,340,400,6600,"Fonte","oui","Acier","non","2BE3 600 2BY3",195000,2006,10000,null,{"$f":"O101*1.03^('Offre NEW'!$T$10-P101)","v":312917.75562426349}]
[null,20000,415,1013,40,20,405,450,6600,"Fonte","oui","Acier","non","2BE3 620 2BY3-Z",209200,2007,12000,null,{"$f":"O102*1.03^('Offre NEW'!$T$10-P102)","v":325926.78355287993}]
[null,20000,215,1013,20,15,450,500,400,"Fonte","oui","Acier","non","2BE4 670 2BY4-Z",227000,2010,15600,null,{"$f":"O103*1.03^('Offre NEW'!$T$10-P103)","v":323647.72131408256}]
[null,24000,500,1013,30,20,545,630,400,"Fonte","oui","Acier","non","2BE3 670 2BY4",205000,2007,13900,null,{"$f":"O104*1.03^('Offre NEW'!$T$10-P104)","v":319383.32040315669}]
[null,25000,500,1013,30,20,500,630,400,"Fonte","oui","Acier","non","2BE3 720 2BY3",238000,2006,14800,null,{"$f":"O105*1.03^('Offre NEW'!$T$10-P105)","v":381920.13250551134}]
[null,30000,500,1013,30,20,680,750,6300,"Fonte","oui","Acier","non","2BE3 7202BY4-Z",331000,2007,16200,null,{"$f":"O106*1.03^('Offre NEW'!$T$10-P106)","v":515687.21489485301}]
[]
[null,null,null,null,null,null,null,null,null,null,null,null,null,null,null,null,null,null,null,null,null,null,{"$f":"AVERAGE(W4:W93)","v":32.790203135922397}]
[]
[null,null,null,null,null,null,null,null,null,null,"Débit (m3/h/m²)","Prix (Euros)"]
[null,null,null,null,null,null,null,null,null,null,11000,{"$f":"(37.362*K111+1627.5)*1.2","v":495131.39999999997}]

{"sheet":"Pompe centrifuge GROSCLAUDE","index":114,"n_rows":35,"n_cols":18,"rows_kept":35,"cut":false,"hidden":false,"merged":[]}
[]
[null,"Type de pompe Ex-Bx","MOC","HMT (mCL)","Débit (m3/h)","NPSH requis","Prix (Euros)"]
[null,"EX109/3X-95/90/90-0,55-2I","316L",25,1,1,3109]
[null,"EX216X-160-2,2-2I","316L",25,2,1,3163]
[null,"EX216X-160-2,2-2I","316L",25,3,1,3163]
[null,"EX216X-160-2,2-2I","316L",25,4,1.2,3163,null,null,null,null,null,null,null,null,null,"Débit (m3/h)","Prix (Euros)"]
[null,"EX216X-160-2,2-2I","316L",25,5,1.4,3163,null,null,null,null,null,null,null,null,"Pompe filtrats 1",{"$f":"Calculations!V15","v":20},{"$f":"IF(Q7=0,0,IF(Q7<5,$G$7,IF(Q7<30,$G$9, IF(Q7<50,$G$14,IF(Q7<=75,$G$15,\"CONSULTATION\")))))","v":3759}]
[null,"EX315X-160-2,2-2I","316L",25,10,1.6,3759,null,null,null,null,null,null,null,null,"Pompe filtrats 2",{"$f":"Calculations!V16","v":30},{"$f":"IF(Q8=0,0,IF(Q8<5,$G$7,IF(Q8<30,$G$9, IF(Q8<50,$G$14,IF(Q8<=75,$G$15,IF(Q8=\"N/A\",0,\"CONSULTATION\"))))))","v":5898}]
[null,"EX315X-160-2,2-2I","316L",23,15,3.1,3759,null,null,null,null,null,null,null,null,"Pompe filtrats 3",{"$f":"Calculations!V17","v":50},{"$f":"IF(Q9=0,0,IF(Q9<5,$G$7,IF(Q9<30,$G$9, IF(Q9<50,$G$14,IF(Q9<=75,$G$15,IF(Q9=\"N/A\",0,\"CONSULTATION\"))))))","v":6911}]
[null,"EX414X-149-4-2I","316L",25,20,3.4,3682,null,null,null,null,null,null,null,null,"Pompe filtrats 4",{"$f":"Calculations!V18","v":400},"CONSULTATION"]
[null,"EX414X-149-4-2I","316L",24,25,5,3682,null,null,null,null,null,null,null,null,"Pompe TB",{"$f":"ROUNDUP((Calculations!$G$41+((Calculations!$Q$39+Calculations!$Q$40)/1000)),2)","v":{"$error":"#VALUE!"}},{"$f":"IF(Q11=0,0,IF(Q11<5,$G$7,IF(Q11<30,$G$9, IF(Q11<50,$G$14,IF(Q11<=75,$G$15,\"CONSULTATION\")))))","v":{"$error":"#VALUE!"}}]
[null,"BX516X-155-4-2I","316L",24,30,3.3,5555]
[null,"BX516X-175-7,5-2I","316L",25,40,4,5898]
[null,"BX516X-175-7,5-2I","316L",25,50,4.9000000000000004,5898]
[null,"BX619X-175-11-2I","316L",25,75,4,6911]
[]
[null,"Type de pompe Alfa","MOC","HMT (mCL)","Débit (m3/h)","NPSH requis","Prix (Euros)"]
[null,"Alfa 32-16F-164-4-2I","Fonte",25,20,2.6,2599.35]
[null,"Alfa 40-16F-154-4-2I","Fonte",25,25,1.7,2702.1]
[null,"Alfa 40-16F-160-5,5-2I","Fonte",25,30,2.2999999999999998,2809.1]
[null,"Alfa 50-16F-150-7,5-2I","Fonte",25,40,2.2000000000000002,3128.95]
[null,"Alfa 50-16F-154-7,5-2I","Fonte",25,50,2.5,3128.95]
[null,"Alfa 65-16F-156-9-2I","Fonte",25,75,2.4,3297.375]
[null,"Alfa 65-16F-162-11-2I","Fonte",25,100,3.4,3602.375]
[null,"Alfa 65-16F-168-15-2I","Fonte",25,125,5.6,4045.375]
[null,"Alfa 80-16F-164-15-2I","Fonte",25,150,4,4276.4250000000002]
[null,"Alfa 125-33F-295-18,5-4I","Fonte",25,200,2.4,6220.3249999999998,null,null,null,null,null,null,null,null,null,"Débit (m3/h)","Prix (Euros)"]
[null,"Alfa 125-33F-310-30-4I","Fonte",25,250,3.9,7625.3249999999998,null,null,null,null,null,null,null,null,"Pompe filtrats 1",{"$f":"Calculations!V15","v":20},{"$f":"IF(Q28=0,0,IF(Q28>700,\"CONSULTATION\",20.83*Q28+1958))","v":2374.6}]
[null,"Alfa 150-33F-290-30-4I","Fonte",25,300,2.5,8586.4500000000007,null,null,null,null,null,null,null,null,"Pompe filtrats 2",{"$f":"Calculations!V16","v":30},{"$f":"IF(Q29=0,0,IF(Q29>700,\"CONSULTATION\",20.83*Q29+1958))","v":2582.9}]
[null,"Alfa 150-33F-300-30-4I","Fonte",25,350,3,8586.4500000000007,null,null,null,null,null,null,null,null,"Pompe filtrats 3",{"$f":"Calculations!V17","v":50},2999.5]
[null,"Alfa 150-33F-310-37-4I","Fonte",25,400,3.75,9480.4500000000007,null,null,null,null,null,null,null,null,"Pompe filtrats 4",{"$f":"Calculations!V18","v":400},10290]
[null,"Alfa 200-33F-300-45-4I","Fonte",25,450,3.2,12396,null,null,null,null,null,null,null,null,"Pompe TB",{"$f":"ROUNDUP((Calculations!$G$41+((Calculations!$Q$39+Calculations!$Q$40)/1000)),2)","v":{"$error":"#VALUE!"}},{"$error":"#VALUE!"}]
[null,"Alfa 200-33F-305-55-4I","Fonte",25,500,3.5,13673]
[null,"Alfa 200-33F-310-55-4I","Fonte",25,600,4.2,13673]
[null,"Alfa 200-33F-320-75-4I","Fonte",25,700,5,16335]

{"sheet":"Pompe centrifuge SULZER","index":115,"n_rows":43,"n_cols":11,"rows_kept":43,"cut":false,"hidden":false,"merged":[]}
[null,"Type de pompe","MOC","Débit (m3/h)","Pabs (kW)","Pinst (kW)","HMT (mCL)","NPSH requis","Année","Prix (Euros)",{"$f":"\"Prix \" & 'Offre NEW'!$T$10 & \" (Euros)\"","v":"Prix 2022 (Euros)"}]
[null,"A23-50","A890-1B (CD4MCu)",50,8.3000000000000007,11,25,0.6,2009,9240,{"$f":"J2*1.03^('Offre NEW'!$T$10-I2)","v":13569.251512292451}]
[null,"A32-80","A890-1B (CD4MCu)",80,8.6,15,25,0.8,2009,10580,{"$f":"J3*1.03^('Offre NEW'!$T$10-I3)","v":15537.086688317546}]
[null,"A22-80-GM","A890-1B (CD4MCu)",110,8.6,11,20,1.6,2007,11460,{"$f":"J4*1.03^('Offre NEW'!$T$10-I4)","v":17854.306594244761}]
[null,"A32-100","A890-1B (CD4MCu)",150,15.4,18.5,25,1.2,2009,11490,{"$f":"J5*1.03^('Offre NEW'!$T$10-I5)","v":16873.452367558468}]
[null,"A31-100-GM","A890-1B (CD4MCu)",210,14.5,18.5,20,2.4,2007,13310,{"$f":"J6*1.03^('Offre NEW'!$T$10-I6)","v":20736.546314956173}]
[null,"A31-125-GM","A890-1B (CD4MCu)",270,18.2,22,20,2.6,2007,14410,{"$f":"J7*1.03^('Offre NEW'!$T$10-I7)","v":22450.310473217014}]
[null,"A31-100-GM","A890-1B (CD4MCu)",320,21.1,30,20,3,2007,14770,{"$f":"J8*1.03^('Offre NEW'!$T$10-I8)","v":23011.17874319329}]
[null,"A23-40","A890-3A (CD6MN - AISI 329)",10,2.7,4,25,0.8,2007,6860,{"$f":"J9*1.03^('Offre NEW'!$T$10-I9)","v":10687.656477881244}]
[null,"A11-40","A890-3A (CD6MN - AISI 329)",15,1.5,3,15,null,2007,5250,{"$f":"J10*1.03^('Offre NEW'!$T$10-I10)","v":8179.3289371540131}]
[null,"A11-41","A890-3A (CD6MN - AISI 329)",15,1.4,3,15,null,2007,5250,{"$f":"J11*1.03^('Offre NEW'!$T$10-I11)","v":8179.3289371540131}]
[null,"A11-42","A890-3A (CD6MN - AISI 329)",15,1.3,3,15,null,2007,5250,{"$f":"J12*1.03^('Offre NEW'!$T$10-I12)","v":8179.3289371540131}]
[null,"A23-40","A890-3A (CD6MN - AISI 329)",15,2.9,4,25,0.8,2007,7090,{"$f":"J13*1.03^('Offre NEW'!$T$10-I13)","v":11045.988983699421}]
[null,"A11-43","A890-3A (CD6MN - AISI 329)",20,1.5,3,15,null,2007,5250,{"$f":"J14*1.03^('Offre NEW'!$T$10-I14)","v":8179.3289371540131}]
[null,"A23-50-GM","A890-3A (CD6MN - AISI 329)",30,6.8,11,27,0.95,2008,11390,{"$f":"J15*1.03^('Offre NEW'!$T$10-I15)","v":17228.396966099714}]
[null,"A11-40","A890-3A (CD6MN - AISI 329)",30,8.9,15,60,1,2009,6010,{"$f":"J16*1.03^('Offre NEW'!$T$10-I16)","v":8825.8876178438986}]
[null,"A23-50-GM","A890-3A (CD6MN - AISI 329)",35,6.7,11,27,1,2008,11390,{"$f":"J17*1.03^('Offre NEW'!$T$10-I17)","v":17228.396966099714}]
[null,"A23-50","A890-3A (CD6MN - AISI 329)",40,5.9,7.5,25,1,2007,7660,{"$f":"J18*1.03^('Offre NEW'!$T$10-I18)","v":11934.030411161855}]
[null,"A23-50-GM","A890-3A (CD6MN - AISI 329)",45,8.6999999999999993,11,27,1.1000000000000001,2008,11390,{"$f":"J19*1.03^('Offre NEW'!$T$10-I19)","v":17228.396966099714}]
[null,"A32-65","A890-3A (CD6MN - AISI 329)",50,6,7.5,25,0.9,2010,9430,{"$f":"J20*1.03^('Offre NEW'!$T$10-I20)","v":13444.925162959464}]
[null,"A22-65","A890-3A (CD6MN - AISI 329)",50,3.3,4,15,1.1000000000000001,2009,6570,{"$f":"J21*1.03^('Offre NEW'!$T$10-I21)","v":9648.2664973767751}]
[null,"A32-65","A890-3A (CD6MN - AISI 329)",50,6.1,7.5,25,1,2007,8160,{"$f":"J22*1.03^('Offre NEW'!$T$10-I22)","v":12713.014119462237}]
[null,"A23-50","A890-3A (CD6MN - AISI 329)",60,6.9,11,25,1.1000000000000001,2007,8000,{"$f":"J23*1.03^('Offre NEW'!$T$10-I23)","v":12463.739332806115}]
[null,"A32-80-GM","A890-3A (CD6MN - AISI 329)",90,10.9,15,27,1.35,2008,12930,{"$f":"J24*1.03^('Offre NEW'!$T$10-I24)","v":19557.785142376586}]
[null,"A22-80","A890-3A (CD6MN - AISI 329)",90,5,7.5,15,null,2007,7270,{"$f":"J25*1.03^('Offre NEW'!$T$10-I25)","v":11326.423118687557}]
[null,"A32-81","A890-3A (CD6MN - AISI 329)",100,10,15,25,null,2008,9560,{"$f":"J26*1.03^('Offre NEW'!$T$10-I26)","v":14460.35776961486}]
[null,"A33-100-GM","A890-3A (CD6MN - AISI 329)",110,9,15,20,null,2007,13150,{"$f":"J27*1.03^('Offre NEW'!$T$10-I27)","v":20487.271528300051}]
[null,"A32-80","A890-3A (CD6MN - AISI 329)",120,11.5,15,25,null,2008,9560,{"$f":"J28*1.03^('Offre NEW'!$T$10-I28)","v":14460.35776961486}]
[null,"A23-40","A890-3A (CD6MN - AISI 329)",150,2.9,4,25,0.6,2010,8330,{"$f":"J29*1.03^('Offre NEW'!$T$10-I29)","v":11876.588187428668}]
[null,"A32-100","A890-3A (CD6MN - AISI 329)",160,15.6,22,25,1.8,2007,9310,{"$f":"J30*1.03^('Offre NEW'!$T$10-I30)","v":14504.676648553117}]
[null,"A32-100 O","A890-3A (CD6MN - AISI 329)",180,23.15,30,25,1.9,2009,10032,{"$f":"J31*1.03^('Offre NEW'!$T$10-I31)","v":14732.330213346089}]
[null,"W32-125","A890-3A (CD6MN - AISI 329)",200,16.600000000000001,22,20,2.5,2007,14600,{"$f":"J32*1.03^('Offre NEW'!$T$10-I32)","v":22746.324282371159}]
[null,"A31-125 O","A890-3A (CD6MN - AISI 329)",238,12.95,18.5,15.5,2.5,2010,10681,{"$f":"J33*1.03^('Offre NEW'!$T$10-I33)","v":15228.552032404034}]
[null,"A31-125","A890-3A (CD6MN - AISI 329)",270,20,30,20,2.6,2008,7970,{"$f":"J34*1.03^('Offre NEW'!$T$10-I34)","v":12055.340107095235}]
[null,"A31-125","A890-3A (CD6MN - AISI 329)",270,20,30,20,2.6,2008,8470,{"$f":"J35*1.03^('Offre NEW'!$T$10-I35)","v":12811.634969522791}]
[null,"A31-125-GM","A890-3A (CD6MN - AISI 329)",270,20,30,20,2.6,2008,12430,{"$f":"J36*1.03^('Offre NEW'!$T$10-I36)","v":18801.49027994903}]
[null,"A31-125","A890-3A (CD6MN - AISI 329)",320,23,30,20,2.7,2009,12310,{"$f":"J37*1.03^('Offre NEW'!$T$10-I37)","v":18077.650012588751}]
[null,"A42-150 O","A890-3A (CD6MN - AISI 329)",333,29.71,37,25.89,2.8,2010,15164,{"$f":"J38*1.03^('Offre NEW'!$T$10-I38)","v":21620.238088135451}]
[null,"A51-250 O","A890-3A (CD6MN - AISI 329)",1000,88.58,90,25.38,2.9,2012,37200,{"$f":"J39*1.03^('Offre NEW'!$T$10-I39)","v":49993.689311601331}]
[null,"A51-250-LM O","A890-3A (CD6MN - AISI 329)",1000,81.59,90,25.38,2.9,2012,58750,{"$f":"J40*1.03^('Offre NEW'!$T$10-I40)","v":78955.087286467155}]
[null,"A11-40","A890-5A (U45N)",35,null,6.6,20,null,2007,7040,{"$f":"J41*1.03^('Offre NEW'!$T$10-I41)","v":10968.090612869382}]
[null,"A11-40-LM","A890-5A (U45N)",35,null,6.6,20,null,2007,10970,{"$f":"J42*1.03^('Offre NEW'!$T$10-I42)","v":17090.902560110386}]
[null,"A32-65","Avesta 654SMO",50,6,7.5,25,0.9,2010,14730,{"$f":"J43*1.03^('Offre NEW'!$T$10-I43)","v":21001.45786324421}]

{"sheet":"Pompe centrifuge SULZER A890-3A","index":116,"n_rows":51,"n_cols":15,"rows_kept":51,"cut":false,"hidden":false,"merged":[]}
[null,"Type de pompe","MOC","Débit (m3/h)","Pabs (kW)","Pinst (kW)","HMT (mCL)","NPSH requis","Année","Prix (Euros)",{"$f":"\"Prix \" & 'Offre NEW'!$T$10 & \" (Euros)\"","v":"Prix 2022 (Euros)"}]
[null,"A23-40","A890-3A (CD6MN - AISI 329)",10,2.7,4,25,0.8,2007,6860,{"$f":"J2*1.03^('Offre NEW'!$T$10-I2)","v":10687.656477881244},null,{"$f":"K2-(18.405*D2+7127.1)","v":3376.5064778812439},{"$f":"(K2-(18.405*D2+7127.1))/K2*100","v":31.592580514438591},{"$f":"ABS(N2)","v":31.592580514438591}]
[null,"A11-40","A890-3A (CD6MN - AISI 329)",15,1.5,3,15,null,2007,5250,{"$f":"J3*1.03^('Offre NEW'!$T$10-I3)","v":8179.3289371540131},null,776.15393715401297,9.4892129063105592,9.4892129063105592]
[null,"A11-41","A890-3A (CD6MN - AISI 329)",15,1.4,3,15,null,2007,5250,{"$f":"J4*1.03^('Offre NEW'!$T$10-I4)","v":8179.3289371540131},null,776.15393715401297,9.4892129063105592,9.4892129063105592]
[null,"A11-42","A890-3A (CD6MN - AISI 329)",15,1.3,3,15,null,2007,5250,{"$f":"J5*1.03^('Offre NEW'!$T$10-I5)","v":8179.3289371540131},null,776.15393715401297,9.4892129063105592,9.4892129063105592]
[null,"A23-40","A890-3A (CD6MN - AISI 329)",15,2.9,4,25,0.8,2007,7090,{"$f":"J6*1.03^('Offre NEW'!$T$10-I6)","v":11045.988983699421},null,3642.8139836994205,32.978613223995836,32.978613223995836]
[null,"A11-43","A890-3A (CD6MN - AISI 329)",20,1.5,3,15,null,2007,5250,{"$f":"J7*1.03^('Offre NEW'!$T$10-I7)","v":8179.3289371540131},null,684.12893715401242,8.3641206070880223,8.3641206070880223]
[null,"A23-50-GM","A890-3A (CD6MN - AISI 329)",30,6.8,11,27,0.95,2008,11390,{"$f":"J8*1.03^('Offre NEW'!$T$10-I8)","v":17228.396966099714}]
[null,"A11-40","A890-3A (CD6MN - AISI 329)",30,8.9,15,60,1,2009,6010,{"$f":"J9*1.03^('Offre NEW'!$T$10-I9)","v":8825.8876178438986},null,{"$f":"K9-(18.405*D9+7127.1)","v":1146.6376178438986},{"$f":"(K9-(18.405*D9+7127.1))/K9*100","v":12.991754115763532},{"$f":"ABS(N9)","v":12.991754115763532}]
[null,"A11-40","A890-5A (U45N)",35,null,6.6,20,null,2007,7040,{"$f":"J10*1.03^('Offre NEW'!$T$10-I10)","v":10968.090612869382}]
[null,"A11-40-LM","A890-5A (U45N)",35,null,6.6,20,null,2007,10970,{"$f":"J11*1.03^('Offre NEW'!$T$10-I11)","v":17090.902560110386}]
[null,"A23-50-GM","A890-3A (CD6MN - AISI 329)",35,6.7,11,27,1,2008,11390,{"$f":"J12*1.03^('Offre NEW'!$T$10-I12)","v":17228.396966099714}]
[null,"A23-50","A890-3A (CD6MN - AISI 329)",40,5.9,7.5,25,1,2007,7660,{"$f":"J13*1.03^('Offre NEW'!$T$10-I13)","v":11934.030411161855},null,{"$f":"K13-(18.405*D13+7127.1)","v":4070.730411161855},{"$f":"(K13-(18.405*D13+7127.1))/K13*100","v":34.110273486101697},{"$f":"ABS(N13)","v":34.110273486101697}]
[null,"A23-50-GM","A890-3A (CD6MN - AISI 329)",45,8.6999999999999993,11,27,1.1000000000000001,2008,11390,{"$f":"J14*1.03^('Offre NEW'!$T$10-I14)","v":17228.396966099714}]
[null,"A32-65","Avesta 654SMO",50,6,7.5,25,0.9,2010,14730,{"$f":"J15*1.03^('Offre NEW'!$T$10-I15)","v":21001.45786324421}]
[null,"A32-65","A890-3A (CD6MN - AISI 329)",50,6,7.5,25,0.9,2010,9430,{"$f":"J16*1.03^('Offre NEW'!$T$10-I16)","v":13444.925162959464},null,{"$f":"K16-(18.405*D16+7127.1)","v":5397.5751629594633},{"$f":"(K16-(18.405*D16+7127.1))/K16*100","v":40.145817827455744},{"$f":"ABS(N16)","v":40.145817827455744}]
[null,"A22-65","A890-3A (CD6MN - AISI 329)",50,3.3,4,15,1.1000000000000001,2009,6570,{"$f":"J17*1.03^('Offre NEW'!$T$10-I17)","v":9648.2664973767751},null,{"$f":"K17-(18.405*D17+7127.1)","v":1600.9164973767747},{"$f":"(K17-(18.405*D17+7127.1))/K17*100","v":16.592788951383554},{"$f":"ABS(N17)","v":16.592788951383554}]
[null,"A32-65","A890-3A (CD6MN - AISI 329)",50,6.1,7.5,25,1,2007,8160,{"$f":"J18*1.03^('Offre NEW'!$T$10-I18)","v":12713.014119462237},null,{"$f":"K18-(18.405*D18+7127.1)","v":4665.6641194622371},{"$f":"(K18-(18.405*D18+7127.1))/K18*100","v":36.699905117855678},{"$f":"ABS(N18)","v":36.699905117855678}]
[null,"A23-50","A890-1B (CD4MCu)",50,8.3000000000000007,11,25,0.6,2009,9240,{"$f":"J19*1.03^('Offre NEW'!$T$10-I19)","v":13569.251512292451}]
[null,"A23-50","A890-3A (CD6MN - AISI 329)",60,6.9,11,25,1.1000000000000001,2007,8000,{"$f":"J20*1.03^('Offre NEW'!$T$10-I20)","v":12463.739332806115},null,{"$f":"K20-(18.405*D20+7127.1)","v":4232.3393328061138},{"$f":"(K20-(18.405*D20+7127.1))/K20*100","v":33.957219577483208},{"$f":"ABS(N20)","v":33.957219577483208}]
[null,"A32-80","A890-1B (CD4MCu)",80,8.6,15,25,0.8,2009,10580,{"$f":"J21*1.03^('Offre NEW'!$T$10-I21)","v":15537.086688317546}]
[null,"A32-80-GM","A890-3A (CD6MN - AISI 329)",90,10.9,15,27,1.35,2008,12930,{"$f":"J22*1.03^('Offre NEW'!$T$10-I22)","v":19557.785142376586}]
[null,"A22-80","A890-3A (CD6MN - AISI 329)",90,5,7.5,15,null,2007,7270,{"$f":"J23*1.03^('Offre NEW'!$T$10-I23)","v":11326.423118687557},null,{"$f":"K23-(18.405*D23+7127.1)","v":2542.8731186875557},{"$f":"(K23-(18.405*D23+7127.1))/K23*100","v":22.450804565936167},{"$f":"ABS(N23)","v":22.450804565936167}]
[null,"A32-81","A890-3A (CD6MN - AISI 329)",100,10,15,25,null,2008,9560,{"$f":"J24*1.03^('Offre NEW'!$T$10-I24)","v":14460.35776961486},null,{"$f":"K24-(18.405*D24+7127.1)","v":5492.7577696148601},{"$f":"(K24-(18.405*D24+7127.1))/K24*100","v":37.984936867583151},{"$f":"ABS(N24)","v":37.984936867583151}]
[null,"A22-80-GM","A890-1B (CD4MCu)",110,8.6,11,20,1.6,2007,11460,{"$f":"J25*1.03^('Offre NEW'!$T$10-I25)","v":17854.306594244761}]
[null,"A33-100-GM","A890-3A (CD6MN - AISI 329)",110,9,15,20,null,2007,13150,{"$f":"J26*1.03^('Offre NEW'!$T$10-I26)","v":20487.271528300051}]
[null,"A32-80","A890-3A (CD6MN - AISI 329)",120,11.5,15,25,null,2008,9560,{"$f":"J27*1.03^('Offre NEW'!$T$10-I27)","v":14460.35776961486},null,{"$f":"K27-(18.405*D27+7127.1)","v":5124.6577696148597},{"$f":"(K27-(18.405*D27+7127.1))/K27*100","v":35.43935669685267},{"$f":"ABS(N27)","v":35.43935669685267}]
[null,"A23-40","A890-3A (CD6MN - AISI 329)",150,2.9,4,25,0.6,2010,8330,{"$f":"J28*1.03^('Offre NEW'!$T$10-I28)","v":11876.588187428668},null,{"$f":"K28-(18.405*D28+7127.1)","v":1988.7381874286675},{"$f":"(K28-(18.405*D28+7127.1))/K28*100","v":16.745029431379464},{"$f":"ABS(N28)","v":16.745029431379464}]
[null,"A32-100","A890-1B (CD4MCu)",150,15.4,18.5,25,1.2,2009,11490,{"$f":"J29*1.03^('Offre NEW'!$T$10-I29)","v":16873.452367558468}]
[null,"A32-100","A890-3A (CD6MN - AISI 329)",160,15.6,22,25,1.8,2007,9310,{"$f":"J30*1.03^('Offre NEW'!$T$10-I30)","v":14504.676648553117},null,{"$f":"K30-(18.405*D30+7127.1)","v":4432.7766485531156},{"$f":"(K30-(18.405*D30+7127.1))/K30*100","v":30.561016670408147},{"$f":"ABS(N30)","v":30.561016670408147}]
[null,"A32-100 O","A890-3A (CD6MN - AISI 329)",180,23.15,30,25,1.9,2009,10032,{"$f":"J31*1.03^('Offre NEW'!$T$10-I31)","v":14732.330213346089},null,{"$f":"K31-(18.405*D31+7127.1)","v":4292.3302133460893},{"$f":"(K31-(18.405*D31+7127.1))/K31*100","v":29.135446675351101},{"$f":"ABS(N31)","v":29.135446675351101}]
[null,"W32-125","A890-3A (CD6MN - AISI 329)",200,16.600000000000001,22,20,2.5,2007,14600,{"$f":"J32*1.03^('Offre NEW'!$T$10-I32)","v":22746.324282371159}]
[null,"A31-100-GM","A890-1B (CD4MCu)",210,14.5,18.5,20,2.4,2007,13310,{"$f":"J33*1.03^('Offre NEW'!$T$10-I33)","v":20736.546314956173}]
[null,"A31-125 O","A890-3A (CD6MN - AISI 329)",238,12.95,18.5,15.5,2.5,2010,10681,{"$f":"J34*1.03^('Offre NEW'!$T$10-I34)","v":15228.552032404034},null,{"$f":"K34-(18.405*D34+7127.1)","v":3721.0620324040319},{"$f":"(K34-(18.405*D34+7127.1))/K34*100","v":24.434772422789639},{"$f":"ABS(N34)","v":24.434772422789639}]
[null,"A31-125-GM","A890-1B (CD4MCu)",270,18.2,22,20,2.6,2007,14410,{"$f":"J35*1.03^('Offre NEW'!$T$10-I35)","v":22450.310473217014}]
[null,"A31-125","A890-3A (CD6MN - AISI 329)",270,20,30,20,2.6,2008,7970,{"$f":"J36*1.03^('Offre NEW'!$T$10-I36)","v":12055.340107095235},null,{"$f":"K36-(18.405*D36+7127.1)","v":-41.109892904765729},{"$f":"(K36-(18.405*D36+7127.1))/K36*100","v":-0.34100981423635057},{"$f":"ABS(N36)","v":0.34100981423635057}]
[null,"A31-125","A890-3A (CD6MN - AISI 329)",270,20,30,20,2.6,2008,8470,{"$f":"J37*1.03^('Offre NEW'!$T$10-I37)","v":12811.634969522791},null,{"$f":"K37-(18.405*D37+7127.1)","v":715.1849695227902},{"$f":"(K37-(18.405*D37+7127.1))/K37*100","v":5.5823083566158571},{"$f":"ABS(N37)","v":5.5823083566158571}]
[null,"A31-125-GM","A890-3A (CD6MN - AISI 329)",270,20,30,20,2.6,2008,12430,{"$f":"J38*1.03^('Offre NEW'!$T$10-I38)","v":18801.49027994903}]
[null,"A31-100-GM","A890-1B (CD4MCu)",320,21.1,30,20,3,2007,14770,{"$f":"J39*1.03^('Offre NEW'!$T$10-I39)","v":23011.17874319329}]
[null,"A31-125","A890-3A (CD6MN - AISI 329)",320,23,30,20,2.7,2009,12310,{"$f":"J40*1.03^('Offre NEW'!$T$10-I40)","v":18077.650012588751},null,{"$f":"K40-(18.405*D40+7127.1)","v":5060.9500125887498},{"$f":"(K40-(18.405*D40+7127.1))/K40*100","v":27.995618949722179},{"$f":"ABS(N40)","v":27.995618949722179}]
[null,"A42-150 O","A890-3A (CD6MN - AISI 329)",333,29.71,37,25.89,2.8,2010,15164,{"$f":"J41*1.03^('Offre NEW'!$T$10-I41)","v":21620.238088135451},null,{"$f":"K41-(18.405*D41+7127.1)","v":8364.273088135451},{"$f":"(K41-(18.405*D41+7127.1))/K41*100","v":38.687238568041103},{"$f":"ABS(N41)","v":38.687238568041103}]
[null,"A51-250 O","A890-3A (CD6MN - AISI 329)",1000,88.58,90,25.38,2.9,2012,37200,{"$f":"J42*1.03^('Offre NEW'!$T$10-I42)","v":49993.689311601331}]
[null,"A51-250-LM O","A890-3A (CD6MN - AISI 329)",1000,81.59,90,25.38,2.9,2012,58750,{"$f":"J43*1.03^('Offre NEW'!$T$10-I43)","v":78955.087286467155}]
[]
[null,null,null,null,null,null,null,null,null,null,null,null,null,null,{"$f":"AVERAGE(O2:O41)","v":23.706880485191885}]
[null,null,null,null,null,null,null,null,"Débit (m3/h)","Prix (Euros)"]
[null,null,null,null,null,null,null,"Pompe filtrats 1",{"$f":"Calculations!V15","v":20},{"$f":"IF(I47=0,0,IF(I47>333,\"CONSULTATION\",IF(I47<10,\"CONSULTATION\",(0.0002*I47^3-0.1793*I47^2+66.365*I47+10404))))","v":11661.18}]
[null,null,null,null,null,null,null,"Pompe filtrats 2",{"$f":"Calculations!V16","v":30},{"$f":"IF(I48=0,0,IF(I48>333,\"CONSULTATION\",IF(I48<10,\"CONSULTATION\",(0.0002*I48^3-0.1793*I48^2+66.365*I48+10404))))","v":12238.98}]
[null,null,null,null,null,null,null,"Pompe filtrats 3",{"$f":"Calculations!V17","v":50},13299]
[null,null,null,null,null,null,null,"Pompe filtrats 4",{"$f":"Calculations!V18","v":400},"CONSULTATION"]
[null,null,null,null,null,null,null,"Pompe TB",500,"CONSULTATION"]