{"text_format":"1","workbook":"xlsx","n_sheets":142,"sheets":["Acc. sup","Access","Gr de Cde","Lavage","Elec1","Elec2","Project Specs","Planning standard","I 27200 (Carbonate)","Simulation zones","Calculations","Séries 3-4-5","Série 2","Cost list","Cost List2.xls","FabSpecification","Données (2)","Char2","Local Cost List2","Option cost2","Acc. sup2","Access2","Gr de Cde2","Lavage2","Band","Tabl2","Band2","Tamb2","Roul2","B. à V.2","Toile2","Tabl","B. à V.","MasterElec","Data Instrum_Armoires","Instrum et Elec","Barême Pays","Recap revisions","Offre NEW","photo","Dimens. scrubber","Synthèse chiffrage","En-tête","cover_L","Quotation","Quotation2","Quotation3","CPV","CGV 2","CGV 1","CGV 3","Etranger","France","récap interne pour DIRECTION","TRANSFERT pour recap ASM","Project Engineering","listes","Services","Spec PAV","Spec Toile","Spec Bande","Manifold INOX","PdR FR","Hotte","Pompes Centrifuges AFFETTI","Pompe centrifuge PP","Pompe Péristaltique WATSON","Pompe KROGH","Option cost","CSFRAME 3 meter","CSFRAME 4 meter","Char","Tamb","Roul","Toile","Prix de revient","Ballon Séparateur","Ballon Séparateur Flasqué","Cyclone.","Laveur.","Drip pan - Walkways","PdR ENG","EN TETE","Argumentaire","Insert page argumentaire","OFFRE TECHNIQUE","ULTRASONIC MACHINE","FUME HOOD","BALLON 1","BALLON 1 flasq","CYCLONE","LAVEUR","VAC PUMP","FILTRATE PUMP 1&2&3","FILTRATE PUMP 2","FILTRATE PUMP 3","FILTRATE PUMP 4","C&B WASH TANK & PUMP","CAKE WASH TANK","HIGH PRESSURE RAMP","SPLASH PROTECTION","Cake pressure roller","Cloth acid wash","LCP","LCP 3","Electrical Control Cabinet","STEAM BOX","Local Control Panel","ERECTION","START UP","SPARE PARTS & MAINTENANCE","Factory Acceptance Test EN","Site Acceptance Test EN","WATER QUALITY","PROCESS PERFORMANCE GUARANTEE","PERFORMANCE GUARANTEES","EN TETE-FR (F)","OFFRE TECHNIQUE-FR","ULTRASONIC MACHINE-FR","FUME HOOD-FR","BALLON 1-FR","BALLON 2-FR","BALLON 3-FR","BALLON 4-FR","CYCLONE-FR","LAVEUR-FR","VAC PUMP-FR","FILTRATE PUMP 1-FR","FILTRATE PUMP 2-FR","FILTRATE PUMP 3-FR","FILTRATE PUMP 4-FR","C&B WASH TANK-FR","CAKE WASH TANK-FR","LCP-FR","ERECTION-FR","START UP-FR","PàV Nash","PàV Nash Fonte Mot.400V","PàV Nash Inox Mot.400V","Pompe centrifuge GROSCLAUDE","Pompe centrifuge SULZER","Pompe centrifuge SULZER A890-3A"],"not_rendered":{"charts":12,"images":110,"macros":1,"external_links":38,"defined_names":2751,"comments":11,"pivot_tables":0},"unopened":[],"bounds":{"document_bytes":16777216,"sheet_cells":100000,"rows_first":2000,"rows_last":500,"rows_between":2000,"halvings":0,"cell_chars":16384,"cell_head_chars":4096},"cells_cut":3,"cells_raw":0,"read":"whole","date_system":"1900"}

{"sheet":"Acc. sup","index":0,"n_rows":61,"n_cols":27,"rows_kept":61,"cut":false,"hidden":true,"merged":[[29,0,29,11],[23,4,23,5]]}
["Accessoires supérieurs"]
[]
["BARRAGE D'ENTREE"]
[null,250,500,750,1000,1250,1500,2000,2500,3000,4000,4200]
["304L",53,107,160,212.5,266,320,450,563,676,1375,1450,null,null,null,{"$f":"J5/6.55957*1.3","v":133.97219634823625}]
["316L",62.5,125,187.5,250,313,376.5,515,645,775,1600,1680]
["904L",172.5,345,520,690,863,1035,1305,1632,1960,4225,4440]
["U45N",{"$f":"B7*0.54","v":93.15},{"$f":"C7*0.54","v":186.3},280.8,372.6,466.02000000000004,558.90000000000009,704.7,881.28000000000009,1058.4000000000001,2281.5,2397.6000000000004]
["SBR",123,135,148,163.5,165,246,327.5,363,400,925,975]
["EPDM",184.5,202.5,222,245,247.5,369,491,545,600,1390,1463]
["BUTYL",246,270,296,327,330,492,655,726,800,1850,1950]
["MO",4,4,4,4,6,6,8,8,8,10,10]
["GOULOTTE DE LAVAGE"]
[null,250,500,750,1000,1250,1500,2000,2500,3000,4000,4200]
["304L",300,400,600,808,1545,1855,1100,null,null,null,null,null,null,null,{"$f":"H15/6.55957*1.3","v":218.00209464949685}]
["316L",353,471,706,950,1820,2182,1350,null,null,null,null,null,null,null,{"$f":"H16/6.55957*1.3","v":267.54802525165525}]
["904L",970,1295,1940,2613,5000,6000,5020,null,null,null,null,null,null,null,{"$f":"H17/6.55957*1.3","v":994.88228649134021}]
["U45N",{"$f":"B17*0.54","v":523.80000000000007},699.30000000000007,1047.6000000000001,1411.02,2700,3240,2710.8,null,null,null,null,null,null,null,{"$f":"H18/6.55957*1.3","v":537.23643470532375}]
["PPH",800,875,960,1060,1400,1900,2900,null,null,null,null,null,null,null,{"$f":"H19/6.55957*1.3","v":574.73279498503712}]
["TOILE",65,70,78,100,150,150,200]
["MO",15,15,15,15,15,15,20]
[null,"b56","b60","b66","b62"]
[null,{"$f":"IF('Séries 3-4-5'!B56=\"304L\",1,IF('Séries 3-4-5'!B56=\"316L\",2,IF('Séries 3-4-5'!B56=\"U45N\",3,IF('Séries 3-4-5'!B56=\"904L\",4,IF('Séries 3-4-5'!B56=\"POLYPROPYLENE\",5,)))))","v":1},{"$f":"IF('Séries 3-4-5'!B59=\"304L\",1,IF('Séries 3-4-5'!B59=\"316L\",2,IF('Séries 3-4-5'!B59=\"U45N\",3,IF('Séries 3-4-5'!B59=\"904L\",4,IF('Séries 3-4-5'!B59=\"POLYPROPYLENE\",5,)))))","v":1},{"$f":"IF('Séries 3-4-5'!B65=\"304L\",1,IF('Séries 3-4-5'!B65=\"316L\",2,IF('Séries 3-4-5'!B65=\"U45N\",3,IF('Séries 3-4-5'!B65=\"904L\",4,IF('Séries 3-4-5'!B65=\"POLYPROPYLENE\",5,)))))","v":1},{"$f":"IF('Séries 3-4-5'!B61=\"304L\",1,IF('Séries 3-4-5'!B61=\"316L\",2,IF('Séries 3-4-5'!B61=\"U45N\",3,IF('Séries 3-4-5'!B61=\"904L\",4,IF('Séries 3-4-5'!B61=\"POLYPROPYLENE\",5,)))))","v":2}]
[null,null,"Synthese price list accessories",null,"Code materiel"]
[null,"Matière","Négoce","M.O.","304L",1]
["Wash Feeder",{"$f":"IF('Séries 3-4-5'!B55=\"SURV\",LOOKUP(B23,C40:D44),LOOKUP(B23,C35:D39))","v":1144.5},{"$f":"IF('Séries 3-4-5'!B55=\"surv\",VLOOKUP(B23,C40:E44,3),VLOOKUP(B23,C35:E39,3))","v":257.25},{"$f":"IF('Séries 3-4-5'!B55=\"surv\",VLOOKUP(B23,C40:F44,4),VLOOKUP(B23,C35:F39,4))","v":30},"316L",2]
["Carriage",{"$f":"IF('Séries 3-4-5'!B58=\"roue\",LOOKUP(C23,C45:D48),\"select ROUE\")","v":682.5},{"$f":"IF('Séries 3-4-5'!B58=\"roue\",LOOKUP(C23,C45:E48),\"select ROUE\")","v":157.5},{"$f":"IF('Séries 3-4-5'!B58=\"roue\",VLOOKUP(C23,C45:F48,4),\"select ROUE\")","v":15},"U45N",3]
["Feeder",{"$f":"IF('Séries 3-4-5'!B64=\"boit\",LOOKUP(D23,C53:D56),LOOKUP(D23,C57:D61))","v":2677.5},{"$f":"IF('Séries 3-4-5'!B64=\"boit\",LOOKUP(D23,C53:E56),LOOKUP(D23,C57:E61))","v":351.75},{"$f":"IF('Séries 3-4-5'!B64=\"boit\",VLOOKUP(D23,C53:F56,4),LOOKUP(D23,C57:F61))","v":70},"904L",4]
["pendulum dam",{"$f":"LOOKUP(E23,'Acc. sup'!C49:D52)","v":256.2},{"$f":"LOOKUP(E23,'Acc. sup'!C49:E52)","v":126},{"$f":"LOOKUP(E23,'Acc. sup'!C49:F52)","v":10},"PPH",5]
["COST OF PROCESS ACCESSORIES TO BE REPORTED IN THE \"COST LIST\""]
[null,null,"Width>>>",{"$f":"IF('Séries 3-4-5'!$B$3=3000,G31,IF('Séries 3-4-5'!$B$3=4000,J31,M31))","v":4200},null,null,3000,null,null,4000,null,null,4200,null,null,2000]
[" ",null,null,"Matière","Négoce","M.O.","Matière","Négoce","M.O.","Matière","Négoce","M.O.","Matière","Négoce","M.O.","Matière","Négoce","M.O."]
[null,"Spéc","Material"]
[null,null,null,1,1,1,1,1,1,1,1,1,1,1,1,1,1,1]
["Cake wash device","TUBE",1,{"$f":"IF('Séries 3-4-5'!$B$3=3000,G35,IF('Séries 3-4-5'!$B$3=2000,P35,IF('Séries 3-4-5'!$B$3=4000,J35,M35)))","v":1144.5},{"$f":"IF('Séries 3-4-5'!$B$3=3000,H35,IF('Séries 3-4-5'!$B$3=2000,Q35,IF('Séries 3-4-5'!$B$3=4000,K35,N35)))","v":257.25},{"$f":"IF('Séries 3-4-5'!$B$3=3000,I35,IF('Séries 3-4-5'!$B$3=2000,R35,IF('Séries 3-4-5'!$B$3=4000,L35,O35)))","v":30},694,50,20,1090,245,30,1144.5,257.25,30,650,50,20,694,50,20,1090,245,30,1144.5,257.25,30]
["Cake wash device","TUBE",2,{"$f":"IF('Séries 3-4-5'!$B$3=3000,G36,IF('Séries 3-4-5'!$B$3=2000,P36,IF('Séries 3-4-5'!$B$3=4000,J36,M36)))","v":1433.25},{"$f":"IF('Séries 3-4-5'!$B$3=3000,H36,IF('Séries 3-4-5'!$B$3=2000,Q36,IF('Séries 3-4-5'!$B$3=4000,K36,N36)))","v":257.25},{"$f":"IF('Séries 3-4-5'!$B$3=3000,I36,IF('Séries 3-4-5'!$B$3=2000,R36,IF('Séries 3-4-5'!$B$3=4000,L36,O36)))","v":30},870,50,20,1365,245,30,1433.25,257.25,30,720,50,20,870,50,20,1365,245,30,1433.25,257.25,30]
["Cake wash device","TUBE",3,{"$f":"IF('Séries 3-4-5'!$B$3=3000,G37,IF('Séries 3-4-5'!$B$3=2000,P37,IF('Séries 3-4-5'!$B$3=4000,J37,M37)))","v":1297.296},{"$f":"IF('Séries 3-4-5'!$B$3=3000,H37,IF('Séries 3-4-5'!$B$3=2000,Q37,IF('Séries 3-4-5'!$B$3=4000,K37,N37)))","v":257.25},{"$f":"IF('Séries 3-4-5'!$B$3=3000,I37,IF('Séries 3-4-5'!$B$3=2000,R37,IF('Séries 3-4-5'!$B$3=4000,L37,O37)))","v":30},{"$f":"G38*0.54","v":942.30000000000007},50,20,{"$f":"J38*0.54","v":1235.52},245,30,{"$f":"M38*0.54","v":1297.296},257.25,30,{"$f":"P38*0.54","v":942.30000000000007},50,20]
["Cake wash device","TUBE",4,{"$f":"IF('Séries 3-4-5'!$B$3=3000,G38,IF('Séries 3-4-5'!$B$3=2000,P38,IF('Séries 3-4-5'!$B$3=4000,J38,M38)))","v":2402.4},{"$f":"IF('Séries 3-4-5'!$B$3=3000,H38,IF('Séries 3-4-5'!$B$3=2000,Q38,IF('Séries 3-4-5'!$B$3=4000,K38,N38)))","v":257.25},{"$f":"IF('Séries 3-4-5'!$B$3=3000,I38,IF('Séries 3-4-5'!$B$3=2000,R38,IF('Séries 3-4-5'!$B$3=4000,L38,O38)))","v":30},1745,50,20,2288,245,30,2402.4,257.25,30,1745,50,20,1745,50,30,2288,245,30,2402.4,257.25,30]
["Cake wash device","TUBE",5,{"$f":"IF('Séries 3-4-5'!$B$3=3000,G39,IF('Séries 3-4-5'!$B$3=2000,P39,IF('Séries 3-4-5'!$B$3=4000,J39,M39)))","v":440},{"$f":"IF('Séries 3-4-5'!$B$3=3000,H39,IF('Séries 3-4-5'!$B$3=2000,Q39,IF('Séries 3-4-5'!$B$3=4000,K39,N39)))","v":1200},{"$f":"IF('Séries 3-4-5'!$B$3=3000,I39,IF('Séries 3-4-5'!$B$3=2000,R39,IF('Séries 3-4-5'!$B$3=4000,L39,O39)))","v":23},370,800,15.4,400,1100,23,440,1200,23,370,800,15.4]
["Cake wash device","SURV",1,{"$f":"IF('Séries 3-4-5'!$B$3=3000,G40,IF('Séries 3-4-5'!$B$3=2000,P40,IF('Séries 3-4-5'!$B$3=4000,J40,M40)))","v":1602.3},{"$f":"IF('Séries 3-4-5'!$B$3=3000,H40,IF('Séries 3-4-5'!$B$3=2000,Q40,IF('Séries 3-4-5'!$B$3=4000,K40,N40)))","v":360.15},{"$f":"IF('Séries 3-4-5'!$B$3=3000,I40,IF('Séries 3-4-5'!$B$3=2000,R40,IF('Séries 3-4-5'!$B$3=4000,L40,O40)))","v":60},{"$f":"G35*1.4","v":971.59999999999991},{"$f":"H35*1.4","v":70},{"$f":"I35*2","v":40},{"$f":"J35*1.4","v":1526},{"$f":"K35*1.4","v":343},{"$f":"L35*2","v":60},{"$f":"M35*1.4","v":1602.3},{"$f":"N35*1.4","v":360.15},{"$f":"O35*2","v":60},{"$f":"P35*1.4","v":909.99999999999989},{"$f":"Q35*1.4","v":70},25,{"$f":"S35*1.4","v":971.59999999999991},{"$f":"T35*1.4","v":70},{"$f":"U35*2","v":40},{"$f":"V35*1.4","v":1526},{"$f":"W35*1.4","v":343},{"$f":"X35*2","v":60},{"$f":"Y35*1.4","v":1602.3},{"$f":"Z35*1.4","v":360.15},{"$f":"AA35*2","v":60}]
["Cake wash device","SURV",2,{"$f":"IF('Séries 3-4-5'!$B$3=3000,G41,IF('Séries 3-4-5'!$B$3=2000,P41,IF('Séries 3-4-5'!$B$3=4000,J41,M41)))","v":2006.55},{"$f":"IF('Séries 3-4-5'!$B$3=3000,H41,IF('Séries 3-4-5'!$B$3=2000,Q41,IF('Séries 3-4-5'!$B$3=4000,K41,N41)))","v":360.15},{"$f":"IF('Séries 3-4-5'!$B$3=3000,I41,IF('Séries 3-4-5'!$B$3=2000,R41,IF('Séries 3-4-5'!$B$3=4000,L41,O41)))","v":60},{"$f":"G36*1.4","v":1218},{"$f":"H36*1.4","v":70},{"$f":"I36*2","v":40},{"$f":"J36*1.4","v":1910.9999999999998},{"$f":"K36*1.4","v":343},{"$f":"L36*2","v":60},{"$f":"M36*1.4","v":2006.55},{"$f":"N36*1.4","v":360.15},{"$f":"O36*2","v":60},{"$f":"P36*1.4","v":1007.9999999999999},{"$f":"Q36*1.4","v":70},25,{"$f":"S36*1.4","v":1218},{"$f":"T36*1.4","v":70},{"$f":"U36*2","v":40},{"$f":"V36*1.4","v":1910.9999999999998},{"$f":"W36*1.4","v":343},{"$f":"X36*2","v":60},{"$f":"Y36*1.4","v":2006.55},{"$f":"Z36*1.4","v":360.15},{"$f":"AA36*2","v":60}]
["Cake wash device","SURV",3,{"$f":"IF('Séries 3-4-5'!$B$3=3000,G42,IF('Séries 3-4-5'!$B$3=2000,P42,IF('Séries 3-4-5'!$B$3=4000,J42,M42)))","v":1816.2144000000003},{"$f":"IF('Séries 3-4-5'!$B$3=3000,H42,IF('Séries 3-4-5'!$B$3=2000,Q42,IF('Séries 3-4-5'!$B$3=4000,K42,N42)))","v":360.15},{"$f":"IF('Séries 3-4-5'!$B$3=3000,I42,IF('Séries 3-4-5'!$B$3=2000,R42,IF('Séries 3-4-5'!$B$3=4000,L42,O42)))","v":60},{"$f":"G43*0.54","v":1319.22},{"$f":"H37*1.4","v":70},{"$f":"I37*2","v":40},{"$f":"J43*0.54","v":1729.7280000000001},{"$f":"K37*1.4","v":343},{"$f":"L37*2","v":60},{"$f":"M43*0.54","v":1816.2144000000003},{"$f":"N37*1.4","v":360.15},{"$f":"O37*2","v":60},{"$f":"P43*0.54","v":1319.22},{"$f":"Q37*1.4","v":70},25]
["Cake wash device","SURV",4,{"$f":"IF('Séries 3-4-5'!$B$3=3000,G43,IF('Séries 3-4-5'!$B$3=2000,P43,IF('Séries 3-4-5'!$B$3=4000,J43,M43)))","v":3363.36},{"$f":"IF('Séries 3-4-5'!$B$3=3000,H43,IF('Séries 3-4-5'!$B$3=2000,Q43,IF('Séries 3-4-5'!$B$3=4000,K43,N43)))","v":360.15},{"$f":"IF('Séries 3-4-5'!$B$3=3000,I43,IF('Séries 3-4-5'!$B$3=2000,R43,IF('Séries 3-4-5'!$B$3=4000,L43,O43)))","v":60},{"$f":"G38*1.4","v":2443},{"$f":"H38*1.4","v":70},{"$f":"I38*2","v":40},{"$f":"J38*1.4","v":3203.2},{"$f":"K38*1.4","v":343},{"$f":"L38*2","v":60},{"$f":"M38*1.4","v":3363.36},{"$f":"N38*1.4","v":360.15},{"$f":"O38*2","v":60},{"$f":"P38*1.4","v":2443},{"$f":"Q38*1.4","v":70},25,{"$f":"S38*1.4","v":2443},{"$f":"T38*1.4","v":70},{"$f":"U38*2","v":60},{"$f":"V38*1.4","v":3203.2},{"$f":"W38*1.4","v":343},{"$f":"X38*2","v":60},{"$f":"Y38*1.4","v":3363.36},{"$f":"Z38*1.4","v":360.15},{"$f":"AA38*2","v":60}]
["Cake wash device","SURV",5,{"$f":"IF('Séries 3-4-5'!$B$3=3000,G44,IF('Séries 3-4-5'!$B$3=2000,P44,IF('Séries 3-4-5'!$B$3=4000,J44,M44)))","v":370},{"$f":"IF('Séries 3-4-5'!$B$3=3000,H44,IF('Séries 3-4-5'!$B$3=2000,Q44,IF('Séries 3-4-5'!$B$3=4000,K44,N44)))","v":1500},{"$f":"IF('Séries 3-4-5'!$B$3=3000,I44,IF('Séries 3-4-5'!$B$3=2000,R44,IF('Séries 3-4-5'!$B$3=4000,L44,O44)))","v":23},370,1000,15,370,1400,23,370,1500,23,370,1000,15]
["Cariage for accessories","ROUE",1,{"$f":"IF('Séries 3-4-5'!$B$3=3000,G45,IF('Séries 3-4-5'!$B$3=2000,P45,IF('Séries 3-4-5'!$B$3=4000,J45,M45)))","v":682.5},{"$f":"IF('Séries 3-4-5'!$B$3=3000,H45,IF('Séries 3-4-5'!$B$3=2000,Q45,IF('Séries 3-4-5'!$B$3=4000,K45,N45)))","v":157.5},{"$f":"IF('Séries 3-4-5'!$B$3=3000,I45,IF('Séries 3-4-5'!$B$3=2000,R45,IF('Séries 3-4-5'!$B$3=4000,L45,O45)))","v":15},299,150,10,650,150,15,682.5,157.5,15,130,150,10,299,150,10,650,150,15,682.5,157.5,15]
["Cariage for accessories","ROUE",2,{"$f":"IF('Séries 3-4-5'!$B$3=3000,G46,IF('Séries 3-4-5'!$B$3=2000,P46,IF('Séries 3-4-5'!$B$3=4000,J46,M46)))","v":1249.5},{"$f":"IF('Séries 3-4-5'!$B$3=3000,H46,IF('Séries 3-4-5'!$B$3=2000,Q46,IF('Séries 3-4-5'!$B$3=4000,K46,N46)))","v":157.5},{"$f":"IF('Séries 3-4-5'!$B$3=3000,I46,IF('Séries 3-4-5'!$B$3=2000,R46,IF('Séries 3-4-5'!$B$3=4000,L46,O46)))","v":15},620,150,10,1190,150,15,1249.5,157.5,15,150,150,10,620,150,10,1190,150,15,1249.5,157.5,15]
["Cariage for accessories","ROUE",3,{"$f":"IF('Séries 3-4-5'!$B$3=3000,G47,IF('Séries 3-4-5'!$B$3=2000,P47,IF('Séries 3-4-5'!$B$3=4000,J47,M47)))","v":1009.2600000000001},{"$f":"IF('Séries 3-4-5'!$B$3=3000,H47,IF('Séries 3-4-5'!$B$3=2000,Q47,IF('Séries 3-4-5'!$B$3=4000,K47,N47)))","v":157.5},{"$f":"IF('Séries 3-4-5'!$B$3=3000,I47,IF('Séries 3-4-5'!$B$3=2000,R47,IF('Séries 3-4-5'!$B$3=4000,L47,O47)))","v":15},{"$f":"G48*0.54","v":501.66},150,10,{"$f":"J48*0.54","v":961.2},150,15,{"$f":"M48*0.54","v":1009.2600000000001},157.5,15,{"$f":"P48*0.54","v":256.5},150,10]
["Cariage for accessories","ROUE",4,{"$f":"IF('Séries 3-4-5'!$B$3=3000,G48,IF('Séries 3-4-5'!$B$3=2000,P48,IF('Séries 3-4-5'!$B$3=4000,J48,M48)))","v":1869},{"$f":"IF('Séries 3-4-5'!$B$3=3000,H48,IF('Séries 3-4-5'!$B$3=2000,Q48,IF('Séries 3-4-5'!$B$3=4000,K48,N48)))","v":157.5},{"$f":"IF('Séries 3-4-5'!$B$3=3000,I48,IF('Séries 3-4-5'!$B$3=2000,R48,IF('Séries 3-4-5'!$B$3=4000,L48,O48)))","v":15},929,150,10,1780,150,15,1869,157.5,15,475,150,10,929,150,10,1780,150,15,1869,157.5,15]
["pendulum dam","EPDM",1,{"$f":"IF('Séries 3-4-5'!$B$3=3000,G49,IF('Séries 3-4-5'!$B$3=2000,P49,IF('Séries 3-4-5'!$B$3=4000,J49,M49)))","v":222.6},{"$f":"IF('Séries 3-4-5'!$B$3=3000,H49,IF('Séries 3-4-5'!$B$3=2000,Q49,IF('Séries 3-4-5'!$B$3=4000,K49,N49)))","v":126},{"$f":"IF('Séries 3-4-5'!$B$3=3000,I49,IF('Séries 3-4-5'!$B$3=2000,R49,IF('Séries 3-4-5'!$B$3=4000,L49,O49)))","v":10},134,51,8,212,120,10,222.6,126,10,450,51,8,134,51,8,212,120,10,222.6,126,10]
["pendulum dam","EPDM",2,{"$f":"IF('Séries 3-4-5'!$B$3=3000,G50,IF('Séries 3-4-5'!$B$3=2000,P50,IF('Séries 3-4-5'!$B$3=4000,J50,M50)))","v":256.2},{"$f":"IF('Séries 3-4-5'!$B$3=3000,H50,IF('Séries 3-4-5'!$B$3=2000,Q50,IF('Séries 3-4-5'!$B$3=4000,K50,N50)))","v":126},{"$f":"IF('Séries 3-4-5'!$B$3=3000,I50,IF('Séries 3-4-5'!$B$3=2000,R50,IF('Séries 3-4-5'!$B$3=4000,L50,O50)))","v":10},154,51,8,244,120,10,256.2,126,10,515,51,8,154,51,8,244,120,10,256.2,126,10]
["pendulum dam","EPDM",3,{"$f":"IF('Séries 3-4-5'!$B$3=3000,G51,IF('Séries 3-4-5'!$B$3=2000,P51,IF('Séries 3-4-5'!$B$3=4000,J51,M51)))","v":474.57900000000006},{"$f":"IF('Séries 3-4-5'!$B$3=3000,H51,IF('Séries 3-4-5'!$B$3=2000,Q51,IF('Séries 3-4-5'!$B$3=4000,K51,N51)))","v":126},{"$f":"IF('Séries 3-4-5'!$B$3=3000,I51,IF('Séries 3-4-5'!$B$3=2000,R51,IF('Séries 3-4-5'!$B$3=4000,L51,O51)))","v":10},{"$f":"G52*0.54","v":210.60000000000002},51,8,{"$f":"J52*0.54","v":451.98},120,10,{"$f":"M52*0.54","v":474.57900000000006},126,10,{"$f":"P52*0.54","v":704.7},51,8]
["pendulum dam","EPDM",4,{"$f":"IF('Séries 3-4-5'!$B$3=3000,G52,IF('Séries 3-4-5'!$B$3=2000,P52,IF('Séries 3-4-5'!$B$3=4000,J52,M52)))","v":878.85},{"$f":"IF('Séries 3-4-5'!$B$3=3000,H52,IF('Séries 3-4-5'!$B$3=2000,Q52,IF('Séries 3-4-5'!$B$3=4000,K52,N52)))","v":126},{"$f":"IF('Séries 3-4-5'!$B$3=3000,I52,IF('Séries 3-4-5'!$B$3=2000,R52,IF('Séries 3-4-5'!$B$3=4000,L52,O52)))","v":10},390,51,8,837,120,10,878.85,126,10,1305,51,8,390,51,8,837,120,10,878.85,126,10]
["slurry feeder:","BOIT",1,{"$f":"IF('Séries 3-4-5'!$B$3=3000,G53,IF('Séries 3-4-5'!$B$3=2000,P53,IF('Séries 3-4-5'!$B$3=4000,J53,M53)))","v":2352},{"$f":"IF('Séries 3-4-5'!$B$3=3000,H53,IF('Séries 3-4-5'!$B$3=2000,Q53,IF('Séries 3-4-5'!$B$3=4000,K53,N53)))","v":2362.5},{"$f":"IF('Séries 3-4-5'!$B$3=3000,I53,IF('Séries 3-4-5'!$B$3=2000,R53,IF('Séries 3-4-5'!$B$3=4000,L53,O53)))","v":100},2112,1215,80,2240,2250,100,2352,2362.5,100,1100,1215,70,2112,335,70,2240,2250,100,2352,2362.5,100]
["slurry feeder:","BOIT",2,{"$f":"IF('Séries 3-4-5'!$B$3=3000,G54,IF('Séries 3-4-5'!$B$3=2000,P54,IF('Séries 3-4-5'!$B$3=4000,J54,M54)))","v":2661.75},{"$f":"IF('Séries 3-4-5'!$B$3=3000,H54,IF('Séries 3-4-5'!$B$3=2000,Q54,IF('Séries 3-4-5'!$B$3=4000,K54,N54)))","v":2362.5},{"$f":"IF('Séries 3-4-5'!$B$3=3000,I54,IF('Séries 3-4-5'!$B$3=2000,R54,IF('Séries 3-4-5'!$B$3=4000,L54,O54)))","v":100},2490,1215,80,2535,2250,100,2661.75,2362.5,100,1300,1215,70,2490,335,80,2535,2250,100,2661.75,2362.5,100]
["slurry feeder:","BOIT",3,{"$f":"IF('Séries 3-4-5'!$B$3=3000,G55,IF('Séries 3-4-5'!$B$3=2000,P55,IF('Séries 3-4-5'!$B$3=4000,J55,M55)))","v":4402.7550000000001},{"$f":"IF('Séries 3-4-5'!$B$3=3000,H55,IF('Séries 3-4-5'!$B$3=2000,Q55,IF('Séries 3-4-5'!$B$3=4000,K55,N55)))","v":2362.5},{"$f":"IF('Séries 3-4-5'!$B$3=3000,I55,IF('Séries 3-4-5'!$B$3=2000,R55,IF('Séries 3-4-5'!$B$3=4000,L55,O55)))","v":100},1215,1215,80,{"$f":"J56*0.54","v":4193.1000000000004},2250,100,{"$f":"M56*0.54","v":4402.7550000000001},2362.5,100,{"$f":"P56*0.54","v":1944.0000000000002},1215,70]
["slurry feeder:","BOIT",4,{"$f":"IF('Séries 3-4-5'!$B$3=3000,G56,IF('Séries 3-4-5'!$B$3=2000,P56,IF('Séries 3-4-5'!$B$3=4000,J56,M56)))","v":8153.25},{"$f":"IF('Séries 3-4-5'!$B$3=3000,H56,IF('Séries 3-4-5'!$B$3=2000,Q56,IF('Séries 3-4-5'!$B$3=4000,K56,N56)))","v":4200},{"$f":"IF('Séries 3-4-5'!$B$3=3000,I56,IF('Séries 3-4-5'!$B$3=2000,R56,IF('Séries 3-4-5'!$B$3=4000,L56,O56)))","v":120},6890,2250,100,7765,4000,120,8153.25,4200,120,3600,2250,100,6890,2250,100,7765,4000,120,8153.25,4200,120]
["slurry feeder:","QDC",1,{"$f":"IF('Séries 3-4-5'!$B$3=3000,G57,IF('Séries 3-4-5'!$B$3=2000,P57,IF('Séries 3-4-5'!$B$3=4000,J57,M57)))","v":2677.5},{"$f":"IF('Séries 3-4-5'!$B$3=3000,H57,IF('Séries 3-4-5'!$B$3=2000,Q57,IF('Séries 3-4-5'!$B$3=4000,K57,N57)))","v":351.75},{"$f":"IF('Séries 3-4-5'!$B$3=3000,I57,IF('Séries 3-4-5'!$B$3=2000,R57,IF('Séries 3-4-5'!$B$3=4000,L57,O57)))","v":70},2223,335,56,2550,335,70,2677.5,351.75,70,650,335,28,2223,335,80,2550,335,100,2677.5,351.75,100]
["slurry feeder:","QDC",2,{"$f":"IF('Séries 3-4-5'!$B$3=3000,G58,IF('Séries 3-4-5'!$B$3=2000,P58,IF('Séries 3-4-5'!$B$3=4000,J58,M58)))","v":4263},{"$f":"IF('Séries 3-4-5'!$B$3=3000,H58,IF('Séries 3-4-5'!$B$3=2000,Q58,IF('Séries 3-4-5'!$B$3=4000,K58,N58)))","v":351.75},{"$f":"IF('Séries 3-4-5'!$B$3=3000,I58,IF('Séries 3-4-5'!$B$3=2000,R58,IF('Séries 3-4-5'!$B$3=4000,L58,O58)))","v":70},2490,335,56,4060,335,70,4263,351.75,70,720,335,28,2490,335,80,4060,335,100,4263,351.75,100]
["slurry feeder:","QDC",3,{"$f":"IF('Séries 3-4-5'!$B$3=3000,G59,IF('Séries 3-4-5'!$B$3=2000,P59,IF('Séries 3-4-5'!$B$3=4000,J59,M59)))","v":2616.7050000000004},{"$f":"IF('Séries 3-4-5'!$B$3=3000,H59,IF('Séries 3-4-5'!$B$3=2000,Q59,IF('Séries 3-4-5'!$B$3=4000,K59,N59)))","v":351.75},{"$f":"IF('Séries 3-4-5'!$B$3=3000,I59,IF('Séries 3-4-5'!$B$3=2000,R59,IF('Séries 3-4-5'!$B$3=4000,L59,O59)))","v":70},{"$f":"G60*0.54","v":1906.2},335,56,{"$f":"J60*0.54","v":2492.1000000000004},335,70,{"$f":"M60*0.54","v":2616.7050000000004},351.75,70,{"$f":"P60*0.54","v":945.00000000000011},335,28]
["slurry feeder:","QDC",4,{"$f":"IF('Séries 3-4-5'!$B$3=3000,G60,IF('Séries 3-4-5'!$B$3=2000,P60,IF('Séries 3-4-5'!$B$3=4000,J60,M60)))","v":4845.75},{"$f":"IF('Séries 3-4-5'!$B$3=3000,H60,IF('Séries 3-4-5'!$B$3=2000,Q60,IF('Séries 3-4-5'!$B$3=4000,K60,N60)))","v":351.75},{"$f":"IF('Séries 3-4-5'!$B$3=3000,I60,IF('Séries 3-4-5'!$B$3=2000,R60,IF('Séries 3-4-5'!$B$3=4000,L60,O60)))","v":70},3530,335,56,4615,335,70,4845.75,351.75,70,1750,335,28,3530,335,80,4615,335,100,4845.75,351.75,100]
["slurry feeder:","QDC",5,{"$f":"IF('Séries 3-4-5'!$B$3=3000,G61,IF('Séries 3-4-5'!$B$3=2000,P61,IF('Séries 3-4-5'!$B$3=4000,J61,M61)))","v":505.05},{"$f":"IF('Séries 3-4-5'!$B$3=3000,H61,IF('Séries 3-4-5'!$B$3=2000,Q61,IF('Séries 3-4-5'!$B$3=4000,K61,N61)))","v":6090},{"$f":"IF('Séries 3-4-5'!$B$3=3000,I61,IF('Séries 3-4-5'!$B$3=2000,R61,IF('Séries 3-4-5'!$B$3=4000,L61,O61)))","v":30},481,3050,20,481,5800,30,505.05,6090,30,750,3050,20,481,3050,20,481,5800,30,505.05,6090,30]

{"sheet":"Access","index":1,"n_rows":17,"n_cols":13,"rows_kept":17,"cut":false,"hidden":true,"merged":[]}
["ACCESSOIRES"]
[]
["Equipement pneumatique:",null,6000,10]
[null,null,250,500,750,1000,1250,1500,2000,2500,3000,4000,4200]
["Equipement électrique:",null,"II","SERIE 3","SERIE 4","SERIE 5"]
[null,"Matière",250,300,1000,1500]
[null,"Négoce",2500,3000,3350,3500]
[null,"MO",null,40,40,40]
[]
[]
[]
[]
[]
[]
["Vérin pneuride",null,"12x2","10x2","8x2","6x2","8x3"]
[null,"Matière",1300,850,650,590,750]
[null,"Négoce",1300,845,635.5,454,705]

{"sheet":"Gr de Cde","index":2,"n_rows":58,"n_cols":24,"rows_kept":58,"cut":false,"hidden":true,"merged":[]}
["Groupe de Commande:"]
[]
["Tarif BREVINI:"]
[]
["Couple",0.37,0.55000000000000004,0.75,1.1000000000000001,1.5,2.2000000000000002,3,4,5.5,7.5,11,15,18.5,22,30,37,45,55,75,90,110,132,160]
[null,1386,1386,1386,1386,1785,1785,2450,2450,2835,4017,4380,4900,6600,6600,8120,8120,11900,14280,18150,19250,19250,28512,35000]
[]
[]
[]
[]
[]
[]
[]
[]
[]
[]
[null,null,null,null,null,"CALCUL DE LA PUISSANCE D'UN MOTEUR"]
[]
[]
["COUPLE EN Nm:",null,null,null,{"$f":"'Séries 3-4-5'!B77","v":2319.9441837187496}]
[]
["VITESSE MAXI EN Tr/mn :",null,null,null,{"$f":"'Séries 3-4-5'!B78","v":0.19264375159509495}]
[null,null,null,null,null,"Rendement",null,null,null,"declassement"]
["Formule","P en kw=","C(newton)x N(rpm) / 9550",null,{"$f":"ROUND(E20*E22/9550,3)","v":4.7E-2},"/0,85","Puissance absorbée moteur:",null,{"$f":"E24/0.85","v":5.5294117647058827E-2},"x 1,15"]
[]
["Type de moteur",null,null,null,{"$f":"LOOKUP(I24*1.15,A33:A58,B33:B58)","v":0.25},"Kw","Prix B3",{"$f":"ROUNDUP((LOOKUP(E26,B33:B58,C33:C58))*1.2*0.5,0)","v":1077},{"$f":"H26/6.55","v":164.42748091603053}]
[]
[null,null,null,null,null,null,"Prix B5",{"$f":"ROUNDUP((LOOKUP(E26,B33:B58,D33:D58))*1.2*0.5,0)","v":1193}]
[]
[null,null,null,null,null,null,"Variateur de fréquence",{"$f":"ROUNDUP((LOOKUP(E26,B33:B58,E33:E58)),0)","v":0}]
[]
[]
[0,0.25,1794,1987,null,null,"M1"]
[0.25,0.37,1827,2020,2100,null,"M2"]
[0.37,0.55000000000000004,1908,2101,2100,null,"M3"]
[0.55000000000000004,0.75,2025,2218,2100,null,"M4"]
[0.75,1.1000000000000001,2222,2415,3042,null,"M5"]
[1.1000000000000001,1.5,2488,2681,3744,null,"M6"]
[1.5,2.2000000000000002,2984,3262,4420,null,"M7"]
[2.2000000000000002,3,3471,3749,6292,null,"M8"]
[3,4,4130,4455,6292,null,"M9"]
[4,5.5,4998,5395,7488,null,"M10"]
[5.5,7.5,6225,6622,8840,null,"M11"]
[7.5,11,8688,9496,12298,null,"M12"]
[11,15,10910,11718,15455,null,"M13"]
[15,18.5,13189,14226,20262,null,"M14"]
[18.5,22,15618,16655,20262,null,"M15"]
[22,30,20940,22259,26280,null,"M16"]
[30,37,25336,27163,31746,null,"M17"]
[37,45,30427,32254,34776,null,"M18"]
[45,55,36905,39230,41676,null,"M19"]
[55,75,50364,53628,51336,null,"M20"]
[75,90,60390,63654,59616,null,"M21"]
[90,110,71496,75893,71760,null,"M22"]
[110,132,85032,89429,82248,null,"M23"]
[132,160,99922,104319,94668,null,"M24"]
[160,200,135000,139397,110000,null,"M25"]
[200,250,172800,183168,null,null,"M26"]

{"sheet":"Lavage","index":3,"n_rows":42,"n_cols":6,"rows_kept":42,"cut":false,"hidden":true,"merged":[]}
["Lavage et évacuation gâteau"]
[]
[]
[]
["Matière","POLYPROPYLENE","304L","316L","U45N","904L"]
[250,1330,3050,3570,{"$f":"F6*0.54","v":5319},9850]
[500,1860,5000,5850,{"$f":"F7*0.54","v":8694},16100]
[750,2420,6910,8130,12096,22400]
[1000,2940,7720,9080,13483.800000000001,24970]
[1250,4518,14300,16810,25002,46300]
[1500,4470,16575,19500,28957.500000000004,53625]
[2000,4912,19835,23335,34652.880000000005,64172]
[2500,5415,24440,28750,42695.100000000006,79065]
[3000,6810,31365,36900,54796.5,101475]
[4000,7670,41725,49085,72900,135000]
[4200,8055,43815,51540,76545,141750]
[]
["Négoce","POLYPROPYLENE","304L","316L","U45N","904L"]
[250,18950,9900,9900,9900,9900]
[500,20233,9900,9900,9900,9900]
[750,21700,9900,9900,9900,9900]
[1000,23700,9900,9900,9900,9900]
[1250,27675,10000,10000,10000,10000]
[1500,31200,10000,10000,10000,10000]
[2000,34535,10000,10000,10000,10000]
[2500,41200,10000,10000,10000,10000]
[3000,44700,10000,10000,10000,10000]
[4000,84800,12000,12000,12000,12000]
[4200,89050,12000,12000,12000,12000]
[]
["MO","POLYPROPYLENE","304L","316L","U45N","904L"]
[250,30,80,80,80,80]
[500,40,100,100,100,100]
[750,47.5,110,110,110,110]
[1000,50,120,120,120,120]
[1250,50,120,120,120,120]
[1500,50,120,120,120,120]
[2000,58,184,184,184,184]
[2500,60,200,200,200,200]
[3000,60,200,200,200,200]
[4000,65,265,265,265,265]
[4200,65,265,265,265,265]

{"sheet":"Elec1","index":4,"n_rows":56,"n_cols":28,"rows_kept":56,"cut":false,"hidden":true,"merged":[[12,2,12,4],[1,6,3,18],[4,20,4,22],[5,23,7,23],[10,20,10,22],[11,23,13,23],[16,20,16,22],[17,23,19,23],[26,4,30,21],[29,25,29,27],[33,4,33,6],[33,8,33,10],[33,12,33,14],[33,16,33,18]]}
[]
[null,null,null,null,null,null,"\"Projet\""]
[null,null,"Filtration Rate",0.111,"t/h/m²"]
[null,null,"Filter Size",{"$f":"AA32/D3","v":0},"m²"]
[null,null,null,null,null,null,null,null,null,null,null,null,null,null,null,null,null,null,null,null,"WASH WATER 3",null,null,"WR 3"]
[null,null,null,null,null,null,null,null,null,null,null,null,null,null,null,null,null,null,null,null,"Flow rate design",null,"T/h"]
[null,null,null,null,null,null,null,null,null,null,null,null,null,null,null,null,null,null,null,null,"Flow rate design",null,"m3/h"]
[null,null,null,null,null,null,null,null,null,null,null,null,null,null,null,null,null,null,null,null,"Density",null,"t/m3"]
[]
[]
[null,null,null,null,null,null,null,null,null,null,null,null,null,null,null,null,null,null,null,null,"WASH WATER 2",null,null,"WR 2"]
[null,null,null,null,null,null,null,null,null,null,null,null,null,null,null,null,null,null,null,null,"Flow rate design",null,"T/h"]
[null,null,"SLURRY",null,null,null,null,null,null,null,null,null,null,null,null,null,null,null,null,null,"Flow rate design",null,"m3/h"]
[null,null,"Slurry Flow rate design",{"$f":"D15/D18","v":{"$error":"#DIV/0!"}},"m3/h",null,null,null,null,null,null,null,null,null,null,null,null,null,null,null,"Density",null,"t/m3"]
[null,null,"Slurry Flow rate design",{"$f":"D17/D16","v":{"$error":"#DIV/0!"}},"T/h"]
[null,null,"Solids",null,"%"]
[null,null,"Solids flow design",null,"T/h",null,null,null,null,null,null,null,null,null,null,null,null,null,null,null,"WASH WATER 1",null,null,"WR 1"]
[null,null,"Slurry density",null,"t/m3",null,null,null,null,null,null,null,null,null,null,null,null,null,null,null,"Flow rate design",null,"T/h"]
[null,null,"Liquid density",null,"t/m3",null,null,null,null,null,null,null,null,null,null,null,null,null,null,null,"Flow rate design",null,"m3/h"]
[null,null,"Solids density",null,"t/m3",null,null,null,null,null,null,null,null,null,null,null,null,null,null,null,"Density",null,"t/m3"]
[null,null,"Temperature",null,"°C"]
[]
[]
[]
[]
[]
[]
[]
[]
[null,null,null,null,null,null,null,null,null,null,null,null,null,null,null,null,null,null,null,null,null,null,null,null,null,"TOTAL CAKE PRODUCTION"]
[null,null,null,null,null,null,null,null,null,null,null,null,null,null,null,null,null,null,null,null,null,null,null,null,null,"Cake flow rate design",{"$f":"AA32/(1-AA33)","v":0},"T/h"]
[null,null,null,null,null,null,null,null,null,null,null,null,null,null,null,null,null,null,null,null,null,null,null,null,null,"Dry cake flow rate design",{"$f":"D17","v":0},"T/h"]
[null,null,null,null,null,null,null,null,null,null,null,null,null,null,null,null,null,null,null,null,null,null,null,null,null,"Moisture",null,"%"]
[null,null,null,null,"MOTHER LIQUOR",null,null,null,"WASH FILTRATE 3",null,null,null,"WASH FILTRATE 2",null,null,null,"WASH FILTRATE 1"]
[null,null,null,null,"Flow rate design",{"$f":"D15-AA31","v":{"$error":"#DIV/0!"}},"t/h",null,"Flow rate design",null,"T/h",null,"Flow rate design",null,"T/h",null,"Flow rate design",null,"T/h"]
[null,null,null,null,"Flow rate design",{"$f":"F35/F37","v":{"$error":"#DIV/0!"}},"m3/h",null,"Flow rate design",null,"m3/h",null,"Flow rate design",null,"m3/h",null,"Flow rate design",null,"m3/h"]
[null,null,null,null,"Density",null,"t/m3",null,"Density",null,"t/m3",null,"Density",null,"t/m3",null,"Density",null,"t/m3"]
[]
[]
[]
[]
[]
[]
[]
[null,"Flowrate","Power","Regulation"]
[null,25,11,"No"]
[null,null,null,"VFD"]
[null,null,null,"Valve"]
[]
[]
[]
[null,null,null,"NO","LSH"]
[null,null,null,null,"LLH"]
[]
[null,null,null,"VFD","Transmetteur"]
[null,null,null,"Valve","Transmetteur"]

{"sheet":"Elec2","index":5,"n_rows":94,"n_cols":28,"rows_kept":94,"cut":false,"hidden":true,"merged":[[4,2,5,2],[68,3,81,3],[84,3,93,3],[23,3,65,3]]}
[]
[null,null,null,null,null,"serie 1","serie 2","serie 3 largeur bande <2 et long bav <20",null,"si  long bav >20, vitesse max <20","si  long bav >20, vitesse max >20"]
[null,null,null,"Filtre"]
[null,null,null,"Instrumentation - STANDARD",null,"Nbre","Nbre","Nbre",null,"Nbre","Nbre",null,null,null,null,null,null,null,null,null,"Repère Instrum","BJ","Transmetteur","Nombre débitmètre","sans débitmètre","Type débitmètre","Type épaisseur","Débitmètre Lavage Toile & Bande"]
[null,null,"OU","Boîtier d'arrêt d'urgence",null,1,0,0,null,0,0,null,null,"Standard mais client peut demander plus",null,null,null,null,null,null,"Plastique","Polyester","Oui",0,"N/A","Gemu","Pepperl & Fuchs","Krohne"]
[null,null,null,"Arrêt d'urgence à cable",null,0,2,2,null,2,2,null,null,"Standard mais client peut demander plus",null,null,null,null,null,null,"Inox","Inox","Non",1,null,"Krohne","Endress Hauser","Endress Hauser"]
[null,null,null,"Détecteur de surcouple",null,0,0,1,null,1,1,null,null,null,null,null,null,null,null,null,null,null,null,2]
[null,null,null,"Capteur de dérive toile",null,0,2,2,null,2,2,null,null,null,null,null,null,null,null,null,null,null,null,3]
[null,null,null,"Capteur de dérive bande",null,0,0,2,null,2,2,null,null,null,null,null,null,null,null,null,null,null,null,4]
[null,null,null,"Capteur de rotation toile",null,0,0,1,null,1,1]
[null,null,null,"Capteur de tension toile",null,0,2,2,null,2,2,null,null,null,null,null,null,null,null,null,null,null,null,"Régulation","Non"]
[null,null,null,"Capteur de rupture courroies boîte à vide",null,0,0,0,null,2,2,null,null,null,null,null,null,null,null,0,null,null,null,"Non","LSH"]
[null,null,null,"Pressostat pression air comprimé",null,1,1,1,null,1,1,null,null,null,null,null,null,null,null,1,null,null,null,"VFD","LSL"]
[null,null,null,"Pressostat pression eau de lavage toile et bande",null,0,1,1,null,1,1,null,null,null,null,null,null,null,null,null,null,null,null,"Vanne","LSH + LSL"]
[null,null,null,"Débitmètre  - Lubrification BAV",null,0,1,2,null,2,2,null,null,"Gemu ou Krohne",null,null,null,null,null,null,null,null,null,"Flotteur"]
[null,null,null,"Débitmètre - Lubrification TABLE",null,0,0,0,null,0,2,null,null,"Gemu ou Krohne",null,null,null,null,null,null,null,null,null,"Type Extraction","Barométrique","Forcée","Krogh","CapteurFRP"]
[null,null,null,"TOTAL STANDARD FILTRE",null,{"$f":"SUM(F5:F16)","v":2},{"$f":"SUM(G5:G16)","v":9},{"$f":"SUM(H5:H16)","v":14},null,{"$f":"SUM(J5:J16)","v":16},{"$f":"SUM(K5:K16)","v":18},null,null,null,null,null,null,null,null,null,null,null,null,"Barométrique","Ultrason","Pression  Différentielle","Pression  Différentielle","Pression  Différentielle"]
[null,null,null,null,null,null,null,null,null,null,null,null,null,null,null,null,null,null,null,null,null,null,null,"Krogh",null,"Sonde Capacitive","Sonde Capacitive","Radar Filoguidé"]
[null,null,null,null,null,null,null,null,null,null,null,null,null,null,null,null,null,null,null,null,null,null,null,"Forcée",null,"Radar Filoguidé","Radar Filoguidé"]
[]
[null,null,null,null,null,null,null,null,null,null,null,null,null,null,null,null,null,null,null,null,null,null,null,"OptionUltrason","OptionLSHLSL","Norme Exécution Vanne Contrôle"]
[]
[null,null,null,null,null,null,null,null,null,null,null,null,null,null,null,null,null,null,null,null,null,null,null,"Standard","Lame vibrante 316L","DIN PN16"]
[null,null,null,"IINSTRUM","Filtre","Qté",null,null,null,null,null,null,null,null,null,null,null,null,null,null,null,null,null,"Bride Raccordement","Lame et bride revêtue PTFE","ANSI 150 lbs"]
[null,null,null,null,"Boîte de jonction",1,"Polyester","Matériau Boîte de jonction"]
[null,null,null,null,"Cablage",1,"Plastique","Matériau Etiquetage"]
[null,null,null,null,"Boîtier d'arrêt d'urgence",{"$f":"IF(Calculations!I9=\"SERIE 1\",1,0)","v":0},null,null,null,null,null,null,null,null,null,null,null,null,null,null,null,null,null,"Capot Protection 316Ti"]
[null,null,null,null,"Arrêt d'urgence à cable",{"$f":"IF(Calculations!I9=\"SERIE 1\",0,2)","v":2},null,null,null,null,null,null,null,null,null,null,null,null,null,null,null,null,null,"Bride Raccordement + Capot Protection 316Ti"]
[null,null,null,null,"Détecteur de surcouple",{"$f":"IF(OR(Calculations!I9=\"SERIE 1\",Calculations!I9=\"SERIE 2\"),0,1)","v":0}]
[null,null,null,null,"Capteur de dérive toile",{"$f":"IF(Calculations!I9=\"SERIE 1\",0,2)","v":2},null,null,null,null,null,null,null,null,null,null,null,null,null,null,null,null,null,"Tension PAV"]
[null,null,null,null,"Capteur de dérive bande",{"$f":"IF(OR(Calculations!I9=\"SERIE 1\",Calculations!I9=\"SERIE 2\"),0,2)","v":0},null,null,null,null,null,null,null,null,null,null,null,null,null,null,null,null,null,"LV"]
[null,null,null,null,"Capteur de rotation toile",{"$f":"IF(OR(Calculations!I9=\"SERIE 1\",Calculations!I9=\"SERIE 2\"),0,1)","v":0},null,null,null,null,null,null,null,null,null,null,null,null,null,null,null,null,null,"MV"]
[null,null,null,null,"Capteur de tension toile",{"$f":"IF(Calculations!I9=\"SERIE 1\",0,2)","v":2}]
[null,null,null,null,"Capteur de rupture courroies boîte à vide",{"$f":"IF(OR(Calculations!I9=\"SERIE 1\",Calculations!I9=\"SERIE 2\"),0,IF(AND(Calculations!I9=\"SERIE 3\",Calculations!E9<2000,Calculations!G9<20000),0,2))","v":0}]
[null,null,null,null,"Pressostat pression air comprimé",1]
[null,null,null,null,"Pressostat pression eau de lavage toile et bande",{"$f":"IF(Calculations!I9=\"SERIE 1\",0,1)","v":1},null,null,"Transmetteur"]
[null,null,null,null,"Débitmètre  - Lubrification BAV",{"$f":"IF(Calculations!I9=\"SERIE 1\",0,IF(Calculations!I9=\"SERIE 2\",1,2))","v":1},{"$f":"Calculations!E41/F37","v":80},"Gemu","Non"]
[null,null,null,null,"Débitmètre - Lubrification TABLE",{"$f":"IF(AND(Calculations!G9>=20000,Calculations!F25>=20),2,0)","v":0},{"$f":"IF(F38=0,\"N/A\",SUM(Calculations!Q39:Q40)/F38)","v":"N/A"},"N/A","Non"]
[null,null,null,null,"Débitmètre - Lavage Toile & Bande",0,{"$f":"Calculations!G41","v":2.98},"Krohne","Non"]
[null,null,null,null,"Capteur de niveau Pulpe - Lame Vibrante",0]
[null,null,null,null,"Transmetteur épaisseur gâteau",0,null,"Pepperl & Fuchs"]
[]
[null,null,null,null,"TOTAL Filtre",{"$f":"SUM(F27:F41)","v":9}]
[]
[null,null,null,null,"Accessoires","Qté","Débit (m3/h)","Puissance (kW)","Matériau Ballon","Type Extraction","Régulation","Norme Exécution Vanne Contrôle","Option Vanne - Positionneur type HART","Type Capteur Niveau","Option Capteur Niveau","Transmetteur Pression"]
[null,null,null,null,"Ballon 1 - Pompe 1",1,null,null,{"$f":"Calculations!$C$44","v":"304L"},{"$f":"Calculations!$D$44","v":"krogh"},"Non","N/A","N/A","LSL","N/A","Oui","Définir règle pour option capteur LSL LSH"]
[null,null,null,null,"Ballon 2 - Pompe 2",1,null,null,{"$f":"Calculations!$C$44","v":"304L"},{"$f":"Calculations!$D$44","v":"krogh"},"VFD","N/A","N/A","Pression  Différentielle","Lame vibrante 316L",null,"Définir règle pour option capteur LSL LSH"]
[null,null,null,null,"Ballon 3 - Pompe 3",1,null,null,{"$f":"Calculations!$C$44","v":"304L"},{"$f":"Calculations!$D$44","v":"krogh"},"Vanne","N/A","N/A","Ultrason","Lame vibrante 316L",null,"Définir règle pour option capteur LSL LSH"]
[null,null,null,null,"Ballon 4 - Pompe 4",1,null,null,{"$f":"Calculations!$C$44","v":"304L"},{"$f":"Calculations!$D$44","v":"krogh"},"Vanne","N/A","N/A","Pression  Différentielle","Lame vibrante 316L",null,"Définir règle pour option capteur LSL LSH"]
[]
[null,null,null,null,null,"Qté","Débit (m3/h)","Puissance (kW)","Régulation","Type Capteur","Option Capteur"]
[null,null,null,null,"Pompe 5",1,{"$f":"Calculations!G41*1.1","v":3.278},null,"Flotteur","LSH + LSL","Standard"]
[null,null,null,null,"Pompe 6",1,"relier au débit AL",null,"VFD","Ultrason","Standard"]
[]
[null,null,null,null,null,"Qté","Débit (m3/h)","Puissance (kW)","Tension (V)"]
[null,null,null,null,"Pompe 7 - PAV",1,{"$f":"Calculations!N11","v":200},{"$f":"'PàV Nash Fonte Mot.400V'!M111","v":{"$error":"#N/A"}},"LV"]
[]
[null,null,null,null,null,"Débit","Régulation","Débitmètre","Norme Exécution Vanne Contrôle","Option Vanne - Positionneur type HART"]
[null,null,null,null,"Wash 1",null,"Non","Non","N/A","N/A"]
[null,null,null,null,"Wash 2",null,"Oui","Oui","DIN PN16","Oui"]
[null,null,null,null,"Wash 3",null,"Oui","Oui","DIN PN16","Non"]
[]
[null,null,null,null,"Divers (Agitateur, Ventilateur, Rouleau Presseur…)","Qté","Puissance (kW)"]
[null,null,null,null,"Divers 1"]
[null,null,null,null,"Divers 2"]
[null,null,null,null,"Divers 3"]
[]
[]
[null,null,null,"ELECTRICITE","Cellule de Puissance","OUI/NON - condition définie par le scope"]
[null,null,null,null,"Puissance Totale UTILE (kW)",{"$f":"Calculations!H73+F46*H46+F47*H47+F48*H48+F49*H49+F52*H52+F53*H53+F56*H56+F64*G64+F65*G65+F66*G66","v":{"$error":"#N/A"}}]
[null,null,null,null,"Socle Hauteur 100","Non"]
[null,null,null,null,"Socle Hauteur 200","Oui"]
[null,null,null,null,"Kit d'éclairage et fin de course porte","Oui"]
[null,null,null,null,"Kit de ventilation et grille de sortie","Oui"]
[null,null,null,null,"Poignée type confort avec serrure à clé","Oui",null,null,null,"Scope","INSTRUM SEUL","Sélectionner Coffret Local Type Maintenance + Boîte de jonction + Cablage + Repères Cablage"]
[null,null,null,null,null,null,null,null,null,null,"ELECTRICITE-AUTOMATISME +  Moteur FAB","Pareil qu'au-dessus + Départ Moteur Filtre + Cellule de puissance + Cellule de distrib + Cellule Automate + Automate Programmable Indus + Coffret Local Multifonction"]
[null,null,null,null,"Cellule de Distribution","OUI/NON - condition définie par le scope",null,null,null,null,"ELECTRICITE-AUTOMATISME + Moteur FAB + Accessoires","Pareil qu'au-dessus + Départ Moteur Filtre + + Départ Moteurs Accessoires + Cellule de puissance + Cellule de distrib + Cellule Automate + Automate Programmable Indus + Coffret Local Multifonction"]
[null,null,null,null,"Puissance Totale Installée (kW)",{"$f":"F70*1.3","v":{"$error":"#N/A"}},null,null,null,null,"AUTOMATISME SEUL","Cellule Automate + Automate Programmable Indus + Coffret Local Multifonction"]
[null,null,null,null,"Socle Hauteur 100",{"$f":"F71","v":"Non"},null,null,null,null,"LCP seul"]
[null,null,null,null,"Socle Hauteur 200",{"$f":"F72","v":"Oui"}]
[null,null,null,null,"Kit d'éclairage et fin de course porte",{"$f":"F73","v":"Oui"}]
[null,null,null,null,"Poignée type confort avec serrure à clé",{"$f":"F75","v":"Oui"}]
[]
[]
[null,null,null,"AUTOMATISME","Cellule Automate","OUI/NON - condition définie par le scope"]
[null,null,null,null,"Socle Hauteur 100",{"$f":"F79","v":"Non"}]
[null,null,null,null,"Socle Hauteur 200",{"$f":"F80","v":"Oui"}]
[null,null,null,null,"Kit d'éclairage et fin de course porte",{"$f":"F81","v":"Oui"}]
[null,null,null,null,"Poignée type confort avec serrure à clé",{"$f":"F82","v":"Oui"}]
[]
[null,null,null,null,"Automate programmable","OUI/NON - condition définie par le scope"]
[]
[null,null,null,null,"Coffret de Commande Locale"]
[null,null,null,null,"Type","Maintenance ou Multifonction - condition définie par le scope"]

{"sheet":"Project Specs","index":6,"n_rows":273,"n_cols":50,"rows_kept":273,"cut":false,"hidden":true,"merged":[[5,0,5,6],[5,7,5,18],[5,27,5,34],[6,0,6,6],[6,7,6,18],[6,27,6,34],[2,43,2,47],[3,29,3,35],[3,37,3,41],[3,43,3,47],[4,0,4,2],[4,3,4,19],[4,20,4,25],[4,26,4,35],[0,0,3,12],[0,13,0,28],[0,29,0,35],[1,13,3,28],[1,29,1,35],[2,37,2,41],[13,8,13,10],[13,16,13,18],[15,8,15,12],[15,16,15,18],[15,30,15,34],[17,8,17,10],[17,16,17,18],[8,8,8,10],[8,16,8,18],[8,28,8,30],[9,8,9,10],[9,16,9,18],[11,8,12,34],[29,8,29,10],[29,16,29,18],[29,24,29,26],[32,3,32,34],[35,8,35,10],[35,16,35,18],[35,24,35,26],[19,3,19,34],[22,12,22,14],[22,24,22,26],[24,3,24,34],[28,8,28,10],[28,16,28,18],[28,24,28,26],[28,27,28,31],[40,8,40,10],[40,16,40,18],[40,24,40,26],[40,32,40,34],[41,8,41,10],[41,16,41,18],[41,24,41,26],[41,32,41,34],[36,8,36,10],[36,16,36,18],[36,24,36,26],[36,32,36,34],[38,8,38,10],[38,16,38,22],[38,32,38,34],[44,8,44,10],[44,16,44,18],[44,24,44,26],[44,32,44,34],[45,8,45,10],[45,16,45,18],[45,24,45,26],[45,32,45,34],[42,8,42,10],[42,16,42,18],[42,24,42,26],[42,32,42,34],[43,8,43,10],[43,16,43,18],[43,24,43,26],[43,32,43,34],[48,8,48,10],[48,16,48,18],[48,24,48,26],[48,32,48,34],[49,16,49,18],[49,32,49,34],[46,8,46,10],[46,16,46,18],[46,24,46,26],[46,32,46,34],[47,8,47,10],[47,16,47,18],[47,24,47,26],[47,32,47,34],[58,3,58,34],[61,8,61,10],[61,16,61,18],[61,24,61,26],[62,8,62,10],[62,16,62,18],[62,24,62,26],[62,32,62,34],[50,32,50,34],[52,3,52,34],[55,8,55,10],[55,16,55,18],[55,24,55,26],[56,8,56,10],[56,24,56,26],[56,32,56,34],[70,8,70,10],[70,16,70,18],[70,24,70,26],[70,32,70,34],[71,8,71,10],[71,16,71,18],[63,8,63,10],[63,32,63,34],[65,3,65,34],[69,8,69,10],[69,16,69,18],[69,24,69,26],[69,32,69,34],[76,3,76,34],[79,8,79,10],[79,16,79,18],[80,8,80,12],[80,16,80,18],[80,21,80,23],[80,28,80,30],[72,8,72,10],[72,16,72,18],[72,24,72,26],[73,8,73,10],[73,32,73,34],[74,8,74,10],[74,16,74,18],[81,28,81,30],[82,8,82,34],[84,8,84,13],[84,16,84,18],[84,24,84,26],[85,8,85,10],[85,16,85,18],[85,21,85,23],[85,27,85,29],[85,32,85,34],[91,8,91,10],[91,16,91,18],[91,21,91,23],[91,27,91,29],[91,32,91,34],[92,8,92,10],[92,16,92,18],[87,8,87,34],[89,8,89,10],[89,16,89,18],[89,21,89,23],[90,8,90,10],[90,16,90,18],[90,21,90,23],[90,27,90,29],[90,32,90,34],[94,3,94,34],[97,8,97,10],[97,16,97,18],[100,3,100,34],[103,8,103,10],[103,13,103,14],[103,17,103,19],[103,22,103,24],[103,27,103,29],[98,16,98,19],[116,3,116,34],[119,8,119,10],[119,16,119,18],[119,27,119,29],[121,3,121,34],[124,19,124,21],[103,32,103,34],[104,22,104,24],[106,3,106,34],[109,8,109,10],[111,3,111,34],[114,8,114,10],[114,16,114,18],[131,8,131,10],[133,8,133,10],[133,13,133,15],[133,18,133,20],[133,32,133,34],[134,8,134,10],[125,15,125,17],[127,3,127,34],[130,8,130,10],[130,13,130,15],[130,18,130,20],[130,32,130,34],[140,8,140,10],[143,3,143,34],[146,8,146,10],[146,13,146,15],[146,32,146,34],[148,3,148,34],[136,8,136,10],[136,13,136,15],[136,18,136,20],[136,32,136,34],[137,8,137,10],[139,8,139,10],[139,13,139,15],[139,18,139,20],[139,32,139,34],[157,8,157,10],[157,13,157,15],[157,18,157,20],[158,8,158,10],[161,3,161,34],[164,8,164,10],[164,13,164,15],[164,18,164,20],[151,8,151,10],[151,13,151,15],[151,18,151,20],[151,32,151,34],[152,18,152,20],[154,3,154,34],[171,8,171,10],[173,3,173,34],[176,8,176,10],[176,16,176,18],[176,24,176,26],[176,32,176,34],[165,8,165,10],[167,3,167,34],[170,8,170,10],[170,13,170,15],[170,18,170,20],[170,27,170,29],[182,8,182,10],[182,16,182,18],[182,24,182,26],[184,3,184,34],[187,8,187,10],[187,16,187,18],[187,24,187,26],[187,32,187,34],[177,8,177,10],[177,16,177,18],[177,24,177,26],[177,32,177,34],[178,16,178,18],[179,16,179,18],[188,8,188,10],[188,16,188,18],[189,16,189,18],[189,32,189,34],[192,3,192,34],[194,8,194,10],[194,16,194,18],[194,24,194,26],[194,32,194,34],[195,8,195,10],[195,16,195,18],[196,16,196,18],[196,32,196,34],[199,3,199,34],[201,8,201,10],[201,16,201,18],[201,24,201,26],[201,32,201,34],[202,8,202,10],[202,16,202,18],[203,16,203,18],[203,32,203,34],[206,3,206,34],[208,8,208,10],[208,16,208,18],[208,24,208,26],[208,32,208,34],[209,8,209,10],[209,16,209,18],[210,16,210,18],[210,32,210,34],[213,3,213,34],[216,8,216,10],[216,16,216,18],[216,24,216,26],[216,32,216,34],[217,8,217,10],[217,16,217,18],[218,16,218,18],[218,32,218,34],[221,3,221,34],[224,8,224,10],[224,16,224,18],[224,24,224,26],[224,32,224,34],[233,8,233,10],[233,16,233,18],[233,24,233,26],[233,32,233,34],[234,8,234,10],[236,3,236,34],[225,8,225,10],[225,16,225,18],[226,16,226,18],[226,32,226,34],[229,3,229,34],[232,8,232,10],[232,16,232,18],[232,24,232,26],[232,32,232,34],[245,3,245,34],[248,11,248,13],[250,32,250,34],[253,11,253,13],[253,18,253,20],[253,24,253,26],[253,32,253,34],[239,12,239,14],[239,32,239,34],[240,32,240,34],[242,12,242,14],[242,32,242,34],[243,32,243,34],[256,11,256,13],[256,24,256,26],[258,3,258,34],[261,11,261,13],[263,11,263,13],[264,24,264,26],[254,11,254,13],[254,18,254,20],[254,24,254,26],[254,32,254,34],[255,11,255,13],[255,18,255,20],[255,24,255,26],[255,32,255,34],[270,33,270,34],[272,3,272,34],[269,24,269,26],[269,28,269,29],[269,31,269,32],[270,24,270,26],[270,28,270,29],[270,31,270,32],[266,11,266,13],[266,24,266,26],[268,24,268,26],[268,28,268,29],[268,31,268,32],[268,33,268,34]]}
[null,null,null,null,null,null,null,null,null,null,null,null,null,"PROJECT SPECIFICATION",null,null,null,null,null,null,null,null,null,null,null,null,null,null,null,null,null,null,null,null,null,null,null,null,null,null,null,null,null,null,"Français","English"]
[null,null,null,null,null,null,null,null,null,null,null,null,null,{"$f":"IF(AD4=\"Français\",AL3,AR3)","v":"FILTRE A BANDE"},null,null,null,null,null,null,null,null,null,null,null,null,null,null,null,{"$f":"Calculations!H3","v":"rev4"},null,null,null,null,null,null,null,null,null,null,null,"Rév. 0",null,"Rev. 0"]
[null,null,null,null,null,null,null,null,null,null,null,null,null,null,null,null,null,null,null,null,null,null,null,null,null,null,null,null,null,null,null,null,null,null,null,null,null,"FILTRE A BANDE",null,null,null,null,null,"HORIZONTAL BELT FILTER"]
[null,null,null,null,null,null,null,null,null,null,null,null,null,null,null,null,null,null,null,null,null,null,null,null,null,null,null,null,null,"Français",null,null,null,null,null,null,null,"Français ",null,null,null,null,null,"English"]
["Client :",null,null,{"$f":"Calculations!C2","v":"CARESTER"},null,null,null,null,null,null,null,null,null,null,null,null,null,null,null,null,{"$f":"IF(AD4=\"Français\",AP5,AV5)","v":"N° commande :"},null,null,null,null,null,{"$f":"IF(KSNr=0,\" \",\" \"&KSNr)","v":" Lxyyyy"},null,null,null,null,null,null,null,null,null,null,null,null,null,null,"N° commande :",null,null,null,null,null,"Order N° : "]
[{"$f":"IF(AD4=\"Français\",AL6,AR6)","v":"Type de filtre :"},null,null,null,null,null,null,"Philippe",null,null,null,null,null,null,null,null,null,null,null,null,null,null,null,null,null,null,{"$f":"IF(AD4=\"Français\",AP6,AV6)","v":"Référence client :"},{"$f":"Calculations!C4","v":"CAREMAG"},null,null,null,null,null,null,null,null,null,"Type de filtre :",null,null,null,"Référence client :",null,"Filter type :",null,null,null,"Client reference :"]
[{"$f":"IF(AD4=\"Français\",AL7,AR7)","v":"Identique à / similaire à :"},null,null,null,null,null,null,null,null,null,null,null,null,null,null,null,null,null,null,null,null,null,null,null,null,null,{"$f":"IF(AD4=\"Français\",AP7,AV7)","v":"Référence PID de l'Offre :"},{"$f":"Calculations!C3","v":726789},null,null,null,null,null,null,null,null,null,"Identique à / similaire à :",null,null,null,"Référence PID de l'Offre :",null,"Identical to / Similar to :",null,null,null,"Offer's PID reference :"]
[]
[{"$f":"IF(AD4=\"Français\",AL9,AR9)","v":"Dimensions Filtre"},null,null,null,null,null,null,{"$f":"IF(AD4=\"Français\",AM9,AS9)","v":"Surface"},{"$f":"Calculations!C9","v":2},null,null,"m²",null,null,null,{"$f":"IF(AD4=\"Français\",AN9,AT9)","v":"Largeur"},{"$f":"Calculations!E9/1000","v":0.5},null,null,"m",null,null,null,null,null,null,null,{"$f":"IF(AD4=\"Français\",AO9,AU9)","v":"Longueur boite à vide"},{"$f":"Calculations!G9/1000","v":4},null,null,"m",null,null,null,null,null,"Dimensions Filtre","Surface","Largeur","Longueur boite à vide",null,null,"Filter dimensions","Area","Width","Length under vacuum"]
[{"$f":"IF(AD4=\"Français\",AL10,AR10)","v":"Vitesse linéaire Filtre"},null,null,null,null,null,null,"Min",{"$f":"Calculations!H25","v":3.2706459525756335E-2},null,null,"m/min",null,null,null,"Max",{"$f":"Calculations!F25","v":0.39247751430907601},null,null,"m/min",null,null,null,null,null,null,null,null,null,null,null,null,null,null,null,null,null,"Vitesse linéaire Filtre",null,null,null,null,null,"Belt speed"]
[]
[{"$f":"IF(AD4=\"Français\",AL12,AR12)","v":"Charactéristiques Produit filtré"},null,null,null,null,null,null,null,null,null,null,null,null,null,null,null,null,null,null,null,null,null,null,null,null,null,null,null,null,null,null,null,null,null,null,null,null,"Charactéristiques Produit filtré",null,null,null,null,null,"Slurry Characteristics"]
[]
[null,null,null,null,null,null,null,"Temp.",null,null,null,"°C",null,null,null,"pH"]
[]
[{"$f":"IF(AD4=\"Français\",AL16,AR16)","v":"Brides"},null,null,null,null,null,null,{"$f":"IF(AD4=\"Français\",AM16,AS16)","v":"Norme brides"},null,null,null,null,null,null,null,{"$f":"IF(AD4=\"Français\",AN16,AT16)","v":"Type brides"},null,null,null,null,null,null,null,null,null,{"$f":"IF(AD4=\"Français\",AO16,AU16)","v":"Certification CE"},{"$f":"IF('Offre NEW'!H55=0,\"\",\"X\")","v":""},null,null,{"$f":"IF(AD4=\"Français\",AP16,AV16)","v":"Autre"},null,null,null,null,null,null,null,"Brides","Norme brides","Type brides","Certification CE","Autre",null,"Flanges","Flanges norm","Flanges type","European Conformity (EC)","Other "]
[]
[{"$f":"IF(AD4=\"Français\",AL18,AR18)","v":"Alimentation Moteurs"},null,null,null,null,null,null,{"$f":"IF(AD4=\"Français\",AM18,AS18)","v":"Tension"},null,null,null,"V",null,null,null,{"$f":"IF(AD4=\"Français\",AN18,AT18)","v":"Fréquence"},null,null,null,"Hz",null,null,null,null,null,null,null,null,null,null,null,null,null,null,null,null,null,"Alimentation Moteurs","Tension","Fréquence",null,null,null,"Power details","Voltage","Frequency"]
[]
[{"$f":"IF(AD4=\"Français\",AL20,AR20)","v":"Spécifique"},null,null,null,null,null,null,null,null,null,null,null,null,null,null,null,null,null,null,null,null,null,null,null,null,null,null,null,null,null,null,null,null,null,null,null,null,"Spécifique",null,null,null,null,null,"Comments"]
[]
[{"$f":"IF(AD4=\"Français\",AL22,AR22)","v":"Peinture"},null,null,null,null,null,null,null,null,null,null,null,null,null,null,null,null,null,null,null,null,null,null,null,null,null,null,null,null,null,null,null,null,null,null,null,null,"Peinture",null,null,null,null,null,"Painting"]
[null,null,null,null,null,"RAL 5012",null,null,null,null,null,{"$f":"IF(AD4=\"Français\",AN23,AT23)","v":"Autre RAL"},null,null,null,null,null,null,null,null,null,null,null,{"$f":"IF(AD4=\"Français\",AO23,AU23)","v":"Ep. Mini. Imposée"},null,null,null,"µm",null,null,null,null,null,null,null,null,null,null,null,"Autre RAL","Ep. Mini. Imposée",null,null,null,null,"Other RAL :","minimum thickness"]
[]
[{"$f":"IF(AD4=\"Français\",AL25,AR25)","v":"Spécifique"},null,null,null,null,null,null,null,null,null,null,null,null,null,null,null,null,null,null,null,null,null,null,null,null,null,null,null,null,null,null,null,null,null,null,null,null,"Spécifique",null,null,null,null,null,"Comments"]
[]
[]
[{"$f":"IF(AD4=\"Français\",AL28,AR28)","v":"Bati"},null,null,null,null,null,null,null,null,null,null,null,null,null,null,null,null,null,null,null,null,null,null,null,null,null,null,null,null,null,null,null,null,null,null,null,null,"Bati",null,null,null,null,null,"Frame"]
[null,null,null,null,null,null,null,{"$f":"IF(AD4=\"Français\",AM29,AS29)","v":"Série"},{"$f":"Calculations!I9","v":"SERIE 2"},null,null,null,null,null,null,{"$f":"IF(AD4=\"Français\",AN29,AT29)","v":"Matière Bâti"},{"$f":"Calculations!H22","v":"304L"},null,null,null,null,null,null,{"$f":"IF(AD4=\"Français\",AO29,AU29)","v":"Matière boulonnerie"},{"$f":"Calculations!J24","v":"304"},null,null,{"$f":"IF(AD4=\"Français\",AP29,AV29)","v":"Peinture"},null,null,null,null,null,null,null,null,null,null,"Série","Matière Bâti","Matière boulonnerie","Peinture",null,null,"Series","Material of the frame","Material of bolt & nuts","Painting"]
[null,null,null,null,null,null,{"$f":"IF(AD4=\"Français\",AM30,AS30)","v":"Longerons"},null,null,null,null,null,null,null,{"$f":"IF(AD4=\"Français\",AN30,AT30)","v":"Réhausses"},null,null,null,null,null,null,null,{"$f":"IF(AD4=\"Français\",AO30,AU30)","v":"Fers de transport"},null,null,null,null,null,null,null,null,null,null,null,null,null,null,null,"Longerons","Réhausses","Fers de transport",null,null,null,"Stringers","Raised edges","Transport beams"]
[null,null,null,null,null,null,null,{"$f":"IF(AD4=\"Français\",AM31,AS31)","v":"Calage pour scellement"},null,null,null,null,null,null,null,{"$f":"IF(AD4=\"Français\",AN31,AT31)","v":"Chevilles scellement"},null,null,null,null,null,null,null,null,null,null,null,null,null,null,null,null,null,null,null,null,null,null,"Calage pour scellement","Chevilles scellement",null,null,null,null,"Shimming","Anchor bolts"]
[]
[{"$f":"IF(AD4=\"Français\",AL33,AR33)","v":"Spécifique"},null,null,null,null,null,null,null,null,null,null,null,null,null,null,null,null,null,null,null,null,null,null,null,null,null,null,null,null,null,null,null,null,null,null,null,null,"Spécifique",null,null,null,null,null,"Comments"]
[]
[{"$f":"IF(AD4=\"Français\",AL35,AR35)","v":"Parcours toile & bande"},null,null,null,null,null,null,null,null,null,null,null,null,null,null,null,null,null,null,null,null,null,null,null,null,null,null,null,null,null,null,null,null,null,null,null,null,"Parcours toile & bande",null,null,null,null,null,"Cloth & Belt run",null,null,null,null,null,0]
[{"$f":"IF(AD4=\"Français\",AL36,AR36)","v":"Bande"},null,null,null,null,null,null,{"$f":"IF($AD$4=\"Français\",AM36,AS36)","v":"Matière"},{"$f":"Calculations!H23","v":"EPDM"},null,null,null,null,null,null,{"$f":"IF($AD$4=\"Français\",AN36,AT36)","v":"Epaisseur"},{"$f":"Calculations!E24","v":18.5},null,null,"mm",null,null,null,{"$f":"IF($AD$4=\"Français\",AO36,AU36)","v":"Nombre de plis"},4,null,null,null,null,null,null,null,null,null,null,null,null,"Bande","Matière","Epaisseur","Nombre de plis",null,null,"Belt","Material","Thickness","Number of plies",null,null,60]
[{"$f":"IF(AD4=\"Français\",AL37,AR37)","v":"Talons"},null,null,null,null,null,null,{"$f":"IF($AD$4=\"Français\",AM37,AS37)","v":"Matière"},{"$f":"Calculations!E53","v":"304L"},null,null,null,null,null,null,{"$f":"IF($AD$4=\"Français\",AN37,AT37)","v":"Hauteur"},{"$f":"Calculations!A9","v":70},null,null,null,null,null,null,{"$f":"IF($AD$4=\"Français\",AO37,AU37)","v":"Ht. Réhausse talons"},60,null,null,"mm",null,null,null,{"$f":"IF($AD$4=\"Français\",AP37,AV37)","v":"Matière réhausse"},{"$f":"IF(Y37=0,\"\",I37)","v":"304L"},null,null,null,null,"Talons","Matière","Hauteur","Ht. Réhausse talons","Matière réhausse",null,"Belt curbs","Material","Height","Raised edges height","Material"]
[]
[{"$f":"IF(AD4=\"Français\",AL39,AR39)","v":"Toile"},null,null,null,null,null,null,"Type jonction",null,null,null,null,null,null,null,"Référence",null,null,null,null,null,null,null,null,null,null,null,null,null,null,null,{"$f":"IF($AD$4=\"Français\",AP39,AV39)","v":"Matière toile"},null,null,null,null,null,"Toile","Type jonction","Référence",null,"Matière toile",null,"Cloth","Junction type","Reference",null,"Cloth material"]
[]
[{"$f":"IF(AD4=\"Français\",AL41,AR41)","v":"Rouleau d'entrée"},null,null,null,null,null,null,"Matière",{"$f":"IF(Calculations!H12=\"Basic ou option\",Calculations!E12,Calculations!H12)","v":"304L"},null,null,null,null,null,null,"Revêtement",null,null,null,null,null,null,null,"Ø",{"$f":"IF(Calculations!I9=\"SERIE 2\",'Série 2'!B42,'Séries 3-4-5'!B42)","v":219},null,null,null,null,null,null,"Qté",{"$f":"IF(Calculations!I9=\"SERIE 2\",'Série 2'!B44,'Séries 3-4-5'!B44)","v":1},null,null,null,null,"Rouleau d'entrée","Matière","Revêtement",null,"Qté",null,"Inlet roller","Material","Lining",null,"Qty"]
[{"$f":"IF(AD4=\"Français\",AL42,AR42)","v":"Rouleaux support toile"},null,null,null,null,null,null,"Matière",{"$f":"I43","v":"304L"},null,null,null,null,null,null,"Revêtement",null,null,null,null,null,null,null,"Ø",{"$f":"IF(Calculations!I9=\"SERIE 2\",'Série 2'!B30,'Séries 3-4-5'!B30)","v":60},null,null,null,null,null,null,"Qté",{"$f":"IF(Calculations!I9=\"SERIE 2\",'Série 2'!B32,'Séries 3-4-5'!B32)","v":2},null,null,null,null,"Rouleaux support toile","Matière","Revêtement",null,"Qté",null,"Cloth support rollers","Material","Lining",null,"Qty"]
[{"$f":"IF(AD4=\"Français\",AL43,AR43)","v":"Rouleaux retour toile"},null,null,null,null,null,null,"Matière",{"$f":"IF(Calculations!H20=\"Basic ou option\",Calculations!E20,Calculations!H20)","v":"304L"},null,null,null,null,null,null,"Revêtement",null,null,null,null,null,null,null,"Ø",{"$f":"IF(Calculations!I9=\"SERIE 2\",'Série 2'!B27,'Séries 3-4-5'!B27)","v":60},null,null,null,null,null,null,"Qté",{"$f":"IF(Calculations!I9=\"SERIE 2\",'Série 2'!B29,'Séries 3-4-5'!B29)","v":8},null,null,null,null,"Rouleaux retour toile","Matière","Revêtement",null,"Qté",null,"Return circuit cloth rollers","Material","Lining",null,"Qty"]
[{"$f":"IF(AD4=\"Français\",AL44,AR44)","v":"Rouleaux sortie toile"},null,null,null,null,null,null,"Matière",{"$f":"IF(Calculations!H15=\"Basic ou option\",Calculations!E15,Calculations!H15)","v":"304L"},null,null,null,null,null,null,"Revêtement",null,null,null,null,null,null,null,"Ø",{"$f":"IF(Calculations!I9=\"SERIE 2\",'Série 2'!B33,'Séries 3-4-5'!B33)","v":60},null,null,null,null,null,null,"Qté",{"$f":"IF(Calculations!I9=\"SERIE 2\",'Série 2'!B35,'Séries 3-4-5'!B35)","v":1},null,null,null,null,"Rouleaux sortie toile","Matière","Revêtement",null,"Qté",null,"Outlet rollers","Material","Lining",null,"Qty"]
[{"$f":"IF(AD4=\"Français\",AL45,AR45)","v":"Rouleau débatissage"},null,null,null,null,null,null,"Matière",{"$f":"I44","v":"304L"},null,null,null,null,null,null,"Revêtement",null,null,null,null,null,null,null,"Ø",{"$f":"IF(Calculations!I9=\"SERIE 2\",'Série 2'!B36,'Séries 3-4-5'!B36)","v":60},null,null,null,null,null,null,"Qté",{"$f":"IF(Calculations!I9=\"SERIE 2\",'Série 2'!B38,'Séries 3-4-5'!B38)","v":1},null,null,null,null,"Rouleau débatissage","Matière","Revêtement",null,"Qté",null,"Discharge roller","Material","Lining",null,"Qty"]
[{"$f":"IF(AD4=\"Français\",AL46,AR46)","v":"Rouleaux support bande"},null,null,null,null,null,null,"Matière",{"$f":"IF(Calculations!H19=\"Basic ou option\",Calculations!E19,Calculations!H19)","v":"304L"},null,null,null,null,null,null,"Revêtement",null,null,null,null,null,null,null,"Ø",{"$f":"IF(Calculations!I9=\"SERIE 2\",'Série 2'!B24,'Séries 3-4-5'!B24)","v":219},null,null,null,null,null,null,"Qté",{"$f":"IF(Calculations!I9=\"SERIE 2\",'Série 2'!B26,'Séries 3-4-5'!B26)","v":3},null,null,null,null,"Rouleaux support bande","Matière","Revêtement",null,"Qté",null,"Belt support roller","Material","Lining",null,"Qty"]
[{"$f":"IF(AD4=\"Français\",AL47,AR47)","v":"Rouleau guidage toile"},null,null,null,null,null,null,"Matière",{"$f":"I44","v":"304L"},null,null,null,null,null,null,"Revêtement",null,null,null,null,null,null,null,"Ø",{"$f":"IF(Calculations!I9=\"SERIE 2\",\"\",'Séries 3-4-5'!B39)","v":""},null,null,null,null,null,null,"Type guidage",{"$f":"IF(Calculations!I9=\"SERIE 2\",\"Pinch rolls\",\"JUD\")","v":"Pinch rolls"},null,null,null,null,"Rouleau guidage toile","Matière","Revêtement",null,"Type guidage",null,"Cloth tracking roller","Material","Lining",null,"Tracking type"]
[{"$f":"IF(AD4=\"Français\",AL48,AR48)","v":"Tambour moteur"},null,null,null,null,null,null,"Matière","Acier S235JR",null,null,null,null,null,null,"Revêtement","SBR",null,null,null,null,null,null,"Ø",{"$f":"Calculations!K9","v":630},null,null,null,null,null,null,"Entrain. Droit/Gauche",null,null,null,null,null,"Tambour moteur","Matière","Revêtement",null,"Entrain. Droit/Gauche",null,"Head pulley","Material","Lining",null,"Motor right/left"]
[{"$f":"IF(AD4=\"Français\",AL49,AR49)","v":"Tambour libre"},null,null,null,null,null,null,"Matière","Acier S235JR",null,null,null,null,null,null,"Revêtement","SBR",null,null,null,null,null,null,"Ø",{"$f":"Y48","v":630},null,null,null,null,null,null,"Revêtement arbres",{"$f":"IF(AD4=\"Français\",\"caoutchouc vulcanisé à chaud\",\"hot vulcanized rubber\")","v":"caoutchouc vulcanisé à chaud"},null,null,null,null,"Tambour libre","Matière","Revêtement",null,"Revêtement arbres",null,"Tail pulley","Material","Lining",null,"Shaft lining"]
[{"$f":"IF(AD4=\"Français\",AL50,AR50)","v":"Rouleaux guidage bande"},null,null,null,null,null,null,null,null,null,null,null,null,null,null,"Qté Galets Simple",null,null,null,null,null,null,null,null,null,null,null,null,null,null,null,{"$f":"IF($AD$4=\"Français\",AP50,AV50)","v":"Qté Galets Double"},null,null,null,null,null,"Rouleaux guidage bande",null,"Qté Galets Simple",null,"Qté Galets Double",null,"Belt tracking roller",null,"Qty of single roller belt tracking",null,"Qty of double roller belt tracking"]
[null,null,null,null,null,null,null,null,null,null,{"$f":"IF(AD4=\"Français\",AM51,AS51)","v":"Rouleau déplisseur toile"},null,null,null,null,null,null,{"$f":"IF(AD4=\"Français\",AN51,AT51)","v":"Paliers Inox"},null,null,null,null,null,{"$f":"IF(AD4=\"Français\",AO51,AU51)","v":"Capotage paliers"},null,null,null,null,null,null,null,{"$f":"IF(AD4=\"Français\",AP51,AV51)","v":"Système graissage paliers"},null,null,null,null,null,null,"Rouleau déplisseur toile","Paliers Inox","Capotage paliers","Système graissage paliers",null,null,"Cloth dewrinkling roller","Stainless steel bearing blocks","Bearing blocks cover","Bearing blocks Lub system"]
[]
[{"$f":"IF(AD4=\"Français\",AL53,AR53)","v":"Spécifique"},null,null,null,null,null,null,null,null,null,null,null,null,null,null,null,null,null,null,null,null,null,null,null,null,null,null,null,null,null,null,null,null,null,null,null,null,"Spécifique",null,null,null,null,null,"Comments"]
[]
[{"$f":"IF(AD4=\"Français\",AL55,AR55)","v":"Groupe de commande"},null,null,null,null,null,null,null,null,null,null,null,null,null,null,null,null,null,null,null,null,null,null,null,null,null,null,null,null,null,null,null,null,null,null,null,null,"Groupe de commande",null,null,null,null,null,"Filter Drive"]
[{"$f":"IF(AD4=\"Français\",AL56,AR56)","v":"Réducteur"},null,null,null,null,null,null,{"$f":"IF(AD4=\"Français\",AM56,AS56)","v":"Puissance Absorbée"},{"$f":"Calculations!N25","v":"0,06 kW"},null,null,"kW",null,null,null,{"$f":"IF(AD4=\"Français\",AN56,AT56)","v":"Couple"},{"$f":"Calculations!N26","v":2319.9441837187496},null,null,"Nm",null,null,null,{"$f":"IF($AD$4=\"Français\",AO56,AU56)","v":"Facteur Service"},1.3,null,null,null,null,null,null,null,null,null,null,null,null,"Réducteur","Puissance Absorbée","Couple","Facteur Service",null,null,"Gear box","Absorbed power","Output torque","Service Factor"]
[null,null,null,null,null,null,null,{"$f":"IF(AD4=\"Français\",AM57,AS57)","v":"Puissance Installée"},{"$f":"Calculations!R25","v":"0,37 kW"},null,null,"kW",null,null,null,null,null,null,null,null,null,null,{"$f":"IF(AD4=\"Français\",AN57,AT57)","v":"Vitesse réducteur arbre lent :"},"Min",{"$f":"Calculations!H26","v":1.6053645966257912E-2},null,null,"rpm",null,null,null,"Max",{"$f":"Calculations!F26","v":0.19264375159509495},null,null,"rpm",null,null,"Puissance Installée","Vitesse réducteur arbre lent :",null,null,null,null,"Installed power","Pulley speed"]
[]
[{"$f":"IF(AD4=\"Français\",AL59,AR59)","v":"Spécifique"},null,null,null,null,null,null,null,null,null,null,null,null,null,null,null,null,null,null,null,null,null,null,null,null,null,null,null,null,null,null,null,null,null,null,null,null,"Spécifique",null,null,null,null,null,"Comments"]
[]
[{"$f":"IF(AD4=\"Français\",AL61,AR61)","v":"Boite à vide"},null,null,null,null,null,null,null,null,null,null,null,null,null,null,null,null,null,null,null,null,null,null,null,null,null,null,null,null,null,null,null,null,null,null,null,null,"Boite à vide",null,null,null,null,null,"Vacuum box"]
[{"$f":"IF($AD$4=\"Français\",AL62,AR62)","v":"Tronçons"},null,null,null,null,null,null,{"$f":"IF(AD4=\"Français\",AM62,AS62)","v":"Matière"},{"$f":"Calculations!H11","v":"304L"},null,null,null,null,null,null,{"$f":"IF(AD4=\"Français\",AN62,AT62)","v":"Section"},{"$f":"IF(Calculations!I9=2,'Série 2'!B46,'Séries 3-4-5'!B46)","v":140},null,null,null,null,null,null,{"$f":"IF(AD4=\"Français\",AO62,AU62)","v":"Revêtement interne"},null,null,null,null,null,null,null,{"$f":"IF(AD4=\"Français\",AP62,AV62)","v":"Double enveloppe"},null,null,null,null,null,"Tronçons","Matière","Section","Revêtement interne","Double enveloppe",null,"Vacuum box sections","Material","Section","Internal lining","Double jacket",null,"Clipper"]
[{"$f":"IF($AD$4=\"Français\",AL63,AR63)","v":"Sorties"},null,null,null,null,null,null,"DN ",{"$f":"Calculations!H29","v":65},null,null,null,null,null,null,{"$f":"IF(AD4=\"Français\",AN63,AT63)","v":"Qté "},{"$f":"Calculations!R36","v":4},null,null,null,null,null,null,{"$f":"IF(AD4=\"Français\",AO63,AU63)","v":"Matière Tuyauteries"},{"$f":"Calculations!E30","v":"304L"},null,null,null,null,null,null,{"$f":"IF(AD4=\"Français\",AP63,AV63)","v":"Nbre de zones"},{"$f":"Calculations!S31","v":3},null,null,null,null,"Sorties",null,"Qté ","Matière Tuyauteries","Nbre de zones",null,"Outlet",null,"Qty","Pipe connect. material","Number of sections",null,"Welded"]
[null,null,null,null,null,null,null,{"$f":"IF(AD4=\"Français\",AM64,AS64)","v":"Matière Courroies"},{"$f":"IF(AD4=\"Français\",\"caoutchouc  + PE\",\"Rubber with PE\")","v":"caoutchouc  + PE"},null,null,null,null,null,null,{"$f":"IF(AD4=\"Français\",AN64,AT64)","v":"Décristallisation"},null,null,null,null,null,null,null,"Lubrification",{"$f":"IF(Calculations!C9>15,\"X\",\"\")","v":""},null,null,null,null,null,null,{"$f":"IF(AD4=\"Français\",AP64,AV64)","v":"Matière réglettes"},"CERAMP",null,null,null,null,null,"Matière Courroies","Décristallisation",null,"Matière réglettes",null,null,"Wear belts material","Decrystallization",null,"Strips material"]
[]
[{"$f":"IF(AD4=\"Français\",AL66,AR66)","v":"Spécifique"},null,null,null,null,null,null,null,null,null,null,null,null,null,null,null,null,null,null,null,null,null,null,null,null,null,null,null,null,null,null,null,null,null,null,null,null,"Spécifique",null,null,null,null,null,"Comments"]
[]
[{"$f":"IF(AD4=\"Français\",AL68,AR68)","v":"Lavage toile & bande et évacuation "},null,null,null,null,null,null,null,null,null,null,null,null,null,null,null,null,null,null,null,null,null,null,null,null,null,null,null,null,null,null,null,null,null,null,null,null,"Lavage toile & bande et évacuation ",null,null,null,null,null,"Cloth&belt wash and discharge"]
[null,null,null,null,null,null,null,null,null,null,null,null,null,null,null,null,null,null,null,null,null,null,null,null,null,null,null,null,null,null,null,null,null,null,null,null,null,null,"Matière nourrice de lavage","Qté débitmètre table","Qté débitmètre BAV","Matière vannes",null,null,"Material washing manifold","Qty flowmeter table","Qty Flowmeter VB","Material valves"]
[null,null,null,null,null,null,null,{"$f":"IF($AD$4=\"Français\",AM69,AS69)","v":"Matière nourrice de lavage"},{"$f":"'OFFRE TECHNIQUE'!R691","v":"304L"},null,null,null,null,null,null,{"$f":"IF($AD$4=\"Français\",AN69,AT69)","v":"Qté débitmètre table"},{"$f":"IF(Calculations!P39=\"Oui\",2,\"\")","v":2},null,null,null,null,null,null,{"$f":"IF($AD$4=\"Français\",AO69,AU69)","v":"Qté débitmètre BAV"},2,null,null,null,null,null,null,{"$f":"IF($AD$4=\"Français\",AP69,AV69)","v":"Matière vannes"},"cast iron",null,null,null,null,"Lavage T&B","Diam. Buses toile","Diam. Buses bande","Débit lavage total","Matière buses",null,"Cloth&Belt wash","DN Cloth Nozzles","DN Belt Nozzles","Total wash flow","Nozzle material",null,1]
[{"$f":"IF($AD$4=\"Français\",AL70,AR70)","v":"Lavage T&B"},null,null,null,null,null,null,{"$f":"IF($AD$4=\"Français\",AM70,AS70)","v":"Diam. Buses toile"},{"$f":"IF(Calculations!D38=\"CM 04 F - dia 1,3\",1.3,IF(Calculations!D38=\"CM 06 F - dia 1,6\",1.6,2))","v":1.3},null,null,null,null,null,null,{"$f":"IF($AD$4=\"Français\",AN70,AT70)","v":"Diam. Buses bande"},{"$f":"IF(Calculations!D40=\"CM 03 F - dia 1,1\",1.1,IF(Calculations!D40=\"CM 04 F - dia 1,3\",1.3,IF(Calculations!D40=\"CM 06 F - dia 1,6\",1.6,2)))","v":1.1000000000000001},null,null,null,null,null,null,{"$f":"IF($AD$4=\"Français\",AO70,AU70)","v":"Débit lavage total"},{"$f":"Calculations!G41","v":2.98},null,null,"m3/h",null,null,null,{"$f":"IF($AD$4=\"Français\",AP70,AV70)","v":"Matière buses"},{"$f":"'OFFRE TECHNIQUE'!R647","v":"PVDF"},null,null,null,null,"Lubrification BAV","Débit mini","Débit maxi",null,null,null,"VB Lubrification","Min. Flow","Max. Flow",null,null,null,2]
[{"$f":"IF($AD$4=\"Français\",AL71,AR71)","v":"Lubrification BAV"},null,null,null,null,null,null,"Débit mini",{"$f":"Calculations!C41","v":20},null,null,"l/h",null,null,null,"Débit maxi",{"$f":"Calculations!E41","v":80},null,null,"l/h",null,null,null,null,null,null,null,null,null,null,null,null,null,null,null,null,null,"Courroies de table","Débit Lavage","Diam. Buses",null,null,null,"Table Wear Belt","Wash flow","DN nozzles",null,null,null,3]
["Courroies de table",null,null,null,null,null,null,"Débit Lavage",{"$f":"IF(Calculations!P39=\"Oui\",Calculations!Q39,\"\")","v":55.2},null,null,"l/h",null,null,null,"Diam. Buses",null,null,null,null,null,null,null,"Débit Lubrification",{"$f":"IF(Calculations!P40=\"Oui\",Calculations!Q40,\"\")","v":""},null,null,"l/h",null,null,null,null,null,null,null,null,null,null,"Matière bacs de récupération eaux","Grattoir fixe","Grattoir ressorts","Grattoir contre poids",null,null,"Water recovery tank material","Fixed scraper","Spring scraper","Counterweight scraper",null,4]
[null,null,null,null,null,null,null,"Matière bacs de récupération eaux",{"$f":"IF('Offre NEW'!H41=1,'Offre NEW'!D41,\"\")","v":""},null,null,null,null,null,{"$f":"IF($AD$4=\"Français\",AN73,AT73)","v":"Grattoir fixe"},null,null,null,null,{"$f":"IF($AD$4=\"Français\",AO73,AU73)","v":"Grattoir ressorts"},null,null,null,null,null,{"$f":"IF($AD$4=\"Français\",AP73,AV73)","v":"Grattoir contre poids"},null,null,null,null,null,{"$f":"IF($AD$4=\"Français\",AP74,AV74)","v":"Matière lame grattoir"},{"$f":"'OFFRE TECHNIQUE'!R666","v":"Polyurethane"},null,null,null,null,null,"Matière trémie décharge","Matières rampes",null,"Matière lame grattoir",null,null,"Discharge hopper material","Ramps material",null,"Scraper blade material"]
[null,null,null,null,null,null,null,"Matière trémie décharge",{"$f":"'OFFRE TECHNIQUE'!R665","v":"304L"},null,null,null,null,null,null,"Matières rampes",{"$f":"IF(Calculations!H18=\"Basic ou option\",Calculations!E18,H18)","v":"304L"}]
[]
[{"$f":"IF($AD$4=\"Français\",AL77,AR77)","v":"Spécifique"},null,null,null,null,null,null,null,null,null,null,null,null,null,null,null,null,null,null,null,null,null,null,null,null,null,null,null,null,null,null,null,null,null,null,null,null,"Spécifique",null,null,null,null,null,"Remarks"]
[]
[{"$f":"IF($AD$4=\"Français\",AL79,AR79)","v":"Accessoires supérieurs"},null,null,null,null,null,null,null,null,null,null,null,null,null,null,null,null,null,null,null,null,null,null,null,null,null,null,null,null,null,null,null,null,null,null,null,null,"Accessoires supérieurs",null,null,null,null,null,"Process equipment"]
[{"$f":"IF($AD$4=\"Français\",AL80,AR80)","v":"Barrage d'entrée"},null,null,null,null,null,null,{"$f":"IF($AD$4=\"Français\",AM80,AS80)","v":"Matière bavette"},"Rubber",null,null,null,null,null,null,{"$f":"IF($AD$4=\"Français\",AN80,AT80)","v":"Matière support"},{"$f":"Calculations!E11","v":"304L"},null,null,null,null,null,null,null,null,null,null,{"$f":"IF($AD$4=\"Français\",AP80,AV80)","v":"Bavettes latérales zone alimentation"},null,null,null,null,null,null,null,null,null,"Barrage d'entrée","Matière bavette","Matière support",null,"Bavettes latérales zone alimentation",null,"Entrance dam","Dam material","Support Material",null,"Feeding zone Side Dams"]
[{"$f":"IF($AD$4=\"Français\",AL81,AR81)","v":"Alimentateur"},null,null,null,null,null,null,{"$f":"IF($AD$4=\"Français\",AM81,AS81)","v":"Type"},{"$f":"Calculations!Q12","v":"QDC"},null,null,null,null,null,null,{"$f":"IF($AD$4=\"Français\",AN81,AT81)","v":"Qté "},1,null,null,null,"DN ",{"$f":"Calculations!M27","v":9.8417517064444002},null,null,null,null,null,{"$f":"IF($AD$4=\"Français\",AP81,AV81)","v":"Matière corps"},{"$f":"Calculations!E11","v":"304L"},null,null,null,null,null,null,null,null,"Alimentateur","Type","Qté ",null,"Matière corps",null,"Feeder","Type","Qty",null,"Body Material"]
[null,null,null,null,null,null,null,"Collecteur alimentation",null,null,null,null,null,null,null,{"$f":"IF($AD$4=\"Français\",AN82,AT82)","v":"Gouttières latérales zone alim."},null,null,null,null,null,null,null,null,null,null,null,{"$f":"IF($AD$4=\"Français\",AP82,AV82)","v":"Matière revêtement interne alimentateur"},null,null,null,null,null,null,null,null,null,null,"Collecteur alimentation","Gouttières latérales zone alim.",null,"Matière revêtement interne alimentateur",null,null,"Manifold feeding","Feed. Zone side gutters",null,"Feeder coating material"]
[null,null,null,null,null,null,null,"Spécifique",null,null,null,null,null,null,null,null,null,null,null,null,null,null,null,null,null,null,null,null,null,null,null,null,null,null,null,null,null,null,"Spécifique",null,null,null,null,null,"Remarks"]
[]
["Goulottes de lavage",null,null,null,null,null,null,"Type",{"$f":"Calculations!Q13","v":"OVER"},null,null,null,null,null,null,{"$f":"IF($AD$4=\"Français\",AN85,AT85)","v":"Qté "},{"$f":"Calculations!R11","v":3},null,null,null,null,{"$f":"IF($AD$4=\"Français\",AO85,AU85)","v":"Chariot"},null,null,null,null,null,null,null,null,null,null,null,null,null,null,null,"Goulottes de lavage","Type","Qté ","Chariot",null,null,"Washing feeders","Type","Qty","Trolley"]
[null,null,null,null,null,null,null,"Matière",{"$f":"IF(Calculations!H14=\"Basic ou option\",Calculations!E14,H14)","v":"304L"},null,null,null,null,null,{"$f":"IF($AD$4=\"Français\",AN86,AT86)","v":"DN Goulottes:"},"DN1",{"$f":"Calculations!S28","v":20},null,null,null,"DN2",{"$f":"IF(Q85=1,\"\",Q86)","v":20},null,null,null,null,"DN3",{"$f":"IF(Q85=1,\"\",IF(Q85=2,\"\",Q86))","v":20},null,null,null,"DN4",{"$f":"IF(Q85=4,Q86,\"\")","v":""},null,null,null,null,null,"Matière","DN Goulottes:",null,null,null,null,"Material","DN feed:"]
[]
[null,null,null,null,null,null,null,"Spécifique",null,null,null,null,null,null,null,null,null,null,null,null,null,null,null,null,null,null,null,null,null,null,null,null,null,null,null,null,null,null,"Spécifique",null,null,null,null,null,"Remarks"]
[]
["Barrage pendulaire",null,null,null,null,null,null,"Matière bavette",{"$f":"'OFFRE TECHNIQUE'!R774","v":"Rubber"},null,null,null,null,null,null,{"$f":"IF($AD$4=\"Français\",AN90,AT90)","v":"Matière support"},{"$f":"'OFFRE TECHNIQUE'!R775","v":"304L"},null,null,null,{"$f":"IF($AD$4=\"Français\",AO90,AU90)","v":"Qté "},null,null,null,null,null,null,null,null,null,null,null,null,null,null,null,null,"Barrage pendulaire","Matière bavette","Matière support","Qté ",null,null,"Pendular dam","Dam Material","Support Material","Qty"]
["Rouleau presseur",null,null,null,null,null,null,"Matière rlx",null,null,null,null,null,null,null,{"$f":"IF($AD$4=\"Français\",AN91,AT91)","v":"Matière support"},null,null,null,null,"Vmin",null,null,null,"rpm",null,"Vmax",null,null,null,"rpm","P",null,null,null,"kW",null,"Rouleau presseur","Matière rlx","Matière support",null,null,null,"Pressing roller","Roller Material","Support Material"]
["Rouleau batteur",null,null,null,null,null,null,"Matière rlx",null,null,null,null,null,null,null,"Matière lanières",null,null,null,null,"Vmin",null,null,null,"rpm",null,"Vmax",null,null,null,"rpm","P",null,null,null,"kW",null,"Rouleau batteur","Matière rlx","Matière lanières",null,null,null,"Beating roller","Roller Material","Straps Material"]
["Caisson vapeur",null,null,null,null,null,null,{"$f":"IF($AD$4=\"Français\",AM93,AS93)","v":"Matière"},null,null,null,null,null,null,null,{"$f":"IF($AD$4=\"Français\",AN93,AT93)","v":"Matière support"},null,null,null,null,null,null,null,null,null,null,null,null,null,null,null,null,null,null,null,null,null,"Caisson vapeur","Matière","Matière support",null,null,null,"Steam hood","Material","Support Material"]
[]
["Spécifique",null,null,null,null,null,null,null,null,null,null,null,null,null,null,null,null,null,null,null,null,null,null,null,null,null,null,null,null,null,null,null,null,null,null,null,null,"Spécifique",null,null,null,null,null,"Remarks"]
[]
["Table support bande ",null,null,null,null,null,null,null,null,null,null,null,null,null,null,null,null,null,null,null,null,null,null,null,null,null,null,null,null,null,null,null,null,null,null,null,null,"Table support bande ",null,"Type Réglettes :","Plates",null,null,"Belt support table",null,"Sliding strips Type:","Plates"]
[null,null,null,null,null,null,null,{"$f":"IF($AD$4=\"Français\",AM98,AS98)","v":"Matière Fers"},null,null,null,null,null,null,null,{"$f":"IF($AD$4=\"Français\",AN98,AT98)","v":"Matière Réglettes"},"HMWPE",null,null,null,null,null,{"$f":"IF($AD$4=\"Français\",AN97,AT97)","v":"Type Réglettes :"},null,{"$f":"IF($AD$4=\"Français\",AO97,AU97)","v":"Plates"},null,null,null,{"$f":"IF($AD$4=\"Français\",AO98,AU98)","v":"Epaulement"},null,null,null,null,{"$f":"IF($AD$4=\"Français\",AP98,AV98)","v":"Lubrification"},null,null,null,null,"Matière Fers","Matière Réglettes","Epaulement","Lubrification",null,null,"Support irons material","Sliding strips Material","Support","Lubrification"]
[null,null,null,null,null,null,null,{"$f":"IF($AD$4=\"Français\",AM99,AS99)","v":"Table à galets"},null,null,null,null,null,null,null,{"$f":"IF($AD$4=\"Français\",AN99,AT99)","v":"Dim. courroies"},{"$f":"Calculations!R77","v":"30 mm x 5 mm"},null,null,null,null,null,null,null,null,null,null,null,{"$f":"IF($AD$4=\"Français\",AO99,AU99)","v":"Contre poids tension courroies"},null,null,null,null,null,null,null,null,null,"Table à galets","Dim. courroies","Contre poids tension courroies",null,null,null,"Rolling table","Support Belt Dim.","Support belt tensionning counterweight"]
[]
["Spécifique",null,null,null,null,null,null,null,null,null,null,null,null,null,null,null,null,null,null,null,null,null,null,null,null,null,null,null,null,null,null,null,null,null,null,null,null,"Spécifique",null,null,null,null,null,"Remarks"]
[]
["Collecteur à filtrats ",null,null,null,null,null,null,null,null,null,null,null,null,null,null,null,null,null,null,null,null,null,{"$f":"IF($AD$4=\"Français\",AO103,AU103)","v":"DN de Sorties"},null,null,null,null,null,null,null,null,null,null,null,null,null,null,"Collecteur à filtrats ",null,null,"DN de Sorties",null,null,"Filtrate manifold",null,null,"Outside pipe DN"]
[null,null,null,null,null,null,null,{"$f":"IF($AD$4=\"Français\",AM104,AS104)","v":"Matière"},{"$f":"IF(N104=0,\"\",'Offre NEW'!D27)","v":"304L"},null,null,null,{"$f":"IF($AD$4=\"Français\",AN104,AT104)","v":"Qté "},{"$f":"'Offre NEW'!H27","v":1},null,null,"DN1",{"$f":"IF(Calculations!S31>0,Calculations!G44,\"\")","v":65},null,null,null,"DN2",{"$f":"IF(Calculations!S31>1,Calculations!G44,\"\")","v":65},null,null,null,"DN3",{"$f":"IF(Calculations!S31>2,Calculations!G44,\"\")","v":65},null,null,null,"DN4",{"$f":"IF(Calculations!S31>3,Calculations!G44,\"\")","v":""},null,null,null,null,null,"Matière","Qté ",null,null,null,null,"Material","Qty"]
["Supportage collecteurs",null,null,null,null,null,null,null,{"$f":"IF($AD$4=\"Français\",AM105,AS105)","v":"Sur filtre"},null,null,null,null,{"$f":"IF($AD$4=\"Français\",AN105,AT105)","v":"Indépendant"},null,null,null,null,null,null,null,{"$f":"IF($AD$4=\"Français\",AO105,AU105)","v":"Matière supports"},null,null,null,null,null,null,null,{"$f":"IF($AD$4=\"Français\",AP105,AV105)","v":"Chevilles scellement"},null,null,null,null,null,null,null,"Supportage collecteurs","Sur filtre","Indépendant","Matière supports","Chevilles scellement",null,"Manifold Support","On Filter","Independant","Support Material","Anchor bolts"]
[]
["Spécifique",null,null,null,null,null,null,null,null,null,null,null,null,null,null,null,null,null,null,null,null,null,null,null,null,null,null,null,null,null,null,null,null,null,null,null,null,"Spécifique",null,null,null,null,null,"Remarks"]
[]
["Hotte ",null,null,null,null,null,null,null,null,null,null,null,null,null,null,null,null,null,null,null,null,null,null,null,null,null,null,null,null,null,null,null,null,null,null,null,null,"Hotte ",null,null,null,null,null,"Fume hood"]
[null,null,null,null,null,null,null,{"$f":"IF($AD$4=\"Français\",AM110,AS110)","v":"Matière hotte"},null,null,null,null,null,null,null,null,null,null,{"$f":"IF($AD$4=\"Français\",AN110,AT110)","v":"Ouvertures latérales souples"},null,null,null,null,null,null,null,{"$f":"IF($AD$4=\"Français\",AO110,AU110)","v":"Ouvertures latérales rigides"},null,null,null,null,null,null,null,null,null,null,null,"Matière hotte","Ouvertures latérales souples","Ouvertures latérales rigides",null,null,null,"Hood material","Flexible side widows","Rigid side windows"]
[]
["Spécifique",null,null,null,null,null,null,null,null,null,null,null,null,null,null,null,null,null,null,null,null,null,null,null,null,null,null,null,null,null,null,null,null,null,null,null,null,"Spécifique",null,null,null,null,null,"Remarks"]
[]
["Récupération des égoutures ",null,null,null,null,null,null,null,null,null,null,null,null,null,null,null,null,null,null,null,null,null,null,null,null,null,null,null,null,null,null,null,null,null,null,null,null,"Récupération des égoutures ",null,null,null,null,null,"Drip pan"]
[null,null,null,null,null,null,null,{"$f":"IF($AD$4=\"Français\",AM115,AS115)","v":"Matière"},null,null,null,null,null,null,null,{"$f":"IF($AD$4=\"Français\",AN115,AT115)","v":"DN sortie"},null,null,null,null,null,null,null,null,null,null,null,null,null,null,null,null,null,null,null,null,null,null,"Matière","DN sortie",null,null,null,null,"Material","Outside pipe DN"]
[]
["Spécifique",null,null,null,null,null,null,null,null,null,null,null,null,null,null,null,null,null,null,null,null,null,null,null,null,null,null,null,null,null,null,null,null,null,null,null,null,"Spécifique",null,null,null,null,null,"Remarks"]
[]
["Protections grillagées ",null,null,null,null,null,null,null,null,null,null,null,null,null,null,null,null,null,null,null,null,null,null,null,null,null,null,null,null,null,null,null,null,null,null,null,null,"Protections grillagées ",null,null,null,null,null,"Safety guards"]
[null,null,null,null,null,null,null,{"$f":"IF($AD$4=\"Français\",AM120,AS120)","v":"Matière grilles"},"Rèsine",null,null,null,null,null,null,{"$f":"IF($AD$4=\"Français\",AN120,AT120)","v":"Matière supports"},"316L",null,null,null,null,null,null,null,null,null,{"$f":"IF($AD$4=\"Français\",AO120,AU120)","v":"Langue texte panneaux sécurité"},null,null,null,null,null,null,null,null,null,null,null,"Matière grilles","Matière supports","Langue texte panneaux sécurité",null,null,null,"Guards Material","Support material","Security information panel language"]
[]
["Spécifique",null,null,null,null,null,null,null,null,null,null,null,null,null,null,null,null,null,null,null,null,null,null,null,null,null,null,null,null,null,null,null,null,null,null,null,null,"Spécifique",null,null,null,null,null,"Remarks"]
[]
["Outillage spécial ",null,null,null,null,null,null,null,null,null,null,null,null,null,null,null,null,null,null,null,null,null,null,null,null,null,null,null,null,null,null,null,null,null,null,null,null,"Outillage spécial ",null,null,null,null,null,"Special tools"]
[null,null,null,null,null,null,null,{"$f":"IF($AD$4=\"Français\",AM125,AS125)","v":"Machine ultrasons soudure toile"},null,null,null,null,null,null,{"$f":"IF($AD$4=\"Français\",AN125,AT125)","v":"Fer à découper toile"},null,null,null,{"$f":"IF($AD$4=\"Français\",AO125,AU125)","v":"Tension"},null,null,null,"V",null,null,null,null,{"$f":"IF($AD$4=\"Français\",AP125,AV125)","v":"Fer U de soudage toile"},null,null,null,null,null,null,null,null,null,null,"Machine ultrasons soudure toile","Fer à découper toile","Tension","Fer U de soudage toile",null,null,"Ultrasonic cloth welding machine","Cutting cloth iron","Voltage","U Iron welding cloth"]
[null,null,null,null,null,null,null,{"$f":"IF($AD$4=\"Français\",AM126,AS126)","v":"Rouleau tendeur"},null,null,null,null,null,null,{"$f":"IF($AD$4=\"Français\",AN126,AT126)","v":"Matière rouleau tendeur"},null,null,null,null,null,null,null,null,null,null,null,null,{"$f":"IF($AD$4=\"Français\",AP126,AV126)","v":"Outillage boite à vide"},null,null,null,null,null,null,null,null,null,null,"Rouleau tendeur","Matière rouleau tendeur",null,"Outillage boite à vide",null,null,"Tensionning rollers","Tensionning roller material",null,"Vacuum box tools"]
[]
["Spécifique",null,null,null,null,null,null,null,null,null,null,null,null,null,null,null,null,null,null,null,null,null,null,null,null,null,null,null,null,null,null,null,null,null,null,null,null,"Spécifique",null,null,null,null,null,"Remarks"]
[]
["Ballons Séparateurs ",null,null,null,null,null,null,null,null,null,null,null,null,null,null,null,null,null,null,null,null,null,null,null,null,null,null,null,null,null,null,null,null,null,null,null,null,"Ballons Séparateurs ",null,null,null,null,null,"Filtrate Receivers"]
["Ballon N°1",null,null,null,null,null,null,{"$f":"IF($AD$4=\"Français\",AM131,AS131)","v":"Matière"},{"$f":"Calculations!C44","v":"304L"},null,null,null,"Ø",{"$f":"Calculations!E44","v":500},null,null,null,{"$f":"IF($AD$4=\"Français\",AN131,AT131)","v":"Type"},{"$f":"Calculations!D44","v":"krogh"},null,null,null,null,null,{"$f":"IF($AD$4=\"Français\",AO131,AU131)","v":"Pieds support"},null,null,null,null,null,null,{"$f":"IF($AD$4=\"Français\",AP131,AV131)","v":"Matière pieds support"},null,null,null,null,null,"Ballon N°1","Matière","Type","Pieds support","Matière pieds support",null,"Filtrate receiver N°1","Material","Type","Supporting legs","Supporting legs Material"]
[null,null,null,null,null,null,null,{"$f":"IF($AD$4=\"Français\",AM132,AS132)","v":"Qté Détecteurs de niveau"},null,null,null,null,null,null,null,null,null,{"$f":"IF($AD$4=\"Français\",AN132,AT132)","v":"Transmetteur niveau différentiel"},null,null,null,null,null,null,{"$f":"IF($AD$4=\"Français\",AO132,AU132)","v":"Transmetteur pression"},null,null,null,null,null,null,{"$f":"IF($AD$4=\"Français\",AP132,AV132)","v":"Chevilles scellement"},null,null,null,null,null,null,"Qté Détecteurs de niveau","Transmetteur niveau différentiel","Transmetteur pression","Chevilles scellement",null,null,"Level Detector Qty","Differential Level transmitter","Pressure Transmitter","Anchor bolts"]
[]
["Ballon N°2",null,null,null,null,null,null,"Matière",{"$f":"IF(1<Calculations!$S$31,'Project Specs'!I131:K131,\"\")","v":"304L"},null,null,null,"Ø",{"$f":"IF(1<Calculations!$S$31,'Project Specs'!N131:P131,\"\")","v":500},null,null,null,{"$f":"IF($AD$4=\"Français\",AN134,AT134)","v":"Type"},{"$f":"IF(1<Calculations!$S$31,'Project Specs'!S131:U131,\"\")","v":"krogh"},null,null,null,null,null,"Pieds support",null,null,null,null,null,null,"Matière pieds support",null,null,null,null,null,"Ballon N°2","Matière","Type","Pieds support","Matière pieds support",null,"Filtrate receiver N°2","Material","Type","Supporting legs","Supporting legs Material"]
[null,null,null,null,null,null,null,"Qté Détécteurs de niveau",null,null,null,null,null,null,null,null,null,{"$f":"IF($AD$4=\"Français\",AN135,AT135)","v":"Transmetteur niveau différentiel"},null,null,null,null,null,null,"Transmetteur pression",null,null,null,null,null,null,"Chevilles scellement",null,null,null,null,null,null,"Qté Détécteurs de niveau","Transmetteur niveau différentiel","Transmetteur pression","Chevilles scellement",null,null,"Level Detector Qty","Differential Level transmitter","Pressure Transmitter","Anchor bolts"]
[]
["Ballon N°3",null,null,null,null,null,null,"Matière",{"$f":"IF(2<Calculations!$S$31,'Project Specs'!I134:K134,\"\")","v":"304L"},null,null,null,"Ø",{"$f":"IF(2<Calculations!$S$31,'Project Specs'!N134:P134,\"\")","v":500},null,null,null,{"$f":"IF($AD$4=\"Français\",AN137,AT137)","v":"Type"},{"$f":"IF(2<Calculations!$S$31,'Project Specs'!S134:U134,\"\")","v":"krogh"},null,null,null,null,null,"Pieds support",null,null,null,null,null,null,"Matière pieds support",null,null,null,null,null,"Ballon N°3","Matière","Type","Pieds support","Matière pieds support",null,"Filtrate receiver N°3","Material","Type","Supporting legs","Supporting legs Material"]
[null,null,null,null,null,null,null,"Qté Détécteurs de niveau",null,null,null,null,null,null,null,null,null,{"$f":"IF($AD$4=\"Français\",AN138,AT138)","v":"Transmetteur niveau différentiel"},null,null,null,null,null,null,"Transmetteur pression",null,null,null,null,null,null,"Chevilles scellement",null,null,null,null,null,null,"Qté Détécteurs de niveau","Transmetteur niveau différentiel","Transmetteur pression","Chevilles scellement",null,null,"Level Detector Qty","Differential Level transmitter","Pressure Transmitter","Anchor bolts"]
[]
["Ballon N°4",null,null,null,null,null,null,"Matière",{"$f":"IF(3<Calculations!$S$31,'Project Specs'!I137:K137,\"\")","v":""},null,null,null,"Ø",{"$f":"IF(3<Calculations!$S$31,'Project Specs'!N137:P137,\"\")","v":""},null,null,null,{"$f":"IF($AD$4=\"Français\",AN140,AT140)","v":"Type"},{"$f":"IF(3<Calculations!$S$31,'Project Specs'!S137:U137,\"\")","v":""},null,null,null,null,null,"Pieds support",null,null,null,null,null,null,"Matière pieds support",null,null,null,null,null,"Ballon N°4","Matière","Type","Pieds support","Matière pieds support",null,"Filtrate receiver N°4","Material","Type","Supporting legs","Supporting legs Material"]
[null,null,null,null,null,null,null,{"$f":"IF($AD$4=\"Français\",AM141,AS141)","v":"Qté Détécteurs de niveau"},null,null,null,null,null,null,null,null,null,{"$f":"IF($AD$4=\"Français\",AN141,AT141)","v":"Transmetteur niveau différentiel"},null,null,null,null,null,null,{"$f":"IF($AD$4=\"Français\",AO141,AU141)","v":"Transmetteur pression"},null,null,null,null,null,null,{"$f":"IF($AD$4=\"Français\",AP141,AV141)","v":"Chevilles scellement"},null,null,null,null,null,null,"Qté Détécteurs de niveau","Transmetteur niveau différentiel","Transmetteur pression","Chevilles scellement",null,null,"Level Detector Qty","Differential Level transmitter","Pressure Transmitter","Anchor bolts"]
[]
[]
["Spécifique",null,null,null,null,null,null,null,null,null,null,null,null,null,null,null,null,null,null,null,null,null,null,null,null,null,null,null,null,null,null,null,null,null,null,null,null,"Spécifique",null,null,null,null,null,"Remarks"]
[]
[{"$f":"IF($AD$4=\"Français\",AL146,AR146)","v":"Cyclone"},null,null,null,null,null,null,null,null,null,null,null,null,null,null,null,null,null,null,null,null,null,null,null,null,null,null,null,null,null,null,null,null,null,null,null,null,"Cyclone",null,null,null,null,null,"Cyclone"]
[null,null,null,null,null,null,null,{"$f":"IF($AD$4=\"Français\",AM147,AS147)","v":"Matière"},{"$f":"IF(Calculations!C46=\"Exclu\",\"\",Calculations!C46)","v":"304L"},null,null,null,"Ø",{"$f":"IF(I147=\"\",\"\",Calculations!E46)","v":200},null,null,null,null,null,null,{"$f":"IF($AD$4=\"Français\",AN147,AT147)","v":"Chevilles scellement"},null,null,null,{"$f":"IF($AD$4=\"Français\",AO147,AU147)","v":"Pieds support"},null,null,null,null,null,null,{"$f":"IF($AD$4=\"Français\",AP147,AV147)","v":"Matière pieds support"},null,null,null,null,null,null,"Matière","Chevilles scellement","Pieds support","Matière pieds support",null,null,"Material","Anchor bolts","Supporting legs","Supporting legs Material"]
[]
["Spécifique",null,null,null,null,null,null,null,null,null,null,null,null,null,null,null,null,null,null,null,null,null,null,null,null,null,null,null,null,null,null,null,null,null,null,null,null,"Spécifique",null,null,null,null,null,"Remarks"]
[]
["Laveur de gaz ",null,null,null,null,null,null,null,null,null,null,null,null,null,null,null,null,null,null,null,null,null,null,null,null,null,null,null,null,null,null,null,null,null,null,null,null,"Laveur de gaz ",null,null,null,null,null,"Scrubber"]
[null,null,null,null,null,null,null,{"$f":"IF($AD$4=\"Français\",AM152,AS152)","v":"Matière ballon"},{"$f":"IF(Calculations!C48=\"Exclu\",\"\",Calculations!C48)","v":""},null,null,null,"Ø",{"$f":"IF(I152=\"\",\"\",Calculations!E48)","v":""},null,null,null,{"$f":"IF($AD$4=\"Français\",AN152,AT152)","v":"DN buses"},null,null,null,null,null,null,{"$f":"IF($AD$4=\"Français\",AO152,AU152)","v":"Pieds support"},null,null,null,null,null,null,{"$f":"IF($AD$4=\"Français\",AP152,AV152)","v":"Matière pieds support"},null,null,null,null,null,null,"Matière ballon","DN buses","Pieds support","Matière pieds support",null,null,"Filtrate receiver Material","Nozzles DN","Supporting legs","Supporting legs Material"]
[null,null,null,null,null,null,null,null,null,null,null,null,null,null,null,null,null,{"$f":"IF($AD$4=\"Français\",AN153,AT153)","v":"Matière buses"},{"$f":"I152","v":""},null,null,null,null,null,null,null,null,null,null,null,null,{"$f":"IF($AD$4=\"Français\",AP153,AV153)","v":"Chevilles scellement"},null,null,null,null,null,null,null,"Matière buses",null,"Chevilles scellement",null,null,null,"Nozzles Material",null,"Anchor bolts"]
[]
["Spécifique",null,null,null,null,null,null,null,null,null,null,null,null,null,null,null,null,null,null,null,null,null,null,null,null,null,null,null,null,null,null,null,null,null,null,null,null,"Spécifique",null,null,null,null,null,"Remarks"]
[]
["Bac récupération lavage toile & bande ",null,null,null,null,null,null,null,null,null,null,null,null,null,null,null,null,null,null,null,null,null,null,null,null,null,null,null,null,null,null,null,null,null,null,null,null,"Bac récupération lavage toile & bande ",null,null,"Fond conique",null,null,"Cloth&belt wash water tank",null,null,"Conical tank"]
[null,null,null,null,null,null,null,{"$f":"IF($AD$4=\"Français\",AM158,AS158)","v":"Matière"},{"$f":"IF('Offre NEW'!H41>0,'Offre NEW'!D41,\"\")","v":""},null,null,null,"Ø",null,null,null,null,{"$f":"IF($AD$4=\"Français\",AN158,AT158)","v":"Ht"},null,null,null,"mm",null,null,{"$f":"IF($AD$4=\"Français\",AO158,AU158)","v":"Fond plat"},null,null,null,{"$f":"IF($AD$4=\"Français\",AO157,AU157)","v":"Fond conique"},null,null,null,{"$f":"IF($AD$4=\"Français\",AP158,AV158)","v":"Couvercle"},null,null,null,null,null,"Matière","Ht","Fond plat","Couvercle",null,null,"Material","Height","Circular tank","Cover"]
[null,null,null,null,null,null,null,{"$f":"IF($AD$4=\"Français\",AM159,AS159)","v":"Qté Détécteurs de niveau"},null,null,null,null,null,null,null,null,null,{"$f":"IF($AD$4=\"Français\",AN159,AT159)","v":"Transmetteur niveau"},null,null,null,null,null,null,{"$f":"IF($AD$4=\"Français\",AO159,AU159)","v":"EV Appoint d'eau"},null,null,null,null,null,null,null,{"$f":"IF($AD$4=\"Français\",AP159,AV159)","v":"Vanne flotteur Appoint d'eau"},null,null,null,null,null,"Qté Détécteurs de niveau","Transmetteur niveau","EV Appoint d'eau","Vanne flotteur Appoint d'eau",null,null,"Level detector qty","Level transmitter","Addition of water Solenoid valve","Addition of water float valve"]
[null,null,null,null,null,null,null,null,null,null,null,null,null,null,null,null,null,"Bac agité",null,null,null,null,null,null,null,null,null,null,null,null,null,null,{"$f":"IF($AD$4=\"Français\",AP160,AV160)","v":"Chevilles scellement"},null,null,null,null,null,null,"Bac agité",null,"Chevilles scellement",null,null,null,"Agitator in tank",null,"Anchor bolts"]
[]
["Spécifique",null,null,null,null,null,null,null,null,null,null,null,null,null,null,null,null,null,null,null,null,null,null,null,null,null,null,null,null,null,null,null,null,null,null,null,null,"Spécifique",null,null,null,null,null,"Remarks"]
[]
["Bac récupération eau pompe à vide ",null,null,null,null,null,null,null,null,null,null,null,null,null,null,null,null,null,null,null,null,null,null,null,null,null,null,null,null,null,null,null,null,null,null,null,null,"Bac récupération eau pompe à vide ",null,null,null,null,null,"Vaccum pump collecting tank"]
[null,null,null,null,null,null,null,{"$f":"IF($AD$4=\"Français\",AM165,AS165)","v":"Matière"},{"$f":"IF('Offre NEW'!H40>0,'Offre NEW'!D40,\"\")","v":""},null,null,null,"Ø",{"$f":"IF(I165=\"\",\"\",'Offre NEW'!E40)","v":""},null,null,null,{"$f":"IF($AD$4=\"Français\",AN165,AT165)","v":"Ht"},null,null,null,"mm",null,null,null,null,null,null,{"$f":"IF($AD$4=\"Français\",AO165,AU165)","v":"Chevilles scellement"},null,null,null,{"$f":"IF($AD$4=\"Français\",AP165,AV165)","v":"Couvercle"},null,null,null,null,null,"Matière","Ht","Chevilles scellement","Couvercle",null,null,"Material","Height","Anchor bolts","Cover"]
[null,null,null,null,null,null,null,{"$f":"IF($AD$4=\"Français\",AM166,AS166)","v":"Qté Détecteurs de niveau"},null,null,null,null,null,null,null,null,null,{"$f":"IF($AD$4=\"Français\",AN166,AT166)","v":"Transmetteur niveau"},null,null,null,null,null,null,{"$f":"IF($AD$4=\"Français\",AO166,AU166)","v":"EV Appoint d'eau"},null,null,null,null,null,null,null,{"$f":"IF($AD$4=\"Français\",AP166,AV166)","v":"Vanne flotteur Appoint d'eau"},null,null,null,null,null,"Qté Détecteurs de niveau","Transmetteur niveau","EV Appoint d'eau","Vanne flotteur Appoint d'eau",null,null,"Level detector qty","Level transmitter","Addition of water Solenoid valve","Addition of water float valve"]
[]
["Spécifique",null,null,null,null,null,null,null,null,null,null,null,null,null,null,null,null,null,null,null,null,null,null,null,null,null,null,null,null,null,null,null,null,null,null,null,null,"Spécifique",null,null,null,null,null,"Remarks"]
[]
["Bac de pied barométrique ",null,null,null,null,null,null,null,null,null,null,null,null,null,null,null,null,null,null,null,null,null,null,null,null,null,null,null,null,null,null,null,null,null,null,null,null,"Bac de pied barométrique ",null,null,null,null,null,"Barometric filtrate seal tank"]
[null,null,null,null,null,null,null,{"$f":"IF($AD$4=\"Français\",AM171,AS171)","v":"Matière"},{"$f":"IF(Calculations!D44=\"barometrique\",I131,\"\")","v":""},null,null,null,"Ø",{"$f":"IF(I171=\"\",\"\",'Offre NEW'!E36)","v":""},null,null,null,{"$f":"IF($AD$4=\"Français\",AN171,AT171)","v":"Ht"},null,null,null,"mm",null,null,null,null,{"$f":"IF($AD$4=\"Français\",AO171,AU171)","v":"Qté bacs"},{"$f":"IF(Calculations!W44=\"barometrique\",Calculations!S31,\"0\")","v":"0"},null,null,null,null,null,null,null,null,null,null,"Matière","Ht","Qté bacs",null,null,null,"Material","Height","Tank Qty"]
[null,null,null,null,null,null,null,{"$f":"IF($AD$4=\"Français\",AM172,AS172)","v":"Qté Détecteurs de niveau"},null,null,null,null,null,null,null,null,null,{"$f":"IF($AD$4=\"Français\",AN172,AT172)","v":"Transmetteur niveau"},null,null,null,null,null,null,null,null,null,null,{"$f":"IF($AD$4=\"Français\",AO172,AU172)","v":"Chevilles scellement"},null,null,null,{"$f":"IF($AD$4=\"Français\",AP172,AV172)","v":"Couvercle"},null,null,null,null,null,"Qté Détecteurs de niveau","Transmetteur niveau","Chevilles scellement","Couvercle",null,null,"Level detector qty","Level transmitter","Anchor bolts","Cover"]
[]
["Spécifique",null,null,null,null,null,null,null,null,null,null,null,null,null,null,null,null,null,null,null,null,null,null,null,null,null,null,null,null,null,null,null,null,null,null,null,null,"Spécifique",null,null,null,null,null,"Remarks"]
[]
["Pompe à vide ",null,null,null,null,null,null,null,null,null,null,null,null,null,null,null,null,null,null,null,null,null,null,null,null,null,null,null,null,null,null,null,null,null,null,null,null,"Pompe à vide ",null,null,null,null,null,"Vacuum pump"]
["Pompe",null,null,null,null,null,null,{"$f":"IF($AD$4=\"Français\",AM177,AS177)","v":"Débit air"},{"$f":"IF('Offre NEW'!H49>0,Calculations!N11,\"\")","v":200},null,null,"m3/h",null,null,null,{"$f":"IF($AD$4=\"Français\",AN177,AT177)","v":"Vide"},{"$f":"IF(I177=\"\",\"\",'VAC PUMP'!R8)","v":400},null,null,"mmHg",null,null,null,{"$f":"IF($AD$4=\"Français\",AO177,AU177)","v":"T° entrée Gaz"},{"$f":"IF(I177=\"\",\"\",'VAC PUMP'!R12)","v":40},null,null,"°C",null,null,null,{"$f":"IF($AD$4=\"Français\",AP177,AV177)","v":"T° eau anneau"},{"$f":"IF(I177=\"\",\"\",'VAC PUMP'!R13)","v":30},null,null,"°C",null,"Pompe","Débit air","Vide","T° entrée Gaz","T° eau anneau",null,"Pump","Air Flow","Vacuum","T° Gaz Entrance","T° Water ring"]
[null,null,null,null,null,null,null,{"$f":"IF($AD$4=\"Français\",AM178,AS178)","v":"Matière corps"},{"$f":"IF(I177=\"\",\"\",'VAC PUMP'!R6)","v":"Carbon steel & cast-iron"},null,null,null,null,null,null,{"$f":"IF($AD$4=\"Français\",AN178,AT178)","v":"Matière rotor"},null,null,null,null,null,null,null,{"$f":"IF($AD$4=\"Français\",AO178,AU178)","v":"Matière manifold entrée"},null,null,null,null,null,null,null,{"$f":"IF($AD$4=\"Français\",AP178,AV178)","v":"Matière séparateur"},null,null,null,null,null,null,"Matière corps","Matière rotor","Matière manifold entrée","Matière séparateur",null,null,"Body Material","Rotor Material","Entrance Manifold Material","Separator Material"]
[null,null,null,null,null,null,null,"Pompe montée sur skid",null,null,null,null,null,null,null,"Matière chassis",null,null,null,null,null,null,null,"Chevilles scellement",null,null,null,null,null,null,null,"Ballon séparateur",null,null,null,null,null,null,"Pompe montée sur skid","Matière chassis","Chevilles scellement","Ballon séparateur",null,null,"Pump on skid","Frame material","Anchor bolts","Filtrate receiver"]
[null,null,null,null,null,null,null,"Pompe anneau liquide",null,null,null,null,null,null,null,"Matière piping",null,null,null,null,null,null,null,null,null,{"$f":"IF($AD$4=\"Français\",AO180,AU180)","v":"Circuit fermé anneau liquide"},null,null,null,null,null,"Echangeur",null,null,null,null,null,null,"Pompe anneau liquide","Matière piping","Circuit fermé anneau liquide","Echangeur",null,null,"Liquid ring pump","Pipping Material","Recirculating water ring","Exchanger"]
[null,null,null,null,null,null,null,"Vanne auto alim eau",null,null,null,null,null,null,null,"Vanne manu réglage débit",null,null,null,{"$f":"IF($AD$4=\"Français\",AO182,AU182)","v":"Filtre Y"},null,null,null,"Manomètre",null,null,null,null,null,{"$f":"IF($AD$4=\"Français\",AP181,AV181)","v":"Vacuomètre"},null,null,null,null,null,null,null,null,"Vanne auto alim eau","Vanne manu réglage débit","Manomètre","Vacuomètre",null,null,"Water automatic valve","Manual valve for flow","Manometer","Vacuum Gauge"]
[null,null,null,null,null,null,null,"Soupape casse vide",null,null,null,null,null,null,null,"Transmission poulies/courroie",null,null,null,null,null,null,null,null,null,null,null,null,null,null,null,null,null,null,null,null,null,null,"Soupape casse vide","Transmission poulies/courroie","Filtre Y",null,null,null,"Vacuum breaking valve","V-Belt transmission","Y filter"]
["Moteur",null,null,null,null,null,null,{"$f":"IF($AD$4=\"Français\",AM183,AS183)","v":"Tension"},{"$f":"IF(I177=\"\",\"\",'VAC PUMP'!R22)","v":400},null,null,"V",null,null,null,{"$f":"IF($AD$4=\"Français\",AN183,AT183)","v":"Fréquence"},{"$f":"IF(I177=\"\",\"\",'VAC PUMP'!R23)","v":50},null,null,"Hz",null,null,null,{"$f":"IF($AD$4=\"Français\",AO183,AU183)","v":"Puissance"},{"$f":"IF(I177=\"\",\"\",'VAC PUMP'!R21)","v":5.5},null,null,"kW",null,null,null,null,null,null,null,null,null,"Moteur","Tension","Fréquence","Puissance",null,null,"Motor","Voltage","Frenquency","Power"]
[]
["Spécifique",null,null,null,null,null,null,null,null,null,null,null,null,null,null,null,null,null,null,null,null,null,null,null,null,null,null,null,null,null,null,null,null,null,null,null,null,"Spécifique",null,null,null,null,null,"Remarks"]
[]
["Pompes à filtrat ",null,null,null,null,null,null,null,null,null,null,null,null,null,null,null,null,null,null,null,null,null,null,null,null,null,null,null,null,null,null,null,null,null,null,null,null,"Pompes à filtrat ",null,null,null,null,null,"Filtrate pumps"]
["Pompe 1",null,null,null,null,null,null,{"$f":"IF($AD$4=\"Français\",AM188,AS188)","v":"Débit"},{"$f":"IF('Offre NEW'!H43>0,'Offre NEW'!F43,\"\")","v":2},null,null,"m3/h",null,null,null,{"$f":"IF($AD$4=\"Français\",AN188,AT188)","v":"HMT"},{"$f":"IF(I188=\"\",\"\",30)","v":30},null,null,"m",null,null,null,{"$f":"IF($AD$4=\"Français\",AO188,AU188)","v":"Puissance"},{"$f":"IF('Offre NEW'!H43>0,'Offre NEW'!G43,\"\")","v":2.2000000000000002},null,null,"kW",null,null,null,{"$f":"IF($AD$4=\"Français\",AP188,AV188)","v":"Matière pompe"},{"$f":"IF('Offre NEW'!H43>0,'Offre NEW'!D43,\"\")","v":"316L"},null,null,null,null,"Pompe 1","Débit","HMT","Puissance","Matière pompe",null,"Pump 1","Flow","HMT","Power","Pump material"]
[null,null,null,null,null,null,null,{"$f":"IF($AD$4=\"Français\",AM189,AS189)","v":"Type"},{"$f":"IF(I188=\"\",\"\",'FILTRATE PUMP 1&2&3'!L5)","v":"Centrifugal - Krogh Type Pump"},null,null,null,null,null,null,{"$f":"IF($AD$4=\"Français\",AN189,AT189)","v":"Etanchéité arbre"},null,null,null,null,null,null,null,null,null,"Variation de fréquence",null,null,null,null,null,null,null,null,null,null,null,null,"Type","Etanchéité arbre","Variation de fréquence",null,null,null,"Type","Shaft Seal","VFD"]
[null,null,null,null,null,null,null,"Chassis support",null,null,"Skid",null,null,null,null,"Matière chassis",null,null,null,null,null,null,null,null,null,"Fourniture piping",null,null,null,null,null,{"$f":"IF($AD$4=\"Français\",AP190,AV190)","v":"Matière piping"},null,null,null,null,null,null,"Chassis support","Matière chassis","Fourniture piping","Matière piping",null,null,"Support Frame","Frame Material","Incl. piping","Piping material"]
[null,null,null,null,null,null,null,"Pompe secours",null,null,null,null,null,null,null,null,null,{"$f":"IF($AD$4=\"Français\",AN191,AT191)","v":"Fourniture vannes manu"},null,null,null,null,null,null,null,"Vanne de régulation débit",null,null,null,null,null,null,null,null,null,null,null,null,"Pompe secours","Fourniture vannes manu","Vanne de régulation débit",null,null,null,"Spare pump","With manual valve","Flow control valve"]
[]
["Spécifique",null,null,null,null,null,null,null,null,null,null,null,null,null,null,null,null,null,null,null,null,null,null,null,null,null,null,null,null,null,null,null,null,null,null,null,null,"Spécifique",null,null,null,null,null,"Remarks"]
[]
["Pompe 2",null,null,null,null,null,null,{"$f":"IF($AD$4=\"Français\",AM195,AS195)","v":"Débit"},{"$f":"IF('Offre NEW'!H44>0,'Offre NEW'!F44,\"\")","v":2},null,null,"m3/h",null,null,null,{"$f":"IF($AD$4=\"Français\",AN195,AT195)","v":"HMT"},{"$f":"IF(I195=\"\",\"\",30)","v":30},null,null,"m",null,null,null,{"$f":"IF($AD$4=\"Français\",AO195,AU195)","v":"Puissance"},{"$f":"IF('Offre NEW'!H44>0,'Offre NEW'!G44,\"\")","v":2.2000000000000002},null,null,"kW",null,null,null,{"$f":"IF($AD$4=\"Français\",AP195,AV195)","v":"Matière pompe"},{"$f":"IF('Offre NEW'!H44>0,'Offre NEW'!D44,\"\")","v":"316L"},null,null,null,null,"Pompe 2","Débit","HMT","Puissance","Matière pompe",null,"Pump 2","Flow","HMT","Power","Pump material"]
[null,null,null,null,null,null,null,{"$f":"IF($AD$4=\"Français\",AM196,AS196)","v":"Type"},{"$f":"IF(I188=\"\",\"\",'FILTRATE PUMP 2'!J4)","v":"Centrifugal"},null,null,null,null,null,null,{"$f":"IF($AD$4=\"Français\",AN196,AT196)","v":"Etanchéité arbre"},null,null,null,null,null,null,null,null,null,{"$f":"IF($AD$4=\"Français\",AO196,AU196)","v":"Variation de fréquence"},null,null,null,null,null,null,null,null,null,null,null,null,"Type","Etanchéité arbre","Variation de fréquence",null,null,null,"Type","Sealing shaft","VFD"]
[null,null,null,null,null,null,null,"Chassis support",null,null,"Skid",null,null,null,null,"Matière chassis",null,null,null,null,null,null,null,null,null,"Fourniture piping",null,null,null,null,null,{"$f":"IF($AD$4=\"Français\",AP197,AV197)","v":"Matière piping"},null,null,null,null,null,null,"Chassis support","Matière chassis","Fourniture piping","Matière piping",null,null,"Support Frame","Frame Material","Incl. piping","Piping material"]
[null,null,null,null,null,null,null,"Pompe secours",null,null,null,null,null,null,null,null,null,{"$f":"IF($AD$4=\"Français\",AN198,AT198)","v":"Fourniture vannes manu"},null,null,null,null,null,null,null,{"$f":"IF($AD$4=\"Français\",AO198,AU198)","v":"Vanne de régulation débit"},null,null,null,null,null,null,null,null,null,null,null,null,"Pompe secours","Fourniture vannes manu","Vanne de régulation débit",null,null,null,"Spare pump","With manual valve","Flow control valve"]
[]
["Spécifique",null,null,null,null,null,null,null,null,null,null,null,null,null,null,null,null,null,null,null,null,null,null,null,null,null,null,null,null,null,null,null,null,null,null,null,null,"Spécifique",null,null,null,null,null,"Remarks"]
[]
["Pompe 3",null,null,null,null,null,null,{"$f":"IF($AD$4=\"Français\",AM202,AS202)","v":"Débit"},{"$f":"IF('Offre NEW'!H45>0,'Offre NEW'!F45,\"\")","v":2},null,null,"m3/h",null,null,null,{"$f":"IF($AD$4=\"Français\",AN202,AT202)","v":"HMT"},{"$f":"IF(I202=\"\",\"\",30)","v":30},null,null,"m",null,null,null,{"$f":"IF($AD$4=\"Français\",AO202,AU202)","v":"Puissance"},{"$f":"IF('Offre NEW'!H45>0,'Offre NEW'!G45,\"\")","v":2.2000000000000002},null,null,"kW",null,null,null,{"$f":"IF($AD$4=\"Français\",AP202,AV202)","v":"Matière pompe"},{"$f":"IF('Offre NEW'!H45>0,'Offre NEW'!D45,\"\")","v":"316L"},null,null,null,null,"Pompe 3","Débit","HMT","Puissance","Matière pompe",null,"Pump 3","Flow","HMT","Power","Pump material"]
[null,null,null,null,null,null,null,{"$f":"IF($AD$4=\"Français\",AM203,AS203)","v":"Type"},{"$f":"IF(I188=\"\",\"\",'FILTRATE PUMP 3'!J4)","v":"Centrifugal"},null,null,null,null,null,null,{"$f":"IF($AD$4=\"Français\",AN203,AT203)","v":"Etanchéité arbre"},null,null,null,null,null,null,null,null,null,{"$f":"IF($AD$4=\"Français\",AO203,AU203)","v":"Variation de fréquence"},null,null,null,null,null,null,null,null,null,null,null,null,"Type","Etanchéité arbre","Variation de fréquence",null,null,null,"Type","Sealing shaft","VFD"]
[null,null,null,null,null,null,null,"Chassis support",null,null,"Skid",null,null,null,null,"Matière chassis",null,null,null,null,null,null,null,null,null,"Fourniture piping",null,null,null,null,null,{"$f":"IF($AD$4=\"Français\",AP204,AV204)","v":"Matière piping"},null,null,null,null,null,null,"Chassis support","Matière chassis","Fourniture piping","Matière piping",null,null,"Support Frame","Frame Material","Incl. piping","Piping material"]
[null,null,null,null,null,null,null,"Pompe secours",null,null,null,null,null,null,null,null,null,{"$f":"IF($AD$4=\"Français\",AN205,AT205)","v":"Fourniture vannes manu"},null,null,null,null,null,null,null,{"$f":"IF($AD$4=\"Français\",AO205,AU205)","v":"Vanne de régulation débit"},null,null,null,null,null,null,null,null,null,null,null,null,"Pompe secours","Fourniture vannes manu","Vanne de régulation débit",null,null,null,"Spare pump","With manual valve","Flow control valve"]
[]
["Spécifique",null,null,null,null,null,null,null,null,null,null,null,null,null,null,null,null,null,null,null,null,null,null,null,null,null,null,null,null,null,null,null,null,null,null,null,null,"Spécifique",null,null,null,null,null,"Remarks"]
[]
["Pompe 4",null,null,null,null,null,null,{"$f":"IF($AD$4=\"Français\",AM209,AS209)","v":"Débit"},{"$f":"IF('Offre NEW'!H46>0,'Offre NEW'!F46,\"\")","v":""},null,null,"m3/h",null,null,null,{"$f":"IF($AD$4=\"Français\",AN209,AT209)","v":"HMT"},{"$f":"IF(I209=\"\",\"\",30)","v":""},null,null,"m",null,null,null,{"$f":"IF($AD$4=\"Français\",AO209,AU209)","v":"Puissance"},{"$f":"IF('Offre NEW'!H46>0,'Offre NEW'!G46,\"\")","v":""},null,null,"kW",null,null,null,{"$f":"IF($AD$4=\"Français\",AP209,AV209)","v":"Matière pompe"},{"$f":"IF('Offre NEW'!H46>0,'Offre NEW'!D46,\"\")","v":""},null,null,null,null,"Pompe 4","Débit","HMT","Puissance","Matière pompe",null,"Pump 4","Flow","HMT","Power","Pump material"]
[null,null,null,null,null,null,null,{"$f":"IF($AD$4=\"Français\",AM210,AS210)","v":"Type"},{"$f":"IF(I188=\"\",\"\",'FILTRATE PUMP 4'!J4)","v":"Centrifugal"},null,null,null,null,null,null,{"$f":"IF($AD$4=\"Français\",AN210,AT210)","v":"Etanchéité arbre"},null,null,null,null,null,null,null,null,null,{"$f":"IF($AD$4=\"Français\",AO210,AU210)","v":"Variation de fréquence"},null,null,null,null,null,null,null,null,null,null,null,null,"Type","Etanchéité arbre","Variation de fréquence",null,null,null,"Type","Sealing shaft","VFD"]
[null,null,null,null,null,null,null,"Chassis support",null,null,"Skid",null,null,null,null,"Matière chassis",null,null,null,null,null,null,null,null,null,"Fourniture piping",null,null,null,null,null,{"$f":"IF($AD$4=\"Français\",AP211,AV211)","v":"Matière piping"},null,null,null,null,null,null,"Chassis support","Matière chassis","Fourniture piping","Matière piping",null,null,"Support Frame","Frame Material","Incl. piping","Piping material"]
[null,null,null,null,null,null,null,"Pompe secours",null,null,null,null,null,null,null,null,null,{"$f":"IF($AD$4=\"Français\",AN212,AT212)","v":"Fourniture vannes manu"},null,null,null,null,null,null,null,{"$f":"IF($AD$4=\"Français\",AO212,AU212)","v":"Vanne de régulation débit"},null,null,null,null,null,null,null,null,null,null,null,null,"Pompe secours","Fourniture vannes manu","Vanne de régulation débit",null,null,null,"Spare pump","With manual valve","Flow control valve"]
[]
[{"$f":"IF($AD$4=\"Français\",AL214,AR214)","v":"Spécifique"},null,null,null,null,null,null,null,null,null,null,null,null,null,null,null,null,null,null,null,null,null,null,null,null,null,null,null,null,null,null,null,null,null,null,null,null,"Spécifique",null,null,null,null,null,"Remarks"]
[]
["Pompes lavage toile & bande ",null,null,null,null,null,null,null,null,null,null,null,null,null,null,null,null,null,null,null,null,null,null,null,null,null,null,null,null,null,null,null,null,null,null,null,null,"Pompes lavage toile & bande ",null,null,null,null,null,"Cloth & belt wash pumps"]
[null,null,null,null,null,null,null,{"$f":"IF($AD$4=\"Français\",AM217,AS217)","v":"Débit"},{"$f":"IF('Offre NEW'!H48>0,'Offre NEW'!F48,\"\")","v":""},null,null,"m3/h",null,null,null,{"$f":"IF($AD$4=\"Français\",AN217,AT217)","v":"HMT"},null,null,null,"m",null,null,null,{"$f":"IF($AD$4=\"Français\",AO217,AU217)","v":"Puissance"},{"$f":"IF('Offre NEW'!H48>0,'Offre NEW'!G48,\"\")","v":""},null,null,"kW",null,null,null,{"$f":"IF($AD$4=\"Français\",AP217,AV217)","v":"Matière pompe"},{"$f":"IF('Offre NEW'!H48>0,'Offre NEW'!D48,\"\")","v":""},null,null,null,null,"Pompe","Débit","HMT","Puissance","Matière pompe",null,null,"Flow","HMT","Power","Pump material"]
[null,null,null,null,null,null,null,{"$f":"IF($AD$4=\"Français\",AM218,AS218)","v":"Type"},null,null,null,null,null,null,null,{"$f":"IF($AD$4=\"Français\",AN218,AT218)","v":"Etanchéité arbre"},null,null,null,null,null,null,null,null,null,{"$f":"IF($AD$4=\"Français\",AO218,AU218)","v":"Variation de fréquence"},null,null,null,null,null,null,null,null,null,null,null,null,"Type","Etanchéité arbre","Variation de fréquence",null,null,null,"Type","Sealing shaft","VFD"]
[null,null,null,null,null,null,null,"Chassis support",null,null,"Skid",null,null,null,null,"Matière chassis",null,null,null,null,null,null,null,null,null,"Fourniture piping",null,null,null,null,null,{"$f":"IF($AD$4=\"Français\",AP219,AV219)","v":"Matière piping"},null,null,null,null,null,null,"Chassis support","Matière chassis","Fourniture piping","Matière piping",null,null,"Support Frame","Frame Material","Incl. piping","Piping material"]
[null,null,null,null,null,null,null,"Pompe secours",null,null,null,null,null,null,null,null,null,{"$f":"IF($AD$4=\"Français\",AN220,AT220)","v":"Fourniture vannes manu"},null,null,null,null,null,null,null,{"$f":"IF($AD$4=\"Français\",AO220,AU220)","v":"Vanne de régulation débit"},null,null,null,null,null,null,null,null,null,null,null,null,"Pompe secours","Fourniture vannes manu","Vanne de régulation débit",null,null,null,"Spare pump","With manual valve","Flow control valve"]
[]
["Spécifique",null,null,null,null,null,null,null,null,null,null,null,null,null,null,null,null,null,null,null,null,null,null,null,null,null,null,null,null,null,null,null,null,null,null,null,null,"Spécifique",null,null,null,null,null,"Remarks"]
[]
["Pompes lavage gateau ",null,null,null,null,null,null,null,null,null,null,null,null,null,null,null,null,null,null,null,null,null,null,null,null,null,null,null,null,null,null,null,null,null,null,null,null,"Pompes lavage gateau ",null,null,null,null,null,"Cake washing pumps"]
[null,null,null,null,null,null,null,{"$f":"IF($AD$4=\"Français\",AM225,AS225)","v":"Débit"},null,null,null,"m3/h",null,null,null,{"$f":"IF($AD$4=\"Français\",AN225,AT225)","v":"HMT"},null,null,null,"m",null,null,null,{"$f":"IF($AD$4=\"Français\",AO225,AU225)","v":"Puissance"},null,null,null,"kW",null,null,null,{"$f":"IF($AD$4=\"Français\",AP225,AV225)","v":"Matière pompe"},null,null,null,null,null,"Pompe","Débit","HMT","Puissance","Matière pompe",null,null,"Flow","HMT","Power","Pump material"]
[null,null,null,null,null,null,null,{"$f":"IF($AD$4=\"Français\",AM226,AS226)","v":"Type"},null,null,null,null,null,null,null,{"$f":"IF($AD$4=\"Français\",AN226,AT226)","v":"Etanchéité arbre"},null,null,null,null,null,null,null,null,null,{"$f":"IF($AD$4=\"Français\",AO226,AU226)","v":"Variation de fréquence"},null,null,null,null,null,null,null,null,null,null,null,null,"Type","Etanchéité arbre","Variation de fréquence",null,null,null,"Type","Sealing shaft","VFD"]
[null,null,null,null,null,null,null,"Chassis support",null,null,"Skid",null,null,null,null,"Matière chassis",null,null,null,null,null,null,null,null,null,"Fourniture piping",null,null,null,null,null,{"$f":"IF($AD$4=\"Français\",AP227,AV227)","v":"Matière piping"},null,null,null,null,null,null,"Chassis support","Matière chassis","Fourniture piping","Matière piping",null,null,"Support Frame","Frame Material","Incl. piping","Piping material"]
[null,null,null,null,null,null,null,{"$f":"IF($AD$4=\"Français\",AM228,AS228)","v":"Pompe secours"},null,null,null,null,null,null,null,null,null,{"$f":"IF($AD$4=\"Français\",AN228,AT228)","v":"Fourniture vannes manu"},null,null,null,null,null,null,null,{"$f":"IF($AD$4=\"Français\",AO228,AU228)","v":"Vanne de régulation débit"},null,null,null,null,null,null,null,null,null,null,null,null,"Pompe secours","Fourniture vannes manu","Vanne de régulation débit",null,null,null,"Spare pump","With manual valve","Flow control valve"]
[]
["Spécifique",null,null,null,null,null,null,null,null,null,null,null,null,null,null,null,null,null,null,null,null,null,null,null,null,null,null,null,null,null,null,null,null,null,null,null,null,"Spécifique",null,null,null,null,null,"Remarks"]
[]
["Rampe haute pression lavage toile ",null,null,null,null,null,null,null,null,null,null,null,null,null,null,null,null,null,null,null,null,null,null,null,null,null,null,null,null,null,null,null,null,null,null,null,null,"Rampe haute pression lavage toile ",null,null,null,null,null,"Cloth washing High pressure ramp"]
[null,null,null,null,null,null,null,{"$f":"IF($AD$4=\"Français\",AM233,AS233)","v":"Matière poutre et bras"},null,null,null,null,null,null,null,{"$f":"IF($AD$4=\"Français\",AN233,AT233)","v":"Matière rampe"},null,null,null,null,null,null,null,{"$f":"IF($AD$4=\"Français\",AO233,AU233)","v":"Ø buses"},null,null,null,null,null,null,null,{"$f":"IF($AD$4=\"Français\",AP233,AV233)","v":"Matière buses"},null,null,null,null,null,null,"Matière poutre et bras","Matière rampe","Ø buses","Matière buses",null,null,"Beam Material","Ramp Material","Nozzles DN","Nozzles material"]
["Pompe HP",null,null,null,null,null,null,{"$f":"IF($AD$4=\"Français\",AM234,AS234)","v":"Débit"},null,null,null,"m3/h",null,null,null,{"$f":"IF($AD$4=\"Français\",AN234,AT234)","v":"Pression"},null,null,null,"bar",null,null,null,{"$f":"IF($AD$4=\"Français\",AO234,AU234)","v":"Puissance"},null,null,null,"kW",null,null,null,{"$f":"IF($AD$4=\"Français\",AP234,AV234)","v":"Matière pompe"},null,null,null,null,null,"Pompe HP","Débit","Pression","Puissance","Matière pompe",null,"HP Pump","Flow","Pressure","Power","Pump Material"]
["Moto-réducteur rampe",null,null,null,null,null,null,"Puissance",null,null,null,"kW",null,null,null,null,null,null,null,null,null,null,{"$f":"IF($AD$4=\"Français\",AN235,AT235)","v":"Fourniture flexible entre rampe et pompe HP"},null,null,null,null,null,null,null,null,null,null,null,null,null,null,"Moto-réducteur rampe","Puissance","Fourniture flexible entre rampe et pompe HP",null,null,null,"Ramp Gearmotor","Power","with Flexible hose btw Ramp & HP pump"]
[]
["Spécifique",null,null,null,null,null,null,null,null,null,null,null,null,null,null,null,null,null,null,null,null,null,null,null,null,null,null,null,null,null,null,null,null,null,null,null,null,"Spécifique",null,null,null,null,null,"Remarks"]
[]
["Tuyauteries de liaison",null,null,null,null,null,null,null,null,null,null,null,null,null,null,null,null,null,null,null,null,null,null,null,null,null,null,null,null,null,null,null,null,null,null,null,null,"Tuyauteries de liaison",null,null,"Fourniture supports",null,null," Interconnecting piping",null,null,"with support"]
[null,null,null,null,null,null,{"$f":"IF($AD$4=\"Français\",AM240,AS240)","v":"Fourniture tuyauteries de vide"},null,null,null,null,{"$f":"IF($AD$4=\"Français\",AM240,AS240)","v":"Fourniture tuyauteries de vide"},null,null,null,null,null,null,null,{"$f":"IF($AD$4=\"Français\",AO239,AU239)","v":"Fourniture supports"},null,null,null,null,null,null,{"$f":"IF($AD$4=\"Français\",AO240,AU240)","v":"Fourniture vannes manu"},null,null,null,null,{"$f":"IF($AD$4=\"Français\",AP240,AV240)","v":"Matière vannes"},null,null,null,null,null,null,"Fourniture tuyauteries de vide","Matière tuyauterie","Fourniture vannes manu","Matière vannes",null,null,"With vacuum piping","Piping Material","With manual valves","Valves material"]
[null,null,null,null,null,null,null,null,null,null,null,null,null,null,null,null,null,null,null,null,null,null,null,null,null,null,"Fourniture clapets",null,null,null,null,{"$f":"IF($AD$4=\"Français\",AP241,AV241)","v":"Matière clapets"},null,null,null,null,null,null,null,null,"Fourniture clapets","Matière clapets",null,null,null,null,"With return valves","Return valves material"]
[]
[null,null,null,null,null,null,{"$f":"IF($AD$4=\"Français\",AM243,AS243)","v":"Fourniture tuyauteries de lavage"},null,null,null,null,{"$f":"IF($AD$4=\"Français\",AM243,AS243)","v":"Fourniture tuyauteries de lavage"},null,null,null,null,null,null,null,{"$f":"IF($AD$4=\"Français\",AO239,AU239)","v":"Fourniture supports"},null,null,null,null,null,null,"Fourniture vannes manu",null,null,null,null,"Matière vannes",null,null,null,null,null,null,"Fourniture tuyauteries de lavage","Matière tuyauterie","Fourniture vannes manu","Matière vannes",null,null,"With vacuum piping","Piping Material","With manual valves","Valves material"]
[null,null,null,null,null,null,null,null,null,null,null,null,null,null,null,null,null,null,null,null,null,null,null,null,null,null,{"$f":"IF($AD$4=\"Français\",AO244,AU244)","v":"Fourniture clapets"},null,null,null,null,{"$f":"IF($AD$4=\"Français\",AP244,AV244)","v":"Matière clapets"},null,null,null,null,null,null,null,null,"Fourniture clapets","Matière clapets",null,null,null,null,"With return valves","Return valves material"]
[]
["Spécifique",null,null,null,null,null,null,null,null,null,null,null,null,null,null,null,null,null,null,null,null,null,null,null,null,null,null,null,null,null,null,null,null,null,null,null,null,"Spécifique",null,null,null,null,null,"Remarks"]
[]
["Instrumentation sur filtre",null,null,null,null,null,null,null,null,null,null,null,null,null,null,null,null,null,null,null,null,null,null,null,null,null,null,null,null,null,null,null,null,null,null,null,null,"Instrumentation sur filtre",null,null,null,null,null,"Instrumentation on Filter"]
[null,null,null,null,null,null,null,null,null,null,{"$f":"IF($AD$4=\"Français\",AM249,AS249)","v":"Matière tubes passage câbles sur filtre"},null,null,null,null,null,null,null,null,{"$f":"IF($AD$4=\"Français\",AN249,AT249)","v":"Cables elec standard"},null,null,null,null,null,null,{"$f":"IF($AD$4=\"Français\",AO249,AU249)","v":"Cables elec specifique"},null,null,null,null,null,null,null,null,null,null,null,"Matière tubes passage câbles sur filtre","Cables elec standard","Cables elec specifique",null,null,null,"Material pipe for cable on filter","Elec. Standard Cable","Elec. Specific Cable"]
[null,null,null,null,null,{"$f":"IF($AD$4=\"Français\",AL250,AR250)","v":"Capteur surcouple"},null,null,null,null,null,null,{"$f":"IF($AD$4=\"Français\",AM250,AS250)","v":"Capteurs dérive bande"},null,null,null,null,null,null,"Capteurs dérive toile",null,null,null,null,null,null,"Capteurs tension toile",null,null,null,null,null,null,{"$f":"IF($AD$4=\"Français\",AP250,AV250)","v":"Capteur rotation toile"},null,null,null,"Capteur surcouple","Capteurs dérive bande","Capteurs dérive toile","Capteurs tension toile","Capteur rotation toile",null,"Overtorque sensor","Belt Misalignment","Cloth Misalignment","Cloth tensionning","Cloth run off"]
[null,null,null,null,null,{"$f":"IF($AD$4=\"Français\",AL251,AR251)","v":"Capteurs rupture courroies"},null,null,null,null,null,null,null,null,null,null,null,null,null,"Arrêts d'urgence à cable",null,null,null,null,null,null,"Arrêts d'urgence BP",null,null,null,null,{"$f":"IF($AD$4=\"Français\",AP251,AV251)","v":"Qté AU"},null,null,null,null,null,"Capteurs rupture courroies",null,"Arrêts d'urgence à cable","Arrêts d'urgence BP","Qté AU",null,"Belt support breaking sensor",null,"Emergency stop cable","Button emergency stop","AU Qty"]
[null,null,null,null,null,null,null,null,{"$f":"IF($AD$4=\"Français\",AL252,AR252)","v":"Pression eau de lavage :"},null,null,null,{"$f":"IF($AD$4=\"Français\",AM252,AS252)","v":"Pressostat"},null,null,null,null,null,null,"Transmetteur",null,null,null,null,null,null,{"$f":"IF($AD$4=\"Français\",AO252,AU252)","v":"Manomètre"},null,null,null,null,null,null,null,null,null,null,"Pression eau de lavage :","Pressostat","Transmetteur","Manomètre",null,null,"Wash water pressure:","Pressure indicator","transmitter","Manometer"]
[null,null,null,null,null,null,null,null,{"$f":"IF($AD$4=\"Français\",AL253,AR253)","v":"Pression air comprimé :"},null,null,null,{"$f":"IF($AD$4=\"Français\",AM253,AS253)","v":"Pressostat"},null,null,null,null,null,null,{"$f":"IF($AD$4=\"Français\",AN253,AT253)","v":"Transmetteur"},null,null,null,null,null,null,null,null,null,null,null,null,null,null,null,null,null,"Pression air comprimé :","Pressostat","Transmetteur",null,null,null,"Air pressure:","Pressure indicator","transmitter"]
[null,null,null,null,null,null,null,null,{"$f":"IF($AD$4=\"Français\",AL254,AR254)","v":"Débit lavage toile & bande :"},null,{"$f":"IF($AD$4=\"Français\",AM254,AS254)","v":"Type"},null,null,null,null,null,null,{"$f":"IF($AD$4=\"Français\",AN254,AT254)","v":"Matière"},null,null,null,null,null,{"$f":"IF($AD$4=\"Français\",AO254,AU254)","v":"Qté"},null,null,null,null,null,null,null,{"$f":"IF($AD$4=\"Français\",AP254,AV254)","v":"Marque"},null,null,null,null,null,"Débit lavage toile & bande :","Type","Matière","Qté","Marque",null,"Cloth and belt flow :","Type","Material","Qty","Brand"]
[null,null,null,null,null,null,null,null,{"$f":"IF($AD$4=\"Français\",AL255,AR255)","v":"Débit lubrification courroies boite à vide :"},null,"Type",null,null,null,null,null,null,{"$f":"IF($AD$4=\"Français\",AN255,AT255)","v":"Matière"},null,null,null,null,null,{"$f":"IF($AD$4=\"Français\",AO255,AU255)","v":"Qté"},null,null,null,null,null,null,null,"Marque",null,null,null,null,null,"Débit lubrification courroies boite à vide :","Type","Matière","Qté","Marque",null,"Lubrification Vacuum box belt flow:","Type","Material","Qty","Brand"]
[null,null,null,null,null,null,null,null,{"$f":"IF($AD$4=\"Français\",AL256,AR256)","v":"Débit lubrification courroies table :"},null,{"$f":"IF($AD$4=\"Français\",AM256,AS256)","v":"Type"},null,null,null,null,null,null,"Matière",null,null,null,null,null,"Qté",null,null,null,null,null,null,null,{"$f":"IF($AD$4=\"Français\",AP256,AV256)","v":"Marque"},null,null,null,null,null,"Débit lubrification courroies table :","Type","Matière","Qté","Marque",null,"Lubrification Belt table support flow:","Type","Material","Qty","Brand"]
[null,null,null,null,null,null,null,null,null,null,"Qté Transmetteur épaisseur gateau",null,null,null,null,null,null,null,null,{"$f":"IF($AD$4=\"Français\",AN257,AT257)","v":"Débordement pulpe"},null,null,null,{"$f":"IF($AD$4=\"Français\",AO257,AU257)","v":"Type"},null,null,null,null,null,null,null,null,null,null,null,null,null,null,"Qté Transmetteur épaisseur gateau","Débordement pulpe","Type",null,null,null,"Cake thickness transmitter Qty","Slurry overflow","Type"]
[]
["Spécifique",null,null,null,null,null,null,null,null,null,null,null,null,null,null,null,null,null,null,null,null,null,null,null,null,null,null,null,null,null,null,null,null,null,null,null,null,"Spécifique",null,null,null,null,null,"Remarks"]
[]
["Equipement électrique ",null,null,null,null,null,null,null,null,null,null,null,null,null,null,null,null,null,null,null,null,null,null,null,null,null,null,null,null,null,null,null,null,null,null,null,null,"Equipement électrique ",null,null,null,null,null,"Electrical equipment"]
["Boite de jonction sur filtre",null,null,null,null,null,null,null,null,null,{"$f":"IF($AD$4=\"Français\",AM262,AS262)","v":"Matière"},null,null,null,null,null,null,null,null,null,null,null,null,null,null,null,null,null,null,null,null,null,null,null,null,null,null,"Boite de jonction sur filtre","Matière",null,null,null,null,"Junction box on filter","Material"]
[]
["Pupitre de commande local",null,null,null,null,null,null,null,null,null,{"$f":"IF($AD$4=\"Français\",AM264,AS264)","v":"Matière"},null,null,null,null,null,null,null,null,{"$f":"IF($AD$4=\"Français\",AN264,AT264)","v":"Boutons poussoirs"},null,null,null,null,null,{"$f":"IF($AD$4=\"Français\",AO264,AU264)","v":"Afficheur vitesse"},null,null,null,null,null,null,null,null,null,null,null,"Pupitre de commande local","Matière","Boutons poussoirs","Afficheur vitesse",null,null,"Local control panel","Material","Button","Speed indicator"]
[null,null,null,null,null,null,null,null,null,null,null,null,null,null,null,null,null,null,null,"Interface Opérateur graphique",null,null,null,{"$f":"IF($AD$4=\"Français\",AO265,AU265)","v":"Marque"},null,null,null,null,null,null,null,null,null,null,null,null,null,null,null,"Interface Opérateur graphique","Marque",null,null,null,null,"Graphic operator interface","Brand"]
[]
["Armoire électrique",null,null,null,null,null,null,null,null,null,"Matière",null,null,null,null,null,null,null,null,{"$f":"IF($AD$4=\"Français\",AN267,AT267)","v":"Automate Programmable"},null,null,null,"Marque",null,null,null,null,null,null,null,null,null,null,null,null,null,"Armoire électrique","Matière","Automate Programmable","Marque",null,null,"Electrical cabinet","Material","PLC","Brand"]
[]
[null,null,null,null,null,null,null,null,{"$f":"IF($AD$4=\"Français\",AM269,AS269)","v":"Départ puissance entrainement filtre"},null,null,null,null,null,{"$f":"IF($AD$4=\"Français\",AN269,AT269)","v":"Variateur de fréquence"},null,null,null,null,null,null,null,null,"Alimentation générale armoire :",null,null,null,"V",null,null,"Hz",{"$f":"IF($AD$4=\"Français\",AP269,AV269)","v":"Régime"},null,null,null,null,null,null,"Départ puissance entrainement filtre","Variateur de fréquence","Alimentation générale armoire :","Régime",null,null,"Filter motor starter","VFD","Globel power","engine speed"]
[null,null,null,null,null,null,null,null,{"$f":"IF($AD$4=\"Français\",AM270,AS270)","v":"Départs puissance pompes lavage&filtrats"},null,null,null,null,null,"Variateur de fréquence",null,null,null,null,null,null,null,null,"Alimentation Secourue :",null,null,null,"V",null,null,"Hz",null,null,null,null,null,null,null,"Départs puissance pompes lavage&filtrats","Variateur de fréquence","Alimentation Secourue :",null,null,null,"Filtrate pump motor starter","VFD","Emergency power"]
[null,null,null,null,null,null,null,null,{"$f":"IF($AD$4=\"Français\",AM271,AS271)","v":"Départ puissance pompe à vide"},null,null,null,null,null,{"$f":"IF($AD$4=\"Français\",AN271,AT271)","v":"Variateur de fréquence"},null,null,null,null,null,null,null,null,{"$f":"IF($AD$4=\"Français\",AO271,AU271)","v":"Tension télécommande :"},null,null,null,"V",null,null,"Hz",{"$f":"IF($AD$4=\"Français\",AP271,AV271)","v":"AC/CC"},null,null,null,null,null,null,"Départ puissance pompe à vide","Variateur de fréquence","Tension télécommande :","AC/CC",null,null,"Vacuum pump motor starter","VFD","remote control power","AC/CC"]
[]
["Spécifique",null,null,null,null,null,null,null,null,null,null,null,null,null,null,null,null,null,null,null,null,null,null,null,null,null,null,null,null,null,null,null,null,null,null,null,null,"Spécifique",null,null,null,null,null,"Remarks"]

{"sheet":"Planning standard","index":7,"n_rows":67,"n_cols":58,"rows_kept":67,"cut":false,"hidden":true,"merged":[[66,35,66,37],[66,17,66,19],[66,20,66,22],[66,23,66,25],[66,26,66,28],[66,29,66,31],[66,32,66,34],[62,55,62,66],[63,43,63,52],[63,55,63,66],[64,55,64,66],[65,43,65,52],[65,57,65,63],[1,64,2,64],[1,65,2,65],[1,66,2,66],[1,67,2,67],[61,43,61,52],[61,55,61,66],[1,58,2,58],[1,59,2,59],[1,60,2,60],[1,61,2,61],[1,62,2,62],[1,63,2,63],[1,52,2,52],[1,53,2,53],[1,54,2,54],[1,55,2,55],[1,56,2,56],[1,57,2,57],[1,46,2,46],[1,47,2,47],[1,48,2,48],[1,49,2,49],[1,50,2,50],[1,51,2,51],[1,45,2,45],[1,34,2,34],[1,35,2,35],[1,36,2,36],[1,37,2,37],[1,38,2,38],[1,39,2,39],[1,40,2,40],[1,41,2,41],[1,42,2,42],[1,43,2,43],[1,44,2,44],[1,33,2,33],[1,22,2,22],[1,23,2,23],[1,24,2,24],[1,25,2,25],[1,26,2,26],[1,27,2,27],[1,28,2,28],[1,29,2,29],[1,30,2,30],[1,31,2,31],[1,32,2,32],[1,21,2,21],[1,10,2,10],[1,11,2,11],[1,12,2,12],[1,13,2,13],[1,14,2,14],[1,15,2,15],[1,16,2,16],[1,17,2,17],[1,18,2,18],[1,19,2,19],[1,20,2,20],[0,53,0,56],[1,1,2,1],[1,2,2,2],[1,3,2,3],[1,4,2,4],[1,5,2,5],[1,6,2,6],[1,7,2,7],[1,8,2,8],[1,9,2,9],[0,27,0,30],[0,31,0,35],[0,36,0,39],[0,40,0,43],[0,44,0,48],[0,49,0,52],[0,22,0,26],[0,1,0,4],[0,5,0,8],[0,9,0,13],[0,14,0,17],[0,18,0,21]]}
["MONTH",1,null,null,null,2,null,null,null,3,null,null,null,null,4,null,null,null,5,null,null,null,6,null,null,null,null,7,null,null,null,8,null,null,null,null,9,null,null,null,10,null,null,null,11,null,null,null,null,12,null,null,null,13]
["WEEK",1,{"$f":"1+B2","v":2},{"$f":"1+C2","v":3},4,5,6,7,8,9,10,11,12,13,14,15,16,17,18,19,20,21,22,23,24,25,26,27,28,29,30,31,32,33,34,35,36,37,38,39,40,41,42,43,44,45,46,47,48,49,50,51,52,{"$f":"1+BA2","v":53},{"$f":"1+BB2","v":54},{"$f":"1+BC2","v":55},{"$f":"1+BD2","v":56}]
["DESIGNATION"]
[]
["PURCHASE ORDER","▲"]
[]
["TECHNICAL KOM IN HASLER GROUP",null,"▲"]
[]
["DESIGN"]
[" - Mechanical Design & Details Engineering"]
[" - Electrical & Instrumentation Engineering",null,null,null,null,null,null,null,null,null,null,null,null,null,null,null,null,null,null,"9 weeks"]
[]
[]
["PROCUREMENTS / MANUFACTURING"]
[" - Rubber Belt - SBR",null,null,null,null,null,null,null,null,null,null,null,null,null,null,null,null,null,null,null,null,null,null,"14 - 16 weeks"]
[" - Filter Gear Box Units with motors"]
[" - Frame & Accessories"]
[" - Cloth & Belt Support Rollers"]
[" - Bearing blocks housing"]
[" - Pulleys"]
[" - Vacuum Box"]
[" - Upper Accessories"]
[" - Fume hood"]
[]
[]
["Set of Instrument and Valves"]
["- Instruments & Valves"]
[]
[]
["Electrical & Control Cabinet "]
["- Electrical & Control Cabinet\"",null,null,null,null,null,null,null,null,null,null,null,null,null,null,null,null,null,null,null,null,null,null,null,null,null,null,null,null,null,null,null,null,"12 weeks"]
["- LCP"]
["- Junction Box"]
[]
[]
["AUXILIARY EQUIPMENT"]
[" - Filtrate Manifold"]
[" - Filtrate Receivers"]
[" - Vacuum Pump",null,null,null,null,null,null,null,null,null,null,null,null,null,null,null,null,null,null,null,null,null,null,null,null,null,null,null,null,null,null,null,null,null,null,null,null,"12 - 16 weeks"]
[" - Wash & Filtrate Pumps"]
[]
[]
["MANUFACTURING LE MELE/SARTHE"]
[" - Rubber belt N°1 grooving"]
[]
[]
["PACKING",null,null,null,null,null,null,null,null,null,null,null,null,null,null,null,null,null,null,null,null,null,null,null,null,null,null,null,null,null,null,null,null,null,null,null,null,null,"1 - 3 weeks depending of filter size + customer spec"]
[]
["EXW HASLER PLANT - LE MELE SUR SARTHE",null,null,null,null,null,null,null,null,null,null,null,null,null,null,null,null,null,null,null,null,null,null,null,null,null,null,null,null,null,null,null,null,null,null,null,"▲"]
[]
["TRANSPORT"]
[]
["ERECTION"]
[]
["COLD & HOT COMMISSIONING"]
[]
[]
[]
[]
[]
[]
["OBSERVATIONS :",null,null,null,null,null,null,null,null,null,null,null,null,null,null,null,null,null,null,null,null,null,null,null,null,null,null,null,null,null,null,null,null,null,null,null,null,null,null,"CUSTOMER :",null,null,null,{"$f":"Calculations!C2","v":"CARESTER"}]
[]
[null,null,null,null,null,null,null,null,null,null,null,null,null,null,null,null,null,null,null,null,null,null,null,null,null,null,null,null,null,null,null,null,null,null,null,null,null,null,null,"PROJECT :",null,null,null,{"$f":"Calculations!C4","v":"CAREMAG"}]
[]
[null,null,null,null,null,null,null,null,null,null,null,null,null,null,"Révision",null,null,null,0,null,null,1,null,null,2,null,null,3,null,null,4,null,null,5,null,null,6,null,null,"PLANNING :",null,null,null,null,null,null,null,null,null,null,null,null,null,null,null,"Pl. Réf:",null,{"$f":"Calculations!C3","v":726789}]
[null,null,null,null,null,null,null,null,null,null,null,null,null,null,"Date"]

{"sheet":"I 27200 (Carbonate)","index":8,"n_rows":45,"n_cols":22,"rows_kept":45,"cut":false,"hidden":false,"merged":[[44,1,45,3],[1,6,3,16],[5,21,7,21],[11,21,13,21],[12,2,12,4],[16,18,16,20],[17,21,19,21],[2,1,3,1],[7,1,8,4],[26,4,29,19],[31,18,31,20],[32,6,32,8],[32,10,32,12],[32,14,32,16]]}
[]
[null,null,null,null,null,null,"Flowsheet CAREMAG - 2B5 - Tb"]
[null,"Uniquement pour info car choix taille par le client","Filtration Rate",{"$f":"'[34]Synthèse essai'!J9","v":182.86733447349133},"kg/h/m²"]
[null,null,"Filter Size",{"$f":"D17/(D3/1000)","v":8.9955923770434862E-2},"m²"]
[null,null,"Selected Size",2,"m²",null,null,null,null,null,null,null,null,null,null,null,null,null,"WASH WATER 3",null,null,"WR 3"]
[null,null,"Calculated filtration rate",{"$f":"D17/D5","v":8.2249999999999997E-3},"t/h/m²",null,null,null,null,null,null,null,null,null,null,null,null,null,"Flow rate design",{"$f":"T7*T8","v":2.51685E-2},"T/h",{"$f":"T7/T34","v":1.5}]
[null,null,null,null,null,null,null,null,null,null,null,null,null,null,null,null,null,null,"Flow rate design",{"$f":"L35","v":2.4674999999999999E-2},"m3/h"]
[null,"Pire cas pour Tb slurry",null,null,null,null,null,null,null,null,null,null,null,null,null,null,null,null,"Density",1.02,"t/m3"]
[]
[]
[null,null,null,null,null,null,null,null,null,null,null,null,null,null,null,null,null,null,"WASH WATER 2",null,null,"WR 2"]
[null,null,null,null,null,null,null,null,null,null,null,null,null,null,null,null,null,null,"Flow rate design",{"$f":"T13*T14","v":2.51685E-2},"T/h",{"$f":"T13/T34","v":1.5}]
[null,null,"SLURRY",null,null,null,null,null,null,null,null,null,null,null,null,null,null,null,"Flow rate design",{"$f":"P35","v":2.4674999999999999E-2},"m3/h"]
[null,null,"Slurry Flow rate design",{"$f":"D15/D18","v":0.32863849765258213},"m3/h",null,null,null,null,null,null,null,null,null,null,null,null,null,"Density",1.02,"t/m3"]
[null,null,"Slurry Flow rate design",0.35,"T/h"]
[null,null,"Solids",4.7E-2,"%"]
[null,null,"Solids flow design",{"$f":"D15*D16","v":1.6449999999999999E-2},"T/h",null,null,null,null,null,null,null,null,null,null,null,null,null,"WASH WATER 1",null,null,"WR 1"]
[null,null,"Slurry density",1.0649999999999999,"t/m3",null,null,null,null,null,null,null,null,null,null,null,null,null,"Flow rate design",{"$f":"T19*T20","v":2.51685E-2},"T/h",1.5]
[null,null,"Liquid density",null,"t/m3",null,null,null,null,null,null,null,null,null,null,null,null,null,"Flow rate design",{"$f":"V18*T34","v":2.4674999999999999E-2},"m3/h"]
[null,null,"Solids density",null,"t/m3",null,null,null,null,null,null,null,null,null,null,null,null,null,"Density",1.02,"t/m3"]
[null,null,"Temperature",50,"°C"]
[]
[]
[]
[]
[]
[]
[]
[]
[]
[null,"Données client"]
[null,null,null,null,null,null,null,null,null,null,null,null,null,null,null,null,null,null,"TOTAL CAKE PRODUCTION"]
[null,null,null,null,null,null,"MOTHER LIQUOR",null,null,null,"WASH FILTRATE 2",null,null,null,"WASH FILTRATE 1",null,null,null,"Cake flow rate design",{"$f":"T34/(1-T35)","v":4.1124999999999995E-2},"T/h"]
[null,null,null,null,null,null,"Flow rate design",{"$f":"D15-T33+T6","v":0.33404349999999999},"t/h",null,"Flow rate design",{"$f":"L35*L36","v":2.51685E-2},"T/h",null,"Flow rate design",{"$f":"P35*P36","v":2.51685E-2},"T/h",null,"Dry cake flow rate design",{"$f":"D17","v":1.6449999999999999E-2},"T/h"]
[null,null,null,null,null,null,"Flow rate design",{"$f":"H34/H36","v":0.32749362745098037},"m3/h",null,"Flow rate design",{"$f":"T13","v":2.4674999999999999E-2},"m3/h",null,"Flow rate design",{"$f":"T19","v":2.4674999999999999E-2},"m3/h",null,"Moisture",0.6,"%"]
[null,null,null,null,null,null,"Density",1.02,"t/m3",null,"Density",1.02,"t/m3",null,"Density",1.02,"t/m3"]
[]
[]
[]
[]
[]
[]
[]
[]
[null,"Design température : 100°C"]

{"sheet":"Simulation zones","index":9,"n_rows":54,"n_cols":37,"rows_kept":54,"cut":false,"hidden":false,"merged":[[39,4,42,17],[46,4,49,17],[53,4,56,17],[25,1,28,28],[25,29,28,32],[9,1,12,40],[17,1,20,32],[17,33,20,35],[17,36,20,40],[25,33,28,40]]}
[]
[]
[]
[]
[]
[]
[]
[]
[]
[null,"4000 mm"]
[]
[]
[]
[]
[]
[]
[]
[null,"3200 mm",null,null,null,null,null,null,null,null,null,null,null,null,null,null,null,null,null,null,null,null,null,null,null,null,null,null,null,null,null,null,null,"300mm",null,null,"500 mm"]
[]
[]
[]
[]
[]
[]
[]
[null,"2800 mm",null,null,null,null,null,null,null,null,null,null,null,null,null,null,null,null,null,null,null,null,null,null,null,null,null,null,null,"400 mm",null,null,null,"800 mm"]
[]
[]
[]
[]
[]
[]
[]
[]
[]
[]
[]
[]
[]
[null,null,null,null,"Alimentation + Lavage 1"]
[]
[]
[]
[]
[]
[]
[null,null,null,null,"Lavage 2"]
[]
[]
[]
[]
[]
[]
[null,null,null,null,"Lavage 3 + Séchage (avec SteamBox)"]

{"sheet":"Calculations","index":10,"n_rows":79,"n_cols":48,"rows_kept":79,"cut":false,"hidden":false,"merged":[[46,8,46,9],[48,6,48,7],[0,4,0,5],[21,21,23,21],[52,13,52,16],[50,0,50,3],[50,5,50,6],[51,0,51,3],[51,5,51,6],[51,7,51,8],[52,0,52,3],[52,4,52,6],[52,8,52,9],[49,0,49,3],[49,5,49,6],[49,12,49,13],[47,0,47,1],[47,4,47,5],[47,6,47,7],[47,8,47,9],[47,10,47,11],[47,12,47,13],[46,0,46,2],[46,4,46,5],[46,6,46,7],[44,25,44,26],[48,10,48,11],[44,27,44,28],[44,29,44,30],[44,31,44,32],[45,0,45,1],[45,4,45,5],[45,6,45,7],[45,8,45,9],[45,10,45,11],[44,0,44,2],[44,4,44,5],[44,6,44,7],[44,8,44,9],[44,10,44,11],[44,12,44,13],[45,12,45,13],[45,15,45,16],[46,10,46,11],[46,12,46,13],[46,14,46,16],[47,15,47,16],[48,0,48,2],[48,4,48,5],[48,8,48,9],[48,12,48,13],[48,15,48,16],[40,0,40,1],[40,25,40,26],[40,27,40,32],[41,25,41,32],[42,2,42,3],[42,4,42,5],[42,6,42,7],[42,8,42,9],[42,10,42,11],[42,12,42,13],[42,14,42,16],[42,25,42,26],[43,0,43,1],[43,4,43,5],[43,6,43,7],[43,8,43,9],[43,10,43,11],[43,12,43,13],[43,15,43,16],[43,25,43,26],[44,14,44,16],[39,0,39,2],[39,3,39,5],[39,12,39,13],[39,25,39,26],[39,27,39,28],[39,29,39,32],[37,25,37,26],[37,27,37,28],[37,29,37,30],[37,31,37,32],[38,0,38,2],[38,3,38,5],[38,25,38,26],[38,27,38,28],[38,29,38,30],[38,31,38,32],[34,14,34,15],[35,0,35,16],[36,0,36,2],[36,9,36,16],[37,0,37,2],[37,3,37,5],[37,12,37,17],[32,0,32,3],[33,0,33,3],[34,0,34,3],[34,5,34,6],[34,8,34,9],[34,11,34,12],[31,0,31,3],[31,4,31,5],[31,6,31,8],[31,10,31,12],[31,13,31,14],[31,15,31,17],[29,25,29,26],[29,27,29,28],[29,29,29,30],[29,31,29,32],[30,0,30,3],[30,5,30,6],[30,10,30,13],[30,15,30,17],[28,17,28,18],[29,0,29,3],[29,5,29,6],[29,10,29,11],[29,12,29,13],[29,14,29,16],[29,17,29,18],[28,0,28,3],[28,5,28,6],[28,7,28,8],[28,9,28,11],[28,12,28,13],[28,14,28,16],[26,0,26,3],[26,6,26,7],[26,9,26,11],[26,12,26,13],[26,14,26,17],[27,0,27,3],[27,6,27,7],[27,9,27,11],[27,12,27,13],[27,14,27,17],[24,0,24,3],[24,10,24,12],[24,13,24,15],[24,17,24,18],[25,0,25,3],[25,10,25,12],[25,13,25,16],[25,17,25,18],[22,0,22,3],[22,4,22,6],[22,7,22,9],[22,10,22,12],[22,13,22,16],[23,0,23,3],[23,5,23,8],[23,10,23,12],[23,13,23,14],[23,15,23,16],[20,0,20,3],[20,4,20,6],[20,7,20,9],[20,10,20,12],[20,13,20,14],[21,2,21,3],[21,4,21,6],[21,7,21,9],[21,10,21,12],[21,13,21,14],[18,10,18,12],[18,13,18,14],[19,0,19,3],[19,4,19,6],[19,7,19,9],[19,10,19,12],[19,13,19,14],[17,0,17,3],[17,4,17,6],[17,7,17,9],[18,0,18,3],[18,4,18,6],[18,7,18,9],[15,0,15,3],[15,4,15,6],[15,7,15,9],[15,10,15,12],[15,13,15,14],[16,0,16,3],[16,4,16,6],[16,7,16,9],[16,10,16,12],[16,13,16,14],[13,0,13,3],[13,4,13,6],[13,7,13,9],[13,10,13,12],[13,13,13,14],[14,0,14,3],[14,4,14,6],[14,7,14,9],[14,10,14,12],[14,13,14,14],[12,0,12,3],[12,4,12,6],[12,7,12,9],[12,10,12,12],[12,13,12,14],[12,16,12,18],[11,0,11,3],[11,4,11,6],[11,7,11,9],[11,10,11,12],[11,16,11,18],[11,13,11,15],[10,10,10,12],[10,13,10,14],[10,15,10,16],[10,17,10,18],[8,13,8,15],[9,0,9,3],[9,4,9,6],[9,7,9,9],[9,10,9,12],[9,13,9,14],[9,15,9,16],[8,0,8,1],[8,2,8,3],[8,4,8,5],[8,6,8,7],[8,8,8,9],[8,10,8,12],[9,17,9,18],[10,0,10,3],[10,4,10,6],[10,7,10,9],[1,4,1,5],[4,20,4,21],[1,0,1,1],[1,17,1,18],[2,0,2,1],[2,4,2,5],[2,16,2,17],[3,0,3,1],[3,16,3,17],[4,0,4,18],[5,0,5,18],[6,1,6,3],[7,0,7,1],[7,2,7,3],[7,4,7,5],[7,6,7,7],[7,8,7,9],[7,10,7,12],[7,16,7,18]]}
["File N°",{"$f":"C3&\"_\"&K10&\"_\"&H3","v":"726789_2B5_rev4"},null,null,"Filter N°",null,"03",null,null,null,null,null,null,null,null,null,null,null,null,{"$f":"IF(AND(Q8=\"BàV sorties droites (DN150)\",OR(I9=\"SERIE 1\",I9=\"SERIE 2\")),\"Warning!! IMPOSSIBLE CHOICE, no straight pipes available, correction needed\",IF(AND(A9=120,S7=\"oui\"),\"Talons de 120 mm et réhausses!! CHOIX IMPOSSIBLE, à corriger\",IF(AND(I9<>\"SERIE 1\",H11=\"PPH-typePilote\"),\"Warning!! PPH-typePilote vacuum box not available for this size!! Change choice line 11\",IF(AND(I9=\"SERIE 1\",H11=\"PPH-typePilote\"),\"Pilote filter for process studies is selected\",IF(I9=\"SERIE 1\",\"Warning!! The filter selected is Serial 1 for industrial application, not a pilote unit?? See line 11\",IF(AND(A9=70,S7=\"oui\"),\"Warning!! Filter will be equiped with raising edge in the feed zone!!\",IF(E29>18,\"VALEUR ANORMALE POUR LA BOITE à VIDE\",\"VOUS SELECTIONNEZ UN FILTRE STANDARD\")))))))","v":"Warning!! Filter will be equiped with raising edge in the feed zone!!"},null,null,null,"listMatiéres","Exclu","Boite à vide ","Roul Embarra","Aliment","GoulGatea","RoulSortie","DechaGat","GoulLavToi","RampLavag","RoulRetBande","RoulRetoutoil","SuppBAV","Bati","Boulons","Bande",null,"n/a","n/a",null,null,"Hotte"]
["Client",null,"CARESTER",null,"Revision offre",null,4,null,null,"Industry","Mining & Metal",null,null,null,null,null,null,{"$f":"TODAY()","v":"2025-04-25"},null,null,null,null,null,"304L",1,"304L","304L","304L","304L","304L","304L","304L","304L","304L","304L","304L","E24","AISI 304","Naturel",1,20,"3/4\"",0,null,"Longueur",{"$f":"R55","v":7130}]
["File-Project N°",null,726789,null,"Offer Number",null,{"$f":"K10&\"-\"&H3","v":"2B5-rev4"},{"$f":"\"rev\"&G2","v":"rev4"},null,"Product ref","Tb slurry filtration",null,null,null,null,null," Step frame N°/meter",null,null,null,null,null,null,"316L",2,"316L","316L","316L","316L","316L","316L","316L","316L","316L","316L","316L","304L","AISI 316","SBR",2,25,"1\"",1,null,"Largeur HT",{"$f":"R54","v":1150}]
["Ref. client",null,"CAREMAG",null,null,null,null,null,"Fill above product name or  \"  your \"",null,null,null,null,null,null,null,{"$f":"VLOOKUP(B7,[31]FabSpecification!$A$2:$H$810,8)","v":"2 x 2"},null,null,null,null,null,null,"U45N",3,"U45N","U45N","U45N","U45N","316L","316L","316L","316L","316L","316L","316L","316L",null,"EPDM",3,32,"1\"1/4",2,null,"Débit théorique",{"$f":"ROUNDUP(((((AT2/1000)*(AT3/1000))*1.5)*100),-2)","v":1300}]
[{"$f":"IF(A9=120,\"120 mm curb have to be motivated?? preferably choice 70 mm with PPH raising in the feed zone\",\"To produce a specification, fill the red values\")","v":"To produce a specification, fill the red values"},null,null,null,null,null,null,null,null,null,null,null,null,null,null,null,null,null,null,null,"HAUTEUR PULPE",null,null,"E24",4,"Titane",null,null,null,"316L","316L","316L","316L","316L","316L","316L","U45N",null,"Butyl",4,40,"1\"1/2",3,null,"Nbre connection",{"$f":"IF(AND(AT2>=1,AT2<=5000),1,IF(AND(AT2>=5000,AT2<=9999),2,IF(AND(AT2>=10000,AT2<=14999),3,IF(AND(AT2>=15000,AT2<=19999),4,IF(AND(AT2>=20000,AT2<=24999),5,6)))))","v":2}]
[{"$f":"T1","v":"Warning!! Filter will be equiped with raising edge in the feed zone!!"},null,null,null,null,null,null,null,null,null,null,null,null,null,null,null,null,null,null,null,null,null,null,"904L",5,"904L","904L","904L","904L","316L","316L","316L","316L","316L","316L","316L","AISI 317L",null,"Neoprene",5,50,"2\"",4,null,"Diamètre sélectionné",{"$f":"IF(AND(AT8>=0,AT8<=49),50,IF(AND(AT8>=50,AT8<=99),100,IF(AND(AT8>=100,AT8<=149),150,IF(AND(AT8>=150,AT8<=199),200,IF(AND(AT8>=200,AT8<=249),250,IF(AND(AT8>=250,AT8<=299),300,IF(AND(AT8>=300,AT8<=349),350,IF(AND(AT8>=350,AT8<=399),400,IF(AND(AT8>=400,AT8<=449),450,IF(AND(AT8>=450,AT8<=499),500,IF(AND(AT8>=500,AT8<=599),600,700)))))))))))","v":200}]
["Selection du filtre","2 / 500 / 70 / SERIE 2",null,null,null,null,null,null,null,null,"Prevoir des rehausses sur talons de 70 = 130",null,null,null,null,null,null,null,"oui",null,"Longeur zone formation",{"$f":"X24*R15/60","v":9.4848732624693373},"m","SANICRO ",6,"SANICRO ","SANICRO 28","SANICRO 28","SANICRO 28 ","316L","316L","316L","316L","316L","316L","316L","904L",null,"Nitrile",6,65,null,5,null,"Vitesse de l'air",10]
["TALONS",null,"SURFACE",null,"LARGEUR",null,"LONGEUR BàV",null,"BATI",null,"Ø TAMBOUR",null,null,null,null,null,"BàV sorties coudées",null,null,null,"Surface zone formation",{"$f":"V7*E9/1000","v":4.7424366312346686},"m²","SVR",7,"SVR","Acier caoutchouté","POLYPROPYLENE","POLYPROPYLENE","Acier caoutchouté","POLYPROPYLENE","POLYPROPYLENE","316L","Acier caoutchouté","Acier caoutchouté","316L",null,null,null,7,80,"3\"1/2",6,null,"Diamètre théorique",{"$f":"ROUNDUP(SQRT((AT4)/(AT5*AT7*3600)/3.14*4)*1000,-1)","v":160}]
[{"$f":"VLOOKUP($B$7,[31]FabSpecification!$A$2:$J$810,3,FALSE)","v":70},null,{"$f":"VLOOKUP(B7,[31]FabSpecification!$A$2:$J$810,4,FALSE)","v":2},null,{"$f":"VLOOKUP($B$7,[31]FabSpecification!$A$2:$J$810,6,FALSE)","v":500},null,{"$f":"VLOOKUP($B$7,[31]FabSpecification!$A$2:$J$810,5,FALSE)","v":4000},null,{"$f":"VLOOKUP($B$7,[31]FabSpecification!$A$2:$J$810,2,FALSE)","v":"SERIE 2"},null,{"$f":"VLOOKUP($B$7,[31]FabSpecification!$A$2:$J$810,7,FALSE)","v":630},null,null,"Connection en",null,null,null,null,"metric",null,"temps formation",{"$f":"R15/3600","v":0.48333333333333334},"h","POLYPROPYLENE",8,"PPH-typePilote","POLYPROPYLENEEE","CAOUT",null,0,0,0,null,null,null,null,null,null,null,null,100,"4\"",7]
["MATIERES >?? SELECTION",null,null,null,"MATIERES DU DEVIS",null,null,"CHOIX MATIERES",null,null,{"$f":"(C9)&\"B\"&(E9/100)","v":"2B5"},null,null,"m3/h",null,"dépression mbar ",null,"# DE GOULOTTES",null,null,"Volume pulpe ",{"$f":"N15*V9","v":0.15884194053208137},"m3","CAOUT",9,null,"choisir valeur","choisir valeur","choisir valeur","choisir valeur","choisir valeur","choisir valeur","choisir valeur","choisir valeur","choisir valeur","choisir valeur",null,null,null,null,125,null,8]
["BOITE A VIDE",null,null,null,{"$f":"$H$11","v":"304L"},null,null,"304L",null,null,"POMPE à VIDE",null,null,{"$f":"100*C9","v":200},null,800,null,3,null,null,"Hauteur pulpe",{"$f":"V10/V8*1000","v":33.493740219092331},"mm","Basic ou option",null,null,"EN-S235JR",null,null,null,null,null,null,null,null,null,null,null,200,null,150,"6\"",9]
["ROULEAU D'ENTRE",null,null,null,{"$f":"IF(OR(AND(H11=\"SVR\",H12=\"Basic ou option\"),AND(H11=\"Titane\",H12=\"Basic ou option\")),\"CAOUT\",IF(H12=\"Basic ou option\",H11,H12))","v":"304L"},null,null,"Basic ou option",null,null,"TYPE ALIMENTATEUR",null,null,"N/A",null,null,"QDC",null,null,null,null,null,null,"PPH-typePilote",9,null,null,"Basic ou option","Titane",7,"Basic ou option",null,null,null,null,null,null,null,400,null,200,"8\"",10]
["ALIMENTATEUR",null,null,null,{"$f":"IF(OR(AND(H11=\"SVR\",H13=\"Basic ou option\"),AND(H11=\"Titane\",H13=\"Basic ou option\")),\"POLYPROPYLENE\",IF(H13=\"Basic ou option\",H11,H13))","v":"304L"},null,null,"Basic ou option",null,null,"TYPE DE GOULOTTE",null,null,null,null,null,"OVER",null,null,null,null,null,null,null,null,"304L",null,"304L","304L",1,"304L",null,null,null,null,null,null,null,500,null,250,"10\"",12]
["GOULOTTE",null,null,null,{"$f":"IF(OR(AND(H11=\"SVR\",H14=\"Basic ou option\"),AND(H11=\"Titane\",H14=\"Basic ou option\")),\"POLYPROPYLENE\",IF(H14=\"Basic ou option\",H11,H14))","v":"304L"},null,null,"Basic ou option",null,null,null,null,null," m3/h",null,"sp.gr","t/h","cycle sec","%",null,"POMPES EXTRACTION","m3/h",null,null,null,"304L",null,"316L","316L",2,"316L","Si(Bouton 19 Copie 2!X=1;(Index($AA$2:$AA$10;$V$11));(Index(X2:X10;$V30-1)))",null,null,null,null,null,null,600,null,300,"12\"",14]
["ROULEAUX DE SORTIE",null,null,null,{"$f":"IF(OR(AND(H11=\"SVR\",H15=\"Basic ou option\"),AND(H11=\"Titane\",H15=\"Basic ou option\")),\"CAOUT\",IF(OR(AND(H11=\"U45N\",H15=\"Basic ou option\"),AND(H11=\"904L\",H15=\"Basic ou option\")),\"316L\",IF(H15=\"Basic ou option\",H11,H15)))","v":"304L"},null,null,"Basic ou option",null,null,"PULPE / CYCLE FORM",null,null,{"$f":"'I 27200 (Carbonate)'!D14","v":0.32863849765258213},null,{"$f":"'I 27200 (Carbonate)'!D18","v":1.0649999999999999},{"$f":"N15*P15","v":0.34999999999999992},1740,{"$f":"ROUNDDOWN(R15/$R$23*100,2)","v":189.69},{"$f":"IF(S15=0,0,1)","v":1},"POMPE 1",20,null,null,null,null,null,"U45N","U45N",3,"U45N",null,null,null,null,null,null,null,800,null,350,"14\"",15]
["TREMIE DE DECHARGE",null,null,null,{"$f":"IF(OR(AND(H11=\"SVR\",H16=\"Basic ou option\"),AND(H11=\"Titane\",H16=\"Basic ou option\")),\"POLYPROPYLENE\",IF(OR(AND(H11=\"U45N\",H16=\"Basic ou option\"),AND(H11=\"904L\",H16=\"Basic ou option\")),\"316L\",IF(H16=\"Basic ou option\",H11,H16)))","v":"304L"},null,null,"Basic ou option",null,null,"SOLIDES",null,null,"Approximative",null,2.8,{"$f":"'I 27200 (Carbonate)'!D17","v":1.6449999999999999E-2},null,null,null,"POMPE 2",30,null,null,null,"N/A",null,"E24","E24",4,"E24",null,null,null,null,null,null,null,1000,null,400,"16\"",16]
["GOULOTTE LAVAGE TOILE",null,null,null,{"$f":"IF(OR(AND(H11=\"SVR\",H17=\"Basic ou option\"),AND(H11=\"Titane\",H17=\"Basic ou option\")),\"POLYPROPYLENE\",IF(OR(AND(H11=\"U45N\",H17=\"Basic ou option\"),AND(H11=\"904L\",H17=\"Basic ou option\")),\"316L\",IF(H17=\"Basic ou option\",H11,H17)))","v":"304L"},null,null,"Basic ou option",null,null,"FILTRATE",null,null,{"$f":"'I 27200 (Carbonate)'!H35","v":0.32749362745098037},null,{"$f":"'I 27200 (Carbonate)'!H36","v":1.02},{"$f":"N17*P17","v":0.33404349999999999},null,null,null,"POMPE 3",50,null,null,null,"FRP",null,"904L","904L",5,"904L",null,null,null,null,null,null,null,1200,null,450,"18\"",17]
["RAMPES LAVAGE TOILE",null,null,null,{"$f":"IF(OR(AND(H11=\"SVR\",H18=\"Basic ou option\"),AND(H11=\"Titane\",H18=\"Basic ou option\"),AND(H11=\"U45N\",H18=\"Basic ou option\"),AND(H11=\"904L\",H18=\"Basic ou option\")),\"316L\",IF(H18=\"Basic ou option\",H11,H18))","v":"304L"},null,null,"Basic ou option",null,null,"IF LAVAGEING & ML SEPARATED , CONSIDER INTERZONE",null,null,null,null,null,null,5,{"$f":"ROUNDDOWN(R18/$R$23*100,2)","v":0.54},null,"POMPE 4",400,null,null,null,"304L",null,"SANICRO 28","SANICRO 28 ",6,"SANICRO 28",null,null,null,null,null,null,null,1400,null,500,"20\"",18]
["ROULEAUX SOUTIEN BANDE",null,null,null,{"$f":"IF(OR(AND(H11=\"SVR\",H19=\"Basic ou option\"),AND(H11=\"Titane\",H19=\"Basic ou option\")),\"CAOUT\",IF(OR(AND(H11=\"U45N\",H19=\"Basic ou option\"),AND(H11=\"904L\",H19=\"Basic ou option\")),\"316L\",IF(H19=\"Basic ou option\",H11,H19)))","v":"304L"},null,null,"Basic ou option",null,null,"LAVAGE 1 / CYCLE",null,null,{"$f":"'I 27200 (Carbonate)'!T7","v":2.4674999999999999E-2},null,1.1000000000000001,{"$f":"N19*P19","v":2.71425E-2},16.5,{"$f":"ROUNDDOWN((AB32+AC32)/$R$23*100,2)","v":2.34},{"$f":"IF(S19=0,0,1)","v":1},null,null,null,null,null,null,null,"SVR","SVR",7,"Titane",null,null,null,null,null,null,null,1600,null,600,"24\"",20]
["ROULEAUX RETOUR TOILE",null,null,null,{"$f":"IF(OR(AND(H11=\"SVR\",H20=\"Basic ou option\"),AND(H11=\"Titane\",H20=\"Basic ou option\")),\"CAOUT\",IF(OR(AND(H11=\"U45N\",H20=\"Basic ou option\"),AND(H11=\"904L\",H20=\"Basic ou option\")),\"316L\",IF(H20=\"Basic ou option\",H11,H20)))","v":"304L"},null,null,"Basic ou option",null,null,"LAVAGE 2 / CYCLE",null,null,{"$f":"'I 27200 (Carbonate)'!T13","v":2.4674999999999999E-2},null,1.1000000000000001,{"$f":"N20*P20","v":2.71425E-2},16.5,{"$f":"ROUNDDOWN((AD32+AE32)/$R$23*100,2)","v":2.34},{"$f":"IF(S20=0,0,1)","v":1},"Palier Fonte",null,null,null,null,null,null,"POLYPROPYLENE","POLYPROPYLENE",8,null,null,null,null,null,null,null,null,1800,null,700,"27\"",22]
["SUPPORT BàV",null,null,null,{"$f":"IF(OR(AND(H11=\"SVR\",H21=\"Basic ou option\"),AND(H11=\"Titane\",H21=\"Basic ou option\"),AND(H11=\"U45N\",H21=\"Basic ou option\"),AND(H11=\"904L\",H21=\"Basic ou option\")),\"316L\",IF(H21=\"Basic ou option\",H11,H21))","v":"304L"},null,null,"Basic ou option",null,null,"LAVAGE 3 / CYCLE",null,null,{"$f":"'I 27200 (Carbonate)'!T19","v":2.4674999999999999E-2},null,1.1000000000000001,{"$f":"N21*P21","v":2.71425E-2},16.5,{"$f":"ROUNDDOWN(R21/$R$23*100,2)","v":1.79},{"$f":"IF(S21=0,0,1)","v":1},null,null,null,null,null,null,null,"Acier caoutchouté","Acier caoutchouté",10,null,null,null,null,null,null,null,null,2000,null,800,"32\"",24]
["TABLE / ","/ BATI","304L",null,{"$f":"H22","v":"304L"},null,null,"304L",null,null,"ESSORAGE",null,null,null,null,null,null,30,{"$f":"ROUNDDOWN(R22/$R$23*100,2)","v":3.27},null,null,"Vitesse bande","Standard",{"$f":"((G9/1000)/(R23/60))","v":0.26165167620605068},40,"Hz",null,"Titane","Basic ou option",11,null,null,null,null,null,null,null,null,2200]
["BANDE",null,null,null,{"$f":"H23","v":"EPDM"},null,null,"EPDM",null,null,"TOTAL CYCLE",null,null,"do not change  Thickness load",null,null,null,{"$f":"AH32/2","v":917.25},{"$f":"ROUNDDOWN(R23/$R$23*100,2)","v":100},null,null,null,"Maxi",{"$f":"X22*Y23/Y22","v":0.39247751430907601},60,"Hz ",null,null,"PPH-typePilote",9,null,null,null,null,null,null,null,null,2400]
["EPAISSEUR BANDE   MM",null,null,null,{"$f":"H61","v":18.5},"BOULON, MATIERE",null,null,null,{"$f":"IF(OR(E22=\"E24\",E22=\"304L\"),\"304\",\"316\")","v":"304"},"Hauteur Gâteau",null,null,{"$f":"A9-10","v":60},null,"InterZone",null,5,null,{"$f":"SUM(T15:T21)","v":4},null,null,"Nominal",{"$f":"X22*Y24/Y22","v":0.32706459525756337},50,"Hz ",null,null,null,4,null,null,null,null,null,null,null,null,2600]
["VITESSE DE LA BANDE m/min",null,null,null,"maxi",{"$f":"X23","v":0.39247751430907601},"mini",{"$f":"F25/J25","v":3.2706459525756335E-2},"Ratio",12,"PUISSANCE ABSORBEE",null,null,{"$f":"IF(R26=\"Kw\",H72 & \" kW\",J72 & \" HP\")","v":"0,06 kW"},null,null,"Inst.",{"$f":"IF(R26=\"kW\",H73 & \" kW\",J73 & \" HP\")","v":"0,37 kW"},null,null,null,null,null,null,null,null,null,null,null,null,null,null,null,null,null,null,null,null,2800]
["VITESSE DU TAMBOUR RPM",null,null,null,"maxi",{"$f":"F25/((H62/1000)*PI())","v":0.19264375159509495},"mini",{"$f":"F26/J25","v":1.6053645966257912E-2},null,null,"COUPLE A L'ARBRE",null,null,{"$f":"H71*10","v":2319.9441837187496},null,null,null,"kW",null,null,null,null,null,null,null,null,null,null,null,null,null,null,null,null,null,null,null,null,3000]
["ALIMENTATEUR/ VITESSE m/s",null,null,null,1.2,null,"NOMBRE DIA",null,{"$f":"IF(AND($Q$12=\"QDC\",$E$9>1500),2,IF(AND($Q$12=\"QDC\",$E$9<=1500),1,IF(AND($Q$12<>\"QDC\",$E$9>=2000),2,1)))","v":1},"DIAMETRE THEORITIQUE",null,null,{"$f":"SQRT((N15/I27*4)/(3600*PI()*E27))*1000","v":9.8417517064444002},null,"DIAMETRE RETENUE",null,null,null,20,"debit Lavage",null,null,null,null,null,null,null,null,null,null,null,null,null,null,null,"Ø de boite à vide autorisé"]
["GOULOTTE LAVAGE / VITESSE m/s",null,null,null,1.8,null,"NOMBRE DIA",null,1,"DIAMETRE THEORITIQUE",null,null,{"$f":"SQRT((T28/I28*4)/(3600*PI()*E28))*1000","v":2.2018926260789571},null,"DIAMETRE RETENUE",null,null,null,20,{"$f":"QUARTILE(N19:N21,4)","v":2.4674999999999999E-2},null,null,null,"coef fuite","En Essorage",null,null,null,null,null,null,null,null,null,null,"Choix","Serie 3, 4, 5","Serie 2 SS","Serie 1","Pilote","Serie 2 SVR"]
["PICAGES Bàv / VITESSE m/s",null,null,null,20,{"$f":"\"DN\"&H29","v":"DN65"},null,65,null,"REDUCTEUR",null,null,{"$f":"IF($N$26<610,\"USOCOME\",\"BREVINI\")","v":"BREVINI"},null,"Courroies BàV",null,null,{"$f":"R76&\" mm\"","v":"38 mm"},null,null,null,null,null,0.35,0.65,null,null,null,null,null,null,null,null,null,null,{"$f":"IF(AND($I$9=\"SERIE 1\",H$11<>$AC$23),AM29,IF(AND($I$9=\"SERIE 1\",H$11=$AC$23),AN29,IF(AND($I$9=\"SERIE 2\",OR(H$11<>$AC$19,H$11<>$AC$12)),AL29,IF(AND($I$9=\"SERIE 2\",OR(H$11=$AC$19,H$11=$AC$12)),AO29,AK29))))","v":50},50,50,65,20,50]
["TUYAU INTERNE /MATIERE",null,null,null,{"$f":"IF(OR(AND(H11=\"SVR\",F30=\"Basic ou option\"),AND(H11=\"Titane\",F30=\"Basic ou option\")),\"POLYPROPYLENE\",IF(F30=\"Basic ou option\",H11,F30))","v":"304L"},"Basic ou option",null,"DRIP PAN","N/A","CAILLEBOTIS","Courroies Table",null,{"$f":"R77","v":"30 mm x 5 mm"},null,"Tension de courroies",null,null,{"$f":"IF(G9>20001,\"OUI\",\"NON\")","v":"NON"},null,null,null,null,null,"calcul collecteur",null,"collecteur1",null,"collecteur2",null,"collecteur3",null,"collecteur4",null,null,null,{"$f":"IF(AND($I$9=\"SERIE 1\",H$11=$AC$23),AM30,IF(AND($I$9=\"SERIE 1\",H$11<>$AC$23),AN30,IF(AND($I$9=\"SERIE 2\",OR(H$11=$AC$19,H$11=$AC$12)),AO30,IF(AND($I$9=\"SERIE 2\",OR(H$11<>AC$19,H$11<>AC$12)),AL30,AK30))))","v":65},65,65,null,null,75]
["COLLECTEUR / MATIERE",null,null,null,{"$f":"IF(OR(AND(H11=\"SVR\",F31=\"Basic ou option\"),AND(H11=\"Titane\",F31=\"Basic ou option\")),\"CAOUT\",IF(F31=\"Basic ou option\",H11,F31))","v":"304L"},"Basic ou option",null,"WALKWAYS","N/A","N/A","Vitesse (m/s) dans tuyau vide",null,null,null,28,"nbre ballons",null,null,3,null,null,null,null,null,null,"Form","interzone","Lavag1","interzone","Lavag","interzone","Lavag3","essorag","Cycle _ %",null,{"$f":"IF(AND($I$9=\"SERIE 1\",H$11=$AC$23),AM31,IF(AND($I$9=\"SERIE 1\",H$11<>$AC$23),AN31,IF(AND($I$9=\"SERIE 2\",OR(H$11=$AC$19,H$11=$AC$12)),AO31,IF(AND($I$9=\"SERIE 2\",OR(H$11<>AC$19,H$11<>AC$12)),AL31,AK31))))","v":80},80,80,null,null,90]
["NOURRICE Ø CHOIX",null,null,null,65,null,"DIAMETRE THEORITIQUE",null,null,{"$f":"Z46","v":42.926032806259116},"DIA VERS PàV",null,null,65,null,"DIAMETRE THEORIQUE",null,null,{"$f":"SQRT((N11/3600)*4/(PI()*O31))*1000","v":50.262002924342291},null,null,null,null,"time sec",null,{"$f":"R15","v":1740},{"$f":"R18","v":5},{"$f":"$R$19","v":16.5},{"$f":"IF(AD32=0,0,R24)","v":5},{"$f":"R20","v":16.5},{"$f":"IF(AF32=0,0,R24)","v":5},{"$f":"R21","v":16.5},{"$f":"R22","v":30},{"$f":"SUM(Z32:AG32)","v":1834.5},"TOTAL",{"$f":"IF(AND($I$9=\"SERIE 1\",H$11=$AC$23),AM32,IF(AND($I$9=\"SERIE 1\",H$11<>$AC$23),AN32,IF(AND($I$9=\"SERIE 2\",OR(H$11=$AC$19,H$11=$AC$12)),AO32,IF(AND($I$9=\"SERIE 2\",OR(H$11<>AC$19,H$11<>AC$12)),AL32,AK32))))","v":100},100,100]
["# Piquage / zone theo",null,null,null,null," zone 1",null,{"$f":"Z45","v":1}," zone 2",null,{"$f":"AB45","v":1}," zone 3",null,{"$f":"AD45","v":1}," zone 4",null,{"$f":"AF45","v":1},"Preconisé",null,null,"Longueur totale tronçons",null,null,"% surf. zone filtrante",null,{"$f":"Z$32/$AH$32*100","v":94.848732624693383},{"$f":"AA$32/$AH$32*100","v":0.27255382938130279},0.8994276369582993,0.27255382938130279,0.8994276369582993,0.27255382938130279,0.8994276369582993,1.6353229762878168,{"$f":"SUM(Z33:AG33)","v":100},{"$f":"\"à \"&X29","v":"à 0,35"},{"$f":"IF(AND($I$9=\"SERIE 1\",H$11=$AC$23),AM33,IF(AND($I$9=\"SERIE 1\",H$11<>$AC$23),AN33,IF(AND($I$9=\"SERIE 2\",OR(H$11=$AC$19,H$11=$AC$12)),AO33,IF(AND($I$9=\"SERIE 2\",OR(H$11<>AC$19,H$11<>AC$12)),AL33,AK33))))","v":125},125,125,null,null,null,null,"on all sides of the filter + 2 stairs",null,null,null,null,"en entier du filtre + 2 Escaliers"]
["Long. manifold(s) /Section(s) mm",null,null,null,null,"{",null,{"$f":"IF(S31=1,\" \",IF(S31=3,$Z$49,$Z$50))","v":3851.73},{"$f":"IF(S31=1,\"\",IF(S31=3,AA49,\"}{\"))","v":" "},{"$f":"IF(S31=4,AB48,IF(S31=3,AB49,\" \"))","v":" "},{"$f":"IF(S31=1,$AC$51,\"\")","v":""},{"$f":"IF(S31=4,\"}{\",IF(S31=3,\"}{\",\" \"))","v":"}{"},{"$f":"IF(S31=4,$AD$48,IF(S31=3,AD49,IF(S31=2,$AD$50,\" \")))","v":46.87},{"$f":"IF(S31=3,$AE$49,\" \")","v":"}{"},{"$f":"IF(S31=4,\"}{\",\" \")","v":" "},{"$f":"IF(S31=4,AF48,IF(S31=3,AF49,\" \"))","v":101},"}",{"$f":"ROUNDUP((H33+K33+N33+Q33),0)","v":4},null,null,{"$f":"SUM(F34:Q34)/1000","v":3.9996},null,null,"debit d'air par zone",null,{"$f":"($N$11*$X$29*((Z33)/100))","v":66.394112837285377},0.19078768056691195,0.62959934587080957,0.19078768056691195,0.62959934587080957,0.19078768056691195,0.62959934587080957,1.1447260834014716,{"$f":"SUM(Z34:AG34)","v":70.000000000000028},null,{"$f":"IF(AND($I$9=\"SERIE 1\",H$11=$AC$23),AM34,IF(AND($I$9=\"SERIE 1\",H$11<>$AC$23),AN34,IF(AND($I$9=\"SERIE 2\",OR(H$11=$AC$19,H$11=$AC$12)),AO34,IF(AND($I$9=\"SERIE 2\",OR(H$11<>AC$19,H$11<>AC$12)),AL34,AK34))))","v":0},150,null,null,null,null,null,"L shape, on one side of the filter + 2 stairs",null,null,null,null,"forme en L, sur un côté du filtre + 2 Escaliers"]
["Choix Longueur  / # Piquage",null,null,null,null,"Nbre choisi",null,{"$f":"H33","v":1},"Nbre choisi",null,{"$f":"K33","v":1},"Nbre choisi",null,{"$f":"N33","v":1},"Nbre choisi",null,{"$f":"Q33","v":1},"Total choisi",null,null,null,null,null,"% surf. essorage",null,null,{"$f":"AA33/$AH$35*100","v":11.111111111111112},null,{"$f":"AC33/$AH$35*100","v":11.111111111111112},null,{"$f":"AE33/$AH$35*100","v":11.111111111111112},null,{"$f":"AG33/$AH$35*100","v":66.666666666666671},{"$f":"AA33+AC33+AE33+AG33","v":2.4529844644317249},{"$f":"\"à \"&Y29","v":"à 0,65"},null,null,null,null,null,null,null,"on one side of the filter + 2 stairs",null,null,null,null,"sur un côté du filtre + 2 escaliers"]
["!!! value for information, The number of connection & length of section have to be adjusted accordingdly !!!",null,null,null,null,null,null,null,null,null,null,null,null,null,null,null,null,{"$f":"H35+K35+N35+Q35","v":4},null,null,{"$f":"U34/12","v":0.33329999999999999},null,null,"debit essorage",null,null,{"$f":"(($N$11*$Y$29)*AA35)/100","v":14.444444444444446},null,{"$f":"(($N$11*$Y$29)*AC35)/100","v":14.444444444444446},null,{"$f":"(($N$11*$Y$29)*AE35)/100","v":14.444444444444446},null,{"$f":"(($N$11*$Y$29)*AG35)/100","v":86.666666666666686},{"$f":"AA36+AC36+AE36+AG36","v":130.00000000000003}]
["EXPRIMER DEBIT EN",null,null,"m3/h",{"$f":"IF(D37=\"m3/h\",1,IF(D37=\"gpm\",4.4028,0.58858))","v":1},null,null,null,null,{"$f":"IF(AND(G9>20000.1, F25*G9<402000),\"Belt LAVAGE recommended\",IF(F25*G9>402000,\"Belt lubrication recommended\",\"lub or LAVAGE as per process conditions\"))","v":"lub or LAVAGE as per process conditions"},null,null,null,null,null,null,null,{"$f":"IF(D37=\"m3/h\",1,IF(D37=\"gpm\",0.0044028,0.58858))","v":1},"Montage",null,null,null,null,"debit liquide x 10",null,{"$f":"$N17*10","v":3.2749362745098036},null,{"$f":"N19*10","v":0.24675},null,{"$f":"N20*10","v":0.24675},null,{"$f":"N21*10","v":0.24675},null,{"$f":"Z37+AB37+AD37+AF37","v":4.0151862745098033},null,null,"N/A"]
["2 opérations côté gâteau",null,null,"CM 04 F - dia 1,3",null,null,{"$f":"IF(A38=\"2 in operation cake side\",ROUND((L38*2*60*H75/1000*E37),2),ROUND((L38*1*60*H75/1000*E37),2))*2","v":1.54},{"$f":"$D$37","v":"m3/h"},null,3,{"$f":"J38 & \" bar\"","v":"3 bar"},{"$f":"IF(K38=\"3 bar\",VLOOKUP(D38,[31]Données!E2:I5,3,TRUE),VLOOKUP(D38,[31]Données!E1:I5,4,TRUE))","v":1.6},"Courroies table",null,null,null,null,null,"MONT","PRE= erected on site",null,null,null,"debit / zone",null,{"$f":"Z34+AA34+AA36+Z37","v":84.304281236806531},null,{"$f":"AB34+AC34+AC36+AB37","v":15.511581470882168},null,{"$f":"AD34+AE34+AE36+AD37","v":15.511581470882168},null,{"$f":"AF34+AG34+AG36+AF37","v":88.687742095938972},null,{"$f":"AH34+AH36+AH37","v":204.01518627450986},{"$f":"Z38+AB38+AD38+AF38","v":204.01518627450983},null,"PPH"]
[" 1 Côté opposé",null,null,"CM 03 F - dia 1,1",null,null,{"$f":"ROUND(L39*1*60*H75/1000*E37,2)","v":0.57999999999999996},{"$f":"$D$37","v":"m3/h"},null,3,{"$f":"J39 & \" bar\"","v":"3 bar"},{"$f":"IF(K39=\"3 bar\",VLOOKUP(D39,[31]Données!E2:I5,3,TRUE),VLOOKUP(D39,[31]Données!E2:I6,5,TRUE))","v":1.2},"Lavage",null,null,"Oui",{"$f":"IF(P39=\"Oui\",ROUND(RIGHT($R$68,1)*2*13.8*R37,3),\"Non!\")","v":55.2},{"$f":"IF(D37=\"m3/h\",\"l/h\",D37)","v":"l/h"},null,"MONT= erected in factory before delivery",null,null,null,"Dia collect",4,{"$f":"SQRT((Z38*4/($E$29*3600))/PI())*1000","v":38.611229055587046},null,{"$f":"SQRT((AB38*4/($E$29*3600))/(3.1416))*1000","v":16.562135843468901},null,{"$f":"SQRT((AD38*4/($E$29*3600))/(3.1416))*1000","v":16.562135843468901},null,{"$f":"SQRT((AF38*4/($E$29*3600))/(3.1416))*1000","v":39.602272015460386},null,{"$f":"QUARTILE(Z39:AF39,4)","v":39.602272015460386},null,null,"316L",null,null,"Palier Fonte"]
["bande, 2 rampes",null,null,"CM 03 F - dia 1,1",null,null,{"$f":"ROUND(2*L40*1*60*H76/1000*E37,2)","v":0.86},{"$f":"$D$37","v":"m3/h"},null,3,{"$f":"J40 & \" bar\"","v":"3 bar"},{"$f":"IF(K40=\"3 bar\",VLOOKUP(D40,[31]Données!E2:I5,3,TRUE),VLOOKUP(D40,[31]Données!E2:I5,5,TRUE))","v":1.2},"Lubrification",null,null,"Non",{"$f":"IF(P40=\"Oui\",ROUND(($G$9/10000)*12*(RIGHT($R$68,1)*2)*R37,3),\"Non!\")","v":"Non!"},{"$f":"IF(D37=\"m3/h\",\"l/h\",D37)","v":"l/h"},null,null,null,null,null,"Dia collect",3,{"$f":"IF(T24=S31+1,SQRT(((Z38+AB38)*4/($E$29*3600))/(3.1416))*1000,SQRT(((Z38)*4/($E$29*3600))/(3.1416))*1000)","v":42.013424838813442},null,{"$f":"IF(T24=S31+1,\" \",SQRT(((AB38)*4/($E$29*3600))/(3.1416))*1000)","v":" "},null,{"$f":"SQRT(((AD38+AF38)*4/($E$29*3600))/(3.1416))*1000","v":42.926032806259116},null,null,null,{"$f":"QUARTILE(Z40:AF40,4)","v":42.926032806259116},null,null,null,null,null,"Palier Inox"]
["lubrification courroies BàV",null,{"$f":"IF(D37=\"m3/h\",(ROUND(($G$9/10000)*50,3)),(ROUND(($G$9/10000)*50*E37/1000,3)))","v":20},{"$f":"IF(D37=\"m3/h\",\"l/h\",D37)","v":"l/h"},{"$f":"IF(D37=\"m3/h\",(ROUND(($G$9/10000)*200,3)),(ROUND(($G$9/10000)*200*E37/1000,3)))","v":80},{"$f":"IF(D37=\"m3/h\",\"l/h\",D37)","v":"l/h"},{"$f":"G38+G39+G40","v":2.98},{"$f":"$D$37","v":"m3/h"},null,null,null,null,null,null,null,null,null,null,null,null,null,null,null,"Dia collect",2,{"$f":"SQRT(((Z38)*4/($E$29*3600))/(3.1416))*1000","v":38.611183910741573},null,{"$f":"SQRT(((AB38+AD38+AF38)*4/($E$29*3600))/(3.1416))*1000","v":46.010310107426484},null,null,null,null,null,{"$f":"QUARTILE(Z41:AF41,4)","v":46.010310107426484},null,null,null,null,null,"Palier PP"]
["Cotation","Metric",null,null,null,null,null,null,"Calcul Dia.",null,"Débit",null,21,"Vitesse",null,1.8,"=",{"$f":"ROUND(SQRT(M42*4/(3600*P42*PI()))*1000,0)","v":64},null,null,null,null,null,"Dia collect",1,{"$f":"SQRT(((Z38+AB38+AD38+AF38)*4/($E$29*3600))/(PI()))*1000","v":60.064803302028203},null,null,null,null,null,null,null,{"$f":"QUARTILE(Z42:AF42,4)","v":60.064803302028203},null,null,"N/A"]
[null,null,"matiere",null,"Dia mm",null,"Dia-A mm",null,"Dia-B mm",null,"Dia-C mm",null,"Dia-D mm",null,"Detec. Niveau / Nbre",null,null,"Pieds support",null,null,null,null,null,"Dia collect",5,null,null,null,null,null,null,null,null,null,null,null,{"$f":"IF('Offre NEW'!C3=\"GB\",\"on all sides of the filter + 2 stairs\",\"en entier du filtre + 2 escaliers\")","v":"on all sides of the filter + 2 stairs"}]
["Ballons",null,"304L","krogh",500,null,65,null,65,null,32,null,"n/a",null,"Oui",1,null,"Non",null,{"$f":"IF(O44=\"Yes\",\"DN 50 (2'')\"&\" Nbre: \"& P44,\"Excluded\")","v":"Excluded"},null,{"$f":"IF(R44=\"Yes\",\"Included\",\"Excluded\")","v":"Excluded"},null,"Dia collect",6,null,null,null,null,null,null,null,null,null,null,null,{"$f":"IF('Offre NEW'!C3=\"GB\",\"L shape, on one side of the filter + 2 stairs\",\"forme en L, sur un côté du filtre + 2 escaliers\")","v":"L shape, on one side of the filter + 2 stairs"}]
["Ø calculée - vitesse m/s",null,null,1.2,{"$f":"ROUND(Z46*SQRT(E29/D45),0)","v":175},null,{"$f":"E32","v":65},null,{"$f":"N32","v":65},null,{"$f":"ROUND(SQRT(N17*4/(3600*0.6*PI()))*1000,0)","v":14},null,null,null,null,null,null,null,null,null,null,null,null,"Nomb piquage",null,{"$f":"ROUNDUP((Z39/$H$29)^2,0)","v":1},null,{"$f":"ROUNDUP((AB39/$H$29)^2,0)","v":1},null,{"$f":"ROUNDUP((AD39/$H$29)^2,0)","v":1},null,{"$f":"ROUNDUP((AF39/$H$29)^2,0)","v":1},null,null,null,null,{"$f":"IF('Offre NEW'!C3=\"GB\",\"on one side of the filter + 2 stairs\",\"sur un côté du filtre + 2 escaliers\")","v":"on one side of the filter + 2 stairs"}]
["Cyclone (Moisture trap)",null,"304L",null,200,null,65,null,65,null,40,null,"n/a",null,"Non",0,null,"Non",null,{"$f":"IF(O46=\"Yes\",\"DN 50 (2'')\"&\" Nbre: \"& P46,\"Excluded\")","v":"Excluded"},null,{"$f":"IF(R46=\"Yes\",\"Included\",\"Excluded\")","v":"Excluded"},null,"Choix du diaTheorique",null,{"$f":"IF(S31=1,AH42,IF(S31=2,AH41,IF(S31=3,AH40,IF(S31=4,AH39,\"FALSE\"))))","v":42.926032806259116},{"$f":"VLOOKUP(ROUNDUP(Z46,0),AO3:AQ19,3,TRUE)","v":3},{"$f":"SQRT((N11*4/($O$31*3600))/(3.1416))*1000","v":50.26194415723203},{"$f":"VLOOKUP(ROUNDUP(AB46,0),AO3:AQ19,3,TRUE)","v":4}]
["Ø calculée - vitesse m/s",null,null,1.8,{"$f":"ROUND(S32*SQRT(O31/D47),0)","v":198},null,{"$f":"N32","v":65},null,{"$f":"N32","v":65},null,"TBD",null,null,null,null,null,null,null,null,null,null,null,null,"Diametre approchant",null,{"$f":"VLOOKUP(ROUNDUP(Z46,0),AO2:AO21,1,TRUE)","v":40},{"$f":"IF(Z47>(Z46*0.95),AA46,AA46+1)","v":4},{"$f":"VLOOKUP(CEILING(AB46,2),AO2:AO21,1,TRUE)","v":50},{"$f":"IF(AB47>(AB46*0.95),AC46,AC46+1)","v":4}]
["Laveur (Scrubber)",null,"Exclu","barometrique",200,null,65,null,65,null,20,null,20,null,"Non",0,null,"Non",null,{"$f":"IF(O48=\"Yes\",\"DN 50 (2'')\"&\" Nbre: \"& P48,\"Excluded\")","v":"Excluded"},null,{"$f":"IF(R48=\"Yes\",\"Included\",\"Excluded\")","v":"Excluded"},null,"Longueur section",null,{"$f":"ROUNDDOWN($G$9*(($Z$33+$AA$33)/100),0)","v":3804},"}{",{"$f":"ROUNDDOWN($G$9*((AB$33+$AC$33)/100),0)","v":46},"}{",{"$f":"ROUNDDOWN($G$9*((AD$33+AE$33)/100),0)","v":46},"}{",{"$f":"ROUNDDOWN($G$9*((AF$33+AG$33)/100),0)","v":101},null,{"$f":"SUM(Z48:AG48)","v":3997}]
["Ø calculée - vitesse m/s",null,null,1.8,{"$f":"ROUND(S32*SQRT(O31/D49),0)","v":198},null,{"$f":"G47","v":65},null,{"$f":"I47","v":65},null,{"$f":"ROUND(SQRT(P51*4/(3600*0.6*PI()))*1000,0)","v":17},null,{"$f":"SQRT((P51*4)/(3600*PI()*E28))*1000","v":9.7492570395851104},null,null,"Gaz temperature",null,65,0,null,null,null,null,null,null,{"$f":"IF(T24=S31+1,ROUNDDOWN($G$9*(($Z$33+$AA$33+AB33+AC33)/100),2),ROUNDDOWN($G$9*((Z33+AA33)/100),0))","v":3851.73},{"$f":"IF(T24=S31+1,\" \",\"}{\")","v":" "},{"$f":"IF(T24=S31+1,\" \",ROUNDDOWN($G$9*(($AB$33+$AC$33)/100),0))","v":" "},{"$f":"IF($T$24=$S$31+1,\"}{\",\" \")","v":"}{"},{"$f":"IF(T24=S31+1,ROUNDDOWN($G$9*(($AD$33+$AE$33)/100),2),\" \")","v":46.87},{"$f":"IF($T$24=$S$31+1,\"}{\",\" \")","v":"}{"},{"$f":"IF(T24=S31+1,ROUNDDOWN($G$9*((AF33+AG33)/100),0),ROUNDDOWN($G$9*((AD33+AE33+AF33+AG33)/100),0))","v":101},null,{"$f":"SUM(Z49:AG49)","v":3999.6},null,null,null,"(0,85m width - L shape, on one side of filter + 2 stairs)"]
["Tension initiale T0",null,null,null,"kg",{"$f":"((2.15+1)/(2.15-1))*$H$70*1.25","v":1997.7505434782606},null,{"$f":"F50/2","v":998.87527173913031},"/brin",{"$f":"F50*1.05","v":2097.6380706521736},"maxi",null,"A la Rupture",null,{"$f":"200*R62*(F58+210)/10000","v":42.6},"Scrubbing flow",null,"Safety factor",{"$f":"O50/(J51/1000)","v":29.754395842447245},null,null,null,null,null,null,{"$f":"ROUNDDOWN($G$9*(($Z$33+$AA$33)/100),0)","v":3804},"}{",null,null,{"$f":"ROUNDDOWN($G$9*((AB33+AC33+AD33+AE33+AF33+AG33)/100),0)","v":195},null,null,null,{"$f":"SUM(Z50:AG50)","v":3999}]
["Tension initiale T1",null,null,null,"kg",{"$f":"$H$70*1.25*(1+(1/(2.15-1)))","v":1363.5440217391301},null,"couple + 5%",null,{"$f":"F51*1.05","v":1431.7212228260867},"maxi","kW à arbre moteur",null,null,null,{"$f":"'Dimens. scrubber'!B16","v":0.48373546489791297},{"$f":"'Dimens. scrubber'!C16","v":"m3/h"},null,null,null,null,null,null,null,null,null,null,null,{"$f":"ROUNDDOWN($G$9,0)","v":4000},null,null,null,null,{"$f":"SUM(Z51:AG51)","v":4000}]
["Tension initiale T2",null,null,null,"kg",{"$f":"$H$70*1.25*(1/(2.15-1))","v":634.20652173913038},null,null,null,{"$f":"F52*(H73/H72)","v":3910.940217391304},"maxi",{"$f":"((N26*F26)/716)*0.736/10","v":4.5940662677025269E-2},null,null,"Cloth L x l (approx.)",null,null,{"$f":"((($G$9/1000)*2)+15)","v":23},{"$f":"(($E$9/1000)+0.24)","v":0.74}]
["BELT SUPPORT FRAME",null,null,null,{"$f":"IF(I53=\"basic ou option\",C22,I53)","v":"304L"},null,null,null,"304L",null,null,null,null,"surface",null,null,null,{"$f":"C9","v":2},null,{"$f":"ROUND(R53*10.764,2)","v":21.53},null,{"$f":"IF(B42=\"Metric\",R53&\" m2\",T53&\" sq.ft\" &\" (\"&R53&\" m2)\" )","v":"2 m2"},null,{"$f":"IF(OR(E9=3000,E9=4200),I9&\".\"&LEFT(E9,1),I9)","v":"SERIE 2"},null,{"$f":"Z37/10","v":0.32749362745098037},null,{"$f":"AB37/10","v":2.4674999999999999E-2},null,{"$f":"AD37/10","v":2.4674999999999999E-2},null,{"$f":"AF37/10","v":2.4674999999999999E-2},null,"Débit 1"]
["CALCUL GROUPE",null,null,null,null,null,null,null,null,null,null,"ListPuiss",null,"Largeur HT",null,null,null,{"$f":"E9+X54","v":1150},null,{"$f":"ROUND(R54*3.2808/1000,3)","v":3.7730000000000001},null,{"$f":"IF(B42=\"Metric\",R54&\" mm\",T54&\" ft\" &\" (\"&R54&\" mm)\"  )","v":"1150 mm"},null,{"$f":"HLOOKUP(X53,[31]FabSpecification!M26:AE29,2,FALSE)","v":650},null,{"$f":"IF(T24=S31+1,(Z37+AB37)/10,Z37/10)","v":0.35216862745098038},null,{"$f":"IF(T24=S31+1,\" \",AB37/10)","v":" "},null,{"$f":"IF(T24=S31+1,AD37/10,\" \")","v":2.4674999999999999E-2},null,{"$f":"IF(T24=S31+1,AF37/10,(AD37+AF37)/10)","v":2.4674999999999999E-2},null,"Débit 2"]
["GATEAU = Ht TALONS /  Densite",null,null,null,null,null,null,{"$f":"A9","v":70},null,{"$f":"(P15+P16)/2","v":1.9324999999999999},null,0.37,null,"Long HT",null,null,null,{"$f":"X55+G9","v":7130},null,{"$f":"ROUND(R55*3.2808/1000,3)","v":23.391999999999999},null,{"$f":"IF(B42=\"Metric\",R55&\" mm\",T55&\" ft\" &\" (\"&R55&\" mm)\"  )","v":"7130 mm"},0.5,{"$f":"HLOOKUP(X53,[31]FabSpecification!M26:AE29,3,FALSE)","v":3130},null,{"$f":"Z37/10","v":0.32749362745098037},null,null,null,{"$f":"(AB37+AD37+AF37)/10","v":7.4024999999999994E-2},null,null,null,"Débit 3"]
["VIDE bar",null,null,null,null,null,null,0.8,null,"BAR",null,0.5,{"$f":"IF($H$72*1.15>L56,M57,L56)","v":0.5},"Haut HT",null,null,null,{"$f":"X56","v":1560},null,{"$f":"ROUND(R56*3.2808/1000,3)","v":5.1180000000000003},null,{"$f":"IF(B42=\"Metric\",R56&\" mm\",T56&\" ft\"  &\" (\"&R56&\" mm)\" )","v":"1560 mm"},0.75,{"$f":"HLOOKUP(X53,[31]FabSpecification!M26:AE29,4,FALSE)","v":1560},null,null,null,null,{"$f":"(Z37+AB37+AD37+AF37)/10","v":0.40151862745098033},null,null,null,null,"Débit 4"]
["CEF FROTTEMENT",null,null,null,null,null,null,0.3,null,null,null,0.75,{"$f":"IF($H$72*1.15>L57,M58,L57)","v":0.75},"Poids ",null,null,null,{"$f":"B7","v":"2 / 500 / 70 / SERIE 2"},null,null,null,null,1]
["LARGEUR BANDE (L+0,1)",null,null,null,null,{"$f":"E9","v":500},null,{"$f":"E9/1000+0.1","v":0.6},null,"M",null,1.1000000000000001,1.1000000000000001,"Lav toil",null,null,null,null,null,{"$f":"ROUND(F58*3.2808/1000,3)","v":1.64},null,{"$f":"IF(B42=\"Metric\",F58&\" mm\",T58&\" ft\"  &\" (\"&F58&\" mm)\" )","v":"500 mm"},1.5]
["ESPACE COURROIES",null,null,null,null,null,null,4.8,null,"CM",null,1.5,1.5,"Lav band",null,null,null,null,null,null,null,null,2]
["LONG SOUS VIDE",null,null,null,null,{"$f":"G9","v":4000},null,{"$f":"G9/10","v":400},null,"CM",null,2.2000000000000002,2.2000000000000002,"Epai ban sup",null,null,null,{"$f":"HLOOKUP(E9,[31]FabSpecification!M5:AF8,2,TRUE)","v":10},null,{"$f":"ROUND(F60*3.2808/1000,3)","v":13.122999999999999},null,{"$f":"IF(B42=\"Metric\",F60&\" mm\",T60&\" ft\"  &\" (\"&F60&\" mm)\" )","v":"4000 mm"},3]
["EPAISSEUR BANDE   MM",null,null,null,null,null,null,{"$f":"HLOOKUP(E9,[31]FabSpecification!M5:AF8,4,TRUE)","v":18.5},null,"MM",null,3,3,"Epai ban inf",null,null,null,{"$f":"HLOOKUP(E9,[31]FabSpecification!M5:AF8,3,TRUE)","v":4},null,null,null,null,5]
["DIA ENROUL TAMBOUR  MM",null,null,null,null,{"$f":"K9","v":630},null,{"$f":"K9+(H61)","v":648.5},null,"MM",null,4,4,"Nbre pli",null,null,null,{"$f":"HLOOKUP(E9,[31]FabSpecification!M5:AF9,5,TRUE)","v":3},null,{"$f":"ROUND(F62*3.2808/1000,3)","v":2.0670000000000002},null,{"$f":"IF(B42=\"Metric\",F62&\" mm\",T62&\" ft\"  &\" (\"&F62&\" mm)\" )","v":"630 mm"},5,"LongBandeSupTT"]
["V MAX BANDE",null,null,null,null,null,null,{"$f":"F25","v":0.39247751430907601},null,"M/MM",null,5.5,5.5,"pds ban / Longueur",null,null,null,{"$f":"ROUND((T63*(E9+210))*H61/1000000,0)","v":171},null,{"$f":"X63+(G9*2)","v":13000},null,null,7.5,{"$f":"HLOOKUP(F62,[31]FabSpecification!M32:U34,2,TRUE)","v":5000}]
["V MINI BANDE",null,null,null,null,null,null,{"$f":"H25","v":3.2706459525756335E-2},null,"M/MM",null,7.5,7.5,"pas rain",null,null,null,{"$f":"HLOOKUP(E9,[31]FabSpecification!M5:AF12,6,TRUE)","v":14},null,null,null,null,10]
["V ROT TAMB",null,null,null,null,null,null,{"$f":"F26","v":0.19264375159509495},null,"T/MN",null,11,11,"larg rain",null,null,null,{"$f":"HLOOKUP(E9,[31]FabSpecification!M5:AF12,7,TRUE)","v":7},null,null,null,null,15]
["V ROT TAMB MINI",null,null,null,null,null,null,{"$f":"H26","v":1.6053645966257912E-2},null,"T/MN",null,15,15,"prof rain",null,null,null,{"$f":"HLOOKUP(E9,[31]FabSpecification!M5:AF12,8,TRUE)","v":7},null,null,null,null,20]
["SURF /S VIDE",null,null,null,null,null,null,{"$f":"H59*H60","v":1920},null,"CM2",null,18.5,18.5,"trou",null,null,null,{"$f":"HLOOKUP(E9,[31]FabSpecification!M5:AF13,9,TRUE)","v":"6 x 10"},null,null,null,null,25]
["EFFORT BANDE + GATEAU",null,null,null,null,null,null,{"$f":"(H58*((H60/100)+1))*((H61*1.1)+(N24*J55))*H57","v":122.66999999999999},null,"DaN",null,22,22,"sup band",null,null,null,{"$f":"HLOOKUP(E9,[31]FabSpecification!M5:AF24,11,TRUE)","v":"2 x 2"},null,null,null,"LargeurBande",30]
["EFFORT DU AU VIDE",null,null,null,null,null,null,{"$f":"H67*P11/1000*0.3","v":460.79999999999995},null,"DaN",null,30,30,"Ø roul emb / sup band",null,null,null,{"$f":"IF(OR(A9=70,A9=50),HLOOKUP(V69,[31]FabSpecification!M5:AF25,12,TRUE),HLOOKUP(V69,[31]FabSpecification!M5:AF24,13,TRUE))","v":219},null,{"$f":"IF(OR(A9=70,A9=50),HLOOKUP(V69,[31]FabSpecification!M5:AF25,14,TRUE),HLOOKUP(V69,[31]FabSpecification!M5:AF24,15,TRUE))","v":219},null,{"$f":"IF(AND(E9=1250,I9=\"SERIE 3\"),E9+1,IF(AND(E9=1500,I9=\"SERIE 3\"),E9+1,E9))","v":500},40]
["EFFORT TANGENTIEL",null,null,null,null,null,null,{"$f":"(H68+H69)","v":583.46999999999991},null,"DaN",null,37,37,"Ø roul sortie gat",null,null,null,{"$f":"HLOOKUP(E9,[31]FabSpecification!M5:AF20,16,TRUE)","v":60.3},null,null,null,null,50]
["COUPLE AVEC 1,25 COEF",null,null,null,null,null,null,{"$f":"(H70*(H62/2)*1.25/1000)*0.981","v":231.99441837187496},null,"MDaN",null,45,45,"Ø roul Guidage / support ",null,null,null,{"$f":"HLOOKUP(E9,[31]FabSpecification!M22:AF23,2,TRUE)","v":60.3},null,{"$f":"HLOOKUP(V69,[31]FabSpecification!M22:AF23,2,TRUE)","v":60.3},null,null,60]
["PUISSANCE MECA Re 0,85",null,null,null,null,null,null,{"$f":"ROUND((H71*H65*PI())/(30*0.85*100),2)","v":0.06},null,{"$f":"ROUND(H72/0.736,2)","v":0.08},null,55,55,"Ø roul dèbat",null,null,null,{"$f":"HLOOKUP(E9,[31]FabSpecification!M5:AF21,17,TRUE)","v":60.3},null,"Matière",null,{"$f":"IF(E9<2000,E15,\"CS hard rubber lined\")","v":"304L"},75]
["PUISSANCE MOTEUR",null,null,null,null,null,null,{"$f":"IF(H72*1.15>L55,M56,L55)","v":0.37},null,{"$f":"VLOOKUP(H73,L55:W79,12)","v":0.5},null,75,75,"Nbre roul guid bande",null,null,null,{"$f":"ROUNDUP(R75/2,0)+1","v":3},null,null,null,null,100]
[null,null,null,null,null,null,null,null,null,null,null,90,90,"TRéMIE",null,null,null,{"$f":"VLOOKUP($B$7,[31]FabSpecification!$A$2:$J$810,8,FALSE)","v":"2 x 2"}]
["Nombre sprayeur par rampe toile",null,null,null,null,null,null,{"$f":"INT((E9+200)/100)+1","v":8},null,null,null,110,110,"NbrePoteauRoul bande",null,null,null,{"$f":"V75+1","v":3},null,"NbrePasBati",null,{"$f":"VLOOKUP($B$7,[31]FabSpecification!$A$2:$J$810,10,FALSE)","v":2},150]
["Nombre sprayeur par rampe bande",null,null,null,null,null,null,{"$f":"INT((E9)/100)+1","v":6},null,null,null,132,132,"Largeur courroies BaV",null,null,null,{"$f":"IF(H60>3401,T76,IF(I9=\"SERIE 1\",V76,U76))","v":38},null,48,38,28,200]
["Nbre piquage bavide pilote",null,null,null,null,null,null,{"$f":"IF(I9<>\"SERIE 1\",R36,IF(G9=1400,14,28))","v":4},null,null,null,160,160,"Largeur courroies table",null,null,null,{"$f":"IF(E9<1001,U77,IF(AND(E9<1501,E9>1001),V77,IF(E9>1999,T77)))","v":"30 mm x 5 mm"},null,"50 mm x 5,8 mm","30 mm x 5 mm","28 mm x 7 mm",200]
[null,null,null,null,null,null,null,null,null,null,null,200,200,"Diametre guide bande",null,null,null,{"$f":"IF(I9=\"SERIE 1\",T78,U78)","v":100},null,50,100,null,250]
[null,null,null,null,null,null,null,null,null,null,null,250,250,null,null,null,null,null,null,null,null,null,300]

{"sheet":"Séries 3-4-5","index":11,"n_rows":101,"n_cols":32,"rows_kept":101,"cut":false,"hidden":true,"merged":[[0,21,0,23],[1,20,2,20],[1,21,2,21],[1,22,2,22],[1,23,2,23],[84,2,84,6],[46,3,49,8],[6,6,6,7],[30,11,30,12],[31,11,31,12],[6,4,6,5],[7,6,7,7],[10,3,10,5],[11,3,12,5],[10,6,10,7],[11,6,12,7],[36,11,36,12],[37,11,37,12],[38,11,38,12],[39,11,39,12],[13,3,15,7],[1,26,1,31],[1,24,2,24],[1,25,2,25],[1,7,1,8],[1,4,1,5],[2,6,2,7],[8,6,8,7],[32,11,32,12],[33,11,33,12],[34,11,34,12],[35,11,35,12],[16,4,16,5],[63,9,63,12],[64,9,64,12],[47,12,47,13],[46,12,46,13],[48,12,48,13],[49,12,49,13],[50,12,50,13]]}
["DEVIS FILTRE A BANDE","DATA",{"$f":"C5*2","v":8},null,null,null,null,null,null,null,null,{"$f":"\"B\"&B3/100","v":"B5"},null,null,null,null,"X HOG",null,null,null,null,"Long Pas",null,null,null,null,null,null,{"$f":"IF(B3=3000,AC4:AC62,IF(B3=4000,AD4:AD52,IF(B3=2000,AA4:AA35,AE4:AE61)))","v":{"$error":"#VALUE!"}},null,{"$f":"IF(B3=3000,AC4:AC62,IF(B3=4000,AD4:AD52,AE4:AE61))","v":{"$error":"#VALUE!"}}]
["Date du devis",{"$f":"Calculations!R2","v":"2025-04-25"},null,"Quote #",{"$f":"Calculations!C3&\"-\"&Calculations!H3","v":"726789-rev4"},null,"Client :",{"$f":"Calculations!C2","v":"CARESTER"},null,null,null,{"$f":"Surface&\"B\"&B3/100","v":"2B5"},null,null,null,null,"F RUT",null,null,null,"LgBaV",4,3.5,3,"NbrPas","NbrePas/LongPas","Largeur sous vide"]
["belt width",{"$f":"Calculations!E9","v":500},null,"Made by :","X HOG",null,"Qty of filter:",null,1,null,null,null,null,null,null,null,"J BEG",null,null,null,null,null,null,null,null,null,2000,2500,3000,4000,4200,4500]
["Surface",{"$f":"Calculations!C9","v":2},"m2","Arbre revêtu",null,null,null,null,null,null,null,null,null,null,null,null,"G BUF",null,null,null,7,null,2,null,{"$f":"SUM(V4:X4)","v":2},{"$f":"W4 &\" x \"& W2","v":"2 x 3,5"},{"$f":"$AA$3/1000*U4","v":14},{"$f":"$AB$3/1000*U4","v":17.5}]
["Pulleys diameter",{"$f":"IF(B6=\"SERIE 3\",935,IF(B6=\"SERIE 4\",1210,1400))","v":935},{"$f":"ROUND((Surface/B3)*1000,2)","v":4},"Non",null,null,null,null,null,null,null,null,null,null,null,null,"J ENG",null,null,null,10,null,2,1,3,{"$f":"X5&\" x \"&X2&\" & \"&W5&\" x \"&W2","v":"1 x 3 & 2 x 3,5"},20,25,30]
[{"$f":"IF(B5=1400,\"WARNING expansive filter versus\",\"Frame and pulley size selection\")","v":"Frame and pulley size selection"},{"$f":"IF(AND(B3<2501,C5<18.45),\"SERIE 3\",IF(AND(B3<4001,C5<34.9),\"SERIE 4\",\"SERIE 5\"))","v":"SERIE 3"},null,"Carter de Palier",null,null,null,null,null,null,null,"304L","304L",null,null,null,"F BOUQUET",null,null,null,10.5,null,3,null,{"$f":"SUM(V6:X6)","v":3},{"$f":"W6 &\" x \"& $W$2","v":"3 x 3,5"},{"$f":"$AA$3/1000*U6","v":21},{"$f":"$AB$3/1000*U6","v":26.25},31.5]
["detail engineering hour",300,"h","Non","Légende :",null,"Fill these cells",null,null,{"$f":"EVEN((SUM(B9:B11))/2)","v":{"$error":"#N/A"}},null,"316L","316L",null,null,null,null,null,null,null,11,1,2,null,3,{"$f":"W7 &\" x \"& $W$2 &\" & \"& V7 &\" x \"& $V$2","v":"2 x 3,5 & 1 x 4"},{"$f":"$AA$3/1000*U7","v":22},27.5,{"$f":"$AC$3/1000*U7","v":33}]
[null,{"$f":"IF((((B10)*3.5+(B11)*4+(B9)*3)*B3*0.001)=Surface,\"RIGHT\",\"WRONG\")","v":{"$error":"#N/A"}},null,"Chlorure",null,null,"Automatic",null,null,null,null,"904L","904L","Process","Roller","Frame","Feeder","Belt","B à V",null,12.5,null,1,3,4,"3 x 3 & 1 x 3,5",25,31.25,{"$f":"$AC$3/1000*U8","v":37.5}]
["Intermediate frame pace of 3000",{"$f":"VLOOKUP(C5,U4:X52,4)","v":{"$error":"#N/A"}},null,"Oui",null,null,"Choice Menu",null,null,null,null,"50X5","E24","304L","304L","304L","304L","SBR",140,null,14,null,4,null,4,{"$f":"W9 &\" x \"& $W$2","v":"4 x 3,5"},28,35,{"$f":"$AC$3/1000*U9","v":42},{"$f":"$AD$3/1000*U9","v":56}]
["Intermediate frame pace of 3500",{"$f":"VLOOKUP(C5,U4:X52,3)","v":{"$error":"#N/A"}},null,null,null,null,null,null,null,null,null,"40X7",null,"316L","316L","316L","316L","EPDM",170,null,14.5,1,3,null,4,{"$f":"W10 &\" x \"& $W$2 &\" & \"& V10 &\" x \"& $V$2","v":"3 x 3,5 & 1 x 4"},29,36.25,43.5,{"$f":"$AD$3/1000*U10","v":58}]
["Intermediate frame pace of 4000",{"$f":"VLOOKUP(C5,U4:X52,2)","v":{"$error":"#N/A"}},null,"Number of step to be reported",null,null,"Your selection is:",null,null,null,null,"30X7",null,"904L","CAOUT",null,"U45N","SBRLT",null,null,15,2,2,null,4,{"$f":"W11 &\" x \"& $W$2 &\" & \"& V11 &\" x \"& $V$2","v":"2 x 3,5 & 2 x 4"},30,37.5,45,60]
[null,null,null,{"$f":"LOOKUP(C5,U4:Z76)","v":{"$error":"#N/A"}},null,null,{"$f":"IF((((B10)*3.5+(B11)*4+(B9)*3)*B3*0.001)=B4,\"RIGHT, continue selection\",\"WRONG, correct values in the green screen\")","v":{"$error":"#N/A"}},null,null,null,null,"ALIAS",null,"U45N","E24",null,"904L","NITRILE",null,null,16.5,null,3,2,5,"2 x 3 & 3 x 3,5",33,41.25,49.5,66]
["Frame material",{"$f":"Calculations!E22","v":"304L"},null,null,null,null,null,null,null,null,null,"DUNL",null,"SVR","904L","E24","PPH",null,null,null,17.5,null,5,null,5,{"$f":"W13 &\" x \"& $W$2","v":"5 x 3,5"},35,43.75,52.5,70]
["Belt support table material",{"$f":"IF(B13=\"E24\",\"304L\",B13)","v":"304L"},null,"IF YOU SELECT A SURFACE ABOVE 36 in 2 meter WIDE or 99 1n 3 meter WIDE,  BE SURE THAT THE TORQUE IS NOT HIGHER THAN RECOMMENDED see (Note)",null,null,null,null,null,null,null,"SBR",null,null,"U45N",null,"Type de Feeder Lavage","Curb","Equipement Pneumatique et electrique",null,18,1,4,null,5,{"$f":"W14 &\" x \"& $W$2 &\" & \"& V14 &\" x \"& $V$2","v":"4 x 3,5 & 1 x 4"},36,45,54,72]
["belt support size","50X5",null,null,null,null,null,null,null,null,null,"EPDM",null,null,null,null,"TUBE",70,"INOX",null,18.5,2,3,null,5,{"$f":"W15 &\" x \"& $W$2 &\" & \"& V15 &\" x \"& $V$2","v":"3 x 3,5 & 2 x 4"},37,46.25,55.5,74]
[null,null,null,null,null,null,null,null,null,null,null,null,null,null,null,null,"SURV",120,"STD",null,19,3,2,null,5,{"$f":"W16 &\" x \"& $W$2 &\" & \"& V16 &\" x \"& $V$2","v":"2 x 3,5 & 3 x 4"},38,47.5,57,76]
["belt material",{"$f":"Calculations!E23","v":"EPDM"},null,null,"Guidage Bande",null,{"$f":"IF(C5<20,H17,I17)","v":{"$error":"#N/A"}},{"$f":"((ROUNDUP(SUM(B9:B11)/2,0))*2)+4","v":{"$error":"#N/A"}},{"$f":"((ROUNDUP(SUM(B9:B11)/2,0))*6)","v":{"$error":"#N/A"}},null,null,null,null,null,null,null,"QDC",null,"US",null,20,5,null,null,null,"5 x 4",40,50,60,80]
["edge curb height",{"$f":"Calculations!A9","v":70},{"$f":"IF(B18=70,\"T7\",\"T12\")","v":"T7"},null,{"$f":"LARGE(B10:B11,1)","v":{"$error":"#N/A"}},{"$f":"PERCENTILE(B10:B11,1)","v":{"$error":"#N/A"}},null,null,null,null,null,null,null,null,null,null,"Type Alimentation slurry",null,"Bolting",null,21,null,6,null,6,{"$f":"W18 &\" x \"& $W$2","v":"6 x 3,5"},42,52.5,63,84]
["curb material","SBR",null,null,null,null,null,null,null,null,null,null,null,null,null,null,"QDC",null,304,null,21.5,1,5,null,6,{"$f":"W19 &\" x \"& $W$2 &\" & \"& V19 &\" x \"& $V$2","v":"5 x 3,5 & 1 x 4"},43,53.75,64.5,86]
["lining material","SBR",null,null,null,null,null,null,null,null,null,null,null,null,null,null,"BOIT",null,316,null,22,2,4,null,6,{"$f":"W20 &\" x \"& $W$2 &\" & \"& V20 &\" x \"& $V$2","v":"4 x 3,5 & 2 x 4"},44,55,66,88]
["skirting above curb (rehausse talon)",0,null,null,null,null,null,null,null,null,null,null,null,null,null,null,"BOIT",null,"904L",null,22.5,3,3,null,6,{"$f":"W21 &\" x \"& $W$2 &\" & \"& V21 &\" x \"& $V$2","v":"3 x 3,5 & 3 x 4"},45,56.25,67.5,90]
[null,null,"Indicate IF ANY length (meter) of curb need to be raised",null,null,null,null,null,null,null,null,null,null,null,null,null,null,null,"Taille connection de la Boite à vide",null,23,4,2,null,6,{"$f":"W22 &\" x \"& $W$2 &\" & \"& V22 &\" x \"& $V$2","v":"2 x 3,5 & 4 x 4"},46,57.5,69,92]
["quantity of belt guide rollers",{"$f":"G17","v":{"$error":"#N/A"}},null,null,null,null,null,null,null,null,null,null,null,null,null,null,null,null,80,null,24.5,null,7,null,7,{"$f":"W23 &\" x \"& $W$2","v":"7 x 3,5"},49,61.25,73.5,98]
["belt support roller: Ø",{"$f":"HLOOKUP(B3,N31:S40,IF(B18=70,4,5))","v":{"$error":"#N/A"}},null,null,null,"Steel cost basis buying on storage in France",null,null,null,null,null,null,null,null,null,null,null,null,100,null,25,1,6,null,7,{"$f":"W24 &\" x \"& $W$2 &\" & \"& V24 &\" x \"& $V$2","v":"6 x 3,5 & 1 x 4"},50,62.5,75,100]
["belt support rollers Material",{"$f":"Calculations!E19","v":"304L"},null,"Steel","corective factor","original 2003","updated\ncost",2004,"revised","Nov 2005 updated ",null,null,null,null,null,null,null,null,125,null,25.5,2,5,null,7,{"$f":"W25 &\" x \"& $W$2 &\" & \"& V25 &\" x \"& $V$2","v":"5 x 3,5 & 2 x 4"},null,null,76.5,102]
["belt support rollers Qty",{"$f":"SUM(B8:B11)+1","v":{"$error":"#N/A"}},null,"E24",{"$f":"G26/F26","v":1.6578947368421053},0.76,1.26,null,"2002-10-17",1,null,null,null,null,null,null,null,null,150,null,26,3,4,null,7,{"$f":"W26 &\" x \"& $W$2 &\" & \"& V26 &\" x \"& $V$2","v":"4 x 3,5 & 3 x 4"},null,null,78,104]
["Cloth return rollers  Ø",{"$f":"HLOOKUP(B3,N31:S40,9)","v":{"$error":"#N/A"}},null,"304L",1.5909090909090908,2.2000000000000002,3.5,2.86,"2003-01-11",2.2999999999999998,null,null,null,null,null,null,null,null,200,null,26.5,4,3,null,7,{"$f":"W27 &\" x \"& $W$2 &\" & \"& V27 &\" x \"& $V$2","v":"3 x 3,5 & 4 x 4"},null,null,79.5,106]
["Cloth return rollers  Material",{"$f":"Calculations!E20","v":"304L"},null,304,1.5909090909090908,2.2000000000000002,3.5,2.86,"2003-01-11",2.2999999999999998,null,null,null,null,null,null,null,null,null,null,27,5,2,null,7,{"$f":"W28 &\" x \"& $W$2 &\" & \"& V28 &\" x \"& $V$2","v":"2 x 3,5 & 5 x 4"},null,null,81,108]
["Cloth return rollers  Qty",8,null,"316L",2.0689655172413794,2.9,6,3.77,"2002-10-11",3.91,null,null,null,null,null,null,null,null,null,null,28,null,8,null,8,{"$f":"W29 &\" x \"& $W$2","v":"8 x 3,5"},null,null,84,112]
["Cloth support rollers Ø",{"$f":"HLOOKUP(B3,N31:S40,8)","v":{"$error":"#N/A"}},{"$f":"IF(B30=168.3,1683,B30)","v":{"$error":"#N/A"}},316,2.0689655172413794,2.9,6,3.77,"2002-10-11",3.91,null,"Tableau des diamètres de rouleaux",null,null,null,null,null,null,null,null,28.5,1,7,null,8,{"$f":"W30 &\" x \"& $W$2 &\" & \"& V30 &\" x \"& $V$2","v":"7 x 3,5 & 1 x 4"},null,null,85.5,114]
["Cloth support rollers Material",{"$f":"Calculations!E20","v":"304L"},null,"U45N",1.75,4,7,5.2,"2003-01-11",6.1,null,"Largeur",null,2000,2500,3000,4000,4200,4500,null,29,2,6,null,8,"6 x 3,5 & 2 x 4",null,null,87,116]
["Cloth support rollers Qty",{"$f":"SUM(B8:B11)","v":{"$error":"#N/A"}},null,"904L",1.7105263157894737,7.6,13,9.8800000000000008,"2003-01-11",11.24,null,"RoulEmba T70",null,273,273,273,273,273,null,null,29.5,3,5,null,8,"5 x 3,5 & 3 x 4",null,null,88.5,118]
["Cloth exit rollers Ø",{"$f":"HLOOKUP(B3,N31:S40,6)","v":{"$error":"#N/A"}},null,"CAOUT",1.3,"CSRL",null,null,null,null,null,"RoulEmba T120",null,355,355,355,355,355,null,null,30,4,4,null,8,"4 x 3,5 & 4 x 4",null,null,90,120]
["Cloth exit rollers Material",{"$f":"Calculations!E15","v":"304L"},null,"POLYPROPYLENE",1.3,null,null,null,"In blue = estimated",null,null,"RoulSuppBanT70",null,273,273,273,355,355,null,null,30.5,5,3,null,8,"3 x 3,5 & 5 x 4",null,null,null,122]
["Cloth exit rollers Qty",2,null,"SVR",1.3,null,null,null,null,null,null,"RoulSuppBanT120",null,355,355,355,406,406,null,null,31,6,2,null,8,"2 x 3,5 & 6 x 4",null,null,null,124]
["Cloth discharge rollers Ø",{"$f":"HLOOKUP(B3,N31:S40,7)","v":{"$error":"#N/A"}},null,"SBRLT",1.05,null,null,null,null,null,null,"RoulToilSortGat",null,168.3,168.3,168.3,273,273,null,null,31.5,null,9,null,9,{"$f":"W36 &\" x \"& $W$2","v":"9 x 3,5"},null,null,null,126]
["Cloth discharge rollers Material",{"$f":"Calculations!E15","v":"304L"},null,"SBR",1.05,null,null,null,null,null,null,"RoulToilDechGat",null,168.3,168.3,168.3,168.3,168.3,null,null,32,1,8,null,9,{"$f":"W37 &\" x \"& $W$2 &\" & \"& V37 &\" x \"& $V$2","v":"8 x 3,5 & 1 x 4"},null,null,null,128]
["Cloth discharge rollers Qty",1,null,"EPDM",1.05,null,null,null,null,null,null,"RoulSuppToile",null,168.3,168.3,168.3,273,273,null,null,32.5,2,7,null,9,"7 x 3,5 & 2 x 4",null,null,null,130]
["Cloth guiding rollers Ø",{"$f":"B27","v":{"$error":"#N/A"}},null,"PLAS",1.3,null,null,null,null,null,null,"RoulRenvoi",null,168.3,168.3,219,273,273,null,null,33,3,6,null,9,"6 x 3,5 & 3 x 4",null,null,null,132]
["Cloth guiding RL rollers. Material",{"$f":"Calculations!E20","v":"304L"},null,"MONT",1.3,null,null,null,null,null,null,"RoulGuide",null,192,192,233,287,287,null,null,33.5,4,5,null,9,"5 x 3,5 & 4 x 4",null,null,null,134]
["Cloth guiding RL rollers. Qty",{"$f":"IF(E5=\"II\",0,1)","v":1},null,"PRE",1.3,null,null,null,null,null,null,null,null,null,null,null,null,null,null,null,34,5,4,null,9,"4 x 3,5 & 5 x 4",null,null,null,136]
["Cloth form rollers. Ø",{"$f":"HLOOKUP(B3,N31:S40,IF(B18=70,2,3))","v":{"$error":"#N/A"}},null,"Other",1.3,null,null,null,null,null,null,null,null,null,null,null,null,null,null,null,34.5,6,3,null,9,"3 x 3,5 & 6 x 4",null,null,null,138]
["Cloth form rollers. Material",{"$f":"Calculations!E12","v":"304L"},null,null,null,null,null,null,null,null,null,null,null,null,null,null,null,null,null,null,35,7,2,null,9,"2 x 3,5 & 7 x 4",null,null,null,null,{"$f":"$AE$3/1000*U43","v":147},{"$f":"$AF$3/1000*U43","v":157.5}]
["Cloth form rollers. Qty",1,null,"CAOUT = rubber lined",null,null,null,null,null,null,null,null,null,null,null,null,null,null,null,null,35.5,1,9,null,10,"9 x 3,5 & 1 x 4",null,null,null,null,{"$f":"$AE$3/1000*U44","v":149.1},{"$f":"$AF$3/1000*U44","v":159.75}]
["roller bearing",{"$f":"(B26+B29+B32+B35+B38+B41)*2","v":{"$error":"#N/A"}},null,"SVR = fiber galss polyester renforced",null,null,null,null,null,null,null,null,null,null,null,null,null,null,null,null,36,2,8,null,10,"8 x 3,5 & 2 x 4",null,null,null,null,151.20000000000002,162]
["vacuum box 140: Section",140,null,null,null,null,null,null,null,null,null,null,null,null,null,null,null,null,null,null,36.5,3,7,null,10,"7 x 3,5 & 3 x 4",null,null,null,null,153.30000000000001,164.25]
["vacuum box 140: Material",{"$f":"Calculations!E11","v":"304L"},null,"Note; Be care!!! the body \"170\" is only dedicated to the high liquid / gaz to be drain (eg. Bicarbonate) do not use without process agreement. Only available in steel.\nNote Option is available for straight pipe and up to ND 200",null,null,null,null,null,null,null,null,"EPDM",null,null,null,null,null,null,null,37,4,6,null,10,"6 x 3,5 & 4 x 4",null,null,null,null,155.4,166.5]
["support of VB Material",{"$f":"Calculations!E21","v":"304L"},null,null,null,null,null,null,null,null,null,"DN150","E000000568-7023",null,null,"Oui",null,null,null,null,37.5,5,5,null,10,"5 x 3,5 & 5 x 4",null,null,null,null,157.5,168.75]
["vacuum box 140: connection DN ",{"$f":"Calculations!H29","v":65},null,null,null,null,null,null,null,null,null,"DN125","E000000758-7023",null,null,"Non",null,null,null,null,38,6,4,null,10,"4 x 3,5 & 6 x 4",null,null,null,null,159.6,171]
["vacuum box 140: qty of connection",{"$f":"Calculations!R36","v":4},null,null,null,null,null,null,null,null,null,"DN100","E000000947-7023",null,null,null,null,null,null,null,38.5,7,3,null,10,"3 x 3,5 & 7 x 4",null,null,null,null,161.70000000000002,173.25]
["vacuum box 140: Qty internal baffle",{"$f":"Calculations!R11","v":3},null,null,null,null,null,null,null,null,null,"DN80","E000000715-7023",null,null,null,null,null,null,null,39.5,2,9,null,11,"9 x 3,5 & 2 x 4",null,null,null,null,165.9,177.75]
["cake discharge / washing Material",{"$f":"Calculations!E16","v":"304L"},null,null,null,null,null,null,null,null,null,null,null,null,null,null,null,null,null,null,40,3,8,null,11,"8 x 3,5 & 3 x 4",null,null,null,null,168,180]
["entrance dam support Material","316L",null,null,null,null,null,null,null,null,null,{"$f":"IF(B49=150,M48,IF(B49=125,M49,IF(B49=100,M50,M51)))","v":"E000000715-7023"}]
["apron for dam, Material ",{"$f":"IF(B17=\"SBRLT\",\"SBR\",B17)","v":"EPDM"},null,"SURV = overflow",null,"TUB = spreader pipe",null,"QDC = fish tail"]
["cake wash device Type",{"$f":"Calculations!Q13","v":"OVER"}]
["cake wash device Material",{"$f":"Calculations!E14","v":"304L"}]
["cake wash device Qty",{"$f":"Calculations!R11","v":3},null,null,null,null,null,null,null,null,null,null,null,null,null,"PE","S"]
["carriage Type","ROUE",null,null,null,null,null,null,null,null,null,null,null,null,null,"PP","C"]
["carriage Material",{"$f":"B56","v":"304L"}]
["carriage Qty",{"$f":"B57","v":3}]
["pendulum dam support Material ",{"$f":"B53","v":"316L"},null,null,null,null,null,null,null,1,2,3,4,5,6,7,8,9,10,11,12,13]
["pendulum dam apron Material",{"$f":"B54","v":"EPDM"},null,null,null,null,null,null,null,0,1,1,2,2,3,3,4,4,5,5,6,6]
["pendulum dam Qty",{"$f":"B57+1","v":4},null,"QDC = fish tail",null,"BOIT = box"]
["slurry feeder Type",{"$f":"Calculations!Q12","v":"QDC"},null,null,null,null,null,null,null,"Nombre de tensions courroie BAV",null,null,null,{"$f":"HLOOKUP(SUM(B9:B11),J61:V62,2)","v":{"$error":"#N/A"}}]
["slurry feeder Material",{"$f":"Calculations!E13","v":"304L"},null,null,null,null,null,null,null,"Nombre de galets retour BAV",null,null,null,{"$f":"(SUM(B9:B11)+N64)*2","v":{"$error":"#N/A"}}]
["slurry feeder Qty",1,null,"Not available in automatic: ",null,null,"Option for SS materail"]
["Equipment pneumatic: Type","STD","A penser (US, AFSUD, NAMIBIE, Canada….)","Not available in automatic: ",null,null,"Option for US normes"]
["Equipment électric: Type","STD","A penser (US, AFSUD, NAMIBIE, Canada….)"]
["bolting",316]
["bellow 12 x 2: Qty",0]
["bellow 10 x 2: Qty",2]
["bellow 8 x 3: Qty",{"$f":"B26","v":{"$error":"#N/A"}}]
["bellow 8 x 2: Qty",2]
["oil & grease",1]
["Protection",1]
["torque arm",1]
["gear unit torque ",{"$f":"Calculations!N26","v":2319.9441837187496},"Nm","NOTE: torque limited @ 21800 Nm for 2 m above 36 m²"]
["gear unit, maximum rpm at pulley shaft",{"$f":"Calculations!F26","v":0.19264375159509495},"Tr/mn","NOTE: torque limited @ 62300 Nm for 3 m above 99 m²"]
["Motor",{"$f":"'Gr de Cde'!E26","v":0.25},{"$f":"VLOOKUP(B79,'Gr de Cde'!B33:G58,6)","v":"M1"}]
["freqency invertor",{"$f":"B79","v":0.25}]
["filter cloth",1,null,"PRE = erected on site",null,null,"MONT = erected in factory before delivery",null,null,null,null,"PRE"]
["pre-erection or erection in factory ",{"$f":"Calculations!S38","v":"MONT"},null,null,null,null,null,null,null,null,null,"MONT"]
["sliding belt lubrication set",1,null,null,null,null,null,null,null,null,null,1]
["Basic minimum safety guard grid",1,"ERECTION ( \"MONT\" )  IN FACTORY CAN BE SELECTED ONLY FOR FILTER SMALLER THAN 51 SQM",null,null,null,null,null,null,null,null,0]
[null,null,"Select 1 if existing, (see in the technical,data sheet)"]
[]
[]
["Filtering Cloth"]
["Material","PE"]
["Type","S"]
[]
["CALCULTION OF ERECTION IN FACTORY"]
["Long BaV",{"$f":"Surface/B3*1000","v":4},null,"mat kg","mat cout","heure fab","montage","collage talon"]
["Long filtre",{"$f":"B93+5","v":9},null,{"$f":"((B96+B97)+(B98*SUM(B10:B11)))","v":{"$error":"#N/A"}},{"$f":"D94*B101","v":{"$error":"#N/A"}},{"$f":"D94*B95/60","v":{"$error":"#N/A"}},{"$f":"B99+(B100*SUM(B10:B11))","v":{"$error":"#N/A"}},{"$f":"HLOOKUP(B3,Band!B13:G30,IF(B18=Band!A25,17,18),0)","v":{"$error":"#N/A"}}]
["mn/kg",1.5,"??"]
["poids/m acier renfort Bati entrée",730]
["poids/m acier renfort Bati sortie",690]
["poids/m acier renfort Bati inter",390,"??"]
["part fixe tete et queue temps mont",260,"??","110+150","entrée + sortie"]
["part variablebati inter temps mont",75,"??",75,"par pas"]
["prix kg base",0.76]

{"sheet":"Série 2","index":12,"n_rows":101,"n_cols":35,"rows_kept":101,"cut":false,"hidden":false,"merged":[[6,6,6,7],[0,4,0,5],[0,7,0,8],[1,6,1,7],[5,4,5,5],[5,6,5,7],[93,0,93,7],[7,6,7,7],[9,3,9,5],[9,6,9,7],[10,3,11,5],[10,6,11,7],[12,3,14,7]]}
["DEVIS FILTRE A BANDE","DATA",null,"Quote #",{"$f":"'Séries 3-4-5'!E2:F2","v":"726789-rev4"},null,"Client :",{"$f":"'Séries 3-4-5'!H2:I2","v":"CARESTER"},null,null,null,null,null,"II",500,null,"A. LEVEQUE",null,null,"LgBaV",4,3.5,3,2.5,2,"NbrPas",null,"NbrePas/LongPas"]
["Date du devis",{"$f":"'Séries 3-4-5'!B2","v":"2025-04-25"},null,"Made by :","T. DUBRULLE",null,"Qty of filter:",null,1,null,null,null,null,"III",750,null,"Y. BEIGNET",null,null,null,null,null,null,null,null,1,null,"1 x 1,4",null,null,500,750,1000,1250,1500]
[null,null,null,null,null,null,null,null,null,null,null,null,null,"IV A",1000,null,"F RUTH",null,null,2,null,null,null,null,1,1,null,"1 x 2"]
[null,null,null,"Série :","II",null,null,null,null,null,null,null,null,"IV B",1250,null,"C.PARENTI",null,null,2.5,null,null,null,1,null,1,null,"1 x 2,5"]
["belt width",{"$f":"Calculations!E9","v":500},null,null,null,null,null,null,null,null,null,"304L","304L",null,1500,null,"R COOMB",null,null,2.8,null,null,null,null,null,1,null,"1 x 2,8",null,null,null,1.5,2,3.125,4.5]
["Surface",{"$f":"Calculations!C9","v":2},"m2",null,"Légende :",null,"Fill these cells",null,null,null,null,"316L","316L",null,null,null,"T. DUBRULLE",null,null,3,null,null,1,null,null,1,null,"1 x 3",null,null,1,1.875,2.5,3.75,5.25]
["Pulleys diameter",630,{"$f":"ROUND((Surface2/B5)*1000,1)","v":4},null,null,null,"Choice menu",null,null,null,null,"904L","904L",null,null,null,"GAO",null,null,3.5,null,1,null,null,null,1,null,"1 x 3,5",null,null,1.25,2.25,3,4.375,6]
[null,null,null,null,null,null,"Auto values",null,null,null,null,"50X5","E24",null,null,null,null,null,null,4,null,null,null,null,2,2,null,"2 x 2",null,null,1.5,2.625,3.5,5,6.75]
[null,null,null,null,null,null,null,null,null,null,null,"40X7",null,null,null,null,null,null,null,4.5,null,null,null,1,1,2,null,"2,5 + 2",null,null,1.75,3,4,5.625,7.5]
[null,{"$f":"IF((((B11)*2+(B12)*2.5+(B13)*3+(B14)*3.5)*B5*0.001)=B6,\"RIGHT\",\"WRONG\")","v":"RIGHT"},null,"Number of step to be reported",null,null,"Your selection is:",null,null,null,null,null,null,null,null,null,null,null,null,5,null,null,null,2,null,2,"2,5 x 2","2,5 x 2",5,null,2,3.375,4.5,6.25,8.25]
["frame pace of 2000",{"$f":"VLOOKUP(C7,T2:Y30,6)","v":2},2,{"$f":"LOOKUP(C7,T1:AB80)","v":"2 x 2"},null,null,{"$f":"IF(C7=C11*B11+C12*B12+C13*B13+C14*B14,\"RIGHT, continue selection\",\"WRONG, correct values in the green screen\")","v":"RIGHT, continue selection"},null,null,null,null,"PPH",null,null,null,null,null,null,null,5.5,null,null,1,1,null,2,"& 1 x 3 & 1 x 2,5","1 x 3 & 1 x 2,5",null,null,2.25,3.75,5,6.875,9]
["frame pace of 2500",{"$f":"VLOOKUP(C7,T2:Y30,5)","v":0},2.5,null,null,null,null,null,null,null,null,"DUNL",null,null,null,null,null,null,null,6,null,null,2,null,null,2,"& 2 x 3 ","2 x 3",6,null,2.5,4.125,5.5,7.5,9.75]
["frame pace of 3000",{"$f":"VLOOKUP(C7,T2:Y30,4)","v":0},3,"IF YOU SELECT A SURFACE ABOVE 13,13 IN 1,25 METER WIDE OR 15,75 IN 1,5 METER WIDE? BE SURE THAT THE TORQUE IS NOT HIGHER THAN RECOMMENDED see (Note)",null,null,null,null,null,null,null,"SBR",null,null,null,null,null,null,null,6.5,null,1,1,null,null,2,"& 1 x 3,5 & 1 x 3 ","1 x 3,5 & 1 x 3",null,null,2.75,4.5,6,8.125,10.5]
["frame pace of 3500",{"$f":"VLOOKUP(C7,T2:Y30,3)","v":0},3.5,null,null,null,null,null,null,null,null,"EPDM",null,null,null,null,null,null,null,7,null,2,null,null,null,2,"& 2 x 3,5 ","2 x 3,5",7,null,3,4.875,6.5,8.75,11.25]
[null,null,null,null,null,null,null,null,null,null,null,70,null,"II","III","IV A","IV B",null,null,7.5,null,null,null,3,null,3,"& 3 x 2,5","3 x 2,5",7.5,null,null,5.25,7,9.375,12]
["Frame material",{"$f":"'Séries 3-4-5'!B13","v":"304L"},3,null,null,null,null,null,null,null,null,120,"12X2",null,null,null,2,null,null,8,null,null,1,2,null,3,"& 1 x 3 & 2 x 2,5","1 x 3 & 2 x 2,5",null,null,null,5.625,7.5,10,12.75]
["Choice of main belt support wear belt","DUNL",null,null,null,null,null,null,null,null,null,410,"10X2",null,2,2,null,null,null,8.5,null,null,2,1,null,3,"& 2 x 3 & 1 x 2,5","2 x 3 & 1 x 2,5",null,null,null,null,8,10.625,13.5]
["belt material",{"$f":"'Séries 3-4-5'!B17","v":"EPDM"},5,null,null,null,null,null,null,null,null,630,"8X3",null,{"$f":"$B$26","v":3},{"$f":"$B$26","v":3},{"$f":"$B$26","v":3},null,null,9,null,null,3,null,null,3,"& 3 x 3 ","3 x 3",9,null,null,null,8.5,11.25,14.25]
["edge curb height",{"$f":"'Séries 3-4-5'!B18","v":70},null,null,null,null,null,null,null,null,null,935,"8X2",null,2,2,2,null,null,9.5,null,1,2,null,null,3,"& 1 x 3,5 & 2 x 3 ","1 x 3,5 & 2 x 3",null,null,null,null,9,11.875,15]
["curb material",{"$f":"B18","v":"EPDM"},null,null,null,null,null,null,null,null,null,1210,"6X2",{"$f":"$B$26+2","v":5},null,null,null,null,null,10,null,2,1,null,null,3,"& 2 x 3,5 & 1 x 3 ","2 x 3,5 & 1 x 3",null,null,null,null,9.5,12.5,15.75]
["skirting above curb (rehausse talon)",0,"Indicate IF ANY length (meter) of curb need to be raised",null,null,null,null,null,null,null,null,1400,null,null,null,null,null,null,null,10.5,null,3,null,null,null,3,"& 3 x 3,5 ","3 x 3,5",10.5,null,null,null,10,13.125,16.5]
["lining material","SBR",null,null,null,null,null,null,null,null,null,219,null,null,null,null,null,null,null,11,null,null,2,2,null,3,"2 x 4 & 1 x 3 ","2 x 3 & 2 x 2,5",null,null,null,null,10.5,13.75,17.25]
["quantity of belt guide rollers",{"$f":"EVEN(SUM(B11:B14)+4)","v":6},null,null,null,null,null,null,null,null,null,273,null,null,null,null,null,null,null,11.5,null,null,3,1,null,3,"2 x 4 & 1 x 3,5 ","3 x 3 & 1 x 2,5",null,null,null,null,null,14.375,18]
["belt support roller: Ø",219,null,null,null,"Steel cost basis buying on storage in France",null,null,null,null,null,355,null,null,null,null,null,null,null,12,null,null,4,null,null,3,"3 x 4 ","4 x 3",12,null,null,null,null,15,18.75]
["belt support rollers Material",{"$f":"'Séries 3-4-5'!B25","v":"304L"},2,"Steel","corective factor","original 2003","updated\ncost",2004,"revised","Nov 2005 updated ",null,406,null,null,null,null,null,null,null,12.5,null,1,3,null,null,4,"& 1 x 3,5 & 3 x 3 ","1 x 3,5 & 3 x 3",null,null,null,null,null,15.625,19.5]
["belt support rollers Qty",{"$f":"SUM(B11:B14)+1","v":3},null,"E24",{"$f":"G26/F26","v":1.6578947368421053},0.76,1.26,null,"2002-10-17",1,null,"304L",null,null,null,null,null,null,null,13,null,2,2,null,null,4,"& 2 x 3,5 & 2 x 3 ","2 x 3,5 & 2 x 3",null,null,null,null,null,null,20.25]
["Cloth return rollers  Ø",{"$f":"IF(B5<1250,60,88.9)","v":60},null,"304L",1.5909090909090908,2.2000000000000002,3.5,2.86,"2003-05-09",2.2999999999999998,null,"316L",null,null,null,null,null,null,null,13.5,null,3,1,null,null,4,"& 3 x 3,5 & 1 x 3 ","3 x 3,5 & 1 x 3",null,null,null,null,null,null,21]
["Cloth return rollers  Material",{"$f":"'Séries 3-4-5'!B28","v":"304L"},2,304,1.5909090909090908,2.2000000000000002,3.5,2.86,"2003-05-09",2.2999999999999998,null,"904L",null,null,null,null,null,null,null,14,null,4,null,null,null,4,"& 4 x 3,5 ","4 x 3,5",14]
["Cloth return rollers  Qty",8,null,"316L",2.0689655172413794,2.9,6,3.77,"2003-05-09",3.91,null,"CAOUT",null,null,null,null,null,null,null,14.5,null,null,4,1,null,4,"1 x 4 & 3 x 3,5 ","1 x 2,5 & 4 x 3"]
["Cloth support rollers Ø",{"$f":"B27","v":60},null,316,2.0689655172413794,2.9,6,3.77,"2003-05-09",3.91,null,60,null,null,null,null,null,null,null,15,null,null,5,null,null,4,"3 x 4 & 1 x 3 ","5 x 3"]
["Cloth support rollers Material",{"$f":"B28","v":"304L"},null,"U45N",1.75,4,7,5.2,"2003-05-09",6.1,null,114]
["Cloth support rollers Qty",{"$f":"SUM(B11:B14)","v":2},null,"904L",1.7105263157894737,7.6,13,9.8800000000000008,"2003-05-09",11.24,null,168]
["Cloth exit rollers Ø",{"$f":"B30","v":60},null,"CAOUT",1.3,"CSRL",null,null,null,null,null,219]
["Cloth exit rollers Material",{"$f":"B31","v":"304L"},null,"POLYPROPYLENE",1.3,null,null,null,"In blue = estimated",null,null,273]
["Cloth exit rollers Qty",1,null,"SVR",1.3,null,null,null,null,null,null,8]
["Cloth discharge rollers Ø",{"$f":"B33","v":60},null,"SBRLT",1.05,null,null,null,null,null,null,9]
["Cloth discharge rollers Material",{"$f":"'Séries 3-4-5'!B37","v":"304L"},2,"SBR",1.05,null,null,null,null,null,null,11]
["Cloth discharge rollers Qty",1,null,"EPDM",1.05,null,null,null,null,null,null,60]
["lining material",null,null,"PLAS",1.3]
["quantity of belt guide rollers",null,null,"MONT",1.3,null,null,null,null,null,null,168]
[null,null,null,"PRE",1.3,null,null,null,null,null,null,219,1,2,3,4,5]
["Cloth form rollers. Ø",219,null,"Other",1.3,null,null,null,null,null,null,273,"process","Roller","Frame","feeder","Belt"]
["Cloth form rollers. Material",{"$f":"'Séries 3-4-5'!B43","v":"304L"},2,null,null,null,null,null,null,null,null,"U45N","304L","304L","304L","304L","SBRLT"]
["Cloth form rollers. Qty",1,null,null,null,null,null,null,null,null,null,"304L","316L","316L","316L","316L","SBR"]
["roller bearing",{"$f":"(B26+B29+B32+B35+B38+B41)*2","v":30},null,null,null,null,null,null,null,null,null,"316L","904L","904L","904L","904L","EPDM"]
["vacuum box  Section (SVR only for U shape)",{"$f":"IF(B47=\"SVR\",\"U\",110)","v":110},null,{"$f":"IF(B46=L47,\"Select SVR as Material??\",\"Select Steel as Material??\")","v":"Select Steel as Material??"},null,null,null,null,null,null,null,"904L","U45N","U45N","U45N","U45N"]
["vacuum box  Material",{"$f":"'Séries 3-4-5'!B47","v":"304L"},1,"CAOUT = rubber lined",null,null,null,null,null,null,null,"U","SVR","CAOUT","E24","PPH"]
["support of VB Material",{"$f":"'Séries 3-4-5'!B48","v":"304L"},3,"SVR = fiber galss polyester renforced",null,null,null,null,null,null,null,110]
["vacuum box  connection DN ",{"$f":"'Séries 3-4-5'!B49","v":65},null,{"$f":"IF(B46=L47,\"Select adapted dia.??\",\"\")","v":""},null,null,null,null,null,null,null,140]
["vacuum box  qty of connection",{"$f":"'Séries 3-4-5'!B50","v":4},null,null,null,null,null,null,null,null,null,"304L"]
["vacuum box  Qty internal baffle",{"$f":"'Séries 3-4-5'!B51","v":3},null,null,null,null,null,null,null,null,null,"316L"]
["cake discharge / washing Material",{"$f":"Calculations!E16","v":"304L"},4,null,null,null,null,null,null,null,null,"904L"]
["entrance dam support Material",{"$f":"'Séries 3-4-5'!B53","v":"316L"},3,null,{"$f":"D46","v":"Select Steel as Material??"},null,null,null,null,null,null,"SVR"]
["apron for dam, Material ",{"$f":"'Séries 3-4-5'!B54","v":"EPDM"},null,null,null,null,null,null,null,null,null,40]
["cake wash device Type",{"$f":"'Séries 3-4-5'!B55","v":"OVER"},null,"SURV = overflow",null,"TUB = spreader pipe",null,"QDC = fish tail",null,null,null,50]
["cake wash device Material",{"$f":"'Séries 3-4-5'!B56","v":"304L"},4,null,null,null,null,null,null,null,null,65]
["cake wash device Qty",{"$f":"'Séries 3-4-5'!B57","v":3},null,null,null,null,null,null,null,null,null,80]
["carriage Type","PATI",null,null,null,null,null,null,null,null,null,100]
["carriage Material","316L",3,null,null,null,null,null,null,null,null,125]
["carriage Qty",{"$f":"B57","v":3}]
["pendulum dam support Material ",{"$f":"B53","v":"316L"},null,null,null,null,null,null,null,null,null,"304L"]
["pendulum dam apron Material",{"$f":"B54","v":"EPDM"},null,null,null,null,null,null,null,null,null,"316L"]
["pendulum dam Qty",{"$f":"B57+1","v":4},null,null,null,null,null,null,null,null,null,"904L"]
["slurry feeder Type",{"$f":"'Séries 3-4-5'!B64","v":"QDC"},null,"QDC = fish tail",null,"BOIT = box",null,null,null,null,null,"PPH"]
["slurry feeder Material",{"$f":"'Séries 3-4-5'!B65","v":"304L"},4,null,null,null,null,null,null,null,null,"TUBE"]
["slurry feeder Qty",1,null,null,null,null,null,null,null,null,null,"SURV"]
["Equipment pneumatic: Type","STD",null,"Option for SS materail not available",null,null,null,null,null,null,null,"QDC"]
["Equipment électric: Type","STD",null,"Option for US normes",null,null,null,null,null,null,null,"ROUE"]
["bolting",{"$f":"'Séries 3-4-5'!B69","v":316},null,null,null,null,null,null,null,null,null,"PEMO"]
["bellow 12 x 2: Qty",{"$f":"HLOOKUP(E4,N15:Q20,2)","v":0},null,null,null,null,null,null,null,null,null,"PATI"]
["bellow 10 x 2: Qty",{"$f":"HLOOKUP(E4,N15:Q20,3)","v":0},null,null,null,null,null,null,null,null,null,"QDC"]
["bellow 8 x 3: Qty",{"$f":"HLOOKUP(E4,N15:Q20,4)","v":0},null,null,null,null,null,null,null,null,null,"BOIT"]
["bellow 8 x 2: Qty",{"$f":"HLOOKUP(E4,N15:Q20,5)","v":0},null,null,null,null,null,null,null,null,null,"STD"]
["bellow 6 x 2: Qty",{"$f":"HLOOKUP(E4,N15:Q20,6)","v":5},null,null,null,null,null,null,null,null,null,"INOX"]
["oil & grease",1,null,null,null,null,null,null,null,null,null,"STD"]
["Protection",1,null,null,null,null,null,null,null,null,null,"US"]
["torque arm",1,null,null,null,null,null,null,null,null,null,304]
["gear unit torque ",{"$f":"'Séries 3-4-5'!B77","v":2319.9441837187496},"Nm","NOTE: torque limited @ 7300 Nm for 1.25 m above 13,13 m²",null,null,null,null,null,null,null,316]
["gear unit, maximum rpm at pulley shaft",{"$f":"'Séries 3-4-5'!B78","v":0.19264375159509495},"Tr/mn","NOTE: torque limited @ 7900 Nm for 1,50 m above 15,75 m²",null,null,null,null,null,null,null,"904L"]
["Motor",{"$f":"'Séries 3-4-5'!B79","v":0.25},null,null,null,null,null,null,null,null,null,"PRE"]
["freqency invertor",{"$f":"'Séries 3-4-5'!B80","v":0.25},null,null,null,null,null,null,null,null,null,"MONT"]
["filter cloth",1,null,null,null,null,null,null,null,null,null,1]
["pre-assembly (PRE) or erection in factory (MONT) ",{"$f":"Calculations!S38","v":"MONT"},null,"PRE = erected on site",null,null,"MONT = erected in factory before delivery",null,null,null,null,0]
[]
["Basic minimum safety guard grid",1]
[]
[]
[]
[]
[]
[]
[]
[]
["CALCULTION OF ERECTION IN FACTORY"]
["Long BaV",{"$f":"Surface2/B5*1000","v":4},null,"mat kg","mat cout","heure fab","montage","collage talon"]
["Long filtre",{"$f":"B95+0.4","v":4.4000000000000004},null,{"$f":"B96*B98*2","v":1078.8800000000001},{"$f":"D96*B101","v":819.94880000000012},{"$f":"D96*B97/60","v":26.972000000000001},{"$f":"B99+(B100*SUM(B11:B14))","v":330},{"$f":"HLOOKUP(B5,Band2!B16:M33,IF(B19=Band2!A28,17,18),0)","v":27.937199999999997}]
["mn/kg",1.5,"??"]
["poids/m acier renfort",122.6,"??"]
["part fixe mont",190,"??","90+100","entrée + sortie"]
["part variable mont",70,"??",70,"par pas"]
["prix kg base",0.76]

{"sheet":"Cost list","index":13,"n_rows":255,"n_cols":33,"rows_kept":255,"cut":false,"hidden":true,"merged":[[192,1,192,20],[198,1,198,20],[204,1,204,20],[209,1,209,20],[172,1,172,20],[174,1,174,20],[180,1,180,20],[186,1,186,20],[229,1,229,20],[215,1,215,20],[217,1,217,20],[219,1,219,20],[221,1,221,20],[223,1,223,20],[225,1,225,20],[227,1,227,20],[164,1,164,20],[166,1,166,20],[168,1,168,20],[170,1,170,20],[148,1,148,20],[153,1,153,20],[160,1,160,20],[162,1,162,20],[137,1,137,20],[143,1,143,20],[115,1,115,20],[117,1,117,20],[119,1,119,20],[124,1,124,20],[130,1,130,20],[132,1,132,20],[96,29,96,30],[113,1,113,20],[107,1,107,20],[4,0,6,0],[84,0,84,20],[30,0,31,0],[97,29,97,30],[101,0,101,20],[109,1,109,20],[111,1,111,20],[0,14,0,18],[4,27,6,27],[62,21,64,21],[65,22,65,32],[4,20,6,20],[65,1,65,20],[2,3,2,5],[61,4,64,4],[62,14,64,14],[62,20,64,20],[3,4,6,4],[4,14,6,14],[4,28,6,28],[4,21,6,21],[3,12,3,13]]}
[null,null,null,null,null,null,null,null,null,null,null,null,null,null,"Managed your cost"]
[null,null,null,null,null,null,null,null,null,null,null,null,null,null,null,"French GM","(Local) GM","French Hour cost","(local) Hour cost"]
[null,"N° DU DEVIS :",{"$f":"'Séries 3-4-5'!E2","v":"726789-rev4"},{"$f":"\"- \"&'Séries 3-4-5'!B4&\"B\"&('Séries 3-4-5'!B3/100)","v":"- 2B5"},null,null,"Client",null,{"$f":"'Séries 3-4-5'!H2","v":"CARESTER"},null,null,null,{"$f":"'Séries 3-4-5'!B8","v":{"$error":"#N/A"}},null,1,1,1,60,45,"Rev.",0,null,null,null,null,null,"detail of cost sharing France / local"]
[null,"Ph. LE BIGOT => ",{"$f":"'Séries 3-4-5'!E3","v":"X HOG"},null,"local basic","For ","Surface :",null,{"$f":"'Séries 3-4-5'!B4","v":2},"Largeur",null,{"$f":"'Séries 3-4-5'!B3","v":500},"Spécifications",null,{"$f":"CONCATENATE(G11,\"+\",G31,\"+\",G14,\"+\",\"T\",D15,\"+\",H35,\"G\",\"+\",D51,\"KW\",\"+\",H52,\"VF\")","v":"304L+304L+EPDM+T70+3G+0,25KW+1VF"},null,null,null,null,null,{"$f":"'Séries 3-4-5'!B2","v":"2025-04-25"},null,null,null,null,"French","Local","French","Local","French","Local","French","Local"]
["S/E",null," ",null,null,"local",null,null,"Material","Buyout","Corrective","Updated","Buyout",null,"Total (1) Material + buyout","Labour","Labour",null,"Total (2)",null,"Final cost without engineering","Final cost including engineering",null,"data",null,"incl 1,149","incl. 1,149","Total (1) Material + buyout","Total (1) Material + buyout","Labour","Labour","Total (2)","Total (2)"]
[null,"Désignation",null,"Spéc",null,"fill the ","Mat","Qty","Unit cost","Unit cost","factor","material",null,"Qty",null,"Unit","Total","Taux","Labour","Marg",null,null,"Désignation","Spéc",{"$f":"G6","v":"Mat"},"France","Local",null,null,"Total","Total","labour","labour"]
[null,null,null,null,null,"cell","Spec",null,null,null,null,null,1,null,null,null,1,null,null,null,null,null,null,"Dia.",null,"no engineering",null,null,null,"hours","hours","cost","cost"]
["ENG","Etudes",null,null,null,null,null,1,null,11500,null,{"$f":"I8*$L$66","v":0},{"$f":"J8*$M$7","v":11500},1,{"$f":"(L8+M8)*N8","v":11500},80,{"$f":"P8*N8","v":80},44,0,{"$f":"IF(F8=\"\",$P$3,$Q$3)","v":1},0,0,{"$f":"B8","v":"Etudes"},null,null,{"$f":"U8","v":0},null,{"$f":"O8","v":11500},null,{"$f":"Q8","v":80},null,{"$f":"S8","v":0}]
["ENG","customisazion second filter and following",null,null,null,null,null,1,null,5100,null,{"$f":"I9*$L$66","v":0},{"$f":"J9*$M$7","v":5100},{"$f":"'Séries 3-4-5'!$I$3-1","v":0},{"$f":"(L9+M9)*N9","v":0},{"$f":"IF(N9>0.5,40,0)","v":0},{"$f":"P9*N9","v":0},44,{"$f":"Q9*R9","v":0},{"$f":"IF(F9=\"\",$P$3,$Q$3)","v":1},{"$f":"(O9)*T9","v":0},{"$f":"(S9)*T9","v":0},"customisazion second filter and following",null,null,{"$f":"U9","v":0},{"$f":"IF(F9=\"\",\"\",U9)","v":""},{"$f":"IF($F9=\"\",O9,\"\")","v":0},{"$f":"IF($F9=\"\",\"\",O9)","v":""},{"$f":"IF($F9=\"\",Q9,\"\")","v":0},{"$f":"IF($F9=\"\",\"\",Q9)","v":""},{"$f":"IF($F9=\"\",S9,\"\")","v":0},{"$f":"IF($F9=\"\",\"\",S9)","v":""}]
[null,"Other customisazion",null,null,null,null,null,1,null,null,null,{"$f":"I10*$L$66","v":0},{"$f":"J10*$M$7","v":0},{"$f":"'Séries 3-4-5'!$I$3","v":1},{"$f":"(L10+M10)*N10","v":0},0,{"$f":"P10*N10","v":0},44,0,{"$f":"IF(F10=\"\",$P$3,$Q$3)","v":1},{"$f":"(O10)*T10","v":0},{"$f":"(S10)*T10","v":0},"Other customisazion",null,null,{"$f":"U10","v":0},{"$f":"IF(F10=\"\",\"\",U10)","v":""},{"$f":"IF($F10=\"\",O10,\"\")","v":0},{"$f":"IF($F10=\"\",\"\",O10)","v":""},{"$f":"IF($F10=\"\",Q10,\"\")","v":0},{"$f":"IF($F10=\"\",\"\",Q10)","v":""},{"$f":"IF($F10=\"\",S10,\"\")","v":0},{"$f":"IF($F10=\"\",\"\",S10)","v":""}]
["01","frame",null,null,"#",0,{"$f":"'Séries 3-4-5'!B13","v":"304L"},1,{"$f":"IF(G11=\"E24\",Char!N24,(HLOOKUP(G11,Char!I6:M24,19,0))/6.55957)","v":{"$error":"#N/A"}},{"$f":"((IF(Char!$B$84=0,0,HLOOKUP(L4,Char!B84:M90,6,0)))/6.55957)","v":0},{"$f":"IF(G11=\"\",'Séries 3-4-5'!$E$42,(VLOOKUP(G11,'Séries 3-4-5'!$D$26:$E$42,2,0)))","v":1.5909090909090908},{"$f":"I11*K11","v":{"$error":"#N/A"}},{"$f":"J11*$M$7","v":0},{"$f":"'Séries 3-4-5'!$I$3","v":1},{"$f":"(L11+M11)*N11","v":{"$error":"#N/A"}},{"$f":"IF(G11=\"E24\",Char!O24,Char!M24)","v":{"$error":"#N/A"}},{"$f":"P11*N11*$Q$7","v":{"$error":"#N/A"}},{"$f":"IF($F11=\"\",$R$3,$S$3)","v":45},{"$error":"#N/A"},{"$f":"IF(F11=\"\",$P$3,$Q$3)","v":1},{"$f":"(O11+S11)*T11","v":{"$error":"#N/A"}},null,"frame",{"$f":"D11","v":0},{"$f":"G11","v":"304L"},{"$f":"IF(F11=\"\",U11,\"\")","v":""},{"$f":"IF(F11=\"\",\"\",U11)","v":{"$error":"#N/A"}},{"$f":"IF($F11=\"\",O11,\"\")","v":""},{"$f":"IF($F11=\"\",\"\",O11)","v":{"$error":"#N/A"}},{"$f":"IF($F11=\"\",Q11,\"\")","v":""},{"$f":"IF($F11=\"\",\"\",Q11)","v":{"$error":"#N/A"}},{"$f":"IF($F11=\"\",S11,\"\")","v":""},{"$f":"IF($F11=\"\",\"\",S11)","v":{"$error":"#N/A"}}]
["18","belt support steel beam",null,null,null,0,{"$f":"'Séries 3-4-5'!B14","v":"304L"},{"$f":"LOOKUP(L4,Tabl!A21:A44,Tabl!B21:B44)","v":4},{"$f":"Tabl!K88","v":{"$error":"#N/A"}},null,{"$f":"IF(G12=\"\",'Séries 3-4-5'!$E$42,(VLOOKUP(G12,'Séries 3-4-5'!$D$26:$E$42,2,0)))","v":1.5909090909090908},{"$f":"I12*K12","v":{"$error":"#N/A"}},{"$f":"J12*$M$7","v":0},{"$f":"'Séries 3-4-5'!$I$3","v":1},{"$f":"(L12+M12)*N12","v":{"$error":"#N/A"}},{"$f":"Tabl!J89","v":{"$error":"#N/A"}},{"$f":"P12*N12*$Q$7","v":{"$error":"#N/A"}},45,{"$f":"Q12*R12","v":{"$error":"#N/A"}},1,{"$f":"(O12+S12)*T12","v":{"$error":"#N/A"}},null,"belt support steel beam",0,"304L",{"$f":"IF(F12=\"\",U12,\"\")","v":""},{"$f":"IF(F12=\"\",\"\",U12)","v":{"$error":"#N/A"}},{"$f":"IF($F12=\"\",O12,\"\")","v":""},{"$f":"IF($F12=\"\",\"\",O12)","v":{"$error":"#N/A"}},{"$f":"IF($F12=\"\",Q12,\"\")","v":""},{"$f":"IF($F12=\"\",\"\",Q12)","v":{"$error":"#N/A"}},{"$f":"IF($F12=\"\",S12,\"\")","v":""},{"$f":"IF($F12=\"\",\"\",S12)","v":{"$error":"#N/A"}}]
["18","wear belt and plastic rail",null,{"$f":"'Séries 3-4-5'!B15","v":"50X5"},null,0,null,{"$f":"LOOKUP(L4,Tabl!A21:A44,Tabl!B21:B44)","v":4},null,{"$f":"Tabl!K89","v":{"$error":"#N/A"}},{"$f":"IF(G13=\"\",'Séries 3-4-5'!$E$42,(VLOOKUP(G13,'Séries 3-4-5'!$D$26:$E$42,2,0)))","v":1.3},0,{"$f":"J13*$M$7","v":{"$error":"#N/A"}},{"$f":"'Séries 3-4-5'!$I$3","v":1},{"$error":"#N/A"},null,{"$f":"P13*N13*$Q$7","v":0},45,0,1,{"$f":"(O13+S13)*T13*0.8","v":{"$error":"#N/A"}},"Korea","wear belt and plastic rail","50X5",0,"",{"$error":"#N/A"},"",{"$error":"#N/A"},"",0,"",0]
["04","rubber belt + grooving + pinching",null,null,null,null,{"$f":"'Séries 3-4-5'!B17","v":"EPDM"},1,{"$f":"(VLOOKUP(G14,Band!I22:O23,7,0))","v":{"$error":"#N/A"}},{"$f":"(VLOOKUP(G14,Band!A22:H24,8,0))","v":{"$error":"#N/A"}},{"$f":"IF(G14=\"\",'Séries 3-4-5'!$E$42,(VLOOKUP(G14,'Séries 3-4-5'!$D$26:$E$42,2,0)))","v":1.05},null,{"$error":"#N/A"},{"$f":"'Séries 3-4-5'!$I$3","v":1},{"$error":"#N/A"},{"$f":"HLOOKUP(L4,Band!B13:G27,15,0)","v":{"$error":"#N/A"}},{"$error":"#N/A"},60,{"$error":"#N/A"},1,{"$f":"J14*1.5*1.05","v":{"$error":"#N/A"}},{"$f":"(I14+$S$14)*$T$14","v":{"$error":"#N/A"}},"rubber belt + grooving + pinching",0,"EPDM",{"$error":"#N/A"},"",{"$error":"#N/A"},"",{"$error":"#N/A"},"",{"$error":"#N/A"},""]
["04","edge curb",null,{"$f":"'Séries 3-4-5'!B18","v":70},null,0,{"$f":"'Séries 3-4-5'!B19","v":"SBR"},1,null,{"$f":"(HLOOKUP(L4,Band!B13:G26,IF(D15=Band!A25,13,14),0))/6.55957","v":{"$error":"#N/A"}},{"$f":"IF(G15=\"\",'Séries 3-4-5'!$E$42,(VLOOKUP(G15,'Séries 3-4-5'!$D$26:$E$42,2,0)))","v":1.05},0,{"$error":"#N/A"},{"$f":"'Séries 3-4-5'!$I$3","v":1},{"$error":"#N/A"},0,0,45,0,1,{"$f":"(O15+S15)*T15*1.05","v":{"$error":"#N/A"}},null,"edge curb",70,"SBR","",{"$error":"#N/A"},"",{"$error":"#N/A"},"",0,"",0]
["03",{"$f":"\"drive pulley\"&\" \"&'Séries 3-4-5'!$B$20","v":"drive pulley SBR"},null,{"$f":"'Séries 3-4-5'!$B$5","v":935},"#",0,null,1,{"$f":"(HLOOKUP($L$4,Tamb!$B$3:$M$9,2,0))/6.55957","v":152.44901723741037},{"$f":"(HLOOKUP($L$4,Tamb!$B$3:$M$9,3,0))/6.55957","v":897.92471152834719},{"$f":"IF(G16=\"\",'Séries 3-4-5'!$E$42,(VLOOKUP(G16,'Séries 3-4-5'!$D$26:$E$42,2,0)))","v":1.3},198.18372240863349,897.92471152834719,{"$f":"'Séries 3-4-5'!$I$3","v":1},1096.1084339369806,{"$f":"HLOOKUP($L$4,Tamb!$B$3:$M$9,6,0)","v":32},32,45,1440,1,{"$f":"(O16+S16)*T16*2","v":5072.2168678739617},null,"drive pulley SBR",935,0,"",5072.2168678739617,"",1096.1084339369806,"",32,"",1440]
["02",{"$f":"\"idler pulley\"&\" \"&'Séries 3-4-5'!$B$20","v":"idler pulley SBR"},null,{"$f":"'Séries 3-4-5'!$B$5","v":935},"#",0,null,1,{"$f":"(HLOOKUP($L$4,Tamb!$B$3:$M$9,4,0))/6.55957","v":106.71431206618726},{"$f":"(HLOOKUP($L$4,Tamb!$B$3:$M$9,5,0))/6.55957","v":708.88793015395822},{"$f":"IF(G17=\"\",'Séries 3-4-5'!$E$42,(VLOOKUP(G17,'Séries 3-4-5'!$D$26:$E$42,2,0)))","v":1.3},138.72860568604344,708.88793015395822,{"$f":"'Séries 3-4-5'!$I$3","v":1},847.61653584000169,{"$f":"HLOOKUP($L$4,Tamb!$B$3:$M$9,7,0)","v":28},28,45,1260,1,{"$f":"(O17+S17)*T17*2","v":4215.2330716800034},null,"idler pulley SBR",935,0,"",4215.2330716800034,"",847.61653584000169,"",28,"",1260]
["02/03","pulleys bearing",null,null,null,0,null,1,null,{"$f":"(HLOOKUP($L$4,Tamb!$B$3:$M$10,8,0))/6.55957","v":487.8368551597132},{"$f":"IF(G18=\"\",'Séries 3-4-5'!$E$42,(VLOOKUP(G18,'Séries 3-4-5'!$D$26:$E$42,2,0)))","v":1.3},0,487.8368551597132,{"$f":"'Séries 3-4-5'!$I$3","v":1},487.8368551597132,5,5,45,225,1,{"$f":"(O18+S18)*T18*1.1","v":784.12054067568454},null,"pulleys bearing",0,0,"",784.12054067568454,"",487.8368551597132,"",5,"",225]
["05","belt guide rollers",null,null,null,0,null,{"$f":"'Séries 3-4-5'!B23","v":{"$error":"#N/A"}},null,{"$f":"(136*H19)/6.55957","v":{"$error":"#N/A"}},{"$f":"IF(G19=\"\",'Séries 3-4-5'!$E$42,(VLOOKUP(G19,'Séries 3-4-5'!$D$26:$E$42,2,0)))","v":1.3},0,{"$error":"#N/A"},{"$f":"'Séries 3-4-5'!$I$3","v":1},{"$error":"#N/A"},null,0,45,0,1,{"$f":"(O19+S19)*T19*1.1","v":{"$error":"#N/A"}},null,"belt guide rollers",0,0,"",{"$error":"#N/A"},"",{"$error":"#N/A"},"",0,"",0]
["06","belt support rollers",null,{"$f":"'Séries 3-4-5'!B24","v":{"$error":"#N/A"}},"#","O",{"$f":"'Séries 3-4-5'!B25","v":"304L"},{"$f":"'Séries 3-4-5'!B26","v":{"$error":"#N/A"}},{"$f":"((INDEX(Roul!Q5:BE9,MATCH(D20,Roul!Q6:Q10,0)+1,MATCH($L$4&G20,Roul!R5:BE5,0)+1))*H20)/6.55957","v":{"$error":"#N/A"}},{"$f":"((INDEX(Roul!Q10:BE14,MATCH(D20,Roul!Q11:Q14,0)+1,MATCH(L4&G20,Roul!R10:BE10,0)+1))*H20)/6.55957","v":{"$error":"#N/A"}},{"$f":"IF(G20=\"\",'Séries 3-4-5'!$E$42,(VLOOKUP(G20,'Séries 3-4-5'!$D$26:$E$42,2,0)))","v":1.5909090909090908},{"$error":"#N/A"},{"$error":"#N/A"},{"$f":"'Séries 3-4-5'!$I$3","v":1},{"$f":"(L20+M20)*N20","v":{"$error":"#N/A"}},{"$f":"(LOOKUP(D20,Roul!$P$45:$P$51,Roul!$Q$45:$Q$51))*H20","v":{"$error":"#N/A"}},{"$error":"#N/A"},45,{"$error":"#N/A"},1,{"$f":"(O20+S20)*T20*1.2","v":{"$error":"#N/A"}},null,"belt support rollers",{"$error":"#N/A"},"304L","",{"$error":"#N/A"},"",{"$error":"#N/A"},"",{"$error":"#N/A"},"",{"$error":"#N/A"}]
["09","cloth support roller type 1",null,{"$f":"'Séries 3-4-5'!B27","v":{"$error":"#N/A"}},"#","O",{"$f":"'Séries 3-4-5'!B28","v":"304L"},{"$f":"'Séries 3-4-5'!B29","v":8},{"$f":"((INDEX(Roul!Q15:BE20,MATCH(D21,Roul!Q16:Q20,0)+1,MATCH(L4&G21,Roul!R15:BE15,0)+1))*H21)/6.55957","v":{"$error":"#N/A"}},{"$f":"((INDEX(Roul!Q21:BE26,MATCH(D21,Roul!Q22:Q26,0)+1,MATCH(L4&G21,Roul!R21:BE21,0)+1))*H21)/6.55957","v":{"$error":"#N/A"}},{"$f":"IF(G21=\"\",'Séries 3-4-5'!$E$42,(VLOOKUP(G21,'Séries 3-4-5'!$D$26:$E$42,2,0)))","v":1.5909090909090908},{"$error":"#N/A"},{"$error":"#N/A"},{"$f":"'Séries 3-4-5'!$I$3","v":1},{"$error":"#N/A"},{"$f":"(LOOKUP(D21,Roul!$P$45:$P$51,Roul!$Q$45:$Q$51))*H21","v":{"$error":"#N/A"}},{"$error":"#N/A"},45,{"$error":"#N/A"},1,{"$f":"(O21+S21)*T21*1.2","v":{"$error":"#N/A"}},null,"cloth support roller type 1",{"$error":"#N/A"},"304L","",{"$error":"#N/A"},"",{"$error":"#N/A"},"",{"$error":"#N/A"},"",{"$error":"#N/A"}]
["09","cloth support roller type 2",null,{"$f":"'Séries 3-4-5'!B30","v":{"$error":"#N/A"}},"#","O",{"$f":"'Séries 3-4-5'!B31","v":"304L"},{"$f":"'Séries 3-4-5'!B32","v":{"$error":"#N/A"}},{"$f":"(IF(H22=0,0,(INDEX(Roul!Q15:BE20,MATCH(D22,Roul!Q16:Q20,0)+1,MATCH(L4&G22,Roul!R15:BE15,0)+1))*H22))/6.55957","v":{"$error":"#N/A"}},{"$f":"(IF(H22=0,0,(INDEX(Roul!Q21:BE26,MATCH(D22,Roul!Q22:Q26,0)+1,MATCH(L4&G22,Roul!R21:BE21,0)+1))*H22))/6.55957","v":{"$error":"#N/A"}},{"$f":"IF(G22=\"\",'Séries 3-4-5'!$E$42,(VLOOKUP(G22,'Séries 3-4-5'!$D$26:$E$42,2,0)))","v":1.5909090909090908},{"$error":"#N/A"},{"$error":"#N/A"},{"$f":"'Séries 3-4-5'!$I$3","v":1},{"$error":"#N/A"},{"$f":"IF(H22=0,0,(LOOKUP(D22,Roul!$P$45:$P$51,Roul!$Q$45:$Q$51))*H22)","v":{"$error":"#N/A"}},{"$error":"#N/A"},45,{"$error":"#N/A"},1,{"$f":"(O22+S22)*T22*1.2","v":{"$error":"#N/A"}},null,"cloth support roller type 2",{"$error":"#N/A"},"304L","",{"$error":"#N/A"},"",{"$error":"#N/A"},"",{"$error":"#N/A"},"",{"$error":"#N/A"}]
["14","cloth discharge end support roller",null,{"$f":"'Séries 3-4-5'!B33","v":{"$error":"#N/A"}},"#","O",{"$f":"'Séries 3-4-5'!B34","v":"304L"},{"$f":"'Séries 3-4-5'!B35","v":2},{"$f":"((INDEX(Roul!Q15:BE20,MATCH(D23,Roul!Q16:Q20,0)+1,MATCH(L4&G23,Roul!R15:BE15,0)+1))*H23)/6.55957","v":{"$error":"#N/A"}},{"$f":"((INDEX(Roul!Q21:BE26,MATCH(D23,Roul!Q22:Q26,0)+1,MATCH(L4&G23,Roul!R21:BE21,0)+1))*H23)/6.55957","v":{"$error":"#N/A"}},{"$f":"IF(G23=\"\",'Séries 3-4-5'!$E$42,(VLOOKUP(G23,'Séries 3-4-5'!$D$26:$E$42,2,0)))","v":1.5909090909090908},{"$error":"#N/A"},{"$error":"#N/A"},{"$f":"'Séries 3-4-5'!$I$3","v":1},{"$error":"#N/A"},{"$f":"(LOOKUP(D23,Roul!$P$45:$P$51,Roul!$Q$45:$Q$51))*H23","v":{"$error":"#N/A"}},{"$error":"#N/A"},45,{"$error":"#N/A"},1,{"$f":"(O23+S23)*T23*1.2","v":{"$error":"#N/A"}},null,"cloth discharge end support roller",{"$error":"#N/A"},"304L","",{"$error":"#N/A"},"",{"$error":"#N/A"},"",{"$error":"#N/A"},"",{"$error":"#N/A"}]
["09","cake discharge roller",null,{"$f":"'Séries 3-4-5'!B36","v":{"$error":"#N/A"}},"#","O",{"$f":"'Séries 3-4-5'!B37","v":"304L"},{"$f":"'Séries 3-4-5'!B38","v":1},{"$f":"IF('Séries 3-4-5'!B37=\"CAOUT\",(HLOOKUP($L$4,Roul!T45:AC48,2,0))/6.55957,'Cost list'!I23/2)","v":{"$error":"#N/A"}},{"$f":"IF('Séries 3-4-5'!B37=\"CAOUT\",(HLOOKUP($L$4,Roul!T45:AC48,3,0))/6.55957,'Cost list'!J23/2)","v":{"$error":"#N/A"}},{"$f":"IF(G24=\"\",'Séries 3-4-5'!$E$42,(VLOOKUP(G24,'Séries 3-4-5'!$D$26:$E$42,2,0)))","v":1.5909090909090908},{"$error":"#N/A"},{"$error":"#N/A"},{"$f":"'Séries 3-4-5'!$I$3","v":1},{"$error":"#N/A"},{"$f":"IF('Séries 3-4-5'!B37=\"CAOU\",HLOOKUP($L$4,Roul!T45:AC48,4,0),'Cost list'!P23/2)","v":{"$error":"#N/A"}},{"$error":"#N/A"},45,{"$error":"#N/A"},1,{"$f":"(O24+S24)*T24","v":{"$error":"#N/A"}},null,"cake discharge roller",{"$error":"#N/A"},"304L","",{"$error":"#N/A"},"",{"$error":"#N/A"},"",{"$error":"#N/A"},"",{"$error":"#N/A"}]
["08","Guiding roller (angular)",null,{"$f":"'Séries 3-4-5'!B39","v":{"$error":"#N/A"}},"#","O",{"$f":"'Séries 3-4-5'!B40","v":"304L"},{"$f":"'Séries 3-4-5'!B41","v":1},{"$f":"(IF(H25=0,0,(INDEX(Roul!Q35:BE38,MATCH(D25,Roul!Q36:Q38,0)+1,MATCH(L4&G25,Roul!R35:BE35,0)+1))*H25))/6.55957","v":{"$error":"#N/A"}},{"$f":"(IF(H25=0,0,(INDEX(Roul!Q39:BE42,MATCH(D25,Roul!Q40:Q42,0)+1,MATCH(L4&G25,Roul!R39:BE39,0)+1))*H25))/6.55957","v":{"$error":"#N/A"}},{"$f":"IF(G25=\"\",'Séries 3-4-5'!$E$42,(VLOOKUP(G25,'Séries 3-4-5'!$D$26:$E$42,2,0)))","v":1.5909090909090908},{"$error":"#N/A"},{"$error":"#N/A"},{"$f":"'Séries 3-4-5'!$I$3","v":1},{"$error":"#N/A"},{"$f":"IF(H25=0,0,(LOOKUP(D25,Roul!$P$45:$P$51,Roul!$Q$45:$Q$51))*H25)","v":{"$error":"#N/A"}},{"$error":"#N/A"},45,{"$error":"#N/A"},1,{"$f":"(O25+S25)*T25*1.4","v":{"$error":"#N/A"}},null,"Guiding roller (angular)",{"$error":"#N/A"},"304L","",{"$error":"#N/A"},"",{"$error":"#N/A"},"",{"$error":"#N/A"},"",{"$error":"#N/A"}]
["16","entrance / cloth form roller",null,{"$f":"'Séries 3-4-5'!B42","v":{"$error":"#N/A"}},"#","O",{"$f":"'Séries 3-4-5'!B43","v":"304L"},{"$f":"'Séries 3-4-5'!B44","v":1},{"$f":"((INDEX(Roul!Q27:BE30,MATCH(D26,Roul!Q28:Q30,0)+1,MATCH(L4&G26,Roul!R27:BE27,0)+1))*H26)/6.55957","v":{"$error":"#N/A"}},{"$f":"((INDEX(Roul!Q31:BE34,MATCH(D26,Roul!Q32:Q34,0)+1,MATCH(L4&G26,Roul!R31:BE31,0)+1))*H26)/6.55957","v":{"$error":"#N/A"}},{"$f":"IF(G26=\"\",'Séries 3-4-5'!$E$42,(VLOOKUP(G26,'Séries 3-4-5'!$D$26:$E$42,2,0)))","v":1.5909090909090908},{"$error":"#N/A"},{"$error":"#N/A"},{"$f":"'Séries 3-4-5'!$I$3","v":1},{"$error":"#N/A"},{"$f":"(LOOKUP(D26,Roul!$P$45:$P$51,Roul!$Q$45:$Q$51))*H26","v":{"$error":"#N/A"}},{"$error":"#N/A"},45,{"$error":"#N/A"},1,{"$f":"(O26+S26)*T26*1.6","v":{"$error":"#N/A"}},null,"entrance / cloth form roller",{"$error":"#N/A"},"304L","",{"$error":"#N/A"},"",{"$error":"#N/A"},"",{"$error":"#N/A"},"",{"$error":"#N/A"}]
["06/08/09/14","roller bearing",null,null,null,0,null,{"$f":"'Séries 3-4-5'!B45","v":{"$error":"#N/A"}},null,{"$f":"((IF(L4<4000,H27*270,(H20*326+(H21+H22+H23+H24+H25)*270)*2)))/6.55957","v":{"$error":"#N/A"}},{"$f":"IF(G27=\"\",'Séries 3-4-5'!$E$42,(VLOOKUP(G27,'Séries 3-4-5'!$D$26:$E$42,2,0)))","v":1.3},0,{"$error":"#N/A"},{"$f":"'Séries 3-4-5'!$I$3","v":1},{"$error":"#N/A"},{"$f":"H27*0.15","v":{"$error":"#N/A"}},{"$error":"#N/A"},45,{"$error":"#N/A"},1,{"$error":"#N/A"},null,"roller bearing",0,0,"",{"$error":"#N/A"},"",{"$error":"#N/A"},"",{"$error":"#N/A"},"",{"$error":"#N/A"}]
["02/03/08/10","miscelleneaous  for guiding & tensioning",null,null,null,0,null,null,null,{"$f":"((HLOOKUP(L4,Char!B57:M64,5,0))/6.55957)+((HLOOKUP(L4,Char!B66:M73,5,0))/6.55957)","v":1299.6278719489235},{"$f":"IF(G28=\"\",'Séries 3-4-5'!$E$42,(VLOOKUP(G28,'Séries 3-4-5'!$D$26:$E$42,2,0)))","v":1.3},0,{"$f":"J28*$M$7","v":1299.6278719489235},{"$f":"'Séries 3-4-5'!$I$3","v":1},{"$f":"(L28+M28)*N28","v":1299.6278719489235},null,{"$f":"P28*N28*$Q$7","v":0},45,{"$f":"Q28*R28","v":0},1,{"$f":"(O28+S28)*T28","v":1299.6278719489235},null,"miscelleneaous  for guiding & tensioning",0,0,"",1299.6278719489235,"",1299.6278719489235,"",0,"",0]
["08","cloth guiding device",null,null,"#",0,{"$f":"'Séries 3-4-5'!B13","v":"304L"},1,{"$f":"(INDEX(Char!A57:M62,MATCH(G29,Char!A58:A62,0)+1,MATCH(L4,Char!B57:M57,0)+1))/6.55957","v":91.469410342446224},null,{"$f":"IF(G29=\"\",'Séries 3-4-5'!$E$42,(VLOOKUP(G29,'Séries 3-4-5'!$D$26:$E$42,2,0)))","v":1.5909090909090908},145.51951645389173,0,{"$f":"'Séries 3-4-5'!$I$3","v":1},145.51951645389173,{"$f":"HLOOKUP(L4,Char!A57:M64,8,0)","v":40},40,45,1800,1,1945.5195164538918,null,"cloth guiding device",0,"304L","",1945.5195164538918,"",145.51951645389173,"",40,"",1800]
["10","cloth tensionning device",null,null,"#",0,{"$f":"'Séries 3-4-5'!B13","v":"304L"},1,{"$f":"(INDEX(Char!A66:M71,MATCH(G30,Char!A67:A71,0)+1,MATCH(L4,Char!B66:M66,0)+1))/6.55957","v":320.14293619856181},null,{"$f":"IF(G30=\"\",'Séries 3-4-5'!$E$42,(VLOOKUP(G30,'Séries 3-4-5'!$D$26:$E$42,2,0)))","v":1.5909090909090908},509.31830758862105,0,{"$f":"'Séries 3-4-5'!$I$3","v":1},509.31830758862105,{"$f":"HLOOKUP(L4,Char!B66:M73,8,0)","v":40},40,45,1800,1,2309.3183075886209,null,"cloth tensionning device",0,"304L","",2309.3183075886209,"",509.31830758862105,"",40,"",1800]
["13","vacuum box",null,{"$f":"'Séries 3-4-5'!B46","v":140},null,null,{"$f":"'Séries 3-4-5'!B47","v":"304L"},null,{"$f":"('B. à V.'!B87)/6.55957","v":{"$error":"#N/A"}},{"$f":"(LOOKUP(L4,'B. à V.'!A90:A91,'B. à V.'!B90:B91))/6.55957","v":152.44901723741037},{"$f":"IF(G31=\"\",'Séries 3-4-5'!$E$42,(VLOOKUP(G31,'Séries 3-4-5'!$D$26:$E$42,2,0)))","v":1.5909090909090908},{"$error":"#N/A"},152.44901723741037,{"$f":"'Séries 3-4-5'!$I$3","v":1},{"$f":"(L31+M31)*N31","v":{"$error":"#N/A"}},{"$f":"'B. à V.'!C87","v":{"$error":"#N/A"}},{"$error":"#N/A"},60,{"$f":"Q31*R31","v":{"$error":"#N/A"}},1,{"$f":"(O31+S31)*T31","v":{"$error":"#N/A"}},null,"vacuum box",140,"304L",{"$error":"#N/A"},"",{"$error":"#N/A"},"",{"$error":"#N/A"},"",{"$error":"#N/A"},""]
[null,"V.Box  support + dia + qty connection",null,{"$f":"'Séries 3-4-5'!B49","v":65},null,null,{"$f":"'Séries 3-4-5'!B48","v":"304L"},{"$f":"'Séries 3-4-5'!B50","v":4},null,null,null,0,null,null,null,null,null,60,null,1,null,null,"V.Box  support + dia + qty connection",65,"304L",0,"",0,"",0,"",0,""]
["11/14","C & B wash device + discharge device",null,null,"#",0,{"$f":"'Séries 3-4-5'!B52","v":"304L"},1,{"$f":"(INDEX(Lavage!A5:F16,MATCH('Cost list'!L4,Lavage!A6:A16,0)+1,MATCH('Cost list'!G33,Lavage!B5:F5,0)+1))/6.55957","v":762.24508618705192},{"$f":"(INDEX(Lavage!A18:F29,MATCH('Cost list'!L4,Lavage!A19:A29,0)+1,MATCH('Cost list'!G33,Lavage!B18:F18,0)+1))/6.55957","v":1509.2452706503627},{"$f":"IF(G33=\"\",'Séries 3-4-5'!$E$42,(VLOOKUP(G33,'Séries 3-4-5'!$D$26:$E$42,2,0)))","v":1.5909090909090908},1212.6626371157643,{"$f":"J33*$M$7","v":1509.2452706503627},{"$f":"'Séries 3-4-5'!$I$3","v":1},2721.9079077661272,{"$f":"INDEX(Lavage!A31:F42,MATCH('Cost list'!L4,Lavage!A32:A42,0)+1,MATCH('Cost list'!G33,Lavage!B31:F31,0)+1)","v":100},{"$f":"P33*N33*$Q$7","v":100},45,4500,1,{"$f":"(O33+S33)*T33*0.7*1.15","v":5813.6358657517312},null,"C & B wash device + discharge device",0,"304L","",5813.6358657517312,"",2721.9079077661272,"",100,"",4500]
["15","Form zone apron dam",null,{"$f":"'Séries 3-4-5'!B54","v":"EPDM"},"#",0,{"$f":"'Séries 3-4-5'!B53","v":"316L"},1,{"$f":"(INDEX('Acc. sup'!A4:L11,MATCH('Cost list'!G34,'Acc. sup'!A5:A11,0)+1,MATCH('Cost list'!L4,'Acc. sup'!B4:L4,0)+1))/6.55957","v":19.056127154676297},{"$f":"(INDEX('Acc. sup'!A4:L11,MATCH('Cost list'!D34,'Acc. sup'!A5:A11,0)+1,MATCH('Cost list'!L4,'Acc. sup'!B4:L4,0)+1))/6.55957","v":30.870925990575603},{"$f":"IF(G34=\"\",'Séries 3-4-5'!$E$42,(VLOOKUP(G34,'Séries 3-4-5'!$D$26:$E$42,2,0)))","v":2.0689655172413794},39.42646997519234,30.870925990575603,{"$f":"'Séries 3-4-5'!$I$3","v":1},70.297395965767947,{"$f":"HLOOKUP(L4,'Acc. sup'!A4:L12,9,0)","v":4},4,45,180,1,{"$f":"(O34+S34)*T34*1.25","v":312.87174495720996},null,"Form zone apron dam","EPDM","316L","",312.87174495720996,"",70.297395965767947,"",4,"",180]
["20","cake wash feeder",null,{"$f":"'Séries 3-4-5'!B55","v":"OVER"},"#",0,{"$f":"'Séries 3-4-5'!B56","v":"304L"},{"$f":"'Séries 3-4-5'!B57","v":3},{"$f":"'Acc. sup'!B26","v":1144.5},{"$f":"'Acc. sup'!C26","v":257.25},{"$f":"IF(G35=\"\",'Séries 3-4-5'!$E$42,(VLOOKUP(G35,'Séries 3-4-5'!$D$26:$E$42,2,0)))","v":1.5909090909090908},{"$f":"I35*K35*H35","v":5462.386363636364},{"$f":"J35*$M$7*H35","v":771.75},{"$f":"'Séries 3-4-5'!$I$3","v":1},6234.136363636364,{"$f":"'Acc. sup'!D26","v":30},{"$f":"P35*N35*$Q$7*H35","v":90},45,4050,1,{"$f":"(O35+S35)*T35*1.5","v":15426.204545454546},null,"cake wash feeder","OVER","304L","",15426.204545454546,"",6234.136363636364,"",90,"",4050]
["20","cake wash feeder  carriages",null,{"$f":"'Séries 3-4-5'!B58","v":"ROUE"},"#",0,{"$f":"'Séries 3-4-5'!B59","v":"304L"},{"$f":"'Séries 3-4-5'!B60","v":3},{"$f":"'Acc. sup'!B27","v":682.5},{"$f":"'Acc. sup'!C27","v":157.5},{"$f":"IF(G36=\"\",'Séries 3-4-5'!$E$42,(VLOOKUP(G36,'Séries 3-4-5'!$D$26:$E$42,2,0)))","v":1.5909090909090908},{"$f":"I36*K36*H36","v":3257.3863636363635},{"$f":"J36*$M$7*H36","v":472.5},{"$f":"'Séries 3-4-5'!$I$3","v":1},3729.8863636363635,{"$f":"'Acc. sup'!D27","v":15},{"$f":"P36*N36*$Q$7*H36","v":45},45,2025,1,{"$f":"(O36+S36)*T36*1.5","v":8632.329545454546},null,"cake wash feeder  carriages","ROUE","304L","",8632.329545454546,"",3729.8863636363635,"",45,"",2025]
["19","wash zone pendulum apron dam",null,{"$f":"'Séries 3-4-5'!B62","v":"EPDM"},"#",0,{"$f":"'Séries 3-4-5'!B61","v":"316L"},{"$f":"'Séries 3-4-5'!B63","v":4},{"$f":"I34","v":19.056127154676297},{"$f":"J34/1.2","v":25.725771658813002},{"$f":"IF(G37=\"\",'Séries 3-4-5'!$E$42,(VLOOKUP(G37,'Séries 3-4-5'!$D$26:$E$42,2,0)))","v":2.0689655172413794},{"$f":"I37*K37*H37","v":157.70587990076936},{"$f":"J37*$M$7*H37","v":102.90308663525201},{"$f":"'Séries 3-4-5'!$I$3","v":1},260.6089665360214,{"$f":"P34","v":4},{"$f":"P37*N37*$Q$7*H37","v":16},45,720,1,{"$f":"(O37+S37)*T37*1.25","v":1225.7612081700267},null,"wash zone pendulum apron dam","EPDM","316L","",1225.7612081700267,"",260.6089665360214,"",16,"",720]
["12","pulp feeder",null,{"$f":"'Séries 3-4-5'!B64","v":"QDC"},"#",0,{"$f":"'Séries 3-4-5'!B65","v":"304L"},{"$f":"'Séries 3-4-5'!B66","v":1},{"$f":"'Acc. sup'!B28","v":2677.5},{"$f":"'Acc. sup'!C28","v":351.75},{"$f":"IF(G38=\"\",'Séries 3-4-5'!$E$42,(VLOOKUP(G38,'Séries 3-4-5'!$D$26:$E$42,2,0)))","v":1.5909090909090908},{"$f":"I38*K38*H38","v":4259.659090909091},{"$f":"J38*$M$7*H38","v":351.75},{"$f":"'Séries 3-4-5'!$I$3","v":1},4611.409090909091,{"$f":"'Acc. sup'!D28","v":70},{"$f":"P38*N38*$Q$7*H38","v":70},45,3150,1,{"$f":"(O38+S38)*T38*IF(AND(Calculations!Q12=\"BOIT\",Calculations!N12=\"Type phosphate\"),2,IF(AND(Calculations!Q12=\"BOIT\",Calculations!N12=\"Type Bicar\"),3,1))","v":7761.409090909091},null,"pulp feeder","QDC","304L","",7761.409090909091,"",4611.409090909091,"",70,"",3150]
["40","pneumatic cabinet + pneumatic acc.",null,{"$f":"'Séries 3-4-5'!B67","v":"STD"},"#",0,null,1,null,{"$f":"(Access!C3)/6.55957","v":914.69410342446224},{"$f":"IF(G39=\"\",'Séries 3-4-5'!$E$42,(VLOOKUP(G39,'Séries 3-4-5'!$D$26:$E$42,2,0)))","v":1.3},0,914.69410342446224,{"$f":"'Séries 3-4-5'!$I$3","v":1},914.69410342446224,{"$f":"Access!D3","v":10},10,45,450,1,5000,null,"pneumatic cabinet + pneumatic acc.","STD",0,"",5000,"",914.69410342446224,"",10,"",450]
["51/60","junction box + electrical set of equip.",null,{"$f":"'Séries 3-4-5'!B68","v":"STD"},"#",0,null,1,{"$f":"HLOOKUP('Séries 3-4-5'!B6,Access!C5:F8,2)","v":300},{"$f":"HLOOKUP('Séries 3-4-5'!B6,Access!C5:F8,3)","v":3000},{"$f":"IF(G40=\"\",'Séries 3-4-5'!$E$42,(VLOOKUP(G40,'Séries 3-4-5'!$D$26:$E$42,2,0)))","v":1.3},390,3000,{"$f":"'Séries 3-4-5'!$I$3","v":1},3390,{"$f":"HLOOKUP('Séries 3-4-5'!B6,Access!C5:F8,4)","v":40},40,45,1800,1,{"$f":"(O40+S40)*T40","v":5190},null,"junction box + electrical set of equip.","STD",0,"",5190,"",3390,"",40,"",1800]
["01","bolting",null,null,"#",0,{"$f":"'Séries 3-4-5'!B69","v":316},1,null,{"$f":"VLOOKUP(G41,Char!B94:C96,2)","v":2800},{"$f":"IF(G41=\"\",'Séries 3-4-5'!$E$42,(VLOOKUP(G41,'Séries 3-4-5'!$D$26:$E$42,2,0)))","v":2.0689655172413794},0,2800,{"$f":"'Séries 3-4-5'!$I$3","v":1},2800,null,0,45,0,1,2800,null,"bolting",0,316,"",2800,"",2800,"",0,"",0]
["10","pneumetic bellow",null,{"$f":"IF('Séries 3-4-5'!B70>1,\"12x2\",\"10x2\")","v":"10x2"},null,0,null,{"$f":"IF(D42=\"10x2\",'Séries 3-4-5'!B71,'Séries 3-4-5'!B70)","v":2},{"$f":"((HLOOKUP(D42,Access!C15:F17,2,0))*H42)/6.55957","v":259.16332930359766},{"$f":"((HLOOKUP(D42,Access!C15:F17,3,0))*H42)/6.55957","v":257.63883913122356},{"$f":"IF(G42=\"\",'Séries 3-4-5'!$E$42,(VLOOKUP(G42,'Séries 3-4-5'!$D$26:$E$42,2,0)))","v":1.3},336.91232809467698,257.63883913122356,{"$f":"'Séries 3-4-5'!$I$3","v":1},594.5511672259006,null,0,45,0,1,594.5511672259006,null,"pneumetic bellow","10x2",0,"",594.5511672259006,"",594.5511672259006,"",0,"",0]
["08","pneumetic bellow",null,{"$f":"IF('Séries 3-4-5'!B73>1,\"8x2\",\"6x2\")","v":"8x2"},null,0,null,{"$f":"IF(D43=\"8x2\",'Séries 3-4-5'!B73,'Séries 3-4-5'!#REF!)","v":2},{"$f":"((HLOOKUP(D43,Access!C15:F17,2,0))*H43)/6.55957","v":198.18372240863349},{"$f":"((HLOOKUP(D43,Access!C15:F17,3,0))*H43)/6.55957","v":193.7627009087486},{"$f":"IF(G43=\"\",'Séries 3-4-5'!$E$42,(VLOOKUP(G43,'Séries 3-4-5'!$D$26:$E$42,2,0)))","v":1.3},257.63883913122356,193.7627009087486,{"$f":"'Séries 3-4-5'!$I$3","v":1},451.40154003997213,null,0,45,0,1,451.40154003997213,null,"pneumetic bellow","8x2",0,"",451.40154003997213,"",451.40154003997213,"",0,"",0]
["13","pneumetic bellow",null,"8X3",null,0,null,{"$f":"'Séries 3-4-5'!B72","v":{"$error":"#N/A"}},{"$f":"Access!G16*'Cost list'!H44/6.55957","v":{"$error":"#N/A"}},{"$f":"Access!G17*'Cost list'!H44/6.55957","v":{"$error":"#N/A"}},{"$f":"IF(G44=\"\",'Séries 3-4-5'!$E$42,(VLOOKUP(G44,'Séries 3-4-5'!$D$26:$E$42,2,0)))","v":1.3},{"$error":"#N/A"},{"$f":"J44*$M$7","v":{"$error":"#N/A"}},{"$f":"'Séries 3-4-5'!$I$3","v":1},{"$f":"(L44+M44)*N44","v":{"$error":"#N/A"}},null,{"$f":"P44*N44*$Q$7","v":0},45,{"$f":"Q44*R44","v":0},1,{"$error":"#N/A"},null,"pneumetic bellow","8X3",0,"",{"$error":"#N/A"},"",{"$error":"#N/A"},"",0,"",0]
["44","oil and grease",null,null,"#",0,null,1,null,380,{"$f":"IF(G45=\"\",'Séries 3-4-5'!$E$42,(VLOOKUP(G45,'Séries 3-4-5'!$D$26:$E$42,2,0)))","v":1.3},{"$f":"I45*K45","v":0},380,{"$f":"'Séries 3-4-5'!$I$3","v":1},380,null,0,45,0,1,380,null,"oil and grease",0,0,"",380,"",380,"",0,"",0]
["44","Cartouche perma",null,null,"#",0,null,1,null,{"$f":"(H27+4)*32","v":{"$error":"#N/A"}},1.3,{"$f":"I46*K46","v":0},{"$f":"J46*$M$7","v":{"$error":"#N/A"}},1,{"$f":"(L46+M46)*N46","v":{"$error":"#N/A"}},null,{"$f":"P46*N46*$Q$7","v":0},45,{"$f":"Q46*R46","v":0},{"$f":"IF(F46=\"\",$P$3,$Q$3)","v":1},{"$f":"(O46+S46)*T46","v":{"$error":"#N/A"}},null,{"$f":"B46","v":"Cartouche perma"},{"$f":"D46","v":0},{"$f":"G46","v":0},{"$f":"IF(F46=\"\",U46,\"\")","v":""},{"$f":"IF(F46=\"\",\"\",U46)","v":{"$error":"#N/A"}},{"$f":"IF($F46=\"\",O46,\"\")","v":""},{"$f":"IF($F46=\"\",\"\",O46)","v":{"$error":"#N/A"}},{"$f":"IF($F46=\"\",Q46,\"\")","v":""},{"$f":"IF($F46=\"\",\"\",Q46)","v":0},{"$f":"IF($F46=\"\",S46,\"\")","v":""},{"$f":"IF($F46=\"\",\"\",S46)","v":0}]
["46","Peinture palier",null,null,null,0,null,1,null,{"$f":"(46+4)*100","v":5000},{"$f":"IF(G47=\"\",'Séries 3-4-5'!$E$42,(VLOOKUP(G47,'Séries 3-4-5'!$D$26:$E$42,2,0)))","v":1.3},0,5000,{"$f":"'Séries 3-4-5'!$I$3","v":1},5000,null,0,45,0,1,5000,null,"Peinture palier",0,0,"",5000,"",5000,"",0,"",0]
["46","Passivation boîteà vide et table",null,null,"#",0,null,1,null,{"$f":"Tabl!P88*0.75+IF(G31<>\"SVR\",('Séries 3-4-5'!B9+'Séries 3-4-5'!B10+'Séries 3-4-5'!B11)*150*0.75,0)","v":{"$error":"#N/A"}},{"$f":"IF(G48=\"\",'Séries 3-4-5'!$E$42,(VLOOKUP(G48,'Séries 3-4-5'!$D$26:$E$42,2,0)))","v":1.3},0,{"$error":"#N/A"},{"$f":"'Séries 3-4-5'!$I$3","v":1},{"$f":"(L48+M48)*N48","v":{"$error":"#N/A"}},null,{"$f":"P48*N48*$Q$7","v":0},45,{"$f":"Q48*R48","v":0},1,null,null,"Passivation boîteà vide et table",0,0,"",0,"",{"$error":"#N/A"},"",0,"",0]
["03","reducer torque arm",null,null,"#",0,{"$f":"'Séries 3-4-5'!B13","v":"304L"},1,{"$f":"(INDEX(Char!A75:M82,MATCH(G49,Char!A76:A82,0)+1,MATCH(L4,Char!B75:M75,0)+1))/6.55957","v":38.874499395539644},{"$f":"(HLOOKUP(L4,Char!B75:M82,5,0))/6.55957","v":125.77043922086357},{"$f":"IF(G49=\"\",'Séries 3-4-5'!$E$42,(VLOOKUP(G49,'Séries 3-4-5'!$D$26:$E$42,2,0)))","v":1.5909090909090908},61.845794492903977,125.77043922086357,{"$f":"'Séries 3-4-5'!$I$3","v":1},187.61623371376754,{"$f":"HLOOKUP(L4,Char!B75:M82,8,0)","v":10},10,45,450,1,{"$f":"(O49+S49)*T49*1.2","v":765.13948045652103},null,"reducer torque arm",0,"304L","",765.13948045652103,"",187.61623371376754,"",10,"",450]
["03","planetary reducer \"BREVINI\"",null,{"$f":"'Séries 3-4-5'!B77","v":2319.9441837187496},null,0,null,1,null,{"$f":"HLOOKUP(D51,'Gr de Cde'!B5:X6,2,0)","v":{"$error":"#N/A"}},{"$f":"IF(G50=\"\",'Séries 3-4-5'!$E$42,(VLOOKUP(G50,'Séries 3-4-5'!$D$26:$E$42,2,0)))","v":1.3},0,{"$error":"#N/A"},{"$f":"'Séries 3-4-5'!$I$3","v":1},{"$error":"#N/A"},null,0,45,0,1,{"$f":"(O50+S50)*T50*1.2","v":{"$error":"#N/A"}},null,"planetary reducer \"BREVINI\"",2319.9441837187496,0,"",{"$error":"#N/A"},"",{"$error":"#N/A"},"",0,"",0]
["03","Motor",null,{"$f":"'Gr de Cde'!E26","v":0.25},"#",0,null,1,null,{"$f":"('Gr de Cde'!H26)/6.55957","v":164.18759156469099},{"$f":"IF(G51=\"\",'Séries 3-4-5'!$E$42,(VLOOKUP(G51,'Séries 3-4-5'!$D$26:$E$42,2,0)))","v":1.3},0,164.18759156469099,{"$f":"'Séries 3-4-5'!$I$3","v":1},{"$f":"(L51+M51)*N51","v":164.18759156469099},null,0,45,0,1,{"$f":"(O51+S51)*T51*1.2","v":197.02510987762918},null,"Motor",0.25,0,"",197.02510987762918,"",164.18759156469099,"",0,"",0]
["03","frequency variator",null,{"$f":"D51","v":0.25},"#",0,null,1,null,{"$f":"(H52*'Gr de Cde'!H30)/6.55957","v":0},{"$f":"IF(G52=\"\",'Séries 3-4-5'!$E$42,(VLOOKUP(G52,'Séries 3-4-5'!$D$26:$E$42,2,0)))","v":1.3},0,0,{"$f":"'Séries 3-4-5'!$I$3","v":1},{"$f":"(L52+M52)*N52","v":0},null,0,45,0,1,{"$f":"(O52+S52)*T52*1.2","v":0},null,"frequency variator",0.25,0,"",0,"",0,"",0,"",0]
["07","filtering cloth",null,null,null,0,null,1,null,{"$f":"(Toile!C10)/6.55957","v":{"$error":"#N/A"}},{"$f":"IF(G53=\"\",'Séries 3-4-5'!$E$42,(VLOOKUP(G53,'Séries 3-4-5'!$D$26:$E$42,2,0)))","v":1.3},0,{"$error":"#N/A"},{"$f":"'Séries 3-4-5'!$I$3","v":1},{"$error":"#N/A"},null,0,45,0,1,{"$error":"#N/A"},null,"filtering cloth",0,0,"",{"$error":"#N/A"},"",{"$error":"#N/A"},"",0,"",0]
["PRESTA","labelling + shiping preparation France",null,null,null,null,{"$f":"'Séries 3-4-5'!B82","v":"MONT"},1,null,null,{"$f":"IF(G54=\"\",'Séries 3-4-5'!$E$42,(VLOOKUP(G54,'Séries 3-4-5'!$D$26:$E$42,2,0)))","v":1.3},0,{"$f":"J54*$M$7","v":0},{"$f":"'Séries 3-4-5'!$I$3","v":1},{"$f":"(L54+M54)*N54","v":0},{"$f":"IF(G55=\"MONT\",80,80)","v":80},{"$f":"P54*N54*$Q$7","v":80},60,{"$f":"Q54*R54","v":4800},1,null,null,"labelling + shiping preparation France",0,"MONT",0,"",0,"",80,"",4800,""]
["12/15/19/20",{"$f":"IF(G55=\"PRE\",\"pre-assembly + labelling\",\"full erection in factory + reinforcement\")","v":"full erection in factory + reinforcement"},null,null,"#",null,{"$f":"'Séries 3-4-5'!B82","v":"MONT"},1,0,null,1.3,0,{"$f":"J55*$M$7","v":0},1,{"$f":"(L55+M55)*N55","v":0},{"$f":"IF(G55=\"MONT\",'Séries 3-4-5'!F94+'Séries 3-4-5'!G94+'Séries 3-4-5'!H94,120)","v":{"$error":"#N/A"}},{"$f":"P55*N55*$Q$7","v":{"$error":"#N/A"}},60,{"$f":"Q55*R55","v":{"$error":"#N/A"}},1,null,null,"full erection in factory + reinforcement",0,"MONT",0,"",0,"",{"$error":"#N/A"},"",{"$error":"#N/A"},""]
[null,{"$f":"IF((IF(F55<>\"\",1,0))+(IF(G55=\"MONT\",1,0))=2,\"ADD cost of supervisor\",\"N/A\")","v":"N/A"},null,null,null,"o",null,null,null,null,null,0,{"$f":"J56*$M$7","v":0},null,{"$f":"(L56+M56)*N56","v":0},null,{"$f":"P56*N56*$Q$7","v":0},45,{"$f":"Q56*R56","v":0},1,{"$f":"(O56+S56)*T56","v":0},null,"N/A",0,0,"",0,"",0,"",0,"",0]
[null,"Sourcing shipping up to erection site",null,null,null,"o",{"$f":"'Séries 3-4-5'!B82","v":"MONT"},1,null,{"$f":"IF(G57=\"MONT\",U58*5/100,0)","v":{"$error":"#N/A"}},null,{"$f":"I57*K57","v":0},{"$f":"J57*$M$7","v":{"$error":"#N/A"}},1,{"$f":"(L57+M57)*N57","v":{"$error":"#N/A"}},null,{"$f":"P57*N57*$Q$7","v":0},45,{"$f":"Q57*R57","v":0},{"$f":"IF(F57=\"\",$P$3,$Q$3)","v":1},{"$f":"(O57+S57)*T57","v":{"$error":"#N/A"}},null,"Sourcing shipping up to erection site",{"$f":"D57","v":0},"MONT","",{"$f":"IF(F57=\"\",\"\",U57)","v":{"$error":"#N/A"}},{"$f":"IF($F57=\"\",O57,\"\")","v":""},{"$f":"IF($F57=\"\",\"\",O57)","v":{"$error":"#N/A"}},{"$f":"IF($F57=\"\",Q57,\"\")","v":""},{"$f":"IF($F57=\"\",\"\",Q57)","v":0},{"$f":"IF($F57=\"\",S57,\"\")","v":""},{"$f":"IF($F57=\"\",\"\",S57)","v":0}]
[null,"TOTAL PART LOCALE :",null,null,null,"o",null,null,null,null,null,null,null,null,null,null,null,null,null,null,{"$f":"SUM(AA8:AA56)","v":{"$error":"#N/A"}},{"$f":"U58+U57","v":{"$error":"#N/A"}},"TOTAL PART LOCALE :",null,null,null,null,null,{"$f":"SUM(AC8:AC56)","v":{"$error":"#N/A"}},null,{"$f":"SUM(AE8:AE56)","v":{"$error":"#N/A"}},null,{"$f":"SUM(AG8:AG56)","v":{"$error":"#N/A"}}]
[null,"TOTAL PART FRANCE :",null,null,null,null,null,null,null,null,null,null,null,null,null,null,null,null,null,null,{"$f":"SUM(Z8:Z57)","v":{"$error":"#N/A"}},{"$f":"U59+SUM(V8:V10)","v":{"$error":"#N/A"}},"TOTAL PART FRANCE :",null,null,{"$f":"U60-U58","v":{"$error":"#N/A"}},{"$f":"U60-U59","v":{"$error":"#N/A"}},{"$f":"SUM(AB8:AB56)","v":{"$error":"#N/A"}},null,{"$f":"SUM(AD8:AD56)","v":{"$error":"#N/A"}},null,{"$f":"SUM(AF8:AF56)","v":{"$error":"#N/A"}}]
[null,"TOTAL :",null,null,null,null,null,null,null,null,null,null,null,null,null,null,null,null,null,null,{"$f":"SUM(U8:U57)","v":{"$error":"#N/A"}},{"$f":"V58+V59","v":{"$error":"#N/A"}},{"$f":"U58+U59","v":{"$error":"#N/A"}}]
[null,{"$f":"B3","v":"N° DU DEVIS :"},{"$f":"C3","v":"726789-rev4"},{"$f":"D3","v":"- 2B5"},null,null,{"$f":"G3","v":"Client"},null,{"$f":"I3","v":"CARESTER"},null,null,null,null,null,null,null,null,null,null,{"$f":"T3","v":"Rev."},{"$f":"U3","v":0}]
[null,"Ph. LE BIGOT => ",{"$f":"C4","v":"X HOG"},null,"local basic","For ",{"$f":"G4","v":"Surface :"},null,2,"Largeur",null,500,"Spécifications",null,"304L+304L+EPDM+T70+3G+0,25KW+1VF",null,null,null,null,null,{"$f":"U4","v":"2025-04-25"},null,null,null,null,"French","Local","French","Local","French","Local","French","Local"]
[null,null,null,null,null,"local",null,null,"Material","Buyout","Corrective","Updated","Buyout",null,"Total (1) Material + buyout","Labour","Labour",null,"Total (2)",null,"Final cost without engineering","Final cost including engineering",null,"data",null,"incl 1,149","incl. 1,149","Total (1) Material + buyout","Total (1) Material + buyout","Labour","Labour","Total (2)","Total (2)"]
[null,"Désignation",null,"Spéc",null,"fill the ","Mat","Qty","Unit cost","Unit cost","factor","material",null,"Qty",null,"Unit","Total","Taux","Labour","Marg",null,null,"Désignation","Spéc",null,"France","Local",null,null,"Total","Total","labour","labour"]
[null,null,null,null,null,"cell","Spec",null,null,null,null,1,1,null,null,null,1,null,null,null,null,null,null,"Dia.",null,null,null,null,null,"hours","hours","cost","cost"]
[null,"Specific accessories / options to be add if required per filter",null,null,null,null,null,null,null,null,null,null,null,null,null,null,null,null,null,null,null,null,{"$f":"B66","v":"Specific accessories / options to be add if required per filter"}]
["51","Cloth and belt flow meter",null,"Option",null,null,"ABB",0,null,990,null,{"$f":"I67*$L$65*H67","v":0},{"$f":"J67*$M$65*H67","v":0},{"$f":"'Séries 3-4-5'!$I$3","v":1},{"$f":"(L67+M67)*N67","v":0},null,{"$f":"P67*N67*$Q$7*H67","v":0},{"$f":"IF($F67=\"\",$R$3,$S$3)","v":60},{"$f":"Q67*R67","v":0},{"$f":"IF(F67=\"\",$P$3,$Q$3)","v":1},{"$f":"H67*(O67+S67)*T67","v":0},null,"Cloth and belt flow meter",{"$f":"D67","v":"Option"},null,{"$f":"U67","v":0},null,{"$f":"O67","v":0},null,{"$f":"Q67","v":0},null,{"$f":"S67","v":0}]
["51","Cake wash flowmeter",null,"Option",null,null,"ABB",0,null,990,null,{"$f":"I68*$L$65*H68","v":0},{"$f":"J68*$M$65*H68","v":0},{"$f":"'Séries 3-4-5'!$I$3","v":1},0,null,{"$f":"P68*N68*$Q$7*H68","v":0},60,0,1,{"$f":"H68*(O68+S68)*T68","v":0},null,"Cake wash flowmeter","Option",null,{"$f":"IF(F68=\"\",U68,\"\")","v":0},{"$f":"IF(F68=\"\",\"\",U68)","v":""},{"$f":"IF($F68=\"\",O68,\"\")","v":0},{"$f":"IF($F68=\"\",\"\",O68)","v":""},{"$f":"IF($F68=\"\",Q68,\"\")","v":0},{"$f":"IF($F68=\"\",\"\",Q68)","v":""},{"$f":"IF($F68=\"\",S68,\"\")","v":0},{"$f":"IF($F68=\"\",\"\",S68)","v":""}]
["51","Cloth run off & overtorque",null,"Option",null,null,null,0,50,83,null,0,0,{"$f":"'Séries 3-4-5'!$I$3","v":1},0,10,0,60,0,1,0,null,"Cloth run off & overtorque","Option",null,{"$f":"U69","v":0},null,{"$f":"O69","v":0},null,{"$f":"Q69","v":0},null,{"$f":"S69","v":0}]
["01","skirting above curb (Per meter)",null,null,"#",0,"PPH",0,25,10,null,0,0,{"$f":"'Séries 3-4-5'!B21*'Séries 3-4-5'!I3","v":0},{"$f":"H70*(L70+M70)*N70","v":0},7,0,45,0,1,0,null,"skirting above curb (Per meter)",0,null,{"$f":"IF(F70=\"\",U70,\"\")","v":""},{"$f":"IF(F70=\"\",\"\",U70)","v":0},{"$f":"IF($F70=\"\",O70,\"\")","v":""},{"$f":"IF($F70=\"\",\"\",O70)","v":0},{"$f":"IF($F70=\"\",Q70,\"\")","v":""},{"$f":"IF($F70=\"\",\"\",Q70)","v":0},{"$f":"IF($F70=\"\",S70,\"\")","v":""},{"$f":"IF($F70=\"\",\"\",S70)","v":0}]
["13","water injection into the vacuum box",null,"Option",null,null,null,0,null,null,null,0,0,{"$f":"'Séries 3-4-5'!$I$3","v":1},0,0,0,60,0,1,0,null,"water injection into the vacuum box","Option",null,0,"",0,"",0,"",0,""]
["13","Double vacuum box & associated hole",null,"Option",null,null,null,0,null,null,null,0,0,{"$f":"'Séries 3-4-5'!$I$3","v":1},0,0,0,60,0,1,0,null,"Double vacuum box & associated hole","Option",null,0,"",0,"",0,"",0,""]
["13","option straight filtrate pipes",null,"Option",null,null,null,0,null,null,null,0,0,{"$f":"'Séries 3-4-5'!$I$3","v":1},0,0,0,60,0,1,0,null,"option straight filtrate pipes","Option",null,0,"",0,"",0,"",0,""]
["01","Side gutter cost per step of frame",null,"Option","#",0,"304L",0,null,null,null,0,0,{"$f":"'Séries 3-4-5'!$I$3","v":1},{"$f":"(L74+M74)*N74","v":0},10,0,45,0,1,0,null,"Side gutter cost per step of frame","Option",null,"",0,"",0,"",0,"",0]
["02/03","Stainless steel shaft lining",null,"Option","#",0,null,0,null,null,null,0,0,{"$f":"'Séries 3-4-5'!$I$3","v":1},{"$f":"(L75+M75)*N75","v":0},2,0,45,0,1,0,null,"Stainless steel shaft lining","Option",null,"",0,"",0,"",0,"",0]
["40","Pneumatic tubing made of SS",null,"Option","#",0,null,0,null,null,null,0,0,{"$f":"'Séries 3-4-5'!$I$3","v":1},{"$f":"(L76+M76)*N76","v":0},3,0,45,0,1,{"$f":"H76*(O76+S76)*T76","v":0},null,"Pneumatic tubing made of SS","Option",null,"",0,"",0,"",0,"",0]
["51","Ultrasonic control cake thickeness",null,"Option",null,null,null,0,200,850,null,0,0,{"$f":"'Séries 3-4-5'!$I$3","v":1},{"$f":"(L77+M77)*N77","v":0},5,0,60,{"$f":"Q77*R77","v":0},1,{"$f":"H77*(O77+S77)*T77","v":0},null,"Ultrasonic control cake thickeness","Option",null,0,"",0,"",0,"",0,""]
["51","Wear belt breaking sensor",null,"Option",null,null,null,0,null,null,null,0,0,{"$f":"'Séries 3-4-5'!$I$3","v":1},{"$f":"(L78+M78)*N78","v":0},3,0,60,{"$f":"Q78*R78","v":0},1,{"$f":"H78*(O78+S78)*T78","v":0},null,null,null,null,0,"",0,"",0,"",0,""]
["18","Additional cost for \"roller belt support",null,"Option","#",0,null,0,null,null,null,0,0,{"$f":"'Séries 3-4-5'!$I$3","v":1},0,0,0,45,0,1,0,null,null,null,null,"",0,"",0,"",0,"",0]
[null,null,null,null,null,null,null,null,null,null,null,null,null,null,null,null,null,null,null,null,null,null,0,0,null,0,"",0,"",0,"",0,""]
[null,1,"GRAND TOTAL FILTRE LOCAL PART",null,null,null,null,null,null,null,null,null,null,null,null,null,null,null,null,null,{"$f":"SUM(AA67:AA80)+V58","v":{"$error":"#N/A"}},{"$f":"U81","v":{"$error":"#N/A"}},"TOTAL LOCAL PART"]
[null,2,"GRAND TOTAL FILTRE FRENCH PART",null,null,null,null,null,null,null,null,null,null,null,null,null,null,null,null,null,{"$f":"SUM(Z67:Z80)+U59","v":{"$error":"#N/A"}},{"$f":"U82+SUM(V8:V10)","v":{"$error":"#N/A"}},"TOTAL FRENCH PART",null,null,{"$f":"SUM(Z67:Z80)","v":0},null,null,null,null,{"$f":"SUM(AE67:AE80)+AE58","v":{"$error":"#N/A"}},null,{"$f":"SUM(AG67:AG80)+AG58","v":{"$error":"#N/A"}}]
[null,null,"TOTAL FILTRE 100%",null,null,null,null,null,null,null,null,null,null,null,null,null,null,null,null,null,{"$f":"SUM(U81:U82)","v":{"$error":"#N/A"}},{"$f":"U81+V82","v":{"$error":"#N/A"}},"TOTAL :",null,null,{"$f":"SUM(Z67:Z80)+Z59","v":{"$error":"#N/A"}},{"$f":"SUM(AA67:AA80)+AA59","v":{"$error":"#N/A"}},{"$f":"SUM(AB67:AB80)+AB59","v":{"$error":"#N/A"}},{"$f":"SUM(AC67:AC80)+AC58","v":{"$error":"#N/A"}},{"$f":"SUM(AD67:AE80)+AD59","v":{"$error":"#N/A"}},null,{"$f":"SUM(AF67:AF80)+AF59","v":{"$error":"#N/A"}}]
[24,"Safety guard around filter",null,null,null,"o",304,1,null,{"$f":"Char!B92","v":10500},{"$f":"IF(G49=\"\",'Séries 3-4-5'!$E$42,(VLOOKUP(G49,'Séries 3-4-5'!$D$26:$E$42,2,0)))","v":1.5909090909090908},{"$f":"I84*$L$65*H84","v":0},{"$f":"J84*$M$65*H84*K84","v":16704.545454545452},{"$f":"'Séries 3-4-5'!$I$3","v":1},{"$f":"(L84+M84)*N84","v":16704.545454545452},null,{"$f":"P84*N84*$Q$7*H84","v":0},{"$f":"IF($F84=\"\",$R$3,$S$3)","v":45},{"$f":"Q84*R84","v":0},{"$f":"IF(F84=\"\",$P$3,$Q$3)","v":1},{"$f":"H84*(O84+S84)*T84","v":16704.545454545452},{"$f":"U84/2*1.1","v":9187.5}]
["Engineering to be add to the filter price or with the accessories them self or in the item \"Engineering and documentation\""]
[null,"ETUDES :"]
["ENG","Filtrate manifold",null,null,null,null,null,0,null,null,null,{"$f":"I87*$L$65*H87","v":0},{"$f":"J87*$M$65*H87","v":0},1,{"$f":"(L87+M87)*N87","v":0},50,{"$f":"P87*N87","v":50},44,{"$f":"Q87*R87","v":2200},{"$f":"IF(F87=\"\",$P$3,$Q$3)","v":1},null,{"$f":"H87*(O87+S87)*T87","v":0}]
["ENG","Filtrate receiver",null,null,null,null,null,0,null,null,null,{"$f":"I88*$L$65*H88","v":0},{"$f":"J88*$M$65*H88","v":0},1,{"$f":"(L88+M88)*N88","v":0},30,{"$f":"P88*$Q$65*N88","v":30},44,{"$f":"Q88*R88","v":1320},{"$f":"IF(F88=\"\",$P$3,$Q$3)","v":1},null,{"$f":"H88*(O88+S88)*T88","v":0}]
["ENG","Bac de récup. Anneau Liquid",null,null,null,null,null,0,null,null,null,{"$f":"I89*$L$65*H89","v":0},{"$f":"J89*$M$65*H89","v":0},1,{"$f":"(L89+M89)*N89","v":0},30,{"$f":"P89*$Q$65*N89","v":30},44,{"$f":"Q89*R89","v":1320},{"$f":"IF(F89=\"\",$P$3,$Q$3)","v":1},null,{"$f":"H89*(O89+S89)*T89","v":0}]
["ENG","Bac de récup. Lavage Toile & Bande",null,null,null,null,null,0,null,null,null,{"$f":"I90*$L$65*H90","v":0},{"$f":"J90*$M$65*H90","v":0},1,{"$f":"(L90+M90)*N90","v":0},30,{"$f":"P90*$Q$65*N90","v":30},44,{"$f":"Q90*R90","v":1320},{"$f":"IF(F90=\"\",$P$3,$Q$3)","v":1},null,{"$f":"H90*(O90+S90)*T90","v":0}]
["ENG","Cyclone",null,null,null,null,null,0,null,null,null,{"$f":"I91*$L$65*H91","v":0},{"$f":"J91*$M$65*H91","v":0},1,{"$f":"(L91+M91)*N91","v":0},30,{"$f":"P91*$Q$65*N91","v":30},44,{"$f":"Q91*R91","v":1320},{"$f":"IF(F91=\"\",$P$3,$Q$3)","v":1},null,{"$f":"H91*(O91+S91)*T91","v":0}]
["ENG","Laveur de Gaz",null,null,null,null,null,0,null,null,null,0,0,1,0,30,30,44,1320,1,null,0]
["ENG","Drip Pan",null,null,null,null,null,0,null,null,null,{"$f":"I93*$L$65*H93","v":0},{"$f":"J93*$M$65*H93","v":0},1,{"$f":"(L93+M93)*N93","v":0},30,{"$f":"P93*$Q$65*N93","v":30},44,{"$f":"Q93*R93","v":1320},{"$f":"IF(F93=\"\",$P$3,$Q$3)","v":1},null,{"$f":"H93*(O93+S93)*T93","v":0}]
["ENG","Hotte",null,null,null,null,null,0,null,null,null,0,0,1,0,80,80,44,3520,1,null,0]
["ENG","Lavage Acide ou Spé",null,null,null,null,null,0,null,null,null,0,0,1,0,30,30,44,1320,1,null,0,null,null,null,"Prix longerons",null,"longeur Nemaska (m)",null,"Prix Nemaska",null,"Prix au mètre"]
["ENG","Etude Electrique",null,null,null,null,null,0,null,null,null,{"$f":"I96*$L$65*H96","v":0},{"$f":"J96*$M$65*H96","v":0},1,{"$f":"(L96+M96)*N96","v":0},0,{"$f":"P96*$Q$65*N96","v":0},44,{"$f":"Q96*R96","v":0},{"$f":"IF(F96=\"\",$P$3,$Q$3)","v":1},null,{"$f":"H96*(O96+S96)*T96","v":0},null,null,null,null,null,7,null,2300,null,{"$f":"AD96/AB96","v":328.57142857142856}]
["ENG","Engineering et documentation anglais",null,null,null,null,null,0,null,null,null,0,0,1,0,200,200,44,8800,1,null,0,null,null,null,null,null,{"$f":"\"longeur \"&Calculations!C2&\" (m)\"","v":"longeur CARESTER (m)"},null,{"$f":"\"Prix \"&Calculations!C2","v":"Prix CARESTER"}]
["ENG","documentation other linguage",null,null,null,null,null,0,null,null,null,0,0,1,0,0,0,44,0,1,null,0,null,null,null,null,null,{"$f":"Calculations!G9/1000","v":4},null,{"$f":"AB98*AF96*2","v":2628.5714285714284}]
["ENG","Engineering globale process",null,null,null,null,null,0,null,null,null,0,0,2,0,500,1000,44,44000,1,null,0]
[null,null,"TOTAL Engineering",null,null,null,null,null,null,null,null,null,null,null,null,null,null,null,null,"sub total",null,{"$f":"U100+SUM(V87:V99)","v":0}]
[null,null,null,null,null,null,null,null,null,null,null,null,null,null,null,null,null,null,null,null,null,{"$f":"V83+V84+V100","v":{"$error":"#N/A"}}]
["ACCESSORIES WILL HAVE TO BE CALCULATE ON THE BASIS OF UNIT PRICE AND ADAPTED TO THE NUMBER OF UNITS AND FILTERS",null,null,null,null,null,null,null,null,null,null,null,null,null,null,null,null,null,null,null,null,{"$f":"V101-U14+V14","v":{"$error":"#N/A"}}]
[21,"Rouleau Presseur ",null,null,"#","o",null,0,null,null,null,{"$f":"I103*$L$65*H103","v":0},{"$f":"J103*$M$65*H103","v":0},{"$f":"'Séries 3-4-5'!$I$3","v":1},{"$f":"(L103+M103)*N103","v":0},null,{"$f":"P103*$Q$65*N103","v":0},{"$f":"IF($F103=\"\",$R$3,$S$3)","v":45},{"$f":"Q103*R103","v":0},{"$f":"IF(F103=\"\",$P$3,$Q$3)","v":1},{"$f":"(O103+S103)*T103*H103","v":0}]
[]
[22,"Floculateur (FEEDER) ",null,null,"#","o",null,0,null,null,null,{"$f":"I105*$L$65*H105","v":0},{"$f":"J105*$M$65*H105","v":0},{"$f":"'Séries 3-4-5'!$I$3","v":1},{"$f":"(L105+M105)*N105","v":0},null,{"$f":"P105*$Q$65*N105","v":0},45,{"$f":"Q105*R105","v":0},{"$f":"IF(F105=\"\",$P$3,$Q$3)","v":1},{"$f":"(O105+S105)*T105*H105","v":0}]
[]
[23,"Manifold ",null,{"$f":"'Manifold INOX'!L10","v":65},"#","o","SVR",1,null,null,null,{"$f":"I107*$L$65*H107","v":0},{"$f":"J107*$M$65*H107","v":0},{"$f":"'Séries 3-4-5'!$I$3","v":1},{"$f":"(L107+M107)*N107","v":0},null,{"$f":"P107*$Q$65*N107","v":0},45,{"$f":"Q107*R107","v":0},{"$f":"IF(F107=\"\",$P$3,$Q$3)","v":1},{"$f":"(O107+S107)*T107*H107","v":0}]
[]
[25,"Outillage Spécial","USWM",null,"#","o",null,1,null,6200,null,{"$f":"I109*$L$65*H109","v":0},{"$f":"J109*$M$65*H109","v":6200},1,{"$f":"(L109+M109)*N109","v":6200},null,{"$f":"P109*$Q$65*N109","v":0},45,{"$f":"Q109*R109","v":0},{"$f":"IF(F109=\"\",$P$3,$Q$3)","v":1},{"$f":"(O109+S109)*T109*H109","v":6200}]
[]
[26,"Fume hood ",null,15,"#","o","SS316L",0,null,null,null,{"$f":"I111*$L$65*H111","v":0},{"$f":"J111*$M$65*H111","v":0},{"$f":"'Séries 3-4-5'!$I$3","v":1},{"$f":"(L111+M111)*N111","v":0},null,{"$f":"P111*$Q$65*N111","v":0},45,{"$f":"Q111*R111","v":0},{"$f":"IF(F111=\"\",$P$3,$Q$3)","v":1},{"$f":"(O111+S111)*T111*H111","v":0}]
[]
[27,"Rouleau Batteur",null,null,"#","o",null,0,null,null,null,{"$f":"I113*$L$65*H113","v":0},{"$f":"J113*$M$65*H113","v":0},{"$f":"'Séries 3-4-5'!$I$3","v":1},{"$f":"(L113+M113)*N113","v":0},null,{"$f":"P113*$Q$65*N113","v":0},45,{"$f":"Q113*R113","v":0},{"$f":"IF(F113=\"\",$P$3,$Q$3)","v":1},{"$f":"(O113+S113)*T113*H113","v":0}]
[]
[28,"Laveur de Toile Haute Pression",null,null,"#","o",null,0,null,null,null,{"$f":"I115*$L$65*H115","v":0},{"$f":"J115*$M$65*H115","v":0},{"$f":"'Séries 3-4-5'!$I$3","v":1},{"$f":"(L115+M115)*N115","v":0},null,{"$f":"P115*$Q$65*N115","v":0},45,{"$f":"Q115*R115","v":0},{"$f":"IF(F115=\"\",$P$3,$Q$3)","v":1},{"$f":"(O115+S115)*T115*H115","v":0}]
[]
[29,"Drip Pan (L du filtre)",null,{"$f":"'Séries 3-4-5'!L2","v":"2B5"},"#","o","SS316L",{"$f":"IF(Calculations!I30=\"Oui\",1,0)","v":0},null,null,null,{"$f":"I117*$L$65*H117","v":0},{"$f":"J117*$M$65*H117","v":0},{"$f":"'Séries 3-4-5'!$I$3","v":1},{"$f":"(L117+M117)*N117","v":0},null,{"$f":"P117*$Q$65*N117","v":0},45,{"$f":"Q117*R117","v":0},{"$f":"IF(F117=\"\",$P$3,$Q$3)","v":1},{"$f":"IF(H117=1,#REF!,0)","v":0}]
[]
[30,"Vacuum pump & Motor",10500,315,"#","o","FT",1,null,null,null,{"$f":"I119*$L$65*H119","v":0},{"$f":"J119*$M$65*H119","v":0},{"$f":"'Séries 3-4-5'!$I$3","v":1},{"$f":"(L119+M119)*N119","v":0},0,{"$f":"P119*$Q$65*N119","v":0},45,{"$f":"Q119*R119","v":0},{"$f":"IF(F119=\"\",$P$3,$Q$3)","v":1},{"$f":"(O119+S119)*T119*H119","v":0}]
[]
[31,"Pompe à Filtrat","K",90,"#","o","SS316L",1,null,null,null,{"$f":"I121*$L$65*H121","v":0},{"$f":"J121*$M$65*H121","v":0},4,{"$f":"(L121+M121)*N121","v":0},0,{"$f":"P121*$Q$65*N121","v":0},45,{"$f":"Q121*R121","v":0},{"$f":"IF(F121=\"\",$P$3,$Q$3)","v":1},{"$f":"(O121+S121)*T121*H121","v":0}]
[null,"Vanne + Instrumentration",null,null,"#","o",null,0,null,null,null,{"$f":"I122*$L$65*H122","v":0},{"$f":"J122*$M$65*H122","v":0},1,{"$f":"(L122+M122)*N122","v":0},null,{"$f":"P122*$Q$65*N122","v":0},45,{"$f":"Q122*R122","v":0},{"$f":"IF(F122=\"\",$P$3,$Q$3)","v":1},{"$f":"(O122+S122)*T122*H122","v":0}]
[null,"Clapet anti - retour",null,null,"#","o",null,0,null,null,null,{"$f":"I123*$L$65*H123","v":0},{"$f":"J123*$M$65*H123","v":0},1,{"$f":"(L123+M123)*N123","v":0},null,{"$f":"P123*$Q$65*N123","v":0},45,{"$f":"Q123*R123","v":0},{"$f":"IF(F123=\"\",$P$3,$Q$3)","v":1},{"$f":"(O123+S123)*T123*H123","v":0}]
[null,null,"Total",null,"#","o",null,null,null,null,null,null,null,null,null,null,null,45,null,null,{"$f":"SUM(U121:U123)","v":0}]
[]
[32,"Bac de Pied Barométrique",null,2,"#","o","PPH",0,null,null,1.4,{"$f":"I126*$L$66*H126","v":0},{"$f":"J126*K126","v":0},2,{"$f":"(L126+M126)*N126","v":0},20,{"$f":"P126*$Q$66*N126","v":0},45,{"$f":"Q126*R126","v":0},{"$f":"IF(F126=\"\",$P$3,$Q$3)","v":1},{"$f":"(O126+S126)*T126*H126","v":0}]
[null,"Level swicth E+H Liquifant",null,null,null,"o",null,0,null,800,null,{"$f":"I127*$L$66*H127","v":0},{"$f":"J127*$M$65*H127","v":0},1,{"$f":"(L127+M127)*N127","v":0},0,{"$f":"P127*$Q$66*N127","v":0},{"$f":"IF($F127=\"\",$R$3,$S$3)","v":45},{"$f":"Q127*R127","v":0},{"$f":"IF(F127=\"\",$P$3,$Q$3)","v":1},{"$f":"(O127+S127)*T127*H127","v":0}]
[null,"Vanne flotteur",null,null,"#","o",null,0,null,1282,null,{"$f":"I128*$L$66*H128","v":0},{"$f":"J128*$M$65*H128","v":0},1,{"$f":"(L128+M128)*N128","v":0},0,{"$f":"P128*$Q$66*N128","v":0},{"$f":"IF($F128=\"\",$R$3,$S$3)","v":45},{"$f":"Q128*R128","v":0},{"$f":"IF(F128=\"\",$P$3,$Q$3)","v":1},{"$f":"(O128+S128)*T128*H128","v":0}]
[null,"Vanne DN 50",null,null,"#","o",null,0,null,250,null,{"$f":"I129*$L$66*H129","v":0},{"$f":"J129*$M$65*H129","v":0},1,{"$f":"(L129+M129)*N129","v":0},0,{"$f":"P129*$Q$66*N129","v":0},{"$f":"IF($F129=\"\",$R$3,$S$3)","v":45},{"$f":"Q129*R129","v":0},{"$f":"IF(F129=\"\",$P$3,$Q$3)","v":1},{"$f":"(O129+S129)*T129*H129","v":0}]
[null,null,"Total",null,"#","o",null,null,null,null,null,null,null,null,null,null,null,{"$f":"IF($F130=\"\",$R$3,$S$3)","v":45},null,null,{"$f":"SUM(U126:U129)","v":0}]
[]
[33,"Station de Floculation",null,null,"#","o",null,0,null,null,null,{"$f":"I132*$L$65*H132","v":0},{"$f":"J132*$M$65*H132","v":0},{"$f":"'Séries 3-4-5'!$I$3","v":1},{"$f":"(L132+M132)*N132","v":0},null,{"$f":"P132*$Q$65*N132","v":0},45,{"$f":"Q132*R132","v":0},{"$f":"IF(F132=\"\",$P$3,$Q$3)","v":1},{"$f":"(O132+S132)*T132*H132","v":0}]
[]
[34,"Pompe de Lavage Toile & Bande",null,15,null,0,"SS316L",0,null,null,null,{"$f":"I134*$L$66*H134","v":0},{"$f":"J134*$M$65*H134","v":0},2,{"$f":"(L134+M134)*N134","v":0},0,{"$f":"P134*$Q$66*N134","v":0},{"$f":"IF($F134=\"\",$R$3,$S$3)","v":45},{"$f":"Q134*R134","v":0},{"$f":"IF(F134=\"\",$P$3,$Q$3)","v":1},{"$f":"(O134+S134)*T134*H134","v":0}]
[null,"Vanne + Instrumentration",null,null,"#","o",null,0,null,null,null,{"$f":"I135*$L$65*H135","v":0},{"$f":"J135*$M$65*H135","v":0},1,{"$f":"(L135+M135)*N135","v":0},null,{"$f":"P135*$Q$65*N135","v":0},45,{"$f":"Q135*R135","v":0},{"$f":"IF(F135=\"\",$P$3,$Q$3)","v":1},{"$f":"(O135+S135)*T135*H135","v":0}]
[null,"Clapet anti - retour",null,null,"#","o",null,0,null,null,null,{"$f":"I136*$L$65*H136","v":0},{"$f":"J136*$M$65*H136","v":0},1,{"$f":"(L136+M136)*N136","v":0},null,{"$f":"P136*$Q$65*N136","v":0},45,{"$f":"Q136*R136","v":0},{"$f":"IF(F136=\"\",$P$3,$Q$3)","v":1},{"$f":"(O136+S136)*T136*H136","v":0}]
[null,null,"Total",null,"#","o",null,null,null,null,null,null,null,null,null,null,null,45,null,null,{"$f":"SUM(U134:U136)","v":0}]
[]
[35,"Bac récup. Anneau liquide 2 m3",null,2,"#","o","PPH",1,null,null,1.4,{"$f":"I139*$L$66*H139","v":0},{"$f":"J139*K139","v":0},2,{"$f":"(L139+M139)*N139","v":0},0,{"$f":"P139*$Q$65*N139","v":0},{"$f":"IF($F139=\"\",$R$3,$S$3)","v":45},{"$f":"Q139*R139","v":0},{"$f":"IF(F139=\"\",$P$3,$Q$3)","v":1},{"$f":"(O139+S139)*T139*H139","v":0}]
[null,"Level swicth E+H Liquifant",null,null,null,"o",null,1,null,800,null,{"$f":"I140*$L$66*H140","v":0},{"$f":"J140*$M$65*H140","v":800},2,{"$f":"(L140+M140)*N140","v":1600},0,{"$f":"P140*$Q$66*N140","v":0},{"$f":"IF($F140=\"\",$R$3,$S$3)","v":45},{"$f":"Q140*R140","v":0},{"$f":"IF(F140=\"\",$P$3,$Q$3)","v":1},{"$f":"(O140+S140)*T140*H140","v":1600}]
[null,"Vanne flotteur",null,null,"#","o",null,1,null,1282,null,{"$f":"I141*$L$66*H141","v":0},{"$f":"J141*$M$65*H141","v":1282},2,{"$f":"(L141+M141)*N141","v":2564},0,{"$f":"P141*$Q$66*N141","v":0},{"$f":"IF($F141=\"\",$R$3,$S$3)","v":45},{"$f":"Q141*R141","v":0},{"$f":"IF(F141=\"\",$P$3,$Q$3)","v":1},{"$f":"(O141+S141)*T141*H141","v":2564}]
[null,"Vanne  DN50",null,null,"#","o",null,1,null,250,null,{"$f":"I142*$L$66*H142","v":0},{"$f":"J142*$M$65*H142","v":250},2,{"$f":"(L142+M142)*N142","v":500},0,{"$f":"P142*$Q$66*N142","v":0},{"$f":"IF($F142=\"\",$R$3,$S$3)","v":45},{"$f":"Q142*R142","v":0},{"$f":"IF(F142=\"\",$P$3,$Q$3)","v":1},{"$f":"(O142+S142)*T142*H142","v":500}]
[null,null,"Total",null,"#","o",null,null,null,null,null,null,null,null,null,null,null,{"$f":"IF($F143=\"\",$R$3,$S$3)","v":45},null,null,{"$f":"SUM(U139:U142)","v":4664}]
[]
[36,"Pompe lavage gateau 1",null,15,null,0,"SS316L",1,null,null,null,{"$f":"I145*$L$66*H145","v":0},{"$f":"J145*$M$65*H145","v":0},2,{"$f":"(L145+M145)*N145","v":0},0,{"$f":"P145*$Q$66*N145","v":0},{"$f":"IF($F145=\"\",$R$3,$S$3)","v":45},{"$f":"Q145*R145","v":0},{"$f":"IF(F145=\"\",$P$3,$Q$3)","v":1},{"$f":"(O145+S145)*T145*H145","v":0}]
[null,"Vanne + Instrumentration",null,null,"#","o",null,0,null,null,null,{"$f":"I146*$L$65*H146","v":0},{"$f":"J146*$M$65*H146","v":0},1,{"$f":"(L146+M146)*N146","v":0},null,{"$f":"P146*$Q$65*N146","v":0},45,{"$f":"Q146*R146","v":0},{"$f":"IF(F146=\"\",$P$3,$Q$3)","v":1},{"$f":"(O146+S146)*T146*H146","v":0}]
[null,"Clapet anti - retour",null,null,"#","o",null,0,null,null,null,{"$f":"I147*$L$65*H147","v":0},{"$f":"J147*$M$65*H147","v":0},1,{"$f":"(L147+M147)*N147","v":0},null,{"$f":"P147*$Q$65*N147","v":0},45,{"$f":"Q147*R147","v":0},{"$f":"IF(F147=\"\",$P$3,$Q$3)","v":1},{"$f":"(O147+S147)*T147*H147","v":0}]
[null,null,"Total",null,"#","o",null,null,null,null,null,null,null,null,null,null,null,45,null,null,{"$f":"SUM(U145:U147)","v":0}]
[]
[36,"Pompe lavage gateau 2","Péristaltique",17,null,0,"PP",1,null,null,null,{"$f":"I150*$L$66*H150","v":0},{"$f":"J150*$M$65*H150","v":0},2,{"$f":"(L150+M150)*N150","v":0},0,{"$f":"P150*$Q$66*N150","v":0},{"$f":"IF($F150=\"\",$R$3,$S$3)","v":45},{"$f":"Q150*R150","v":0},{"$f":"IF(F150=\"\",$P$3,$Q$3)","v":1},{"$f":"(O150+S150)*T150*H150","v":0}]
[null,"Vanne + Instrumentration",null,null,"#","o",null,0,null,null,null,{"$f":"I151*$L$65*H151","v":0},{"$f":"J151*$M$65*H151","v":0},1,{"$f":"(L151+M151)*N151","v":0},null,{"$f":"P151*$Q$65*N151","v":0},45,{"$f":"Q151*R151","v":0},{"$f":"IF(F151=\"\",$P$3,$Q$3)","v":1},{"$f":"(O151+S151)*T151*H151","v":0}]
[null,"Clapet anti - retour",null,null,"#","o",null,0,null,null,null,{"$f":"I152*$L$65*H152","v":0},{"$f":"J152*$M$65*H152","v":0},1,{"$f":"(L152+M152)*N152","v":0},null,{"$f":"P152*$Q$65*N152","v":0},45,{"$f":"Q152*R152","v":0},{"$f":"IF(F152=\"\",$P$3,$Q$3)","v":1},{"$f":"(O152+S152)*T152*H152","v":0}]
[null,null,"Total",null,"#","o",null,null,null,null,null,null,null,null,null,null,null,45,null,null,{"$f":"SUM(U150:U152)","v":0}]
[]
[37,"Bac récup. Lavage Toile & Bande",null,2,"#","o","PPH",0,null,null,1.4,{"$f":"I155*$L$66*H155","v":0},{"$f":"J155*K155","v":0},2,{"$f":"(L155+M155)*N155","v":0},20,{"$f":"P155*$Q$66*N155","v":0},{"$f":"IF($F155=\"\",$R$3,$S$3)","v":45},{"$f":"Q155*R155","v":0},{"$f":"IF(F155=\"\",$P$3,$Q$3)","v":1},{"$f":"(O155+S155)*T155*H155","v":0}]
[null,"Agitateur",null,null,null,"o",null,0,null,null,null,{"$f":"I156*$L$66*H156","v":0},{"$f":"J156*$M$65*H156","v":0},1,{"$f":"(L156+M156)*N156","v":0},0,{"$f":"P156*$Q$66*N156","v":0},45,{"$f":"Q156*R156","v":0},{"$f":"IF(F156=\"\",$P$3,$Q$3)","v":1},{"$f":"(O156+S156)*T156*H156","v":0}]
[null,"Level swicth E+H Liquifant",null,null,null,"o",null,0,null,800,null,{"$f":"I157*$L$66*H157","v":0},{"$f":"J157*$M$65*H157","v":0},1,{"$f":"(L157+M157)*N157","v":0},0,{"$f":"P157*$Q$66*N157","v":0},45,{"$f":"Q157*R157","v":0},{"$f":"IF(F157=\"\",$P$3,$Q$3)","v":1},{"$f":"(O157+S157)*T157*H157","v":0}]
[null,"Vanne flotteur",null,null,"#","o",null,0,null,1282,null,{"$f":"I158*$L$66*H158","v":0},{"$f":"J158*$M$65*H158","v":0},1,{"$f":"(L158+M158)*N158","v":0},0,{"$f":"P158*$Q$66*N158","v":0},45,{"$f":"Q158*R158","v":0},{"$f":"IF(F158=\"\",$P$3,$Q$3)","v":1},{"$f":"(O158+S158)*T158*H158","v":0}]
[null,"Vanne  DN50",null,null,"#","o",null,0,null,250,null,{"$f":"I159*$L$66*H159","v":0},{"$f":"J159*$M$65*H159","v":0},1,{"$f":"(L159+M159)*N159","v":0},0,{"$f":"P159*$Q$66*N159","v":0},45,{"$f":"Q159*R159","v":0},{"$f":"IF(F159=\"\",$P$3,$Q$3)","v":1},{"$f":"(O159+S159)*T159*H159","v":0}]
[null,null,"Total",null,"#","o",null,null,null,null,null,null,null,null,null,null,null,45,null,null,{"$f":"SUM(U155:U159)","v":0}]
[]
[38,"Lavage Acide ou Spécial",null,{"$f":"'Séries 3-4-5'!L1","v":"B5"},"#","o","PPH",0,675,5800,null,{"$f":"I162*$L$65*H162","v":0},{"$f":"J162*$M$65*H162","v":0},{"$f":"'Séries 3-4-5'!$I$3","v":1},{"$f":"(L162+M162)*N162","v":0},null,{"$f":"P162*$Q$65*N162","v":0},45,{"$f":"Q162*R162","v":0},{"$f":"IF(F162=\"\",$P$3,$Q$3)","v":1},{"$f":"(O162+S162)*T162*H162","v":0}]
[]
[52,"Automate - Armoire Electrique",null,null,"#","o",null,1,null,18750,null,{"$f":"I164*$L$65*H164","v":0},{"$f":"J164*$M$65*H164","v":18750},{"$f":"'Séries 3-4-5'!$I$3","v":1},{"$f":"(L164+M164)*N164","v":18750},null,{"$f":"P164*$Q$65*N164","v":0},45,{"$f":"Q164*R164","v":0},{"$f":"IF(F164=\"\",$P$3,$Q$3)","v":1},{"$f":"(O164+S164)*T164*H164","v":18750}]
[]
[53,"Armoire Puissance",null,null,"#","o",null,0,null,null,null,{"$f":"I166*$L$65*H166","v":0},{"$f":"J166*$M$65*H166","v":0},{"$f":"'Séries 3-4-5'!$I$3","v":1},{"$f":"(L166+M166)*N166","v":0},null,{"$f":"P166*$Q$65*N166","v":0},45,{"$f":"Q166*R166","v":0},{"$f":"IF(F166=\"\",$P$3,$Q$3)","v":1},{"$f":"(O166+S166)*T166*H166","v":0}]
[]
[54,"Coffret de Commande Local",null,null,"#","o",null,0,null,null,null,{"$f":"I168*$L$65*H168","v":0},{"$f":"J168*$M$65*H168","v":0},{"$f":"'Séries 3-4-5'!$I$3","v":1},{"$f":"(L168+M168)*N168","v":0},null,{"$f":"P168*$Q$65*N168","v":0},45,{"$f":"Q168*R168","v":0},{"$f":"IF(F168=\"\",$P$3,$Q$3)","v":1},{"$f":"(O168+S168)*T168*H168","v":0}]
[]
[61,"Boite de Jonction Accessoires 1",null,null,"#","o",null,0,null,null,null,{"$f":"I170*$L$65*H170","v":0},{"$f":"J170*$M$65*H170","v":0},{"$f":"'Séries 3-4-5'!$I$3","v":1},{"$f":"(L170+M170)*N170","v":0},null,{"$f":"P170*$Q$65*N170","v":0},45,{"$f":"Q170*R170","v":0},{"$f":"IF(F170=\"\",$P$3,$Q$3)","v":1},{"$f":"(O170+S170)*T170*H170","v":0}]
[]
[62,"Boite de Jonction Accessoires 2",null,null,"#","o",null,0,null,null,null,{"$f":"I172*$L$65*H172","v":0},{"$f":"J172*$M$65*H172","v":0},{"$f":"'Séries 3-4-5'!$I$3","v":1},{"$f":"(L172+M172)*N172","v":0},null,{"$f":"P172*$Q$65*N172","v":0},45,{"$f":"Q172*R172","v":0},{"$f":"IF(F172=\"\",$P$3,$Q$3)","v":1},{"$f":"(O172+S172)*T172*H172","v":0}]
[]
[69,"Interconnextions - Chantier Electrique",null,null,"#","o",null,1,null,null,null,{"$f":"I174*$L$65*H174","v":0},{"$f":"J174*$M$65*H174","v":0},{"$f":"'Séries 3-4-5'!$I$3","v":1},{"$f":"(L174+M174)*N174","v":0},null,{"$f":"P174*$Q$65*N174","v":0},45,{"$f":"Q174*R174","v":0},{"$f":"IF(F174=\"\",$P$3,$Q$3)","v":1},{"$f":"(O174+S174)*T174*H174","v":0}]
[]
[70,"Ballon Séparateur 1","K",{"$f":"Calculations!E44","v":500},"#","o",{"$f":"Calculations!C44","v":"304L"},{"$f":"IF(Calculations!S31>0,1,0)","v":1},null,{"$f":"IF(Calculations!D44=\"krogh\",'Ballon Séparateur Flasqué'!G19,'Ballon Séparateur'!G19)","v":0},null,{"$f":"I176*$L$65*H176","v":0},{"$f":"J176*$M$65*H176","v":0},1,{"$f":"(L176+M176)*N176","v":0},0,{"$f":"P176*$Q$65*N176","v":0},45,{"$f":"Q176*R176","v":0},{"$f":"IF(F176=\"\",$P$3,$Q$3)","v":1},{"$f":"(O176+S176)*T176*H176","v":0}]
[null,"Vanne",null,null,"#","o",null,0,null,null,null,{"$f":"I177*$L$65*H177","v":0},{"$f":"J177*$M$65*H177","v":0},1,{"$f":"(L177+M177)*N177","v":0},null,{"$f":"P177*$Q$65*N177","v":0},45,{"$f":"Q177*R177","v":0},{"$f":"IF(F177=\"\",$P$3,$Q$3)","v":1},{"$f":"(O177+S177)*T177*H177","v":0}]
[null,"Level switch E+H liquifant",null,null,"#","o",null,{"$f":"IF(H176=1,1,0)","v":1},null,800,null,{"$f":"I178*$L$65*H178","v":0},{"$f":"J178*$M$65*H178","v":800},{"$f":"N176*Calculations!P44","v":1},{"$f":"(L178+M178)*N178","v":800},null,{"$f":"P178*$Q$65*N178","v":0},45,{"$f":"Q178*R178","v":0},{"$f":"IF(F178=\"\",$P$3,$Q$3)","v":1},{"$f":"(O178+S178)*T178*H178","v":800}]
[null,"Vacuometre",null,null,"#","o",null,{"$f":"IF(H176=1,1,0)","v":1},null,300,null,{"$f":"I179*$L$65*H179","v":0},{"$f":"J179*$M$65*H179","v":300},{"$f":"N176*Calculations!P44","v":1},{"$f":"(L179+M179)*N179","v":300},null,{"$f":"P179*$Q$65*N179","v":0},45,{"$f":"Q179*R179","v":0},{"$f":"IF(F179=\"\",$P$3,$Q$3)","v":1},{"$f":"(O179+S179)*T179*H179","v":300}]
[null,null,"Total",null,"#","o",null,null,null,null,null,null,null,null,null,null,null,45,null,null,{"$f":"SUM(U176:U179)","v":1100}]
[]
[71,"Ballon Séparateur 2","BSB",{"$f":"Calculations!E44","v":500},"#","o",{"$f":"Calculations!C44","v":"304L"},{"$f":"IF(Calculations!S31>1,1,0)","v":1},null,{"$f":"IF(Calculations!D44=\"krogh\",'Ballon Séparateur Flasqué'!G19,'Ballon Séparateur'!G19)","v":0},null,{"$f":"I182*$L$65*H182","v":0},{"$f":"J182*$M$65*H182","v":0},1,{"$f":"(L182+M182)*N182","v":0},null,{"$f":"P182*$Q$65*N182","v":0},45,{"$f":"Q182*R182","v":0},{"$f":"IF(F182=\"\",$P$3,$Q$3)","v":1},{"$f":"(O182+S182)*T182*H182","v":0}]
[null,"Vanne",null,null,"#","o",null,0,null,null,null,{"$f":"I183*$L$65*H183","v":0},{"$f":"J183*$M$65*H183","v":0},1,{"$f":"(L183+M183)*N183","v":0},null,{"$f":"P183*$Q$65*N183","v":0},45,{"$f":"Q183*R183","v":0},{"$f":"IF(F183=\"\",$P$3,$Q$3)","v":1},{"$f":"(O183+S183)*T183*H183","v":0}]
[null,"Level switch E+H liquifant",null,null,"#","o",null,{"$f":"IF(H182=1,1,0)","v":1},null,800,null,{"$f":"I184*$L$65*H184","v":0},{"$f":"J184*$M$65*H184","v":800},{"$f":"N182*Calculations!P44","v":1},{"$f":"(L184+M184)*N184","v":800},null,{"$f":"P184*$Q$65*N184","v":0},45,{"$f":"Q184*R184","v":0},{"$f":"IF(F184=\"\",$P$3,$Q$3)","v":1},{"$f":"(O184+S184)*T184*H184","v":800}]
[null,"Vacuometre",null,null,"#","o",null,{"$f":"IF(H182=1,1,0)","v":1},null,300,null,{"$f":"I185*$L$65*H185","v":0},{"$f":"J185*$M$65*H185","v":300},{"$f":"N182*Calculations!P44","v":1},{"$f":"(L185+M185)*N185","v":300},null,{"$f":"P185*$Q$65*N185","v":0},45,{"$f":"Q185*R185","v":0},{"$f":"IF(F185=\"\",$P$3,$Q$3)","v":1},{"$f":"(O185+S185)*T185*H185","v":300}]
[null,null,"Total",null,"#","o",null,null,null,null,null,null,null,null,null,null,null,45,null,null,{"$f":"SUM(U182:U185)","v":1100}]
[]
[72,"Ballon Séparateur 3","BSK",{"$f":"Calculations!E44","v":500},"#","o",{"$f":"Calculations!C44","v":"304L"},{"$f":"IF(Calculations!S31>2,1,0)","v":1},null,{"$f":"IF(Calculations!D44=\"krogh\",'Ballon Séparateur Flasqué'!G19,'Ballon Séparateur'!G19)","v":0},null,{"$f":"I188*$L$65*H188","v":0},{"$f":"J188*$M$65*H188","v":0},1,{"$f":"(L188+M188)*N188","v":0},null,{"$f":"P188*$Q$65*N188","v":0},45,{"$f":"Q188*R188","v":0},{"$f":"IF(F188=\"\",$P$3,$Q$3)","v":1},{"$f":"(O188+S188)*T188*H188","v":0}]
[null,"Vanne",null,null,"#","o",null,0,null,null,null,{"$f":"I189*$L$65*H189","v":0},{"$f":"J189*$M$65*H189","v":0},1,{"$f":"(L189+M189)*N189","v":0},null,{"$f":"P189*$Q$65*N189","v":0},45,{"$f":"Q189*R189","v":0},{"$f":"IF(F189=\"\",$P$3,$Q$3)","v":1},{"$f":"(O189+S189)*T189*H189","v":0}]
[null,"Level switch E+H liquifant",null,null,"#","o",null,{"$f":"IF(H188=1,1,0)","v":1},null,800,null,{"$f":"I190*$L$65*H190","v":0},{"$f":"J190*$M$65*H190","v":800},{"$f":"N188*Calculations!P44","v":1},{"$f":"(L190+M190)*N190","v":800},null,{"$f":"P190*$Q$65*N190","v":0},45,{"$f":"Q190*R190","v":0},{"$f":"IF(F190=\"\",$P$3,$Q$3)","v":1},{"$f":"(O190+S190)*T190*H190","v":800}]
[null,"Vacuometre",null,null,"#","o",null,{"$f":"IF(H188=1,1,0)","v":1},null,300,null,{"$f":"I191*$L$65*H191","v":0},{"$f":"J191*$M$65*H191","v":300},{"$f":"N188*Calculations!P44","v":1},{"$f":"(L191+M191)*N191","v":300},null,{"$f":"P191*$Q$65*N191","v":0},45,{"$f":"Q191*R191","v":0},{"$f":"IF(F191=\"\",$P$3,$Q$3)","v":1},{"$f":"(O191+S191)*T191*H191","v":300}]
[null,null,"Total",null,"#","o",null,null,null,null,null,null,null,null,null,null,null,45,null,null,{"$f":"SUM(U188:U191)","v":1100}]
[]
[73,"Ballon Séparateur 4","BSK",{"$f":"Calculations!E44","v":500},"#","o",{"$f":"Calculations!C44","v":"304L"},{"$f":"IF(Calculations!S31>3,1,0)","v":0},null,{"$f":"IF(Calculations!D44=\"krogh\",'Ballon Séparateur Flasqué'!G19,'Ballon Séparateur'!G19)","v":0},null,{"$f":"I194*$L$65*H194","v":0},{"$f":"J194*$M$65*H194","v":0},1,{"$f":"(L194+M194)*N194","v":0},null,{"$f":"P194*$Q$65*N194","v":0},45,{"$f":"Q194*R194","v":0},{"$f":"IF(F194=\"\",$P$3,$Q$3)","v":1},{"$f":"(O194+S194)*T194*H194","v":0}]
[null,"Vanne",null,null,"#","o",null,0,null,null,null,{"$f":"I195*$L$65*H195","v":0},{"$f":"J195*$M$65*H195","v":0},1,{"$f":"(L195+M195)*N195","v":0},null,{"$f":"P195*$Q$65*N195","v":0},45,{"$f":"Q195*R195","v":0},{"$f":"IF(F195=\"\",$P$3,$Q$3)","v":1},{"$f":"(O195+S195)*T195*H195","v":0}]
[null,"Level switch E+H liquifant",null,null,"#","o",null,{"$f":"IF(H194=1,1,0)","v":0},null,800,null,{"$f":"I196*$L$65*H196","v":0},{"$f":"J196*$M$65*H196","v":0},{"$f":"Calculations!P44*'Cost list'!N194","v":1},{"$f":"(L196+M196)*N196","v":0},null,{"$f":"P196*$Q$65*N196","v":0},45,{"$f":"Q196*R196","v":0},{"$f":"IF(F196=\"\",$P$3,$Q$3)","v":1},{"$f":"(O196+S196)*T196*H196","v":0}]
[null,"Vacuometre",null,null,"#","o",null,{"$f":"IF(H194=1,1,0)","v":0},null,300,null,{"$f":"I197*$L$65*H197","v":0},{"$f":"J197*$M$65*H197","v":0},{"$f":"Calculations!P44*'Cost list'!N194","v":1},{"$f":"(L197+M197)*N197","v":0},null,{"$f":"P197*$Q$65*N197","v":0},45,{"$f":"Q197*R197","v":0},{"$f":"IF(F197=\"\",$P$3,$Q$3)","v":1},{"$f":"(O197+S197)*T197*H197","v":0}]
[null,null,"Total",null,"#","o",null,null,null,null,null,null,null,null,null,null,null,45,null,null,{"$f":"SUM(U194:U197)","v":0}]
[]
[74,"Ballon Séparateur 5","BSB",{"$f":"Calculations!E44","v":500},"#","o",{"$f":"Calculations!C44","v":"304L"},{"$f":"IF(Calculations!S31>4,1,0)","v":0},null,{"$f":"IF(Calculations!D44=\"krogh\",'Ballon Séparateur Flasqué'!G19,'Ballon Séparateur'!G19)","v":0},null,{"$f":"I200*$L$65*H200","v":0},{"$f":"J200*$M$65*H200","v":0},1,{"$f":"(L200+M200)*N200","v":0},null,{"$f":"P200*$Q$65*N200","v":0},45,{"$f":"Q200*R200","v":0},{"$f":"IF(F200=\"\",$P$3,$Q$3)","v":1},{"$f":"(O200+S200)*T200*H200","v":0}]
[null,"Vanne",null,null,"#","o",null,0,null,null,null,{"$f":"I201*$L$65*H201","v":0},{"$f":"J201*$M$65*H201","v":0},1,{"$f":"(L201+M201)*N201","v":0},null,{"$f":"P201*$Q$65*N201","v":0},45,{"$f":"Q201*R201","v":0},{"$f":"IF(F201=\"\",$P$3,$Q$3)","v":1},{"$f":"(O201+S201)*T201*H201","v":0}]
[null,"Level switch E+H liquifant",null,null,"#","o",null,{"$f":"IF(H200=1,1,0)","v":0},null,800,null,{"$f":"I202*$L$65*H202","v":0},{"$f":"J202*$M$65*H202","v":0},{"$f":"Calculations!P44*'Cost list'!N200","v":1},{"$f":"(L202+M202)*N202","v":0},null,{"$f":"P202*$Q$65*N202","v":0},45,{"$f":"Q202*R202","v":0},{"$f":"IF(F202=\"\",$P$3,$Q$3)","v":1},{"$f":"(O202+S202)*T202*H202","v":0}]
[null,"Vacuometre",null,null,"#","o",null,{"$f":"IF(H200=1,1,0)","v":0},null,300,null,{"$f":"I203*$L$65*H203","v":0},{"$f":"J203*$M$65*H203","v":0},{"$f":"Calculations!P44*'Cost list'!N200","v":1},{"$f":"(L203+M203)*N203","v":0},null,{"$f":"P203*$Q$65*N203","v":0},45,{"$f":"Q203*R203","v":0},{"$f":"IF(F203=\"\",$P$3,$Q$3)","v":1},{"$f":"(O203+S203)*T203*H203","v":0}]
[null,null,"Total",null,"#","o",null,null,null,null,null,null,null,null,null,null,null,45,null,null,{"$f":"SUM(U200:U203)","v":0}]
[]
[75,"Cyclone",null,{"$f":"Calculations!E46","v":200},"#","o",{"$f":"Calculations!C46","v":"304L"},{"$f":"IF(Calculations!C46=\"Exclu\",0,1)","v":1},null,{"$f":"#REF!","v":{"$error":"#REF!"}},null,{"$f":"I206*$L$65*H206","v":0},{"$f":"J206*$M$65*H206","v":{"$error":"#REF!"}},{"$f":"'Séries 3-4-5'!$I$3","v":1},{"$f":"(L206+M206)*N206","v":{"$error":"#REF!"}},null,{"$f":"P206*$Q$65*N206","v":0},45,{"$f":"Q206*R206","v":0},{"$f":"IF(F206=\"\",$P$3,$Q$3)","v":1},{"$f":"(O206+S206)*T206*H206","v":{"$error":"#REF!"}}]
[null,"Vanne",null,null,"#","o",null,0,null,null,null,{"$f":"I207*$L$65*H207","v":0},{"$f":"J207*$M$65*H207","v":0},1,{"$f":"(L207+M207)*N207","v":0},null,{"$f":"P207*$Q$65*N207","v":0},45,{"$f":"Q207*R207","v":0},{"$f":"IF(F207=\"\",$P$3,$Q$3)","v":1},{"$f":"(O207+S207)*T207*H207","v":0}]
[null,"Vacuometre or transmitter E+H",null,null,"#","o",null,0,null,null,null,{"$f":"I208*$L$65*H208","v":0},{"$f":"J208*$M$65*H208","v":0},0,{"$f":"(L208+M208)*N208","v":0},null,0,45,0,{"$f":"IF(F208=\"\",$P$3,$Q$3)","v":1},{"$f":"(O208+S208)*T208*H208","v":0}]
[null,null,"Total",null,"#","o",null,null,null,null,null,null,null,null,null,null,null,45,null,null,{"$f":"SUM(U206:U208)","v":{"$error":"#REF!"}}]
[]
[76,"Laveur de Gaz",null,{"$f":"Calculations!E48","v":200},"#","o",{"$f":"Calculations!C48","v":"Exclu"},{"$f":"IF(Calculations!C48=\"Exclu\",0,1)","v":0},null,{"$f":"#REF!","v":{"$error":"#REF!"}},null,{"$f":"I211*$L$65*H211","v":0},{"$f":"J211*$M$65*H211","v":{"$error":"#REF!"}},{"$f":"'Séries 3-4-5'!$I$3","v":1},{"$f":"(L211+M211)*N211","v":{"$error":"#REF!"}},null,0,45,0,{"$f":"IF(F211=\"\",$P$3,$Q$3)","v":1},{"$f":"(O211+S211)*T211*H211","v":{"$error":"#REF!"}}]
[null,"Sprayer",null,null,"#","o",null,0,null,null,null,{"$f":"I212*$L$65*H212","v":0},{"$f":"J212*$M$65*H212","v":0},{"$f":"'Séries 3-4-5'!$I$3","v":1},{"$f":"(L212+M212)*N212","v":0},null,0,45,0,{"$f":"IF(F212=\"\",$P$3,$Q$3)","v":1},{"$f":"(O212+S212)*T212*H212","v":0}]
[null,"Vanne",null,null,"#","o",null,0,null,null,null,{"$f":"I213*$L$65*H213","v":0},{"$f":"J213*$M$65*H213","v":0},1,{"$f":"(L213+M213)*N213","v":0},null,{"$f":"P213*$Q$65*N213","v":0},45,{"$f":"Q213*R213","v":0},{"$f":"IF(F213=\"\",$P$3,$Q$3)","v":1},{"$f":"(O213+S213)*T213*H213","v":0}]
[null,"Débitmètre",null,null,"#","o",null,0,null,null,null,{"$f":"I214*$L$65*H214","v":0},{"$f":"J214*$M$65*H214","v":0},1,{"$f":"(L214+M214)*N214","v":0},null,{"$f":"P214*$Q$65*N214","v":0},45,{"$f":"Q214*R214","v":0},{"$f":"IF(F214=\"\",$P$3,$Q$3)","v":1},{"$f":"(O214+S214)*T214*H214","v":0}]
[null,null,"Total",null,"#","o",null,null,null,null,null,null,null,null,null,null,null,45,null,null,{"$f":"SUM(U211:U214)","v":{"$error":"#REF!"}}]
[]
[77,"Canne de Lavage de Gaz",null,200,"#","o","SS316L",0,null,null,null,{"$f":"I217*$L$65*H217","v":0},{"$f":"J217*$M$65*H217","v":0},{"$f":"'Séries 3-4-5'!$I$3","v":1},{"$f":"(L217+M217)*N217","v":0},null,{"$f":"P217*$Q$65*N217","v":0},45,{"$f":"Q217*R217","v":0},{"$f":"IF(F217=\"\",$P$3,$Q$3)","v":1},{"$f":"(O217+S217)*T217*H217","v":0}]
[]
[79,"Vis de Repulpage",null,"B30","#","o","SS316L",0,null,null,null,{"$f":"I219*$L$65*H219","v":0},{"$f":"J219*$M$65*H219","v":0},{"$f":"'Séries 3-4-5'!$I$3","v":1},{"$f":"(L219+M219)*N219","v":0},null,{"$f":"P219*$Q$65*N219","v":0},45,{"$f":"Q219*R219","v":0},{"$f":"IF(F219=\"\",$P$3,$Q$3)","v":1},{"$f":"(O219+S219)*T219*H219","v":0}]
[]
[80,"Tauyauteries De Liaison",null,null,"#","o","SVR",1,null,null,null,{"$f":"I221*$L$65*H221","v":0},{"$f":"J221*$M$65*H221","v":0},{"$f":"'Séries 3-4-5'!$I$3","v":1},{"$f":"(L221+M221)*N221","v":0},null,{"$f":"P221*$Q$65*N221","v":0},45,{"$f":"Q221*R221","v":0},{"$f":"IF(F221=\"\",$P$3,$Q$3)","v":1},{"$f":"(O221+S221)*T221*H221","v":0}]
[]
[81,"Passerelles",null,{"$f":"'Séries 3-4-5'!L2","v":"2B5"},"#","o",null,{"$f":"IF(Calculations!I31=\"Avec caillebotis\",1,IF(Calculations!I31=\"Sans caillebotis\",1,0))","v":0},null,null,null,{"$f":"I223*$L$65*H223","v":0},{"$f":"J223*$M$65*H223","v":0},{"$f":"'Séries 3-4-5'!$I$3","v":1},{"$f":"(L223+M223)*N223","v":0},null,{"$f":"P223*$Q$65*N223","v":0},45,{"$f":"Q223*R223","v":0},{"$f":"IF(F223=\"\",$P$3,$Q$3)","v":1},{"$f":"IF(Calculations!I31=\"Avec caillebotis\",#REF!,IF(Calculations!I31=\"Sans caillebotis\",#REF!,0))","v":0}]
[]
[82,"Station d'HC Primaire",null,null,"#","o",null,0,null,null,null,{"$f":"I225*$L$65*H225","v":0},{"$f":"J225*$M$65*H225","v":0},{"$f":"'Séries 3-4-5'!$I$3","v":1},{"$f":"(L225+M225)*N225","v":0},null,{"$f":"P225*$Q$65*N225","v":0},45,{"$f":"Q225*R225","v":0},{"$f":"IF(F225=\"\",$P$3,$Q$3)","v":1},{"$f":"(O225+S225)*T225*H225","v":0}]
[]
[83,"Station d'HC Secondaire",null,null,"#","o",null,0,null,null,null,{"$f":"I227*$L$65*H227","v":0},{"$f":"J227*$M$65*H227","v":0},{"$f":"'Séries 3-4-5'!$I$3","v":1},{"$f":"(L227+M227)*N227","v":0},null,{"$f":"P227*$Q$65*N227","v":0},45,{"$f":"Q227*R227","v":0},{"$f":"IF(F227=\"\",$P$3,$Q$3)","v":1},{"$f":"(O227+S227)*T227*H227","v":0}]
[]
[84,"Filtre à Eau Lavage Toile & Bande",null,null,"#","o",null,0,null,null,null,{"$f":"I229*$L$65*H229","v":0},{"$f":"J229*$M$65*H229","v":0},{"$f":"'Séries 3-4-5'!$I$3","v":1},{"$f":"(L229+M229)*N229","v":0},null,{"$f":"P229*$Q$65*N229","v":0},45,{"$f":"Q229*R229","v":0},{"$f":"IF(F229=\"\",$P$3,$Q$3)","v":1},{"$f":"(O229+S229)*T229*H229","v":0}]
[]
[null,null,null,null,null,null,"d/w","pd/h",null,null,null,"car renting",null,"week",null,null,null,"external h. cost"]
[null,"Supervisor","erection",null,null,null,6,10,1,null,null,null,null,3.5,null,null,{"$f":"G232*H232*N232*$Q$7","v":210},80,{"$f":"Q232*R232","v":16800},{"$f":"IF(F232=\"\",$P$3,$Q$3)","v":1},{"$f":"(O232+S232)*T232","v":16800}]
[null,null,"hotel",null,null,null,7,1,null,120,null,30,null,3.5,{"$f":"(J233+L233)*G233*H233*N233","v":3675},null,{"$f":"P233*N233*$Q$7*H233","v":0},null,{"$f":"Q233*R233","v":0},{"$f":"IF(F233=\"\",$P$3,$Q$3)","v":1},{"$f":"(O233+S233)*T233","v":3675}]
[null,null,"travel",null,null,null,1,1,null,1200,null,null,null,1,{"$f":"(J234+L234)*G234*H234*N234","v":1200},null,{"$f":"P234*N234*$Q$7*H234","v":0},null,{"$f":"Q234*R234","v":0},{"$f":"IF(F234=\"\",$P$3,$Q$3)","v":1},{"$f":"(O234+S234)*T234","v":1200}]
[null,null,null,null,null,null,null,null,null,null,null,"car renting",null,null,null,null,null,null,null,null,{"$f":"SUM(U232:U234)","v":21675}]
[null,"Supervisor","start up",null,null,null,6,10,1,null,null,null,null,1,null,null,{"$f":"G236*H236*N236*$Q$7","v":60},80,{"$f":"Q236*R236","v":4800},{"$f":"IF(F236=\"\",$P$3,$Q$3)","v":1},{"$f":"(O236+S236)*T236","v":4800}]
[null,null,"hotel",null,null,null,7,1,null,120,null,30,null,1,{"$f":"(J237+L237)*G237*H237*N237","v":1050},null,{"$f":"P237*N237*$Q$7*H237","v":0},null,{"$f":"Q237*R237","v":0},{"$f":"IF(F237=\"\",$P$3,$Q$3)","v":1},{"$f":"(O237+S237)*T237","v":1050}]
[null,null,"travel",null,null,null,1,1,null,1200,null,null,null,1,{"$f":"(J238+L238)*G238*H238*N238","v":1200},null,{"$f":"P238*N238*$Q$7*H238","v":0},null,{"$f":"Q238*R238","v":0},{"$f":"IF(F238=\"\",$P$3,$Q$3)","v":1},{"$f":"(O238+S238)*T238","v":1200}]
[null,null,null,null,null,null,null,null,null,null,null,null,null,null,null,null,null,null,null,null,{"$f":"SUM(U236:U238)","v":7050}]
[]
[49,"Spare Parts Mandatory",null,null,"#","o",null,0,null,null,null,{"$f":"I241*$L$65*H241","v":0},{"$f":"J241*$M$65*H241","v":0},{"$f":"'Séries 3-4-5'!$I$3","v":1},{"$f":"(L241+M241)*N241","v":0},null,{"$f":"P241*$Q$65*N241","v":0},{"$f":"IF($F241=\"\",$R$3,$S$3)","v":45},{"$f":"Q241*R241","v":0},{"$f":"IF(F241=\"\",$P$3,$Q$3)","v":1},{"$f":"(O241+S241)*T241*H241","v":0}]
[49,"Spare Parts Start Up",null,null,"#","o",null,0,null,null,null,{"$f":"I242*$L$65*H242","v":0},{"$f":"J242*$M$65*H242","v":0},{"$f":"'Séries 3-4-5'!$I$3","v":1},{"$f":"(L242+M242)*N242","v":0},null,{"$f":"P242*$Q$65*N242","v":0},{"$f":"IF($F242=\"\",$R$3,$S$3)","v":45},{"$f":"Q242*R242","v":0},{"$f":"IF(F242=\"\",$P$3,$Q$3)","v":1},{"$f":"(O242+S242)*T242*H242","v":0}]
[49,"Spare Parts 1 year",null,null,"#","o",null,0,null,null,null,{"$f":"I243*$L$65*H243","v":0},{"$f":"J243*$M$65*H243","v":0},{"$f":"'Séries 3-4-5'!$I$3","v":1},{"$f":"(L243+M243)*N243","v":0},null,{"$f":"P243*$Q$65*N243","v":0},{"$f":"IF($F243=\"\",$R$3,$S$3)","v":45},{"$f":"Q243*R243","v":0},{"$f":"IF(F243=\"\",$P$3,$Q$3)","v":1},{"$f":"(O243+S243)*T243*H243","v":0}]
[49,null,"Total",null,"#","o",null,null,null,null,null,null,null,null,null,null,null,{"$f":"IF($F244=\"\",$R$3,$S$3)","v":45},null,null,{"$f":"SUM(U242:U243)","v":0}]
[]
[39,"Renforcement Transport",null,null,null,null,null,0,null,null,null,{"$f":"I246*$L$65","v":0},{"$f":"J246*$M$65","v":0},1,{"$f":"(L246+M246)*N246","v":0},0,{"$f":"P246*$Q$65*N246","v":0},30.55,{"$f":"Q246*R246","v":0},{"$f":"IF(F246=\"\",$P$3,$Q$3)","v":1},{"$f":"(O246+S246)*T246*H246","v":0}]
["PRESTA","TC 40' part France ","E & M",null,null,null,null,1,null,1500,null,{"$f":"I247*$L$65","v":0},{"$f":"J247*$M$65","v":1500},6,9000,0,0,30.55,0,1,{"$f":"(O247+S247)*T247*H247","v":9000}]
["PRESTA","TC 20' part France ","E & M",null,null,null,null,0,null,1000,null,{"$f":"I248*$L$65","v":0},{"$f":"J248*$M$65","v":1000},20,20000,0,0,30.55,0,1,{"$f":"(O248+S248)*T248*H248","v":0}]
["PRESTA","Fumigation",null,null,null,null,null,0,null,300,null,{"$f":"I249*$L$65","v":0},{"$f":"J249*$M$65","v":300},20,6000,0,0,30.55,0,1,{"$f":"(O249+S249)*T249*H249","v":0}]
["PRESTA","Transport","FOB",null,null,null,null,1,null,750,null,{"$f":"I250*$L$65","v":0},{"$f":"J250*$M$65","v":750},6,4500,0,0,30.55,0,1,{"$f":"(O250+S250)*T250*H250","v":4500}]
["PRESTA","insurance",1.1000000000000001E-3,null,null,null,null,1,null,null,null,null,0,0,0,null,0,30.55,0,1,{"$f":"W251*1.1*C251","v":{"$error":"#N/A"}},null,{"$f":"V101+U103+U105+U107+U109+U111+U113+U115+U117+U119+U124+U130+U132+U137+U143+U148+U153+U160+U162+U164+U166+U168+U170+U172+U174+U180+U186+U192+U198+U204+U209+U215+U217+U219+U221+U223+U225+U227+U229+U244+U246+U247+U248+U249+U250","v":{"$error":"#N/A"}}]
[]
[]
[]
[null,null,null,null,null,null,null,null,null,null,null,null,null,null,null,null,null,null,"TOT",null,{"$f":"W251+U251","v":{"$error":"#N/A"}}]

{"sheet":"Cost List2.xls","index":14,"n_rows":152,"n_cols":32,"rows_kept":152,"cut":false,"hidden":false,"merged":[[0,13,0,17],[2,2,2,4],[3,3,6,3],[3,11,3,12],[4,13,6,13],[88,0,88,19],[100,0,100,19],[4,20,6,20],[4,26,6,26],[106,26,106,27],[105,26,105,27],[4,27,6,27],[60,3,63,3],[61,13,63,13],[61,19,63,19],[61,20,63,20],[61,26,63,26],[61,27,63,27],[4,19,6,19],[64,0,64,19]]}
[null,null,null,null,null,null,null,null,null,null,null,null,null,"Managed your cost"]
[null,null,null,null,null,null,null,null,null,null,null,null,null,null,"French GM","(Local) GM","French Hour cost","(local) Hour cost",null,"Coef Chine (interco)",1.35]
["N° DU DEVIS :",{"$f":"'Série 2'!E1","v":"726789-rev4"},{"$f":"\"- \"&'Série 2'!B6&\"B\"&('Série 2'!B5/100)","v":"- 2B5"},null,null,"Client",null,{"$f":"'Série 2'!H1","v":"CARESTER"},null,null,null,{"$f":"'Série 2'!B10","v":"RIGHT"},null,1,1,1,60,45,"Rev.",0,null,null,null,null,null,"detail of cost sharing France / local"]
["Ph. LE BIGOT => ",{"$f":"'Série 2'!E2","v":"T. DUBRULLE"},null,"local basic","For ","Surface :",null,{"$f":"'Série 2'!B6","v":2},"Largeur",null,{"$f":"'Série 2'!B5","v":500},"Spécifications",null,{"$f":"CONCATENATE(F11,\"+\",F29,\"+\",F13,\"+\",\"T\",C14,\"+\",G33,\"G\",\"+\",C50,\"KW\",\"+\",G51,\"VF\")","v":"304L+304L+EPDM+T70+3G+0,37KW+1VF"},null,null,null,null,null,"2005-08-11",null,null,null,null,"French","Local","French","Local","French","Local","French","Local"]
[null,null,"data",null,"local",null,null,"Material","Buyout","Corrective","Updated","Buyout",null,"Total (1) Material + buyout","Labour","Labour",null,"Total (2)",null,"Final cost without Engineering","Final cost including engineering",null,"data",null,"incl 1,149","incl. 1,149","Total (1) Material + buyout","Total (1) Material + buyout","Labour","Labour","Total (2)","Total (2)"]
["Désignation",null,"Spéc",null,"fill the ","Mat","Qty","Unit cost","Unit cost","factor","material",null,"Qty",null,"Unit","Total","Taux","Labour","Marg",null,null,"Désignation","Spéc",{"$f":"F6","v":"Mat"},"France","Local",null,null,"Total","Total","labour","labour"]
[null,null,"Dia.",null,"cell","Spec",null,null,null,null,null,1,null,null,null,1,null,null,null,null,null,null,"Dia.",null,"no engineering",null,null,null,"hours","hours","cost","cost"]
["filter engineering basic",null,null,null,null,null,1,null,11500,null,{"$f":"H8*$K$65","v":0},{"$f":"I8*$L$7","v":11500},1,{"$f":"(K8+L8)*M8","v":11500},80,{"$f":"O8*M8","v":80},44,{"$f":"P8*Q8","v":3520},{"$f":"IF($E8=\"\",$O$3,$P$3)","v":1},null,null,{"$f":"A8","v":"filter engineering basic"},{"$f":"C8","v":0},{"$f":"F8","v":0},{"$f":"T8","v":0},null,{"$f":"N8","v":11500},null,{"$f":"P8","v":80},null,{"$f":"R8","v":3520}]
["customisazion second filter and following",null,null,null,null,null,1,null,3400,null,{"$f":"H9*$K$65","v":0},{"$f":"I9*$L$7","v":3400},{"$f":"'Série 2'!$I$2-1","v":0},{"$f":"(K9+L9)*M9","v":0},{"$f":"IF(M9>0.5,40,0)","v":0},{"$f":"O9*M9","v":0},44,{"$f":"P9*Q9","v":0},{"$f":"IF($E9=\"\",$O$3,$P$3)","v":1},{"$f":"(N9+R9)*S9","v":0},{"$f":"(R9)*S9","v":0},"customisazion second filter and following",0,{"$f":"F9","v":0},{"$f":"T9","v":0},{"$f":"IF(E9=\"\",\"\",T9)","v":""},{"$f":"IF($E9=\"\",N9,\"\")","v":0},{"$f":"IF($E9=\"\",\"\",N9)","v":""},{"$f":"IF($E9=\"\",P9,\"\")","v":0},{"$f":"IF($E9=\"\",\"\",P9)","v":""},{"$f":"IF($E9=\"\",R9,\"\")","v":0},{"$f":"IF($E9=\"\",\"\",R9)","v":""}]
["other customisazion",null,null,null,null,null,0,null,null,null,{"$f":"H10*$K$65","v":0},{"$f":"I10*$L$7","v":0},{"$f":"'Série 2'!$I$2","v":1},{"$f":"(K10+L10)*M10","v":0},0,{"$f":"O10*M10","v":0},44,{"$f":"P10*Q10","v":0},{"$f":"IF($E10=\"\",$O$3,$P$3)","v":1},{"$f":"(N10)*S10","v":0},{"$f":"(R10)*S10","v":0},"other customisazion",0,0,{"$f":"T10","v":0},{"$f":"IF(E10=\"\",\"\",T10)","v":""},{"$f":"IF($E10=\"\",N10,\"\")","v":0},{"$f":"IF($E10=\"\",\"\",N10)","v":""},{"$f":"IF($E10=\"\",P10,\"\")","v":0},{"$f":"IF($E10=\"\",\"\",P10)","v":""},{"$f":"IF($E10=\"\",R10,\"\")","v":0},{"$f":"IF($E10=\"\",\"\",R10)","v":""}]
["frame incl. belt support steel beam",null,{"$f":"Char2!I27&\" kg\"","v":"837 kg"},"#","o",{"$f":"'Série 2'!B16","v":"304L"},1,{"$f":"(HLOOKUP(F11,Char2!J6:N27,22,0))/6.55957","v":2791.4177301256027},{"$f":"VLOOKUP(F11,Char2!A87:B90,2,0)/6.55957","v":3811.2254309352597},{"$f":"IF(F11=\"\",'Série 2'!$E$42,(VLOOKUP(F11,'Série 2'!$D$26:$E$42,2,0)))","v":1.5909090909090908},{"$f":"H11*J11","v":4440.8918433816407},{"$f":"I11*$L$7","v":3811.2254309352597},{"$f":"'Série 2'!$I$2","v":1},{"$f":"(K11+L11)*M11","v":8252.1172743169009},{"$f":"Char2!O27","v":245.3},{"$f":"O11*M11*$P$7","v":245.3},{"$f":"IF($E11=\"\",$Q$3,$R$3)","v":45},{"$f":"P11*Q11","v":11038.5},{"$f":"IF($E11=\"\",$O$3,$P$3)","v":1},{"$f":"(([35]CHASSIS!$J$28+3000)/U2)*1.136","v":7386.5244444444434},null,"frame incl. belt support steel beam","837 kg","304L",{"$f":"IF(E11=\"\",T11,\"\")","v":""},{"$f":"IF(E11=\"\",\"\",T11)","v":7386.5244444444434},{"$f":"IF($E11=\"\",N11,\"\")","v":""},{"$f":"IF($E11=\"\",\"\",N11)","v":8252.1172743169009},{"$f":"IF($E11=\"\",P11,\"\")","v":""},{"$f":"IF($E11=\"\",\"\",P11)","v":245.3},{"$f":"IF($E11=\"\",R11,\"\")","v":""},{"$f":"IF($E11=\"\",\"\",R11)","v":11038.5}]
["wear belt and plastic rail",null,{"$f":"'Série 2'!B17","v":"DUNL"},null,0,"PLAS",{"$f":"LOOKUP(K4,Tabl2!A20:A43,Tabl2!B20:B43)","v":4},{"$f":"(IF('Série 2'!B84=0,0,HLOOKUP(K4,Tabl2!I7:K12,6,0)))/6.55957","v":0},{"$f":"(HLOOKUP($C$12,Tabl2!$C$7:$G$20,12,0))/6.55957","v":851.21433264680468},{"$f":"IF(F12=\"\",'Série 2'!$E$42,(VLOOKUP(F12,'Série 2'!$D$26:$E$42,2,0)))","v":1.3},{"$f":"H12*J12","v":0},{"$f":"I12*$L$7","v":851.21433264680468},{"$f":"'Série 2'!$I$2","v":1},{"$f":"(K12+L12)*M12","v":851.21433264680468},{"$f":"HLOOKUP($C$12,Tabl2!$C$7:$G$20,13,0)+Tabl2!J14","v":25.3},{"$f":"O12*M12*$P$7","v":25.3},{"$f":"IF($E12=\"\",$Q$3,$R$3)","v":45},1138.5,{"$f":"IF(E12=\"\",$O$3,$P$3)","v":1},{"$f":"(N12+R12)*S12*0.8","v":1591.7714661174439},null,"wear belt and plastic rail","DUNL","PLAS",{"$f":"IF(E12=\"\",T12,\"\")","v":""},{"$f":"IF(E12=\"\",\"\",T12)","v":1591.7714661174439},{"$f":"IF($E12=\"\",N12,\"\")","v":""},{"$f":"IF($E12=\"\",\"\",N12)","v":851.21433264680468},{"$f":"IF($E12=\"\",P12,\"\")","v":""},{"$f":"IF($E12=\"\",\"\",P12)","v":25.3},{"$f":"IF($E12=\"\",R12,\"\")","v":""},{"$f":"IF($E12=\"\",\"\",R12)","v":1138.5}]
["rubber belt + grooving + pinching",null,null,null,null,{"$f":"'Série 2'!B18","v":"EPDM"},1,null,{"$f":"(VLOOKUP(F13,Band2!A25:H27,8,0))","v":8609.4000000000015},{"$f":"IF(F13=\"\",'Série 2'!$E$42,(VLOOKUP(F13,'Série 2'!$D$26:$E$42,2,0)))","v":1.05},0,8609.4000000000015,{"$f":"'Série 2'!$I$2","v":1},8609.4000000000015,{"$f":"HLOOKUP(K4,Band2!B16:M30,15,0)","v":28.98},28.98,60,1738.8,1,{"$f":"[35]BANDE!$I$3+[35]BANDE!$J$3+1000","v":19240},null,"rubber belt + grooving + pinching",0,"EPDM",19240,"",8609.4000000000015,"",28.98,"",1738.8,""]
["edge curb",null,{"$f":"'Série 2'!B19","v":70},null,null,{"$f":"'Série 2'!B20","v":"EPDM"},1,null,{"$f":"(HLOOKUP(K4,Band2!B16:M29,IF(C14=Band2!A28,13,14),0))/6.55957","v":1716.7771667959942},{"$f":"IF(F14=\"\",'Série 2'!$E$42,(VLOOKUP(F14,'Série 2'!$D$26:$E$42,2,0)))","v":1.05},0,1716.7771667959942,{"$f":"'Série 2'!$I$2","v":1},1716.7771667959942,0,0,60,0,1,{"$f":"SUM([36]TALONS!$O$3:$O$5/2)*1.1","v":2736.1620000000003},null,"edge curb",70,"EPDM",2736.1620000000003,"",1716.7771667959942,"",0,"",0,""]
[{"$f":"\"drive pulley\"&\"  \"&'Série 2'!$B$22","v":"drive pulley  SBR"},null,{"$f":"'Série 2'!$B$7","v":630},"#","o",null,1,{"$f":"(HLOOKUP($K$4,Tamb2!$B$3:$M$9,2,0))/6.55957","v":152.44901723741037},{"$f":"(HLOOKUP($K$4,Tamb2!$B$3:$M$9,3,0))/6.55957","v":897.92471152834719},{"$f":"IF(F15=\"\",'Série 2'!$E$42,(VLOOKUP(F15,'Série 2'!$D$26:$E$42,2,0)))","v":1.3},198.18372240863349,897.92471152834719,{"$f":"'Série 2'!$I$2","v":1},1096.1084339369806,{"$f":"HLOOKUP($K$4,Tamb2!$B$3:$M$9,6,0)","v":32},32,45,1440,1,{"$f":"('[35]TAMBOURS & ROULEAUX'!$R$5/U2)*1.136","v":4543.9999999999991},null,"drive pulley  SBR",630,0,"",4543.9999999999991,"",1096.1084339369806,"",32,"",1440]
[{"$f":"\"idler pulley\"&\"  \"&'Série 2'!$B$22","v":"idler pulley  SBR"},null,{"$f":"'Série 2'!$B$7","v":630},"#","o",null,1,{"$f":"(HLOOKUP($K$4,Tamb2!$B$3:$M$9,4,0))/6.55957","v":106.71431206618726},{"$f":"(HLOOKUP($K$4,Tamb2!$B$3:$M$9,5,0))/6.55957","v":708.88793015395822},{"$f":"IF(F16=\"\",'Série 2'!$E$42,(VLOOKUP(F16,'Série 2'!$D$26:$E$42,2,0)))","v":1.3},138.72860568604344,708.88793015395822,{"$f":"'Série 2'!$I$2","v":1},847.61653584000169,{"$f":"HLOOKUP($K$4,Tamb2!$B$3:$M$9,7,0)","v":28},28,45,1260,1,{"$f":"('[35]TAMBOURS & ROULEAUX'!$R$4/U2)*1.136","v":4219.1881481481478},null,"idler pulley  SBR",630,0,"",4219.1881481481478,"",847.61653584000169,"",28,"",1260]
["pulleys bearing",null,null,null,null,null,1,null,{"$f":"(HLOOKUP($K$4,Tamb2!$B$3:$M$10,8,0))/6.55957","v":487.8368551597132},{"$f":"IF(F17=\"\",'Série 2'!$E$42,(VLOOKUP(F17,'Série 2'!$D$26:$E$42,2,0)))","v":1.3},0,487.8368551597132,{"$f":"'Série 2'!$I$2","v":1},487.8368551597132,5,5,60,300,1,{"$f":"(N17+R17)*S17*1.1","v":866.62054067568454},null,"pulleys bearing",0,0,866.62054067568454,"",487.8368551597132,"",5,"",300,""]
["belt guide rollers",null,null,null,null,null,{"$f":"'Série 2'!B23","v":6},null,{"$f":"(136*G18)/6.55957","v":124.39839806572687},{"$f":"IF(F18=\"\",'Série 2'!$E$42,(VLOOKUP(F18,'Série 2'!$D$26:$E$42,2,0)))","v":1.3},0,124.39839806572687,{"$f":"'Série 2'!$I$2","v":1},124.39839806572687,null,0,60,0,1,{"$f":"50*G18","v":300},null,"belt guide rollers",0,0,300,"",124.39839806572687,"",0,"",0,""]
["belt support rollers",null,{"$f":"'Série 2'!B24","v":219},"#","o",{"$f":"'Série 2'!B25","v":"304L"},{"$f":"'Série 2'!B26","v":3},{"$f":"((INDEX(Roul2!H5:AK9,MATCH(C19,Roul2!H6:H9,0)+1,MATCH(K4&F19,Roul2!I5:AK5,0)+1))*G19)/6.55957","v":268.87433170162069},{"$f":"((INDEX(Roul2!H10:AK14,MATCH(C19,Roul2!H11:H14,0)+1,MATCH(K4&F19,Roul2!I10:AK10,0)+1))*G19)/6.55957","v":6.8602057756834673},{"$f":"IF(F19=\"\",'Série 2'!$E$42,(VLOOKUP(F19,'Série 2'!$D$26:$E$42,2,0)))","v":1.5909090909090908},427.75461861621471,6.8602057756834673,{"$f":"'Série 2'!$I$2","v":1},434.6148243918982,{"$f":"(LOOKUP(C19,Roul2!$G$45:$G$51,Roul2!$H$45:$H$51))*G19","v":21},21,45,945,1,{"$f":"(('[35]TAMBOURS & ROULEAUX'!$R$20/U2)*G19)*1.136","v":1315.2355555555555},null,"belt support rollers",219,"304L","",1315.2355555555555,"",434.6148243918982,"",21,"",945]
["cloth support roller type 1",null,{"$f":"'Série 2'!B27","v":60},"#","o",{"$f":"'Série 2'!B28","v":"304L"},{"$f":"'Série 2'!B29","v":8},{"$f":"((INDEX(Roul2!H15:AK20,MATCH(C20,Roul2!H16:H20,0)+1,MATCH(K4&F20,Roul2!I15:AK15,0)+1))*G20)/6.55957","v":345.12018318273914},{"$f":"((INDEX(Roul2!H21:AK26,MATCH(C20,Roul2!H22:H26,0)+1,MATCH(K4&F20,Roul2!I21:AK21,0)+1))*G20)/6.55957","v":18.293882068489246},{"$f":"IF(F20=\"\",'Série 2'!$E$42,(VLOOKUP(F20,'Série 2'!$D$26:$E$42,2,0)))","v":1.5909090909090908},549.05483688163042,18.293882068489246,{"$f":"'Série 2'!$I$2","v":1},567.34871895011963,{"$f":"(LOOKUP(C20,Roul2!$G$45:$G$51,Roul2!$H$45:$H$51))*G20","v":28},28,45,1260,1,{"$f":"(('[35]TAMBOURS & ROULEAUX'!$R$21/U2)*G20)*1.136","v":2208.0474074074068},null,"cloth support roller type 1",60,"304L","",2208.0474074074068,"",567.34871895011963,"",28,"",1260]
["cloth support roller type 2",null,{"$f":"'Série 2'!B30","v":60},"#","o",{"$f":"'Série 2'!B31","v":"304L"},{"$f":"'Série 2'!B32","v":2},{"$f":"(IF(G21=0,0,(INDEX(Roul2!H15:AK20,MATCH(C21,Roul2!H16:H20,0)+1,MATCH(K4&F21,Roul2!I15:AK15,0)+1))*G21))/6.55957","v":86.280045795684785},{"$f":"(IF(G21=0,0,(INDEX(Roul2!H21:AK26,MATCH(C21,Roul2!H22:H26,0)+1,MATCH(K4&F21,Roul2!I21:AK21,0)+1))*G21))/6.55957","v":4.5734705171223116},{"$f":"IF(F21=\"\",'Série 2'!$E$42,(VLOOKUP(F21,'Série 2'!$D$26:$E$42,2,0)))","v":1.5909090909090908},137.26370922040761,4.5734705171223116,{"$f":"'Série 2'!$I$2","v":1},141.83717973752991,{"$f":"IF(G21=0,0,(LOOKUP(C21,Roul2!$G$45:$G$51,Roul2!$H$45:$H$51))*G21)","v":7},7,45,315,1,{"$f":"(('[35]TAMBOURS & ROULEAUX'!$R$21/U2)*G21)*1.136","v":552.0118518518517},null,"cloth support roller type 2",60,"304L","",552.0118518518517,"",141.83717973752991,"",7,"",315]
["cloth discharge end support roller",null,{"$f":"'Série 2'!B33","v":60},"#","o",{"$f":"'Série 2'!B34","v":"304L"},{"$f":"'Série 2'!B35","v":1},{"$f":"((INDEX(Roul2!H15:AK20,MATCH(C22,Roul2!H16:H20,0)+1,MATCH(K4&F22,Roul2!I15:AK15,0)+1))*G22)/6.55957","v":43.140022897842393},{"$f":"((INDEX(Roul2!H21:AK26,MATCH(C22,Roul2!H22:H26,0)+1,MATCH(K4&F22,Roul2!I21:AK21,0)+1))*G22)/6.55957","v":2.2867352585611558},{"$f":"IF(F22=\"\",'Série 2'!$E$42,(VLOOKUP(F22,'Série 2'!$D$26:$E$42,2,0)))","v":1.5909090909090908},68.631854610203803,2.2867352585611558,{"$f":"'Série 2'!$I$2","v":1},70.918589868764954,{"$f":"(LOOKUP(C22,Roul2!$G$45:$G$51,Roul2!$H$45:$H$51))*G22","v":3.5},3.5,45,157.5,1,{"$f":"(('[35]TAMBOURS & ROULEAUX'!$R$21/U2)*G22)*1.136","v":276.00592592592585},null,"cloth discharge end support roller",60,"304L","",276.00592592592585,"",70.918589868764954,"",3.5,"",157.5]
["cake discharge roller",null,{"$f":"'Série 2'!B36","v":60},"#","o",{"$f":"'Série 2'!B37","v":"304L"},{"$f":"'Série 2'!B38","v":1},{"$f":"((INDEX(Roul2!H15:AK20,MATCH(C23,Roul2!H16:H20,0)+1,MATCH(K4&F23,Roul2!I15:AK15,0)+1))*G23)/6.55957","v":43.140022897842393},{"$f":"(INDEX(Roul2!H40:AK42,MATCH(C23,Roul2!H41:H42,0)+1,MATCH(K4&F23,Roul2!M40:AK40,0)+5))*G23/6.55957","v":57.16838146402889},{"$f":"IF(F23=\"\",'Série 2'!$E$42,(VLOOKUP(F23,'Série 2'!$D$26:$E$42,2,0)))","v":1.5909090909090908},68.631854610203803,57.16838146402889,{"$f":"'Série 2'!$I$2","v":1},125.80023607423269,{"$f":"(LOOKUP(C23,Roul2!$G$45:$G$51,Roul2!$H$45:$H$51))*G23","v":3.5},3.5,45,157.5,1,{"$f":"(('[35]TAMBOURS & ROULEAUX'!$R$21/U2)*G23)*1.136","v":276.00592592592585},null,"cake discharge roller",60,"304L","",276.00592592592585,"",125.80023607423269,"",3.5,"",157.5]
["entrance / cloth form roller",null,{"$f":"'Série 2'!B42","v":219},"#","o",{"$f":"'Série 2'!B43","v":"304L"},{"$f":"'Série 2'!B44","v":1},{"$f":"((INDEX(Roul2!H27:AK30,MATCH(C24,Roul2!H28:H30,0)+1,MATCH(K4&F24,Roul2!I27:AK27,0)+1))*G24)/6.55957","v":219.14546227877742},{"$f":"((INDEX(Roul2!H31:AK34,MATCH(C24,Roul2!H32:H34,0)+1,MATCH(K4&F24,Roul2!I31:AK31,0)+1))*G24)/6.55957","v":2.2867352585611558},{"$f":"IF(F24=\"\",'Série 2'!$E$42,(VLOOKUP(F24,'Série 2'!$D$26:$E$42,2,0)))","v":1.5909090909090908},348.64050817078225,2.2867352585611558,{"$f":"'Série 2'!$I$2","v":1},350.92724342934343,{"$f":"(LOOKUP(C24,Roul2!$G$45:$G$51,Roul2!$H$45:$H$51))*G24","v":7},7,45,315,1,{"$f":"((1000/U2)*G24)*1.136","v":841.4814814814813},null,"entrance / cloth form roller",219,"304L","",841.4814814814813,"",350.92724342934343,"",7,"",315]
["roller bearing",null,null,null,0,null,{"$f":"'Série 2'!B45","v":30},null,{"$f":"((IF(K4<4000,G25*270,(G19*326+(G20+G21+G22+G23+#REF!)*270)*2)))/6.55957","v":1234.8370396230241},{"$f":"IF(F25=\"\",'Série 2'!$E$42,(VLOOKUP(F25,'Série 2'!$D$26:$E$42,2,0)))","v":1.3},0,1234.8370396230241,{"$f":"'Série 2'!$I$2","v":1},1234.8370396230241,{"$f":"G25*0.15","v":4.5},4.5,45,202.5,1,{"$f":"(N25+R25)*S25","v":1437.3370396230241},null,"roller bearing",0,0,"",1437.3370396230241,"",1234.8370396230241,"",4.5,"",202.5]
[null,null,null,null,0,null,null,null,null,{"$f":"IF(F26=\"\",'Série 2'!$E$42,(VLOOKUP(F26,'Série 2'!$D$26:$E$42,2,0)))","v":1.3},0,null,null,null,null,null,45,null,1,0,null,0,0,0,"",0,"",0,"",0,"",0]
["cloth guiding device",null,null,null,0,{"$f":"'Série 2'!B16","v":"304L"},1,{"$f":"IF(F27=\"E24\",0,(INDEX(Char2!A60:P64,MATCH(F27,Char2!A61:A64,0)+1,MATCH(K4,Char2!B60:P60,0)+1))/6.55957)","v":91.469410342446224},{"$f":"IF(F27=\"E24\",Char2!C65/6.56,Char2!C66/6.56)","v":736.28048780487813},{"$f":"IF(F27=\"\",'Série 2'!$E$42,(VLOOKUP(F27,'Série 2'!$D$26:$E$42,2,0)))","v":1.5909090909090908},145.51951645389173,736.28048780487813,{"$f":"'Série 2'!$I$2","v":1},881.80000425876983,{"$f":"IF(F27=\"E24\",0,Char2!C67)","v":40},40,45,1800,1,2681.8000042587701,null,"cloth guiding device",0,"304L","",2681.8000042587701,"",881.80000425876983,"",40,"",1800]
["cloth tensionning device",null,null,"#","o",{"$f":"'Série 2'!B16","v":"304L"},1,{"$f":"(INDEX(Char2!A68:G73,MATCH(F28,Char2!A69:A73,0)+1,MATCH(K4,Char2!B68:G68,0)+1))/6.55957","v":320.14293619856181},{"$f":"(HLOOKUP(K4,Char2!B68:P75,7,0))/6.55957","v":76.224508618705187},{"$f":"IF(F28=\"\",'Série 2'!$E$42,(VLOOKUP(F28,'Série 2'!$D$26:$E$42,2,0)))","v":1.5909090909090908},509.31830758862105,76.224508618705187,{"$f":"'Série 2'!$I$2","v":1},585.54281620732627,{"$f":"HLOOKUP(K4,Char2!B68:P75,8,0)","v":40},40,45,1800,1,2385.5428162073263,null,"cloth tensionning device",0,"304L","",2385.5428162073263,"",585.54281620732627,"",40,"",1800]
["vacuum box",null,{"$f":"'Série 2'!B46","v":110},null,null,{"$f":"'Série 2'!B47","v":"304L"},null,{"$f":"('B. à V.2'!B89)/6.55957","v":2212.2029340337858},{"$f":"(LOOKUP(K4,'B. à V.2'!A92:A93,'B. à V.2'!B92:B93))/6.55957","v":152.44901723741037},{"$f":"IF(F29=\"\",'Série 2'!$E$42,(VLOOKUP(F29,'Série 2'!$D$26:$E$42,2,0)))","v":1.5909090909090908},3519.4137586901138,152.44901723741037,{"$f":"'Série 2'!$I$2","v":1},{"$f":"(K29+L29)*M29","v":3671.8627759275241},{"$f":"'B. à V.2'!C89","v":139.35},139.35,60,{"$f":"P29*Q29","v":8361},1,{"$f":"((1600+1600+1600+2000)/U2)*1.136","v":5722.074074074073},null,"vacuum box",110,"304L",5722.074074074073,"",3671.8627759275241,"",139.35,"",8361,""]
["V.Box  support + dia + qty connection",null,{"$f":"'Série 2'!B49","v":65},null,null,{"$f":"'Série 2'!B48","v":"304L"},{"$f":"'Série 2'!B50","v":4},null,null,{"$f":"IF(F30=\"\",'Série 2'!$E$42,(VLOOKUP(F30,'Série 2'!$D$26:$E$42,2,0)))","v":1.5909090909090908},0,null,null,null,null,null,60,null,1,0,null,"V.Box  support + dia + qty connection",65,"304L",0,"",0,"",0,"",0,""]
["C & B wash device + discharge device",null,null,"#","o",{"$f":"'Série 2'!B52","v":"304L"},1,{"$f":"(INDEX(Lavage2!A5:F16,MATCH('Cost List2.xls'!K4,Lavage2!A6:A16,0)+1,MATCH('Cost List2.xls'!F31,Lavage2!B5:F5,0)+1))","v":762.24508618705192},{"$f":"(INDEX(Lavage2!A18:F29,MATCH('Cost List2.xls'!K4,Lavage2!A19:A29,0)+1,MATCH('Cost List2.xls'!F31,Lavage2!B18:F18,0)+1))","v":1509.2452706503627},{"$f":"IF(F31=\"\",'Série 2'!$E$42,(VLOOKUP(F31,'Série 2'!$D$26:$E$42,2,0)))","v":1.5909090909090908},1212.6626371157643,{"$f":"I31*$L$7","v":1509.2452706503627},{"$f":"'Série 2'!$I$2","v":1},2721.9079077661272,{"$f":"INDEX(Lavage2!A31:F42,MATCH('Cost List2.xls'!K4,Lavage2!A32:A42,0)+1,MATCH('Cost List2.xls'!F31,Lavage2!B31:F31,0)+1)","v":100},{"$f":"O31*M31*$P$7","v":100},45,4500,1,7221.9079077661272,null,"C & B wash device + discharge device",0,"304L","",7221.9079077661272,"",2721.9079077661272,"",100,"",4500]
["Form zone apron dam",null,{"$f":"'Série 2'!B54","v":"EPDM"},"#","à",{"$f":"'Série 2'!B53","v":"316L"},1,{"$f":"(INDEX('Acc. sup2'!A4:L11,MATCH('Cost List2.xls'!F32,'Acc. sup2'!A5:A11,0)+1,MATCH('Cost List2.xls'!K4,'Acc. sup2'!B4:L4,0)+1))/6.55957","v":19.056127154676297},{"$f":"(INDEX('Acc. sup2'!A4:L11,MATCH('Cost List2.xls'!C32,'Acc. sup2'!A5:A11,0)+1,MATCH('Cost List2.xls'!K4,'Acc. sup2'!B4:L4,0)+1))/6.55957","v":30.870925990575603},{"$f":"IF(F32=\"\",'Série 2'!$E$42,(VLOOKUP(F32,'Série 2'!$D$26:$E$42,2,0)))","v":2.0689655172413794},39.42646997519234,30.870925990575603,{"$f":"'Série 2'!$I$2","v":1},70.297395965767947,{"$f":"HLOOKUP(K4,'Acc. sup2'!A4:L12,9,0)","v":4},4,45,180,1,250.29739596576795,null,"Form zone apron dam","EPDM","316L","",250.29739596576795,"",70.297395965767947,"",4,"",180]
["cake wash feeder",null,{"$f":"'Série 2'!B55","v":"OVER"},"#","o",{"$f":"'Série 2'!B56","v":"304L"},{"$f":"'Série 2'!B57","v":3},{"$f":"(INDEX('Acc. sup2'!A15:G22,MATCH('Cost List2.xls'!F33,'Acc. sup2'!A15:A22,0),MATCH('Cost List2.xls'!K4,'Acc. sup2'!B15:G15,0)+1))/6.55957","v":27.898170154446099},{"$f":"HLOOKUP(K4,'Acc. sup2'!B15:G22,7,0)/6.56","v":6.7073170731707323},{"$f":"IF(F33=\"\",'Série 2'!$E$42,(VLOOKUP(F33,'Série 2'!$D$26:$E$42,2,0)))","v":1.5909090909090908},{"$f":"H33*J33*G33","v":133.15035755531093},{"$f":"I33*$L$7*G33","v":20.121951219512198},{"$f":"'Série 2'!$I$2","v":1},153.27230877482313,{"$f":"(IF(F33=\"PPH\",0,15))*G33","v":45},{"$f":"O33*M33*$P$7*G33","v":135},45,6075,1,{"$f":"(650*1.136)*G33","v":2215.1999999999998},null,"cake wash feeder","OVER","304L","",2215.1999999999998,"",153.27230877482313,"",135,"",6075]
["cake wash feeder  carriages",null,{"$f":"'Série 2'!B58","v":"PATI"},"#","o",{"$f":"'Série 2'!B59","v":"316L"},{"$f":"'Série 2'!B60","v":3},{"$f":"(INDEX('Acc. sup2'!A25:G29,MATCH('Cost List2.xls'!F34,'Acc. sup2'!A25:A29,0),MATCH('Cost List2.xls'!K4,'Acc. sup2'!B25:G25,0)+1))/6.55957","v":19.056127154676297},null,{"$f":"IF(F34=\"\",'Série 2'!$E$42,(VLOOKUP(F34,'Série 2'!$D$26:$E$42,2,0)))","v":2.0689655172413794},{"$f":"H34*J34*G34","v":118.27940992557703},{"$f":"I34*$L$7*G34","v":0},{"$f":"'Série 2'!$I$2","v":1},118.27940992557703,{"$f":"HLOOKUP(K4,'Acc. sup2'!B25:G32,8,0)*G34","v":12},{"$f":"O34*M34*$P$7*G34","v":36},45,1620,1,1738.2794099255771,null,"cake wash feeder  carriages","PATI","316L","",1738.2794099255771,"",118.27940992557703,"",36,"",1620]
["wash zone pendulum apron dam",null,{"$f":"'Série 2'!B62","v":"EPDM"},"#","o",{"$f":"'Série 2'!B61","v":"316L"},{"$f":"'Série 2'!B63","v":4},{"$f":"H32","v":19.056127154676297},{"$f":"I32*1.2","v":37.045111188690726},{"$f":"IF(F35=\"\",'Série 2'!$E$42,(VLOOKUP(F35,'Série 2'!$D$26:$E$42,2,0)))","v":2.0689655172413794},{"$f":"H35*J35*G35","v":157.70587990076936},{"$f":"I35*$L$7*G35","v":148.1804447547629},{"$f":"'Série 2'!$I$2","v":1},305.88632465553223,{"$f":"O32*G35","v":16},{"$f":"O35*M35*$P$7*G35","v":64},45,2880,1,3185.886324655532,null,"wash zone pendulum apron dam","EPDM","316L","",3185.886324655532,"",305.88632465553223,"",64,"",2880]
["pulp feeder",null,{"$f":"'Série 2'!B64","v":"QDC"},"#","o",{"$f":"'Série 2'!B65","v":"304L"},{"$f":"'Série 2'!B66","v":1},{"$f":"(IF(F36=\"POLYPROPYLENE\",0,(INDEX('Acc. sup2'!A35:G39,MATCH('Cost List2.xls'!F36,'Acc. sup2'!A35:A39,0),MATCH('Cost List2.xls'!K4,'Acc. sup2'!B35:G35,0)+1)))/6.55957)","v":125.77043922086357},{"$f":"(IF(F36=\"PPH\",((HLOOKUP(K4,'Acc. sup2'!B35:G40,6,0))+'Acc. sup2'!B41),'Acc. sup2'!B41))/6.55957","v":25.001638826935302},{"$f":"IF(F36=\"\",'Série 2'!$E$42,(VLOOKUP(F36,'Série 2'!$D$26:$E$42,2,0)))","v":1.5909090909090908},{"$f":"H36*J36*G36","v":200.08933512410113},25.001638826935302,{"$f":"'Série 2'!$I$2","v":1},{"$f":"(K36+L36)*M36","v":225.09097395103643},{"$f":"(IF(F36=\"PPH\",0,25))*G36","v":25},25,45,1125,1,1350.0909739510364,null,"pulp feeder","QDC","304L","",1350.0909739510364,"",225.09097395103643,"",25,"",1125]
["feeder carriage",null,{"$f":"'Série 2'!B58","v":"PATI"},"#","o",{"$f":"'Série 2'!B59","v":"316L"},{"$f":"'Série 2'!B66","v":1},{"$f":"(INDEX('Acc. sup2'!A45:G49,MATCH('Cost List2.xls'!F37,'Acc. sup2'!A46:A49,0)+1,MATCH('Cost List2.xls'!K4,'Acc. sup2'!B45:G45,0)+1))/6.55957","v":86.59104179084909},{"$f":"HLOOKUP(K4,'Acc. sup2'!B45:G51,6,0)/6.55957","v":25.001638826935302},{"$f":"IF(F37=\"\",'Série 2'!$E$42,(VLOOKUP(F37,'Série 2'!$D$26:$E$42,2,0)))","v":2.0689655172413794},{"$f":"H37*J37*G37","v":179.153879567274},{"$f":"I37*$L$7","v":25.001638826935302},{"$f":"'Série 2'!$I$2","v":1},{"$f":"(K37+L37)*M37","v":204.15551839420931},{"$f":"HLOOKUP(K4,'Acc. sup2'!B45:G51,7,0)*G37","v":5},{"$f":"O37*M37*$P$7","v":5},45,{"$f":"P37*Q37","v":225},1,429.15551839420931,null,"feeder carriage","PATI","316L","",429.15551839420931,"",204.15551839420931,"",5,"",225]
["pneumatic cabinet + pneumatic acc.",null,{"$f":"'Série 2'!B67","v":"STD"},"#","o",null,1,null,{"$f":"(Access2!C3)/6.55957","v":914.69410342446224},{"$f":"IF(F38=\"\",'Série 2'!$E$42,(VLOOKUP(F38,'Série 2'!$D$26:$E$42,2,0)))","v":1.3},0,914.69410342446224,{"$f":"'Série 2'!$I$2","v":1},914.69410342446224,{"$f":"Access2!D3","v":10},10,45,450,1,1364.6941034244624,null,"pneumatic cabinet + pneumatic acc.","STD",0,"",1364.6941034244624,"",914.69410342446224,"",10,"",450]
["junction box + electrical set of equip.",null,{"$f":"'Série 2'!B68","v":"STD"},"#","o",null,1,{"$f":"HLOOKUP(C39,Access2!C5:D8,2)","v":300},{"$f":"HLOOKUP(C39,Access2!C5:D8,3)","v":2500},{"$f":"IF(F39=\"\",'Série 2'!$E$42,(VLOOKUP(F39,'Série 2'!$D$26:$E$42,2,0)))","v":1.3},390,2500,{"$f":"'Série 2'!$I$2","v":1},2890,{"$f":"HLOOKUP(C39,Access2!C5:D8,4)","v":40},40,45,1800,1,4690,null,"junction box + electrical set of equip.","STD",0,"",4690,"",2890,"",40,"",1800]
["bolting",null,null,"#","o",{"$f":"'Série 2'!B69","v":316},1,null,{"$f":"VLOOKUP(F40,Access2!C10:D12,2)","v":2500},{"$f":"IF(F40=\"\",'Série 2'!$E$42,(VLOOKUP(F40,'Série 2'!$D$26:$E$42,2,0)))","v":2.0689655172413794},0,2500,{"$f":"'Série 2'!$I$2","v":1},2500,null,0,45,0,1,2500,null,"bolting",0,316,"",2500,"",2500,"",0,"",0]
["pneumetic bellow",null,{"$f":"IF('Série 2'!B70>1,\"12x2\",\"10x2\")","v":"10x2"},null,0,null,{"$f":"IF(C41=\"10x2\",'Série 2'!B71,'Série 2'!B70)","v":0},{"$f":"((HLOOKUP(C41,Access2!C16:F18,2,0))*G41)/6.55957","v":0},{"$f":"((HLOOKUP(C41,Access2!C16:F18,3,0))*G41)/6.55957","v":0},{"$f":"IF(F41=\"\",'Série 2'!$E$42,(VLOOKUP(F41,'Série 2'!$D$26:$E$42,2,0)))","v":1.3},0,0,{"$f":"'Série 2'!$I$2","v":1},0,null,0,45,0,1,0,null,"pneumetic bellow","10x2",0,"",0,"",0,"",0,"",0]
["pneumetic bellow",null,{"$f":"IF('Série 2'!B73>1,\"8x2\",\"6x2\")","v":"6x2"},null,0,null,{"$f":"IF(C42=\"8x2\",'Série 2'!B73,'Série 2'!B74)","v":5},{"$f":"((HLOOKUP(C42,Access2!C16:F18,2,0))*G42)/6.55957","v":449.72460085036062},{"$f":"((HLOOKUP(C42,Access2!C16:F18,3,0))*G42)/6.55957","v":346.05926912892158},{"$f":"IF(F42=\"\",'Série 2'!$E$42,(VLOOKUP(F42,'Série 2'!$D$26:$E$42,2,0)))","v":1.3},584.64198110546886,346.05926912892158,{"$f":"'Série 2'!$I$2","v":1},930.7012502343905,null,0,45,0,1,930.7012502343905,null,"pneumetic bellow","6x2",0,"",930.7012502343905,"",930.7012502343905,"",0,"",0]
["pneumetic bellow",null,"8X3",null,0,null,{"$f":"'Série 2'!B72","v":0},{"$f":"Access2!G17*'Cost List2.xls'!G43/6.55957","v":0},{"$f":"Access2!G18*'Cost List2.xls'!G43/6.55957","v":0},{"$f":"IF(F43=\"\",'Série 2'!$E$42,(VLOOKUP(F43,'Série 2'!$D$26:$E$42,2,0)))","v":1.3},0,{"$f":"I43*$L$7","v":0},{"$f":"'Série 2'!$I$2","v":1},{"$f":"(K43+L43)*M43","v":0},null,{"$f":"O43*M43*$P$7","v":0},45,{"$f":"P43*Q43","v":0},1,0,null,"pneumetic bellow","8X3",0,"",0,"",0,"",0,"",0]
["oil and grease",null,null,"#","o",null,1,null,100,{"$f":"IF(F44=\"\",'Série 2'!$E$42,(VLOOKUP(F44,'Série 2'!$D$26:$E$42,2,0)))","v":1.3},0,100,{"$f":"'Série 2'!$I$2","v":1},100,null,0,45,0,1,100,null,"oil and grease",0,0,"",100,"",100,"",0,"",0]
["Cartouche perma",null,null,"#","o",null,1,null,{"$f":"(G25+4)*32","v":1088},{"$f":"IF(F45=\"\",'Série 2'!$E$42,(VLOOKUP(F45,'Série 2'!$D$26:$E$42,2,0)))","v":1.3},{"$f":"H45*J45","v":0},{"$f":"I45*$L$7","v":1088},{"$f":"'Série 2'!$I$2","v":1},{"$f":"(K45+L45)*M45","v":1088},null,{"$f":"O45*M45*$P$7","v":0},45,{"$f":"P45*Q45","v":0},{"$f":"IF(E45=\"\",$O$3,$P$3)","v":1},{"$f":"(N45+R45)*S45","v":1088},null,{"$f":"A45","v":"Cartouche perma"},{"$f":"C45","v":0},{"$f":"F45","v":0},{"$f":"IF(E45=\"\",T45,\"\")","v":""},{"$f":"IF(E45=\"\",\"\",T45)","v":1088},{"$f":"IF($E45=\"\",N45,\"\")","v":""},{"$f":"IF($E45=\"\",\"\",N45)","v":1088},{"$f":"IF($E45=\"\",P45,\"\")","v":""},{"$f":"IF($E45=\"\",\"\",P45)","v":0},{"$f":"IF($E45=\"\",R45,\"\")","v":""},{"$f":"IF($E45=\"\",\"\",R45)","v":0}]
["protection + painting french part",null,{"$f":"HLOOKUP(F46,Char2!B96:F98,2,0)","v":100},null,0,{"$f":"'Série 2'!B16","v":"304L"},1,null,{"$f":"C46*0.2","v":20},{"$f":"IF(F46=\"\",'Série 2'!$E$42,(VLOOKUP(F46,'Série 2'!$D$26:$E$42,2,0)))","v":1.5909090909090908},0,20,{"$f":"'Série 2'!$I$2","v":1},20,{"$f":"C47*0.2","v":8},8,45,360,1,380,null,"protection + painting french part",100,"304L","",380,"",20,"",8,"",360]
["protection + painting local part",null,{"$f":"HLOOKUP(F46,Char2!B96:F98,3,0)","v":40},"#","o",null,null,null,{"$f":"C46*0.8","v":80},{"$f":"IF(F47=\"\",'Série 2'!$E$42,(VLOOKUP(F47,'Série 2'!$D$26:$E$42,2,0)))","v":1.3},0,{"$f":"I47*$L$7","v":80},{"$f":"'Série 2'!$I$2","v":1},{"$f":"(K47+L47)*M47","v":80},{"$f":"C47*0.8","v":32},{"$f":"O47*M47*$P$7","v":32},45,{"$f":"P47*Q47","v":1440},1,1520,null,"protection + painting local part",40,0,"",1520,"",80,"",32,"",1440]
["reducer torque arm",null,null,"#","o",{"$f":"'Série 2'!B16","v":"304L"},1,{"$f":"(INDEX(Char2!A77:G84,MATCH(F48,Char2!A78:A82,0)+1,MATCH(K4,Char2!B77:G77,0)+1))/6.55957","v":38.874499395539644},{"$f":"(HLOOKUP(K4,Char2!B77:P84,7,0))/6.55957","v":30.489803447482075},{"$f":"IF(F48=\"\",'Série 2'!$E$42,(VLOOKUP(F48,'Série 2'!$D$26:$E$42,2,0)))","v":1.5909090909090908},61.845794492903977,30.489803447482075,{"$f":"'Série 2'!$I$2","v":1},92.335597940386052,{"$f":"HLOOKUP(K4,Char2!B77:P84,8,0)","v":10},10,45,450,1,542.33559794038604,null,"reducer torque arm",0,"304L","",542.33559794038604,"",92.335597940386052,"",10,"",450]
["planetary reducer \"BREVINI\"",null,{"$f":"'Série 2'!B78","v":2319.9441837187496},null,0,null,1,null,{"$f":"'Gr de Cde2'!C9","v":1386},{"$f":"IF(F49=\"\",'Série 2'!$E$42,(VLOOKUP(F49,'Série 2'!$D$26:$E$42,2,0)))","v":1.3},0,1386,{"$f":"'Série 2'!$I$2","v":1},1386,null,0,45,0,1,{"$f":"(N49+R49)*S49*2","v":2772},null,"planetary reducer \"BREVINI\"",2319.9441837187496,0,"",2772,"",1386,"",0,"",0]
["Motor",null,{"$f":"'Gr de Cde2'!E26","v":0.37},"#","o",null,1,null,{"$f":"('Gr de Cde2'!H26)","v":168},{"$f":"IF(F50=\"\",'Série 2'!$E$42,(VLOOKUP(F50,'Série 2'!$D$26:$E$42,2,0)))","v":1.3},0,168,{"$f":"'Série 2'!$I$2","v":1},168,null,0,45,0,1,{"$f":"(((N50+R50)*S50)+200)*1.15","v":423.2},null,"Motor",0.37,0,"",423.2,"",168,"",0,"",0]
["frequency variator",null,{"$f":"C50","v":0.37},"#","o",null,1,null,{"$f":"(G51*'Gr de Cde2'!H30)","v":321},{"$f":"IF(F51=\"\",'Série 2'!$E$42,(VLOOKUP(F51,'Série 2'!$D$26:$E$42,2,0)))","v":1.3},0,321,{"$f":"'Série 2'!$I$2","v":1},321,null,0,45,0,1,321,null,"frequency variator",0.37,0,"",321,"",321,"",0,"",0]
["filtering cloth",null,null,null,0,null,1,null,{"$f":"(Toile2!C10)/6.55957","v":392.70866840356916},{"$f":"IF(F52=\"\",'Série 2'!$E$42,(VLOOKUP(F52,'Série 2'!$D$26:$E$42,2,0)))","v":1.3},0,392.70866840356916,{"$f":"'Série 2'!$I$2","v":1},392.70866840356916,null,0,45,0,1,392.70866840356916,null,"filtering cloth",0,0,"",392.70866840356916,"",392.70866840356916,"",0,"",0]
["labelling + shiping preparation France",null,null,null,null,null,1,null,null,{"$f":"IF(F53=\"\",'Série 2'!$E$42,(VLOOKUP(F53,'Série 2'!$D$26:$E$42,2,0)))","v":1.3},0,{"$f":"I53*$L$7","v":0},{"$f":"'Série 2'!$I$2","v":1},{"$f":"(K53+L53)*M53","v":0},{"$f":"IF(E57=63,\"\",Char2!B110)","v":50},{"$f":"IF(E57=63,0,Char2!B110)","v":50},{"$f":"IF($E53=\"\",$Q$3,$R$3)","v":60},{"$f":"P53*Q53","v":3000},1,3000,null,"labelling + shiping preparation France",0,0,3000,"",0,"",50,"",3000,""]
[{"$f":"Char2!A109","v":"full erection in factory + reinforcement"},null,null,"#",{"$f":"F54","v":"MONT"},{"$f":"'Série 2'!B83","v":"MONT"},1,{"$f":"IF(F54=\"MONT\",'Série 2'!E96,0)","v":819.94880000000012},null,{"$f":"IF(F54=\"\",'Série 2'!$E$42,(VLOOKUP(F54,'Série 2'!$D$26:$E$42,2,0)))","v":1.3},1065.9334400000002,{"$f":"I54*$L$7","v":0},{"$f":"'Série 2'!$I$2","v":1},1065.9334400000002,{"$f":"((18*2*8)+385)/2","v":336.5},336.5,50,16825,1,{"$f":"((N54+R54)*S54+IF(F54=\"MONT\",AA107,0))+2500","v":23019.504868571428},null,"full erection in factory + reinforcement",0,"MONT","",{"$f":"IF(E54=\"PRE\",\"\",T54)","v":23019.504868571428},"",1065.9334400000002,"",336.5,"",16825]
[{"$f":"IF((IF(E54<>\"\",1,0))+(IF(F54=\"MONT\",1,0))=2,\"ADD cost of supervisor\",\"N/A\")","v":"ADD cost of supervisor"},null,null,null,"o",null,null,null,null,{"$f":"IF(F55=\"\",'Série 2'!$E$42,(VLOOKUP(F55,'Série 2'!$D$26:$E$42,2,0)))","v":1.3},0,{"$f":"G55*I55*$L$7","v":0},{"$f":"'Série 2'!$I$2","v":1},0,null,{"$f":"O55*M55","v":0},45,{"$f":"P55*Q55","v":0},1,{"$f":"(N55+R55)*S55","v":0},null,"ADD cost of supervisor",0,0,"",0,"",0,"",0,"",0]
["Sourcing shipping up to erection site",null,null,null,0,{"$f":"'Série 2'!B83","v":"MONT"},1,null,{"$f":"IF(F56=\"MONT\",T57*5/100,0)","v":4307.4957043089889},1,{"$f":"H56*J56","v":0},{"$f":"G56*I56*$L$7","v":4307.4957043089889},{"$f":"'Série 2'!$I$2","v":1},{"$f":"(K56+L56)*M56","v":4307.4957043089889},null,{"$f":"O56*M56","v":0},45,{"$f":"P56*Q56","v":0},{"$f":"IF(E56=\"\",$O$3,$P$3)","v":1},{"$f":"(N56+R56)*S56","v":4307.4957043089889},null,"Sourcing shipping up to erection site",0,"MONT","",4307.4957043089889,"",4307.4957043089889,"",0,"",0]
["TOTAL LOCAL PART",null,null,"#",{"$f":"COUNTBLANK(E11:F55)","v":27},null,null,null,null,null,{"$f":"H57*$K$7","v":0},{"$f":"I57*$L$7","v":0},null,{"$f":"AB57","v":35496.441833026562},null,{"$f":"AD57","v":1290.5999999999999},null,{"$f":"AF57","v":59759.5},null,{"$f":"SUM(Z8:Z55)","v":86149.914086179779},{"$f":"T57+T56","v":90457.409790488775},"TOTAL LOCAL PART",null,null,null,{"$f":"SUM(Z8:Z56)","v":90457.409790488775},null,{"$f":"SUM(AB8:AB56)","v":35496.441833026562},null,{"$f":"SUM(AD8:AD56)","v":1290.5999999999999},null,{"$f":"SUM(AF8:AF56)","v":59759.5}]
["TOTAL FRENCH PART",null,null,null,null,null,null,null,null,null,{"$f":"H58*$K$7","v":0},{"$f":"I58*$L$7","v":0},null,{"$f":"AA58","v":26110.275195948961},null,{"$f":"AC58","v":303.33},null,{"$f":"AE58","v":16919.8},null,{"$f":"SUM(Y8:Y55)","v":31864.856614749759},{"$f":"T58+SUM(U8:U10)","v":31864.856614749759},"TOTAL FRENCH PART",null,null,{"$f":"SUM(Y8:Y55)","v":31864.856614749759},null,{"$f":"SUM(AA8:AA55)","v":26110.275195948961},null,{"$f":"SUM(AC8:AC55)","v":303.33},null,{"$f":"SUM(AE8:AE55)","v":16919.8}]
["TOTAL :",null,null,null,null,null,null,{"$f":"SUM(H8:H56)","v":9348.3174278216411},{"$f":"SUM(I8:I56)","v":50187.244740182352},null,{"$f":"SUM(K8:K56)","v":14694.922321080749},{"$f":"SUM(L8:L56)","v":50311.794707894762},null,{"$f":"SUM(N8:N56)","v":61606.717028975538},null,{"$f":"SUM(P8:P56)","v":1593.93},null,{"$f":"SUM(R8:R56)","v":76679.3},null,{"$f":"SUM(T7:T55)","v":118014.77070092956},{"$f":"U57+U58","v":122322.26640523854},"TOTAL :",null,null,{"$f":"T59-T57","v":31864.856614749777},{"$f":"T59-T58","v":86149.914086179793}]
[{"$f":"A3","v":"N° DU DEVIS :"},{"$f":"B3","v":"726789-rev4"},{"$f":"C3","v":"- 2B5"},null,null,{"$f":"F3","v":"Client"},null,{"$f":"H3","v":"CARESTER"},null,null,null,null,null,null,null,null,null,null,{"$f":"S3","v":"Rev."},{"$f":"T3","v":0},null,{"$f":"T57+T58","v":118014.77070092954}]
["Ph. LE BIGOT => ",{"$f":"B4","v":"T. DUBRULLE"},null,"local basic","For ",{"$f":"F4","v":"Surface :"},null,2,"Largeur",null,500,"Spécifications",null,"304L+304L+EPDM+T70+3G+0,37KW+1VF",null,null,null,null,null,"2005-08-11",null,null,null,null,"French","Local","French","Local","French","Local","French","Local"]
[null,null,null,null,"local",null,null,"Material","Buyout","Corrective","Updated","Buyout",null,"Total (1) Material + buyout","Labour","Labour",null,"Total (2)",null,"Final cost without Engineering","Final cost including engineering",null,"data",null,"incl 1,149","incl. 1,149","Total (1) Material + buyout","Total (1) Material + buyout","Labour","Labour","Total (2)","Total (2)"]
["Désignation",null,"Spéc",null,"fill the ","Mat","Qty","Unit cost","Unit cost","factor","material",null,"Qty",null,"Unit","Total","Taux","Labour","Marg",null,null,"Désignation","Spéc",{"$f":"F63","v":"Mat"},"France","Local",null,null,"Total","Total","labour","labour"]
[null,null,null,null,"cell","spec",null,null,null,null,1,1,null,null,null,1,null,null,null,null,null,null,"Dia.",null,null,null,null,null,"hours","hours","cost","cost"]
["Specific accessories / options to be add if required"]
["Cloth and belt flow meter",null,"Option",null,null,"ABB",0,null,null,null,{"$f":"H66*$K$64*G66","v":0},{"$f":"I66*$L$64*G66","v":0},{"$f":"'Série 2'!$I$2","v":1},{"$f":"(K66+L66)*M66","v":0},null,{"$f":"O66*M66*$P$7*G66","v":0},{"$f":"IF($E53=\"\",$Q$3,$R$3)","v":60},{"$f":"P66*Q66","v":0},{"$f":"IF(E66=\"\",$O$3,$P$3)","v":1},{"$f":"G66*(N66+R66)*S66","v":0},null,{"$f":"A66","v":"Cloth and belt flow meter"},{"$f":"C66","v":"Option"},{"$f":"F66","v":"ABB"},{"$f":"IF(E66=\"\",T66,\"\")","v":0},{"$f":"IF(E66=\"\",\"\",T66)","v":""},{"$f":"IF($E66=\"\",N66,\"\")","v":0},{"$f":"IF($E66=\"\",\"\",N66)","v":""},{"$f":"IF($E66=\"\",P66,\"\")","v":0},{"$f":"IF($E66=\"\",\"\",P66)","v":""},{"$f":"IF($E66=\"\",R66,\"\")","v":0},{"$f":"IF($E66=\"\",\"\",R66)","v":""}]
["Cake wash flowmeter",null,"Option",null,null,"ABB",0,null,null,null,{"$f":"H67*$K$64*G67","v":0},{"$f":"I67*$L$64*G67","v":0},{"$f":"'Série 2'!$I$2","v":1},0,null,{"$f":"O67*M67*$P$7*G67","v":0},{"$f":"IF($E53=\"\",$Q$3,$R$3)","v":60},0,1,{"$f":"G67*(N67+R67)*S67","v":0},null,"Cake wash flowmeter","Option",{"$f":"F67","v":"ABB"},{"$f":"T67","v":0},null,{"$f":"N67","v":0},null,{"$f":"P67","v":0},null,{"$f":"R67","v":0}]
["Cloth run off",null,"Option",null,null,null,0,null,null,null,{"$f":"H68*$K$64*G68","v":0},{"$f":"I68*$L$64*G68","v":0},{"$f":"'Série 2'!$I$2","v":1},{"$f":"(K68+L68)*M68","v":0},10,{"$f":"O68*M68*$P$7*G68","v":0},{"$f":"IF($E53=\"\",$Q$3,$R$3)","v":60},{"$f":"P68*Q68","v":0},{"$f":"IF(E68=\"\",$O$3,$P$3)","v":1},{"$f":"G68*(N68+R68)*S68","v":0},null,{"$f":"A68","v":"Cloth run off"},"Option",0,{"$f":"IF(E68=\"\",T68,\"\")","v":0},{"$f":"IF(E68=\"\",\"\",T68)","v":""},{"$f":"IF($E68=\"\",N68,\"\")","v":0},{"$f":"IF($E68=\"\",\"\",N68)","v":""},{"$f":"IF($E68=\"\",P68,\"\")","v":0},{"$f":"IF($E68=\"\",\"\",P68)","v":""},{"$f":"IF($E68=\"\",R68,\"\")","v":0},{"$f":"IF($E68=\"\",\"\",R68)","v":""}]
["Overtorque",null,"Option",null,null,null,0,null,null,null,0,0,{"$f":"'Série 2'!$I$2","v":1},0,10,0,{"$f":"IF($E53=\"\",$Q$3,$R$3)","v":60},0,1,0,null,"Overtorque","Option",0,{"$f":"IF(E69=\"\",T69,\"\")","v":0},{"$f":"IF(E69=\"\",\"\",T69)","v":""},{"$f":"IF($E69=\"\",N69,\"\")","v":0},{"$f":"IF($E69=\"\",\"\",N69)","v":""},{"$f":"IF($E69=\"\",P69,\"\")","v":0},{"$f":"IF($E69=\"\",\"\",P69)","v":""},{"$f":"IF($E69=\"\",R69,\"\")","v":0},{"$f":"IF($E69=\"\",\"\",R69)","v":""}]
["skirting above curb (Per meter)",null,"Option",null,null,"PPH",0,25,10,null,0,0,{"$f":"'Série 2'!$B$21*'Série 2'!$I$2","v":0},{"$f":"G70*(K70+L70)*M70","v":0},7,0,{"$f":"IF($E53=\"\",$Q$3,$R$3)","v":60},0,1,0,null,"skirting above curb (Per meter)","Option","PPH",{"$f":"T70","v":0},null,{"$f":"N70","v":0},null,{"$f":"P70","v":0},null,{"$f":"R70","v":0}]
["water injection into the vacuum box",null,"Option",null,null,null,0,null,null,null,0,0,{"$f":"'Série 2'!$I$2","v":1},0,0,0,{"$f":"IF($E53=\"\",$Q$3,$R$3)","v":60},0,1,0,null,"water injection into the vacuum box","Option",0,{"$f":"IF(E71=\"\",T71,\"\")","v":0},{"$f":"IF(E71=\"\",\"\",T71)","v":""},{"$f":"IF($E71=\"\",N71,\"\")","v":0},{"$f":"IF($E71=\"\",\"\",N71)","v":""},{"$f":"IF($E71=\"\",P71,\"\")","v":0},{"$f":"IF($E71=\"\",\"\",P71)","v":""},{"$f":"IF($E71=\"\",R71,\"\")","v":0},{"$f":"IF($E71=\"\",\"\",R71)","v":""}]
["Double jacket vacuum box",null,"Option",null,null,null,0,null,null,null,0,0,{"$f":"'Série 2'!$I$2","v":1},0,0,0,{"$f":"IF($E53=\"\",$Q$3,$R$3)","v":60},0,1,0,null,"Double jacket vacuum box","Option",0,0,"",0,"",0,"",0,""]
["Vacuum box side hatch",null,"Option",null,null,null,0,null,null,null,{"$f":"H73*$K$64*G73","v":0},{"$f":"I73*$L$64*G73","v":0},{"$f":"'Série 2'!$I$2","v":1},{"$f":"(K73+L73)*M73","v":0},0,{"$f":"O73*M73*$P$7*G73","v":0},{"$f":"IF($E53=\"\",$Q$3,$R$3)","v":60},{"$f":"P73*Q73","v":0},{"$f":"IF(E73=\"\",$O$3,$P$3)","v":1},{"$f":"G73*(N73+R73)*S73","v":0},null,{"$f":"A73","v":"Vacuum box side hatch"},"Option",0,{"$f":"IF(E73=\"\",T73,\"\")","v":0},{"$f":"IF(E73=\"\",\"\",T73)","v":""},{"$f":"IF($E73=\"\",N73,\"\")","v":0},{"$f":"IF($E73=\"\",\"\",N73)","v":""},{"$f":"IF($E73=\"\",P73,\"\")","v":0},{"$f":"IF($E73=\"\",\"\",P73)","v":""},{"$f":"IF($E73=\"\",R73,\"\")","v":0},{"$f":"IF($E73=\"\",\"\",R73)","v":""}]
["Option straight filtrate pipes \"Ucego\"",null,"Option",null,null,null,0,null,null,null,0,0,{"$f":"'Série 2'!$I$2","v":1},0,0,0,{"$f":"IF($E53=\"\",$Q$3,$R$3)","v":60},0,1,0,null,"Option straight filtrate pipes \"Ucego\"","Option",0,0,"",0,"",0,"",0,""]
["Side gutter cost per step of frame",null,"Option",null,null,"304L",0,null,null,null,0,0,{"$f":"'Série 2'!$I$2","v":1},0,10,0,{"$f":"IF($E53=\"\",$Q$3,$R$3)","v":60},0,1,0,null,"Side gutter cost per step of frame","Option","304L",0,"",0,"",0,"",0,""]
["Stainless steel shaft lining",null,"Option",null,null,null,0,null,null,null,0,0,{"$f":"'Série 2'!$I$2","v":1},0,2,0,{"$f":"IF($E53=\"\",$Q$3,$R$3)","v":60},0,1,0,null,"Stainless steel shaft lining","Option",0,0,"",0,"",0,"",0,""]
["Pneumatic tubing made of SS",null,"Option",null,null,null,0,null,null,null,0,0,{"$f":"'Série 2'!$I$2","v":1},0,3,0,{"$f":"IF($E53=\"\",$Q$3,$R$3)","v":60},0,1,{"$f":"G77*(N77+R77)*S77","v":0},null,"Pneumatic tubing made of SS","Option",0,0,"",0,"",0,"",0,""]
["Ultrasonic control cake thickeness",null,"Option",null,null,null,0,null,null,null,0,0,{"$f":"'Série 2'!$I$2","v":1},0,5,0,{"$f":"IF($E53=\"\",$Q$3,$R$3)","v":60},{"$f":"P78*Q78","v":0},1,{"$f":"G78*(N78+R78)*S78","v":0},null,"Ultrasonic control cake thickeness","Option",0,0,"",0,"",0,"",0,""]
["Wear belt breaking sensor",null,"Option",null,null,null,0,null,null,null,0,0,{"$f":"'Série 2'!$I$2","v":1},0,3,0,{"$f":"IF($E53=\"\",$Q$3,$R$3)","v":60},{"$f":"P79*Q79","v":0},1,{"$f":"G79*(N79+R79)*S79","v":0},null,"Wear belt breaking sensor","Option",0,0,"",0,"",0,"",0,""]
["Guiding roller (angular)",null,"Option",null,null,null,0,null,null,null,{"$f":"H80*$K$64*G80","v":0},{"$f":"I80*$L$64*G80","v":0},{"$f":"'Série 2'!$I$2","v":1},0,0,{"$f":"O80*M80*$P$7*G80","v":0},{"$f":"IF($E53=\"\",$Q$3,$R$3)","v":60},{"$f":"P80*Q80","v":0},{"$f":"IF(E80=\"\",$O$3,$P$3)","v":1},{"$f":"G80*(N80+R80)*S80","v":0},null,"Guiding roller (angular)","Option",0,0,"",0,"",0,"",0,""]
["Additional cost for \"roller belt support",null,"Option",null,null,null,0,null,null,null,0,0,{"$f":"'Série 2'!$I$2","v":1},0,0,0,{"$f":"IF($E53=\"\",$Q$3,$R$3)","v":60},0,1,0,null,"Additional cost for \"roller belt support","Option",0,0,"",0,"",0,"",0,""]
["Pulley wash ramp",null,"Option",null,null,null,0,null,null,null,{"$f":"H82*$K$64*G82","v":0},{"$f":"I82*$L$64*G82","v":0},{"$f":"'Série 2'!$I$2","v":1},0,3,{"$f":"O82*M82*$P$7*G82","v":0},{"$f":"IF($E53=\"\",$Q$3,$R$3)","v":60},{"$f":"P82*Q82","v":0},{"$f":"IF(E82=\"\",$O$3,$P$3)","v":1},{"$f":"G82*(N82+R82)*S82","v":0},null,"Pulley wash ramp","Option",0,0,"",0,"",0,"",0,""]
["Flocculator including divider",null,"Option",null,null,null,0,null,null,null,{"$f":"H83*$K$64*G83","v":0},{"$f":"I83*$L$64*G83","v":0},{"$f":"'Série 2'!$I$2","v":1},{"$f":"(K83+L83)*M83","v":0},3,{"$f":"O83*M83*$P$7*G83","v":0},{"$f":"IF($E53=\"\",$Q$3,$R$3)","v":60},{"$f":"P83*Q83","v":0},{"$f":"IF(E83=\"\",$O$3,$P$3)","v":1},{"$f":"G83*(N83+R83)*S83","v":0},null,"Flocculator including divider","Option",{"$f":"F83","v":0},{"$f":"IF(E83=\"\",T83,\"\")","v":0},{"$f":"IF(E83=\"\",\"\",T83)","v":""},{"$f":"IF($E83=\"\",N83,\"\")","v":0},{"$f":"IF($E83=\"\",\"\",N83)","v":""},{"$f":"IF($E83=\"\",P83,\"\")","v":0},{"$f":"IF($E83=\"\",\"\",P83)","v":""},{"$f":"IF($E83=\"\",R83,\"\")","v":0},{"$f":"IF($E83=\"\",\"\",R83)","v":""}]
[null,null,null,null,null,null,null,null,null,null,null,null,null,null,null,null,null,null,{"$f":"IF(E84=\"\",$O$3,$P$3)","v":1},null,null,0,0,{"$f":"F84","v":0},{"$f":"IF(E84=\"\",T84,\"\")","v":0},{"$f":"IF(E84=\"\",\"\",T84)","v":""},{"$f":"IF($E84=\"\",N84,\"\")","v":0},{"$f":"IF($E84=\"\",\"\",N84)","v":""},{"$f":"IF($E84=\"\",P84,\"\")","v":0},{"$f":"IF($E84=\"\",\"\",P84)","v":""},{"$f":"IF($E84=\"\",R84,\"\")","v":0},{"$f":"IF($E84=\"\",\"\",R84)","v":""}]
[1,"GRAND TOTAL FILTRE LOCAL PART",null,null,null,null,null,null,null,null,null,null,null,null,null,null,null,null,null,{"$f":"SUM(Z66:Z84)+U57","v":90457.409790488775},{"$f":"T85","v":90457.409790488775},"TOTAL LOCAL PART",null,null,null,{"$f":"SUM(Z66:Z84)","v":0},null,{"$f":"SUM(AB66:AB84)+AB57","v":35496.441833026562},null,{"$f":"SUM(AD66:AD84)+AD57","v":1290.5999999999999},null,{"$f":"SUM(AF66:AF84)+AF57","v":59759.5}]
[2,"GRAND TOTAL FILTRE FRENCH PART",null,null,null,null,null,null,null,null,null,null,null,null,null,null,null,null,null,{"$f":"SUM(Y66:Y84)+T58","v":31864.856614749759},{"$f":"T86+SUM(U8:U10)","v":31864.856614749759},"TOTAL FRENCH PART",null,null,{"$f":"SUM(Y66:Y84)","v":0},null,{"$f":"SUM(AA66:AA82)+AA58","v":26110.275195948961},null,{"$f":"SUM(AC66:AC84)+AC58","v":303.33},null,{"$f":"SUM(AE66:AE84)+AE58","v":16919.8}]
[null,"TOTAL FILTRE 100%",null,null,null,null,null,null,null,null,null,null,null,null,null,null,null,null,null,{"$f":"SUM(T85:T86)","v":122322.26640523854},{"$f":"T85+U86","v":122322.26640523854},"TOTAL :",null,null,{"$f":"T87-T85","v":31864.856614749762},{"$f":"T87-T86","v":90457.409790488775}]
["Safety guard around filter",null,null,null,"o",304,1,null,{"$f":"Char2!C113","v":4249.6000000000004},{"$f":"IF(F40=\"\",'Série 2'!$E$42,(VLOOKUP(F40,'Série 2'!$D$26:$E$42,2,0)))","v":2.0689655172413794},{"$f":"H88*$K$64*G88","v":0},{"$f":"I88*$L$64*G88*J88","v":8792.2758620689674},{"$f":"'Série 2'!$I$2","v":1},{"$f":"(K88+L88)*M88","v":8792.2758620689674},null,{"$f":"O88*M88*$P$7*G88","v":0},30.55,{"$f":"P88*Q88","v":0},{"$f":"IF(E88=\"\",$O$3,$P$3)","v":1},{"$f":"(N88+R88)*S88","v":8792.2758620689674},{"$f":"(T88/2)*1.5","v":6594.2068965517255},{"$f":"(AA86+AB85+AE86+AF85)*1.149","v":158890.63356629291}]
["Engineering to be add to the filter price or with the accessories them self or in the item \"Engineering and documentation\""]
["ETUDES :"]
["Filtrate manifold",null,null,null,null,null,1,null,null,null,{"$f":"H91*$K$64*G91","v":0},{"$f":"I91*$L$64*G91","v":0},1,{"$f":"(K91+L91)*M91","v":0},40,{"$f":"O91*M91*$P$7*G91","v":40},44,{"$f":"P91*Q91","v":1760},{"$f":"IF(E91=\"\",$O$3,$P$3)","v":1},{"$f":"(N91)*S91","v":0}]
["Filtrate receiver",null,null,null,null,null,1,null,null,null,{"$f":"H92*$K$64*G92","v":0},0,1,0,35,35,44,1540,1,{"$f":"(N92)*S92","v":0}]
["scrubber",null,null,null,null,null,0,null,null,null,0,0,1,0,35,0,44,0,1,0]
["moisture trap",null,null,null,null,null,0,null,null,null,0,0,1,0,35,0,44,0,1,0]
["Fume hood",null,null,null,null,null,0,null,null,null,0,0,1,0,80,0,44,0,1,0]
["Engineering et documentation anglais",null,null,null,null,null,1,null,850,null,0,850,1,850,200,200,44,8800,1]
["documentation other linguage",null,null,null,null,null,0,null,null,null,0,0,1,0,null,0,44,0,1,0]
["Engineering globale process",null,null,null,null,null,0,null,null,null,0,0,1,0,null,0,44,0,1,0]
[null,"TOTAL Engineering",null,null,null,null,null,null,null,null,null,null,null,null,null,{"$f":"SUM(P91:P98)","v":275},null,null,"sub total",{"$f":"SUM(T91:T98)","v":0},{"$f":"T99+SUM(U90:U98)","v":0}]
[null,null,null,null,null,null,null,null,null,null,null,null,null,null,null,null,null,null,null,{"$f":"T87+T88+T99","v":131114.54226730749},{"$f":"U87+U88+U99","v":128916.47330179026}]
["ACCESSORIES WILL HAVE TO BE CALCULATE ON THE BASIS OF UNIT PRICE AND ADAPTED TO THE NUMBER OF UNITS AND FILTERS"]
["Filtrate manifold 4,5+2+3,5 m,  8 DN 65",null,150,"#","o","SVR",1,350,3800,{"$f":"IF(F102=\"\",'Série 2'!$E$42,(VLOOKUP(F102,'Série 2'!$D$26:$E$42,2,0)))","v":1.3},{"$f":"H102*$K$64*G102","v":350},{"$f":"I102*$L$64*G102*J102","v":4940},1,{"$f":"(K102+L102)*M102","v":5290},25,{"$f":"O102*M102*$P$7*G102","v":25},{"$f":"IF($E102=\"\",$Q$3,$R$3)","v":45},{"$f":"P102*Q102","v":1125},{"$f":"IF(E102=\"\",$O$3,$P$3)","v":1},{"$f":"(N102+R102)*S102*G102","v":6415}]
["Fume hood",null,null,null,"o",null,0,null,null,null,{"$f":"H103*$K$64*G103","v":0},{"$f":"I103*$L$64*G103","v":0},1,{"$f":"(K103+L103)*M103","v":0},null,{"$f":"O103*M103*$P$7*G103","v":0},45,{"$f":"P103*Q103","v":0},{"$f":"IF(E103=\"\",$O$3,$P$3)","v":1},{"$f":"(N103+R103)*S103*G103","v":0}]
[null,null,null,null,null,null,null,null,null,null,0,0,null,null,null,null,60,null,null,null,null,null,"Prix longerons",null,"longeur Nemaska (m)",null,"Prix Nemaska",null,"Prix au mètre"]
["Filtrate receiver, baro type",null,600,"#","o","SVR",1,250,3500,{"$f":"IF(F105=\"\",'Série 2'!$E$42,(VLOOKUP(F105,'Série 2'!$D$26:$E$42,2,0)))","v":1.3},250,{"$f":"I105*$L$64*G105*J105","v":4550},3,{"$f":"(K105+L105)*M105","v":14400},5,{"$f":"O105*M105*$P$7*G105","v":15},45,{"$f":"P105*Q105","v":675},{"$f":"IF(E105=\"\",$O$3,$P$3)","v":1},{"$f":"(N105+R105)*S105*G105","v":15075},null,null,null,null,7,null,2300,null,{"$f":"AA105/Y105","v":328.57142857142856}]
["Level switch E+H liquifant",null,null,"#","o",null,0,null,null,null,0,0,3,{"$f":"(K106+L106)*M106","v":0},null,{"$f":"O106*M106*$P$7*G106","v":0},45,{"$f":"P106*Q106","v":0},{"$f":"IF(E106=\"\",$O$3,$P$3)","v":1},{"$f":"(N106+R106)*S106*G106","v":0},null,null,null,null,{"$f":"\"longeur \"&Calculations!C2&\" (m)\"","v":"longeur CARESTER (m)"},null,{"$f":"\"Prix \"&Calculations!C2","v":"Prix CARESTER"}]
["Vacuometre",null,null,"#","o",null,0,null,null,null,0,0,1,{"$f":"(K107+L107)*M107","v":0},null,{"$f":"O107*M107*$P$7*G107","v":0},45,{"$f":"P107*Q107","v":0},{"$f":"IF(E107=\"\",$O$3,$P$3)","v":1},{"$f":"(N107+R107)*S107*G107","v":0},null,null,null,null,{"$f":"Calculations!G9/1000","v":4},null,{"$f":"Y107*AC105*2","v":2628.5714285714284}]
[null,"Total",null,"#","o",null,null,null,null,null,null,null,null,null,null,null,45,null,null,{"$f":"T105+T106+T107","v":15075}]
[null,null,null,null,null,null,null,null,null,null,null,null,null,null,null,null,60]
["moisture trap",null,null,"#","o",null,0,null,null,null,0,0,1,{"$f":"(K110+L110)*M110","v":0},null,{"$f":"O110*M110*$P$7*G110","v":0},45,{"$f":"P110*Q110","v":0},{"$f":"IF(E110=\"\",$O$3,$P$3)","v":1},{"$f":"(N110+R110)*S110*G110","v":0}]
["Vacuometre or transmitter E+H",null,null,"#","o",null,0,null,null,null,0,0,1,{"$f":"(K111+L111)*M111","v":0},null,{"$f":"O111*M111*$P$7*G111","v":0},45,{"$f":"P111*Q111","v":0},{"$f":"IF(E111=\"\",$O$3,$P$3)","v":1},{"$f":"(N111+R111)*S111*G111","v":0}]
[null,"Total",null,"#","o",null,null,null,null,null,null,null,null,null,null,null,45]
[null,null,null,null,null,null,null,null,null,null,null,null,null,null,null,null,60]
["Scrubber",null,null,"#","o",null,0,null,null,null,0,0,1,{"$f":"(K114+L114)*M114","v":0},null,{"$f":"O114*M114*$P$7*G114","v":0},45,{"$f":"P114*Q114","v":0},{"$f":"IF(E114=\"\",$O$3,$P$3)","v":1},{"$f":"(N114+R114)*S114*G114","v":0}]
["Sprayer",null,null,"#","o",null,0,null,null,null,0,0,1,{"$f":"(K115+L115)*M115","v":0},null,{"$f":"O115*M115*$P$7*G115","v":0},45,{"$f":"P115*Q115","v":0},{"$f":"IF(E115=\"\",$O$3,$P$3)","v":1},{"$f":"(N115+R115)*S115*G115","v":0}]
[null,"Total",null,"#","o",null,null,null,null,null,null,null,null,null,null,null,45]
[null,null,null,null,null,null,null,null,null,null,null,null,null,null,null,null,60]
["Vacuum pump",null,null,"#",0,null,0,null,null,null,0,0,1,{"$f":"(K118+L118)*M118","v":0},null,{"$f":"O118*M118*$P$7*G118","v":0},45,{"$f":"P118*Q118","v":0},{"$f":"IF(E118=\"\",$O$3,$P$3)","v":1},{"$f":"(N118+R118)*S118*G118","v":0}]
["Electrical motor",null,null,"#",0,null,0,null,null,null,0,0,1,{"$f":"(K119+L119)*M119","v":0},null,{"$f":"O119*M119*$P$7*G119","v":0},45,{"$f":"P119*Q119","v":0},{"$f":"IF(E119=\"\",$O$3,$P$3)","v":1},{"$f":"(N119+R119)*S119*G119","v":0}]
[null,"Total",null,"#",0,null,null,null,null,null,null,null,null,null,null,null,45]
[null,null,null,null,null,null,null,null,null,null,null,null,null,null,null,null,60]
["Filtrate pump",null,null,"#",0,null,0,null,null,null,0,0,1,{"$f":"(K122+L122)*M122","v":0},null,{"$f":"O122*M122*$P$7*G122","v":0},45,{"$f":"P122*Q122","v":0},{"$f":"IF(E122=\"\",$O$3,$P$3)","v":1},{"$f":"(N122+R122)*S122*G122","v":0}]
[null,null,null,null,null,null,null,null,null,null,null,null,null,null,null,null,60]
[null,null,null,null,null,null,null,null,null,null,null,null,null,null,null,null,60]
["Filtrate tank",null,null,null,"o",null,0,null,null,null,0,0,null,null,null,null,45,null,null,{"$f":"(N125+R125)*S125*G125","v":0}]
["Level switch E+H liquifant",null,null,"#","o",null,0,null,null,null,0,0,1,{"$f":"(K126+L126)*M126","v":0},null,{"$f":"O126*M126*$P$7*G126","v":0},45,{"$f":"P126*Q126","v":0},{"$f":"IF(E126=\"\",$O$3,$P$3)","v":1},{"$f":"(N126+R126)*S126*G126","v":0}]
[null,null,null,"#","o",null,0,null,null,null,0,0,1,{"$f":"(K127+L127)*M127","v":0},null,{"$f":"O127*M127*$P$7*G127","v":0},45,{"$f":"P127*Q127","v":0},{"$f":"IF(E127=\"\",$O$3,$P$3)","v":1},{"$f":"(N127+R127)*S127*G127","v":0}]
[null,"Total",null,"#","o",null,null,null,null,null,null,null,null,null,null,null,45,null,null,{"$f":"T125+T126+T127","v":0}]
[null,null,null,null,null,null,null,null,null,null,null,null,null,null,null,null,60]
["Local panel 1",null,null,"#","o",null,0,null,null,null,0,0,1,{"$f":"(K130+L130)*M130","v":0},null,{"$f":"O130*M130*$P$7*G130","v":0},45,{"$f":"P130*Q130","v":0},{"$f":"IF(E130=\"\",$O$3,$P$3)","v":1},{"$f":"(N130+R130)*S130*G130","v":0}]
["Local panel 2",null,null,"#","o",null,0,null,null,null,0,0,1,0,null,0,45,0,1,0]
["High pressure washing ramp",null,null,"#","o",null,0,null,null,null,0,0,1,0,null,0,45,0,1,0]
["Acid cloth wash",null,null,"#","o",null,0,null,null,null,0,0,1,0,null,0,45,0,1,0]
["Cake padle cake  reslurry",null,null,"#","o",null,0,null,null,null,0,0,1,0,null,0,45,0,1,0]
["Drip pan",null,null,"#","o",null,0,null,null,null,{"$f":"H135*$K$64*G135","v":0},{"$f":"I135*$L$64*G135","v":0},1,0,null,0,45,0,1,0]
[null,null,null,null,null,"d/w","pd/h",null,null,null,"car renting",null,"week",null,null,null,"external h. cost"]
["Supervisor","erection",null,null,null,0,10,1,null,null,null,null,4,null,null,{"$f":"F137*G137*M137*$P$7","v":0},72,{"$f":"P137*Q137","v":0},{"$f":"IF(E137=\"\",$O$3,$P$3)","v":1},{"$f":"(N137+R137)*S137","v":0}]
[null,"hotel",null,null,null,0,1,null,120,null,30,null,4,{"$f":"(I138+K138)*F138*G138*M138","v":0},null,{"$f":"O138*M138*$P$7*G138","v":0},null,{"$f":"P138*Q138","v":0},{"$f":"IF(E138=\"\",$O$3,$P$3)","v":1},{"$f":"(N138+R138)*S138","v":0}]
[null,"travel",null,null,null,0,1,null,1200,null,null,null,{"$f":"'Série 2'!$I$2","v":1},{"$f":"(I139+K139)*F139*G139*M139","v":0},null,{"$f":"O139*M139*$P$7*G139","v":0},null,{"$f":"P139*Q139","v":0},{"$f":"IF(E139=\"\",$O$3,$P$3)","v":1},{"$f":"(N139+R139)*S139","v":0}]
[null,null,null,null,null,null,null,null,null,null,"car renting",null,null,null,null,null,null,null,null,{"$f":"SUM(T137:T139)","v":0}]
["Supervisor","start up",null,null,null,0,10,1,null,null,null,null,1,null,null,{"$f":"F141*G141*M141*$P$7","v":0},72,{"$f":"P141*Q141","v":0},{"$f":"IF(E141=\"\",$O$3,$P$3)","v":1},{"$f":"(N141+R141)*S141","v":0}]
[null,"hotel",null,null,null,0,1,null,120,null,30,null,1,{"$f":"(I142+K142)*F142*G142*M142","v":0},null,{"$f":"O142*M142*$P$7*G142","v":0},null,{"$f":"P142*Q142","v":0},{"$f":"IF(E142=\"\",$O$3,$P$3)","v":1},{"$f":"(N142+R142)*S142","v":0}]
[null,"travel",null,null,null,0,1,null,1200,null,null,null,{"$f":"'Série 2'!$I$2","v":1},{"$f":"(I143+K143)*F143*G143*M143","v":0},null,{"$f":"O143*M143*$P$7*G143","v":0},null,{"$f":"P143*Q143","v":0},{"$f":"IF(E143=\"\",$O$3,$P$3)","v":1},{"$f":"(N143+R143)*S143","v":0}]
[null,null,null,null,null,null,null,null,null,null,null,null,null,null,null,null,null,null,null,{"$f":"SUM(T141:T143)","v":0}]
[]
["TC 40' part France ",null,null,null,null,null,1,null,1500,null,{"$f":"H146*$K$65","v":0},{"$f":"I146*$L$64","v":1500},20,{"$f":"(K146+L146)*M146","v":30000},null,{"$f":"O146*M146*$P$7*G146","v":0},30.55,{"$f":"P146*Q146","v":0},{"$f":"IF(E146=\"\",$O$3,$P$3)","v":1},{"$f":"(N146+R146)*S146*G146","v":30000}]
["Fumigation",null,null,null,null,null,1,null,300,null,{"$f":"H147*$K$65","v":0},{"$f":"I147*$L$64","v":300},20,{"$f":"(K147+L147)*M147","v":6000},null,{"$f":"O147*M147*$P$7*G147","v":0},30.55,0,{"$f":"IF(E147=\"\",$O$3,$P$3)","v":1},{"$f":"(N147+R147)*S147*G147","v":6000}]
["FCA our factory Douane",null,null,null,null,null,1,null,100,null,{"$f":"H148*$K$65","v":0},{"$f":"I148*$L$64","v":100},20,{"$f":"(K148+L148)*M148","v":2000},null,{"$f":"O148*M148*$P$7*G148","v":0},30.55,0,{"$f":"IF(E148=\"\",$O$3,$P$3)","v":1},2000]
["insurance","Ass 0,11%",null,null,null,null,1,null,null,null,null,{"$f":"I149*$L$64","v":0},0,{"$f":"(K149+L149)*M149","v":0},null,{"$f":"O149*M149*$P$7*G149","v":0},30.55,{"$f":"P149*Q149","v":0},{"$f":"IF(E149=\"\",$O$3,$P$3)","v":1},0]
[null,null,null,null,null,null,null,null,null,null,null,null,null,null,null,null,null,null,null,0]
["Transportation ","ass 0,45%",null,null,null,null,1,null,"??",null,{"$f":"H151*$K$65","v":0},{"$f":"I151*$L$64","v":{"$error":"#VALUE!"}},1,{"$f":"(K151+L151)*M151","v":{"$error":"#VALUE!"}},null,{"$f":"O151*M151*$P$7*G151","v":0},30.55,0,{"$f":"IF(E151=\"\",$O$3,$P$3)","v":1},{"$error":"#VALUE!"}]
["insurance",null,null,null,null,null,1,null,"??",null,{"$f":"H152*$K$65","v":0},{"$f":"I152*$L$64","v":{"$error":"#VALUE!"}},1,{"$f":"(K152+L152)*M152","v":{"$error":"#VALUE!"}},null,{"$f":"O152*M152*$P$7*G152","v":0},30.55,0,{"$f":"IF(E152=\"\",$O$3,$P$3)","v":1},{"$error":"#VALUE!"}]

{"sheet":"FabSpecification","index":15,"n_rows":810,"n_cols":41,"rows_kept":810,"cut":false,"hidden":true,"merged":[]}
["CODE MATERIEL","SERIE","TALON","SURFACE","LONG /S VIDE","LARG /S VIDE","ø TAMBOUR","NOMBRE DE PAS","LONG /S VIDE","Nbre pas",null,null,null,null,null,null,null,null,null,null,null,null,null,null,null,null,null,null,null,null,null,null,"LgBaV",4,3.5,3,2.5,"NbrPas",null,"NbrePas/LongPas"]
["0,25 / 180 / 50 / SERIE 1","SERIE 1",50,0.25,1400,180,410,"1 x 1,4",1.4,1,null,null,null,null,null,null,null,null,null,null,null,null,null,null,null,null,null,null,null,null,null,null,1.4,null,null,null,null,1,null,"1 x 1,4"]
["0,5 / 180 / 50 / SERIE 1","SERIE 1",50,0.5,2800,180,410,"1 x 2,8",2.8,1,null,null,null,null,null,null,null,null,null,null,null,null,null,null,null,null,null,null,null,null,null,null,2,null,null,null,null,1,null,"1 x 2"]
["0,78 / 280 / 50 / SERIE 1","SERIE 1",50,0.78,2800,280,410,"1 x 2,8",2.8,1,null,"BANDE","Serie 1","Serie 1","Serie 1","Serie 2",null,null,null,"Serie3","Serie 2",null,"Serie3",null,null,null,"Serie 4",null,null,null,"Serie 5",null,2.5,null,null,null,null,1,null,"1 x 2,5"]
["1,01 / 360 / 50 / SERIE 1","SERIE 1",50,1.01,2800,360,410,"1 x 2,8",2.8,1,null,"largeur",180,280,360,500,750,1000,1250,1251,1500,1501,1750,2000,2250,2500,3000,3500,4000,4200,5000,6000,2.8,null,null,null,null,1,null,"1 x 2,8"]
["1,4 / 500 / 50 / SERIE 1","SERIE 1",50,1.4,2800,500,410,"1 x 2,8",2.8,1,null,"EpaiSup",10,10,10,10,13,13,13,13,16,16,16,16,16,16,18,19,21,21,23,23,3,null,null,null,null,1,null,"1 x 3"]
["1 / 500 / 70 / SERIE 2","SERIE 2",70,1,2000,500,630,"1 x 2",2,1,null,"EpaisInf",4,4,4,4,5,5,5,5,6,6,6,6,6,6,7,7,8,8,10,10,3.5,null,null,null,null,1,null,"1 x 3,5"]
["1,25 / 500 / 70 / SERIE 2","SERIE 2",70,1.25,2500,500,630,"1 x 2,5",2.5,1,null,"EpaiTotal",18.5,18.5,18.5,18.5,22.5,24,24,24,28,28,28,28,28,28,31,32,35,35,39,39,4,null,null,null,null,2,null,"2 x 2"]
["1,5 / 500 / 70 / SERIE 2","SERIE 2",70,1.5,3000,500,630,"1 x 3",3,1,null,"NbrePli",3,3,3,3,3,4,4,4,4,4,4,4,4,4,4,4,4,4,4,4,4.5,null,null,null,null,2,null,"2,5 + 2"]
["1,75 / 500 / 70 / SERIE 2","SERIE 2",70,1.75,3500,500,630,"1 x 3,5",3.5,1,null,"PasRain",14,14,14,14,18,18,18,18,22,22,22,22,22,22,22,22,22,22,24,24,5,null,null,null,2,2,"2,5 x 2","2,5 x 2",5]
["2 / 500 / 70 / SERIE 2","SERIE 2",70,2,4000,500,630,"2 x 2",4,2,null,"LargRain",7,7,7,7,9,9,9,9,11,11,11,11,11,11,11,11,11,11,12,12,5.5,null,null,1,1,2,"& 1 x 3 & 1 x 2,5","1 x 3 & 1 x 2,5"]
["2,25 / 500 / 70 / SERIE 2","SERIE 2",70,2.25,4500,500,630,"2,5 + 2",4.5,2,null,"ProfRain",7,7,7,7,"5 - 10","5 - 10","5 - 10","5 - 10","5 - 12","5 - 12","5 - 12","5 - 12","5 - 12","5 - 12","5 - 14","5 - 15","5 - 17","5 - 17","5 - 19","5 - 19",6,null,null,2,null,2,"& 2 x 3 ","2 x 3",6]
["2,5 / 500 / 70 / SERIE 2","SERIE 2",70,2.5,5000,500,630,"2,5 x 2",5,2,null,"TrouOblong","6 x 10","6 x 10","6 x 10","6 x 10","8 x 22","8 x 22","8 x 22","8 x 22","10 x 26","10 x 26","10 x 26","10 x 26","10 x 26","10 x 26","10 x 30","10 x 30","10 x 30","10 x 30","10 x 30","10 x 30",6.5,null,1,1,null,2,"& 1 x 3,5 & 1 x 3 ","1 x 3,5 & 1 x 3"]
["2,75 / 500 / 70 / SERIE 2","SERIE 2",70,2.75,5500,500,630,"1 x 3 & 1 x 2,5",5.5,2,null,"SUPPBANDTOILE",null,null,null,null,null,null,null,null,null,null,null,null,null,null,null,null,null,null,null,null,7,null,2,null,null,2,"& 2 x 3,5 ","2 x 3,5",7]
["3 / 500 / 70 / SERIE 2","SERIE 2",70,3,6000,500,630,"2 x 3",6,2,null,"RailSuppBande","2 x 1","2 x 1","2 x 1","2 x 2","2 x 2","2 x 2","2 x 3","2 x 3","2 x 3","2 x 3","2 x 4","2 x 4","2 x 4","2 x 4","2 x 5","2 x 6","2 x 6","2 x 7","2 x  8","2 x 10",7.5,null,null,null,3,3,"& 3 x 2,5","3 x 2,5",7.5]
["1,5 / 750 / 70 / SERIE 2","SERIE 2",70,1.5,2000,750,630,"1 x 2",2,1,null,"RoulEmbaT70",140,140,140,219,219,219,219,273,219,273,273,273,273,273,273,273,273,273,273,323,8,null,null,1,2,3,"& 1 x 3 & 2 x 2,5","1 x 3 & 2 x 2,5"]
["1,88 / 750 / 70 / SERIE 2","SERIE 2",70,1.88,2500,750,630,"1 x 2,5",2.5,1,null,"RoulEmbaT120","NA","NA","NA","NA","NA","NA","NA",355,"NA",355,355,355,355,355,355,355,355,355,355,355,8.5,null,null,2,1,3,"& 2 x 3 & 1 x 2,5","2 x 3 & 1 x 2,5"]
["2,25 / 750 / 70 / SERIE 2","SERIE 2",70,2.25,3000,750,630,"1 x 3",3,1,null,"RoulSuppBanT70",140,140,140,219,219,219,219,273,219,273,273,273,273,273,273,273,355,355,355,355,9,null,null,3,null,3,"& 3 x 3 ","3 x 3",9]
["2,63 / 750 / 70 / SERIE 2","SERIE 2",70,2.63,3500,750,630,"1 x 3,5",3.5,1,null,"RoulSuppBanT120","NA","NA","NA","NA","NA","NA","NA",355,"NA",355,355,355,355,355,355,355,406,406,406,406,9.5,null,1,2,null,3,"& 1 x 3,5 & 2 x 3 ","1 x 3,5 & 2 x 3"]
["3 / 750 / 70 / SERIE 2","SERIE 2",70,3,4000,750,630,"2 x 2",4,2,null,"RoulToilSortGat",34,34,34,60.3,60.3,60.3,88.9,168.3,88.9,168.3,168.3,168.3,168.3,168.3,168.3,168.3,273,273,273,273,10,null,2,1,null,3,"& 2 x 3,5 & 1 x 3 ","2 x 3,5 & 1 x 3"]
["3,38 / 750 / 70 / SERIE 2","SERIE 2",70,3.38,4500,750,630,"2,5 + 2",4.5,2,null,"RoulToilDechGat",34,34,34,60.3,60.3,60.3,88.9,168.3,88.9,168.3,168.3,168.3,168.3,168.3,168.3,168.3,168.3,168.3,273,323,10.5,null,3,null,null,3,"& 3 x 3,5 ","3 x 3,5",10.5]
["3,75 / 750 / 70 / SERIE 2","SERIE 2",70,3.75,5000,750,630,"2,5 x 2",5,2,null,null,180,280,360,500,750,1000,1250,1250,1500,1501,1750,2000,2250,2500,3000,3500,4000,4200,5000,6000,11,2,null,1,null,3,"2 x 4 & 1 x 3 ","2 x 4 & 1 x 3"]
["4,13 / 750 / 70 / SERIE 2","SERIE 2",70,4.13,5500,750,630,"1 x 3 & 1 x 2,5",5.5,2,null,"RoulSuppToile",34,34,34,60.3,60.3,60.3,88.9,168.3,114.3,168.3,168.3,168.3,168.3,168.3,168.3,168.3,273,273,273,273,11.5,2,1,null,null,3,"2 x 4 & 1 x 3,5 ","2 x 4 & 1 x 3,5"]
["4,5 / 750 / 70 / SERIE 2","SERIE 2",70,4.5,6000,750,630,"2 x 3",6,2,null,"RoulRenvoi","N/A","N/A","N/A","N/A","N/A","N/A","N/A","N/A","N/A","N/A","N/A","N/A","N/A","N/A",219,219,273,273,323,323,12,3,null,null,null,3,"3 x 4 ","3 x 4",12]
["4,88 / 750 / 70 / SERIE 2","SERIE 2",70,4.88,6500,750,630,"2 x 3",6.5,2,null,null,null,null,null,null,null,null,null,null,null,null,null,null,null,null,null,null,null,null,null,null,12.5,null,1,3,null,4,"& 1 x 3,5 & 3 x 3 ","1 x 3,5 & 3 x 3"]
["5,25 / 750 / 70 / SERIE 2","SERIE 2",70,5.25,7000,750,630,"2 x 3",7,2,null,"DIM_HorsTout","SERIE 1",null,"SERIE 2",null,"SERIE 3",null,"SERIE 4.3",null,"SERIE 4",null,"SERIE 4.4",null,"SERIE 5",null,"SERIE 5.4",null,"SERIE 5.6",null,"SERIE 5.3",null,13,null,2,2,null,4,"& 2 x 3,5 & 2 x 3 ","2 x 3,5 & 2 x 3"]
["5,63 / 750 / 70 / SERIE 2","SERIE 2",70,5.63,7500,750,630,"2 x 3",7.5,3,null,"LargHT",480,null,650,null,750,null,850,null,950,null,1050,null,1320,null,1320,null,1320,null,1320,null,13.5,null,3,1,null,4,"& 3 x 3,5 & 1 x 3 ","3 x 3,5 & 1 x 3"]
["2 / 1000 / 70 / SERIE 2","SERIE 2",70,2,2000,1000,630,"1 x 2",2,1,null,"LongHT",2006,null,3130,null,5405,null,5970,null,5970,null,5970,null,6385,null,6385,null,6385,null,6385,null,14,null,4,null,null,4,"& 4 x 3,5 ","4 x 3,5",14]
["2,5 / 1000 / 70 / SERIE 2","SERIE 2",70,2.5,2500,1000,630,"1 x 2,5",2.5,1,null,"HautHTBâti",1350,null,1560,null,2400,null,2710,null,2710,null,2710,null,2910,null,2910,null,2910,null,2910,null,14.5,1,3,null,null,4,"1 x 4 & 3 x 3,5 ","1 x 4 & 3 x 3,5"]
["3 / 1000 / 70 / SERIE 2","SERIE 2",70,3,3000,1000,630,"1 x 3",3,1,null,null,null,null,"Dia630",null,"Dia935",null,"3000m",null,"4000m",null,"4200-Dia1200",null,"Dia1400",null,"Dia1400",null,"Dia1400",null,"Dia1400",null,15,3,null,1,null,4,"3 x 4 & 1 x 3 ","3 x 4 & 1 x 3"]
["3,5 / 1000 / 70 / SERIE 2","SERIE 2",70,3.5,3500,1000,630,"1 x 3,5",3.5,1,null,null,null,null,null,null,null,null,null,null,null,null,null,"*","Mise à jour le03/01/2005",null,null,null,null,null,null,null,15.5,3,1,null,null,4,"3 x 4 & 1 x 3,5 ","3 x 4 & 1 x 3,5"]
["4 / 1000 / 70 / SERIE 2","SERIE 2",70,4,4000,1000,630,"2 x 2",4,2,null,"TAMBOUR",410,null,630,null,935,null,1210,null,1400,null,null,null,"Nbre pli =3",null,null,null,null,null,null,null,16,4,null,null,null,4,"4 x 4 ","4 x 4",16]
["4,5 / 1000 / 70 / SERIE 2","SERIE 2",70,4.5,4500,1000,630,"2,5 + 2",4.5,2,null,"LongBandeSupTT",3300,null,5000,null,7100,null,8600,null,9600,null,null,null,null,null,null,null,null,null,null,null,16.5,null,3,2,null,5,"& 3 x 3,5 & 2 x 3 ","3 x 3,5 & 2 x 3"]
["5 / 1000 / 70 / SERIE 2","SERIE 2",70,5,5000,1000,630,"2,5 x 2",5,2,null,"LongToileSupTT",7800,null,9300,null,15300,null,16900,null,17800,null,"*","Inclu 2 m de jonction",null,null,null,null,null,null,null,null,17,null,4,1,null,5,"& 4 x 3,5 & 1 x 3 ","4 x 3,5 & 1 x 3"]
["5,5 / 1000 / 70 / SERIE 2","SERIE 2",70,5.5,5500,1000,630,"1 x 3 & 1 x 2,5",5.5,2,null,null,null,null,null,null,null,null,null,null,null,null,null,null,null,null,null,null,null,null,null,null,17.5,null,5,null,null,5,"& 5 x 3,5 ","5 x 3,5",17.5]
["6 / 1000 / 70 / SERIE 2","SERIE 2",70,6,6000,1000,630,"2 x 3",6,2,null,null,null,null,null,null,null,null,null,null,null,null,null,null,null,null,null,null,null,null,null,null,18,3,null,2,null,5,"3 x 4 & 2 x 3 ","3 x 4 & 2 x 3"]
["6,5 / 1000 / 70 / SERIE 2","SERIE 2",70,6.5,6500,1000,630,"2 x 3",6.5,2,null,null,null,null,null,null,null,null,null,null,null,null,null,null,null,null,null,null,null,null,null,null,18.5,2,3,null,null,5,"2 x 4 & 3 x 3,5 ","2 x 4 & 3 x 3,5"]
["7 / 1000 / 70 / SERIE 2","SERIE 2",70,7,7000,1000,630,"2 x 3",7,2,null,null,null,null,null,null,null,null,null,null,null,null,null,null,null,null,null,null,null,null,null,null,19,4,null,1,null,5,"4 x 4 & 1 x 3 ","4 x 4 & 1 x 3"]
["7,5 / 1000 / 70 / SERIE 2","SERIE 2",70,7.5,7500,1000,630,"2 x 3",7.5,3,null,null,null,null,null,null,null,null,null,null,null,null,null,null,null,null,null,null,null,null,null,null,19.5,4,1,null,null,5,"4 x 4 & 1 x 3,5 ","4 x 4 & 1 x 3,5"]
["8 / 1000 / 70 / SERIE 2","SERIE 2",70,8,8000,1000,630,"2 x 3",8,3,null,null,null,null,null,null,null,null,null,null,null,null,null,null,null,null,null,null,null,null,null,null,20,5,null,null,null,5,"5 x 4 ","5 x 4",20]
["8,5 / 1000 / 70 / SERIE 2","SERIE 2",70,8.5,8500,1000,630,"2 x 3",8.5,3,null,null,null,null,null,null,null,null,null,null,null,null,null,null,null,null,null,null,null,null,null,null,20.5,null,5,1,null,6,"& 5 x 3,5 & 1 x 3 ","5 x 3,5 & 1 x 3"]
["9 / 1000 / 70 / SERIE 2","SERIE 2",70,9,9000,1000,630,"2 x 3",9,3,null,null,null,null,null,null,null,null,null,null,null,null,null,null,null,null,null,null,null,null,null,null,21,null,6,null,null,6,"& 6 x 3,5 ","6 x 3,5",21]
["9,5 / 1000 / 70 / SERIE 2","SERIE 2",70,9.5,9500,1000,630,"2 x 3",9.5,3,null,null,null,null,null,null,null,null,null,null,null,null,null,null,null,null,null,null,null,null,null,null,21.5,1,5,null,null,6,"1 x 4 & 5 x 3,5 ","1 x 4 & 5 x 3,5"]
["10 / 1000 / 70 / SERIE 2","SERIE 2",70,10,10000,1000,630,"2 x 3",10,3,null,null,null,null,null,null,null,null,null,null,null,null,null,null,null,null,null,null,null,null,null,null,22,2,4,null,null,6,"2 x 4 & 4 x 3,5 ","2 x 4 & 4 x 3,5"]
["10,5 / 1000 / 70 / SERIE 2","SERIE 2",70,10.5,10500,1000,630,"2 x 3",10.5,3,null,null,null,null,null,null,null,null,null,null,null,null,null,null,null,null,null,null,null,null,null,null,22.5,3,3,null,null,6,"3 x 4 & 3 x 3,5 ","3 x 4 & 3 x 3,5"]
["3,13 / 1250 / 70 / SERIE 2","SERIE 2",70,3.13,2500,1250,630,"1 x 2,5",2.5,1,null,null,null,null,null,null,null,null,null,null,null,null,null,null,null,null,null,null,null,null,null,null,23,5,null,1,null,6,"5 x 4 & 1 x 3 ","5 x 4 & 1 x 3"]
["3,75 / 1250 / 70 / SERIE 2","SERIE 2",70,3.75,3000,1250,630,"1 x 3",3,1,null,null,null,null,null,null,null,null,null,null,null,null,null,null,null,null,null,null,null,null,null,null,23.5,5,1,null,null,6,"5 x 4 & 1 x 3,5 ","5 x 4 & 1 x 3,5"]
["4,38 / 1250 / 70 / SERIE 2","SERIE 2",70,4.38,3500,1250,630,"1 x 3,5",3.5,1,null,null,null,null,null,null,null,null,null,null,null,null,null,null,null,null,null,null,null,null,null,null,24,6,null,null,null,6,"6 x 4 ","6 x 4",24]
["5 / 1250 / 70 / SERIE 2","SERIE 2",70,5,4000,1250,630,"2 x 2",4,2,null,null,null,null,null,null,null,null,null,null,null,null,null,null,null,null,null,null,null,null,null,null,24.5,0,7,null,null,7,"& 7 x 3,5 ","7 x 3,5",24.5]
["5,63 / 1250 / 70 / SERIE 2","SERIE 2",70,5.63,4500,1250,630,"2,5 + 2",4.5,2,null,null,null,null,null,null,null,null,null,null,null,null,null,null,null,null,null,null,null,null,null,null,25,1,6,null,null,7,"1 x 4 & 6 x 3,5 ","1 x 4 & 6 x 3,5"]
["6,25 / 1250 / 70 / SERIE 2","SERIE 2",70,6.25,5000,1250,630,"2,5 x 2",5,2,null,null,null,null,null,null,null,null,null,null,null,null,null,null,null,null,null,null,null,null,null,null,25.5,2,5,null,null,7,"2 x 4 & 5 x 3,5 ","2 x 4 & 5 x 3,5"]
["6,88 / 1250 / 70 / SERIE 2","SERIE 2",70,6.88,5500,1250,630,"1 x 3 & 1 x 2,5",5.5,2,null,null,null,null,null,null,null,null,null,null,null,null,null,null,null,null,null,null,null,null,null,null,26,3,4,null,null,7,"3 x 4 & 4 x 3,5 ","3 x 4 & 4 x 3,5"]
["7,5 / 1250 / 70 / SERIE 2","SERIE 2",70,7.5,6000,1250,630,"2 x 3",6,2,null,null,null,null,null,null,null,null,null,null,null,null,null,null,null,null,null,null,null,null,null,null,26.5,4,3,null,null,7,"4 x 4 & 3 x 3,5 ","4 x 4 & 3 x 3,5"]
["8,13 / 1250 / 70 / SERIE 2","SERIE 2",70,8.1300000000000008,6500,1250,630,"2 x 3",6.5,2,null,null,null,null,null,null,null,null,null,null,null,null,null,null,null,null,null,null,null,null,null,null,27,5,2,null,null,7,"5 x 4 & 2 x 3,5 ","5 x 4 & 2 x 3,5"]
["8,75 / 1250 / 70 / SERIE 2","SERIE 2",70,8.75,7000,1250,630,"2 x 3",7,2,null,null,null,null,null,null,null,null,null,null,null,null,null,null,null,null,null,null,null,null,null,null,27.5,6,1,null,null,7,"6 x 4 & 1 x 3,5 ","6 x 4 & 1 x 3,5"]
["9,38 / 1250 / 70 / SERIE 2","SERIE 2",70,9.3800000000000008,7500,1250,630,"2 x 3",7.5,3,null,null,null,null,null,null,null,null,null,null,null,null,null,null,null,null,null,null,null,null,null,null,28,7,null,null,null,7,"7 x 4 ","7 x 4",28]
["10 / 1250 / 70 / SERIE 2","SERIE 2",70,10,8000,1250,630,"2 x 3",8,3,null,null,null,null,null,null,null,null,null,null,null,null,null,null,null,null,null,null,null,null,null,null,28.5,1,7,null,null,8,"1 x 4 & 7 x 3,5 ","1 x 4 & 7 x 3,5"]
["10,63 / 1250 / 70 / SERIE 2","SERIE 2",70,10.63,8500,1250,630,"2 x 3",8.5,3,null,null,null,null,null,null,null,null,null,null,null,null,null,null,null,null,null,null,null,null,null,null,29,2,6,null,null,8,"2 x 4 & 6 x 3,5 ","2 x 4 & 6 x 3,5"]
["11,25 / 1250 / 70 / SERIE 2","SERIE 2",70,11.25,9000,1250,630,"2 x 3",9,3,null,null,null,null,null,null,null,null,null,null,null,null,null,null,null,null,null,null,null,null,null,null,29.5,3,5,null,null,8,"3 x 4 & 5 x 3,5 ","3 x 4 & 5 x 3,5"]
["11,88 / 1250 / 70 / SERIE 2","SERIE 2",70,11.88,9500,1250,630,"2 x 3",9.5,3,null,null,null,null,null,null,null,null,null,null,null,null,null,null,null,null,null,null,null,null,null,null,30,4,4,null,null,8,"4 x 4 & 4 x 3,5 ","4 x 4 & 4 x 3,5"]
["12,5 / 1250 / 70 / SERIE 2","SERIE 2",70,12.5,10000,1250,630,"2 x 3",10,3,null,null,null,null,null,null,null,null,null,null,null,null,null,null,null,null,null,null,null,null,null,null,30.5,5,3,null,null,8,"5 x 4 & 3 x 3,5 ","5 x 4 & 3 x 3,5"]
["13,13 / 1250 / 70 / SERIE 2","SERIE 2",70,13.13,10500,1250,630,"2 x 3",10.5,3,null,null,null,null,null,null,null,null,null,null,null,null,null,null,null,null,null,null,null,null,null,null,31,6,2,null,null,8,"6 x 4 & 2 x 3,5 ","6 x 4 & 2 x 3,5"]
["(13,75 / 1250 / 70 / SERIE 2)","SERIE 2",70,13.75,11000,1250,630,"2 x 3 & 2 x 2,5",11,4,null,null,null,null,null,null,null,null,null,null,null,null,null,null,null,null,null,null,null,null,null,null,31.5,7,1,null,null,8,"7 x 4 & 1 x 3,5 ","7 x 4 & 1 x 3,5"]
["(14,38 / 1250 / 70 / SERIE 2)","SERIE 2",70,14.38,11500,1250,630,"2 x 3 & 2 x 2,5",11.5,4,null,null,null,null,null,null,null,null,null,null,null,null,null,null,null,null,null,null,null,null,null,null,32,8,null,null,null,8,"8 x 4 ","8 x 4",32]
["(15 / 1250 / 70 / SERIE 2)","SERIE 2",70,15,12000,1250,630,"2 x 3 & 2 x 2,5",12,4,null,null,null,null,null,null,null,null,null,null,null,null,null,null,null,null,null,null,null,null,null,null,32.5,2,7,null,null,9,"2 x 4 & 7 x 3,5 ","2 x 4 & 7 x 3,5"]
["(15,63 / 1250 / 70 / SERIE 2)","SERIE 2",70,15.63,12500,1250,630,"2 x 3 & 2 x 2,5",12.5,4,null,null,null,null,null,null,null,null,null,null,null,null,null,null,null,null,null,null,null,null,null,null,33,3,6,null,null,9,"3 x 4 & 6 x 3,5 ","3 x 4 & 6 x 3,5"]
["4,5 / 1500 / 70 / SERIE 2","SERIE 2",70,4.5,3000,1500,630,"1 x 3",3,1,null,null,null,null,null,null,null,null,null,null,null,null,null,null,null,null,null,null,null,null,null,null,35.5,8,1,null,null,9,"8 x 4 & 1 x 3,5 ","8 x 4 & 1 x 3,5"]
["5,25 / 1500 / 70 / SERIE 2","SERIE 2",70,5.25,3500,1500,630,"1 x 3,5",3.5,1,null,null,null,null,null,null,null,null,null,null,null,null,null,null,null,null,null,null,null,null,null,null,36,9,null,null,null,9,"9 x 4 ","9 x 4",36]
["6 / 1500 / 70 / SERIE 2","SERIE 2",70,6,4000,1500,630,"2 x 2",4,2,null,null,null,null,null,null,null,null,null,null,null,null,null,null,null,null,null,null,null,null,null,null,36.5,3,7,null,null,10,"3 x 4 & 7 x 3,5 ","3 x 4 & 7 x 3,5"]
["6,75 / 1500 / 70 / SERIE 2","SERIE 2",70,6.75,4500,1500,630,"2,5 + 2",4.5,2,null,null,null,null,null,null,null,null,null,null,null,null,null,null,null,null,null,null,null,null,null,null,37,4,6,null,null,10,"4 x 4 & 6 x 3,5 ","4 x 4 & 6 x 3,5"]
["7,5 / 1500 / 70 / SERIE 2","SERIE 2",70,7.5,5000,1500,630,"2,5 x 2",5,2,null,null,null,null,null,null,null,null,null,null,null,null,null,null,null,null,null,null,null,null,null,null,37.5,5,5,null,null,10,"5 x 4 & 5 x 3,5 ","5 x 4 & 5 x 3,5"]
["8,25 / 1500 / 70 / SERIE 2","SERIE 2",70,8.25,5500,1500,630,"1 x 3 & 1 x 2,5",5.5,2,null,null,null,null,null,null,null,null,null,null,null,null,null,null,null,null,null,null,null,null,null,null,38,6,4,null,null,10,"6 x 4 & 4 x 3,5 ","6 x 4 & 4 x 3,5"]
["9 / 1500 / 70 / SERIE 2","SERIE 2",70,9,6000,1500,630,"2 x 3",6,2,null,null,null,null,null,null,null,null,null,null,null,null,null,null,null,null,null,null,null,null,null,null,38.5,7,3,null,null,10,"7 x 4 & 3 x 3,5 ","7 x 4 & 3 x 3,5"]
["9,75 / 1500 / 70 / SERIE 2","SERIE 2",70,9.75,6500,1500,630,"2 x 3",6.5,2,null,null,null,null,null,null,null,null,null,null,null,null,null,null,null,null,null,null,null,null,null,null,39,8,2,null,null,10,"8 x 4 & 2 x 3,5 ","8 x 4 & 2 x 3,5"]
["10,5 / 1500 / 70 / SERIE 2","SERIE 2",70,10.5,7000,1500,630,"2 x 3",7,2,null,null,null,null,null,null,null,null,null,null,null,null,null,null,null,null,null,null,null,null,null,null,39.5,9,1,null,null,10,"9 x 4 & 1 x 3,5 ","9 x 4 & 1 x 3,5"]
["11,25 / 1500 / 70 / SERIE 2","SERIE 2",70,11.25,7500,1500,630,"2 x 3",7.5,3,null,null,null,null,null,null,null,null,null,null,null,null,null,null,null,null,null,null,null,null,null,null,40,10,null,null,null,10,"10 x 4 ","10 x 4",40]
["12 / 1500 / 70 / SERIE 2","SERIE 2",70,12,8000,1500,630,"2 x 3",8,3]
["12,75 / 1500 / 70 / SERIE 2","SERIE 2",70,12.75,8500,1500,630,"2 x 3",8.5,3,null,null,null,null,null,null,null,null,null,null,null,null,null,null,null,null,null,null,null,null,null,null,"Pas des SERIES 2"]
["13,5 / 1500 / 70 / SERIE 2","SERIE 2",70,13.5,9000,1500,630,"2 x 3",9,3,null,null,null,null,null,null,null,null,null,null,null,null,null,null,null,null,null,null,null,null,null,null,"LgBaV",0,3.5,3,2.5,"NbrPas",null,"NbrePas/LongPas"]
["14,25 / 1500 / 70 / SERIE 2","SERIE 2",70,14.25,9500,1500,630,"2 x 3",9.5,3,null,null,null,null,null,null,null,null,null,null,null,null,null,null,null,null,null,null,null,null,null,null,2,null,null,null,null,1,null,"1 x 2",2]
["15 / 1500 / 70 / SERIE 2","SERIE 2",70,15,10000,1500,630,"2 x 3",10,3,null,null,null,null,null,null,null,null,null,null,null,null,null,null,null,null,null,null,null,null,null,null,2.5,null,null,null,null,1,null,"1 x 2,5",2.5]
["15,75 / 1500 / 70 / SERIE 2","SERIE 2",70,15.75,10500,1500,630,"2 x 3",10.5,3,null,null,null,null,null,null,null,null,null,null,null,null,null,null,null,null,null,null,null,null,null,null,2.8,null,null,null,null,1,null,"1 x 2,8",2.8]
["(16,5 / 1500 / 70 / SERIE 2)","SERIE 2",70,16.5,11000,1500,630,"2 x 3 & 2 x 2,5",11,4,null,null,null,null,null,null,null,null,null,null,null,null,null,null,null,null,null,null,null,null,null,null,3,null,null,null,null,1,null,"1 x 3",3]
["(17,25 / 1500 / 70 / SERIE 2)","SERIE 2",70,17.25,11500,1500,630,"2 x 3 & 2 x 2,5",11.5,4,null,null,null,null,null,null,null,null,null,null,null,null,null,null,null,null,null,null,null,null,null,null,3.5,null,null,null,null,1,null,"1 x 3,5",3.5]
["(18 / 1500 / 70 / SERIE 2)","SERIE 2",70,18,12000,1500,630,"2 x 3 & 2 x 2,5",12,4,null,null,null,null,null,null,null,null,null,null,null,null,null,null,null,null,null,null,null,null,null,null,4,null,null,null,null,2,null,"2 x 2",4]
["(18,75 / 1500 / 70 / SERIE 2)","SERIE 2",70,18.75,12500,1500,630,"2 x 3 & 2 x 2,5",12.5,4,null,null,null,null,null,null,null,null,null,null,null,null,null,null,null,null,null,null,null,null,null,null,4.5,null,null,null,null,2,null,"2,5 + 2",4.5]
["(19,5 / 1500 / 70 / SERIE 2)","SERIE 2",70,19.5,13000,1500,630,"2 x 3,5 & 2 x 3",13,4,null,null,null,null,null,null,null,null,null,null,null,null,null,null,null,null,null,null,null,null,null,null,5,null,null,null,2,2,"2,5 x 2","2,5 x 2",5]
["(20,25 / 1500 / 70 / SERIE 2)","SERIE 2",70,20.25,13500,1500,630,"3 x 3,5 & 1 x 3",13.5,4,null,null,null,null,null,null,null,null,null,null,null,null,null,null,null,null,null,null,null,null,null,null,5.5,null,null,1,1,2,"& 1 x 3 & 1 x 2,5","1 x 3 & 1 x 2,5"]
["(21 / 1500 / 70 / SERIE 2)","SERIE 2",70,21,14000,1500,630,"4 x 3,5",14,4,null,null,null,null,null,null,null,null,null,null,null,null,null,null,null,null,null,null,null,null,null,null,6,null,null,2,null,2,"& 2 x 3 ","2 x 3",6]
["8 / 2000 / 70 / SERIE 3","SERIE 3",70,8,4000,2000,935,"2 x 2",4,2,null,null,null,null,null,null,null,null,null,null,null,null,null,null,null,null,null,null,null,null,null,null,11,null,null,2,2,4,"& 2 x 3 & 2 x 2,5","2 x 3 & 2 x 2,5"]
["12 / 2000 / 70 / SERIE 3","SERIE 3",70,12,6000,2000,935,"2 x 3",6,2,null,null,null,null,null,null,null,null,null,null,null,null,null,null,null,null,null,null,null,null,null,null,13,null,2,2,null,4,"& 2 x 3,5 & 2 x 3 ","2 x 3,5 & 2 x 3"]
["13 / 2000 / 70 / SERIE 3","SERIE 3",70,13,6500,2000,935,"1 x 3,5 & 1 x 3",6.5,2,null,null,null,null,null,null,null,null,null,null,null,null,null,null,null,null,null,null,null,null,null,null,13.5,null,3,1,null,4,"& 3 x 3,5 & 1 x 3 ","3 x 3,5 & 1 x 3"]
["14 / 2000 / 70 / SERIE 3","SERIE 3",70,14,7000,2000,935,"2 x 3,5",7,2,null,null,null,null,null,null,null,null,null,null,null,null,null,null,null,null,null,null,null,null,null,null,14,null,4,null,null,4,"& 4 x 3,5 ","4 x 3,5",14]
["15 / 2000 / 70 / SERIE 3","SERIE 3",70,15,7500,2000,935,"3 x 2,5",7.5,3]
["16 / 2000 / 70 / SERIE 3","SERIE 3",70,16,8000,2000,935,"1 x 3 & 2 x 2,5",8,3]
["17 / 2000 / 70 / SERIE 3","SERIE 3",70,17,8500,2000,935,"2 x 3 & 1 x 2,5",8.5,3]
["18 / 2000 / 70 / SERIE 3","SERIE 3",70,18,9000,2000,935,"3 x 3",9,3]
["19 / 2000 / 70 / SERIE 3","SERIE 3",70,19,9500,2000,935,"1 x 3,5 & 2 x 3",9.5,3]
["20 / 2000 / 70 / SERIE 3","SERIE 3",70,20,10000,2000,935,"2 x 3,5 & 1 x 3",10,3]
["21 / 2000 / 70 / SERIE 3","SERIE 3",70,21,10500,2000,935,"3 x 3,5",10.5,3]
["22 / 2000 / 70 / SERIE 3","SERIE 3",70,22,11000,2000,935,"2 x 4 & 1 x 3",11,3]
["23 / 2000 / 70 / SERIE 3","SERIE 3",70,23,11500,2000,935,"2 x 4 & 1 x 3,5",11.5,3]
["24 / 2000 / 70 / SERIE 3","SERIE 3",70,24,12000,2000,935,"3 x 4",12,3]
["25 / 2000 / 70 / SERIE 3","SERIE 3",70,25,12500,2000,935,"1 x 3,5 & 3 x 3",12.5,4]
["26 / 2000 / 70 / SERIE 3","SERIE 3",70,26,13000,2000,935,"2 x 3,5 & 2 x 3",13,4]
["27 / 2000 / 70 / SERIE 3","SERIE 3",70,27,13500,2000,935,"3 x 3,5 & 1 x 3",13.5,4]
["28 / 2000 / 70 / SERIE 3","SERIE 3",70,28,14000,2000,935,"4 x 3,5",14,4]
["29 / 2000 / 70 / SERIE 3","SERIE 3",70,29,14500,2000,935,"1 x 4 & 3 x 3,5",14.5,4]
["30 / 2000 / 70 / SERIE 3","SERIE 3",70,30,15000,2000,935,"3 x 4 & 1 x 3",15,4]
["31 / 2000 / 70 / SERIE 3","SERIE 3",70,31,15500,2000,935,"3 x 4 & 1 x 3,5",15.5,4]
["32 / 2000 / 70 / SERIE 3","SERIE 3",70,32,16000,2000,935,"4 x 4",16,4]
["33 / 2000 / 70 / SERIE 3","SERIE 3",70,33,16500,2000,935,"3 x 3,5 & 2 x 3",16.5,5]
["34 / 2000 / 70 / SERIE 3","SERIE 3",70,34,17000,2000,935,"4 x 3,5 & 1 x 3",17,5]
["35 / 2000 / 70 / SERIE 3","SERIE 3",70,35,17500,2000,935,"5 x 3,5",17.5,5]
["36 / 2000 / 70 / SERIE 3","SERIE 3",70,36,18000,2000,935,"3 x 4 & 2 x 3",18,5]
["37 / 2000 / 70 / SERIE 4","SERIE 4",70,37,18500,2000,1210,"2 x 4 & 3 x 3,5",18.5,5]
["38 / 2000 / 70 / SERIE 4","SERIE 4",70,38,19000,2000,1210,"4 x 4 & 1 x 3",19,5]
["39 / 2000 / 70 / SERIE 4","SERIE 4",70,39,19500,2000,1210,"4 x 4 & 1 x 3,5",19.5,5]
["40 / 2000 / 70 / SERIE 4","SERIE 4",70,40,20000,2000,1210,"5 x 4",20,5]
["18 / 3000 / 70 / SERIE 4","SERIE 4",70,18,6000,3000,1210,"2 x 3",6,2]
["19,5 / 3000 / 70 / SERIE 4","SERIE 4",70,19.5,6500,3000,1210,"1 x 3,5 & 1 x 3",6.5,2]
["21 / 3000 / 70 / SERIE 4","SERIE 4",70,21,7000,3000,1210,"2 x 3,5",7,2]
["22,5 / 3000 / 70 / SERIE 4","SERIE 4",70,22.5,7500,3000,1210,"3 x 2,5",7.5,3]
["24 / 3000 / 70 / SERIE 4","SERIE 4",70,24,8000,3000,1210,"1 x 3 & 2 x 2,5",8,3]
["25,5 / 3000 / 70 / SERIE 4","SERIE 4",70,25.5,8500,3000,1210,"2 x 3 & 1 x 2,5",8.5,3]
["27 / 3000 / 70 / SERIE 4","SERIE 4",70,27,9000,3000,1210,"3 x 3",9,3]
["28,5 / 3000 / 70 / SERIE 4","SERIE 4",70,28.5,9500,3000,1210,"1 x 3,5 & 2 x 3",9.5,3]
["30 / 3000 / 70 / SERIE 4","SERIE 4",70,30,10000,3000,1210,"2 x 3,5 & 1 x 3",10,3]
["31,5 / 3000 / 70 / SERIE 4","SERIE 4",70,31.5,10500,3000,1210,"3 x 3,5",10.5,3]
["33 / 3000 / 70 / SERIE 4","SERIE 4",70,33,11000,3000,1210,"2 x 4 & 1 x 3",11,3]
["34,5 / 3000 / 70 / SERIE 4","SERIE 4",70,34.5,11500,3000,1210,"2 x 4 & 1 x 3,5",11.5,3]
["36 / 3000 / 70 / SERIE 4","SERIE 4",70,36,12000,3000,1210,"3 x 4",12,3]
["37,5 / 3000 / 70 / SERIE 4","SERIE 4",70,37.5,12500,3000,1210,"1 x 3,5 & 3 x 3",12.5,4]
["39 / 3000 / 70 / SERIE 4","SERIE 4",70,39,13000,3000,1210,"2 x 3,5 & 2 x 3",13,4]
["40,5 / 3000 / 70 / SERIE 4","SERIE 4",70,40.5,13500,3000,1210,"3 x 3,5 & 1 x 3",13.5,4]
["42 / 3000 / 70 / SERIE 4","SERIE 4",70,42,14000,3000,1210,"4 x 3,5",14,4]
["43,5 / 3000 / 70 / SERIE 4","SERIE 4",70,43.5,14500,3000,1210,"1 x 4 & 3 x 3,5",14.5,4]
["45 / 3000 / 70 / SERIE 4","SERIE 4",70,45,15000,3000,1210,"3 x 4 & 1 x 3",15,4]
["46,5 / 3000 / 70 / SERIE 4","SERIE 4",70,46.5,15500,3000,1210,"3 x 4 & 1 x 3,5",15.5,4]
["48 / 3000 / 70 / SERIE 4","SERIE 4",70,48,16000,3000,1210,"4 x 4",16,4]
["49,5 / 3000 / 70 / SERIE 4","SERIE 4",70,49.5,16500,3000,1210,"3 x 3,5 & 2 x 3",16.5,5]
["51 / 3000 / 70 / SERIE 4","SERIE 4",70,51,17000,3000,1210,"4 x 3,5 & 1 x 3",17,5]
["52,5 / 3000 / 70 / SERIE 4","SERIE 4",70,52.5,17500,3000,1210,"5 x 3,5",17.5,5]
["54 / 3000 / 70 / SERIE 4","SERIE 4",70,54,18000,3000,1210,"3 x 4 & 2 x 3",18,5]
["55,5 / 3000 / 70 / SERIE 4","SERIE 4",70,55.5,18500,3000,1210,"2 x 4 & 3 x 3,5",18.5,5]
["57 / 3000 / 70 / SERIE 4","SERIE 4",70,57,19000,3000,1210,"4 x 4 & 1 x 3",19,5]
["58,5 / 3000 / 70 / SERIE 4","SERIE 4",70,58.5,19500,3000,1210,"4 x 4 & 1 x 3,5",19.5,5]
["60 / 3000 / 70 / SERIE 4","SERIE 4",70,60,20000,3000,1210,"5 x 4",20,5]
["61,5 / 3000 / 70 / SERIE 4","SERIE 4",70,61.5,20500,3000,1210,"5 x 3,5 & 1 x 3",20.5,6]
["63 / 3000 / 70 / SERIE 4","SERIE 4",70,63,21000,3000,1210,"6 x 3,5",21,6]
["64,5 / 3000 / 70 / SERIE 4","SERIE 4",70,64.5,21500,3000,1210,"1 x 4 & 5 x 3,5",21.5,6]
["66 / 3000 / 70 / SERIE 4","SERIE 4",70,66,22000,3000,1210,"2 x 4 & 4 x 3,5",22,6]
["67,5 / 3000 / 70 / SERIE 4","SERIE 4",70,67.5,22500,3000,1210,"3 x 4 & 3 x 3,5",22.5,6]
["69 / 3000 / 70 / SERIE 4","SERIE 4",70,69,23000,3000,1210,"5 x 4 & 1 x 3",23,6]
["70,5 / 3000 / 70 / SERIE 4","SERIE 4",70,70.5,23500,3000,1210,"5 x 4 & 1 x 3,5",23.5,6]
["72 / 3000 / 70 / SERIE 4","SERIE 4",70,72,24000,3000,1210,"6 x 4",24,6]
["73,5 / 3000 / 70 / SERIE 4","SERIE 4",70,73.5,24500,3000,1210,"7 x 3,5",24.5,7]
["75 / 3000 / 70 / SERIE 4","SERIE 4",70,75,25000,3000,1210,"1 x 4 & 6 x 3,5",25,7]
["76,5 / 3000 / 70 / SERIE 4","SERIE 4",70,76.5,25500,3000,1210,"2 x 4 & 5 x 3,5",25.5,7]
["78 / 3000 / 70 / SERIE 4","SERIE 4",70,78,26000,3000,1210,"3 x 4 & 4 x 3,5",26,7]
["79,5 / 3000 / 70 / SERIE 4","SERIE 4",70,79.5,26500,3000,1210,"4 x 4 & 3 x 3,5",26.5,7]
["81 / 3000 / 70 / SERIE 4","SERIE 4",70,81,27000,3000,1210,"5 x 4 & 2 x 3,5",27,7]
["82,5 / 3000 / 70 / SERIE 4","SERIE 4",70,82.5,27500,3000,1210,"6 x 4 & 1 x 3,5",27.5,7]
["84 / 3000 / 70 / SERIE 4","SERIE 4",70,84,28000,3000,1210,"7 x 4",28,7]
["85,5 / 3000 / 70 / SERIE 4","SERIE 4",70,85.5,28500,3000,1210,"1 x 4 & 7 x 3,5",28.5,8]
["87 / 3000 / 70 / SERIE 4","SERIE 4",70,87,29000,3000,1210,"2 x 4 & 6 x 3,5",29,8]
["88,5 / 3000 / 70 / SERIE 4","SERIE 4",70,88.5,29500,3000,1210,"3 x 4 & 5 x 3,5",29.5,8]
["90 / 3000 / 70 / SERIE 4","SERIE 4",70,90,30000,3000,1210,"4 x 4 & 4 x 3,5",30,8]
["91,5 / 3000 / 70 / SERIE 4","SERIE 4",70,91.5,30500,3000,1210,"5 x 4 & 3 x 3,5",30.5,8]
["93 / 3000 / 70 / SERIE 4","SERIE 4",70,93,31000,3000,1210,"6 x 4 & 2 x 3,5",31,8]
["94,5 / 3000 / 70 / SERIE 4","SERIE 4",70,94.5,31500,3000,1210,"7 x 4 & 1 x 3,5",31.5,8]
["96 / 3000 / 70 / SERIE 4","SERIE 4",70,96,32000,3000,1210,"8 x 4",32,8]
["97,5 / 3000 / 70 / SERIE 4","SERIE 4",70,97.5,32500,3000,1210,"2 x 4 & 7 x 3,5",32.5,9]
["99 / 3000 / 70 / SERIE 4","SERIE 4",70,99,33000,3000,1210,"3 x 4 & 6 x 3,5",33,9]
["(100,5 / 3000 / 70 / SERIE 5)","SERIE 5",70,100.5,33500,3000,1210,"3 x 4 & 6 x 3,5",33.5,9,null,"100,5 / 3000 / 70 / SERIE 5"]
["(102 / 3000 / 70 / SERIE 5)","SERIE 5",70,102,34000,3000,1210,"3 x 4 & 6 x 3,5",34,9,null,"102 / 3000 / 70 / SERIE 5"]
["(103,5 / 3000 / 70 / SERIE 5)","SERIE 5",70,103.5,34500,3000,1210,"3 x 4 & 6 x 3,5",34.5,9,null,"103,5 / 3000 / 70 / SERIE 5"]
["(105 / 3000 / 70 / SERIE 5)","SERIE 5",70,105,35000,3000,1210,"3 x 4 & 6 x 3,5",35,9,null,"105 / 3000 / 70 / SERIE 5"]
["(106,5 / 3000 / 70 / SERIE 5)","SERIE 5",70,106.5,35500,3000,1210,"8 x 4 & 1 x 3,5",35.5,9,null,"106,5 / 3000 / 70 / SERIE 5"]
["(108 / 3000 / 70 / SERIE 5)","SERIE 5",70,108,36000,3000,1210,"9 x 4",36,9,null,"108 / 3000 / 70 / SERIE 5"]
["48 / 4000 / 70 / SERIE 4","SERIE 4",70,48,12000,4000,1210,"3 x 4",12,3,null,"48 / 4000 / 70 / SERIE 4"]
["50 / 4000 / 70 / SERIE 4","SERIE 4",70,50,12500,4000,1210,"1 x 3,5 & 3 x 3",12.5,4,null,"50 / 4000 / 70 / SERIE 4"]
["52 / 4000 / 70 / SERIE 4","SERIE 4",70,52,13000,4000,1210,"2 x 3,5 & 2 x 3",13,4,null,"52 / 4000 / 70 / SERIE 4"]
["54 / 4000 / 70 / SERIE 4","SERIE 4",70,54,13500,4000,1210,"3 x 3,5 & 1 x 3",13.5,4,null,"54 / 4000 / 70 / SERIE 4"]
["56 / 4000 / 70 / SERIE 4","SERIE 4",70,56,14000,4000,1210,"4 x 3,5",14,4,null,"56 / 4000 / 70 / SERIE 4"]
["58 / 4000 / 70 / SERIE 4","SERIE 4",70,58,14500,4000,1210,"1 x 4 & 3 x 3,5",14.5,4,null,"58 / 4000 / 70 / SERIE 4"]
["60 / 4000 / 70 / SERIE 4","SERIE 4",70,60,15000,4000,1210,"3 x 4 & 1 x 3",15,4,null,"60 / 4000 / 70 / SERIE 4"]
["62 / 4000 / 70 / SERIE 4","SERIE 4",70,62,15500,4000,1210,"3 x 4 & 1 x 3,5",15.5,4,null,"62 / 4000 / 70 / SERIE 4"]
["64 / 4000 / 70 / SERIE 4","SERIE 4",70,64,16000,4000,1210,"4 x 4",16,4,null,"64 / 4000 / 70 / SERIE 4"]
["66 / 4000 / 70 / SERIE 4","SERIE 4",70,66,16500,4000,1210,"3 x 3,5 & 2 x 3",16.5,5,null,"66 / 4000 / 70 / SERIE 4"]
["68 / 4000 / 70 / SERIE 4","SERIE 4",70,68,17000,4000,1210,"4 x 3,5 & 1 x 3",17,5,null,"68 / 4000 / 70 / SERIE 4"]
["70 / 4000 / 70 / SERIE 4","SERIE 4",70,70,17500,4000,1210,"5 x 3,5",17.5,5,null,"70 / 4000 / 70 / SERIE 4"]
["72 / 4000 / 70 / SERIE 4","SERIE 4",70,72,18000,4000,1210,"3 x 4 & 2 x 3",18,5,null,"72 / 4000 / 70 / SERIE 4"]
["74 / 4000 / 70 / SERIE 4","SERIE 4",70,74,18500,4000,1210,"2 x 4 & 3 x 3,5",18.5,5,null,"74 / 4000 / 70 / SERIE 4"]
["76 / 4000 / 70 / SERIE 4","SERIE 4",70,76,19000,4000,1210,"4 x 4 & 1 x 3",19,5,null,"76 / 4000 / 70 / SERIE 4"]
["78 / 4000 / 70 / SERIE 4","SERIE 4",70,78,19500,4000,1210,"4 x 4 & 1 x 3,5",19.5,5,null,"78 / 4000 / 70 / SERIE 4"]
["80 / 4000 / 70 / SERIE 4","SERIE 4",70,80,20000,4000,1210,"5 x 4",20,5,null,"80 / 4000 / 70 / SERIE 4"]
["82 / 4000 / 70 / SERIE 4","SERIE 4",70,82,20500,4000,1210,"5 x 3,5 & 1 x 3",20.5,6,null,"82 / 4000 / 70 / SERIE 4"]
["84 / 4000 / 70 / SERIE 4","SERIE 4",70,84,21000,4000,1210,"6 x 3,5",21,6,null,"84 / 4000 / 70 / SERIE 4"]
["86 / 4000 / 70 / SERIE 4","SERIE 4",70,86,21500,4000,1210,"1 x 4 & 5 x 3,5",21.5,6,null,"86 / 4000 / 70 / SERIE 4"]
["88 / 4000 / 70 / SERIE 4","SERIE 4",70,88,22000,4000,1210,"2 x 4 & 4 x 3,5",22,6,null,"88 / 4000 / 70 / SERIE 4"]
["90 / 4000 / 70 / SERIE 4","SERIE 4",70,90,22500,4000,1210,"3 x 4 & 3 x 3,5",22.5,6,null,"90 / 4000 / 70 / SERIE 4"]
["92 / 4000 / 70 / SERIE 4","SERIE 4",70,92,23000,4000,1210,"5 x 4 & 1 x 3",23,6,null,"92 / 4000 / 70 / SERIE 4"]
["94 / 4000 / 70 / SERIE 4","SERIE 4",70,94,23500,4000,1210,"5 x 4 & 1 x 3,5",23.5,6,null,"94 / 4000 / 70 / SERIE 4"]
["96 / 4000 / 70 / SERIE 4","SERIE 4",70,96,24000,4000,1210,"6 x 4",24,6,null,"96 / 4000 / 70 / SERIE 4"]
["98 / 4000 / 70 / SERIE 4","SERIE 4",70,98,24500,4000,1210,"7 x 3,5",24.5,7,null,"98 / 4000 / 70 / SERIE 4"]
["100 / 4000 / 70 / SERIE 4","SERIE 4",70,100,25000,4000,1210,"1 x 4 & 6 x 3,5",25,7,null,"100 / 4000 / 70 / SERIE 4"]
["102 / 4000 / 70 / SERIE 4","SERIE 4",70,102,25500,4000,1210,"2 x 4 & 5 x 3,5",25.5,7,null,"102 / 4000 / 70 / SERIE 4"]
["104 / 4000 / 70 / SERIE 4","SERIE 4",70,104,26000,4000,1210,"3 x 4 & 4 x 3,5",26,7,null,"104 / 4000 / 70 / SERIE 4"]
["106 / 4000 / 70 / SERIE 4","SERIE 4",70,106,26500,4000,1210,"4 x 4 & 3 x 3,5",26.5,7,null,"106 / 4000 / 70 / SERIE 4"]
["108 / 4000 / 70 / SERIE 4","SERIE 4",70,108,27000,4000,1210,"5 x 4 & 2 x 3,5",27,7,null,"108 / 4000 / 70 / SERIE 4"]
["110 / 4000 / 70 / SERIE 4","SERIE 4",70,110,27500,4000,1210,"6 x 4 & 1 x 3,5",27.5,7,null,"110 / 4000 / 70 / SERIE 4"]
["112 / 4000 / 70 / SERIE 4","SERIE 4",70,112,28000,4000,1210,"7 x 4",28,7,null,"112 / 4000 / 70 / SERIE 4"]
["114 / 4000 / 70 / SERIE 4","SERIE 4",70,114,28500,4000,1210,"1 x 4 & 7 x 3,5",28.5,8,null,"114 / 4000 / 70 / SERIE 4"]
["116 / 4000 / 70 / SERIE 4","SERIE 4",70,116,29000,4000,1210,"2 x 4 & 6 x 3,5",29,8,null,"116 / 4000 / 70 / SERIE 4"]
["118 / 4000 / 70 / SERIE 4","SERIE 4",70,118,29500,4000,1210,"3 x 4 & 5 x 3,5",29.5,8,null,"118 / 4000 / 70 / SERIE 4"]
["120 / 4000 / 70 / SERIE 4","SERIE 4",70,120,30000,4000,1210,"4 x 4 & 4 x 3,5",30,8,null,"120 / 4000 / 70 / SERIE 4"]
["122 / 4000 / 70 / SERIE 4","SERIE 4",70,122,30500,4000,1210,"5 x 4 & 3 x 3,5",30.5,8,null,"122 / 4000 / 70 / SERIE 4"]
["124 / 4000 / 70 / SERIE 4","SERIE 4",70,124,31000,4000,1210,"6 x 4 & 2 x 3,5",31,8,null,"124 / 4000 / 70 / SERIE 4"]
["126 / 4000 / 70 / SERIE 4","SERIE 4",70,126,31500,4000,1210,"7 x 4 & 1 x 3,5",31.5,8,null,"126 / 4000 / 70 / SERIE 4"]
["128 / 4000 / 70 / SERIE 4","SERIE 4",70,128,32000,4000,1210,"8 x 4",32,8,null,"128 / 4000 / 70 / SERIE 4"]
["130 / 4000 / 70 / SERIE 4","SERIE 4",70,130,32500,4000,1210,"2 x 4 & 7 x 3,5",32.5,9,null,"130 / 4000 / 70 / SERIE 4"]
["132 / 4000 / 70 / SERIE 4","SERIE 4",70,132,33000,4000,1210,"3 x 4 & 6 x 3,5",33,9,null,"132 / 4000 / 70 / SERIE 4"]
["134 / 4000 / 70 / SERIE 4","SERIE 4",70,134,33500,4000,1210,"3 x 4 & 6 x 3,5",33.5,9,null,"134 / 4000 / 70 / SERIE 4"]
["136 / 4000 / 70 / SERIE 4","SERIE 4",70,136,34000,4000,1210,"3 x 4 & 6 x 3,5",34,9,null,"136 / 4000 / 70 / SERIE 4"]
["56,7 / 4200 / 70 / SERIE 4","SERIE 4",70,56.7,13500,4200,1210,"3 x 3,5 & 1 x 3",13.5,4]
["58,8 / 4200 / 70 / SERIE 4","SERIE 4",70,58.8,14000,4200,1210,"4 x 3,5",14,4]
["60,9 / 4200 / 70 / SERIE 4","SERIE 4",70,60.9,14500,4200,1210,"1 x 4 & 3 x 3,5",14.5,4]
["63 / 4200 / 70 / SERIE 4","SERIE 4",70,63,15000,4200,1210,"3 x 4 & 1 x 3",15,4]
["65,1 / 4200 / 70 / SERIE 4","SERIE 4",70,65.099999999999994,15500,4200,1210,"3 x 4 & 1 x 3,5",15.5,4]
["67,2 / 4200 / 70 / SERIE 4","SERIE 4",70,67.2,16000,4200,1210,"4 x 4",16,4]
["69,3 / 4200 / 70 / SERIE 4","SERIE 4",70,69.3,16500,4200,1210,"3 x 3,5 & 2 x 3",16.5,5]
["71,4 / 4200 / 70 / SERIE 4","SERIE 4",70,71.400000000000006,17000,4200,1210,"4 x 3,5 & 1 x 3",17,5]
["73,5 / 4200 / 70 / SERIE 4","SERIE 4",70,73.5,17500,4200,1210,"5 x 3,5",17.5,5]
["75,6 / 4200 / 70 / SERIE 4","SERIE 4",70,75.599999999999994,18000,4200,1210,"3 x 4 & 2 x 3",18,5]
["77,7 / 4200 / 70 / SERIE 4","SERIE 4",70,77.7,18500,4200,1210,"2 x 4 & 3 x 3,5",18.5,5]
["79,8 / 4200 / 70 / SERIE 4","SERIE 4",70,79.8,19000,4200,1210,"4 x 4 & 1 x 3",19,5]
["81,9 / 4200 / 70 / SERIE 4","SERIE 4",70,81.900000000000006,19500,4200,1210,"4 x 4 & 1 x 3,5",19.5,5]
["84 / 4200 / 70 / SERIE 4","SERIE 4",70,84,20000,4200,1210,"5 x 4",20,5]
["86,1 / 4200 / 70 / SERIE 4","SERIE 4",70,86.1,20500,4200,1210,"5 x 3,5 & 1 x 3",20.5,6]
["88,2 / 4200 / 70 / SERIE 4","SERIE 4",70,88.2,21000,4200,1210,"6 x 3,5",21,6]
["90,3 / 4200 / 70 / SERIE 4","SERIE 4",70,90.3,21500,4200,1210,"1 x 4 & 5 x 3,5",21.5,6]
["92,4 / 4200 / 70 / SERIE 4","SERIE 4",70,92.4,22000,4200,1210,"2 x 4 & 4 x 3,5",22,6]
["94,5 / 4200 / 70 / SERIE 4","SERIE 4",70,94.5,22500,4200,1210,"3 x 4 & 3 x 3,5",22.5,6]
["96,6 / 4200 / 70 / SERIE 4","SERIE 4",70,96.6,23000,4200,1210,"5 x 4 & 1 x 3",23,6]
["98,7 / 4200 / 70 / SERIE 4","SERIE 4",70,98.7,23500,4200,1210,"5 x 4 & 1 x 3,5",23.5,6]
["100,8 / 4200 / 70 / SERIE 4","SERIE 4",70,100.8,24000,4200,1210,"6 x 4",24,6]
["102,9 / 4200 / 70 / SERIE 4","SERIE 4",70,102.9,24500,4200,1210,"7 x 3,5",24.5,7]
["105 / 4200 / 70 / SERIE 4","SERIE 4",70,105,25000,4200,1210,"1 x 4 & 6 x 3,5",25,7]
["107,1 / 4200 / 70 / SERIE 4","SERIE 4",70,107.1,25500,4200,1210,"2 x 4 & 5 x 3,5",25.5,7]
["109,2 / 4200 / 70 / SERIE 4","SERIE 4",70,109.2,26000,4200,1210,"3 x 4 & 4 x 3,5",26,7]
["111,3 / 4200 / 70 / SERIE 4","SERIE 4",70,111.3,26500,4200,1210,"4 x 4 & 3 x 3,5",26.5,7]
["113,4 / 4200 / 70 / SERIE 4","SERIE 4",70,113.4,27000,4200,1210,"5 x 4 & 2 x 3,5",27,7]
["115,5 / 4200 / 70 / SERIE 4","SERIE 4",70,115.5,27500,4200,1210,"6 x 4 & 1 x 3,5",27.5,7]
["117,6 / 4200 / 70 / SERIE 4","SERIE 4",70,117.6,28000,4200,1210,"7 x 4",28,7]
["119,7 / 4200 / 70 / SERIE 4","SERIE 4",70,119.7,28500,4200,1210,"1 x 4 & 7 x 3,5",28.5,8]
["121,8 / 4200 / 70 / SERIE 4","SERIE 4",70,121.8,29000,4200,1210,"2 x 4 & 6 x 3,5",29,8]
["123,9 / 4200 / 70 / SERIE 4","SERIE 4",70,123.9,29500,4200,1210,"3 x 4 & 5 x 3,5",29.5,8]
["126 / 4200 / 70 / SERIE 4","SERIE 4",70,126,30000,4200,1210,"4 x 4 & 4 x 3,5",30,8]
["128,1 / 4200 / 70 / SERIE 4","SERIE 4",70,128.1,30500,4200,1210,"5 x 4 & 3 x 3,5",30.5,8]
["130,2 / 4200 / 70 / SERIE 4","SERIE 4",70,130.19999999999999,31000,4200,1210,"6 x 4 & 2 x 3,5",31,8]
["132,3 / 4200 / 70 / SERIE 4","SERIE 4",70,132.30000000000001,31500,4200,1210,"7 x 4 & 1 x 3,5",31.5,8]
["134,4 / 4200 / 70 / SERIE 4","SERIE 4",70,134.4,32000,4200,1210,"8 x 4",32,8]
["136,5 / 4200 / 70 / SERIE 4","SERIE 4",70,136.5,32500,4200,1210,"2 x 4 & 7 x 3,5",32.5,9]
["138,6 / 4200 / 70 / SERIE 4","SERIE 4",70,138.6,33000,4200,1210,"3 x 4 & 6 x 3,5",33,9]
["140,7 / 4200 / 70 / SERIE 4","SERIE 4",70,140.69999999999999,33500,4200,1210,"3 x 4 & 6 x 3,5",33.5,9]
["142,8 / 4200 / 70 / SERIE 4","SERIE 4",70,142.80000000000001,34000,4200,1210,"3 x 4 & 6 x 3,5",34,9]
["144,9 / 4200 / 70 / SERIE 5","SERIE 5",70,144.9,34500,4200,1210,"3 x 4 & 6 x 3,5",34.5,9]
["147 / 4200 / 70 / SERIE 5","SERIE 5",70,147,35000,4200,1400,"3 x 4 & 6 x 3,5",35,9]
["149,1 / 4200 / 70 / SERIE 5","SERIE 5",70,149.1,35500,4200,1400,"8 x 4 & 1 x 3,5",35.5,9]
["151,2 / 4200 / 70 / SERIE 5","SERIE 5",70,151.19999999999999,36000,4200,1400,"9 x 4",36,9]
["153,3 / 4200 / 70 / SERIE 5","SERIE 5",70,153.30000000000001,36500,4200,1400,"3 x 4 & 7 x 3,5",36.5,10]
["155,4 / 4200 / 70 / SERIE 5","SERIE 5",70,155.4,37000,4200,1400,"4 x 4 & 6 x 3,5",37,10]
["157,5 / 4200 / 70 / SERIE 5","SERIE 5",70,157.5,37500,4200,1400,"5 x 4 & 5 x 3,5",37.5,10]
["159,6 / 4200 / 70 / SERIE 5","SERIE 5",70,159.6,38000,4200,1400,"6 x 4 & 4 x 3,5",38,10]
["161,7 / 4200 / 70 / SERIE 5","SERIE 5",70,161.69999999999999,38500,4200,1400,"7 x 4 & 3 x 3,5",38.5,10]
["163,8 / 4200 / 70 / SERIE 5","SERIE 5",70,163.80000000000001,39000,4200,1400,"8 x 4 & 2 x 3,5",39,10]
["165,9 / 4200 / 70 / SERIE 5","SERIE 5",70,165.9,39500,4200,1400,"9 x 4 & 1 x 3,5",39.5,10]
["168 / 4200 / 70 / SERIE 5","SERIE 5",70,168,40000,4200,1400,"10 x 4",40,10]
["(13,75 / 1250 / 120 / SERIE 3)","SERIE 3",120,13.75,11000,1250,935,"2 x 4 & 1 x 3",11,3]
["(14,38 / 1250 / 120 / SERIE 3)","SERIE 3",120,14.38,11500,1250,935,"2 x 4 & 1 x 3,5",11.5,3]
["(15 / 1250 / 120 / SERIE 3)","SERIE 3",120,15,12000,1250,935,"3 x 4",12,3]
["(15,63 / 1250 / 120 / SERIE 3)","SERIE 3",120,15.63,12500,1250,935,"1 x 3,5 & 3 x 3",12.5,4]
["(16,5 / 1500 / 120 / SERIE 3)","SERIE 3",120,16.5,11000,1500,935,"2 x 4 & 1 x 3",11,3]
["(17,25 / 1500 / 120 / SERIE 3)","SERIE 3",120,17.25,11500,1500,935,"2 x 4 & 1 x 3,5",11.5,3]
["(18 / 1500 / 120 / SERIE 3)","SERIE 3",120,18,12000,1500,935,"3 x 4",12,3]
["(18,75 / 1500 / 120 / SERIE 3)","SERIE 3",120,18.75,12500,1500,935,"1 x 3,5 & 3 x 3",12.5,4]
["(19,5 / 1500 / 120 / SERIE 3)","SERIE 3",120,19.5,13000,1500,935,"2 x 3,5 & 2 x 3",13,4]
["(20,25 / 1500 / 120 / SERIE 3)","SERIE 3",120,20.25,13500,1500,935,"3 x 3,5 & 1 x 3",13.5,4]
["(21 / 1500 / 120 / SERIE 3)","SERIE 3",120,21,14000,1500,935,"4 x 3,5",14,4]
["(21,75 / 1500 / 120 / SERIE 3)","SERIE 3",120,21.75,14500,1500,935,"1 x 4 & 3 x 3,5",14.5,4]
["(22,5 / 1500 / 120 / SERIE 3)","SERIE 3",120,22.5,15000,1500,935,"3 x 4 & 1 x 3",15,4]
["8 / 2000 / 120 / SERIE 3","SERIE 3",120,8,4000,2000,935,"2 x 2",4,2]
["12 / 2000 / 120 / SERIE 3","SERIE 3",120,12,6000,2000,935,"2 x 3",6,2]
["13 / 2000 / 120 / SERIE 3","SERIE 3",120,13,6500,2000,935,"1 x 3,5 & 1 x 3",6.5,2]
["14 / 2000 / 120 / SERIE 3","SERIE 3",120,14,7000,2000,935,"2 x 3,5",7,2]
["15 / 2000 / 120 / SERIE 3","SERIE 3",120,15,7500,2000,935,"3 x 2,5",7.5,3]
["16 / 2000 / 120 / SERIE 3","SERIE 3",120,16,8000,2000,935,"1 x 3 & 2 x 2,5",8,3]
["17 / 2000 / 120 / SERIE 3","SERIE 3",120,17,8500,2000,935,"2 x 3 & 1 x 2,5",8.5,3]
["18 / 2000 / 120 / SERIE 3","SERIE 3",120,18,9000,2000,935,"3 x 3",9,3]
["19 / 2000 / 120 / SERIE 3","SERIE 3",120,19,9500,2000,935,"1 x 3,5 & 2 x 3",9.5,3]
["20 / 2000 / 120 / SERIE 3","SERIE 3",120,20,10000,2000,935,"2 x 3,5 & 1 x 3",10,3]
["21 / 2000 / 120 / SERIE 3","SERIE 3",120,21,10500,2000,935,"3 x 3,5",10.5,3]
["22 / 2000 / 120 / SERIE 3","SERIE 3",120,22,11000,2000,935,"2 x 4 & 1 x 3",11,3]
["23 / 2000 / 120 / SERIE 3","SERIE 3",120,23,11500,2000,935,"2 x 4 & 1 x 3,5",11.5,3]
["24 / 2000 / 120 / SERIE 3","SERIE 3",120,24,12000,2000,935,"3 x 4",12,3]
["25 / 2000 / 120 / SERIE 3","SERIE 3",120,25,12500,2000,935,"1 x 3,5 & 3 x 3",12.5,4]
["26 / 2000 / 120 / SERIE 3","SERIE 3",120,26,13000,2000,935,"2 x 3,5 & 2 x 3",13,4]
["27 / 2000 / 120 / SERIE 3","SERIE 3",120,27,13500,2000,935,"3 x 3,5 & 1 x 3",13.5,4]
["28 / 2000 / 120 / SERIE 3","SERIE 3",120,28,14000,2000,935,"4 x 3,5",14,4]
["29 / 2000 / 120 / SERIE 3","SERIE 3",120,29,14500,2000,935,"1 x 4 & 3 x 3,5",14.5,4]
["30 / 2000 / 120 / SERIE 3","SERIE 3",120,30,15000,2000,935,"3 x 4 & 1 x 3",15,4]
["31 / 2000 / 120 / SERIE 3","SERIE 3",120,31,15500,2000,935,"3 x 4 & 1 x 3,5",15.5,4]
["32 / 2000 / 120 / SERIE 3","SERIE 3",120,32,16000,2000,935,"4 x 4",16,4]
["33 / 2000 / 120 / SERIE 3","SERIE 3",120,33,16500,2000,935,"3 x 3,5 & 2 x 3",16.5,5]
["34 / 2000 / 120 / SERIE 3","SERIE 3",120,34,17000,2000,935,"4 x 3,5 & 1 x 3",17,5]
["35 / 2000 / 120 / SERIE 3","SERIE 3",120,35,17500,2000,935,"5 x 3,5",17.5,5]
["36 / 2000 / 120 / SERIE 3","SERIE 3",120,36,18000,2000,935,"3 x 4 & 2 x 3",18,5]
["(37 / 2000 / 120 / SERIE 3)","SERIE 3",120,37,18500,2000,1210,"2 x 4 & 3 x 3,5",18.5,5]
["(38 / 2000 / 120 / SERIE 3)","SERIE 3",120,38,19000,2000,1210,"4 x 4 & 1 x 3",19,5]
["(39 / 2000 / 120 / SERIE 3)","SERIE 3",120,39,19500,2000,1210,"4 x 4 & 1 x 3,5",19.5,5]
["(40 / 2000 / 120 / SERIE 3)","SERIE 3",120,40,20000,2000,1210,"5 x 4",20,5]
["37 / 2000 / 120 / SERIE 4","SERIE 4",120,37,18500,2000,1210,"2 x 4 & 3 x 3,5",18.5,5]
["38 / 2000 / 120 / SERIE 4","SERIE 4",120,38,19000,2000,1210,"4 x 4 & 1 x 3",19,5]
["39 / 2000 / 120 / SERIE 4","SERIE 4",120,39,19500,2000,1210,"4 x 4 & 1 x 3,5",19.5,5]
["40 / 2000 / 120 / SERIE 4","SERIE 4",120,40,20000,2000,1210,"5 x 4",20,5]
["18 / 3000 / 120 / SERIE 4","SERIE 4",120,18,6000,3000,1210,"2 x 3",6,2]
["19,5 / 3000 / 120 / SERIE 4","SERIE 4",120,19.5,6500,3000,1210,"1 x 3,5 & 1 x 3",6.5,2]
["21 / 3000 / 120 / SERIE 4","SERIE 4",120,21,7000,3000,1210,"2 x 3,5",7,2]
["22,5 / 3000 / 120 / SERIE 4","SERIE 4",120,22.5,7500,3000,1210,"3 x 2,5",7.5,3]
["24 / 3000 / 120 / SERIE 4","SERIE 4",120,24,8000,3000,1210,"1 x 3 & 2 x 2,5",8,3]
["25,5 / 3000 / 120 / SERIE 4","SERIE 4",120,25.5,8500,3000,1210,"2 x 3 & 1 x 2,5",8.5,3]
["27 / 3000 / 120 / SERIE 4","SERIE 4",120,27,9000,3000,1210,"3 x 3",9,3]
["28,5 / 3000 / 120 / SERIE 4","SERIE 4",120,28.5,9500,3000,1210,"1 x 3,5 & 2 x 3",9.5,3]
["30 / 3000 / 120 / SERIE 4","SERIE 4",120,30,10000,3000,1210,"2 x 3,5 & 1 x 3",10,3]
["31,5 / 3000 / 120 / SERIE 4","SERIE 4",120,31.5,10500,3000,1210,"3 x 3,5",10.5,3]
["33 / 3000 / 120 / SERIE 4","SERIE 4",120,33,11000,3000,1210,"2 x 4 & 1 x 3",11,3]
["34,5 / 3000 / 120 / SERIE 4","SERIE 4",120,34.5,11500,3000,1210,"2 x 4 & 1 x 3,5",11.5,3]
["36 / 3000 / 120 / SERIE 4","SERIE 4",120,36,12000,3000,1210,"3 x 4",12,3]
["37,5 / 3000 / 120 / SERIE 4","SERIE 4",120,37.5,12500,3000,1210,"1 x 3,5 & 3 x 3",12.5,4]
["39 / 3000 / 120 / SERIE 4","SERIE 4",120,39,13000,3000,1210,"2 x 3,5 & 2 x 3",13,4]
["40,5 / 3000 / 120 / SERIE 4","SERIE 4",120,40.5,13500,3000,1210,"3 x 3,5 & 1 x 3",13.5,4]
["42 / 3000 / 120 / SERIE 4","SERIE 4",120,42,14000,3000,1210,"4 x 3,5",14,4]
["43,5 / 3000 / 120 / SERIE 4","SERIE 4",120,43.5,14500,3000,1210,"1 x 4 & 3 x 3,5",14.5,4]
["45 / 3000 / 120 / SERIE 4","SERIE 4",120,45,15000,3000,1210,"3 x 4 & 1 x 3",15,4]
["46,5 / 3000 / 120 / SERIE 4","SERIE 4",120,46.5,15500,3000,1210,"3 x 4 & 1 x 3,5",15.5,4]
["48 / 3000 / 120 / SERIE 4","SERIE 4",120,48,16000,3000,1210,"4 x 4",16,4]
["49,5 / 3000 / 120 / SERIE 4","SERIE 4",120,49.5,16500,3000,1210,"3 x 3,5 & 2 x 3",16.5,5]
["51 / 3000 / 120 / SERIE 4","SERIE 4",120,51,17000,3000,1210,"4 x 3,5 & 1 x 3",17,5]
["52,5 / 3000 / 120 / SERIE 4","SERIE 4",120,52.5,17500,3000,1210,"5 x 3,5",17.5,5]
["54 / 3000 / 120 / SERIE 4","SERIE 4",120,54,18000,3000,1210,"3 x 4 & 2 x 3",18,5]
["55,5 / 3000 / 120 / SERIE 4","SERIE 4",120,55.5,18500,3000,1210,"2 x 4 & 3 x 3,5",18.5,5]
["57 / 3000 / 120 / SERIE 4","SERIE 4",120,57,19000,3000,1210,"4 x 4 & 1 x 3",19,5]
["58,5 / 3000 / 120 / SERIE 4","SERIE 4",120,58.5,19500,3000,1210,"4 x 4 & 1 x 3,5",19.5,5]
["60 / 3000 / 120 / SERIE 4","SERIE 4",120,60,20000,3000,1210,"5 x 4",20,5]
["61,5 / 3000 / 120 / SERIE 4","SERIE 4",120,61.5,20500,3000,1210,"5 x 3,5 & 1 x 3",20.5,6]
["63 / 3000 / 120 / SERIE 4","SERIE 4",120,63,21000,3000,1210,"6 x 3,5",21,6]
["64,5 / 3000 / 120 / SERIE 4","SERIE 4",120,64.5,21500,3000,1210,"1 x 4 & 5 x 3,5",21.5,6]
["66 / 3000 / 120 / SERIE 4","SERIE 4",120,66,22000,3000,1210,"2 x 4 & 4 x 3,5",22,6]
["67,5 / 3000 / 120 / SERIE 4","SERIE 4",120,67.5,22500,3000,1210,"3 x 4 & 3 x 3,5",22.5,6]
["69 / 3000 / 120 / SERIE 4","SERIE 4",120,69,23000,3000,1210,"5 x 4 & 1 x 3",23,6]
["70,5 / 3000 / 120 / SERIE 4","SERIE 4",120,70.5,23500,3000,1210,"5 x 4 & 1 x 3,5",23.5,6]
["72 / 3000 / 120 / SERIE 4","SERIE 4",120,72,24000,3000,1210,"6 x 4",24,6]
["73,5 / 3000 / 120 / SERIE 4","SERIE 4",120,73.5,24500,3000,1210,"7 x 3,5",24.5,7]
["75 / 3000 / 120 / SERIE 4","SERIE 4",120,75,25000,3000,1210,"1 x 4 & 6 x 3,5",25,7]
["76,5 / 3000 / 120 / SERIE 4","SERIE 4",120,76.5,25500,3000,1210,"2 x 4 & 5 x 3,5",25.5,7]
["78 / 3000 / 120 / SERIE 4","SERIE 4",120,78,26000,3000,1210,"3 x 4 & 4 x 3,5",26,7]
["79,5 / 3000 / 120 / SERIE 4","SERIE 4",120,79.5,26500,3000,1210,"4 x 4 & 3 x 3,5",26.5,7]
["81 / 3000 / 120 / SERIE 4","SERIE 4",120,81,27000,3000,1210,"5 x 4 & 2 x 3,5",27,7]
["82,5 / 3000 / 120 / SERIE 4","SERIE 4",120,82.5,27500,3000,1210,"6 x 4 & 1 x 3,5",27.5,7]
["84 / 3000 / 120 / SERIE 4","SERIE 4",120,84,28000,3000,1210,"7 x 4",28,7]
["85,5 / 3000 / 120 / SERIE 4","SERIE 4",120,85.5,28500,3000,1210,"1 x 4 & 7 x 3,5",28.5,8]
["87 / 3000 / 120 / SERIE 4","SERIE 4",120,87,29000,3000,1210,"2 x 4 & 6 x 3,5",29,8]
["88,5 / 3000 / 120 / SERIE 4","SERIE 4",120,88.5,29500,3000,1210,"3 x 4 & 5 x 3,5",29.5,8]
["90 / 3000 / 120 / SERIE 4","SERIE 4",120,90,30000,3000,1210,"4 x 4 & 4 x 3,5",30,8]
["91,5 / 3000 / 120 / SERIE 4","SERIE 4",120,91.5,30500,3000,1210,"5 x 4 & 3 x 3,5",30.5,8]
["93 / 3000 / 120 / SERIE 4","SERIE 4",120,93,31000,3000,1210,"6 x 4 & 2 x 3,5",31,8]
["94,5 / 3000 / 120 / SERIE 4","SERIE 4",120,94.5,31500,3000,1210,"7 x 4 & 1 x 3,5",31.5,8]
["96 / 3000 / 120 / SERIE 4","SERIE 4",120,96,32000,3000,1210,"8 x 4",32,8]
["97,5 / 3000 / 120 / SERIE 4","SERIE 4",120,97.5,32500,3000,1210,"2 x 4 & 7 x 3,5",32.5,9]
["99 / 3000 / 120 / SERIE 4","SERIE 4",120,99,33000,3000,1210,"3 x 4 & 6 x 3,5",33,9]
["(100,5 / 3000 / 120 / SERIE 5)","SERIE 5",120,100.5,33500,3000,1210,"3 x 4 & 6 x 3,5",33.5,9,null,"100,5 / 3000 / 70 / SERIE 5"]
["(102 / 3000 / 120 / SERIE 5)","SERIE 5",120,102,34000,3000,1210,"3 x 4 & 6 x 3,5",34,9,null,"102 / 3000 / 70 / SERIE 5"]
["(103,5 / 3000 / 120 / SERIE 5)","SERIE 5",120,103.5,34500,3000,1210,"3 x 4 & 6 x 3,5",34.5,9,null,"103,5 / 3000 / 70 / SERIE 5"]
["(105 / 3000 / 120 / SERIE 5)","SERIE 5",120,105,35000,3000,1210,"3 x 4 & 6 x 3,5",35,9,null,"105 / 3000 / 70 / SERIE 5"]
["(106,5 / 3000 / 120 / SERIE 5)","SERIE 5",120,106.5,35500,3000,1210,"8 x 4 & 1 x 3,5",35.5,9,null,"106,5 / 3000 / 70 / SERIE 5"]
["(108 / 3000 / 120 / SERIE 5)","SERIE 5",120,108,36000,3000,1210,"9 x 4",36,9,null,"108 / 3000 / 70 / SERIE 5"]
["48 / 4000 / 120 / SERIE 4","SERIE 4",120,48,12000,4000,1210,"3 x 4",12,3,null,"48 / 4000 / 70 / SERIE 4"]
["50 / 4000 / 120 / SERIE 4","SERIE 4",120,50,12500,4000,1210,"1 x 3,5 & 3 x 3",12.5,4,null,"50 / 4000 / 70 / SERIE 4"]
["52 / 4000 / 120 / SERIE 4","SERIE 4",120,52,13000,4000,1210,"2 x 3,5 & 2 x 3",13,4,null,"52 / 4000 / 70 / SERIE 4"]
["54 / 4000 / 120 / SERIE 4","SERIE 4",120,54,13500,4000,1210,"3 x 3,5 & 1 x 3",13.5,4,null,"54 / 4000 / 70 / SERIE 4"]
["56 / 4000 / 120 / SERIE 4","SERIE 4",120,56,14000,4000,1210,"4 x 3,5",14,4,null,"56 / 4000 / 70 / SERIE 4"]
["58 / 4000 / 120 / SERIE 4","SERIE 4",120,58,14500,4000,1210,"1 x 4 & 3 x 3,5",14.5,4,null,"58 / 4000 / 70 / SERIE 4"]
["60 / 4000 / 120 / SERIE 4","SERIE 4",120,60,15000,4000,1210,"3 x 4 & 1 x 3",15,4,null,"60 / 4000 / 70 / SERIE 4"]
["62 / 4000 / 120 / SERIE 4","SERIE 4",120,62,15500,4000,1210,"3 x 4 & 1 x 3,5",15.5,4,null,"62 / 4000 / 70 / SERIE 4"]
["64 / 4000 / 120 / SERIE 4","SERIE 4",120,64,16000,4000,1210,"4 x 4",16,4,null,"64 / 4000 / 70 / SERIE 4"]
["66 / 4000 / 120 / SERIE 4","SERIE 4",120,66,16500,4000,1210,"3 x 3,5 & 2 x 3",16.5,5,null,"66 / 4000 / 70 / SERIE 4"]
["68 / 4000 / 120 / SERIE 4","SERIE 4",120,68,17000,4000,1210,"4 x 3,5 & 1 x 3",17,5,null,"68 / 4000 / 70 / SERIE 4"]
["70 / 4000 / 120 / SERIE 4","SERIE 4",120,70,17500,4000,1210,"5 x 3,5",17.5,5,null,"70 / 4000 / 70 / SERIE 4"]
["72 / 4000 / 120 / SERIE 4","SERIE 4",120,72,18000,4000,1210,"3 x 4 & 2 x 3",18,5,null,"72 / 4000 / 70 / SERIE 4"]
["74 / 4000 / 120 / SERIE 4","SERIE 4",120,74,18500,4000,1210,"2 x 4 & 3 x 3,5",18.5,5,null,"74 / 4000 / 70 / SERIE 4"]
["76 / 4000 / 120 / SERIE 4","SERIE 4",120,76,19000,4000,1210,"4 x 4 & 1 x 3",19,5,null,"76 / 4000 / 70 / SERIE 4"]
["78 / 4000 / 120 / SERIE 4","SERIE 4",120,78,19500,4000,1210,"4 x 4 & 1 x 3,5",19.5,5,null,"78 / 4000 / 70 / SERIE 4"]
["80 / 4000 / 120 / SERIE 4","SERIE 4",120,80,20000,4000,1210,"5 x 4",20,5,null,"80 / 4000 / 70 / SERIE 4"]
["82 / 4000 / 120 / SERIE 4","SERIE 4",120,82,20500,4000,1210,"5 x 3,5 & 1 x 3",20.5,6,null,"82 / 4000 / 70 / SERIE 4"]
["84 / 4000 / 120 / SERIE 4","SERIE 4",120,84,21000,4000,1210,"6 x 3,5",21,6,null,"84 / 4000 / 70 / SERIE 4"]
["86 / 4000 / 120 / SERIE 4","SERIE 4",120,86,21500,4000,1210,"1 x 4 & 5 x 3,5",21.5,6,null,"86 / 4000 / 70 / SERIE 4"]
["88 / 4000 / 120 / SERIE 4","SERIE 4",120,88,22000,4000,1210,"2 x 4 & 4 x 3,5",22,6,null,"88 / 4000 / 70 / SERIE 4"]
["90 / 4000 / 120 / SERIE 4","SERIE 4",120,90,22500,4000,1210,"3 x 4 & 3 x 3,5",22.5,6,null,"90 / 4000 / 70 / SERIE 4"]
["92 / 4000 / 120 / SERIE 4","SERIE 4",120,92,23000,4000,1210,"5 x 4 & 1 x 3",23,6,null,"92 / 4000 / 70 / SERIE 4"]
["94 / 4000 / 120 / SERIE 4","SERIE 4",120,94,23500,4000,1210,"5 x 4 & 1 x 3,5",23.5,6,null,"94 / 4000 / 70 / SERIE 4"]
["96 / 4000 / 120 / SERIE 4","SERIE 4",120,96,24000,4000,1210,"6 x 4",24,6,null,"96 / 4000 / 70 / SERIE 4"]
["98 / 4000 / 120 / SERIE 4","SERIE 4",120,98,24500,4000,1210,"7 x 3,5",24.5,7,null,"98 / 4000 / 70 / SERIE 4"]
["100 / 4000 / 120 / SERIE 4","SERIE 4",120,100,25000,4000,1210,"1 x 4 & 6 x 3,5",25,7,null,"100 / 4000 / 70 / SERIE 4"]
["102 / 4000 / 120 / SERIE 4","SERIE 4",120,102,25500,4000,1210,"2 x 4 & 5 x 3,5",25.5,7,null,"102 / 4000 / 70 / SERIE 4"]
["104 / 4000 / 120 / SERIE 4","SERIE 4",120,104,26000,4000,1210,"3 x 4 & 4 x 3,5",26,7,null,"104 / 4000 / 70 / SERIE 4"]
["106 / 4000 / 120 / SERIE 4","SERIE 4",120,106,26500,4000,1210,"4 x 4 & 3 x 3,5",26.5,7,null,"106 / 4000 / 70 / SERIE 4"]
["108 / 4000 / 120 / SERIE 4","SERIE 4",120,108,27000,4000,1210,"5 x 4 & 2 x 3,5",27,7,null,"108 / 4000 / 70 / SERIE 4"]
["110 / 4000 / 120 / SERIE 4","SERIE 4",120,110,27500,4000,1210,"6 x 4 & 1 x 3,5",27.5,7,null,"110 / 4000 / 70 / SERIE 4"]
["112 / 4000 / 120 / SERIE 4","SERIE 4",120,112,28000,4000,1210,"7 x 4",28,7,null,"112 / 4000 / 70 / SERIE 4"]
["114 / 4000 / 120 / SERIE 4","SERIE 4",120,114,28500,4000,1210,"1 x 4 & 7 x 3,5",28.5,8,null,"114 / 4000 / 70 / SERIE 4"]
["116 / 4000 / 120 / SERIE 4","SERIE 4",120,116,29000,4000,1210,"2 x 4 & 6 x 3,5",29,8,null,"116 / 4000 / 70 / SERIE 4"]
["118 / 4000 / 120 / SERIE 4","SERIE 4",120,118,29500,4000,1210,"3 x 4 & 5 x 3,5",29.5,8,null,"118 / 4000 / 70 / SERIE 4"]
["120 / 4000 / 120 / SERIE 4","SERIE 4",120,120,30000,4000,1210,"4 x 4 & 4 x 3,5",30,8,null,"120 / 4000 / 70 / SERIE 4"]
["122 / 4000 / 120 / SERIE 4","SERIE 4",120,122,30500,4000,1210,"5 x 4 & 3 x 3,5",30.5,8,null,"122 / 4000 / 70 / SERIE 4"]
["124 / 4000 / 120 / SERIE 4","SERIE 4",120,124,31000,4000,1210,"6 x 4 & 2 x 3,5",31,8,null,"124 / 4000 / 70 / SERIE 4"]
["126 / 4000 / 120 / SERIE 4","SERIE 4",120,126,31500,4000,1210,"7 x 4 & 1 x 3,5",31.5,8,null,"126 / 4000 / 70 / SERIE 4"]
["128 / 4000 / 120 / SERIE 4","SERIE 4",120,128,32000,4000,1210,"8 x 4",32,8,null,"128 / 4000 / 70 / SERIE 4"]
["130 / 4000 / 120 / SERIE 4","SERIE 4",120,130,32500,4000,1210,"2 x 4 & 7 x 3,5",32.5,9,null,"130 / 4000 / 70 / SERIE 4"]
["132 / 4000 / 120 / SERIE 4","SERIE 4",120,132,33000,4000,1210,"3 x 4 & 6 x 3,5",33,9,null,"132 / 4000 / 70 / SERIE 4"]
["134 / 4000 / 120 / SERIE 4","SERIE 4",120,134,33500,4000,1210,"3 x 4 & 6 x 3,5",33.5,9,null,"134 / 4000 / 70 / SERIE 4"]
["136 / 4000 / 120 / SERIE 4","SERIE 4",120,136,34000,4000,1210,"3 x 4 & 6 x 3,5",34,9,null,"136 / 4000 / 70 / SERIE 4"]
["56,7 / 4200 / 120 / SERIE 4","SERIE 4",120,56.7,13500,4200,1210,"3 x 3,5 & 1 x 3",13.5,4]
["58,8 / 4200 / 120 / SERIE 4","SERIE 4",120,58.8,14000,4200,1210,"4 x 3,5",14,4]
["60,9 / 4200 / 120 / SERIE 4","SERIE 4",120,60.9,14500,4200,1210,"1 x 4 & 3 x 3,5",14.5,4]
["63 / 4200 / 120 / SERIE 4","SERIE 4",120,63,15000,4200,1210,"3 x 4 & 1 x 3",15,4]
["65,1 / 4200 / 120 / SERIE 4","SERIE 4",120,65.099999999999994,15500,4200,1210,"3 x 4 & 1 x 3,5",15.5,4]
["67,2 / 4200 / 120 / SERIE 4","SERIE 4",120,67.2,16000,4200,1210,"4 x 4",16,4]
["69,3 / 4200 / 120 / SERIE 4","SERIE 4",120,69.3,16500,4200,1210,"3 x 3,5 & 2 x 3",16.5,5]
["71,4 / 4200 / 120 / SERIE 4","SERIE 4",120,71.400000000000006,17000,4200,1210,"4 x 3,5 & 1 x 3",17,5]
["73,5 / 4200 / 120 / SERIE 4","SERIE 4",120,73.5,17500,4200,1210,"5 x 3,5",17.5,5]
["75,6 / 4200 / 120 / SERIE 4","SERIE 4",120,75.599999999999994,18000,4200,1210,"3 x 4 & 2 x 3",18,5]
["77,7 / 4200 / 120 / SERIE 4","SERIE 4",120,77.7,18500,4200,1210,"2 x 4 & 3 x 3,5",18.5,5]
["79,8 / 4200 / 120 / SERIE 4","SERIE 4",120,79.8,19000,4200,1210,"4 x 4 & 1 x 3",19,5]
["81,9 / 4200 / 120 / SERIE 4","SERIE 4",120,81.900000000000006,19500,4200,1210,"4 x 4 & 1 x 3,5",19.5,5]
["84 / 4200 / 120 / SERIE 4","SERIE 4",120,84,20000,4200,1210,"5 x 4",20,5]
["86,1 / 4200 / 120 / SERIE 4","SERIE 4",120,86.1,20500,4200,1210,"5 x 3,5 & 1 x 3",20.5,6]
["88,2 / 4200 / 120 / SERIE 4","SERIE 4",120,88.2,21000,4200,1210,"6 x 3,5",21,6]
["90,3 / 4200 / 120 / SERIE 4","SERIE 4",120,90.3,21500,4200,1210,"1 x 4 & 5 x 3,5",21.5,6]
["92,4 / 4200 / 120 / SERIE 4","SERIE 4",120,92.4,22000,4200,1210,"2 x 4 & 4 x 3,5",22,6]
["94,5 / 4200 / 120 / SERIE 4","SERIE 4",120,94.5,22500,4200,1210,"3 x 4 & 3 x 3,5",22.5,6]
["96,6 / 4200 / 120 / SERIE 4","SERIE 4",120,96.6,23000,4200,1210,"5 x 4 & 1 x 3",23,6]
["98,7 / 4200 / 120 / SERIE 4","SERIE 4",120,98.7,23500,4200,1210,"5 x 4 & 1 x 3,5",23.5,6]
["100,8 / 4200 / 120 / SERIE 4","SERIE 4",120,100.8,24000,4200,1210,"6 x 4",24,6]
["102,9 / 4200 / 120 / SERIE 4","SERIE 4",120,102.9,24500,4200,1210,"7 x 3,5",24.5,7]
["105 / 4200 / 120 / SERIE 4","SERIE 4",120,105,25000,4200,1210,"1 x 4 & 6 x 3,5",25,7]
["107,1 / 4200 / 120 / SERIE 4","SERIE 4",120,107.1,25500,4200,1210,"2 x 4 & 5 x 3,5",25.5,7]
["109,2 / 4200 / 120 / SERIE 4","SERIE 4",120,109.2,26000,4200,1210,"3 x 4 & 4 x 3,5",26,7]
["111,3 / 4200 / 120 / SERIE 4","SERIE 4",120,111.3,26500,4200,1210,"4 x 4 & 3 x 3,5",26.5,7]
["113,4 / 4200 / 120 / SERIE 4","SERIE 4",120,113.4,27000,4200,1210,"5 x 4 & 2 x 3,5",27,7]
["115,5 / 4200 / 120 / SERIE 4","SERIE 4",120,115.5,27500,4200,1210,"6 x 4 & 1 x 3,5",27.5,7]
["117,6 / 4200 / 120 / SERIE 4","SERIE 4",120,117.6,28000,4200,1210,"7 x 4",28,7]
["119,7 / 4200 / 120 / SERIE 4","SERIE 4",120,119.7,28500,4200,1210,"1 x 4 & 7 x 3,5",28.5,8]
["121,8 / 4200 / 120 / SERIE 4","SERIE 4",120,121.8,29000,4200,1210,"2 x 4 & 6 x 3,5",29,8]
["123,9 / 4200 / 120 / SERIE 4","SERIE 4",120,123.9,29500,4200,1210,"3 x 4 & 5 x 3,5",29.5,8]
["126 / 4200 / 120 / SERIE 4","SERIE 4",120,126,30000,4200,1210,"4 x 4 & 4 x 3,5",30,8]
["128,1 / 4200 / 120 / SERIE 4","SERIE 4",120,128.1,30500,4200,1210,"5 x 4 & 3 x 3,5",30.5,8]
["130,2 / 4200 / 120 / SERIE 4","SERIE 4",120,130.19999999999999,31000,4200,1210,"6 x 4 & 2 x 3,5",31,8]
["132,3 / 4200 / 120 / SERIE 4","SERIE 4",120,132.30000000000001,31500,4200,1210,"7 x 4 & 1 x 3,5",31.5,8]
["134,4 / 4200 / 120 / SERIE 4","SERIE 4",120,134.4,32000,4200,1210,"8 x 4",32,8]
["136,5 / 4200 / 120 / SERIE 4","SERIE 4",120,136.5,32500,4200,1210,"2 x 4 & 7 x 3,5",32.5,9]
["138,6 / 4200 / 120 / SERIE 4","SERIE 4",120,138.6,33000,4200,1210,"3 x 4 & 6 x 3,5",33,9]
["140,7 / 4200 / 120 / SERIE 4","SERIE 4",120,140.69999999999999,33500,4200,1210,"3 x 4 & 6 x 3,5",33.5,9]
["142,8 / 4200 / 120 / SERIE 4","SERIE 4",120,142.80000000000001,34000,4200,1210,"3 x 4 & 6 x 3,5",34,9]
["144,9 / 4200 / 120 / SERIE 5","SERIE 5",120,144.9,34500,4200,1210,"3 x 4 & 6 x 3,5",34.5,9]
["147 / 4200 / 120 / SERIE 5","SERIE 5",120,147,35000,4200,1400,"3 x 4 & 6 x 3,5",35,9]
["149,1 / 4200 / 120 / SERIE 5","SERIE 5",120,149.1,35500,4200,1400,"8 x 4 & 1 x 3,5",35.5,9]
["151,2 / 4200 / 120 / SERIE 5","SERIE 5",120,151.19999999999999,36000,4200,1400,"9 x 4",36,9]
["153,3 / 4200 / 120 / SERIE 5","SERIE 5",120,153.30000000000001,36500,4200,1400,"3 x 4 & 7 x 3,5",36.5,10]
["155,4 / 4200 / 120 / SERIE 5","SERIE 5",120,155.4,37000,4200,1400,"4 x 4 & 6 x 3,5",37,10]
["157,5 / 4200 / 120 / SERIE 5","SERIE 5",120,157.5,37500,4200,1400,"5 x 4 & 5 x 3,5",37.5,10]
["159,6 / 4200 / 120 / SERIE 5","SERIE 5",120,159.6,38000,4200,1400,"6 x 4 & 4 x 3,5",38,10]
["161,7 / 4200 / 120 / SERIE 5","SERIE 5",120,161.69999999999999,38500,4200,1400,"7 x 4 & 3 x 3,5",38.5,10]
["163,8 / 4200 / 120 / SERIE 5","SERIE 5",120,163.80000000000001,39000,4200,1400,"8 x 4 & 2 x 3,5",39,10]
["165,9 / 4200 / 120 / SERIE 5","SERIE 5",120,165.9,39500,4200,1400,"9 x 4 & 1 x 3,5",39.5,10]
["168 / 4200 / 120 / SERIE 5","SERIE 5",120,168,40000,4200,1400,"10 x 4",40,10]
["162 / 6000 / 120 / SERIE 5","SERIE 5",120,162,27000,6000,1800,"5 x 4 & 2 x 3,5",27,7]
["180 / 6000 / 120 / SERIE 5","SERIE 5",120,180,30000,6000,1800,"4 x 4 & 4 x 3,5",30,8]
["216 / 6000 / 120 / SERIE 5","SERIE 5",120,216,36000,6000,1800,"9 x 4",36,9]
["256 / 8000 / 120 / SERIE 5","SERIE 5",120,256,32000,8000,1800,"8 x 4",32,8]
["10,13 / 2250 / 120 / SERIE 3","SERIE 3",120,10.130000000000001,4500,2250,935,"2,5 + 2",4.5,2]
["11,25 / 2250 / 120 / SERIE 3","SERIE 3",120,11.25,5000,2250,935,"2,5 x 2",5,2]
["12,38 / 2250 / 120 / SERIE 3","SERIE 3",120,12.38,5500,2250,935,"1 x 3 & 1 x 2,5",5.5,2]
["13,5 / 2250 / 120 / SERIE 3","SERIE 3",120,13.5,6000,2250,935,"2 x 3",6,2]
["14,63 / 2250 / 120 / SERIE 3","SERIE 3",120,14.63,6500,2250,935,"1 x 3,5 & 1 x 3",6.5,2]
["15,75 / 2250 / 120 / SERIE 3","SERIE 3",120,15.75,7000,2250,935,"2 x 3,5",7,2]
["16,88 / 2250 / 120 / SERIE 3","SERIE 3",120,16.88,7500,2250,935,"3 x 2,5",7.5,3]
["18 / 2250 / 120 / SERIE 3","SERIE 3",120,18,8000,2250,935,"1 x 3 & 2 x 2,5",8,3]
["19,13 / 2250 / 120 / SERIE 3","SERIE 3",120,19.13,8500,2250,935,"2 x 3 & 1 x 2,5",8.5,3]
["20,25 / 2250 / 120 / SERIE 3","SERIE 3",120,20.25,9000,2250,935,"3 x 3",9,3]
["21,38 / 2250 / 120 / SERIE 3","SERIE 3",120,21.38,9500,2250,935,"1 x 3,5 & 2 x 3",9.5,3]
["22,5 / 2250 / 120 / SERIE 3","SERIE 3",120,22.5,10000,2250,935,"2 x 3,5 & 1 x 3",10,3]
["23,63 / 2250 / 120 / SERIE 3","SERIE 3",120,23.63,10500,2250,935,"3 x 3,5",10.5,3]
["24,75 / 2250 / 120 / SERIE 3","SERIE 3",120,24.75,11000,2250,935,"2 x 4 & 1 x 3",11,3]
["25,88 / 2250 / 120 / SERIE 3","SERIE 3",120,25.88,11500,2250,935,"2 x 4 & 1 x 3,5",11.5,3]
["27 / 2250 / 120 / SERIE 3","SERIE 3",120,27,12000,2250,935,"3 x 4",12,3]
["28,13 / 2250 / 120 / SERIE 3","SERIE 3",120,28.13,12500,2250,935,"1 x 3,5 & 3 x 3",12.5,4]
["29,25 / 2250 / 120 / SERIE 3","SERIE 3",120,29.25,13000,2250,935,"2 x 3,5 & 2 x 3",13,4]
["30,38 / 2250 / 120 / SERIE 3","SERIE 3",120,30.38,13500,2250,935,"3 x 3,5 & 1 x 3",13.5,4]
["31,5 / 2250 / 120 / SERIE 3","SERIE 3",120,31.5,14000,2250,935,"4 x 3,5",14,4]
["32,63 / 2250 / 120 / SERIE 3","SERIE 3",120,32.630000000000003,14500,2250,935,"1 x 4 & 3 x 3,5",14.5,4]
["33,75 / 2250 / 120 / SERIE 3","SERIE 3",120,33.75,15000,2250,935,"3 x 4 & 1 x 3",15,4]
["34,88 / 2250 / 120 / SERIE 3","SERIE 3",120,34.880000000000003,15500,2250,935,"3 x 4 & 1 x 3,5",15.5,4]
["36 / 2250 / 120 / SERIE 3","SERIE 3",120,36,16000,2250,935,"4 x 4",16,4]
["37,13 / 2250 / 120 / SERIE 3","SERIE 3",120,37.130000000000003,16500,2250,935,"3 x 3,5 & 2 x 3",16.5,5]
["38,25 / 2250 / 120 / SERIE 3","SERIE 3",120,38.25,17000,2250,935,"4 x 3,5 & 1 x 3",17,5]
["39,38 / 2250 / 120 / SERIE 3","SERIE 3",120,39.380000000000003,17500,2250,935,"5 x 3,5",17.5,5]
["40,5 / 2250 / 120 / SERIE 3","SERIE 3",120,40.5,18000,2250,935,"3 x 4 & 2 x 3",18,5]
["41,63 / 2250 / 120 / SERIE 3","SERIE 3",120,41.63,18500,2250,935,"2 x 4 & 3 x 3,5",18.5,5]
["42,75 / 2250 / 120 / SERIE 3","SERIE 3",120,42.75,19000,2250,935,"4 x 4 & 1 x 3",19,5]
["43,88 / 2250 / 120 / SERIE 4","SERIE 4",120,43.88,19500,2250,1210,"4 x 4 & 1 x 3,5",19.5,5]
["45 / 2250 / 120 / SERIE 4","SERIE 4",120,45,20000,2250,1210,"5 x 4",20,5]
["46,13 / 2250 / 120 / SERIE 4","SERIE 4",120,46.13,20500,2250,1210,"5 x 3,5 & 1 x 3",20.5,6]
["47,25 / 2250 / 120 / SERIE 4","SERIE 4",120,47.25,21000,2250,1210,"6 x 3,5",21,6]
["48,38 / 2250 / 120 / SERIE 4","SERIE 4",120,48.38,21500,2250,1210,"1 x 4 & 5 x 3,5",21.5,6]
["49,5 / 2250 / 120 / SERIE 4","SERIE 4",120,49.5,22000,2250,1210,"2 x 4 & 4 x 3,5",22,6]
["50,63 / 2250 / 120 / SERIE 4","SERIE 4",120,50.63,22500,2250,1210,"3 x 4 & 3 x 3,5",22.5,6]
["36,75 / 3500 / 120 / SERIE 4","SERIE 4",120,36.75,10500,3500,1210,"3 x 3,5",10.5,3]
["38,5 / 3500 / 120 / SERIE 4","SERIE 4",120,38.5,11000,3500,1210,"2 x 4 & 1 x 3",11,3]
["40,25 / 3500 / 120 / SERIE 4","SERIE 4",120,40.25,11500,3500,1210,"2 x 4 & 1 x 3,5",11.5,3]
["42 / 3500 / 120 / SERIE 4","SERIE 4",120,42,12000,3500,1210,"3 x 4",12,3]
["43,75 / 3500 / 120 / SERIE 4","SERIE 4",120,43.75,12500,3500,1210,"1 x 3,5 & 3 x 3",12.5,4]
["45,5 / 3500 / 120 / SERIE 4","SERIE 4",120,45.5,13000,3500,1210,"2 x 3,5 & 2 x 3",13,4]
["47,25 / 3500 / 120 / SERIE 4","SERIE 4",120,47.25,13500,3500,1210,"3 x 3,5 & 1 x 3",13.5,4]
["49 / 3500 / 120 / SERIE 4","SERIE 4",120,49,14000,3500,1210,"4 x 3,5",14,4]
["50,75 / 3500 / 120 / SERIE 4","SERIE 4",120,50.75,14500,3500,1210,"1 x 4 & 3 x 3,5",14.5,4]
["52,5 / 3500 / 120 / SERIE 4","SERIE 4",120,52.5,15000,3500,1210,"3 x 4 & 1 x 3",15,4]
["54,25 / 3500 / 120 / SERIE 4","SERIE 4",120,54.25,15500,3500,1210,"3 x 4 & 1 x 3,5",15.5,4]
["56 / 3500 / 120 / SERIE 4","SERIE 4",120,56,16000,3500,1210,"4 x 4",16,4]
["57,75 / 3500 / 120 / SERIE 4","SERIE 4",120,57.75,16500,3500,1210,"3 x 3,5 & 2 x 3",16.5,5]
["59,5 / 3500 / 120 / SERIE 4","SERIE 4",120,59.5,17000,3500,1210,"4 x 3,5 & 1 x 3",17,5]
["61,25 / 3500 / 120 / SERIE 4","SERIE 4",120,61.25,17500,3500,1210,"5 x 3,5",17.5,5]
["63 / 3500 / 120 / SERIE 4","SERIE 4",120,63,18000,3500,1210,"3 x 4 & 2 x 3",18,5]
["64,75 / 3500 / 120 / SERIE 4","SERIE 4",120,64.75,18500,3500,1210,"2 x 4 & 3 x 3,5",18.5,5]
["66,5 / 3500 / 120 / SERIE 4","SERIE 4",120,66.5,19000,3500,1210,"4 x 4 & 1 x 3",19,5]
["68,25 / 3500 / 120 / SERIE 4","SERIE 4",120,68.25,19500,3500,1210,"4 x 4 & 1 x 3,5",19.5,5]
["70 / 3500 / 120 / SERIE 4","SERIE 4",120,70,20000,3500,1210,"5 x 4",20,5]
["71,75 / 3500 / 120 / SERIE 4","SERIE 4",120,71.75,20500,3500,1210,"5 x 3,5 & 1 x 3",20.5,6]
["73,5 / 3500 / 120 / SERIE 4","SERIE 4",120,73.5,21000,3500,1210,"6 x 3,5",21,6]
["75,25 / 3500 / 120 / SERIE 4","SERIE 4",120,75.25,21500,3500,1210,"1 x 4 & 5 x 3,5",21.5,6]
["77 / 3500 / 120 / SERIE 4","SERIE 4",120,77,22000,3500,1210,"2 x 4 & 4 x 3,5",22,6]
["78,75 / 3500 / 120 / SERIE 4","SERIE 4",120,78.75,22500,3500,1210,"3 x 4 & 3 x 3,5",22.5,6]
["80,5 / 3500 / 120 / SERIE 4","SERIE 4",120,80.5,23000,3500,1210,"5 x 4 & 1 x 3",23,6]
["82,25 / 3500 / 120 / SERIE 4","SERIE 4",120,82.25,23500,3500,1210,"5 x 4 & 1 x 3,5",23.5,6]
["84 / 3500 / 120 / SERIE 4","SERIE 4",120,84,24000,3500,1210,"6 x 4",24,6]
["85,75 / 3500 / 120 / SERIE 4","SERIE 4",120,85.75,24500,3500,1210,"7 x 3,5",24.5,7]
["87,5 / 3500 / 120 / SERIE 4","SERIE 4",120,87.5,25000,3500,1210,"1 x 4 & 6 x 3,5",25,7]
["89,25 / 3500 / 120 / SERIE 4","SERIE 4",120,89.25,25500,3500,1210,"2 x 4 & 5 x 3,5",25.5,7]
["91 / 3500 / 120 / SERIE 4","SERIE 4",120,91,26000,3500,1210,"3 x 4 & 4 x 3,5",26,7]
["92,75 / 3500 / 120 / SERIE 4","SERIE 4",120,92.75,26500,3500,1210,"4 x 4 & 3 x 3,5",26.5,7]
["94,5 / 3500 / 120 / SERIE 4","SERIE 4",120,94.5,27000,3500,1210,"5 x 4 & 2 x 3,5",27,7]
["96,25 / 3500 / 120 / SERIE 4","SERIE 4",120,96.25,27500,3500,1210,"6 x 4 & 1 x 3,5",27.5,7]
["98 / 3500 / 120 / SERIE 4","SERIE 4",120,98,28000,3500,1210,"7 x 4",28,7]
["99,75 / 3500 / 120 / SERIE 4","SERIE 4",120,99.75,28500,3500,1210,"1 x 4 & 7 x 3,5",28.5,8]
["101,5 / 3500 / 120 / SERIE 4","SERIE 4",120,101.5,29000,3500,1210,"2 x 4 & 6 x 3,5",29,8]
["103,25 / 3500 / 120 / SERIE 4","SERIE 4",120,103.25,29500,3500,1210,"3 x 4 & 5 x 3,5",29.5,8]
["105 / 3500 / 120 / SERIE 4","SERIE 4",120,105,30000,3500,1210,"4 x 4 & 4 x 3,5",30,8]
["106,75 / 3500 / 120 / SERIE 4","SERIE 4",120,106.75,30500,3500,1210,"5 x 4 & 3 x 3,5",30.5,8]
["108,5 / 3500 / 120 / SERIE 4","SERIE 4",120,108.5,31000,3500,1210,"6 x 4 & 2 x 3,5",31,8]
["110,25 / 3500 / 120 / SERIE 4","SERIE 4",120,110.25,31500,3500,1210,"7 x 4 & 1 x 3,5",31.5,8]
["112 / 3500 / 120 / SERIE 4","SERIE 4",120,112,32000,3500,1210,"8 x 4",32,8]
["113,75 / 3500 / 120 / SERIE 4","SERIE 4",120,113.75,32500,3500,1210,"2 x 4 & 7 x 3,5",32.5,9]
["115,5 / 3500 / 120 / SERIE 4","SERIE 4",120,115.5,33000,3500,1210,"3 x 4 & 6 x 3,5",33,9]
["117,25 / 3500 / 120 / SERIE 4","SERIE 4",120,117.25,33500,3500,1210,"3 x 4 & 6 x 3,5",33.5,9]
["119 / 3500 / 120 / SERIE 5","SERIE 5",120,119,34000,3500,1400,"3 x 4 & 6 x 3,5",34,9]
["120,75 / 3500 / 120 / SERIE 5","SERIE 5",120,120.75,34500,3500,1400,"3 x 4 & 6 x 3,5",34.5,9]
["122,5 / 3500 / 120 / SERIE 5","SERIE 5",120,122.5,35000,3500,1400,"3 x 4 & 6 x 3,5",35,9]
["124,25 / 3500 / 120 / SERIE 5","SERIE 5",120,124.25,35500,3500,1400,"8 x 4 & 1 x 3,5",35.5,9]
["126 / 3500 / 120 / SERIE 5","SERIE 5",120,126,36000,3500,1400,"9 x 4",36,9]
["127,75 / 3500 / 120 / SERIE 5","SERIE 5",120,127.75,36500,3500,1400,"3 x 4 & 7 x 3,5",36.5,10]
["129,5 / 3500 / 120 / SERIE 5","SERIE 5",120,129.5,37000,3500,1400,"4 x 4 & 6 x 3,5",37,10]
["Series Speciales T 120"]
["(37,8 / 4200 / 120 / SERIE 5)","SERIE 5",120,37.799999999999997,9000,4200,1400,"3 x 3",9,3]
["(38 / 4000 / 120 / SERIE 4)","SERIE 4",120,38,9500,4000,1210,"1 x 3,5 & 2 x 3",9.5,3]
["(10 / 1000 / 120 / SERIE 3)","SERIE 3",120,10,10000,1000,935,"2 x 3,5 & 1 x 3",10,3]
["(35,91 / 2850 / 70 / SERIE 4)","SERIE 4",70,35.909999999999997,12600,2850,1210,"1 x 3,5 & 3 x 3",12.6,4]
["(42 / 4000 / 120 / SERIE 4)","SERIE 4",120,42,10500,4000,1210,"3 x 3,5",10.5,3]
["(120 / 3000 / 70 / SERIE 5)","SERIE 5",70,120,40000,3000,1400,"10 x 4",40,10]
["10,13 / 2250 / 120 / SERIE 3","SERIE 3",120,10.130000000000001,4500,2250,935,"2,5 + 2",4.5,2]
["11,25 / 2250 / 120 / SERIE 3","SERIE 3",120,11.25,5000,2250,935,"2,5 x 2",5,2]
["12,38 / 2250 / 120 / SERIE 3","SERIE 3",120,12.38,5500,2250,935,"1 x 3 & 1 x 2,5",5.5,2]
["13,5 / 2250 / 120 / SERIE 3","SERIE 3",120,13.5,6000,2250,935,"2 x 3",6,2]
["14,63 / 2250 / 120 / SERIE 3","SERIE 3",120,14.63,6500,2250,935,"1 x 3,5 & 1 x 3",6.5,2]
["15,75 / 2250 / 120 / SERIE 3","SERIE 3",120,15.75,7000,2250,935,"2 x 3,5",7,2]
["16,88 / 2250 / 120 / SERIE 3","SERIE 3",120,16.88,7500,2250,935,"3 x 2,5",7.5,3]
["18 / 2250 / 120 / SERIE 3","SERIE 3",120,18,8000,2250,935,"1 x 3 & 2 x 2,5",8,3]
["19,13 / 2250 / 120 / SERIE 3","SERIE 3",120,19.13,8500,2250,935,"2 x 3 & 1 x 2,5",8.5,3]
["20,25 / 2250 / 120 / SERIE 3","SERIE 3",120,20.25,9000,2250,935,"3 x 3",9,3]
["21,38 / 2250 / 120 / SERIE 3","SERIE 3",120,21.38,9500,2250,935,"1 x 3,5 & 2 x 3",9.5,3]
["22,5 / 2250 / 120 / SERIE 3","SERIE 3",120,22.5,10000,2250,935,"2 x 3,5 & 1 x 3",10,3]
["23,63 / 2250 / 120 / SERIE 3","SERIE 3",120,23.63,10500,2250,935,"3 x 3,5",10.5,3]
["24,75 / 2250 / 120 / SERIE 3","SERIE 3",120,24.75,11000,2250,935,"2 x 4 & 1 x 3",11,3]
["25,88 / 2250 / 120 / SERIE 3","SERIE 3",120,25.88,11500,2250,935,"2 x 4 & 1 x 3,5",11.5,3]
["27 / 2250 / 120 / SERIE 3","SERIE 3",120,27,12000,2250,935,"3 x 4",12,3]
["28,13 / 2250 / 120 / SERIE 3","SERIE 3",120,28.13,12500,2250,935,"1 x 3,5 & 3 x 3",12.5,4]
["29,25 / 2250 / 120 / SERIE 3","SERIE 3",120,29.25,13000,2250,935,"2 x 3,5 & 2 x 3",13,4]
["30,38 / 2250 / 120 / SERIE 3","SERIE 3",120,30.38,13500,2250,935,"3 x 3,5 & 1 x 3",13.5,4]
["31,5 / 2250 / 120 / SERIE 3","SERIE 3",120,31.5,14000,2250,935,"4 x 3,5",14,4]
["32,63 / 2250 / 120 / SERIE 3","SERIE 3",120,32.630000000000003,14500,2250,935,"1 x 4 & 3 x 3,5",14.5,4]
["33,75 / 2250 / 120 / SERIE 3","SERIE 3",120,33.75,15000,2250,935,"3 x 4 & 1 x 3",15,4]
["34,88 / 2250 / 120 / SERIE 3","SERIE 3",120,34.880000000000003,15500,2250,935,"3 x 4 & 1 x 3,5",15.5,4]
["36 / 2250 / 120 / SERIE 3","SERIE 3",120,36,16000,2250,935,"4 x 4",16,4]
["37,13 / 2250 / 120 / SERIE 3","SERIE 3",120,37.130000000000003,16500,2250,935,"3 x 3,5 & 2 x 3",16.5,5]
["38,25 / 2250 / 120 / SERIE 3","SERIE 3",120,38.25,17000,2250,935,"4 x 3,5 & 1 x 3",17,5]
["39,38 / 2250 / 120 / SERIE 3","SERIE 3",120,39.380000000000003,17500,2250,935,"5 x 3,5",17.5,5]
["40,5 / 2250 / 120 / SERIE 3","SERIE 3",120,40.5,18000,2250,935,"3 x 4 & 2 x 3",18,5]
["41,63 / 2250 / 120 / SERIE 3","SERIE 3",120,41.63,18500,2250,935,"2 x 4 & 3 x 3,5",18.5,5]
["42,75 / 2250 / 120 / SERIE 3","SERIE 3",120,42.75,19000,2250,935,"4 x 4 & 1 x 3",19,5]
["43,88 / 2250 / 120 / SERIE 4","SERIE 4",120,43.88,19500,2250,1210,"4 x 4 & 1 x 3,5",19.5,5]
["45 / 2250 / 120 / SERIE 4","SERIE 4",120,45,20000,2250,1210,"5 x 4",20,5]
["46,13 / 2250 / 120 / SERIE 4","SERIE 4",120,46.13,20500,2250,1210,"5 x 3,5 & 1 x 3",20.5,6]
["47,25 / 2250 / 120 / SERIE 4","SERIE 4",120,47.25,21000,2250,1210,"6 x 3,5",21,6]
["48,38 / 2250 / 120 / SERIE 4","SERIE 4",120,48.38,21500,2250,1210,"1 x 4 & 5 x 3,5",21.5,6]
["49,5 / 2250 / 120 / SERIE 4","SERIE 4",120,49.5,22000,2250,1210,"2 x 4 & 4 x 3,5",22,6]
["50,63 / 2250 / 120 / SERIE 4","SERIE 4",120,50.63,22500,2250,1210,"3 x 4 & 3 x 3,5",22.5,6]
["36,75 / 3500 / 120 / SERIE 4","SERIE 4",120,36.75,10500,3500,1210,"3 x 3,5",10.5,3]
["38,5 / 3500 / 120 / SERIE 4","SERIE 4",120,38.5,11000,3500,1210,"2 x 4 & 1 x 3",11,3]
["40,25 / 3500 / 120 / SERIE 4","SERIE 4",120,40.25,11500,3500,1210,"2 x 4 & 1 x 3,5",11.5,3]
["42 / 3500 / 120 / SERIE 4","SERIE 4",120,42,12000,3500,1210,"3 x 4",12,3]
["43,75 / 3500 / 120 / SERIE 4","SERIE 4",120,43.75,12500,3500,1210,"1 x 3,5 & 3 x 3",12.5,4]
["45,5 / 3500 / 120 / SERIE 4","SERIE 4",120,45.5,13000,3500,1210,"2 x 3,5 & 2 x 3",13,4]
["47,25 / 3500 / 120 / SERIE 4","SERIE 4",120,47.25,13500,3500,1210,"3 x 3,5 & 1 x 3",13.5,4]
["49 / 3500 / 120 / SERIE 4","SERIE 4",120,49,14000,3500,1210,"4 x 3,5",14,4]
["50,75 / 3500 / 120 / SERIE 4","SERIE 4",120,50.75,14500,3500,1210,"1 x 4 & 3 x 3,5",14.5,4]
["52,5 / 3500 / 120 / SERIE 4","SERIE 4",120,52.5,15000,3500,1210,"3 x 4 & 1 x 3",15,4]
["54,25 / 3500 / 120 / SERIE 4","SERIE 4",120,54.25,15500,3500,1210,"3 x 4 & 1 x 3,5",15.5,4]
["56 / 3500 / 120 / SERIE 4","SERIE 4",120,56,16000,3500,1210,"4 x 4",16,4]
["57,75 / 3500 / 120 / SERIE 4","SERIE 4",120,57.75,16500,3500,1210,"3 x 3,5 & 2 x 3",16.5,5]
["59,5 / 3500 / 120 / SERIE 4","SERIE 4",120,59.5,17000,3500,1210,"4 x 3,5 & 1 x 3",17,5]
["61,25 / 3500 / 120 / SERIE 4","SERIE 4",120,61.25,17500,3500,1210,"5 x 3,5",17.5,5]
["63 / 3500 / 120 / SERIE 4","SERIE 4",120,63,18000,3500,1210,"3 x 4 & 2 x 3",18,5]
["64,75 / 3500 / 120 / SERIE 4","SERIE 4",120,64.75,18500,3500,1210,"2 x 4 & 3 x 3,5",18.5,5]
["66,5 / 3500 / 120 / SERIE 4","SERIE 4",120,66.5,19000,3500,1210,"4 x 4 & 1 x 3",19,5]
["68,25 / 3500 / 120 / SERIE 4","SERIE 4",120,68.25,19500,3500,1210,"4 x 4 & 1 x 3,5",19.5,5]
["70 / 3500 / 120 / SERIE 4","SERIE 4",120,70,20000,3500,1210,"5 x 4",20,5]
["71,75 / 3500 / 120 / SERIE 4","SERIE 4",120,71.75,20500,3500,1210,"5 x 3,5 & 1 x 3",20.5,6]
["73,5 / 3500 / 120 / SERIE 4","SERIE 4",120,73.5,21000,3500,1210,"6 x 3,5",21,6]
["75,25 / 3500 / 120 / SERIE 4","SERIE 4",120,75.25,21500,3500,1210,"1 x 4 & 5 x 3,5",21.5,6]
["77 / 3500 / 120 / SERIE 4","SERIE 4",120,77,22000,3500,1210,"2 x 4 & 4 x 3,5",22,6]
["78,75 / 3500 / 120 / SERIE 4","SERIE 4",120,78.75,22500,3500,1210,"3 x 4 & 3 x 3,5",22.5,6]
["80,5 / 3500 / 120 / SERIE 4","SERIE 4",120,80.5,23000,3500,1210,"5 x 4 & 1 x 3",23,6]
["82,25 / 3500 / 120 / SERIE 4","SERIE 4",120,82.25,23500,3500,1210,"5 x 4 & 1 x 3,5",23.5,6]
["84 / 3500 / 120 / SERIE 4","SERIE 4",120,84,24000,3500,1210,"6 x 4",24,6]
["85,75 / 3500 / 120 / SERIE 4","SERIE 4",120,85.75,24500,3500,1210,"7 x 3,5",24.5,7]
["87,5 / 3500 / 120 / SERIE 4","SERIE 4",120,87.5,25000,3500,1210,"1 x 4 & 6 x 3,5",25,7]
["89,25 / 3500 / 120 / SERIE 4","SERIE 4",120,89.25,25500,3500,1210,"2 x 4 & 5 x 3,5",25.5,7]
["91 / 3500 / 120 / SERIE 4","SERIE 4",120,91,26000,3500,1210,"3 x 4 & 4 x 3,5",26,7]
["92,75 / 3500 / 120 / SERIE 4","SERIE 4",120,92.75,26500,3500,1210,"4 x 4 & 3 x 3,5",26.5,7]
["94,5 / 3500 / 120 / SERIE 4","SERIE 4",120,94.5,27000,3500,1210,"5 x 4 & 2 x 3,5",27,7]
["96,25 / 3500 / 120 / SERIE 4","SERIE 4",120,96.25,27500,3500,1210,"6 x 4 & 1 x 3,5",27.5,7]
["98 / 3500 / 120 / SERIE 4","SERIE 4",120,98,28000,3500,1210,"7 x 4",28,7]
["99,75 / 3500 / 120 / SERIE 4","SERIE 4",120,99.75,28500,3500,1210,"1 x 4 & 7 x 3,5",28.5,8]
["101,5 / 3500 / 120 / SERIE 4","SERIE 4",120,101.5,29000,3500,1210,"2 x 4 & 6 x 3,5",29,8]
["103,25 / 3500 / 120 / SERIE 4","SERIE 4",120,103.25,29500,3500,1210,"3 x 4 & 5 x 3,5",29.5,8]
["105 / 3500 / 120 / SERIE 4","SERIE 4",120,105,30000,3500,1210,"4 x 4 & 4 x 3,5",30,8]
["106,75 / 3500 / 120 / SERIE 4","SERIE 4",120,106.75,30500,3500,1210,"5 x 4 & 3 x 3,5",30.5,8]
["108,5 / 3500 / 120 / SERIE 4","SERIE 4",120,108.5,31000,3500,1210,"6 x 4 & 2 x 3,5",31,8]
["110,25 / 3500 / 120 / SERIE 4","SERIE 4",120,110.25,31500,3500,1210,"7 x 4 & 1 x 3,5",31.5,8]
["112 / 3500 / 120 / SERIE 4","SERIE 4",120,112,32000,3500,1210,"8 x 4",32,8]
["113,75 / 3500 / 120 / SERIE 4","SERIE 4",120,113.75,32500,3500,1210,"2 x 4 & 7 x 3,5",32.5,9]
["115,5 / 3500 / 120 / SERIE 4","SERIE 4",120,115.5,33000,3500,1210,"3 x 4 & 6 x 3,5",33,9]
["117,25 / 3500 / 120 / SERIE 4","SERIE 4",120,117.25,33500,3500,1210,"3 x 4 & 6 x 3,5",33.5,9]
["119 / 3500 / 120 / SERIE 5","SERIE 5",120,119,34000,3500,1400,"3 x 4 & 6 x 3,5",34,9]
["120,75 / 3500 / 120 / SERIE 5","SERIE 5",120,120.75,34500,3500,1400,"3 x 4 & 6 x 3,5",34.5,9]
["122,5 / 3500 / 120 / SERIE 5","SERIE 5",120,122.5,35000,3500,1400,"3 x 4 & 6 x 3,5",35,9]
["124,25 / 3500 / 120 / SERIE 5","SERIE 5",120,124.25,35500,3500,1400,"8 x 4 & 1 x 3,5",35.5,9]
["126 / 3500 / 120 / SERIE 5","SERIE 5",120,126,36000,3500,1400,"9 x 4",36,9]
["127,75 / 3500 / 120 / SERIE 5","SERIE 5",120,127.75,36500,3500,1400,"3 x 4 & 7 x 3,5",36.5,10]
["129,5 / 3500 / 120 / SERIE 5","SERIE 5",120,129.5,37000,3500,1400,"4 x 4 & 6 x 3,5",37,10]
["((12,5 / 2500 / 70 / SERIE 3))","SERIE 3",70,12.5,5000,2500,935,"2,5 x 2",5,2]
["((13,75 / 2500 / 70 / SERIE 3))","SERIE 3",70,13.75,5500,2500,935,"1 x 3 & 1 x 2,5",5.5,2,null,"12,5 / 2500 / 70 / SERIE 3"]
["((15 / 2500 / 70 / SERIE 3))","SERIE 3",70,15,6000,2500,935,"2 x 3",6,2,null,"13,75 / 2500 / 70 / SERIE 3"]
["((16,25 / 2500 / 70 / SERIE 3))","SERIE 3",70,16.25,6500,2500,935,"1 x 3,5 & 1 x 3",6.5,2,null,"15 / 2500 / 70 / SERIE 3"]
["((17,5 / 2500 / 70 / SERIE 3))","SERIE 3",70,17.5,7000,2500,935,"2 x 3,5",7,2,null,"16,25 / 2500 / 70 / SERIE 3"]
["((18,75 / 2500 / 70 / SERIE 3))","SERIE 3",70,18.75,7500,2500,935,"3 x 2,5",7.5,3,null,"17,5 / 2500 / 70 / SERIE 3"]
["((20 / 2500 / 70 / SERIE 3))","SERIE 3",70,20,8000,2500,935,"1 x 3 & 2 x 2,5",8,3,null,"18,75 / 2500 / 70 / SERIE 3"]
["((21,25 / 2500 / 70 / SERIE 3))","SERIE 3",70,21.25,8500,2500,935,"2 x 3 & 1 x 2,5",8.5,3,null,"20 / 2500 / 70 / SERIE 3"]
["((22,5 / 2500 / 70 / SERIE 3))","SERIE 3",70,22.5,9000,2500,935,"3 x 3",9,3,null,"21,25 / 2500 / 70 / SERIE 3"]
["((23,75 / 2500 / 70 / SERIE 3))","SERIE 3",70,23.75,9500,2500,935,"1 x 3,5 & 2 x 3",9.5,3,null,"22,5 / 2500 / 70 / SERIE 3"]
["((25 / 2500 / 70 / SERIE 3))","SERIE 3",70,25,10000,2500,935,"2 x 3,5 & 1 x 3",10,3,null,"23,75 / 2500 / 70 / SERIE 3"]
["((26,25 / 2500 / 70 / SERIE 3))","SERIE 3",70,26.25,10500,2500,935,"3 x 3,5",10.5,3,null,"25 / 2500 / 70 / SERIE 3"]
["((27,5 / 2500 / 70 / SERIE 3))","SERIE 3",70,27.5,11000,2500,935,"2 x 4 & 1 x 3",11,3,null,"26,25 / 2500 / 70 / SERIE 3"]
["((28,75 / 2500 / 70 / SERIE 3))","SERIE 3",70,28.75,11500,2500,935,"2 x 4 & 1 x 3,5",11.5,3,null,"27,5 / 2500 / 70 / SERIE 3"]
["((30 / 2500 / 70 / SERIE 3))","SERIE 3",70,30,12000,2500,935,"3 x 4",12,3,null,"28,75 / 2500 / 70 / SERIE 3"]
["((31,25 / 2500 / 70 / SERIE 3))","SERIE 3",70,31.25,12500,2500,935,"1 x 3,5 & 3 x 3",12.5,4,null,"30 / 2500 / 70 / SERIE 3"]
["((32,5 / 2500 / 70 / SERIE 3))","SERIE 3",70,32.5,13000,2500,935,"2 x 3,5 & 2 x 3",13,4,null,"31,25 / 2500 / 70 / SERIE 3"]
["((33,75 / 2500 / 70 / SERIE 3))","SERIE 3",70,33.75,13500,2500,935,"3 x 3,5 & 1 x 3",13.5,4,null,"32,5 / 2500 / 70 / SERIE 3"]
["((35 / 2500 / 70 / SERIE 3))","SERIE 3",70,35,14000,2500,935,"4 x 3,5",14,4,null,"33,75 / 2500 / 70 / SERIE 3"]
["((36,25 / 2500 / 70 / SERIE 3))","SERIE 3",70,36.25,14500,2500,935,"1 x 4 & 3 x 3,5",14.5,4,null,"35 / 2500 / 70 / SERIE 3"]
["((37,5 / 2500 / 70 / SERIE 3))","SERIE 3",70,37.5,15000,2500,935,"3 x 4 & 1 x 3",15,4,null,"36,25 / 2500 / 70 / SERIE 3"]
["((38,75 / 2500 / 70 / SERIE 3))","SERIE 3",70,38.75,15500,2500,935,"3 x 4 & 1 x 3,5",15.5,4,null,"37,5 / 2500 / 70 / SERIE 3"]
["((40 / 2500 / 70 / SERIE 3))","SERIE 3",70,40,16000,2500,935,"4 x 4",16,4,null,"38,75 / 2500 / 70 / SERIE 3"]
["((41,25 / 2500 / 70 / SERIE 3))","SERIE 3",70,41.25,16500,2500,935,"3 x 3,5 & 2 x 3",16.5,5,null,"40 / 2500 / 70 / SERIE 3"]
["((42,5 / 2500 / 70 / SERIE 3))","SERIE 3",70,42.5,17000,2500,935,"4 x 3,5 & 1 x 3",17,5,null,"41,25 / 2500 / 70 / SERIE 3"]
["((43,75 / 2500 / 70 / SERIE 3))","SERIE 3",70,43.75,17500,2500,935,"5 x 3,5",17.5,5,null,"42,5 / 2500 / 70 / SERIE 3"]
["((45 / 2500 / 70 / SERIE 3))","SERIE 3",70,45,18000,2500,935,"3 x 4 & 2 x 3",18,5,null,"43,75 / 2500 / 70 / SERIE 3"]
["((46,25 / 2500 / 70 / SERIE 3))","SERIE 3",70,46.25,18500,2500,935,"2 x 4 & 3 x 3,5",18.5,5,null,"45 / 2500 / 70 / SERIE 3"]
["((47,5 / 2500 / 70 / SERIE 3))","SERIE 3",70,47.5,19000,2500,935,"4 x 4 & 1 x 3",19,5,null,"46,25 / 2500 / 70 / SERIE 3"]
["((48,75 / 2500 / 70 / SERIE 3))","SERIE 3",70,48.75,19500,2500,935,"4 x 4 & 1 x 3,5",19.5,5,null,"47,5 / 2500 / 70 / SERIE 3"]
["((50 / 2500 / 70 / SERIE 3))","SERIE 3",70,50,20000,2500,935,"5 x 4",20,5,null,"48,75 / 2500 / 70 / SERIE 3"]
["((51,25 / 2500 / 70 / SERIE 4))","SERIE 4",70,51.25,20500,2500,1210,"5 x 3,5 & 1 x 3",20.5,6,null,"50 / 2500 / 70 / SERIE 3"]
["((52,5 / 2500 / 70 / SERIE 4))","SERIE 4",70,52.5,21000,2500,1210,"6 x 3,5",21,6,null,"51,25 / 2500 / 70 / SERIE 4"]
["((53,75 / 2500 / 70 / SERIE 4))","SERIE 4",70,53.75,21500,2500,1210,"1 x 4 & 5 x 3,5",21.5,6,null,"52,5 / 2500 / 70 / SERIE 4"]
["((55 / 2500 / 70 / SERIE 4))","SERIE 4",70,55,22000,2500,1210,"2 x 4 & 4 x 3,5",22,6,null,"53,75 / 2500 / 70 / SERIE 4"]
["((56,25 / 2500 / 70 / SERIE 4))","SERIE 4",70,56.25,22500,2500,1210,"3 x 4 & 3 x 3,5",22.5,6,null,"55 / 2500 / 70 / SERIE 4"]
["((57,5 / 2500 / 70 / SERIE 4))","SERIE 4",70,57.5,23000,2500,1210,"5 x 4 & 1 x 3",23,6,null,"56,25 / 2500 / 70 / SERIE 4"]
["((58,75 / 2500 / 70 / SERIE 4))","SERIE 4",70,58.75,23500,2500,1210,"5 x 4 & 1 x 3,5",23.5,6,null,"57,5 / 2500 / 70 / SERIE 4"]
["((60 / 2500 / 70 / SERIE 4))","SERIE 4",70,60,24000,2500,1210,"6 x 4",24,6,null,"58,75 / 2500 / 70 / SERIE 4"]
["((61,25 / 2500 / 70 / SERIE 4))","SERIE 4",70,61.25,24500,2500,1210,"7 x 3,5",24.5,7,null,"60 / 2500 / 70 / SERIE 4"]
["((62,5 / 2500 / 70 / SERIE 4))","SERIE 4",70,62.5,25000,2500,1210,"1 x 4 & 6 x 3,5",25,7,null,"61,25 / 2500 / 70 / SERIE 4"]
["((65 / 2500 / 70 / SERIE 4))","SERIE 4",70,65,26000,2500,1210,"3 x 4 & 4 x 3,5",26,7,null,"62,5 / 2500 / 70 / SERIE 4"]
["((12,5 / 2500 / 120 / SERIE 3))","SERIE 3",120,12.5,5000,2500,935,"2,5 x 2",5,2,null,"65 / 2500 / 70 / SERIE 4"]
["((13,75 / 2500 / 120 / SERIE 3))","SERIE 3",120,13.75,5500,2500,935,"1 x 3 & 1 x 2,5",5.5,2,null,"12,5 / 2500 / 70 / SERIE 3"]
["((15 / 2500 / 120 / SERIE 3))","SERIE 3",120,15,6000,2500,935,"2 x 3",6,2,null,"13,75 / 2500 / 70 / SERIE 3"]
["((16,25 / 2500 / 120 / SERIE 3))","SERIE 3",120,16.25,6500,2500,935,"1 x 3,5 & 1 x 3",6.5,2,null,"15 / 2500 / 70 / SERIE 3"]
["((17,5 / 2500 / 120 / SERIE 3))","SERIE 3",120,17.5,7000,2500,935,"2 x 3,5",7,2,null,"16,25 / 2500 / 70 / SERIE 3"]
["((18,75 / 2500 / 120 / SERIE 3))","SERIE 3",120,18.75,7500,2500,935,"3 x 2,5",7.5,3,null,"17,5 / 2500 / 70 / SERIE 3"]
["((20 / 2500 / 120 / SERIE 3))","SERIE 3",120,20,8000,2500,935,"1 x 3 & 2 x 2,5",8,3,null,"18,75 / 2500 / 70 / SERIE 3"]
["((21,25 / 2500 / 120 / SERIE 3))","SERIE 3",120,21.25,8500,2500,935,"2 x 3 & 1 x 2,5",8.5,3,null,"20 / 2500 / 70 / SERIE 3"]
["((22,5 / 2500 / 120 / SERIE 3))","SERIE 3",120,22.5,9000,2500,935,"3 x 3",9,3,null,"21,25 / 2500 / 70 / SERIE 3"]
["((23,75 / 2500 / 120 / SERIE 3))","SERIE 3",120,23.75,9500,2500,935,"1 x 3,5 & 2 x 3",9.5,3,null,"22,5 / 2500 / 70 / SERIE 3"]
["((25 / 2500 / 120 / SERIE 3))","SERIE 3",120,25,10000,2500,935,"2 x 3,5 & 1 x 3",10,3,null,"23,75 / 2500 / 70 / SERIE 3"]
["((26,25 / 2500 / 120 / SERIE 3))","SERIE 3",120,26.25,10500,2500,935,"3 x 3,5",10.5,3,null,"25 / 2500 / 70 / SERIE 3"]
["((27,5 / 2500 / 120 / SERIE 3))","SERIE 3",120,27.5,11000,2500,935,"2 x 4 & 1 x 3",11,3,null,"26,25 / 2500 / 70 / SERIE 3"]
["((28,75 / 2500 / 120 / SERIE 3))","SERIE 3",120,28.75,11500,2500,935,"2 x 4 & 1 x 3,5",11.5,3,null,"27,5 / 2500 / 70 / SERIE 3"]
["((30 / 2500 / 120 / SERIE 3))","SERIE 3",120,30,12000,2500,935,"3 x 4",12,3,null,"28,75 / 2500 / 70 / SERIE 3"]
["((31,25 / 2500 / 120 / SERIE 3))","SERIE 3",120,31.25,12500,2500,935,"1 x 3,5 & 3 x 3",12.5,4,null,"30 / 2500 / 70 / SERIE 3"]
["((32,5 / 2500 / 120 / SERIE 3))","SERIE 3",120,32.5,13000,2500,935,"2 x 3,5 & 2 x 3",13,4,null,"31,25 / 2500 / 70 / SERIE 3"]
["((33,75 / 2500 / 120 / SERIE 3))","SERIE 3",120,33.75,13500,2500,935,"3 x 3,5 & 1 x 3",13.5,4,null,"32,5 / 2500 / 70 / SERIE 3"]
["((35 / 2500 / 120 / SERIE 3))","SERIE 3",120,35,14000,2500,935,"4 x 3,5",14,4,null,"33,75 / 2500 / 70 / SERIE 3"]
["((36,25 / 2500 / 120 / SERIE 3))","SERIE 3",120,36.25,14500,2500,935,"1 x 4 & 3 x 3,5",14.5,4,null,"35 / 2500 / 70 / SERIE 3"]
["((37,5 / 2500 / 120 / SERIE 3))","SERIE 3",120,37.5,15000,2500,935,"3 x 4 & 1 x 3",15,4,null,"36,25 / 2500 / 70 / SERIE 3"]
["((38,75 / 2500 / 120 / SERIE 3))","SERIE 3",120,38.75,15500,2500,935,"3 x 4 & 1 x 3,5",15.5,4,null,"37,5 / 2500 / 70 / SERIE 3"]
["((40 / 2500 / 120 / SERIE 3))","SERIE 3",120,40,16000,2500,935,"4 x 4",16,4,null,"38,75 / 2500 / 70 / SERIE 3"]
["((41,25 / 2500 / 120 / SERIE 3))","SERIE 3",120,41.25,16500,2500,935,"3 x 3,5 & 2 x 3",16.5,5,null,"40 / 2500 / 70 / SERIE 3"]
["((42,5 / 2500 / 120 / SERIE 3))","SERIE 3",120,42.5,17000,2500,935,"4 x 3,5 & 1 x 3",17,5,null,"41,25 / 2500 / 70 / SERIE 3"]
["((43,75 / 2500 / 120 / SERIE 3))","SERIE 3",120,43.75,17500,2500,935,"5 x 3,5",17.5,5,null,"42,5 / 2500 / 70 / SERIE 3"]
["((45 / 2500 / 120 / SERIE 3))","SERIE 3",120,45,18000,2500,935,"3 x 4 & 2 x 3",18,5,null,"43,75 / 2500 / 70 / SERIE 3"]
["((46,25 / 2500 / 120 / SERIE 3))","SERIE 3",120,46.25,18500,2500,935,"2 x 4 & 3 x 3,5",18.5,5,null,"45 / 2500 / 70 / SERIE 3"]
["((47,5 / 2500 / 120 / SERIE 3))","SERIE 3",120,47.5,19000,2500,935,"4 x 4 & 1 x 3",19,5,null,"46,25 / 2500 / 70 / SERIE 3"]
["((48,75 / 2500 / 120 / SERIE 3))","SERIE 3",120,48.75,19500,2500,935,"4 x 4 & 1 x 3,5",19.5,5,null,"47,5 / 2500 / 70 / SERIE 3"]
["((50 / 2500 / 120 / SERIE 3))","SERIE 3",120,50,20000,2500,935,"5 x 4",20,5,null,"48,75 / 2500 / 70 / SERIE 3"]
["((51,25 / 2500 / 120 / SERIE 4))","SERIE 4",120,51.25,20500,2500,1210,"5 x 3,5 & 1 x 3",20.5,6,null,"50 / 2500 / 70 / SERIE 3"]
["((52,5 / 2500 / 120 / SERIE 4))","SERIE 4",120,52.5,21000,2500,1210,"6 x 3,5",21,6,null,"51,25 / 2500 / 70 / SERIE 4"]
["((53,75 / 2500 / 120 / SERIE 4))","SERIE 4",120,53.75,21500,2500,1210,"1 x 4 & 5 x 3,5",21.5,6,null,"52,5 / 2500 / 70 / SERIE 4"]
["((55 / 2500 / 120 / SERIE 4))","SERIE 4",120,55,22000,2500,1210,"2 x 4 & 4 x 3,5",22,6,null,"53,75 / 2500 / 70 / SERIE 4"]
["((56,25 / 2500 / 120 / SERIE 4))","SERIE 4",120,56.25,22500,2500,1210,"3 x 4 & 3 x 3,5",22.5,6,null,"55 / 2500 / 70 / SERIE 4"]
["((57,5 / 2500 / 120 / SERIE 4))","SERIE 4",120,57.5,23000,2500,1210,"5 x 4 & 1 x 3",23,6,null,"56,25 / 2500 / 70 / SERIE 4"]
["((58,75 / 2500 / 120 / SERIE 4))","SERIE 4",120,58.75,23500,2500,1210,"5 x 4 & 1 x 3,5",23.5,6,null,"57,5 / 2500 / 70 / SERIE 4"]
["((60 / 2500 / 120 / SERIE 4))","SERIE 4",120,60,24000,2500,1210,"6 x 4",24,6,null,"58,75 / 2500 / 70 / SERIE 4"]
["((61,25 / 2500 / 120 / SERIE 4))","SERIE 4",120,61.25,24500,2500,1210,"7 x 3,5",24.5,7,null,"60 / 2500 / 70 / SERIE 4"]
["((62,5 / 2500 / 120 / SERIE 4))","SERIE 4",120,62.5,25000,2500,1210,"1 x 4 & 6 x 3,5",25,7,null,"61,25 / 2500 / 70 / SERIE 4"]
["((65 / 2500 / 120 / SERIE 4))","SERIE 4",120,65,26000,2500,1210,"3 x 4 & 4 x 3,5",26,7,null,"62,5 / 2500 / 70 / SERIE 4"]
["((138 / 4000 / 120 / SERIE 5))","SERIE 5",120,138,34500,4000,1400,"3 x 4 & 6 x 3,5",34.5,9,null,"65 / 2500 / 70 / SERIE 4"]
["((140 / 4000 / 120 / SERIE 5))","SERIE 5",120,140,35000,4000,1400,"3 x 4 & 6 x 3,5",35,9,null,"138 / 4000 / 70 / SERIE 5"]
["((142 / 4000 / 120 / SERIE 5))","SERIE 5",120,142,35500,4000,1400,"8 x 4 & 1 x 3,5",35.5,9,null,"140 / 4000 / 70 / SERIE 5"]
["((144 / 4000 / 120 / SERIE 5))","SERIE 5",120,144,36000,4000,1400,"9 x 4",36,9,null,"142 / 4000 / 70 / SERIE 5"]
["((146 / 4000 / 120 / SERIE 5))","SERIE 5",120,146,36500,4000,1400,"3 x 4 & 7 x 3,5",36.5,10,null,"144 / 4000 / 70 / SERIE 5"]
["((148 / 4000 / 120 / SERIE 5))","SERIE 5",120,148,37000,4000,1400,"4 x 4 & 6 x 3,5",37,10,null,"146 / 4000 / 70 / SERIE 5"]
["((150 / 4000 / 120 / SERIE 5))","SERIE 5",120,150,37500,4000,1400,"5 x 4 & 5 x 3,5",37.5,10,null,"148 / 4000 / 70 / SERIE 5"]
["((152 / 4000 / 120 / SERIE 5))","SERIE 5",120,152,38000,4000,1400,"6 x 4 & 4 x 3,5",38,10,null,"150 / 4000 / 70 / SERIE 5"]
["((154 / 4000 / 120 / SERIE 5))","SERIE 5",120,154,38500,4000,1400,"7 x 4 & 3 x 3,5",38.5,10,null,"152 / 4000 / 70 / SERIE 5"]
["((156 / 4000 / 120 / SERIE 5))","SERIE 5",120,156,39000,4000,1400,"8 x 4 & 2 x 3,5",39,10,null,"154 / 4000 / 70 / SERIE 5"]
["((158 / 4000 / 120 / SERIE 5))","SERIE 5",120,158,39500,4000,1400,"9 x 4 & 1 x 3,5",39.5,10,null,"156 / 4000 / 70 / SERIE 5"]
["((160 / 4000 / 120 / SERIE 5))","SERIE 5",120,160,40000,4000,1400,"10 x 4",40,10,null,"158 / 4000 / 70 / SERIE 5"]
["9 / 2000 / 120 / SERIE 3","SERIE 3",120,9,4500,2000,935,"2,5 + 2",4.5,2,null,"160 / 4000 / 70 / SERIE 5"]
["10 / 2000 / 120 / SERIE 3","SERIE 3",120,10,5000,2000,935,"2,5 x 2",5,2]
["11 / 2000 / 120 / SERIE 3","SERIE 3",120,11,5500,2000,935,"1 x 3 & 1 x 2,5",5.5,2]
["(138 / 4000 / 70 / SERIE 5)","SERIE 5",70,138,34500,4000,1400,"3 x 4 & 6 x 3,5",34.5,9]
["(140 / 4000 / 70 / SERIE 5)","SERIE 5",70,140,35000,4000,1400,"3 x 4 & 6 x 3,5",35,9,null,"138 / 4000 / 70 / SERIE 5"]
["(142 / 4000 / 70 / SERIE 5)","SERIE 5",70,142,35500,4000,1400,"8 x 4 & 1 x 3,5",35.5,9,null,"140 / 4000 / 70 / SERIE 5"]
["(144 / 4000 / 70 / SERIE 5)","SERIE 5",70,144,36000,4000,1400,"9 x 4",36,9,null,"142 / 4000 / 70 / SERIE 5"]
["(146 / 4000 / 70 / SERIE 5)","SERIE 5",70,146,36500,4000,1400,"3 x 4 & 7 x 3,5",36.5,10,null,"144 / 4000 / 70 / SERIE 5"]
["(148 / 4000 / 70 / SERIE 5)","SERIE 5",70,148,37000,4000,1400,"4 x 4 & 6 x 3,5",37,10,null,"146 / 4000 / 70 / SERIE 5"]
["(150 / 4000 / 70 / SERIE 5)","SERIE 5",70,150,37500,4000,1400,"5 x 4 & 5 x 3,5",37.5,10,null,"148 / 4000 / 70 / SERIE 5"]
["(152 / 4000 / 70 / SERIE 5)","SERIE 5",70,152,38000,4000,1400,"6 x 4 & 4 x 3,5",38,10,null,"150 / 4000 / 70 / SERIE 5"]
["(154 / 4000 / 70 / SERIE 5)","SERIE 5",70,154,38500,4000,1400,"7 x 4 & 3 x 3,5",38.5,10,null,"152 / 4000 / 70 / SERIE 5"]
["(156 / 4000 / 70 / SERIE 5)","SERIE 5",70,156,39000,4000,1400,"8 x 4 & 2 x 3,5",39,10,null,"154 / 4000 / 70 / SERIE 5"]
["(158 / 4000 / 70 / SERIE 5)","SERIE 5",70,158,39500,4000,1400,"9 x 4 & 1 x 3,5",39.5,10,null,"156 / 4000 / 70 / SERIE 5"]
["(160 / 4000 / 70 / SERIE 5)","SERIE 5",70,160,40000,4000,1400,"10 x 4",40,10,null,"158 / 4000 / 70 / SERIE 5"]
["(16,5 / 1500 / 70 / SERIE 3)","SERIE 3",70,16.5,11000,1500,935,"2 x 4 & 1 x 3",11,3,null,"160 / 4000 / 70 / SERIE 5"]
["(17,25 / 1500 / 70 / SERIE 3)","SERIE 3",70,17.25,11500,1500,935,"2 x 4 & 1 x 3,5",11.5,3]
["(18 / 1500 / 70 / SERIE 3)","SERIE 3",70,18,12000,1500,935,"3 x 4",12,3]
["(18,75 / 1500 / 70 / SERIE 3)","SERIE 3",70,18.75,12500,1500,935,"1 x 3,5 & 3 x 3",12.5,4]
["(19,5 / 1500 / 70 / SERIE 3)","SERIE 3",70,19.5,13000,1500,935,"2 x 3,5 & 2 x 3",13,4]
["(20,25 / 1500 / 70 / SERIE 3)","SERIE 3",70,20.25,13500,1500,935,"3 x 3,5 & 1 x 3",13.5,4]
["(21 / 1500 / 70 / SERIE 3)","SERIE 3",70,21,14000,1500,935,"4 x 3,5",14,4]
["(21,75 / 1500 / 70 / SERIE 3)","SERIE 3",70,21.75,14500,1500,935,"1 x 4 & 3 x 3,5",14.5,4]
["(22,5 / 1500 / 70 / SERIE 3)","SERIE 3",70,22.5,15000,1500,935,"3 x 4 & 1 x 3",15,4]
["(13,75 / 1250 / 70 / SERIE 3)","SERIE 3",70,13.75,11000,1250,935,"2 x 4 & 1 x 3",11,3]
["14,38 / 1250 / 70 / SERIE 3","SERIE 3",70,14.38,11500,1250,935,"2 x 4 & 1 x 3,5",11.5,3]
["15 / 1250 / 70 / SERIE 3","SERIE 3",70,15,12000,1250,935,"3 x 4",12,3]
["15,63 / 1250 / 70 / SERIE 3","SERIE 3",70,15.63,12500,1250,935,"1 x 3,5 & 3 x 3",12.5,4]
["9 / 2000 / 70 / SERIE 3","SERIE 3",70,9,4500,2000,935,"2,5 + 2",4.5,2]
["10 / 2000 / 70 / SERIE 3","SERIE 3",70,10,5000,2000,935,"2,5 x 2",5,2]
["11 / 2000 / 70 / SERIE 3","SERIE 3",70,11,5500,2000,935,"1 x 3 & 1 x 2,5",5.5,2]
["(37 / 2000 / 70 / SERIE 3)","SERIE 3",70,37,18500,2000,1210,"2 x 4 & 3 x 3,5",18.5,5]
["(38 / 2000 / 70 / SERIE 3)","SERIE 3",70,38,19000,2000,1210,"4 x 4 & 1 x 3",19,5]
["(39 / 2000 / 70 / SERIE 3)","SERIE 3",70,39,19500,2000,1210,"4 x 4 & 1 x 3,5",19.5,5]
["(40 / 2000 / 70 / SERIE 3)","SERIE 3",70,40,20000,2000,1210,"5 x 4",20,5]

{"sheet":"Données (2)","index":16,"n_rows":35,"n_cols":9,"rows_kept":35,"cut":false,"hidden":true,"merged":[]}
[null,null,null,null,null,null,"3 bar","5 bar","1 bar"]
["m3/h","2 opérations côté gâteau",null,1,"CM 03 F - dia 1,1",null,1.2,1.55,0.68]
["gpm","1 opération + 1 in stand by",null,3,"CM 04 F - dia 1,3",null,1.6,2.0699999999999998,0.91]
["cfm",null,null,5,"CM 06 F - dia 1,6",null,2.4,3.1,1.4]
[null,null,null,null,"CM 10 F - dia 2,0",null,3.9,5.0999999999999996,2.2999999999999998]
[]
[]
[]
["Matière ballon"]
["Exclu"]
["304L"]
["316L"]
["U45N"]
["Acier au Carbone"]
["904L"]
["SANICRO "]
["FRP"]
["POLYPROPYLÈNE"]
["Acier caoutchouté"]
[]
[]
[]
[]
[]
[]
[]
[]
[]
[]
["TYPE GOULLOTES DE LAVAGE"]
["TypeSpreaderSurPatin (serie1&2)"]
["GoulottePetiteSurPatin (serie1&2)"]
["TUB"]
["OVER"]
["OVER"]

{"sheet":"Char2","index":17,"n_rows":113,"n_cols":22,"rows_kept":113,"cut":false,"hidden":true,"merged":[[3,2,4,6]]}
[]
["FAB",{"$f":"'Série 2'!B6","v":2},"M2",null,null,null,null,"CHARPENTE \"INOX\" Lg.",{"$f":"'Série 2'!B5","v":500}]
[]
[null,null,"Prix moyen matière"]
["Désignation","Poids",null,null,null,null,null,"Quantité","Poids total","Total","Total","Total","Total","Total","M. O.","PEINTURE","PEINTURE"]
[null,null,"E24","304 L","316 L","904 L","U45N",null,null,"E24","304L","316L","904L","U45N",{"$f":"HLOOKUP($I$2,$B$39:$P$57,19,0)","v":14},"UNITAIRE","TOTAL"]
[null,null,null,null,null,null,null,null,null,null,null,null,null,null," mn/kg"]
["Bati d' entée",{"$f":"HLOOKUP($I$2,$B$39:$G$57,2,0)","v":254},5,16.5,20,{"$f":"E8*2.75","v":55},28,1,{"$f":"H8*B8","v":254},{"$f":"I8*C8","v":1270},{"$f":"D8*I8","v":4191},{"$f":"I8*E8","v":5080},{"$f":"I8*F8","v":13970},{"$f":"I8*G8","v":7112},null,12,{"$f":"P8*H8","v":12}]
["Bati de sortie",{"$f":"HLOOKUP($I$2,$B$39:$G$57,3,0)","v":195},5,16.5,20,55,28,1,195,975,3217.5,3900,10725,{"$f":"I9*G9","v":5460},null,10.5,{"$f":"P9*H9","v":10.5}]
["Poteau",{"$f":"HLOOKUP($I$2,$B$39:$G$57,4,0)","v":75},5,16.5,20,55,28,{"$f":"IF(SUM(H13+H14+H15+H16)=0,0,(H13+H14+H15+H16)-1)","v":1},75,375,1237.5,1500,4125,2100,null,4,{"$f":"P10*H10","v":4}]
["Support tension de toile",{"$f":"HLOOKUP($I$2,$B$39:$G$57,5,0)","v":13},5,16.5,20,55,28,1,13,65,214.5,260,715,364,null,0.7,{"$f":"P11*H11","v":0.7}]
["Renforts de table",{"$f":"HLOOKUP($I$2,$B$39:$G$57,6,0)","v":0},5,16.5,20,55,28,1,0,0,0,0,0,0]
["Bati intermédiaire Pas de 2000",{"$f":"HLOOKUP($I$2,$B$39:$G$57,7,0)","v":63},5,16.5,20,55,28,{"$f":"'Série 2'!B11","v":2},126,630,2079,2520,6930,3528,null,{"$f":"B13/40*2","v":3.15},{"$f":"P13*H13","v":6.3}]
["Bati intermédiaire Pas de 2500",{"$f":"HLOOKUP($I$2,$B$39:$G$57,8,0)","v":78},5,16.5,20,55,28,{"$f":"'Série 2'!B12","v":0},0,0,0,0,0,0,null,{"$f":"B14/40*2","v":3.9},{"$f":"P14*H14","v":0}]
["Bati intermédiaire Pas de 3000",{"$f":"HLOOKUP($I$2,$B$39:$G$57,9,0)","v":94},5,16.5,20,55,28,{"$f":"'Série 2'!B13","v":0},0,0,0,0,0,0,null,{"$f":"B15/40*2","v":4.7},{"$f":"P15*H15","v":0}]
["Bati intermédiaire Pas de 3500",{"$f":"HLOOKUP($I$2,$B$39:$G$57,10,0)","v":109},5,16.5,20,55,28,{"$f":"'Série 2'!B14","v":0},0,0,0,0,0,0,null,{"$f":"B16/40*2","v":5.45},{"$f":"P16*H16","v":0}]
[null,{"$f":"HLOOKUP($I$2,$B$39:$G$57,11,0)","v":0},5,16.5,20,55,28]
["Rails  Pas de 2000",{"$f":"HLOOKUP($I$2,$B$39:$G$57,12,0)","v":87},5,16.5,20,55,28,{"$f":"'Série 2'!B11","v":2},174,870,2871,3480,9570,4872,null,{"$f":"B18/40*2","v":4.3499999999999996},{"$f":"P18*H18","v":8.6999999999999993}]
["Rails Pas de 2500",{"$f":"HLOOKUP($I$2,$B$39:$G$57,13,0)","v":109},5,16.5,20,55,28,{"$f":"'Série 2'!B12","v":0},0,0,0,0,0,0,null,{"$f":"B19/40*2","v":5.45},{"$f":"P19*H19","v":0}]
["Rails Pas de 3000",{"$f":"HLOOKUP($I$2,$B$39:$G$57,14,0)","v":130},5,16.5,20,55,28,{"$f":"'Série 2'!B13","v":0},0,0,0,0,0,0,null,{"$f":"B20/40*2","v":6.5},{"$f":"P20*H20","v":0}]
["Rails Pas de 3500",{"$f":"HLOOKUP($I$2,$B$39:$G$57,15,0)","v":152},5,16.5,20,55,28,{"$f":"'Série 2'!B14","v":0},0,0,0,0,0,0,null,{"$f":"B21/40*2","v":7.6},{"$f":"P21*H21","v":0}]
[null,{"$f":"HLOOKUP($I$2,$B$39:$G$57,16,0)","v":0},5,16.5,20,55,28,{"$f":"'Série 2'!B15","v":0},0,0,0,0,0,0]
["Rails Bati de sortie",{"$f":"HLOOKUP($I$2,$B$39:$G$57,17,0)","v":0},5,16.5,20,55,28,1,0,0,0,0,0,0]
["Sous-traitance tubes (mètres)",{"$f":"HLOOKUP($I$2,$B$39:$G$57,18,0)","v":9},500,500,500,500,500,1,{"$f":"H24*B24","v":9},{"$f":"I24*C24","v":4500},{"$f":"D24*I24","v":4500},{"$f":"I24*E24","v":4500},{"$f":"I24*F24","v":4500},4500]
[null,null,null,null,null,null,null,null,{"$f":"H25*B25","v":0},null,{"$f":"D25*I25","v":0},{"$f":"I25*E25","v":0},{"$f":"I25*F25","v":0},{"$f":"J25*G25","v":0}]
[]
[null,null,null,null,null,null,null,"TOTAL :",{"$f":"SUM(I8:I23)","v":837},{"$f":"SUM(J8:J25)","v":8685},{"$f":"SUM(K8:K25)","v":18310.5},{"$f":"SUM(L8:L25)","v":21240},{"$f":"SUM(M8:M25)","v":50535},{"$f":"SUM(N8:N25)","v":27936},{"$f":"((I27*O6)/60)+IF('Série 2'!B85=0,0,Char2!B93)","v":245.3},null,{"$f":"SUM(Q8:Q25)","v":42.2}]
[]
[null,null,null,null,null,null,null,null,"prix moyen :",{"$f":"J27/I27","v":10.376344086021506},{"$f":"K27/I27","v":21.876344086021504},{"$f":"L27/I27","v":25.376344086021504},{"$f":"M27/I27","v":60.376344086021504},{"$f":"N27/I27","v":33.376344086021504},30]
[]
[]
["LONGUEUR BAV",{"$f":"B2/I2/0.001","v":4}]
[]
[]
[]
[]
[]
[]
[null,null,500,750,1000,1250,1500,null,null,null,2000,2250,2500,3000,4000,4200]
["Bati d' entée",null,254,263,272,281,290,null,null,null,1175,null,1200,1245,1962,2087]
["Bati de sortie",null,195,206,217,239,250,null,null,null,850,null,1230,1271,1928,2073]
["Poteau",null,75,82,89,103,110,null,null,null,227,null,290,315,462,499]
["Support tension de toile",null,13,13,13,13,13,null,null,null,120,null,120,145,145,145]
["Renforts de table",null,null,null,null,null,0,null,null,null,190,null,190,{"$f":"(63*2)+((LOOKUP($T$44,$U$44:$U$49,$V$44:$V$49))*68)","v":194},{"$f":"(63*2)+((LOOKUP($T$44,$U$44:$U$49,$V$44:$V$49))*68)","v":194},{"$f":"(63*2)+((LOOKUP($T$44,$U$44:$U$49,$V$44:$V$49))*68)","v":194},null,null,"Couple Nm",{"$f":"'Série 2'!B78","v":2319.9441837187496},0,1]
["Bati intermédiaire Pas de 2000",null,63,63,63,63,63,null,null,null,null,null,null,null,null,null,null,null,null,null,10000,1]
["Bati intermédiaire Pas de 2500",null,78,78,78,78,78,null,null,null,null,null,null,null,null,null,null,null,{"$f":"(LOOKUP(T44,U44:U49,V44:V49))","v":1},null,20000,2]
["Bati intermédiaire Pas de 3000",null,94,94,94,94,94,null,null,null,372,null,372,440,513,584,null,null,null,null,40000,3]
["Bati intermédiaire Pas de 3500",null,109,109,109,109,109,null,null,null,424,null,424,503,592,674,null,null,null,null,80000,4]
[null,null,null,null,null,null,null,null,null,null,476,null,476,565,671,764,null,null,null,null,100000,5]
["Rails  Pas de 2000",null,87,87,87,116,116]
["Rails Pas de 2500",null,109,109,109,145,145]
["Rails Pas de 3000",null,130,130,130,173,173,null,null,null,312,null,312,375,452,517]
["Rails Pas de 3500",null,152,152,152,202,202,null,null,null,364,null,364,438,522,603]
[null,null,null,null,null,null,null,null,null,null,416,null,416,500,602,689]
["Rails Bati de sortie",null,0,0,0,0,0,null,null,null,60,null,60,65,35,35]
["Sous-traitance tubes (mètres)",null,{"$f":"($H$10*3)+6","v":9},{"$f":"($H$10*3)+6","v":9},{"$f":"($H$10*3)+6","v":9},{"$f":"($H$10*3)+6","v":9},{"$f":"($H$10*3)+6","v":9},null,null,null,30,null,30,30,35,38]
["MO",null,14,14,14,14,14,null,null,null,7,7,5,5,5,5]
[]
[]
["GUIDAGE TOILE",null,500,750,1000,1250,1500,null,null,null,2000,2250,2500,3000,4000,4200]
["304L",null,600,600,600,600,600,null,null,null,2000,2160,2275,2500,2800,2870]
["316L",null,700,700,700,700,700,null,null,null,2340,2480,2615,2875,3200,3300]
["904L",null,1925,1925,1925,1925,1925,null,null,null,6500,6820,7190,7910,8800,9075]
["U45N",null,{"$f":"C63*0.54","v":1039.5},{"$f":"D63*0.54","v":1039.5},{"$f":"E63*0.54","v":1039.5},{"$f":"F63*0.54","v":1039.5},{"$f":"G63*0.54","v":1039.5},null,null,null,{"$f":"K63*0.54","v":3510.0000000000005},3682.8,3882.6000000000004,4271.4000000000005,4752,4900.5]
["E24",null,9600,9600,9600,9600,9600]
["NEGOCE",null,4830,4830,4830,4830,4830,null,null,null,31145,32300,33500,41000,53000,55000]
["MO",null,40,40,40,40,40,null,null,null,30,30,30,30,30,30]
["TENSION TOILE",null,500,750,1000,1250,1500,null,null,null,2000,2250,2500,3000,4000,4200]
["304L",null,2100,2450,2800,3150,3500,null,null,null,4200,4900,5305,6050,7600,7950]
["316L",null,2400,2800,3200,3600,4000,null,null,null,4800,5610,6100,6950,8725,9100]
["904L",null,6600,7700,8800,9900,11000,null,null,null,13200,15430,16775,19115,24000,25025]
["U45N",null,{"$f":"C71*0.54","v":3564.0000000000005},{"$f":"D71*0.54","v":4158},{"$f":"E71*0.54","v":4752},{"$f":"F71*0.54","v":5346},{"$f":"G71*0.54","v":5940},null,null,null,{"$f":"K71*0.54","v":7128.0000000000009},8332.2000000000007,9058.5,10322.1,12960,13513.5]
["E24",null,2100,2450,2800,3150,3500]
["NEGOCE",null,500,500,500,500,500,null,null,null,1500,1500,1500,1500,1500,1500]
["MO",null,40,40,40,40,40,null,null,null,50,50,50,50,60,60]
[]
["BRAS DE REACTION",null,500,750,1000,1250,1500,null,null,null,2000,2250,2500,3000,4000,4200]
["304L",null,255,255,598,935,1190,null,null,null,1678,1910,2170,2610,5128,5128]
["316L",null,300,300,705,1100,1400,null,null,null,1980,2250,2550,3075,6080,6080]
["904L",null,825,825,1955,3050,3880,null,null,null,5490,6240,7075,8530,17080,17080]
["U45N",null,{"$f":"C80*0.54","v":445.50000000000006},{"$f":"D80*0.54","v":445.50000000000006},{"$f":"E80*0.54","v":1055.7},{"$f":"F80*0.54","v":1647},{"$f":"G80*0.54","v":2095.2000000000003},null,null,null,{"$f":"K80*0.54","v":2964.6000000000004},3369.6000000000004,3820.5000000000005,4606.2000000000007,9223.2000000000007,9223.2000000000007]
["E24",null,255,255,598,935,1190,null,null,null,null,null,null,null,{"$f":"O81*0.54","v":4980.5280000000012},{"$f":"P81*0.54","v":4980.5280000000012}]
["NEGOCE",null,200,200,900,900,900,null,null,null,900,900,900,900,900,900]
["MO",null,10,10,20,25,25,null,null,null,25,30,30,30,50,50]
[]
["GRILLES DE PROTECTION",null,500,750,1000,1250,1500,null,null,null,2000,2250,2500,3000,4000,4200]
["E24",20000,20000,20000,20000,20000,20000]
["304L",25000,25000,25000,25000,25000,25000,null,null,null,4100,null,null,4879,5644,5797]
["316L",30000,30000,30000,30000,30000,30000,null,null,null,4825,null,null,5740,6640,6820]
["904L",30000,30000,30000,30000,30000,30000,null,null,null,13265,null,null,15785,18260,18755]
["U45N",30000,30000,30000,30000,30000,30000,null,null,null,{"$f":"K90*0.54","v":7163.1},null,null,{"$f":"N90*0.54","v":8523.9000000000015},{"$f":"O90*0.54","v":9860.4000000000015},{"$f":"P90*0.54","v":10127.700000000001}]
["NEGOCE",null,20000,20000,20000,20000,20000,null,null,null,13850,null,null,16610,18120,19630]
["MO",50,50,50,50,50,50,null,null,null,50,null,null,50,50,50]
[]
["PROTECTION ET PEINTURE"]
[null,"E24","304L","316L","U45N","904L"]
["NEGOCE",{"$f":"Q27*13+100","v":648.6},100,100,100,100]
["MO",{"$f":"Q27*1+20","v":62.2},40,40,40,40]
[]
["RENFORCEMENT POUR TRANSPORT"]
[]
["MATIERE",{"$f":"(B32+0.4)*2*61.3*0.7","v":377.608}]
["MO",15]
[]
["MONTAGE USINE OU PREMONTAGE"]
[]
[{"$f":"'Série 2'!B83","v":"MONT"},350]
["Demontage accessoires",20]
[{"$f":"IF(A107=\"PRE\",\"pre-assembly + labelling\",\"full erection in factory + reinforcement\")","v":"full erection in factory + reinforcement"},100]
["preparation si part local",50,"Pour la part France à expedier"]
[{"$f":"IF(A107=\"PRE\",B109,B107+B103+B108)","v":385}]
[]
["GRILLES DE PROTECTION CE",null,{"$f":"(((B2/I2/0.001)+3.2)*2+((I2*0.001)+1.7))*256","v":4249.6000000000004}]

{"sheet":"Local Cost List2","index":18,"n_rows":73,"n_cols":15,"rows_kept":73,"cut":false,"hidden":true,"merged":[]}
[null,null,{"$f":"'Cost List2.xls'!C5","v":"data"},null,null,{"$f":"'Cost List2.xls'!K5","v":"Updated"},{"$f":"'Cost List2.xls'!L5","v":"Buyout"},null,{"$f":"'Cost List2.xls'!N5","v":"Total (1) Material + buyout"},{"$f":"'Cost List2.xls'!O5","v":"Labour"},{"$f":"'Cost List2.xls'!P5","v":"Labour"},null,{"$f":"'Cost List2.xls'!R5","v":"Total (2)"},null,{"$f":"'Cost List2.xls'!T5","v":"Final cost without Engineering"}]
[{"$f":"'Cost List2.xls'!A6","v":"Désignation"},null,{"$f":"'Cost List2.xls'!C6","v":"Spéc"},{"$f":"'Cost List2.xls'!F6","v":"Mat"},{"$f":"'Cost List2.xls'!G6","v":"Qty"},{"$f":"'Cost List2.xls'!K6","v":"material"},null,{"$f":"'Cost List2.xls'!M6","v":"Qty"},{"$f":"'Cost List2.xls'!N6","v":0},{"$f":"'Cost List2.xls'!O6","v":"Unit"},{"$f":"'Cost List2.xls'!P6","v":"Total"},{"$f":"'Cost List2.xls'!Q6","v":"Taux"},{"$f":"'Cost List2.xls'!R6","v":"Labour"},{"$f":"'Cost List2.xls'!S6","v":"Marg"},{"$f":"'Cost List2.xls'!T6","v":0}]
[null,null,{"$f":"'Cost List2.xls'!C7","v":"Dia."},{"$f":"'Cost List2.xls'!F7","v":"Spec"},null,null,{"$f":"'Cost List2.xls'!L7","v":1},null,{"$f":"'Cost List2.xls'!N7","v":0},null,{"$f":"'Cost List2.xls'!P7","v":1},null,null,null,{"$f":"'Cost List2.xls'!T7","v":0}]
[{"$f":"'Cost List2.xls'!A8","v":"filter engineering basic"},{"$f":"IF('Cost List2.xls'!$E8=\"\",\"France\",\"Local\")","v":"France"},{"$f":"'Cost List2.xls'!C8","v":0},{"$f":"IF('Cost List2.xls'!$E8=\"\",\"\",'Cost List2.xls'!F8)","v":""},{"$f":"IF('Cost List2.xls'!$E8=\"\",\"\",'Cost List2.xls'!G8)","v":""},{"$f":"IF('Cost List2.xls'!$E8=\"\",\"\",'Cost List2.xls'!K8)","v":""},{"$f":"IF('Cost List2.xls'!$E8=\"\",\"\",'Cost List2.xls'!L8)","v":""},{"$f":"IF('Cost List2.xls'!$E8=\"\",\"\",'Cost List2.xls'!M8)","v":""},{"$f":"IF('Cost List2.xls'!$E8=\"\",\"\",'Cost List2.xls'!N8)","v":""},{"$f":"IF('Cost List2.xls'!$E8=\"\",\"\",'Cost List2.xls'!O8)","v":""},{"$f":"IF('Cost List2.xls'!$E8=\"\",\"\",'Cost List2.xls'!P8)","v":""},{"$f":"IF('Cost List2.xls'!$E8=\"\",\"\",'Cost List2.xls'!Q8)","v":""},{"$f":"IF('Cost List2.xls'!$E8=\"\",\"\",'Cost List2.xls'!R8)","v":""},{"$f":"IF('Cost List2.xls'!$E8=\"\",\"\",'Cost List2.xls'!S8)","v":""},{"$f":"IF('Cost List2.xls'!$E8=\"\",\"France\",'Cost List2.xls'!T8)","v":"France"}]
[{"$f":"'Cost List2.xls'!A9","v":"customisazion second filter and following"},{"$f":"IF('Cost List2.xls'!$E9=\"\",\"France\",\"Local\")","v":"France"},{"$f":"'Cost List2.xls'!C9","v":0},{"$f":"IF('Cost List2.xls'!$E9=\"\",\"\",'Cost List2.xls'!F9)","v":""},{"$f":"IF('Cost List2.xls'!$E9=\"\",\"\",'Cost List2.xls'!G9)","v":""},{"$f":"IF('Cost List2.xls'!$E9=\"\",\"\",'Cost List2.xls'!K9)","v":""},{"$f":"IF('Cost List2.xls'!$E9=\"\",\"\",'Cost List2.xls'!L9)","v":""},{"$f":"IF('Cost List2.xls'!$E9=\"\",\"\",'Cost List2.xls'!M9)","v":""},{"$f":"IF('Cost List2.xls'!$E9=\"\",\"\",'Cost List2.xls'!N9)","v":""},{"$f":"IF('Cost List2.xls'!$E9=\"\",\"\",'Cost List2.xls'!O9)","v":""},{"$f":"IF('Cost List2.xls'!$E9=\"\",\"\",'Cost List2.xls'!P9)","v":""},{"$f":"IF('Cost List2.xls'!$E9=\"\",\"\",'Cost List2.xls'!Q9)","v":""},{"$f":"IF('Cost List2.xls'!$E9=\"\",\"\",'Cost List2.xls'!R9)","v":""},{"$f":"IF('Cost List2.xls'!$E9=\"\",\"\",'Cost List2.xls'!S9)","v":""},{"$f":"IF('Cost List2.xls'!$E9=\"\",\"France\",'Cost List2.xls'!T9)","v":"France"}]
[{"$f":"'Cost List2.xls'!A10","v":"other customisazion"},{"$f":"IF('Cost List2.xls'!$E10=\"\",\"France\",\"Local\")","v":"France"},{"$f":"'Cost List2.xls'!C10","v":0},{"$f":"IF('Cost List2.xls'!$E10=\"\",\"\",'Cost List2.xls'!F10)","v":""},{"$f":"IF('Cost List2.xls'!$E10=\"\",\"\",'Cost List2.xls'!G10)","v":""},{"$f":"IF('Cost List2.xls'!$E10=\"\",\"\",'Cost List2.xls'!K10)","v":""},{"$f":"IF('Cost List2.xls'!$E10=\"\",\"\",'Cost List2.xls'!L10)","v":""},{"$f":"IF('Cost List2.xls'!$E10=\"\",\"\",'Cost List2.xls'!M10)","v":""},{"$f":"IF('Cost List2.xls'!$E10=\"\",\"\",'Cost List2.xls'!N10)","v":""},{"$f":"IF('Cost List2.xls'!$E10=\"\",\"\",'Cost List2.xls'!O10)","v":""},{"$f":"IF('Cost List2.xls'!$E10=\"\",\"\",'Cost List2.xls'!P10)","v":""},{"$f":"IF('Cost List2.xls'!$E10=\"\",\"\",'Cost List2.xls'!Q10)","v":""},{"$f":"IF('Cost List2.xls'!$E10=\"\",\"\",'Cost List2.xls'!R10)","v":""},{"$f":"IF('Cost List2.xls'!$E10=\"\",\"\",'Cost List2.xls'!S10)","v":""},{"$f":"IF('Cost List2.xls'!$E10=\"\",\"France\",'Cost List2.xls'!T10)","v":"France"}]
[{"$f":"IF('Cost List2.xls'!$E11=\"\",\"\",'Cost List2.xls'!A11)","v":"frame incl. belt support steel beam"},{"$f":"IF('Cost List2.xls'!$E11=\"\",\"France\",\"Local\")","v":"Local"},{"$f":"'Cost List2.xls'!C11","v":"837 kg"},{"$f":"IF('Cost List2.xls'!$E11=\"\",\"\",'Cost List2.xls'!F11)","v":"304L"},{"$f":"IF('Cost List2.xls'!$E11=\"\",\"\",'Cost List2.xls'!G11)","v":1},{"$f":"IF('Cost List2.xls'!$E11=\"\",\"\",'Cost List2.xls'!K11)","v":4440.8918433816407},{"$f":"IF('Cost List2.xls'!$E11=\"\",\"\",'Cost List2.xls'!L11)","v":3811.2254309352597},{"$f":"IF('Cost List2.xls'!$E11=\"\",\"\",'Cost List2.xls'!M11)","v":1},{"$f":"IF('Cost List2.xls'!$E11=\"\",\"\",'Cost List2.xls'!N11)","v":8252.1172743169009},{"$f":"IF('Cost List2.xls'!$E11=\"\",\"\",'Cost List2.xls'!O11)","v":245.3},{"$f":"IF('Cost List2.xls'!$E11=\"\",\"\",'Cost List2.xls'!P11)","v":245.3},{"$f":"IF('Cost List2.xls'!$E11=\"\",\"\",'Cost List2.xls'!Q11)","v":45},{"$f":"IF('Cost List2.xls'!$E11=\"\",\"\",'Cost List2.xls'!R11)","v":11038.5},{"$f":"IF('Cost List2.xls'!$E11=\"\",\"\",'Cost List2.xls'!S11)","v":1},{"$f":"IF('Cost List2.xls'!$E11=\"\",\"France\",'Cost List2.xls'!T11)","v":7386.5244444444434}]
[{"$f":"'Cost List2.xls'!A12","v":"wear belt and plastic rail"},{"$f":"IF('Cost List2.xls'!$E12=\"\",\"France\",\"Local\")","v":"Local"},{"$f":"'Cost List2.xls'!C12","v":"DUNL"},{"$f":"IF('Cost List2.xls'!$E12=\"\",\"\",'Cost List2.xls'!F12)","v":"PLAS"},{"$f":"IF('Cost List2.xls'!$E12=\"\",\"\",'Cost List2.xls'!G12)","v":4},{"$f":"IF('Cost List2.xls'!$E12=\"\",\"\",'Cost List2.xls'!K12)","v":0},{"$f":"IF('Cost List2.xls'!$E12=\"\",\"\",'Cost List2.xls'!L12)","v":851.21433264680468},{"$f":"IF('Cost List2.xls'!$E12=\"\",\"\",'Cost List2.xls'!M12)","v":1},{"$f":"IF('Cost List2.xls'!$E12=\"\",\"\",'Cost List2.xls'!N12)","v":851.21433264680468},{"$f":"IF('Cost List2.xls'!$E12=\"\",\"\",'Cost List2.xls'!O12)","v":25.3},{"$f":"IF('Cost List2.xls'!$E12=\"\",\"\",'Cost List2.xls'!P12)","v":25.3},{"$f":"IF('Cost List2.xls'!$E12=\"\",\"\",'Cost List2.xls'!Q12)","v":45},{"$f":"IF('Cost List2.xls'!$E12=\"\",\"\",'Cost List2.xls'!R12)","v":1138.5},{"$f":"IF('Cost List2.xls'!$E12=\"\",\"\",'Cost List2.xls'!S12)","v":1},{"$f":"IF('Cost List2.xls'!$E12=\"\",\"France\",'Cost List2.xls'!T12)","v":1591.7714661174439}]
[{"$f":"'Cost List2.xls'!A13","v":"rubber belt + grooving + pinching"},{"$f":"IF('Cost List2.xls'!$E13=\"\",\"France\",\"Local\")","v":"France"},{"$f":"'Cost List2.xls'!C13","v":0},{"$f":"IF('Cost List2.xls'!$E13=\"\",\"\",'Cost List2.xls'!F13)","v":""},{"$f":"IF('Cost List2.xls'!$E13=\"\",\"\",'Cost List2.xls'!G13)","v":""},{"$f":"IF('Cost List2.xls'!$E13=\"\",\"\",'Cost List2.xls'!K13)","v":""},{"$f":"IF('Cost List2.xls'!$E13=\"\",\"\",'Cost List2.xls'!L13)","v":""},{"$f":"IF('Cost List2.xls'!$E13=\"\",\"\",'Cost List2.xls'!M13)","v":""},{"$f":"IF('Cost List2.xls'!$E13=\"\",\"\",'Cost List2.xls'!N13)","v":""},{"$f":"IF('Cost List2.xls'!$E13=\"\",\"\",'Cost List2.xls'!O13)","v":""},{"$f":"IF('Cost List2.xls'!$E13=\"\",\"\",'Cost List2.xls'!P13)","v":""},{"$f":"IF('Cost List2.xls'!$E13=\"\",\"\",'Cost List2.xls'!Q13)","v":""},{"$f":"IF('Cost List2.xls'!$E13=\"\",\"\",'Cost List2.xls'!R13)","v":""},{"$f":"IF('Cost List2.xls'!$E13=\"\",\"\",'Cost List2.xls'!S13)","v":""},{"$f":"IF('Cost List2.xls'!$E13=\"\",\"France\",'Cost List2.xls'!T13)","v":"France"}]
[{"$f":"'Cost List2.xls'!A14","v":"edge curb"},{"$f":"IF('Cost List2.xls'!$E14=\"\",\"France\",\"Local\")","v":"France"},{"$f":"'Cost List2.xls'!C14","v":70},{"$f":"IF('Cost List2.xls'!$E14=\"\",\"\",'Cost List2.xls'!F14)","v":""},{"$f":"IF('Cost List2.xls'!$E14=\"\",\"\",'Cost List2.xls'!G14)","v":""},{"$f":"IF('Cost List2.xls'!$E14=\"\",\"\",'Cost List2.xls'!K14)","v":""},{"$f":"IF('Cost List2.xls'!$E14=\"\",\"\",'Cost List2.xls'!L14)","v":""},{"$f":"IF('Cost List2.xls'!$E14=\"\",\"\",'Cost List2.xls'!M14)","v":""},{"$f":"IF('Cost List2.xls'!$E14=\"\",\"\",'Cost List2.xls'!N14)","v":""},{"$f":"IF('Cost List2.xls'!$E14=\"\",\"\",'Cost List2.xls'!O14)","v":""},{"$f":"IF('Cost List2.xls'!$E14=\"\",\"\",'Cost List2.xls'!P14)","v":""},{"$f":"IF('Cost List2.xls'!$E14=\"\",\"\",'Cost List2.xls'!Q14)","v":""},{"$f":"IF('Cost List2.xls'!$E14=\"\",\"\",'Cost List2.xls'!R14)","v":""},{"$f":"IF('Cost List2.xls'!$E14=\"\",\"\",'Cost List2.xls'!S14)","v":""},{"$f":"IF('Cost List2.xls'!$E14=\"\",\"France\",'Cost List2.xls'!T14)","v":"France"}]
[{"$f":"'Cost List2.xls'!A15","v":"drive pulley  SBR"},{"$f":"IF('Cost List2.xls'!$E15=\"\",\"France\",\"Local\")","v":"Local"},{"$f":"'Cost List2.xls'!C15","v":630},{"$f":"IF('Cost List2.xls'!$E15=\"\",\"\",'Cost List2.xls'!F15)","v":0},{"$f":"IF('Cost List2.xls'!$E15=\"\",\"\",'Cost List2.xls'!G15)","v":1},{"$f":"IF('Cost List2.xls'!$E15=\"\",\"\",'Cost List2.xls'!K15)","v":198.18372240863349},{"$f":"IF('Cost List2.xls'!$E15=\"\",\"\",'Cost List2.xls'!L15)","v":897.92471152834719},{"$f":"IF('Cost List2.xls'!$E15=\"\",\"\",'Cost List2.xls'!M15)","v":1},{"$f":"IF('Cost List2.xls'!$E15=\"\",\"\",'Cost List2.xls'!N15)","v":1096.1084339369806},{"$f":"IF('Cost List2.xls'!$E15=\"\",\"\",'Cost List2.xls'!O15)","v":32},{"$f":"IF('Cost List2.xls'!$E15=\"\",\"\",'Cost List2.xls'!P15)","v":32},{"$f":"IF('Cost List2.xls'!$E15=\"\",\"\",'Cost List2.xls'!Q15)","v":45},{"$f":"IF('Cost List2.xls'!$E15=\"\",\"\",'Cost List2.xls'!R15)","v":1440},{"$f":"IF('Cost List2.xls'!$E15=\"\",\"\",'Cost List2.xls'!S15)","v":1},{"$f":"IF('Cost List2.xls'!$E15=\"\",\"France\",'Cost List2.xls'!T15)","v":4543.9999999999991}]
[{"$f":"'Cost List2.xls'!A16","v":"idler pulley  SBR"},{"$f":"IF('Cost List2.xls'!$E16=\"\",\"France\",\"Local\")","v":"Local"},{"$f":"'Cost List2.xls'!C16","v":630},{"$f":"IF('Cost List2.xls'!$E16=\"\",\"\",'Cost List2.xls'!F16)","v":0},{"$f":"IF('Cost List2.xls'!$E16=\"\",\"\",'Cost List2.xls'!G16)","v":1},{"$f":"IF('Cost List2.xls'!$E16=\"\",\"\",'Cost List2.xls'!K16)","v":138.72860568604344},{"$f":"IF('Cost List2.xls'!$E16=\"\",\"\",'Cost List2.xls'!L16)","v":708.88793015395822},{"$f":"IF('Cost List2.xls'!$E16=\"\",\"\",'Cost List2.xls'!M16)","v":1},{"$f":"IF('Cost List2.xls'!$E16=\"\",\"\",'Cost List2.xls'!N16)","v":847.61653584000169},{"$f":"IF('Cost List2.xls'!$E16=\"\",\"\",'Cost List2.xls'!O16)","v":28},{"$f":"IF('Cost List2.xls'!$E16=\"\",\"\",'Cost List2.xls'!P16)","v":28},{"$f":"IF('Cost List2.xls'!$E16=\"\",\"\",'Cost List2.xls'!Q16)","v":45},{"$f":"IF('Cost List2.xls'!$E16=\"\",\"\",'Cost List2.xls'!R16)","v":1260},{"$f":"IF('Cost List2.xls'!$E16=\"\",\"\",'Cost List2.xls'!S16)","v":1},{"$f":"IF('Cost List2.xls'!$E16=\"\",\"France\",'Cost List2.xls'!T16)","v":4219.1881481481478}]
[{"$f":"'Cost List2.xls'!A17","v":"pulleys bearing"},{"$f":"IF('Cost List2.xls'!$E17=\"\",\"France\",\"Local\")","v":"France"},{"$f":"'Cost List2.xls'!C17","v":0},{"$f":"IF('Cost List2.xls'!$E17=\"\",\"\",'Cost List2.xls'!F17)","v":""},{"$f":"IF('Cost List2.xls'!$E17=\"\",\"\",'Cost List2.xls'!G17)","v":""},{"$f":"IF('Cost List2.xls'!$E17=\"\",\"\",'Cost List2.xls'!K17)","v":""},{"$f":"IF('Cost List2.xls'!$E17=\"\",\"\",'Cost List2.xls'!L17)","v":""},{"$f":"IF('Cost List2.xls'!$E17=\"\",\"\",'Cost List2.xls'!M17)","v":""},{"$f":"IF('Cost List2.xls'!$E17=\"\",\"\",'Cost List2.xls'!N17)","v":""},{"$f":"IF('Cost List2.xls'!$E17=\"\",\"\",'Cost List2.xls'!O17)","v":""},{"$f":"IF('Cost List2.xls'!$E17=\"\",\"\",'Cost List2.xls'!P17)","v":""},{"$f":"IF('Cost List2.xls'!$E17=\"\",\"\",'Cost List2.xls'!Q17)","v":""},{"$f":"IF('Cost List2.xls'!$E17=\"\",\"\",'Cost List2.xls'!R17)","v":""},{"$f":"IF('Cost List2.xls'!$E17=\"\",\"\",'Cost List2.xls'!S17)","v":""},{"$f":"IF('Cost List2.xls'!$E17=\"\",\"France\",'Cost List2.xls'!T17)","v":"France"}]
[{"$f":"'Cost List2.xls'!A18","v":"belt guide rollers"},{"$f":"IF('Cost List2.xls'!$E18=\"\",\"France\",\"Local\")","v":"France"},{"$f":"'Cost List2.xls'!C18","v":0},{"$f":"IF('Cost List2.xls'!$E18=\"\",\"\",'Cost List2.xls'!F18)","v":""},{"$f":"IF('Cost List2.xls'!$E18=\"\",\"\",'Cost List2.xls'!G18)","v":""},{"$f":"IF('Cost List2.xls'!$E18=\"\",\"\",'Cost List2.xls'!K18)","v":""},{"$f":"IF('Cost List2.xls'!$E18=\"\",\"\",'Cost List2.xls'!L18)","v":""},{"$f":"IF('Cost List2.xls'!$E18=\"\",\"\",'Cost List2.xls'!M18)","v":""},{"$f":"IF('Cost List2.xls'!$E18=\"\",\"\",'Cost List2.xls'!N18)","v":""},{"$f":"IF('Cost List2.xls'!$E18=\"\",\"\",'Cost List2.xls'!O18)","v":""},{"$f":"IF('Cost List2.xls'!$E18=\"\",\"\",'Cost List2.xls'!P18)","v":""},{"$f":"IF('Cost List2.xls'!$E18=\"\",\"\",'Cost List2.xls'!Q18)","v":""},{"$f":"IF('Cost List2.xls'!$E18=\"\",\"\",'Cost List2.xls'!R18)","v":""},{"$f":"IF('Cost List2.xls'!$E18=\"\",\"\",'Cost List2.xls'!S18)","v":""},{"$f":"IF('Cost List2.xls'!$E18=\"\",\"France\",'Cost List2.xls'!T18)","v":"France"}]
[{"$f":"'Cost List2.xls'!A19","v":"belt support rollers"},{"$f":"IF('Cost List2.xls'!$E19=\"\",\"France\",\"Local\")","v":"Local"},{"$f":"'Cost List2.xls'!C19","v":219},{"$f":"IF('Cost List2.xls'!$E19=\"\",\"\",'Cost List2.xls'!F19)","v":"304L"},{"$f":"IF('Cost List2.xls'!$E19=\"\",\"\",'Cost List2.xls'!G19)","v":3},{"$f":"IF('Cost List2.xls'!$E19=\"\",\"\",'Cost List2.xls'!K19)","v":427.75461861621471},{"$f":"IF('Cost List2.xls'!$E19=\"\",\"\",'Cost List2.xls'!L19)","v":6.8602057756834673},{"$f":"IF('Cost List2.xls'!$E19=\"\",\"\",'Cost List2.xls'!M19)","v":1},{"$f":"IF('Cost List2.xls'!$E19=\"\",\"\",'Cost List2.xls'!N19)","v":434.6148243918982},{"$f":"IF('Cost List2.xls'!$E19=\"\",\"\",'Cost List2.xls'!O19)","v":21},{"$f":"IF('Cost List2.xls'!$E19=\"\",\"\",'Cost List2.xls'!P19)","v":21},{"$f":"IF('Cost List2.xls'!$E19=\"\",\"\",'Cost List2.xls'!Q19)","v":45},{"$f":"IF('Cost List2.xls'!$E19=\"\",\"\",'Cost List2.xls'!R19)","v":945},{"$f":"IF('Cost List2.xls'!$E19=\"\",\"\",'Cost List2.xls'!S19)","v":1},{"$f":"IF('Cost List2.xls'!$E19=\"\",\"France\",'Cost List2.xls'!T19)","v":1315.2355555555555}]
[{"$f":"'Cost List2.xls'!A20","v":"cloth support roller type 1"},{"$f":"IF('Cost List2.xls'!$E20=\"\",\"France\",\"Local\")","v":"Local"},{"$f":"'Cost List2.xls'!C20","v":60},{"$f":"IF('Cost List2.xls'!$E20=\"\",\"\",'Cost List2.xls'!F20)","v":"304L"},{"$f":"IF('Cost List2.xls'!$E20=\"\",\"\",'Cost List2.xls'!G20)","v":8},{"$f":"IF('Cost List2.xls'!$E20=\"\",\"\",'Cost List2.xls'!K20)","v":549.05483688163042},{"$f":"IF('Cost List2.xls'!$E20=\"\",\"\",'Cost List2.xls'!L20)","v":18.293882068489246},{"$f":"IF('Cost List2.xls'!$E20=\"\",\"\",'Cost List2.xls'!M20)","v":1},{"$f":"IF('Cost List2.xls'!$E20=\"\",\"\",'Cost List2.xls'!N20)","v":567.34871895011963},{"$f":"IF('Cost List2.xls'!$E20=\"\",\"\",'Cost List2.xls'!O20)","v":28},{"$f":"IF('Cost List2.xls'!$E20=\"\",\"\",'Cost List2.xls'!P20)","v":28},{"$f":"IF('Cost List2.xls'!$E20=\"\",\"\",'Cost List2.xls'!Q20)","v":45},{"$f":"IF('Cost List2.xls'!$E20=\"\",\"\",'Cost List2.xls'!R20)","v":1260},{"$f":"IF('Cost List2.xls'!$E20=\"\",\"\",'Cost List2.xls'!S20)","v":1},{"$f":"IF('Cost List2.xls'!$E20=\"\",\"France\",'Cost List2.xls'!T20)","v":2208.0474074074068}]
[{"$f":"'Cost List2.xls'!A21","v":"cloth support roller type 2"},{"$f":"IF('Cost List2.xls'!$E21=\"\",\"France\",\"Local\")","v":"Local"},{"$f":"'Cost List2.xls'!C21","v":60},{"$f":"IF('Cost List2.xls'!$E21=\"\",\"\",'Cost List2.xls'!F21)","v":"304L"},{"$f":"IF('Cost List2.xls'!$E21=\"\",\"\",'Cost List2.xls'!G21)","v":2},{"$f":"IF('Cost List2.xls'!$E21=\"\",\"\",'Cost List2.xls'!K21)","v":137.26370922040761},{"$f":"IF('Cost List2.xls'!$E21=\"\",\"\",'Cost List2.xls'!L21)","v":4.5734705171223116},{"$f":"IF('Cost List2.xls'!$E21=\"\",\"\",'Cost List2.xls'!M21)","v":1},{"$f":"IF('Cost List2.xls'!$E21=\"\",\"\",'Cost List2.xls'!N21)","v":141.83717973752991},{"$f":"IF('Cost List2.xls'!$E21=\"\",\"\",'Cost List2.xls'!O21)","v":7},{"$f":"IF('Cost List2.xls'!$E21=\"\",\"\",'Cost List2.xls'!P21)","v":7},{"$f":"IF('Cost List2.xls'!$E21=\"\",\"\",'Cost List2.xls'!Q21)","v":45},{"$f":"IF('Cost List2.xls'!$E21=\"\",\"\",'Cost List2.xls'!R21)","v":315},{"$f":"IF('Cost List2.xls'!$E21=\"\",\"\",'Cost List2.xls'!S21)","v":1},{"$f":"IF('Cost List2.xls'!$E21=\"\",\"France\",'Cost List2.xls'!T21)","v":552.0118518518517}]
[{"$f":"'Cost List2.xls'!A22","v":"cloth discharge end support roller"},{"$f":"IF('Cost List2.xls'!$E22=\"\",\"France\",\"Local\")","v":"Local"},{"$f":"'Cost List2.xls'!C22","v":60},{"$f":"IF('Cost List2.xls'!$E22=\"\",\"\",'Cost List2.xls'!F22)","v":"304L"},{"$f":"IF('Cost List2.xls'!$E22=\"\",\"\",'Cost List2.xls'!G22)","v":1},{"$f":"IF('Cost List2.xls'!$E22=\"\",\"\",'Cost List2.xls'!K22)","v":68.631854610203803},{"$f":"IF('Cost List2.xls'!$E22=\"\",\"\",'Cost List2.xls'!L22)","v":2.2867352585611558},{"$f":"IF('Cost List2.xls'!$E22=\"\",\"\",'Cost List2.xls'!M22)","v":1},{"$f":"IF('Cost List2.xls'!$E22=\"\",\"\",'Cost List2.xls'!N22)","v":70.918589868764954},{"$f":"IF('Cost List2.xls'!$E22=\"\",\"\",'Cost List2.xls'!O22)","v":3.5},{"$f":"IF('Cost List2.xls'!$E22=\"\",\"\",'Cost List2.xls'!P22)","v":3.5},{"$f":"IF('Cost List2.xls'!$E22=\"\",\"\",'Cost List2.xls'!Q22)","v":45},{"$f":"IF('Cost List2.xls'!$E22=\"\",\"\",'Cost List2.xls'!R22)","v":157.5},{"$f":"IF('Cost List2.xls'!$E22=\"\",\"\",'Cost List2.xls'!S22)","v":1},{"$f":"IF('Cost List2.xls'!$E22=\"\",\"France\",'Cost List2.xls'!T22)","v":276.00592592592585}]
[{"$f":"'Cost List2.xls'!A23","v":"cake discharge roller"},{"$f":"IF('Cost List2.xls'!$E23=\"\",\"France\",\"Local\")","v":"Local"},{"$f":"'Cost List2.xls'!C23","v":60},{"$f":"IF('Cost List2.xls'!$E23=\"\",\"\",'Cost List2.xls'!F23)","v":"304L"},{"$f":"IF('Cost List2.xls'!$E23=\"\",\"\",'Cost List2.xls'!G23)","v":1},{"$f":"IF('Cost List2.xls'!$E23=\"\",\"\",'Cost List2.xls'!K23)","v":68.631854610203803},{"$f":"IF('Cost List2.xls'!$E23=\"\",\"\",'Cost List2.xls'!L23)","v":57.16838146402889},{"$f":"IF('Cost List2.xls'!$E23=\"\",\"\",'Cost List2.xls'!M23)","v":1},{"$f":"IF('Cost List2.xls'!$E23=\"\",\"\",'Cost List2.xls'!N23)","v":125.80023607423269},{"$f":"IF('Cost List2.xls'!$E23=\"\",\"\",'Cost List2.xls'!O23)","v":3.5},{"$f":"IF('Cost List2.xls'!$E23=\"\",\"\",'Cost List2.xls'!P23)","v":3.5},{"$f":"IF('Cost List2.xls'!$E23=\"\",\"\",'Cost List2.xls'!Q23)","v":45},{"$f":"IF('Cost List2.xls'!$E23=\"\",\"\",'Cost List2.xls'!R23)","v":157.5},{"$f":"IF('Cost List2.xls'!$E23=\"\",\"\",'Cost List2.xls'!S23)","v":1},{"$f":"IF('Cost List2.xls'!$E23=\"\",\"France\",'Cost List2.xls'!T23)","v":276.00592592592585}]
[{"$f":"'Cost List2.xls'!A24","v":"entrance / cloth form roller"},{"$f":"IF('Cost List2.xls'!$E24=\"\",\"France\",\"Local\")","v":"Local"},{"$f":"'Cost List2.xls'!C24","v":219},{"$f":"IF('Cost List2.xls'!$E24=\"\",\"\",'Cost List2.xls'!F24)","v":"304L"},{"$f":"IF('Cost List2.xls'!$E24=\"\",\"\",'Cost List2.xls'!G24)","v":1},{"$f":"IF('Cost List2.xls'!$E24=\"\",\"\",'Cost List2.xls'!K24)","v":348.64050817078225},{"$f":"IF('Cost List2.xls'!$E24=\"\",\"\",'Cost List2.xls'!L24)","v":2.2867352585611558},{"$f":"IF('Cost List2.xls'!$E24=\"\",\"\",'Cost List2.xls'!M24)","v":1},{"$f":"IF('Cost List2.xls'!$E24=\"\",\"\",'Cost List2.xls'!N24)","v":350.92724342934343},{"$f":"IF('Cost List2.xls'!$E24=\"\",\"\",'Cost List2.xls'!O24)","v":7},{"$f":"IF('Cost List2.xls'!$E24=\"\",\"\",'Cost List2.xls'!P24)","v":7},{"$f":"IF('Cost List2.xls'!$E24=\"\",\"\",'Cost List2.xls'!Q24)","v":45},{"$f":"IF('Cost List2.xls'!$E24=\"\",\"\",'Cost List2.xls'!R24)","v":315},{"$f":"IF('Cost List2.xls'!$E24=\"\",\"\",'Cost List2.xls'!S24)","v":1},{"$f":"IF('Cost List2.xls'!$E24=\"\",\"France\",'Cost List2.xls'!T24)","v":841.4814814814813}]
[{"$f":"'Cost List2.xls'!A25","v":"roller bearing"},{"$f":"IF('Cost List2.xls'!$E25=\"\",\"France\",\"Local\")","v":"Local"},{"$f":"'Cost List2.xls'!C25","v":0},{"$f":"IF('Cost List2.xls'!$E25=\"\",\"\",'Cost List2.xls'!F25)","v":0},{"$f":"IF('Cost List2.xls'!$E25=\"\",\"\",'Cost List2.xls'!G25)","v":30},{"$f":"IF('Cost List2.xls'!$E25=\"\",\"\",'Cost List2.xls'!K25)","v":0},{"$f":"IF('Cost List2.xls'!$E25=\"\",\"\",'Cost List2.xls'!L25)","v":1234.8370396230241},{"$f":"IF('Cost List2.xls'!$E25=\"\",\"\",'Cost List2.xls'!M25)","v":1},{"$f":"IF('Cost List2.xls'!$E25=\"\",\"\",'Cost List2.xls'!N25)","v":1234.8370396230241},{"$f":"IF('Cost List2.xls'!$E25=\"\",\"\",'Cost List2.xls'!O25)","v":4.5},{"$f":"IF('Cost List2.xls'!$E25=\"\",\"\",'Cost List2.xls'!P25)","v":4.5},{"$f":"IF('Cost List2.xls'!$E25=\"\",\"\",'Cost List2.xls'!Q25)","v":45},{"$f":"IF('Cost List2.xls'!$E25=\"\",\"\",'Cost List2.xls'!R25)","v":202.5},{"$f":"IF('Cost List2.xls'!$E25=\"\",\"\",'Cost List2.xls'!S25)","v":1},{"$f":"IF('Cost List2.xls'!$E25=\"\",\"France\",'Cost List2.xls'!T25)","v":1437.3370396230241}]
[{"$f":"'Cost List2.xls'!A26","v":0},{"$f":"IF('Cost List2.xls'!$E26=\"\",\"France\",\"Local\")","v":"Local"},{"$f":"'Cost List2.xls'!C26","v":0},{"$f":"IF('Cost List2.xls'!$E26=\"\",\"\",'Cost List2.xls'!F26)","v":0},{"$f":"IF('Cost List2.xls'!$E26=\"\",\"\",'Cost List2.xls'!G26)","v":0},{"$f":"IF('Cost List2.xls'!$E26=\"\",\"\",'Cost List2.xls'!K26)","v":0},{"$f":"IF('Cost List2.xls'!$E26=\"\",\"\",'Cost List2.xls'!L26)","v":0},{"$f":"IF('Cost List2.xls'!$E26=\"\",\"\",'Cost List2.xls'!M26)","v":0},{"$f":"IF('Cost List2.xls'!$E26=\"\",\"\",'Cost List2.xls'!N26)","v":0},{"$f":"IF('Cost List2.xls'!$E26=\"\",\"\",'Cost List2.xls'!O26)","v":0},{"$f":"IF('Cost List2.xls'!$E26=\"\",\"\",'Cost List2.xls'!P26)","v":0},{"$f":"IF('Cost List2.xls'!$E26=\"\",\"\",'Cost List2.xls'!Q26)","v":45},{"$f":"IF('Cost List2.xls'!$E26=\"\",\"\",'Cost List2.xls'!R26)","v":0},{"$f":"IF('Cost List2.xls'!$E26=\"\",\"\",'Cost List2.xls'!S26)","v":1},{"$f":"IF('Cost List2.xls'!$E26=\"\",\"France\",'Cost List2.xls'!T26)","v":0}]
[{"$f":"'Cost List2.xls'!A27","v":"cloth guiding device"},{"$f":"IF('Cost List2.xls'!$E27=\"\",\"France\",\"Local\")","v":"Local"},{"$f":"'Cost List2.xls'!C27","v":0},{"$f":"IF('Cost List2.xls'!$E27=\"\",\"\",'Cost List2.xls'!F27)","v":"304L"},{"$f":"IF('Cost List2.xls'!$E27=\"\",\"\",'Cost List2.xls'!G27)","v":1},{"$f":"IF('Cost List2.xls'!$E27=\"\",\"\",'Cost List2.xls'!K27)","v":145.51951645389173},{"$f":"IF('Cost List2.xls'!$E27=\"\",\"\",'Cost List2.xls'!L27)","v":736.28048780487813},{"$f":"IF('Cost List2.xls'!$E27=\"\",\"\",'Cost List2.xls'!M27)","v":1},{"$f":"IF('Cost List2.xls'!$E27=\"\",\"\",'Cost List2.xls'!N27)","v":881.80000425876983},{"$f":"IF('Cost List2.xls'!$E27=\"\",\"\",'Cost List2.xls'!O27)","v":40},{"$f":"IF('Cost List2.xls'!$E27=\"\",\"\",'Cost List2.xls'!P27)","v":40},{"$f":"IF('Cost List2.xls'!$E27=\"\",\"\",'Cost List2.xls'!Q27)","v":45},{"$f":"IF('Cost List2.xls'!$E27=\"\",\"\",'Cost List2.xls'!R27)","v":1800},{"$f":"IF('Cost List2.xls'!$E27=\"\",\"\",'Cost List2.xls'!S27)","v":1},{"$f":"IF('Cost List2.xls'!$E27=\"\",\"France\",'Cost List2.xls'!T27)","v":2681.8000042587701}]
[{"$f":"'Cost List2.xls'!A28","v":"cloth tensionning device"},{"$f":"IF('Cost List2.xls'!$E28=\"\",\"France\",\"Local\")","v":"Local"},{"$f":"'Cost List2.xls'!C28","v":0},{"$f":"IF('Cost List2.xls'!$E28=\"\",\"\",'Cost List2.xls'!F28)","v":"304L"},{"$f":"IF('Cost List2.xls'!$E28=\"\",\"\",'Cost List2.xls'!G28)","v":1},{"$f":"IF('Cost List2.xls'!$E28=\"\",\"\",'Cost List2.xls'!K28)","v":509.31830758862105},{"$f":"IF('Cost List2.xls'!$E28=\"\",\"\",'Cost List2.xls'!L28)","v":76.224508618705187},{"$f":"IF('Cost List2.xls'!$E28=\"\",\"\",'Cost List2.xls'!M28)","v":1},{"$f":"IF('Cost List2.xls'!$E28=\"\",\"\",'Cost List2.xls'!N28)","v":585.54281620732627},{"$f":"IF('Cost List2.xls'!$E28=\"\",\"\",'Cost List2.xls'!O28)","v":40},{"$f":"IF('Cost List2.xls'!$E28=\"\",\"\",'Cost List2.xls'!P28)","v":40},{"$f":"IF('Cost List2.xls'!$E28=\"\",\"\",'Cost List2.xls'!Q28)","v":45},{"$f":"IF('Cost List2.xls'!$E28=\"\",\"\",'Cost List2.xls'!R28)","v":1800},{"$f":"IF('Cost List2.xls'!$E28=\"\",\"\",'Cost List2.xls'!S28)","v":1},{"$f":"IF('Cost List2.xls'!$E28=\"\",\"France\",'Cost List2.xls'!T28)","v":2385.5428162073263}]
[{"$f":"'Cost List2.xls'!A29","v":"vacuum box"},{"$f":"IF('Cost List2.xls'!$E29=\"\",\"France\",\"Local\")","v":"France"},{"$f":"'Cost List2.xls'!C29","v":110},{"$f":"IF('Cost List2.xls'!$E29=\"\",\"\",'Cost List2.xls'!F29)","v":""},{"$f":"IF('Cost List2.xls'!$E29=\"\",\"\",'Cost List2.xls'!G29)","v":""},{"$f":"IF('Cost List2.xls'!$E29=\"\",\"\",'Cost List2.xls'!K29)","v":""},{"$f":"IF('Cost List2.xls'!$E29=\"\",\"\",'Cost List2.xls'!L29)","v":""},{"$f":"IF('Cost List2.xls'!$E29=\"\",\"\",'Cost List2.xls'!M29)","v":""},{"$f":"IF('Cost List2.xls'!$E29=\"\",\"\",'Cost List2.xls'!N29)","v":""},{"$f":"IF('Cost List2.xls'!$E29=\"\",\"\",'Cost List2.xls'!O29)","v":""},{"$f":"IF('Cost List2.xls'!$E29=\"\",\"\",'Cost List2.xls'!P29)","v":""},{"$f":"IF('Cost List2.xls'!$E29=\"\",\"\",'Cost List2.xls'!Q29)","v":""},{"$f":"IF('Cost List2.xls'!$E29=\"\",\"\",'Cost List2.xls'!R29)","v":""},{"$f":"IF('Cost List2.xls'!$E29=\"\",\"\",'Cost List2.xls'!S29)","v":""},{"$f":"IF('Cost List2.xls'!$E29=\"\",\"France\",'Cost List2.xls'!T29)","v":"France"}]
[{"$f":"'Cost List2.xls'!A30","v":"V.Box  support + dia + qty connection"},{"$f":"IF('Cost List2.xls'!$E30=\"\",\"France\",\"Local\")","v":"France"},{"$f":"'Cost List2.xls'!C30","v":65},{"$f":"IF('Cost List2.xls'!$E30=\"\",\"\",'Cost List2.xls'!F30)","v":""},{"$f":"IF('Cost List2.xls'!$E30=\"\",\"\",'Cost List2.xls'!G30)","v":""},{"$f":"IF('Cost List2.xls'!$E30=\"\",\"\",'Cost List2.xls'!K30)","v":""},{"$f":"IF('Cost List2.xls'!$E30=\"\",\"\",'Cost List2.xls'!L30)","v":""},{"$f":"IF('Cost List2.xls'!$E30=\"\",\"\",'Cost List2.xls'!M30)","v":""},{"$f":"IF('Cost List2.xls'!$E30=\"\",\"\",'Cost List2.xls'!N30)","v":""},{"$f":"IF('Cost List2.xls'!$E30=\"\",\"\",'Cost List2.xls'!O30)","v":""},{"$f":"IF('Cost List2.xls'!$E30=\"\",\"\",'Cost List2.xls'!P30)","v":""},{"$f":"IF('Cost List2.xls'!$E30=\"\",\"\",'Cost List2.xls'!Q30)","v":""},{"$f":"IF('Cost List2.xls'!$E30=\"\",\"\",'Cost List2.xls'!R30)","v":""},{"$f":"IF('Cost List2.xls'!$E30=\"\",\"\",'Cost List2.xls'!S30)","v":""},{"$f":"IF('Cost List2.xls'!$E30=\"\",\"France\",'Cost List2.xls'!T30)","v":"France"}]
[{"$f":"'Cost List2.xls'!A31","v":"C & B wash device + discharge device"},{"$f":"IF('Cost List2.xls'!$E31=\"\",\"France\",\"Local\")","v":"Local"},{"$f":"'Cost List2.xls'!C31","v":0},{"$f":"IF('Cost List2.xls'!$E31=\"\",\"\",'Cost List2.xls'!F31)","v":"304L"},{"$f":"IF('Cost List2.xls'!$E31=\"\",\"\",'Cost List2.xls'!G31)","v":1},{"$f":"IF('Cost List2.xls'!$E31=\"\",\"\",'Cost List2.xls'!K31)","v":1212.6626371157643},{"$f":"IF('Cost List2.xls'!$E31=\"\",\"\",'Cost List2.xls'!L31)","v":1509.2452706503627},{"$f":"IF('Cost List2.xls'!$E31=\"\",\"\",'Cost List2.xls'!M31)","v":1},{"$f":"IF('Cost List2.xls'!$E31=\"\",\"\",'Cost List2.xls'!N31)","v":2721.9079077661272},{"$f":"IF('Cost List2.xls'!$E31=\"\",\"\",'Cost List2.xls'!O31)","v":100},{"$f":"IF('Cost List2.xls'!$E31=\"\",\"\",'Cost List2.xls'!P31)","v":100},{"$f":"IF('Cost List2.xls'!$E31=\"\",\"\",'Cost List2.xls'!Q31)","v":45},{"$f":"IF('Cost List2.xls'!$E31=\"\",\"\",'Cost List2.xls'!R31)","v":4500},{"$f":"IF('Cost List2.xls'!$E31=\"\",\"\",'Cost List2.xls'!S31)","v":1},{"$f":"IF('Cost List2.xls'!$E31=\"\",\"France\",'Cost List2.xls'!T31)","v":7221.9079077661272}]
[{"$f":"'Cost List2.xls'!A32","v":"Form zone apron dam"},{"$f":"IF('Cost List2.xls'!$E32=\"\",\"France\",\"Local\")","v":"Local"},{"$f":"'Cost List2.xls'!C32","v":"EPDM"},{"$f":"IF('Cost List2.xls'!$E32=\"\",\"\",'Cost List2.xls'!F32)","v":"316L"},{"$f":"IF('Cost List2.xls'!$E32=\"\",\"\",'Cost List2.xls'!G32)","v":1},{"$f":"IF('Cost List2.xls'!$E32=\"\",\"\",'Cost List2.xls'!K32)","v":39.42646997519234},{"$f":"IF('Cost List2.xls'!$E32=\"\",\"\",'Cost List2.xls'!L32)","v":30.870925990575603},{"$f":"IF('Cost List2.xls'!$E32=\"\",\"\",'Cost List2.xls'!M32)","v":1},{"$f":"IF('Cost List2.xls'!$E32=\"\",\"\",'Cost List2.xls'!N32)","v":70.297395965767947},{"$f":"IF('Cost List2.xls'!$E32=\"\",\"\",'Cost List2.xls'!O32)","v":4},{"$f":"IF('Cost List2.xls'!$E32=\"\",\"\",'Cost List2.xls'!P32)","v":4},{"$f":"IF('Cost List2.xls'!$E32=\"\",\"\",'Cost List2.xls'!Q32)","v":45},{"$f":"IF('Cost List2.xls'!$E32=\"\",\"\",'Cost List2.xls'!R32)","v":180},{"$f":"IF('Cost List2.xls'!$E32=\"\",\"\",'Cost List2.xls'!S32)","v":1},{"$f":"IF('Cost List2.xls'!$E32=\"\",\"France\",'Cost List2.xls'!T32)","v":250.29739596576795}]
[{"$f":"'Cost List2.xls'!A33","v":"cake wash feeder"},{"$f":"IF('Cost List2.xls'!$E33=\"\",\"France\",\"Local\")","v":"Local"},{"$f":"'Cost List2.xls'!C33","v":"OVER"},{"$f":"IF('Cost List2.xls'!$E33=\"\",\"\",'Cost List2.xls'!F33)","v":"304L"},{"$f":"IF('Cost List2.xls'!$E33=\"\",\"\",'Cost List2.xls'!G33)","v":3},{"$f":"IF('Cost List2.xls'!$E33=\"\",\"\",'Cost List2.xls'!K33)","v":133.15035755531093},{"$f":"IF('Cost List2.xls'!$E33=\"\",\"\",'Cost List2.xls'!L33)","v":20.121951219512198},{"$f":"IF('Cost List2.xls'!$E33=\"\",\"\",'Cost List2.xls'!M33)","v":1},{"$f":"IF('Cost List2.xls'!$E33=\"\",\"\",'Cost List2.xls'!N33)","v":153.27230877482313},{"$f":"IF('Cost List2.xls'!$E33=\"\",\"\",'Cost List2.xls'!O33)","v":45},{"$f":"IF('Cost List2.xls'!$E33=\"\",\"\",'Cost List2.xls'!P33)","v":135},{"$f":"IF('Cost List2.xls'!$E33=\"\",\"\",'Cost List2.xls'!Q33)","v":45},{"$f":"IF('Cost List2.xls'!$E33=\"\",\"\",'Cost List2.xls'!R33)","v":6075},{"$f":"IF('Cost List2.xls'!$E33=\"\",\"\",'Cost List2.xls'!S33)","v":1},{"$f":"IF('Cost List2.xls'!$E33=\"\",\"France\",'Cost List2.xls'!T33)","v":2215.1999999999998}]
[{"$f":"'Cost List2.xls'!A34","v":"cake wash feeder  carriages"},{"$f":"IF('Cost List2.xls'!$E34=\"\",\"France\",\"Local\")","v":"Local"},{"$f":"'Cost List2.xls'!C34","v":"PATI"},{"$f":"IF('Cost List2.xls'!$E34=\"\",\"\",'Cost List2.xls'!F34)","v":"316L"},{"$f":"IF('Cost List2.xls'!$E34=\"\",\"\",'Cost List2.xls'!G34)","v":3},{"$f":"IF('Cost List2.xls'!$E34=\"\",\"\",'Cost List2.xls'!K34)","v":118.27940992557703},{"$f":"IF('Cost List2.xls'!$E34=\"\",\"\",'Cost List2.xls'!L34)","v":0},{"$f":"IF('Cost List2.xls'!$E34=\"\",\"\",'Cost List2.xls'!M34)","v":1},{"$f":"IF('Cost List2.xls'!$E34=\"\",\"\",'Cost List2.xls'!N34)","v":118.27940992557703},{"$f":"IF('Cost List2.xls'!$E34=\"\",\"\",'Cost List2.xls'!O34)","v":12},{"$f":"IF('Cost List2.xls'!$E34=\"\",\"\",'Cost List2.xls'!P34)","v":36},{"$f":"IF('Cost List2.xls'!$E34=\"\",\"\",'Cost List2.xls'!Q34)","v":45},{"$f":"IF('Cost List2.xls'!$E34=\"\",\"\",'Cost List2.xls'!R34)","v":1620},{"$f":"IF('Cost List2.xls'!$E34=\"\",\"\",'Cost List2.xls'!S34)","v":1},{"$f":"IF('Cost List2.xls'!$E34=\"\",\"France\",'Cost List2.xls'!T34)","v":1738.2794099255771}]
[{"$f":"'Cost List2.xls'!A35","v":"wash zone pendulum apron dam"},{"$f":"IF('Cost List2.xls'!$E35=\"\",\"France\",\"Local\")","v":"Local"},{"$f":"'Cost List2.xls'!C35","v":"EPDM"},{"$f":"IF('Cost List2.xls'!$E35=\"\",\"\",'Cost List2.xls'!F35)","v":"316L"},{"$f":"IF('Cost List2.xls'!$E35=\"\",\"\",'Cost List2.xls'!G35)","v":4},{"$f":"IF('Cost List2.xls'!$E35=\"\",\"\",'Cost List2.xls'!K35)","v":157.70587990076936},{"$f":"IF('Cost List2.xls'!$E35=\"\",\"\",'Cost List2.xls'!L35)","v":148.1804447547629},{"$f":"IF('Cost List2.xls'!$E35=\"\",\"\",'Cost List2.xls'!M35)","v":1},{"$f":"IF('Cost List2.xls'!$E35=\"\",\"\",'Cost List2.xls'!N35)","v":305.88632465553223},{"$f":"IF('Cost List2.xls'!$E35=\"\",\"\",'Cost List2.xls'!O35)","v":16},{"$f":"IF('Cost List2.xls'!$E35=\"\",\"\",'Cost List2.xls'!P35)","v":64},{"$f":"IF('Cost List2.xls'!$E35=\"\",\"\",'Cost List2.xls'!Q35)","v":45},{"$f":"IF('Cost List2.xls'!$E35=\"\",\"\",'Cost List2.xls'!R35)","v":2880},{"$f":"IF('Cost List2.xls'!$E35=\"\",\"\",'Cost List2.xls'!S35)","v":1},{"$f":"IF('Cost List2.xls'!$E35=\"\",\"France\",'Cost List2.xls'!T35)","v":3185.886324655532}]
[{"$f":"'Cost List2.xls'!A36","v":"pulp feeder"},{"$f":"IF('Cost List2.xls'!$E36=\"\",\"France\",\"Local\")","v":"Local"},{"$f":"'Cost List2.xls'!C36","v":"QDC"},{"$f":"IF('Cost List2.xls'!$E36=\"\",\"\",'Cost List2.xls'!F36)","v":"304L"},{"$f":"IF('Cost List2.xls'!$E36=\"\",\"\",'Cost List2.xls'!G36)","v":1},{"$f":"IF('Cost List2.xls'!$E36=\"\",\"\",'Cost List2.xls'!K36)","v":200.08933512410113},{"$f":"IF('Cost List2.xls'!$E36=\"\",\"\",'Cost List2.xls'!L36)","v":25.001638826935302},{"$f":"IF('Cost List2.xls'!$E36=\"\",\"\",'Cost List2.xls'!M36)","v":1},{"$f":"IF('Cost List2.xls'!$E36=\"\",\"\",'Cost List2.xls'!N36)","v":225.09097395103643},{"$f":"IF('Cost List2.xls'!$E36=\"\",\"\",'Cost List2.xls'!O36)","v":25},{"$f":"IF('Cost List2.xls'!$E36=\"\",\"\",'Cost List2.xls'!P36)","v":25},{"$f":"IF('Cost List2.xls'!$E36=\"\",\"\",'Cost List2.xls'!Q36)","v":45},{"$f":"IF('Cost List2.xls'!$E36=\"\",\"\",'Cost List2.xls'!R36)","v":1125},{"$f":"IF('Cost List2.xls'!$E36=\"\",\"\",'Cost List2.xls'!S36)","v":1},{"$f":"IF('Cost List2.xls'!$E36=\"\",\"France\",'Cost List2.xls'!T36)","v":1350.0909739510364}]
[{"$f":"'Cost List2.xls'!A37","v":"feeder carriage"},{"$f":"IF('Cost List2.xls'!$E37=\"\",\"France\",\"Local\")","v":"Local"},{"$f":"'Cost List2.xls'!C37","v":"PATI"},{"$f":"IF('Cost List2.xls'!$E37=\"\",\"\",'Cost List2.xls'!F37)","v":"316L"},{"$f":"IF('Cost List2.xls'!$E37=\"\",\"\",'Cost List2.xls'!G37)","v":1},{"$f":"IF('Cost List2.xls'!$E37=\"\",\"\",'Cost List2.xls'!K37)","v":179.153879567274},{"$f":"IF('Cost List2.xls'!$E37=\"\",\"\",'Cost List2.xls'!L37)","v":25.001638826935302},{"$f":"IF('Cost List2.xls'!$E37=\"\",\"\",'Cost List2.xls'!M37)","v":1},{"$f":"IF('Cost List2.xls'!$E37=\"\",\"\",'Cost List2.xls'!N37)","v":204.15551839420931},{"$f":"IF('Cost List2.xls'!$E37=\"\",\"\",'Cost List2.xls'!O37)","v":5},{"$f":"IF('Cost List2.xls'!$E37=\"\",\"\",'Cost List2.xls'!P37)","v":5},{"$f":"IF('Cost List2.xls'!$E37=\"\",\"\",'Cost List2.xls'!Q37)","v":45},{"$f":"IF('Cost List2.xls'!$E37=\"\",\"\",'Cost List2.xls'!R37)","v":225},{"$f":"IF('Cost List2.xls'!$E37=\"\",\"\",'Cost List2.xls'!S37)","v":1},{"$f":"IF('Cost List2.xls'!$E37=\"\",\"France\",'Cost List2.xls'!T37)","v":429.15551839420931}]
[{"$f":"'Cost List2.xls'!A38","v":"pneumatic cabinet + pneumatic acc."},{"$f":"IF('Cost List2.xls'!$E38=\"\",\"France\",\"Local\")","v":"Local"},{"$f":"'Cost List2.xls'!C38","v":"STD"},{"$f":"IF('Cost List2.xls'!$E38=\"\",\"\",'Cost List2.xls'!F38)","v":0},{"$f":"IF('Cost List2.xls'!$E38=\"\",\"\",'Cost List2.xls'!G38)","v":1},{"$f":"IF('Cost List2.xls'!$E38=\"\",\"\",'Cost List2.xls'!K38)","v":0},{"$f":"IF('Cost List2.xls'!$E38=\"\",\"\",'Cost List2.xls'!L38)","v":914.69410342446224},{"$f":"IF('Cost List2.xls'!$E38=\"\",\"\",'Cost List2.xls'!M38)","v":1},{"$f":"IF('Cost List2.xls'!$E38=\"\",\"\",'Cost List2.xls'!N38)","v":914.69410342446224},{"$f":"IF('Cost List2.xls'!$E38=\"\",\"\",'Cost List2.xls'!O38)","v":10},{"$f":"IF('Cost List2.xls'!$E38=\"\",\"\",'Cost List2.xls'!P38)","v":10},{"$f":"IF('Cost List2.xls'!$E38=\"\",\"\",'Cost List2.xls'!Q38)","v":45},{"$f":"IF('Cost List2.xls'!$E38=\"\",\"\",'Cost List2.xls'!R38)","v":450},{"$f":"IF('Cost List2.xls'!$E38=\"\",\"\",'Cost List2.xls'!S38)","v":1},{"$f":"IF('Cost List2.xls'!$E38=\"\",\"France\",'Cost List2.xls'!T38)","v":1364.6941034244624}]
[{"$f":"'Cost List2.xls'!A39","v":"junction box + electrical set of equip."},{"$f":"IF('Cost List2.xls'!$E39=\"\",\"France\",\"Local\")","v":"Local"},{"$f":"'Cost List2.xls'!C39","v":"STD"},{"$f":"IF('Cost List2.xls'!$E39=\"\",\"\",'Cost List2.xls'!F39)","v":0},{"$f":"IF('Cost List2.xls'!$E39=\"\",\"\",'Cost List2.xls'!G39)","v":1},{"$f":"IF('Cost List2.xls'!$E39=\"\",\"\",'Cost List2.xls'!K39)","v":390},{"$f":"IF('Cost List2.xls'!$E39=\"\",\"\",'Cost List2.xls'!L39)","v":2500},{"$f":"IF('Cost List2.xls'!$E39=\"\",\"\",'Cost List2.xls'!M39)","v":1},{"$f":"IF('Cost List2.xls'!$E39=\"\",\"\",'Cost List2.xls'!N39)","v":2890},{"$f":"IF('Cost List2.xls'!$E39=\"\",\"\",'Cost List2.xls'!O39)","v":40},{"$f":"IF('Cost List2.xls'!$E39=\"\",\"\",'Cost List2.xls'!P39)","v":40},{"$f":"IF('Cost List2.xls'!$E39=\"\",\"\",'Cost List2.xls'!Q39)","v":45},{"$f":"IF('Cost List2.xls'!$E39=\"\",\"\",'Cost List2.xls'!R39)","v":1800},{"$f":"IF('Cost List2.xls'!$E39=\"\",\"\",'Cost List2.xls'!S39)","v":1},{"$f":"IF('Cost List2.xls'!$E39=\"\",\"France\",'Cost List2.xls'!T39)","v":4690}]
[{"$f":"'Cost List2.xls'!A40","v":"bolting"},{"$f":"IF('Cost List2.xls'!$E40=\"\",\"France\",\"Local\")","v":"Local"},{"$f":"'Cost List2.xls'!C40","v":0},{"$f":"IF('Cost List2.xls'!$E40=\"\",\"\",'Cost List2.xls'!F40)","v":316},{"$f":"IF('Cost List2.xls'!$E40=\"\",\"\",'Cost List2.xls'!G40)","v":1},{"$f":"IF('Cost List2.xls'!$E40=\"\",\"\",'Cost List2.xls'!K40)","v":0},{"$f":"IF('Cost List2.xls'!$E40=\"\",\"\",'Cost List2.xls'!L40)","v":2500},{"$f":"IF('Cost List2.xls'!$E40=\"\",\"\",'Cost List2.xls'!M40)","v":1},{"$f":"IF('Cost List2.xls'!$E40=\"\",\"\",'Cost List2.xls'!N40)","v":2500},{"$f":"IF('Cost List2.xls'!$E40=\"\",\"\",'Cost List2.xls'!O40)","v":0},{"$f":"IF('Cost List2.xls'!$E40=\"\",\"\",'Cost List2.xls'!P40)","v":0},{"$f":"IF('Cost List2.xls'!$E40=\"\",\"\",'Cost List2.xls'!Q40)","v":45},{"$f":"IF('Cost List2.xls'!$E40=\"\",\"\",'Cost List2.xls'!R40)","v":0},{"$f":"IF('Cost List2.xls'!$E40=\"\",\"\",'Cost List2.xls'!S40)","v":1},{"$f":"IF('Cost List2.xls'!$E40=\"\",\"France\",'Cost List2.xls'!T40)","v":2500}]
[{"$f":"'Cost List2.xls'!A41","v":"pneumetic bellow"},{"$f":"IF('Cost List2.xls'!$E41=\"\",\"France\",\"Local\")","v":"Local"},{"$f":"'Cost List2.xls'!C41","v":"10x2"},{"$f":"IF('Cost List2.xls'!$E41=\"\",\"\",'Cost List2.xls'!F41)","v":0},{"$f":"IF('Cost List2.xls'!$E41=\"\",\"\",'Cost List2.xls'!G41)","v":0},{"$f":"IF('Cost List2.xls'!$E41=\"\",\"\",'Cost List2.xls'!K41)","v":0},{"$f":"IF('Cost List2.xls'!$E41=\"\",\"\",'Cost List2.xls'!L41)","v":0},{"$f":"IF('Cost List2.xls'!$E41=\"\",\"\",'Cost List2.xls'!M41)","v":1},{"$f":"IF('Cost List2.xls'!$E41=\"\",\"\",'Cost List2.xls'!N41)","v":0},{"$f":"IF('Cost List2.xls'!$E41=\"\",\"\",'Cost List2.xls'!O41)","v":0},{"$f":"IF('Cost List2.xls'!$E41=\"\",\"\",'Cost List2.xls'!P41)","v":0},{"$f":"IF('Cost List2.xls'!$E41=\"\",\"\",'Cost List2.xls'!Q41)","v":45},{"$f":"IF('Cost List2.xls'!$E41=\"\",\"\",'Cost List2.xls'!R41)","v":0},{"$f":"IF('Cost List2.xls'!$E41=\"\",\"\",'Cost List2.xls'!S41)","v":1},{"$f":"IF('Cost List2.xls'!$E41=\"\",\"France\",'Cost List2.xls'!T41)","v":0}]
[{"$f":"'Cost List2.xls'!A42","v":"pneumetic bellow"},{"$f":"IF('Cost List2.xls'!$E42=\"\",\"France\",\"Local\")","v":"Local"},{"$f":"'Cost List2.xls'!C42","v":"6x2"},{"$f":"IF('Cost List2.xls'!$E42=\"\",\"\",'Cost List2.xls'!F42)","v":0},{"$f":"IF('Cost List2.xls'!$E42=\"\",\"\",'Cost List2.xls'!G42)","v":5},{"$f":"IF('Cost List2.xls'!$E42=\"\",\"\",'Cost List2.xls'!K42)","v":584.64198110546886},{"$f":"IF('Cost List2.xls'!$E42=\"\",\"\",'Cost List2.xls'!L42)","v":346.05926912892158},{"$f":"IF('Cost List2.xls'!$E42=\"\",\"\",'Cost List2.xls'!M42)","v":1},{"$f":"IF('Cost List2.xls'!$E42=\"\",\"\",'Cost List2.xls'!N42)","v":930.7012502343905},{"$f":"IF('Cost List2.xls'!$E42=\"\",\"\",'Cost List2.xls'!O42)","v":0},{"$f":"IF('Cost List2.xls'!$E42=\"\",\"\",'Cost List2.xls'!P42)","v":0},{"$f":"IF('Cost List2.xls'!$E42=\"\",\"\",'Cost List2.xls'!Q42)","v":45},{"$f":"IF('Cost List2.xls'!$E42=\"\",\"\",'Cost List2.xls'!R42)","v":0},{"$f":"IF('Cost List2.xls'!$E42=\"\",\"\",'Cost List2.xls'!S42)","v":1},{"$f":"IF('Cost List2.xls'!$E42=\"\",\"France\",'Cost List2.xls'!T42)","v":930.7012502343905}]
[{"$f":"'Cost List2.xls'!A43","v":"pneumetic bellow"},{"$f":"IF('Cost List2.xls'!$E43=\"\",\"France\",\"Local\")","v":"Local"},{"$f":"'Cost List2.xls'!C43","v":"8X3"},{"$f":"IF('Cost List2.xls'!$E43=\"\",\"\",'Cost List2.xls'!F43)","v":0},{"$f":"IF('Cost List2.xls'!$E43=\"\",\"\",'Cost List2.xls'!G43)","v":0},{"$f":"IF('Cost List2.xls'!$E43=\"\",\"\",'Cost List2.xls'!K43)","v":0},{"$f":"IF('Cost List2.xls'!$E43=\"\",\"\",'Cost List2.xls'!L43)","v":0},{"$f":"IF('Cost List2.xls'!$E43=\"\",\"\",'Cost List2.xls'!M43)","v":1},{"$f":"IF('Cost List2.xls'!$E43=\"\",\"\",'Cost List2.xls'!N43)","v":0},{"$f":"IF('Cost List2.xls'!$E43=\"\",\"\",'Cost List2.xls'!O43)","v":0},{"$f":"IF('Cost List2.xls'!$E43=\"\",\"\",'Cost List2.xls'!P43)","v":0},{"$f":"IF('Cost List2.xls'!$E43=\"\",\"\",'Cost List2.xls'!Q43)","v":45},{"$f":"IF('Cost List2.xls'!$E43=\"\",\"\",'Cost List2.xls'!R43)","v":0},{"$f":"IF('Cost List2.xls'!$E43=\"\",\"\",'Cost List2.xls'!S43)","v":1},{"$f":"IF('Cost List2.xls'!$E43=\"\",\"France\",'Cost List2.xls'!T43)","v":0}]
[{"$f":"'Cost List2.xls'!A44","v":"oil and grease"},{"$f":"IF('Cost List2.xls'!$E44=\"\",\"France\",\"Local\")","v":"Local"},{"$f":"'Cost List2.xls'!C44","v":0},{"$f":"IF('Cost List2.xls'!$E44=\"\",\"\",'Cost List2.xls'!F44)","v":0},{"$f":"IF('Cost List2.xls'!$E44=\"\",\"\",'Cost List2.xls'!G44)","v":1},{"$f":"IF('Cost List2.xls'!$E44=\"\",\"\",'Cost List2.xls'!K44)","v":0},{"$f":"IF('Cost List2.xls'!$E44=\"\",\"\",'Cost List2.xls'!L44)","v":100},{"$f":"IF('Cost List2.xls'!$E44=\"\",\"\",'Cost List2.xls'!M44)","v":1},{"$f":"IF('Cost List2.xls'!$E44=\"\",\"\",'Cost List2.xls'!N44)","v":100},{"$f":"IF('Cost List2.xls'!$E44=\"\",\"\",'Cost List2.xls'!O44)","v":0},{"$f":"IF('Cost List2.xls'!$E44=\"\",\"\",'Cost List2.xls'!P44)","v":0},{"$f":"IF('Cost List2.xls'!$E44=\"\",\"\",'Cost List2.xls'!Q44)","v":45},{"$f":"IF('Cost List2.xls'!$E44=\"\",\"\",'Cost List2.xls'!R44)","v":0},{"$f":"IF('Cost List2.xls'!$E44=\"\",\"\",'Cost List2.xls'!S44)","v":1},{"$f":"IF('Cost List2.xls'!$E44=\"\",\"France\",'Cost List2.xls'!T44)","v":100}]
[{"$f":"'Cost List2.xls'!A46","v":"protection + painting french part"},{"$f":"IF('Cost List2.xls'!$E46=\"\",\"France\",\"Local\")","v":"Local"},{"$f":"'Cost List2.xls'!C46","v":100},{"$f":"IF('Cost List2.xls'!$E46=\"\",\"\",'Cost List2.xls'!F46)","v":"304L"},{"$f":"IF('Cost List2.xls'!$E46=\"\",\"\",'Cost List2.xls'!G46)","v":1},{"$f":"IF('Cost List2.xls'!$E46=\"\",\"\",'Cost List2.xls'!K46)","v":0},{"$f":"IF('Cost List2.xls'!$E46=\"\",\"\",'Cost List2.xls'!L46)","v":20},{"$f":"IF('Cost List2.xls'!$E46=\"\",\"\",'Cost List2.xls'!M46)","v":1},{"$f":"IF('Cost List2.xls'!$E46=\"\",\"\",'Cost List2.xls'!N46)","v":20},{"$f":"IF('Cost List2.xls'!$E46=\"\",\"\",'Cost List2.xls'!O46)","v":8},{"$f":"IF('Cost List2.xls'!$E46=\"\",\"\",'Cost List2.xls'!P46)","v":8},{"$f":"IF('Cost List2.xls'!$E46=\"\",\"\",'Cost List2.xls'!Q46)","v":45},{"$f":"IF('Cost List2.xls'!$E46=\"\",\"\",'Cost List2.xls'!R46)","v":360},{"$f":"IF('Cost List2.xls'!$E46=\"\",\"\",'Cost List2.xls'!S46)","v":1},{"$f":"IF('Cost List2.xls'!$E46=\"\",\"France\",'Cost List2.xls'!T46)","v":380}]
[{"$f":"'Cost List2.xls'!A47","v":"protection + painting local part"},{"$f":"IF('Cost List2.xls'!$E47=\"\",\"France\",\"Local\")","v":"Local"},{"$f":"'Cost List2.xls'!C47","v":40},{"$f":"IF('Cost List2.xls'!$E47=\"\",\"\",'Cost List2.xls'!F47)","v":0},{"$f":"IF('Cost List2.xls'!$E47=\"\",\"\",'Cost List2.xls'!G47)","v":0},{"$f":"IF('Cost List2.xls'!$E47=\"\",\"\",'Cost List2.xls'!K47)","v":0},{"$f":"IF('Cost List2.xls'!$E47=\"\",\"\",'Cost List2.xls'!L47)","v":80},{"$f":"IF('Cost List2.xls'!$E47=\"\",\"\",'Cost List2.xls'!M47)","v":1},{"$f":"IF('Cost List2.xls'!$E47=\"\",\"\",'Cost List2.xls'!N47)","v":80},{"$f":"IF('Cost List2.xls'!$E47=\"\",\"\",'Cost List2.xls'!O47)","v":32},{"$f":"IF('Cost List2.xls'!$E47=\"\",\"\",'Cost List2.xls'!P47)","v":32},{"$f":"IF('Cost List2.xls'!$E47=\"\",\"\",'Cost List2.xls'!Q47)","v":45},{"$f":"IF('Cost List2.xls'!$E47=\"\",\"\",'Cost List2.xls'!R47)","v":1440},{"$f":"IF('Cost List2.xls'!$E47=\"\",\"\",'Cost List2.xls'!S47)","v":1},{"$f":"IF('Cost List2.xls'!$E47=\"\",\"France\",'Cost List2.xls'!T47)","v":1520}]
[{"$f":"'Cost List2.xls'!A48","v":"reducer torque arm"},{"$f":"IF('Cost List2.xls'!$E48=\"\",\"France\",\"Local\")","v":"Local"},{"$f":"'Cost List2.xls'!C48","v":0},{"$f":"IF('Cost List2.xls'!$E48=\"\",\"\",'Cost List2.xls'!F48)","v":"304L"},{"$f":"IF('Cost List2.xls'!$E48=\"\",\"\",'Cost List2.xls'!G48)","v":1},{"$f":"IF('Cost List2.xls'!$E48=\"\",\"\",'Cost List2.xls'!K48)","v":61.845794492903977},{"$f":"IF('Cost List2.xls'!$E48=\"\",\"\",'Cost List2.xls'!L48)","v":30.489803447482075},{"$f":"IF('Cost List2.xls'!$E48=\"\",\"\",'Cost List2.xls'!M48)","v":1},{"$f":"IF('Cost List2.xls'!$E48=\"\",\"\",'Cost List2.xls'!N48)","v":92.335597940386052},{"$f":"IF('Cost List2.xls'!$E48=\"\",\"\",'Cost List2.xls'!O48)","v":10},{"$f":"IF('Cost List2.xls'!$E48=\"\",\"\",'Cost List2.xls'!P48)","v":10},{"$f":"IF('Cost List2.xls'!$E48=\"\",\"\",'Cost List2.xls'!Q48)","v":45},{"$f":"IF('Cost List2.xls'!$E48=\"\",\"\",'Cost List2.xls'!R48)","v":450},{"$f":"IF('Cost List2.xls'!$E48=\"\",\"\",'Cost List2.xls'!S48)","v":1},{"$f":"IF('Cost List2.xls'!$E48=\"\",\"France\",'Cost List2.xls'!T48)","v":542.33559794038604}]
[{"$f":"'Cost List2.xls'!A49","v":"planetary reducer \"BREVINI\""},{"$f":"IF('Cost List2.xls'!$E49=\"\",\"France\",\"Local\")","v":"Local"},{"$f":"'Cost List2.xls'!C49","v":2319.9441837187496},{"$f":"IF('Cost List2.xls'!$E49=\"\",\"\",'Cost List2.xls'!F49)","v":0},{"$f":"IF('Cost List2.xls'!$E49=\"\",\"\",'Cost List2.xls'!G49)","v":1},{"$f":"IF('Cost List2.xls'!$E49=\"\",\"\",'Cost List2.xls'!K49)","v":0},{"$f":"IF('Cost List2.xls'!$E49=\"\",\"\",'Cost List2.xls'!L49)","v":1386},{"$f":"IF('Cost List2.xls'!$E49=\"\",\"\",'Cost List2.xls'!M49)","v":1},{"$f":"IF('Cost List2.xls'!$E49=\"\",\"\",'Cost List2.xls'!N49)","v":1386},{"$f":"IF('Cost List2.xls'!$E49=\"\",\"\",'Cost List2.xls'!O49)","v":0},{"$f":"IF('Cost List2.xls'!$E49=\"\",\"\",'Cost List2.xls'!P49)","v":0},{"$f":"IF('Cost List2.xls'!$E49=\"\",\"\",'Cost List2.xls'!Q49)","v":45},{"$f":"IF('Cost List2.xls'!$E49=\"\",\"\",'Cost List2.xls'!R49)","v":0},{"$f":"IF('Cost List2.xls'!$E49=\"\",\"\",'Cost List2.xls'!S49)","v":1},{"$f":"IF('Cost List2.xls'!$E49=\"\",\"France\",'Cost List2.xls'!T49)","v":2772}]
[{"$f":"'Cost List2.xls'!A50","v":"Motor"},{"$f":"IF('Cost List2.xls'!$E50=\"\",\"France\",\"Local\")","v":"Local"},{"$f":"'Cost List2.xls'!C50","v":0.37},{"$f":"IF('Cost List2.xls'!$E50=\"\",\"\",'Cost List2.xls'!F50)","v":0},{"$f":"IF('Cost List2.xls'!$E50=\"\",\"\",'Cost List2.xls'!G50)","v":1},{"$f":"IF('Cost List2.xls'!$E50=\"\",\"\",'Cost List2.xls'!K50)","v":0},{"$f":"IF('Cost List2.xls'!$E50=\"\",\"\",'Cost List2.xls'!L50)","v":168},{"$f":"IF('Cost List2.xls'!$E50=\"\",\"\",'Cost List2.xls'!M50)","v":1},{"$f":"IF('Cost List2.xls'!$E50=\"\",\"\",'Cost List2.xls'!N50)","v":168},{"$f":"IF('Cost List2.xls'!$E50=\"\",\"\",'Cost List2.xls'!O50)","v":0},{"$f":"IF('Cost List2.xls'!$E50=\"\",\"\",'Cost List2.xls'!P50)","v":0},{"$f":"IF('Cost List2.xls'!$E50=\"\",\"\",'Cost List2.xls'!Q50)","v":45},{"$f":"IF('Cost List2.xls'!$E50=\"\",\"\",'Cost List2.xls'!R50)","v":0},{"$f":"IF('Cost List2.xls'!$E50=\"\",\"\",'Cost List2.xls'!S50)","v":1},{"$f":"IF('Cost List2.xls'!$E50=\"\",\"France\",'Cost List2.xls'!T50)","v":423.2}]
[{"$f":"'Cost List2.xls'!A51","v":"frequency variator"},{"$f":"IF('Cost List2.xls'!$E51=\"\",\"France\",\"Local\")","v":"Local"},{"$f":"'Cost List2.xls'!C51","v":0.37},{"$f":"IF('Cost List2.xls'!$E51=\"\",\"\",'Cost List2.xls'!F51)","v":0},{"$f":"IF('Cost List2.xls'!$E51=\"\",\"\",'Cost List2.xls'!G51)","v":1},{"$f":"IF('Cost List2.xls'!$E51=\"\",\"\",'Cost List2.xls'!K51)","v":0},{"$f":"IF('Cost List2.xls'!$E51=\"\",\"\",'Cost List2.xls'!L51)","v":321},{"$f":"IF('Cost List2.xls'!$E51=\"\",\"\",'Cost List2.xls'!M51)","v":1},{"$f":"IF('Cost List2.xls'!$E51=\"\",\"\",'Cost List2.xls'!N51)","v":321},{"$f":"IF('Cost List2.xls'!$E51=\"\",\"\",'Cost List2.xls'!O51)","v":0},{"$f":"IF('Cost List2.xls'!$E51=\"\",\"\",'Cost List2.xls'!P51)","v":0},{"$f":"IF('Cost List2.xls'!$E51=\"\",\"\",'Cost List2.xls'!Q51)","v":45},{"$f":"IF('Cost List2.xls'!$E51=\"\",\"\",'Cost List2.xls'!R51)","v":0},{"$f":"IF('Cost List2.xls'!$E51=\"\",\"\",'Cost List2.xls'!S51)","v":1},{"$f":"IF('Cost List2.xls'!$E51=\"\",\"France\",'Cost List2.xls'!T51)","v":321}]
[{"$f":"'Cost List2.xls'!A52","v":"filtering cloth"},{"$f":"IF('Cost List2.xls'!$E52=\"\",\"France\",\"Local\")","v":"Local"},{"$f":"'Cost List2.xls'!C52","v":0},{"$f":"IF('Cost List2.xls'!$E52=\"\",\"\",'Cost List2.xls'!F52)","v":0},{"$f":"IF('Cost List2.xls'!$E52=\"\",\"\",'Cost List2.xls'!G52)","v":1},{"$f":"IF('Cost List2.xls'!$E52=\"\",\"\",'Cost List2.xls'!K52)","v":0},{"$f":"IF('Cost List2.xls'!$E52=\"\",\"\",'Cost List2.xls'!L52)","v":392.70866840356916},{"$f":"IF('Cost List2.xls'!$E52=\"\",\"\",'Cost List2.xls'!M52)","v":1},{"$f":"IF('Cost List2.xls'!$E52=\"\",\"\",'Cost List2.xls'!N52)","v":392.70866840356916},{"$f":"IF('Cost List2.xls'!$E52=\"\",\"\",'Cost List2.xls'!O52)","v":0},{"$f":"IF('Cost List2.xls'!$E52=\"\",\"\",'Cost List2.xls'!P52)","v":0},{"$f":"IF('Cost List2.xls'!$E52=\"\",\"\",'Cost List2.xls'!Q52)","v":45},{"$f":"IF('Cost List2.xls'!$E52=\"\",\"\",'Cost List2.xls'!R52)","v":0},{"$f":"IF('Cost List2.xls'!$E52=\"\",\"\",'Cost List2.xls'!S52)","v":1},{"$f":"IF('Cost List2.xls'!$E52=\"\",\"France\",'Cost List2.xls'!T52)","v":392.70866840356916}]
[{"$f":"'Cost List2.xls'!A53","v":"labelling + shiping preparation France"},{"$f":"IF('Cost List2.xls'!$E53=\"\",\"France\",\"Local\")","v":"France"},{"$f":"'Cost List2.xls'!C53","v":0},{"$f":"IF('Cost List2.xls'!$E53=\"\",\"\",'Cost List2.xls'!F53)","v":""},{"$f":"IF('Cost List2.xls'!$E53=\"\",\"\",'Cost List2.xls'!G53)","v":""},{"$f":"IF('Cost List2.xls'!$E53=\"\",\"\",'Cost List2.xls'!K53)","v":""},{"$f":"IF('Cost List2.xls'!$E53=\"\",\"\",'Cost List2.xls'!L53)","v":""},{"$f":"IF('Cost List2.xls'!$E53=\"\",\"\",'Cost List2.xls'!M53)","v":""},{"$f":"IF('Cost List2.xls'!$E53=\"\",\"\",'Cost List2.xls'!N53)","v":""},{"$f":"IF('Cost List2.xls'!$E53=\"\",\"\",'Cost List2.xls'!O53)","v":""},{"$f":"IF('Cost List2.xls'!$E53=\"\",\"\",'Cost List2.xls'!P53)","v":""},{"$f":"IF('Cost List2.xls'!$E53=\"\",\"\",'Cost List2.xls'!Q53)","v":""},{"$f":"IF('Cost List2.xls'!$E53=\"\",\"\",'Cost List2.xls'!R53)","v":""},{"$f":"IF('Cost List2.xls'!$E53=\"\",\"\",'Cost List2.xls'!S53)","v":""},{"$f":"IF('Cost List2.xls'!$E53=\"\",\"France\",'Cost List2.xls'!T53)","v":"France"}]
[{"$f":"'Cost List2.xls'!A54","v":"full erection in factory + reinforcement"},{"$f":"IF('Cost List2.xls'!$E54=\"\",\"France\",\"Local\")","v":"Local"},{"$f":"'Cost List2.xls'!C54","v":0},{"$f":"IF('Cost List2.xls'!$E54=\"\",\"\",'Cost List2.xls'!F54)","v":"MONT"},{"$f":"IF('Cost List2.xls'!$E54=\"\",\"\",'Cost List2.xls'!G54)","v":1},{"$f":"IF('Cost List2.xls'!$E54=\"\",\"\",'Cost List2.xls'!K54)","v":1065.9334400000002},{"$f":"IF('Cost List2.xls'!$E54=\"\",\"\",'Cost List2.xls'!L54)","v":0},{"$f":"IF('Cost List2.xls'!$E54=\"\",\"\",'Cost List2.xls'!M54)","v":1},{"$f":"IF('Cost List2.xls'!$E54=\"\",\"\",'Cost List2.xls'!N54)","v":1065.9334400000002},{"$f":"IF('Cost List2.xls'!$E54=\"\",\"\",'Cost List2.xls'!O54)","v":336.5},{"$f":"IF('Cost List2.xls'!$E54=\"\",\"\",'Cost List2.xls'!P54)","v":336.5},{"$f":"IF('Cost List2.xls'!$E54=\"\",\"\",'Cost List2.xls'!Q54)","v":50},{"$f":"IF('Cost List2.xls'!$E54=\"\",\"\",'Cost List2.xls'!R54)","v":16825},{"$f":"IF('Cost List2.xls'!$E54=\"\",\"\",'Cost List2.xls'!S54)","v":1},{"$f":"IF('Cost List2.xls'!$E54=\"\",\"France\",'Cost List2.xls'!T54)","v":23019.504868571428}]
[{"$f":"'Cost List2.xls'!A55","v":"ADD cost of supervisor"},{"$f":"IF('Cost List2.xls'!$E55=\"\",\"France\",\"Local\")","v":"Local"},{"$f":"'Cost List2.xls'!C55","v":0},{"$f":"IF('Cost List2.xls'!$E55=\"\",\"\",'Cost List2.xls'!F55)","v":0},{"$f":"IF('Cost List2.xls'!$E55=\"\",\"\",'Cost List2.xls'!G55)","v":0},{"$f":"IF('Cost List2.xls'!$E55=\"\",\"\",'Cost List2.xls'!K55)","v":0},{"$f":"IF('Cost List2.xls'!$E55=\"\",\"\",'Cost List2.xls'!L55)","v":0},{"$f":"IF('Cost List2.xls'!$E55=\"\",\"\",'Cost List2.xls'!M55)","v":1},{"$f":"IF('Cost List2.xls'!$E55=\"\",\"\",'Cost List2.xls'!N55)","v":0},{"$f":"IF('Cost List2.xls'!$E55=\"\",\"\",'Cost List2.xls'!O55)","v":0},{"$f":"IF('Cost List2.xls'!$E55=\"\",\"\",'Cost List2.xls'!P55)","v":0},{"$f":"IF('Cost List2.xls'!$E55=\"\",\"\",'Cost List2.xls'!Q55)","v":45},{"$f":"IF('Cost List2.xls'!$E55=\"\",\"\",'Cost List2.xls'!R55)","v":0},{"$f":"IF('Cost List2.xls'!$E55=\"\",\"\",'Cost List2.xls'!S55)","v":1},{"$f":"IF('Cost List2.xls'!$E55=\"\",\"France\",'Cost List2.xls'!T55)","v":0}]
[{"$f":"'Cost List2.xls'!A56","v":"Sourcing shipping up to erection site"},null,{"$f":"'Cost List2.xls'!C56","v":0},{"$f":"IF('Cost List2.xls'!$E56=\"\",\"\",'Cost List2.xls'!F56)","v":"MONT"},{"$f":"IF('Cost List2.xls'!$E56=\"\",\"\",'Cost List2.xls'!G56)","v":1},{"$f":"IF('Cost List2.xls'!$E56=\"\",\"\",'Cost List2.xls'!K56)","v":0},{"$f":"IF('Cost List2.xls'!$E56=\"\",\"\",'Cost List2.xls'!L56)","v":4307.4957043089889},{"$f":"IF('Cost List2.xls'!$E56=\"\",\"\",'Cost List2.xls'!M56)","v":1},{"$f":"IF('Cost List2.xls'!$E56=\"\",\"\",'Cost List2.xls'!N56)","v":4307.4957043089889},{"$f":"IF('Cost List2.xls'!$E56=\"\",\"\",'Cost List2.xls'!O56)","v":0},{"$f":"IF('Cost List2.xls'!$E56=\"\",\"\",'Cost List2.xls'!P56)","v":0},{"$f":"IF('Cost List2.xls'!$E56=\"\",\"\",'Cost List2.xls'!Q56)","v":45},{"$f":"IF('Cost List2.xls'!$E56=\"\",\"\",'Cost List2.xls'!R56)","v":0},{"$f":"IF('Cost List2.xls'!$E56=\"\",\"\",'Cost List2.xls'!S56)","v":1}]
[{"$f":"'Cost List2.xls'!A57","v":"TOTAL LOCAL PART"},null,{"$f":"'Cost List2.xls'!C57","v":0},{"$f":"'Cost List2.xls'!F57","v":0},{"$f":"'Cost List2.xls'!G57","v":0},{"$f":"'Cost List2.xls'!K57","v":0},{"$f":"'Cost List2.xls'!L57","v":0},{"$f":"'Cost List2.xls'!M57","v":0},{"$f":"'Cost List2.xls'!N57","v":35496.441833026562},{"$f":"'Cost List2.xls'!O57","v":0},{"$f":"'Cost List2.xls'!P57","v":1290.5999999999999},{"$f":"'Cost List2.xls'!Q57","v":0},{"$f":"'Cost List2.xls'!R57","v":59759.5},{"$f":"'Cost List2.xls'!S57","v":0},{"$f":"'Cost List2.xls'!T57","v":86149.914086179779}]
[null,null,{"$f":"'Cost List2.xls'!C58","v":0},{"$f":"IF('Cost List2.xls'!$E58=\"\",\"\",'Cost List2.xls'!F58)","v":""},{"$f":"IF('Cost List2.xls'!$E58=\"\",\"\",'Cost List2.xls'!G58)","v":""},{"$f":"IF('Cost List2.xls'!$E58=\"\",\"\",'Cost List2.xls'!K58)","v":""},{"$f":"IF('Cost List2.xls'!$E58=\"\",\"\",'Cost List2.xls'!L58)","v":""},{"$f":"IF('Cost List2.xls'!$E58=\"\",\"\",'Cost List2.xls'!M58)","v":""},{"$f":"IF('Cost List2.xls'!$E58=\"\",\"\",'Cost List2.xls'!N58)","v":""},{"$f":"IF('Cost List2.xls'!$E58=\"\",\"\",'Cost List2.xls'!O58)","v":""},{"$f":"IF('Cost List2.xls'!$E58=\"\",\"\",'Cost List2.xls'!P58)","v":""},{"$f":"IF('Cost List2.xls'!$E58=\"\",\"\",'Cost List2.xls'!Q58)","v":""},{"$f":"IF('Cost List2.xls'!$E58=\"\",\"\",'Cost List2.xls'!R58)","v":""},{"$f":"IF('Cost List2.xls'!$E58=\"\",\"\",'Cost List2.xls'!S58)","v":""},"without option"]
["Specific accessories / options to be add if required"]
[{"$f":"'Cost List2.xls'!A66","v":"Cloth and belt flow meter"},{"$f":"IF('Cost List2.xls'!$E66=\"\",\"France\",\"Local\")","v":"France"},{"$f":"'Cost List2.xls'!C66","v":"Option"},{"$f":"IF('Cost List2.xls'!$E66=\"\",\"\",'Cost List2.xls'!F66)","v":""},{"$f":"IF('Cost List2.xls'!$E66=\"\",\"\",'Cost List2.xls'!G66)","v":""},{"$f":"IF('Cost List2.xls'!$E66=\"\",\"\",'Cost List2.xls'!K66)","v":""},{"$f":"IF('Cost List2.xls'!$E66=\"\",\"\",'Cost List2.xls'!L66)","v":""},{"$f":"IF('Cost List2.xls'!$E66=\"\",\"\",'Cost List2.xls'!M66)","v":""},{"$f":"IF('Cost List2.xls'!$E66=\"\",\"\",'Cost List2.xls'!N66)","v":""},{"$f":"IF('Cost List2.xls'!$E66=\"\",\"\",'Cost List2.xls'!O66)","v":""},{"$f":"IF('Cost List2.xls'!$E66=\"\",\"\",'Cost List2.xls'!P66)","v":""},{"$f":"IF('Cost List2.xls'!$E66=\"\",\"\",'Cost List2.xls'!Q66)","v":""},{"$f":"IF('Cost List2.xls'!$E66=\"\",\"\",'Cost List2.xls'!R66)","v":""},{"$f":"IF('Cost List2.xls'!$E66=\"\",\"\",'Cost List2.xls'!S66)","v":""},{"$f":"IF('Cost List2.xls'!$E66=\"\",\"France\",'Cost List2.xls'!T66)","v":"France"}]
[{"$f":"'Cost List2.xls'!A67","v":"Cake wash flowmeter"},{"$f":"IF('Cost List2.xls'!$E67=\"\",\"France\",\"Local\")","v":"France"},{"$f":"'Cost List2.xls'!C67","v":"Option"},{"$f":"IF('Cost List2.xls'!$E67=\"\",\"\",'Cost List2.xls'!F67)","v":""},{"$f":"IF('Cost List2.xls'!$E67=\"\",\"\",'Cost List2.xls'!G67)","v":""},{"$f":"IF('Cost List2.xls'!$E67=\"\",\"\",'Cost List2.xls'!K67)","v":""},{"$f":"IF('Cost List2.xls'!$E67=\"\",\"\",'Cost List2.xls'!L67)","v":""},{"$f":"IF('Cost List2.xls'!$E67=\"\",\"\",'Cost List2.xls'!M67)","v":""},{"$f":"IF('Cost List2.xls'!$E67=\"\",\"\",'Cost List2.xls'!N67)","v":""},{"$f":"IF('Cost List2.xls'!$E67=\"\",\"\",'Cost List2.xls'!O67)","v":""},{"$f":"IF('Cost List2.xls'!$E67=\"\",\"\",'Cost List2.xls'!P67)","v":""},{"$f":"IF('Cost List2.xls'!$E67=\"\",\"\",'Cost List2.xls'!Q67)","v":""},{"$f":"IF('Cost List2.xls'!$E67=\"\",\"\",'Cost List2.xls'!R67)","v":""},{"$f":"IF('Cost List2.xls'!$E67=\"\",\"\",'Cost List2.xls'!S67)","v":""},{"$f":"IF('Cost List2.xls'!$E67=\"\",\"France\",'Cost List2.xls'!T67)","v":"France"}]
[{"$f":"'Cost List2.xls'!A69","v":"Overtorque"},{"$f":"IF('Cost List2.xls'!$E69=\"\",\"France\",\"Local\")","v":"France"},{"$f":"'Cost List2.xls'!C69","v":"Option"},{"$f":"IF('Cost List2.xls'!$E69=\"\",\"\",'Cost List2.xls'!F69)","v":""},{"$f":"IF('Cost List2.xls'!$E69=\"\",\"\",'Cost List2.xls'!G69)","v":""},{"$f":"IF('Cost List2.xls'!$E69=\"\",\"\",'Cost List2.xls'!K69)","v":""},{"$f":"IF('Cost List2.xls'!$E69=\"\",\"\",'Cost List2.xls'!L69)","v":""},{"$f":"IF('Cost List2.xls'!$E69=\"\",\"\",'Cost List2.xls'!M69)","v":""},{"$f":"IF('Cost List2.xls'!$E69=\"\",\"\",'Cost List2.xls'!N69)","v":""},{"$f":"IF('Cost List2.xls'!$E69=\"\",\"\",'Cost List2.xls'!O69)","v":""},{"$f":"IF('Cost List2.xls'!$E69=\"\",\"\",'Cost List2.xls'!P69)","v":""},{"$f":"IF('Cost List2.xls'!$E69=\"\",\"\",'Cost List2.xls'!Q69)","v":""},{"$f":"IF('Cost List2.xls'!$E69=\"\",\"\",'Cost List2.xls'!R69)","v":""},{"$f":"IF('Cost List2.xls'!$E69=\"\",\"\",'Cost List2.xls'!S69)","v":""},{"$f":"IF('Cost List2.xls'!$E69=\"\",\"France\",'Cost List2.xls'!T69)","v":"France"}]
[{"$f":"'Cost List2.xls'!A70","v":"skirting above curb (Per meter)"},{"$f":"IF('Cost List2.xls'!$E70=\"\",\"France\",\"Local\")","v":"France"},{"$f":"'Cost List2.xls'!C70","v":"Option"},{"$f":"IF('Cost List2.xls'!$E70=\"\",\"\",'Cost List2.xls'!F70)","v":""},{"$f":"IF('Cost List2.xls'!$E70=\"\",\"\",'Cost List2.xls'!G70)","v":""},{"$f":"IF('Cost List2.xls'!$E70=\"\",\"\",'Cost List2.xls'!K70)","v":""},{"$f":"IF('Cost List2.xls'!$E70=\"\",\"\",'Cost List2.xls'!L70)","v":""},{"$f":"IF('Cost List2.xls'!$E70=\"\",\"\",'Cost List2.xls'!M70)","v":""},{"$f":"IF('Cost List2.xls'!$E70=\"\",\"\",'Cost List2.xls'!N70)","v":""},{"$f":"IF('Cost List2.xls'!$E70=\"\",\"\",'Cost List2.xls'!O70)","v":""},{"$f":"IF('Cost List2.xls'!$E70=\"\",\"\",'Cost List2.xls'!P70)","v":""},{"$f":"IF('Cost List2.xls'!$E70=\"\",\"\",'Cost List2.xls'!Q70)","v":""},{"$f":"IF('Cost List2.xls'!$E70=\"\",\"\",'Cost List2.xls'!R70)","v":""},{"$f":"IF('Cost List2.xls'!$E70=\"\",\"\",'Cost List2.xls'!S70)","v":""},{"$f":"IF('Cost List2.xls'!$E70=\"\",\"France\",'Cost List2.xls'!T70)","v":"France"}]
[{"$f":"'Cost List2.xls'!A71","v":"water injection into the vacuum box"},{"$f":"IF('Cost List2.xls'!$E71=\"\",\"France\",\"Local\")","v":"France"},{"$f":"'Cost List2.xls'!C71","v":"Option"},{"$f":"IF('Cost List2.xls'!$E71=\"\",\"\",'Cost List2.xls'!F71)","v":""},{"$f":"IF('Cost List2.xls'!$E71=\"\",\"\",'Cost List2.xls'!G71)","v":""},{"$f":"IF('Cost List2.xls'!$E71=\"\",\"\",'Cost List2.xls'!K71)","v":""},{"$f":"IF('Cost List2.xls'!$E71=\"\",\"\",'Cost List2.xls'!L71)","v":""},{"$f":"IF('Cost List2.xls'!$E71=\"\",\"\",'Cost List2.xls'!M71)","v":""},{"$f":"IF('Cost List2.xls'!$E71=\"\",\"\",'Cost List2.xls'!N71)","v":""},{"$f":"IF('Cost List2.xls'!$E71=\"\",\"\",'Cost List2.xls'!O71)","v":""},{"$f":"IF('Cost List2.xls'!$E71=\"\",\"\",'Cost List2.xls'!P71)","v":""},{"$f":"IF('Cost List2.xls'!$E71=\"\",\"\",'Cost List2.xls'!Q71)","v":""},{"$f":"IF('Cost List2.xls'!$E71=\"\",\"\",'Cost List2.xls'!R71)","v":""},{"$f":"IF('Cost List2.xls'!$E71=\"\",\"\",'Cost List2.xls'!S71)","v":""},{"$f":"IF('Cost List2.xls'!$E71=\"\",\"France\",'Cost List2.xls'!T71)","v":"France"}]
[{"$f":"'Cost List2.xls'!A72","v":"Double jacket vacuum box"},{"$f":"IF('Cost List2.xls'!$E72=\"\",\"France\",\"Local\")","v":"France"},{"$f":"'Cost List2.xls'!C72","v":"Option"},{"$f":"IF('Cost List2.xls'!$E72=\"\",\"\",'Cost List2.xls'!F72)","v":""},{"$f":"IF('Cost List2.xls'!$E72=\"\",\"\",'Cost List2.xls'!G72)","v":""},{"$f":"IF('Cost List2.xls'!$E72=\"\",\"\",'Cost List2.xls'!K72)","v":""},{"$f":"IF('Cost List2.xls'!$E72=\"\",\"\",'Cost List2.xls'!L72)","v":""},{"$f":"IF('Cost List2.xls'!$E72=\"\",\"\",'Cost List2.xls'!M72)","v":""},{"$f":"IF('Cost List2.xls'!$E72=\"\",\"\",'Cost List2.xls'!N72)","v":""},{"$f":"IF('Cost List2.xls'!$E72=\"\",\"\",'Cost List2.xls'!O72)","v":""},{"$f":"IF('Cost List2.xls'!$E72=\"\",\"\",'Cost List2.xls'!P72)","v":""},{"$f":"IF('Cost List2.xls'!$E72=\"\",\"\",'Cost List2.xls'!Q72)","v":""},{"$f":"IF('Cost List2.xls'!$E72=\"\",\"\",'Cost List2.xls'!R72)","v":""},{"$f":"IF('Cost List2.xls'!$E72=\"\",\"\",'Cost List2.xls'!S72)","v":""},{"$f":"IF('Cost List2.xls'!$E72=\"\",\"France\",'Cost List2.xls'!T72)","v":"France"}]
[{"$f":"'Cost List2.xls'!A74","v":"Option straight filtrate pipes \"Ucego\""},{"$f":"IF('Cost List2.xls'!$E74=\"\",\"France\",\"Local\")","v":"France"},{"$f":"'Cost List2.xls'!C74","v":"Option"},{"$f":"IF('Cost List2.xls'!$E74=\"\",\"\",'Cost List2.xls'!F74)","v":""},{"$f":"IF('Cost List2.xls'!$E74=\"\",\"\",'Cost List2.xls'!G74)","v":""},{"$f":"IF('Cost List2.xls'!$E74=\"\",\"\",'Cost List2.xls'!K74)","v":""},{"$f":"IF('Cost List2.xls'!$E74=\"\",\"\",'Cost List2.xls'!L74)","v":""},{"$f":"IF('Cost List2.xls'!$E74=\"\",\"\",'Cost List2.xls'!M74)","v":""},{"$f":"IF('Cost List2.xls'!$E74=\"\",\"\",'Cost List2.xls'!N74)","v":""},{"$f":"IF('Cost List2.xls'!$E74=\"\",\"\",'Cost List2.xls'!O74)","v":""},{"$f":"IF('Cost List2.xls'!$E74=\"\",\"\",'Cost List2.xls'!P74)","v":""},{"$f":"IF('Cost List2.xls'!$E74=\"\",\"\",'Cost List2.xls'!Q74)","v":""},{"$f":"IF('Cost List2.xls'!$E74=\"\",\"\",'Cost List2.xls'!R74)","v":""},{"$f":"IF('Cost List2.xls'!$E74=\"\",\"\",'Cost List2.xls'!S74)","v":""},{"$f":"IF('Cost List2.xls'!$E74=\"\",\"France\",'Cost List2.xls'!T74)","v":"France"}]
[{"$f":"'Cost List2.xls'!A75","v":"Side gutter cost per step of frame"},{"$f":"IF('Cost List2.xls'!$E75=\"\",\"France\",\"Local\")","v":"France"},{"$f":"'Cost List2.xls'!C75","v":"Option"},{"$f":"IF('Cost List2.xls'!$E75=\"\",\"\",'Cost List2.xls'!F75)","v":""},{"$f":"IF('Cost List2.xls'!$E75=\"\",\"\",'Cost List2.xls'!G75)","v":""},{"$f":"IF('Cost List2.xls'!$E75=\"\",\"\",'Cost List2.xls'!K75)","v":""},{"$f":"IF('Cost List2.xls'!$E75=\"\",\"\",'Cost List2.xls'!L75)","v":""},{"$f":"IF('Cost List2.xls'!$E75=\"\",\"\",'Cost List2.xls'!M75)","v":""},{"$f":"IF('Cost List2.xls'!$E75=\"\",\"\",'Cost List2.xls'!N75)","v":""},{"$f":"IF('Cost List2.xls'!$E75=\"\",\"\",'Cost List2.xls'!O75)","v":""},{"$f":"IF('Cost List2.xls'!$E75=\"\",\"\",'Cost List2.xls'!P75)","v":""},{"$f":"IF('Cost List2.xls'!$E75=\"\",\"\",'Cost List2.xls'!Q75)","v":""},{"$f":"IF('Cost List2.xls'!$E75=\"\",\"\",'Cost List2.xls'!R75)","v":""},{"$f":"IF('Cost List2.xls'!$E75=\"\",\"\",'Cost List2.xls'!S75)","v":""},{"$f":"IF('Cost List2.xls'!$E75=\"\",\"France\",'Cost List2.xls'!T75)","v":"France"}]
[{"$f":"'Cost List2.xls'!A76","v":"Stainless steel shaft lining"},{"$f":"IF('Cost List2.xls'!$E76=\"\",\"France\",\"Local\")","v":"France"},{"$f":"'Cost List2.xls'!C76","v":"Option"},{"$f":"IF('Cost List2.xls'!$E76=\"\",\"\",'Cost List2.xls'!F76)","v":""},{"$f":"IF('Cost List2.xls'!$E76=\"\",\"\",'Cost List2.xls'!G76)","v":""},{"$f":"IF('Cost List2.xls'!$E76=\"\",\"\",'Cost List2.xls'!K76)","v":""},{"$f":"IF('Cost List2.xls'!$E76=\"\",\"\",'Cost List2.xls'!L76)","v":""},{"$f":"IF('Cost List2.xls'!$E76=\"\",\"\",'Cost List2.xls'!M76)","v":""},{"$f":"IF('Cost List2.xls'!$E76=\"\",\"\",'Cost List2.xls'!N76)","v":""},{"$f":"IF('Cost List2.xls'!$E76=\"\",\"\",'Cost List2.xls'!O76)","v":""},{"$f":"IF('Cost List2.xls'!$E76=\"\",\"\",'Cost List2.xls'!P76)","v":""},{"$f":"IF('Cost List2.xls'!$E76=\"\",\"\",'Cost List2.xls'!Q76)","v":""},{"$f":"IF('Cost List2.xls'!$E76=\"\",\"\",'Cost List2.xls'!R76)","v":""},{"$f":"IF('Cost List2.xls'!$E76=\"\",\"\",'Cost List2.xls'!S76)","v":""},{"$f":"IF('Cost List2.xls'!$E76=\"\",\"France\",'Cost List2.xls'!T76)","v":"France"}]
[{"$f":"'Cost List2.xls'!A77","v":"Pneumatic tubing made of SS"},{"$f":"IF('Cost List2.xls'!$E77=\"\",\"France\",\"Local\")","v":"France"},{"$f":"'Cost List2.xls'!C77","v":"Option"},{"$f":"IF('Cost List2.xls'!$E77=\"\",\"\",'Cost List2.xls'!F77)","v":""},{"$f":"IF('Cost List2.xls'!$E77=\"\",\"\",'Cost List2.xls'!G77)","v":""},{"$f":"IF('Cost List2.xls'!$E77=\"\",\"\",'Cost List2.xls'!K77)","v":""},{"$f":"IF('Cost List2.xls'!$E77=\"\",\"\",'Cost List2.xls'!L77)","v":""},{"$f":"IF('Cost List2.xls'!$E77=\"\",\"\",'Cost List2.xls'!M77)","v":""},{"$f":"IF('Cost List2.xls'!$E77=\"\",\"\",'Cost List2.xls'!N77)","v":""},{"$f":"IF('Cost List2.xls'!$E77=\"\",\"\",'Cost List2.xls'!O77)","v":""},{"$f":"IF('Cost List2.xls'!$E77=\"\",\"\",'Cost List2.xls'!P77)","v":""},{"$f":"IF('Cost List2.xls'!$E77=\"\",\"\",'Cost List2.xls'!Q77)","v":""},{"$f":"IF('Cost List2.xls'!$E77=\"\",\"\",'Cost List2.xls'!R77)","v":""},{"$f":"IF('Cost List2.xls'!$E77=\"\",\"\",'Cost List2.xls'!S77)","v":""},{"$f":"IF('Cost List2.xls'!$E77=\"\",\"France\",'Cost List2.xls'!T77)","v":"France"}]
[{"$f":"'Cost List2.xls'!A78","v":"Ultrasonic control cake thickeness"},{"$f":"IF('Cost List2.xls'!$E78=\"\",\"France\",\"Local\")","v":"France"},{"$f":"'Cost List2.xls'!C78","v":"Option"},{"$f":"IF('Cost List2.xls'!$E78=\"\",\"\",'Cost List2.xls'!F78)","v":""},{"$f":"IF('Cost List2.xls'!$E78=\"\",\"\",'Cost List2.xls'!G78)","v":""},{"$f":"IF('Cost List2.xls'!$E78=\"\",\"\",'Cost List2.xls'!K78)","v":""},{"$f":"IF('Cost List2.xls'!$E78=\"\",\"\",'Cost List2.xls'!L78)","v":""},{"$f":"IF('Cost List2.xls'!$E78=\"\",\"\",'Cost List2.xls'!M78)","v":""},{"$f":"IF('Cost List2.xls'!$E78=\"\",\"\",'Cost List2.xls'!N78)","v":""},{"$f":"IF('Cost List2.xls'!$E78=\"\",\"\",'Cost List2.xls'!O78)","v":""},{"$f":"IF('Cost List2.xls'!$E78=\"\",\"\",'Cost List2.xls'!P78)","v":""},{"$f":"IF('Cost List2.xls'!$E78=\"\",\"\",'Cost List2.xls'!Q78)","v":""},{"$f":"IF('Cost List2.xls'!$E78=\"\",\"\",'Cost List2.xls'!R78)","v":""},{"$f":"IF('Cost List2.xls'!$E78=\"\",\"\",'Cost List2.xls'!S78)","v":""},{"$f":"IF('Cost List2.xls'!$E78=\"\",\"France\",'Cost List2.xls'!T78)","v":"France"}]
[{"$f":"'Cost List2.xls'!A79","v":"Wear belt breaking sensor"},{"$f":"IF('Cost List2.xls'!$E79=\"\",\"France\",\"Local\")","v":"France"},{"$f":"'Cost List2.xls'!C79","v":"Option"},{"$f":"IF('Cost List2.xls'!$E79=\"\",\"\",'Cost List2.xls'!F79)","v":""},{"$f":"IF('Cost List2.xls'!$E79=\"\",\"\",'Cost List2.xls'!G79)","v":""},{"$f":"IF('Cost List2.xls'!$E79=\"\",\"\",'Cost List2.xls'!K79)","v":""},{"$f":"IF('Cost List2.xls'!$E79=\"\",\"\",'Cost List2.xls'!L79)","v":""},{"$f":"IF('Cost List2.xls'!$E79=\"\",\"\",'Cost List2.xls'!M79)","v":""},{"$f":"IF('Cost List2.xls'!$E79=\"\",\"\",'Cost List2.xls'!N79)","v":""},{"$f":"IF('Cost List2.xls'!$E79=\"\",\"\",'Cost List2.xls'!O79)","v":""},{"$f":"IF('Cost List2.xls'!$E79=\"\",\"\",'Cost List2.xls'!P79)","v":""},{"$f":"IF('Cost List2.xls'!$E79=\"\",\"\",'Cost List2.xls'!Q79)","v":""},{"$f":"IF('Cost List2.xls'!$E79=\"\",\"\",'Cost List2.xls'!R79)","v":""},{"$f":"IF('Cost List2.xls'!$E79=\"\",\"\",'Cost List2.xls'!S79)","v":""},{"$f":"IF('Cost List2.xls'!$E79=\"\",\"France\",'Cost List2.xls'!T79)","v":"France"}]
[{"$f":"'Cost List2.xls'!A80","v":"Guiding roller (angular)"},{"$f":"IF('Cost List2.xls'!$E80=\"\",\"France\",\"Local\")","v":"France"},{"$f":"'Cost List2.xls'!C80","v":"Option"},{"$f":"IF('Cost List2.xls'!$E80=\"\",\"\",'Cost List2.xls'!F80)","v":""},{"$f":"IF('Cost List2.xls'!$E80=\"\",\"\",'Cost List2.xls'!G80)","v":""},{"$f":"IF('Cost List2.xls'!$E80=\"\",\"\",'Cost List2.xls'!K80)","v":""},{"$f":"IF('Cost List2.xls'!$E80=\"\",\"\",'Cost List2.xls'!L80)","v":""},{"$f":"IF('Cost List2.xls'!$E80=\"\",\"\",'Cost List2.xls'!M80)","v":""},{"$f":"IF('Cost List2.xls'!$E80=\"\",\"\",'Cost List2.xls'!N80)","v":""},{"$f":"IF('Cost List2.xls'!$E80=\"\",\"\",'Cost List2.xls'!O80)","v":""},{"$f":"IF('Cost List2.xls'!$E80=\"\",\"\",'Cost List2.xls'!P80)","v":""},{"$f":"IF('Cost List2.xls'!$E80=\"\",\"\",'Cost List2.xls'!Q80)","v":""},{"$f":"IF('Cost List2.xls'!$E80=\"\",\"\",'Cost List2.xls'!R80)","v":""},{"$f":"IF('Cost List2.xls'!$E80=\"\",\"\",'Cost List2.xls'!S80)","v":""},{"$f":"IF('Cost List2.xls'!$E80=\"\",\"France\",'Cost List2.xls'!T80)","v":"France"}]
[{"$f":"'Cost List2.xls'!A81","v":"Additional cost for \"roller belt support"},{"$f":"IF('Cost List2.xls'!$E81=\"\",\"France\",\"Local\")","v":"France"},{"$f":"'Cost List2.xls'!C81","v":"Option"},{"$f":"IF('Cost List2.xls'!$E81=\"\",\"\",'Cost List2.xls'!F81)","v":""},{"$f":"IF('Cost List2.xls'!$E81=\"\",\"\",'Cost List2.xls'!G81)","v":""},{"$f":"IF('Cost List2.xls'!$E81=\"\",\"\",'Cost List2.xls'!K81)","v":""},{"$f":"IF('Cost List2.xls'!$E81=\"\",\"\",'Cost List2.xls'!L81)","v":""},{"$f":"IF('Cost List2.xls'!$E81=\"\",\"\",'Cost List2.xls'!M81)","v":""},{"$f":"IF('Cost List2.xls'!$E81=\"\",\"\",'Cost List2.xls'!N81)","v":""},{"$f":"IF('Cost List2.xls'!$E81=\"\",\"\",'Cost List2.xls'!O81)","v":""},{"$f":"IF('Cost List2.xls'!$E81=\"\",\"\",'Cost List2.xls'!P81)","v":""},{"$f":"IF('Cost List2.xls'!$E81=\"\",\"\",'Cost List2.xls'!Q81)","v":""},{"$f":"IF('Cost List2.xls'!$E81=\"\",\"\",'Cost List2.xls'!R81)","v":""},{"$f":"IF('Cost List2.xls'!$E81=\"\",\"\",'Cost List2.xls'!S81)","v":""},{"$f":"IF('Cost List2.xls'!$E81=\"\",\"France\",'Cost List2.xls'!T81)","v":"France"}]
[{"$f":"'Cost List2.xls'!A82","v":"Pulley wash ramp"},{"$f":"IF('Cost List2.xls'!$E82=\"\",\"France\",\"Local\")","v":"France"},{"$f":"'Cost List2.xls'!C82","v":"Option"},{"$f":"IF('Cost List2.xls'!$E82=\"\",\"\",'Cost List2.xls'!F82)","v":""},{"$f":"IF('Cost List2.xls'!$E82=\"\",\"\",'Cost List2.xls'!G82)","v":""},{"$f":"IF('Cost List2.xls'!$E82=\"\",\"\",'Cost List2.xls'!K82)","v":""},{"$f":"IF('Cost List2.xls'!$E82=\"\",\"\",'Cost List2.xls'!L82)","v":""},{"$f":"IF('Cost List2.xls'!$E82=\"\",\"\",'Cost List2.xls'!M82)","v":""},{"$f":"IF('Cost List2.xls'!$E82=\"\",\"\",'Cost List2.xls'!N82)","v":""},{"$f":"IF('Cost List2.xls'!$E82=\"\",\"\",'Cost List2.xls'!O82)","v":""},{"$f":"IF('Cost List2.xls'!$E82=\"\",\"\",'Cost List2.xls'!P82)","v":""},{"$f":"IF('Cost List2.xls'!$E82=\"\",\"\",'Cost List2.xls'!Q82)","v":""},{"$f":"IF('Cost List2.xls'!$E82=\"\",\"\",'Cost List2.xls'!R82)","v":""},{"$f":"IF('Cost List2.xls'!$E82=\"\",\"\",'Cost List2.xls'!S82)","v":""},{"$f":"IF('Cost List2.xls'!$E82=\"\",\"France\",'Cost List2.xls'!T82)","v":"France"}]
[{"$f":"'Cost List2.xls'!A85","v":1},{"$f":"'Cost List2.xls'!B85","v":"GRAND TOTAL FILTRE LOCAL PART"},null,null,null,null,null,null,null,null,null,null,null,null,{"$f":"'Cost List2.xls'!T85","v":90457.409790488775}]
[]
[]
[{"$f":"'Cost List2.xls'!A88","v":"Safety guard around filter"},{"$f":"IF('Cost List2.xls'!$E88=\"\",\"France\",\"Local\")","v":"Local"},{"$f":"'Cost List2.xls'!C88","v":0},{"$f":"IF('Cost List2.xls'!$E88=\"\",\"\",'Cost List2.xls'!F88)","v":304},{"$f":"IF('Cost List2.xls'!$E88=\"\",\"\",'Cost List2.xls'!G88)","v":1},{"$f":"IF('Cost List2.xls'!$E88=\"\",\"\",'Cost List2.xls'!K88)","v":0},{"$f":"IF('Cost List2.xls'!$E88=\"\",\"\",'Cost List2.xls'!L88)","v":8792.2758620689674},{"$f":"IF('Cost List2.xls'!$E88=\"\",\"\",'Cost List2.xls'!M88)","v":1},{"$f":"IF('Cost List2.xls'!$E88=\"\",\"\",'Cost List2.xls'!N88)","v":8792.2758620689674},{"$f":"IF('Cost List2.xls'!$E88=\"\",\"\",'Cost List2.xls'!O88)","v":0},{"$f":"IF('Cost List2.xls'!$E88=\"\",\"\",'Cost List2.xls'!P88)","v":0},{"$f":"IF('Cost List2.xls'!$E88=\"\",\"\",'Cost List2.xls'!Q88)","v":30.55},{"$f":"IF('Cost List2.xls'!$E88=\"\",\"\",'Cost List2.xls'!R88)","v":0},{"$f":"IF('Cost List2.xls'!$E88=\"\",\"\",'Cost List2.xls'!S88)","v":1},{"$f":"IF('Cost List2.xls'!$E88=\"\",\"France\",'Cost List2.xls'!T88)","v":8792.2758620689674}]

{"sheet":"Option cost2","index":19,"n_rows":31,"n_cols":7,"rows_kept":31,"cut":false,"hidden":true,"merged":[]}
["Pneumatic stainless tubing"]
[null,"L=1 m","Heure"]
["304L",null,30]
[316,700,30]
["U45N"]
["904L"]
[]
["Belt support roller type mine"]
[null,"L=1 m"]
[1000]
[1250]
[1500]
[2000]
[3000]
["4000/4200"]
[]
["Pulley wash ramp"]
[null,1000,1250,1500,2000,3000,"4000/4200"]
["304L"]
["316L"]
["U45N"]
["904L"]
[]
["Flocculator including divider"]
["Goulotte",300,400,500,600]
["304L"]
["316L"]
["U45N"]
["904L"]
[]
["Polyethylene Tube"]

{"sheet":"Acc. sup2","index":20,"n_rows":51,"n_cols":13,"rows_kept":51,"cut":false,"hidden":true,"merged":[]}
["Accessoires supérieurs"]
[]
["BARRAGE D'ENTREE"]
[null,250,500,750,1000,1250,1500]
["304L",53,107,160,212.5,266,320]
["316L",62.5,125,187.5,250,313,376.5]
["904L",172.5,345,520,690,863,1035]
["U45N",{"$f":"B7*0.54","v":93.15},186.3,280.8,372.6,466.02000000000004,558.90000000000009]
["SBR",123,135,148,163.5,165,246]
["EPDM",184.5,202.5,222,245,247.5,369]
["BUTYL",246,270,296,327,330,492]
["MO",4,4,4,4,4,4]
[]
["GOULOTTE DE LAVAGE"]
[null,250,500,750,1000,1250,1500]
["304L",139,183,227,271,315,359]
["316L",153,206,259,312,365,418]
["904L",618,751,884,1017,1150,1283]
["U45N",{"$f":"B18*0.54","v":333.72},405.54,477.36,549.18000000000006,621,692.82]
["POLYPROPYLENE",1080,1220,1360,1500,1640,1780]
["TOILE",22,44,66,90,110,132]
["MO",12,12,12,12,12,12]
[]
["CHARIOT GOULOTTE"]
[null,250,500,750,1000,1250,1500]
["304L",53,107,160,212.5,266,320]
["316L",62.5,125,187.5,250,313,376.5]
["904L",172.5,345,520,690,863,1035]
["U45N",{"$f":"B28*0.54","v":93.15},186.3,280.8,372.6,466.02000000000004,558.90000000000009]
[]
[]
["MO",4,4,4,4,4,4]
[]
["ALIMENTATEUR"]
[null,250,500,750,1000,1250,1500]
["304L",755,825,895,965,1035,1105]
["316L",888,972,1056,1140,1224,1308]
["904L",2514,2724,2934,3144,3354,3560]
["U45N",{"$f":"B38*0.54","v":1357.5600000000002},1470.96,1584.3600000000001,1697.7600000000002,1811.16,1922.4]
["POLYPROPYLENE",3050,3250,3450,3650,3850,4050]
["BAVETTE",164,164,164,164,164,164]
["MO",25,25,25,25,25,25]
[]
["CHARIOT ALIMENTATEUR"]
[null,250,500,750,1000,1250,1500]
["304L",445,475,505,535,565,595,null,null,null,null,null,{"$f":"G46/6.55957","v":90.707165256259174}]
["316L",532,568,604,640,676,712,null,null,null,null,null,{"$f":"G47/6.55957","v":108.54370027303619}]
["904L",1346,1436,1526,1616,1706,1800,null,null,null,null,null,{"$f":"G48/6.55957","v":274.40823102733867}]
["U45N",{"$f":"B48*0.54","v":726.84},775.44,824.04000000000008,872.6400000000001,921.24,972.00000000000011,null,null,null,null,null,{"$f":"G49/6.55957","v":148.1804447547629}]
["BAVETTE",164,164,164,164,164,164,null,null,null,null,null,{"$f":"G50/6.55957","v":25.001638826935302}]
["MO",5,5,5,5,5,5]

{"sheet":"Access2","index":21,"n_rows":18,"n_cols":13,"rows_kept":18,"cut":false,"hidden":true,"merged":[]}
["ACCESSOIRES"]
[]
["Equipement pneumatique:",null,6000,10]
[null,null,250,500,750,1000,1250,1500,2000,2500,3000,4000,4200]
["Equipement électrique:",null,"STD","US"]
[null,"Matière",300,300]
[null,"Négoce",2500,5850]
[null,"MO",40,40]
[null,null,null,"Prix base 2003","E/kg  base 2003"]
["Visserie",null,304,2500,2.2000000000000002]
[null,null,316,2500,2.9]
[null,null,"904L",12000,7.6]
[]
[]
[]
["Vérin pneuride",null,"12x2","10x2","8x2","6x2","8x3"]
[null,"Matière",1300,850,650,590,750]
[null,"Négoce",1300,845,635.5,454,705]

{"sheet":"Gr de Cde2","index":22,"n_rows":58,"n_cols":12,"rows_kept":58,"cut":false,"hidden":true,"merged":[[29,2,29,3]]}
["Groupe de Commande:"]
[]
["Tarif BREVINI:"]
[]
["Puissance",0.37,0.55000000000000004,0.75,1.1000000000000001,1.5,2.2000000000000002,3,4,5.5,7.5,11]
[null,1386,1386,1386,1386,1785,1785,2450,2450,2835,2835,2835]
[]
[]
[null,0.37,{"$f":"HLOOKUP(B9,B5:L6,2)","v":1386}]
[]
[]
[]
[]
[]
[]
[]
[null,null,null,null,null,"CALCUL DE LA PUISSANCE D'UN MOTEUR"]
[]
[]
["COUPLE EN Nm:",null,null,null,{"$f":"'Série 2'!B78","v":2319.9441837187496}]
[]
["VITESSE MAXI EN Tr/mn :",null,null,null,{"$f":"'Série 2'!B79","v":0.19264375159509495}]
[null,null,null,null,null,"Rendement",null,null,null,"declassement"]
["Formule","P en kw=","C(newton)x N(rpm) / 9550",null,{"$f":"ROUND(E20*E22/9550,3)","v":4.7E-2},"/0,85","Puissance absorbée moteur:",null,{"$f":"E24/0.85","v":5.5294117647058827E-2},"x 1,15"]
[null,null,null,null,null,null,null,null,"reactual","remise"]
["Type de moteur",null,null,null,0.37,"Kw","Prix B3",{"$f":"ROUNDUP((LOOKUP(E26,B33:B58,C33:C58))*I26*J26,0)","v":168},1.2,0.5]
[]
[null,null,null,null,null,null,"Prix B5",{"$f":"ROUNDUP((LOOKUP(E26,B33:B58,D33:D58))*I28*J28,0)","v":185},1.2,0.5]
[]
[null,null,"Tarif Moteur, forme",null,null,null,"Variateur de fréquence",{"$f":"ROUNDUP((LOOKUP(E26,B33:B58,E33:E58)),0)","v":321},0,0]
[null,"Puissance","B3","B5","Variateur"]
[null,null,"Euro","Euro","Euro",null,null,null,null,"PRIX EN FRANCS"]
[0,0.25,273.49353692391423,302.91619725073446,0,null,null,null,1794,1987]
[0.25,0.37,278.52435449274878,307.94701481956895,320.14293619856181,null,null,null,1827,2020,2100]
[0.37,0.55000000000000004,290.87272488897901,320.29538521579923,320.14293619856181,null,null,null,1908,2101,2100]
[0.55000000000000004,0.75,308.70925990575603,338.13192023257625,320.14293619856181,null,null,null,2025,2218,2100]
[0.75,1.1000000000000001,338.74171630152586,368.16437662834608,463.74991043620236,null,null,null,2222,2415,3042]
[1.1000000000000001,1.5,379.29315488667703,408.71581521349725,570.76912053686442,null,null,null,2488,2681,3744]
[1.5,2.2000000000000002,454.90786743643258,497.28869422843269,673.82465618935385,null,null,null,2984,3262,4420]
[2.2000000000000002,3,529.15053883105145,571.53136562305156,0,null,null,null,3471,3749]
[3,4,629.61444119050486,679.16037179266323,959.20921645778617,null,null,null,4130,4455,6292]
[4,5.5,761.94018815257709,822.46244799582905,1141.5382410737288,null,null,null,4998,5395,7488]
[5.5,7.5,948.9951323028796,1009.5173921461316,1347.6493123787077,null,null,null,6225,6622,8840]
[7.5,11,1324.4770617586214,1447.655867686449,1874.8180139856729,null,null,null,8688,9496,12298]
[11,15,1663.2187780601473,1786.3975839879749,2356.0995614041776,null,null,null,10910,11718,15455]
[15,18.5,2010.6500883442054,2168.7397192194003,3088.9219872644089,null,null,null,13189,14226,20262]
[18.5,22,2380.9487512138753,2539.0383820890697,3088.9219872644089,null,null,null,15618,16655,20262]
[22,30,3192.2824209513733,3393.3626746875175,4006.3601729991447,null,null,null,20940,22259,26280]
[30,37,3862.4483007270296,4140.9726552197781,4839.6465012188301,null,null,null,25336,27163,31746]
[37,45,4638.5662474826859,4917.0906019754348,5301.5670234481831,null,null,null,30427,32254,34776]
[45,55,5626.1309811466299,5980.574946223609,6353.4652423863154,null,null,null,36905,39230,41676]
[55,75,7677.9423041449363,8175.5358964078441,7826.1227488996992,null,null,null,50364,53628,51336]
[75,90,9206.3961509672135,9703.9897432301204,9088.4006116254568,null,null,null,60390,63654,59616]
[90,110,10899.494936405892,11569.813265198785,10939.741476956569,null,null,null,71496,75893,71760]
[110,132,12963.044833731479,13633.363162524372,12538.626769742528,null,null,null,85032,89429,82248]
[132,160,15233.01070039652,15903.329029189414,14432.043563831166,null,null,null,99922,104319,94668]
[160,200,20580.6173270504,21250.935655843296,0,null,null,null,135000,139397]
[200,250,26343.190178624514,27923.781589341987,0,null,null,null,172800,183168]

{"sheet":"Lavage2","index":23,"n_rows":42,"n_cols":16,"rows_kept":42,"cut":false,"hidden":true,"merged":[]}
["Lavage et évacuation gâteau"]
[]
[]
[null,null,"PRIX EN EUROS",null,null,null,null,"PRIX EN EUROS",null,null,null,null,null,"PRIX EN FRANCS"]
["Matière","POLYPROPYLENE","304L","316L","904L","U45N","PPH","304L","316L","904L","U45N",null,"POLYPROPYLENE","304L","316L","904L"]
[250,202.75719292575582,464.96950257410168,544.2429915375551,1501.6228197884923,{"$f":"E6*0.54","v":810.87632268578591},202.75719292575582,464.96950257410168,544.2429915375551,1501.6228197884923,{"$f":"J6*0.54","v":810.87632268578591},null,1330,3050,3570,9850]
[500,283.55517206158333,762.24508618705192,891.82675083885078,2454.4291775223073,{"$f":"E7*0.54","v":1325.391755862046},283.55517206158333,762.24508618705192,891.82675083885078,2454.4291775223073,1325.391755862046,null,1860,5000,5850,16100]
[750,368.9266217145331,1053.4227091105058,1239.4105101401465,3414.8579861179924,1844.0233125037159,368.9266217145331,1053.4227091105058,1239.4105101401465,3414.8579861179924,1844.0233125037159,null,2420,6910,8130,22400]
[1000,448.20011067798652,1176.9064130728082,1384.2370765156863,3806.6519604181372,2055.5920586257944,448.20011067798652,1176.9064130728082,1384.2370765156863,3806.6519604181372,2055.5920586257944,null,2940,7720,9080,24970]
[1250,688.76465987862014,2180.0209464949685,2562.6679797608685,7058.3894980921004,3811.5303289697345,688.76465987862014,2180.0209464949685,2562.6679797608685,7058.3894980921004,3811.5303289697345,null,4518,14300,16810,46300]
[1500,681.44710705122441,2526.8424607100769,2972.7558361295023,8175.0785493561316,4414.5424166523117,681.44710705122441,2526.8424607100769,2972.7558361295023,8175.0785493561316,4414.5424166523117,null,4470,16575,19500,53625]
[2000,748.82957267015979,3023.8262569040348,3557.3978172349712,9782.9583341590987,5282.797500445914,748.82957267015979,3023.8262569040348,3557.3978172349712,9782.9583341590987,5282.797500445914,null,4912,19835,23335,64172]
[2500,825.51142834057725,3725.8539812823096,4382.9092455755481,12053.381547875852,6508.8260358529606,825.51142834057725,3725.8539812823096,4382.9092455755481,12053.381547875852,6508.8260358529606,null,5415,24440,28750,79065]
[3000,1038.1778073867647,4781.5634256513767,5625.3687360604426,15469.764024166219,8353.6725730497583,1038.1778073867647,4781.5634256513767,5625.3687360604426,15469.764024166219,8353.6725730497583,null,6810,31365,36900,101475]
[4000,1169.2839622109377,6360.9352442309482,7482.9600110982883,20580.6173270504,11113.533356607217,1169.2839622109377,6360.9352442309482,7482.9600110982883,20580.6173270504,11113.533356607217,null,7670,41725,49085,135000]
[4200,1227.9768338473407,6679.5536902571357,7857.2223484161314,21609.648193402922,11669.210024437578,1227.9768338473407,6679.5536902571357,7857.2223484161314,21609.648193402922,11669.210024437578,null,8055,43815,51540,141750]
[]
["Négoce","POLYPROPYLENE","304L","316L","904L","U45N","PPH","304L","316L","904L","U45N",null,"POLYPROPYLENE","304L","316L","904L"]
[250,2888.9088766489267,1509.2452706503627,1509.2452706503627,1509.2452706503627,1509.2452706503627,2888.9088766489267,1509.2452706503627,1509.2452706503627,1509.2452706503627,1509.2452706503627,null,18950,9900,9900,9900]
[500,3084.5009657645242,1509.2452706503627,1509.2452706503627,1509.2452706503627,1509.2452706503627,3084.5009657645242,1509.2452706503627,1509.2452706503627,1509.2452706503627,1509.2452706503627,null,20233,9900,9900,9900]
[750,3308.1436740518052,1509.2452706503627,1509.2452706503627,1509.2452706503627,1509.2452706503627,3308.1436740518052,1509.2452706503627,1509.2452706503627,1509.2452706503627,1509.2452706503627,null,21700,9900,9900,9900]
[1000,3613.0417085266258,1509.2452706503627,1509.2452706503627,1509.2452706503627,1509.2452706503627,3613.0417085266258,1509.2452706503627,1509.2452706503627,1509.2452706503627,1509.2452706503627,null,23700,9900,9900,9900]
[1250,4219.0265520453322,1524.4901723741038,1524.4901723741038,1524.4901723741038,1524.4901723741038,4219.0265520453322,1524.4901723741038,1524.4901723741038,1524.4901723741038,1524.4901723741038,null,27675,10000,10000,10000]
[1500,4756.4093378072039,1524.4901723741038,1524.4901723741038,1524.4901723741038,1524.4901723741038,4756.4093378072039,1524.4901723741038,1524.4901723741038,1524.4901723741038,1524.4901723741038,null,31200,10000,10000,10000]
[2000,5264.8268102939674,1524.4901723741038,1524.4901723741038,1524.4901723741038,1524.4901723741038,5264.8268102939674,1524.4901723741038,1524.4901723741038,1524.4901723741038,1524.4901723741038,null,34535,10000,10000,10000]
[2500,6280.899510181308,1524.4901723741038,1524.4901723741038,1524.4901723741038,1524.4901723741038,6280.899510181308,1524.4901723741038,1524.4901723741038,1524.4901723741038,1524.4901723741038,null,41200,10000,10000,10000]
[3000,6814.4710705122443,1524.4901723741038,1524.4901723741038,1524.4901723741038,1524.4901723741038,6814.4710705122443,1524.4901723741038,1524.4901723741038,1524.4901723741038,1524.4901723741038,null,44700,10000,10000,10000]
[4000,12927.676661732401,1829.3882068489245,1829.3882068489245,1829.3882068489245,1829.3882068489245,12927.676661732401,1829.3882068489245,1829.3882068489245,1829.3882068489245,1829.3882068489245,null,84800,12000,12000,12000]
[4200,13575.584984991394,1829.3882068489245,1829.3882068489245,1829.3882068489245,1829.3882068489245,13575.584984991394,1829.3882068489245,1829.3882068489245,1829.3882068489245,1829.3882068489245,null,89050,12000,12000,12000]
[]
["MO","POLYPROPYLENE","304L","316L","904L","U45N"]
[250,30,80,80,80,80]
[500,40,100,100,100,100]
[750,47.5,110,110,110,110]
[1000,50,120,120,120,120]
[1250,50,120,120,120,120]
[1500,50,120,120,120,120]
[2000,58,184,184,184,184]
[2500,60,200,200,200,200]
[3000,60,200,200,200,200]
[4000,65,265,265,265,265]
[4200,65,265,265,265,265]

{"sheet":"Band","index":24,"n_rows":38,"n_cols":17,"rows_kept":38,"cut":false,"hidden":true,"merged":[]}
[]
[]
[null,null,"PRIX BANDE EP. ",{"$f":"HLOOKUP(H3,B13:G21,6,0)","v":{"$error":"#N/A"}},null,null," LARGEUR",{"$f":"'Séries 3-4-5'!B3","v":500}]
[null,null,null,null,null,null,"Epaisseur",{"$f":"Calculations!E24","v":18.5}]
[null,"MATIERE :",{"$f":"'Séries 3-4-5'!B17","v":"EPDM"},null,"Prix bande tarif 02 mai 2005 x coef>>",null,null,0]
[null,"Nombre de pas de 3500 :",{"$f":"'Séries 3-4-5'!B10","v":{"$error":"#N/A"}}]
[null,"Nombre de pas de 4000 :",{"$f":"'Séries 3-4-5'!B11","v":{"$error":"#N/A"}},null," "]
[null,"Hauteur talons :",{"$f":"'Séries 3-4-5'!B18","v":70}]
[null,"Surface :",{"$f":"'Séries 3-4-5'!B4","v":2},"M2"]
[null,"Longueur de bande :",{"$f":"(('Séries 3-4-5'!B9*3+'Séries 3-4-5'!B10*3.5+'Séries 3-4-5'!B11*4))*2+LOOKUP(H3,B13:G13,B14:G14)","v":{"$error":"#N/A"}},"M"]
[null,null,null,null,null,null,null,null,null,null,null,null,null,null,"Conversion US-->Eur",null,0.74]
["Largeur bande brute",2250,2500,2750,3250,4310,4510,"Prix resultat"]
[null,2000,2250,2500,3000,4000,4200,null,"KOREA DUDE !!!!!",2000,2250,2500,3000,4000,4200]
["Longueur bande",7.09,8.35,8.35,8.6,8.6,9.6,null,null,7.09,8.35,8.35,8.6,8.6,9.6]
["Prix au m SBRLT",670,740,{"$f":"IF(H4=28,800,770)","v":770},{"$f":"IF(H4=31,860,980)","v":980},1760,1890,null,"Prix au m SBRLT Dollars",600,684,749,990,1217]
["Prix au m SBR",730,810,{"$f":"IF(H4=28,870,840)","v":840},{"$f":"IF(H4=31,940,1060)","v":1060},1890,2000,null,"Prix au m SBRLT Euros",{"$f":"J15*$Q$11","v":444},{"$f":"K15*$Q$11","v":506.15999999999997},554.26,732.6,900.58]
["Prix au m EPDM",890,970,{"$f":"IF(H4=28,1060,1020)","v":1020},{"$f":"IF(H4=31,1070,1260)","v":1260},2140,2350,null,"Prix au m SBR Dollars",647,739,809,1070,1314]
["Prix jonction SBRLT",2900,3100,3300,3700,10000,10200,null,"Prix au m SBR Euros",{"$f":"J17*$Q$11","v":478.78},{"$f":"K17*$Q$11","v":546.86},598.66,791.8,972.36]
["Prix jonction SBR",2900,3100,3300,3700,10000,10200,null,"Prix Jonction SBR Dollars",5000,5000,5000,7100,10000]
["Prix jonction EPDM",3100,3300,3500,3900,10800,11000,null,"Prix Jonction SBR Euros",{"$f":"J19*$Q$11","v":3700},{"$f":"K19*$Q$11","v":3700},3700,5254,7400]
["Epaisseur",27,32,{"$f":"IF(H3=2500,H4,28)","v":28},{"$f":"IF(H3=3000,H4,31)","v":31},35,35]
["SBRLT",{"$f":"((($C$10+1)*B15)+B18)","v":{"$error":"#N/A"}},{"$f":"((($C$10+1)*C15)+C18)","v":{"$error":"#N/A"}},{"$error":"#N/A"},{"$error":"#N/A"},{"$error":"#N/A"},{"$error":"#N/A"},{"$f":"(HLOOKUP($H$3,$B13:G22,10,0))","v":{"$error":"#N/A"}},"SBRLT",{"$f":"((($C$10+1)*J16)+J20)*1.1","v":{"$error":"#N/A"}},{"$f":"((($C$10+1)*K16)+K20)*1.1","v":{"$error":"#N/A"}},{"$error":"#N/A"},{"$error":"#N/A"},{"$error":"#N/A"},{"$f":"(HLOOKUP($H$3,$J13:N22,10,0))","v":{"$error":"#N/A"}}]
["SBR",{"$f":"((($C$10+1)*B16)+B19)","v":{"$error":"#N/A"}},{"$error":"#N/A"},{"$error":"#N/A"},{"$error":"#N/A"},{"$error":"#N/A"},{"$error":"#N/A"},{"$f":"(HLOOKUP($H$3,B$13:G23,11,0))","v":{"$error":"#N/A"}},"SBR",{"$f":"((($C$10+1)*J18)+J20)*1.1","v":{"$error":"#N/A"}},{"$f":"((($C$10+1)*K18)+K20)*1.1","v":{"$error":"#N/A"}},{"$error":"#N/A"},{"$error":"#N/A"},{"$error":"#N/A"},{"$f":"(HLOOKUP($H$3,$J13:N23,11,0))","v":{"$error":"#N/A"}}]
["EPDM",{"$f":"((($C$10+1)*B17)+B20)","v":{"$error":"#N/A"}},{"$error":"#N/A"},{"$error":"#N/A"},{"$error":"#N/A"},{"$error":"#N/A"},{"$error":"#N/A"},{"$f":"(HLOOKUP($H$3,B$13:G24,12,0))","v":{"$error":"#N/A"}}]
[70,{"$f":"((($C$10+1)*2)*367)+1000","v":{"$error":"#N/A"}},{"$error":"#N/A"},{"$error":"#N/A"},{"$error":"#N/A"},{"$error":"#N/A"},{"$error":"#N/A"}]
[120,{"$f":"((($C$10+1)*2)*487)+1000","v":{"$error":"#N/A"}},{"$error":"#N/A"},{"$error":"#N/A"},{"$error":"#N/A"},{"$error":"#N/A"},{"$error":"#N/A"}]
["MO BANDE",{"$f":"40+$C$10*1.45","v":{"$error":"#N/A"}},{"$f":"64+$C$10*1.5","v":{"$error":"#N/A"}},{"$f":"64+$C$10*1.5","v":{"$error":"#N/A"}},{"$f":"64+$C$10*1.5","v":{"$error":"#N/A"}},{"$f":"150+$C$10*2","v":{"$error":"#N/A"}},{"$f":"150+$C$10*2","v":{"$error":"#N/A"}}]
["MO TALONS"]
[70,{"$f":"12+((($C$10+1)*2)*0.57)","v":{"$error":"#N/A"}},{"$error":"#N/A"},{"$error":"#N/A"},{"$error":"#N/A"},{"$error":"#N/A"},{"$error":"#N/A"}]
[120,{"$f":"12+((($C$10+1)*2)*0.7)","v":{"$error":"#N/A"}},{"$error":"#N/A"},{"$error":"#N/A"},{"$error":"#N/A"},{"$error":"#N/A"},{"$error":"#N/A"}]
[]
[]
["Prix au m SBRLT",520,585,605,625,1070,1115]
["Prix au m SBR",570,640,660,685,1160,1210]
["Prix au m EPDM",685,745,770,790,1320,1420]
["Prix jonction SBRLT",2400,2600,2800,2950,8200,8400]
["Prix jonction SBR",2400,2600,2800,2950,8200,8400]
["Prix jonction EPDM",2700,2850,3000,3160,9150,9400]

{"sheet":"Tabl2","index":25,"n_rows":31,"n_cols":12,"rows_kept":31,"cut":false,"hidden":true,"merged":[]}
["NEGOCE TABLE"]
[null,null,"Surface filtre",{"$f":"'Série 2'!B6","v":2}]
[null,null,"Largeur",{"$f":"'Série 2'!B5","v":500}]
[null,null,"Longueur de boite à vide",{"$f":"(D2/D3)/0.001","v":4}]
[null,null,"Type de courroies",{"$f":"'Série 2'!B17","v":"DUNL"},null,null,null,"Tension de courroies"]
[]
[null,"Quantité","DUNL","ALIAS","30X7","40X7","50X5",null,4000,4200,3000]
["Réglette",{"$f":"((D4/2)*(LOOKUP(D3,A20:A31,B20:B31))+((LOOKUP(D3,A20:A31,B20:B31))/2))","v":10},{"$f":"$E$20*$B$8","v":1000},{"$f":"$E$20*$B$8","v":1000},{"$f":"$E$20*$B$8","v":1000},{"$f":"$E$23*$B$8","v":0},{"$f":"$E$24*$B$8","v":0},"Inox",5730,6685,4775]
["Taquet de fixation",{"$f":"ROUND((3.65*D4)*LOOKUP(D3,A20:A31,B20:B31),0)","v":58},{"$f":"$B$9*14","v":812},{"$f":"$B$9*14","v":812},{"$f":"$B$9*14","v":812},{"$f":"$B$9*14","v":812},{"$f":"$B$9*14","v":812},"Contre-poids",720,840,600]
["Roue d'extrémité",{"$f":"(LOOKUP(D3,A20:A31,B20:B31))*2","v":8},{"$f":"$B$10*145","v":1160},{"$f":"$B$10*145","v":1160},{"$f":"$B$10*145","v":1160},{"$f":"$B$10*200","v":1600},{"$f":"$B$10*200","v":1600},"Roue de tension",5400,6300,4500]
["Entretoise de roue",{"$f":"(LOOKUP(D3,A20:A31,B20:B31))*2","v":8},{"$f":"$B$11*17.5","v":140},{"$f":"$B$11*17.5","v":140},{"$f":"$B$11*17.5","v":140},{"$f":"$B$11*20","v":160},{"$f":"$B$11*20","v":160},"Entretoise",660,770,550]
["Galet de retour",{"$f":"ROUND((0.8*D4)*LOOKUP(D3,A20:A31,B20:B31),0)","v":13},{"$f":"$B$12*24","v":312},{"$f":"$B$12*24","v":312},{"$f":"$B$12*24","v":312},{"$f":"$B$12*30","v":390},{"$f":"$B$12*30","v":390},null,{"$f":"SUM(I8:I11)","v":12510},{"$f":"SUM(J8:J11)","v":14595},{"$f":"SUM(K8:K11)","v":10425}]
["Entretoise de galet",{"$f":"ROUND((0.8*D4)*LOOKUP(D3,A20:A31,B20:B31),0)","v":13},{"$f":"$B$13*9","v":117},{"$f":"$B$13*9","v":117},{"$f":"$B$13*9","v":117},{"$f":"$B$13*11","v":143},{"$f":"$B$13*11","v":143},"MO",36,42,30]
["Courroies",{"$f":"(LOOKUP(D3,A20:A31,B20:B31))*((D4*2)+3.14)","v":44.56},{"$f":"($B$14*$F$20)+(G20*B10/2)","v":1565.6},{"$f":"$B$14*$F$21","v":3832.1600000000003},{"$f":"$B$14*$F$22","v":0},{"$f":"$B$14*$F$23","v":0},{"$f":"$B$14*$F$24","v":0},null,{"$f":"IF('Série 2'!B84=0,\"0\",HLOOKUP(D3,I7:K13,6,0))","v":"0"},{"$f":"IF('Série 2'!B84=0,\"0\",HLOOKUP(D3,I7:K13,7,0))","v":"0"}]
["Chape tendeur",{"$f":"(LOOKUP(D3,A20:A31,B20:B31))*2","v":8},{"$f":"$B$15*45","v":360},{"$f":"$B$15*45","v":360},{"$f":"$B$15*45","v":360},{"$f":"$B$15*45","v":360},{"$f":"$B$15*45","v":360}]
["Support galet",{"$f":"ROUND((0.8*D4)*LOOKUP(D3,A20:A31,B20:B31),0)","v":13},{"$f":"$B$16*9","v":117},{"$f":"$B$16*9","v":117},{"$f":"$B$16*9","v":117},{"$f":"$B$16*9","v":117},{"$f":"$B$16*9","v":117},"Lavage des courroies"]
["Axes de roue",{"$f":"(LOOKUP(D3,A20:A31,B20:B31))*2","v":8},null,null,null,{"$f":"B17*9","v":72},{"$f":"$B$17*9","v":72}]
["TOTAL",null,{"$f":"SUM(C8:C16)","v":5583.6},{"$f":"SUM(D8:D16)","v":7850.16},{"$f":"SUM(E8:E16)","v":4018},{"$f":"(SUM(F8:F17))","v":3654},{"$f":"(SUM(G8:G17))","v":3654},null,2000,3000,4000,4200]
["MO",null,{"$f":"((LOOKUP($D$3,$A$20:$A$31,$B$20:$B$31))*3)+($B$15*1.5)+($B$16*0.1)","v":25.3},{"$f":"((LOOKUP($D$3,$A$20:$A$31,$B$20:$B$31))*3)+($B$15*1.5)+($B$16*0.1)","v":25.3},{"$f":"((LOOKUP($D$3,$A$20:$A$31,$B$20:$B$31))*3)+($B$15*1.5)+($B$16*0.1)","v":25.3},{"$f":"((LOOKUP($D$3,$A$20:$A$31,$B$20:$B$31))*3)+($B$15*1.5)+($B$16*0.1)+(B17*0.25)","v":27.3},{"$f":"((LOOKUP($D$3,$A$20:$A$31,$B$20:$B$31))*3)+($B$15*1.5)+($B$16*0.1)+(B17*0.25)","v":27.3},"Inox"]
[250,2,null,"DUNL",100,10,280]
[500,4,null,"PPH",100,86]
[750,4]
[1000,4]
[1250,6]
[1500,6]
[2000,8]
[2250,8]
[2500,8]
[3000,10]
[4000,12]
[4200,14]

{"sheet":"Band2","index":26,"n_rows":41,"n_cols":8,"rows_kept":41,"cut":false,"hidden":true,"merged":[]}
[]
[]
[null,null,"PRIX BANDE EP. ",{"$f":"HLOOKUP(H3,B16:M24,7,0)","v":1070},null,null," LARGEUR",{"$f":"'Série 2'!B5","v":500}]
[]
[null,"MATIERE :",{"$f":"'Série 2'!B18","v":"EPDM"},null,"Prix bande tarif 02 mai 2005 x coef>>",null,null,1]
[null,"Nombre de pas de 2000 :",{"$f":"'Série 2'!B11","v":2}]
[null,"Nombre de pas de 2500 :",{"$f":"'Série 2'!B12","v":0}]
[null,"Nombre de pas de 3000 :",{"$f":"'Série 2'!B13","v":0}]
[null,"Nombre de pas de 3500 :",{"$f":"'Série 2'!B9+'Série 2'!B14","v":0}]
[null,null,null,null," "]
[null,"Hauteur talons :",{"$f":"'Série 2'!B19","v":70}]
[null,"Surface :",{"$f":"'Série 2'!B6","v":2},"M2"]
[null,"Longueur de bande :",{"$f":"((C6*2+C7*2.5+C8*3+C9*3.5+C10*4))*2+LOOKUP(H3,B16:M16,B17:M17)","v":12.98},"M"]
[]
[null,430,680,930,1170,1430,1680,"Prix resultat"]
[null,250,500,750,1000,1250,1500]
["Longueur bande",4.9800000000000004,4.9800000000000004,4.9800000000000004,4.9800000000000004,4.9800000000000004,4.9800000000000004]
["Prix au m SBRLT",480,390,410,450,550,550]
["Prix au m SBR",520,430,450,480,600,590]
["Prix au m EPDM",600,530,590,620,750,740]
["Prix jonction SBRLT",950,1070,1600,1700,1850,2350]
["Prix jonction SBR",950,1070,1600,1700,1850,2350]
["Prix jonction EPDM",1070,1200,1800,1900,2100,2450]
["Epaisseur",24,24,24,24,24,27]
["SBRLT",{"$f":"((($C$13+1)*B18)+B21)","v":7660.4000000000005},{"$f":"((($C$13+1)*C18)+C21)","v":6522.2},7331.8,7991,9539,10039,{"$f":"(HLOOKUP($H$3,$B16:G25,10,0))","v":6522.2}]
["SBR",{"$f":"((($C$13+1)*B19)+B22)","v":8219.6},7081.4000000000005,7891,8410.4000000000015,10238,10598.2,{"$f":"(HLOOKUP($H$3,B$16:G26,11,0))","v":7081.4000000000005}]
["EPDM",{"$f":"((($C$13+1)*B20)+B23)","v":9458},8609.4000000000015,10048.200000000001,10567.6,12585,{"$f":"((($C$13+1)*G20)+G23)","v":12795.2},{"$f":"(HLOOKUP($H$3,B$16:G27,12,0))","v":8609.4000000000015}]
[70,{"$f":"((($C$13+1)*2)*367)+1000","v":11261.32},11261.32,11261.32,11261.32,11261.32,11261.32]
[120,{"$f":"((($C$13+1)*2)*487)+1000","v":14616.52},14616.52,14616.52,14616.52,14616.52,14616.52]
["MO BANDE",{"$f":"16+$C$13","v":28.98},{"$f":"16+$C$13","v":28.98},{"$f":"20+$C$13","v":32.980000000000004},{"$f":"25+$C$13","v":37.980000000000004},{"$f":"31+$C$13*1.2","v":46.576000000000001},{"$f":"31+$C$13*1.4","v":49.171999999999997}]
["MO TALONS"]
[70,{"$f":"12+((($C$13+1)*2)*0.57)","v":27.937199999999997},27.937199999999997,27.937199999999997,27.937199999999997,27.937199999999997,27.937199999999997]
[120,{"$f":"12+((($C$13+1)*2)*0.7)","v":31.571999999999999},31.571999999999999,31.571999999999999,31.571999999999999,31.571999999999999,31.571999999999999]
[]
[]
["Prix au m SBRLT",380,315,330,335,355,405]
["Prix au m SBR",425,345,360,370,385,440]
["Prix au m EPDM",485,410,420,440,460,515]
["Prix jonction SBRLT",760,840,1260,1370,1480,1950]
["Prix jonction SBR",760,840,1260,1370,1480,1950]
["Prix jonction EPDM",860,950,1470,1580,1740,2100]

{"sheet":"Tamb2","index":27,"n_rows":10,"n_cols":13,"rows_kept":10,"cut":false,"hidden":true,"merged":[]}
["TAMBOURS REVETUS \"NATUREL\""]
[]
["Désignation",250,500,750,1000,1250,1500,2000,2250,2500,3000,4000,4200]
["Matière tambour moteur",900,1000,1100,1200,3607,4145,5221,5760,7070,12200,15452,0]
["Revêtement tambour moteur",4980,5890,6780,7700,10585,11700,13910,15080,16250,23800,29600,82000]
["Matière tambour libre",600,700,800,900,2852,3330,4288,5250,6230,10150,13008,0]
["Revêtement tambour libre",3900,4650,5400,6150,8220,9100,10790,11650,12510,19800,24400,68880]
["MO Tambour moteur",32,32,32,32,55,55,55,55,60,90,120,0]
["MO Tambour libre",28,28,28,28,46,46,46,46,50,80,110,0]
["Paliers de tambours",1200,3200,3200,4000,10000,13350,17800,null,23500,32000,35000,40300]

{"sheet":"Roul2","index":28,"n_rows":317,"n_cols":37,"rows_kept":317,"cut":false,"hidden":true,"merged":[]}
["ROULEAUX"]
[]
[250]
[null,null,null,null,null,null,null,null,null,null,null,null,null,null,null,"u",null,null,null,null,"u",null,null,null,null,"u",null,null,null,null,"u",null,null,null,null,"u"]
[null,null,null,null,null,null,null,"Ø",null,null,null,null,"500304L","500316L","500904L",null,"500CAOUT","750304L","750316L","750904L","750U45N","750CAOUT","1000304L","1000316L","1000904L","1000U45N","1000CAOUT","1250304L","1250316L","1250904L","1250U45N","1250CAOUT","1500304L","1500316L","1500904L","1500U45N","1500CAOUT"]
[null,null,null,null,null,null,"Rouleau soutien bande",219,null,null,null,null,{"$f":"B61","v":587.9},{"$f":"C61","v":658.2},{"$f":"E61","v":1907.55},{"$f":"F61","v":1030.077},{"$f":"D61","v":360.4},{"$f":"B113","v":745.4},{"$f":"C113","v":833.2},{"$f":"E113","v":2388.8000000000002},{"$f":"F113","v":1289.952},{"$f":"D113","v":450.4},{"$f":"B165","v":902.9},{"$f":"C165","v":1008.2},{"$f":"E165","v":2870.05},{"$f":"F165","v":1549.8269999999998},{"$f":"D165","v":540.4},{"$f":"B217","v":1060.4000000000001},{"$f":"C217","v":1183.1999999999998},{"$f":"E217","v":3351.3},{"$f":"F217","v":1809.702},{"$f":"D217","v":630.4},{"$f":"B273","v":1165.4000000000001},{"$f":"C273","v":1298.1999999999998},{"$f":"E273","v":3667.55},{"$f":"F273","v":1980.4770000000001},{"$f":"D273","v":660.4}]
[]
[]
[]
[null,null,null,null,null,null,null,"Ø",null,null,null,null,"500304L","500316L","500904L",null,"500CAOUT","750304L","750316L","750904L","750U45N","750CAOUT","1000304L","1000316L","1000904L","1000U45N","1000CAOUT","1250304L","1250316L","1250904L","1250U45N","1250CAOUT","1500304L","1500316L","1500904L","1500U45N","1500CAOUT"]
[null,null,null,null,null,null,"Revêtement caoutchouc",219,null,null,null,null,15,15,15,null,{"$f":"D62+15","v":700},15,15,15,15,{"$f":"D114+15","v":1015},15,15,15,15,{"$f":"D166+15","v":1275},15,15,15,15,{"$f":"D218+15","v":1655},15,15,15,15,{"$f":"D274+15","v":2115}]
[]
[]
[]
[null,null,null,null,null,null,null,"Ø",null,null,null,null,"500304L","500316L","500904L",null,"500CAOUT","750304L","750316L","750904L","750U45N","750CAOUT","1000304L","1000316L","1000904L","1000U45N","1000CAOUT","1250304L","1250316L","1250904L","1250U45N","1250CAOUT","1500304L","1500316L","1500904L","1500U45N","1500CAOUT"]
[null,null,null,null,null,null,"Rouleau soutien toile",60,null,null,null,null,{"$f":"B73","v":282.98},{"$f":"C73","v":324.45999999999998},{"$f":"E73","v":868.28},null,{"$f":"D73","v":267.06},{"$f":"B125","v":305.23},{"$f":"C125","v":350.21000000000004},{"$f":"E125","v":931.78},{"$f":"F125","v":503.16120000000001},{"$f":"D125","v":275.31},{"$f":"B177","v":327.48},{"$f":"C177","v":375.96000000000004},{"$f":"E177","v":995.28},{"$f":"F177","v":537.45119999999997},{"$f":"D177","v":283.56},0,0,0,0,0,0,0,0,0,0]
[null,null,null,null,null,null,null,88.9,null,null,null,null,0,0,0,null,0,0,0,0,0,0,0,0,0,0,0,{"$f":"B231","v":332.8},{"$f":"C231","v":396.75},{"$f":"E231","v":1088},{"$f":"F231","v":587.52},{"$f":"D231","v":163.81},{"$f":"B287","v":367.8},{"$f":"C287","v":440.5},{"$f":"E287","v":1213},{"$f":"F287","v":664.22},{"$f":"D287","v":172.06}]
[]
[]
[]
[null,null,null,null,null,null,null,"Ø",null,null,null,null,"500304L","500316L","500904L",null,"500CAOUT","750304L","750316L","750904L","750U45N","750CAOUT","1000304L","1000316L","1000904L","1000U45N","1000CAOUT","1250304L","1250316L","1250904L","1250U45N","1250CAOUT","1500304L","1500316L","1500904L","1500U45N","1500CAOUT"]
[null,null,null,null,null,null,"Revêtement caoutchouc",60,null,null,null,null,15,15,15,null,{"$f":"D74+15","v":385},15,15,15,15,{"$f":"D126+15","v":540},15,15,15,15,{"$f":"D178+15","v":675},0,0,0,0,0,0,0,0,0,0]
[null,null,null,null,null,null,null,88.9,null,null,null,null,0,0,0,null,0,0,0,0,0,0,0,0,0,0,0,15,15,15,15,{"$f":"D232+15","v":1115},15,15,15,15,{"$f":"D288+10","v":1520}]
[]
[]
[]
[null,null,null,null,null,null,null,"Ø",null,null,null,null,"500304L","500316L","500904L",null,"500CAOUT","750304L","750316L","750904L","750U45N","750CAOUT","1000304L","1000316L","1000904L","1000U45N","1000CAOUT","1250304L","1250316L","1250904L","1250U45N","1250CAOUT","1500304L","1500316L","1500904L","1500U45N","1500CAOUT"]
[null,null,null,null,null,null,"Rouleau d'entrée",219,null,null,null,null,{"$f":"B87","v":1437.5},{"$f":"C87","v":1603},{"$f":"E87","v":3755.75},null,{"$f":"D87","v":896},{"$f":"B139","v":1595},{"$f":"C139","v":1778},{"$f":"E139","v":4237},{"$f":"F139","v":2287.98},{"$f":"D139","v":986},{"$f":"B191","v":1752.5},{"$f":"C191","v":1953},{"$f":"E191","v":4718.25},{"$f":"F191","v":2547.855},{"$f":"D191","v":1076},{"$f":"B245","v":1910},{"$f":"C245","v":2128},{"$f":"E245","v":5199.5},{"$f":"F245","v":2807.73},{"$f":"D245","v":1166},{"$f":"B301","v":2067.5},{"$f":"C301","v":2303},{"$f":"E301","v":5680.75},{"$f":"F301","v":3067.605},{"$f":"D301","v":1256}]
[]
[]
[null,null,null,null,null,null,null,"Ø",null,null,null,null,"500304L","500316L","500904L",null,"500CAOUT","750304L","750316L","750904L","750U45N","750CAOUT","1000304L","1000316L","1000904L","1000U45N","1000CAOUT","1250304L","1250316L","1250904L","1250U45N","1250CAOUT","1500304L","1500316L","1500904L","1500U45N","1500CAOUT"]
[null,null,null,null,null,null,"Revêtement caoutchouc",219,null,null,null,null,15,15,15,null,{"$f":"D88","v":810},15,15,15,15,{"$f":"D140","v":1150},15,15,15,15,{"$f":"D192+15","v":1535},15,15,15,15,{"$f":"D246+15","v":1983},15,15,15,15,{"$f":"D302+15","v":2515}]
[]
[]
[null,null,null,null,null,null,null,"Ø",null,null,null,null,"500304L","500316L","500904L",null,"500CAOUT","750304L","750316L","750904L","750U45N","750CAOUT","1000304L","1000316L","1000904L","1000U45N","1000CAOUT","1250304L","1250316L","1250904L","1250U45N","1250CAOUT","1500304L","1500316L","1500904L","1500U45N","1500CAOUT"]
[null,null,null,null,null,null,"rouleau débatissage",60,null,null,null,null,{"$f":"B99","v":282.98},{"$f":"C99","v":324.45999999999998},{"$f":"E99","v":868.28},null,{"$f":"D99","v":267.06},{"$f":"B151","v":305.23},{"$f":"C151","v":350.21000000000004},{"$f":"E151","v":931.78},{"$f":"F151","v":503.16120000000001},{"$f":"D151","v":275.31},{"$f":"B203","v":327.48},{"$f":"C203","v":375.96000000000004},{"$f":"E203","v":995.28},{"$f":"F203","v":537.45119999999997},{"$f":"D203","v":283.56},0,0,0,0,0,0,0,0,0,0]
[null,null,null,null,null,null,null,88.9,null,null,null,null,0,0,0,null,0,0,0,0,0,0,0,0,0,0,0,{"$f":"B259","v":332.8},{"$f":"C259","v":396.75},{"$f":"E259","v":1088},{"$f":"F259","v":587.52},{"$f":"D259","v":163.81},{"$f":"B315","v":367.8},{"$f":"C315","v":440.5},{"$f":"E315","v":1213},{"$f":"F315","v":703.32},{"$f":"D315","v":172.06}]
[]
[]
[null,null,null,null,null,null,null,"Ø",null,null,null,null,"500304L","500316L","500904L",null,"500CAOUT","750304L","750316L","750904L","750U45N","750CAOUT","1000304L","1000316L","1000904L","1000U45N","1000CAOUT","1250304L","1250316L","1250904L","1250U45N","1250CAOUT","1500304L","1500316L","1500904L","1500U45N","1500CAOUT"]
[null,null,null,null,null,null,"Revêtement caoutchouc",60,null,null,null,null,{"$f":"B100+15","v":375},{"$f":"C100+15","v":375},{"$f":"E100+15","v":375},null,{"$f":"D100+15","v":625},{"$f":"B152+15","v":460},{"$f":"C152+15","v":460},{"$f":"E152+15","v":460},{"$f":"F152+15","v":460},{"$f":"D152+15","v":770},{"$f":"B204+15","v":605},{"$f":"C204+15","v":605},{"$f":"E204+15","v":605},{"$f":"F204+15","v":605},{"$f":"D204+15","v":1015},0,0,0,0,0,0,0,0,0,0]
[null,null,null,null,null,null,null,88.9,null,null,null,null,0,0,0,null,0,0,0,0,null,0,0,0,0,0,0,{"$f":"B260+15","v":725},{"$f":"C260+15","v":725},{"$f":"E260+15","v":725},{"$f":"F260+15","v":725},{"$f":"D260+15","v":1215},{"$f":"B316+15","v":870},{"$f":"C316+15","v":870},{"$f":"E316+15","v":870},{"$f":"F316+15","v":870},{"$f":"D316+15","v":1465}]
[]
[null,null,null,null,null,null,"Ø"]
[null,null,null,null,null,null,60,3.5]
[null,null,null,null,null,null,88.9,5]
[null,null,null,null,null,null,168,5]
[null,null,null,null,null,null,219,7]
[null,null,null,null,null,null,273,7]
[500,null,null,null,null,null,355,13]
["Soutien de bande",null,null,null,null,null,406,15]
["Matière","304 L","316 L","E24","904L","U45N"]
["Désignation",null,null,null,null,null,"SNH507",200,0.15]
[null,420,460,120,1265,{"$f":"E54*0.54","v":683.1},"SNH509",270,0.15]
["1 Tube ø 219,1 x 3,76 Lg 470",{"$f":"A56*B54","v":197.39999999999998},{"$f":"A56*C54","v":216.2},{"$f":"A56*D54","v":56.4},{"$f":"A56*E54","v":594.54999999999995},{"$f":"A56*F54","v":321.05700000000002},"SNH511",326,0.15]
[0.47]
["2 Galettes ép 10 ø 220 x ø 30",170,190,52,620,{"$f":"E57*0.54","v":334.8},250,200]
[null,21,24,24,66,{"$f":"E58*0.54","v":35.64},500,200]
["1 Ronds ø 40 Lg 1050",{"$f":"A60*B58","v":220.5},{"$f":"A60*C58","v":252},{"$f":"A60*D58","v":252},{"$f":"A60*E58","v":693},{"$f":"A60*F58","v":374.22},750,200]
[10.5,null,null,null,null,null,1000,200]
["TOTAL Matière",{"$f":"B55+B57+B59","v":587.9},{"$f":"C55+C57+C59","v":658.2},{"$f":"D55+D57+D59","v":360.4},{"$f":"E55+E57+E59","v":1907.55},{"$f":"F55+F57+F59","v":1030.077},1250,270]
["Revêtement caoutchouc",null,null,685,null,null,1500,270]
["M. O.",5,5,5,5,5,2000,270]
["Soutien de toile",null,null,null,null,null,2250,270]
["Matière","304 L","316 L (4404)","E24","904L","U45N",2500,270]
["Désignation",null,null,null,null,null,3000,270]
[null,89,103,33,254,{"$f":"E67*0.54","v":137.16},4000,270,326]
["1 Tube ø 60,3 x 2,77 Lg 820",{"$f":"A69*B67","v":72.97999999999999},{"$f":"A69*C67","v":84.46},{"$f":"A69*D67","v":27.06},{"$f":"A69*E67","v":208.28},{"$f":"A69*F67","v":112.4712},4200,270,326]
[0.82]
[null,21,24,24,66,{"$f":"E70*0.54","v":35.64}]
["2 Ronds ø 60",{"$f":"A72*B70","v":210},{"$f":"A72*C70","v":240},{"$f":"A72*D70","v":240},{"$f":"A72*E70","v":660},{"$f":"A72*F70","v":356.4}]
[10]
["TOTAL Matière",{"$f":"B68+B71","v":282.98},{"$f":"C68+C71","v":324.45999999999998},{"$f":"D68+D71","v":267.06},{"$f":"E68+E71","v":868.28},{"$f":"F68+F71","v":468.87119999999999}]
["Revêtement caoutchouc",null,null,370]
["M. O.",null,2,2,2,2]
["Rouleau d'entrée"]
["Matière","304 L","316 L","E24","904L","U45N"]
["Désignation"]
[null,420,460,120,1265,{"$f":"E79*0.54","v":683.1}]
["1 Tube ø 219,1 x 3,76 Lg 350",{"$f":"A81*B79","v":147},{"$f":"A81*C79","v":161},{"$f":"A81*D79","v":42},{"$f":"A81*E79","v":442.75},{"$f":"A81*F79","v":239.08499999999998}]
[0.35]
["2 Galettes ép 10 ø 220 x ø 30",170,190,52,620,{"$f":"E82*0.54","v":334.8}]
[null,21,24,24,66,{"$f":"E83*0.54","v":35.64}]
["1 Ronds ø 40 Lg 1050",{"$f":"A85*B83","v":220.5},{"$f":"A85*C83","v":252},{"$f":"A85*D83","v":252},{"$f":"A85*E83","v":693},{"$f":"A85*F83","v":374.22}]
[10.5]
["2 Fond Ø 219 x 3",900,1000,550,2000,{"$f":"E86*0.54","v":1080}]
["TOTAL Matière",{"$f":"B80+B82+B84+B86","v":1437.5},{"$f":"C80+C82+C84+C86","v":1603},{"$f":"D80+D82+D84+D86","v":896},{"$f":"E80+E82+E84+E86","v":3755.75},{"$f":"F80+F82+F84+F86","v":2028.105}]
["Revêtement caoutchouc",null,null,810]
["M. O.",8,8,8,8,8]
["Rouleau débatissage"]
["Matière","304 L","316 L (4404)","E24","904L","U45N"]
["Désignation"]
[null,89,103,33,254,{"$f":"E93*0.54","v":137.16}]
["1 Tube ø 60,3 x 2,77 Lg 820",{"$f":"A95*B93","v":72.97999999999999},{"$f":"A95*C93","v":84.46},{"$f":"A95*D93","v":27.06},{"$f":"A95*E93","v":208.28},{"$f":"A95*F93","v":112.4712}]
[0.82]
[null,21,24,24,66,{"$f":"E96*0.54","v":35.64}]
["2 Ronds ø 60",{"$f":"A98*B96","v":210},{"$f":"A98*C96","v":240},{"$f":"A98*D96","v":240},{"$f":"A98*E96","v":660},{"$f":"A98*F96","v":356.4}]
[10]
["TOTAL Matière",{"$f":"B94+B97","v":282.98},{"$f":"C94+C97","v":324.45999999999998},{"$f":"D94+D97","v":267.06},{"$f":"E94+E97","v":868.28},{"$f":"F94+F97","v":468.87119999999999}]
["Revêtement caoutchouc",360,360,610,360,360]
["M. O.",2,2,2,2,2]
[750]
["Soutien de bande"]
["Matière","304 L","316 L","E24","904L","U45N"]
["Désignation"]
[null,420,460,120,1265,{"$f":"E106*0.54","v":683.1}]
["1 Tube ø 219,1 x 3,76 Lg 720",{"$f":"A108*B106","v":302.39999999999998},{"$f":"A108*C106","v":331.2},{"$f":"A108*D106","v":86.399999999999991},{"$f":"A108*E106","v":910.8},{"$f":"A108*F106","v":491.83199999999999}]
[0.72]
["2 Galettes ép 10 ø 220 x ø 30",170,190,52,620,{"$f":"E109*0.54","v":334.8}]
[null,21,24,24,66,{"$f":"E110*0.54","v":35.64}]
["1 Ronds ø 40 Lg 1300",{"$f":"A112*B110","v":273},{"$f":"A112*C110","v":312},{"$f":"A112*D110","v":312},{"$f":"A112*E110","v":858},{"$f":"A112*F110","v":463.32}]
[13]
["TOTAL Matière",{"$f":"B107+B109+B111","v":745.4},{"$f":"C107+C109+C111","v":833.2},{"$f":"D107+D109+D111","v":450.4},{"$f":"E107+E109+E111","v":2388.8000000000002},{"$f":"F107+F109+F111","v":1289.952}]
["Revêtement caoutchouc",null,null,1000]
["M. O.",5,5,5,5,5]
["Soutien de toile"]
["Matière","304 L","316 L (4404)","E24","904L","U45N"]
["Désignation"]
[null,89,103,33,254,{"$f":"E119*0.54","v":137.16}]
["1 Tube ø 60,3 x 2,77 Lg 1070",{"$f":"A121*B119","v":95.23},{"$f":"A121*C119","v":110.21000000000001},{"$f":"A121*D119","v":35.31},{"$f":"A121*E119","v":271.78000000000003},{"$f":"A121*F119","v":146.7612}]
[1.07]
[null,21,24,24,66,{"$f":"E122*0.54","v":35.64}]
["2 Ronds ø 60",{"$f":"A124*B122","v":210},{"$f":"A124*C122","v":240},{"$f":"A124*D122","v":240},{"$f":"A124*E122","v":660},{"$f":"A124*F122","v":356.4}]
[10]
["TOTAL Matière",{"$f":"B120+B123","v":305.23},{"$f":"C120+C123","v":350.21000000000004},{"$f":"D120+D123","v":275.31},{"$f":"E120+E123","v":931.78},{"$f":"F120+F123","v":503.16120000000001}]
["Revêtement caoutchouc",null,null,525]
["M. O.",null,2,2,2,2]
["Rouleau d'entrée"]
["Matière","304 L","316 L","E24","904L","U45N"]
["Désignation"]
[null,420,460,120,1265,{"$f":"E131*0.54","v":683.1}]
["1 Tube ø 219,1 x 3,76 Lg 600",{"$f":"A133*B131","v":252},{"$f":"A133*C131","v":276},{"$f":"A133*D131","v":72},{"$f":"A133*E131","v":759},{"$f":"A133*F131","v":409.86}]
[0.6]
["2 Galettes ép 10 ø 220 x ø 30",170,190,52,620,{"$f":"E134*0.54","v":334.8}]
[null,21,24,24,66,{"$f":"E135*0.54","v":35.64}]
["1 Ronds ø 40 Lg 1300",{"$f":"A137*B135","v":273},{"$f":"A137*C135","v":312},{"$f":"A137*D135","v":312},{"$f":"A137*E135","v":858},{"$f":"A137*F135","v":463.32}]
[13]
["2 Fond Ø 219 x 3",900,1000,550,2000,{"$f":"E138*0.54","v":1080}]
["TOTAL Matière",{"$f":"B132+B134+B136+B138","v":1595},{"$f":"C132+C134+C136+C138","v":1778},{"$f":"D132+D134+D136+D138","v":986},{"$f":"E132+E134+E136+E138","v":4237},{"$f":"F132+F134+F136+F138","v":2287.98}]
["Revêtement caoutchouc",null,null,1150]
["M. O.",8,8,8,8,8]
["Rouleau débatissage"]
["Matière","304 L","316 L (4404)","E24","904L","U45N"]
["Désignation"]
[null,89,103,33,254,{"$f":"E145*0.54","v":137.16}]
["1 Tube ø 60,3 x 2,77 Lg 1070",{"$f":"A147*B145","v":95.23},{"$f":"A147*C145","v":110.21000000000001},{"$f":"A147*D145","v":35.31},{"$f":"A147*E145","v":271.78000000000003},{"$f":"A147*F145","v":146.7612}]
[1.07]
[null,21,24,24,66,{"$f":"E148*0.54","v":35.64}]
["2 Ronds ø 60",{"$f":"A150*B148","v":210},{"$f":"A150*C148","v":240},{"$f":"A150*D148","v":240},{"$f":"A150*E148","v":660},{"$f":"A150*F148","v":356.4}]
[10]
["TOTAL Matière",{"$f":"B146+B149","v":305.23},{"$f":"C146+C149","v":350.21000000000004},{"$f":"D146+D149","v":275.31},{"$f":"E146+E149","v":931.78},{"$f":"F146+F149","v":503.16120000000001}]
["Revêtement caoutchouc",445,445,755,445,445]
["M. O.",null,2,2,2,2]
[1000]
["Soutien de bande"]
["Matière","304 L","316 L","E24","904L","U45N"]
["Désignation"]
[null,420,460,120,1265,{"$f":"E158*0.54","v":683.1}]
["1 Tube ø 219,1 x 3,76 Lg 970",{"$f":"A160*B158","v":407.4},{"$f":"A160*C158","v":446.2},{"$f":"A160*D158","v":116.39999999999999},{"$f":"A160*E158","v":1227.05},{"$f":"A160*F158","v":662.60699999999997}]
[0.97]
["2 Galettes ép 10 ø 220 x ø 30",170,190,52,620,{"$f":"E161*0.54","v":334.8}]
[null,21,24,24,66,{"$f":"E162*0.54","v":35.64}]
["1 Ronds ø 40 Lg 1550",{"$f":"A164*B162","v":325.5},{"$f":"A164*C162","v":372},{"$f":"A164*D162","v":372},{"$f":"A164*E162","v":1023},{"$f":"A164*F162","v":552.41999999999996}]
[15.5]
["TOTAL Matière",{"$f":"B159+B161+B163","v":902.9},{"$f":"C159+C161+C163","v":1008.2},{"$f":"D159+D161+D163","v":540.4},{"$f":"E159+E161+E163","v":2870.05},{"$f":"F159+F161+F163","v":1549.8269999999998}]
["Revêtement caoutchouc",null,null,1260]
["M. O.",5,5,5,5,5]
["Soutien de toile"]
["Matière","304 L","316 L (4404)","E24","904L","U45N"]
["Désignation"]
[null,89,103,33,254,{"$f":"E171*0.54","v":137.16}]
["1 Tube ø 60,3 x 2,77 Lg 1320",{"$f":"A173*B171","v":117.48},{"$f":"A173*C171","v":135.96},{"$f":"A173*D171","v":43.56},{"$f":"A173*E171","v":335.28000000000003},{"$f":"A173*F171","v":181.05119999999999}]
[1.32]
[null,21,24,24,66,{"$f":"E174*0.54","v":35.64}]
["2 Ronds ø 60",{"$f":"A176*B174","v":210},{"$f":"A176*C174","v":240},{"$f":"A176*D174","v":240},{"$f":"A176*E174","v":660},{"$f":"A176*F174","v":356.4}]
[10]
["TOTAL Matière",{"$f":"B172+B175","v":327.48},{"$f":"C172+C175","v":375.96000000000004},{"$f":"D172+D175","v":283.56},{"$f":"E172+E175","v":995.28},{"$f":"F172+F175","v":537.45119999999997}]
["Revêtement caoutchouc",null,null,660]
["M. O.",null,2,2,2,2]
["Rouleau d'entrée"]
["Matière","304 L","316 L","E24","904L","U45N"]
["Désignation"]
[null,420,460,120,1265,{"$f":"E183*0.54","v":683.1}]
["1 Tube ø 219,1 x 3,76 Lg 850",{"$f":"A185*B183","v":357},{"$f":"A185*C183","v":391},{"$f":"A185*D183","v":102},{"$f":"A185*E183","v":1075.25},{"$f":"A185*F183","v":580.63499999999999}]
[0.85]
["2 Galettes ép 10 ø 220 x ø 30",170,190,52,620,{"$f":"E186*0.54","v":334.8}]
[null,21,24,24,66,{"$f":"E187*0.54","v":35.64}]
["1 Ronds ø 40 Lg 1550",{"$f":"A189*B187","v":325.5},{"$f":"A189*C187","v":372},{"$f":"A189*D187","v":372},{"$f":"A189*E187","v":1023},{"$f":"A189*F187","v":552.41999999999996}]
[15.5]
["2 Fond Ø 219 x 3",900,1000,550,2000,{"$f":"E190*0.54","v":1080}]
["TOTAL Matière",{"$f":"B184+B186+B188+B190","v":1752.5},{"$f":"C184+C186+C188+C190","v":1953},{"$f":"D184+D186+D188+D190","v":1076},{"$f":"E184+E186+E188+E190","v":4718.25},{"$f":"F184+F186+F188+F190","v":2547.855}]
["Revêtement caoutchouc",null,null,1520]
["M. O.",8,8,8,8,8]
["Soutien de débatissage"]
["Matière","304 L","316 L (4404)","E24","904L","U45N"]
["Désignation"]
[null,89,103,33,254,{"$f":"E197*0.54","v":137.16}]
["1 Tube ø 60,3 x 2,77 Lg 1320",{"$f":"A199*B197","v":117.48},{"$f":"A199*C197","v":135.96},{"$f":"A199*D197","v":43.56},{"$f":"A199*E197","v":335.28000000000003},{"$f":"A199*F197","v":181.05119999999999}]
[1.32]
[null,21,24,24,66,{"$f":"E200*0.54","v":35.64}]
["2 Ronds ø 60",{"$f":"A202*B200","v":210},{"$f":"A202*C200","v":240},{"$f":"A202*D200","v":240},{"$f":"A202*E200","v":660},{"$f":"A202*F200","v":356.4}]
[10]
["TOTAL Matière",{"$f":"B198+B201","v":327.48},{"$f":"C198+C201","v":375.96000000000004},{"$f":"D198+D201","v":283.56},{"$f":"E198+E201","v":995.28},{"$f":"F198+F201","v":537.45119999999997}]
["Revêtement caoutchouc",590,590,1000,590,590]
["M. O.",null,2,2,2,2]
[1250]
["Soutien de bande"]
["Matière","304 L","316 L","E24","904L","U45N"]
["Désignation"]
[null,420,460,120,1265,{"$f":"E210*0.54","v":683.1}]
["1 Tube ø 219,1 x 3,76 Lg 1220",{"$f":"A212*B210","v":512.4},{"$f":"A212*C210","v":561.19999999999993},{"$f":"A212*D210","v":146.4},{"$f":"A212*E210","v":1543.3},{"$f":"A212*F210","v":833.38200000000006}]
[1.22]
["2 Galettes ép 10 ø 220 x ø 30",170,190,52,620,{"$f":"E213*0.54","v":334.8}]
[null,21,24,24,66,{"$f":"E214*0.54","v":35.64}]
["1 Ronds ø 40 Lg 1800",{"$f":"A216*B214","v":378},{"$f":"A216*C214","v":432},{"$f":"A216*D214","v":432},{"$f":"A216*E214","v":1188},{"$f":"A216*F214","v":641.52}]
[18]
["TOTAL Matière",{"$f":"B211+B213+B215","v":1060.4000000000001},{"$f":"C211+C213+C215","v":1183.1999999999998},{"$f":"D211+D213+D215","v":630.4},{"$f":"E211+E213+E215","v":3351.3},{"$f":"F211+F213+F215","v":1809.702}]
["Revêtement caoutchouc",null,null,1640]
["M. O.",5,5,5,5,5]
["Soutien de toile"]
["Matière","304 L","316 L (4404)","E24","904L","U45N"]
["Désignation"]
[null,140,175,33,500,{"$f":"E223*0.54","v":270}]
["1 Tube ø 88,9 x 3,05 Lg 1570",{"$f":"$A$225*B223","v":219.8},{"$f":"$A$225*C223","v":274.75},{"$f":"$A$225*D223","v":51.81},{"$f":"$A$225*E223","v":785},{"$f":"A225*F223","v":423.90000000000003}]
[1.57]
[null,21,24,24,66,{"$f":"E226*0.54","v":35.64}]
["2 Ronds ø 30 Lg 250",{"$f":"A228*B226","v":63},{"$f":"A228*C226","v":72},{"$f":"A228*D226","v":72},{"$f":"A228*E226","v":198},{"$f":"A228*F226","v":106.92}]
[3]
["2 Galettes ép 8 ø90 x ø30",20,20,20,20,{"$f":"E229*0.54","v":10.8}]
["2 Galettes ép 8 ø90 x ø30",30,30,20,85,{"$f":"E230*0.54","v":45.900000000000006}]
["TOTAL Matière",{"$f":"B224+B227+B229+B230","v":332.8},{"$f":"C224+C227+C229+C230","v":396.75},{"$f":"D224+D227+D229+D230","v":163.81},{"$f":"E224+E227+E229+E230","v":1088},{"$f":"F224+F227+F229+F230","v":587.52}]
["Revêtement caoutchouc",null,null,1100]
["M. O.",null,2,2,2,2]
["Rouleau d'entrée"]
["Matière","304 L","316 L","E24","904L","U45N"]
["Désignation"]
[null,420,460,120,1265,{"$f":"E237*0.54","v":683.1}]
["1 Tube ø 219,1 x 3,76 Lg 1100",{"$f":"A239*B237","v":462.00000000000006},{"$f":"A239*C237","v":506.00000000000006},{"$f":"A239*D237","v":132},{"$f":"A239*E237","v":1391.5},{"$f":"A239*F237","v":751.41000000000008}]
[1.1000000000000001]
["2 Galettes ép 10 ø 220 x ø 30",170,190,52,620,{"$f":"E240*0.54","v":334.8}]
[null,21,24,24,66,{"$f":"E241*0.54","v":35.64}]
["1 Ronds ø 40 Lg 1800",{"$f":"A243*B241","v":378},{"$f":"A243*C241","v":432},{"$f":"A243*D241","v":432},{"$f":"A243*E241","v":1188},{"$f":"A243*F241","v":641.52}]
[18]
["2 Fond Ø 219 x 3",900,1000,550,2000,{"$f":"E244*0.54","v":1080}]
["TOTAL Matière",{"$f":"B238+B240+B242+B244","v":1910},{"$f":"C238+C240+C242+C244","v":2128},{"$f":"D238+D240+D242+D244","v":1166},{"$f":"E238+E240+E242+E244","v":5199.5},{"$f":"F238+F240+F242+F244","v":2807.73}]
["Revêtement caoutchouc",null,null,1968]
["M. O.",8,8,8,8,8]
["Soutien de débatissage"]
["Matière","304 L","316 L (4404)","E24","904L","U45N"]
["Désignation"]
[null,140,175,33,500,{"$f":"E251*0.54","v":270}]
["1 Tube ø 88,9 x 3,05 Lg 1570",{"$f":"$A$253*B251","v":219.8},{"$f":"$A$253*C251","v":274.75},{"$f":"$A$253*D251","v":51.81},{"$f":"$A$253*E251","v":785},{"$f":"A253*F251","v":423.90000000000003}]
[1.57]
[null,21,24,24,66,{"$f":"E254*0.54","v":35.64}]
["2 Ronds ø 30 Lg 250",{"$f":"A256*B254","v":63},{"$f":"A256*C254","v":72},{"$f":"A256*D254","v":72},{"$f":"A256*E254","v":198},{"$f":"A256*F254","v":106.92}]
[3]
["2 Galettes ép 8 ø90 x ø30",20,20,20,20,{"$f":"E257*0.54","v":10.8}]
["2 Galettes ép 8 ø90 x ø30",30,30,20,85,{"$f":"E258*0.54","v":45.900000000000006}]
["TOTAL Matière",{"$f":"B252+B255+B257+B258","v":332.8},{"$f":"C252+C255+C257+C258","v":396.75},{"$f":"D252+D255+D257+D258","v":163.81},{"$f":"E252+E255+E257+E258","v":1088},{"$f":"F252+F255+F257+F258","v":587.52}]
["Revêtement caoutchouc",710,710,1200,710,710]
["M. O.",2,2,2,2,2]
[1500]
["Soutien de bande"]
["Matière","304 L","316 L","E24","904L","U45N"]
["Désignation"]
[null,420,460,120,1265,{"$f":"E266*0.54","v":683.1}]
["1 Tube ø 219,1 x 3,76 Lg 1470",{"$f":"A268*B266","v":617.4},{"$f":"A268*C266","v":676.19999999999993},{"$f":"A268*D266","v":176.4},{"$f":"A268*E266","v":1859.55},{"$f":"A268*F266","v":1004.157}]
[1.47]
["2 Galettes ép 10 ø 220 x ø 30",170,190,52,620,{"$f":"E269*0.54","v":334.8}]
[null,21,24,24,66,{"$f":"E270*0.54","v":35.64}]
["1 Ronds ø 40 Lg 1800",{"$f":"A272*B270","v":378},{"$f":"A272*C270","v":432},{"$f":"A272*D270","v":432},{"$f":"A272*E270","v":1188},{"$f":"A272*F270","v":641.52}]
[18]
["TOTAL Matière",{"$f":"B267+B269+B271","v":1165.4000000000001},{"$f":"C267+C269+C271","v":1298.1999999999998},{"$f":"D267+D269+D271","v":660.4},{"$f":"E267+E269+E271","v":3667.55},{"$f":"F267+F269+F271","v":1980.4770000000001}]
["Revêtement caoutchouc",null,null,2100]
["M. O.",5,5,5,5,5]
["Soutien de toile"]
["Matière","304 L","316 L (4404)","E24","904L","U45N"]
["Désignation"]
[null,140,175,33,500,{"$f":"E279*0.54","v":270}]
["1 Tube ø 88,9 x 3,05 Lg 1820",{"$f":"$A$281*B279","v":254.8},{"$f":"$A$281*C279","v":318.5},{"$f":"$A$281*D279","v":60.06},{"$f":"$A$281*E279","v":910},{"$f":"A281*F279","v":491.40000000000003}]
[1.82]
[null,21,24,24,66,{"$f":"E282*0.54","v":35.64}]
["2 Ronds ø 30 Lg 250",{"$f":"A284*B282","v":63},{"$f":"A284*C282","v":72},{"$f":"A284*D282","v":72},{"$f":"A284*E282","v":198},{"$f":"A284*F282","v":106.92}]
[3]
["2 Galettes ép 8 ø90 x ø30",20,20,20,20,20]
["2 Galettes ép 8 ø90 x ø30",30,30,20,85,{"$f":"E286*0.54","v":45.900000000000006}]
["TOTAL Matière",{"$f":"B280+B283+B285+B286","v":367.8},{"$f":"C280+C283+C285+C286","v":440.5},{"$f":"D280+D283+D285+D286","v":172.06},{"$f":"E280+E283+E285+E286","v":1213},{"$f":"F280+F283+F285+F286","v":664.22}]
["Revêtement caoutchouc",null,null,1510]
["M. O.",null,2,2,2,2]
["Rouleau d'entrée"]
["Matière","304 L","316 L","E24","904L","U45N"]
["Désignation"]
[null,420,460,120,1265,{"$f":"E293*0.54","v":683.1}]
["1 Tube ø 219,1 x 3,76 Lg 1350",{"$f":"A295*B293","v":567},{"$f":"A295*C293","v":621},{"$f":"A295*D293","v":162},{"$f":"A295*E293","v":1707.75},{"$f":"A295*F293","v":922.18500000000006}]
[1.35]
["2 Galettes ép 10 ø 220 x ø 30",170,190,52,620,{"$f":"E296*0.54","v":334.8}]
[null,21,24,24,66,{"$f":"E297*0.54","v":35.64}]
["1 Ronds ø 40 Lg 2050",{"$f":"A299*B297","v":430.5},{"$f":"A299*C297","v":492},{"$f":"A299*D297","v":492},{"$f":"A299*E297","v":1353},{"$f":"A299*F297","v":730.62}]
[20.5]
["2 Fond Ø 219 x 3",900,1000,550,2000,{"$f":"E300*0.54","v":1080}]
["TOTAL Matière",{"$f":"B294+B296+B298+B300","v":2067.5},{"$f":"C294+C296+C298+C300","v":2303},{"$f":"D294+D296+D298+D300","v":1256},{"$f":"E294+E296+E298+E300","v":5680.75},{"$f":"F294+F296+F298+F300","v":3067.605}]
["Revêtement caoutchouc",null,null,2500]
["M. O.",8,8,8,8,8]
["Soutien de débatissage"]
["Matière","304 L","316 L (4404)","E24","904L","U45N"]
["Désignation"]
[null,140,175,33,500,{"$f":"E307*0.54","v":270}]
["1 Tube ø 88,9 x 3,05 Lg 1820",{"$f":"$A$309*B307","v":254.8},{"$f":"$A$309*C307","v":318.5},{"$f":"$A$309*D307","v":60.06},{"$f":"$A$309*E307","v":910},{"$f":"A309*F307","v":491.40000000000003}]
[1.82]
[null,21,24,24,66,{"$f":"E310*0.54","v":35.64}]
["2 Ronds ø 30 Lg 250",{"$f":"A312*B310","v":63},{"$f":"A312*C310","v":72},{"$f":"A312*D310","v":72},{"$f":"A312*E310","v":198},{"$f":"A312*F310","v":106.92}]
[3]
["2 Galettes ép 8 ø90 x ø30",20,20,20,20,20]
["2 Galettes ép 8 ø90 x ø30",30,30,20,85,85]
["TOTAL Matière",{"$f":"B308+B311+B313+B314","v":367.8},{"$f":"C308+C311+C313+C314","v":440.5},{"$f":"D308+D311+D313+D314","v":172.06},{"$f":"E308+E311+E313+E314","v":1213},{"$f":"F308+F311+F313+F314","v":703.32}]
["Revêtement caoutchouc",855,855,1450,855,855]
["M. O.",2,2,2,2,2]

{"sheet":"B. à V.2","index":29,"n_rows":93,"n_cols":36,"rows_kept":93,"cut":false,"hidden":true,"merged":[]}
["BOITE A VIDE",null,18,21,55,null,18,21,55,30,30,"poids110","poids110","poids140","poids140"]
[null,"USVR","110304L","110316L","110904L","110SVR","140304L","140316L","140904L","110U45N","140U45N",null,null,"??","??"]
[2000,5620,1580,1690,2920,null,null,null,null,{"$f":"(((E3-D3)/($E$1-$D$1))*$J$1)+(E3-((E3-D3)/($E$1-$D$1))*$E$1)","v":2015.5882352941176},null,{"$f":"(D3-C3)/($D$1-$C$1)","v":36.666666666666664},{"$f":"(E3-D3)/($E$1-$D$1)","v":36.176470588235297}]
[2500,6400,2650,2780,4290,null,null,null,null,{"$f":"(((E4-D4)/($E$1-$D$1))*$J$1)+(E4-((E4-D4)/($E$1-$D$1))*$E$1)","v":3179.705882352941},null,45,{"$f":"(E4-D4)/($E$1-$D$1)","v":44.411764705882355}]
[3000,7380,2800,2950,4750,8130,3050,3250,6105,{"$f":"(((E5-D5)/($E$1-$D$1))*$J$1)+(E5-((E5-D5)/($E$1-$D$1))*$E$1)","v":3426.4705882352941},{"$f":"(((I5-H5)/($E$1-$D$1))*$J$1)+(I5-((I5-H5)/($E$1-$D$1)*$I$1))","v":4005.7352941176468},52,{"$f":"(E5-D5)/($E$1-$D$1)","v":52.941176470588232},{"$f":"(H5-G5)/($H$1-$G$1)","v":66.666666666666671},{"$f":"(I5-H5)/($I$1-$H$1)","v":83.970588235294116}]
[3500,8960,2910,3081,5100,9291,3230,3470,6675,{"$f":"(((E6-D6)/($E$1-$D$1))*$J$1)+(E6-((E6-D6)/($E$1-$D$1))*$E$1)","v":3615.4411764705883},{"$f":"(((I6-H6)/($E$1-$D$1))*$J$1)+(I6-((I6-H6)/($E$1-$D$1)*$I$1))","v":4318.3823529411766},58,{"$f":"(E6-D6)/($E$1-$D$1)","v":59.382352941176471},{"$f":"(H6-G6)/($H$1-$G$1)","v":80},{"$f":"(I6-H6)/($I$1-$H$1)","v":94.264705882352942}]
[4000,null,null,null,null,10843,3400,3650,7176,null,{"$f":"(((I7-H7)/($E$1-$D$1))*$J$1)+(I7-((I7-H7)/($E$1-$D$1)*$I$1))","v":4583.3529411764703},null,null,{"$f":"(H7-G7)/($H$1-$G$1)","v":83.333333333333329},{"$f":"(I7-H7)/($I$1-$H$1)","v":103.70588235294117}]
[]
["Berceau","304L","316L","U45N","904L"]
[null,910,1090,{"$f":"C10*1.37","v":1493.3000000000002},2050]
[]
["Entrée et sortie","SVR","304L","316L","904L","U45N"]
["U",1312]
[110,null,1764,1878,2785,{"$f":"(((E14-D14)/($E$1-$D$1))*$J$1)+(E14-((E14-D14)/($E$1-$D$1))*$E$1)","v":2118.0882352941176}]
[140,1878,1764,1878,2785,{"$f":"(((E15-D15)/($E$1-$D$1))*$J$1)+(E15-((E15-D15)/($E$1-$D$1))*$E$1)","v":2118.0882352941176}]
[]
["Déflecteur + Goulotte","SVR","304L","316L",{"$f":"$B$72","v":"304L"},"MO","904L","U45N"]
[250,0,0,0,0,0,0]
[500,0,0,0,0,0,0]
[750,0,0,0,0,0,0]
[1000,0,0,0,0,0,0]
[1250,2120,433,500,{"$f":"IF($E$17=$G$17,G22,H22)","v":707.79411764705878},10,1285,{"$f":"(((G22-D22)/($E$1-$D$1))*$J$1)+(G22-((G22-D22)/($E$1-$D$1))*$E$1)","v":707.79411764705878}]
[1500,2544,505,583,{"$f":"IF($E$17=$G$17,G23,H23)","v":825.73529411764707},12,1500,{"$f":"(((G23-D23)/($E$1-$D$1))*$J$1)+(G23-((G23-D23)/($E$1-$D$1))*$E$1)","v":825.73529411764707}]
[2000,3392,650,752,1063.8235294117646,12,1930,1063.8235294117646]
[2500,4240,800,921,1301.9117647058824,12,2360,1301.9117647058824]
[3000,5088,941,1089,1539.2647058823532,12,2790,1539.2647058823532]
[4000,6784,1235,1430,2017.6470588235293,14,3650,2017.6470588235293]
[4200,7125,1292,1495,2110.9705882352941,14,3822,2110.9705882352941]
[]
["Rampe de lubrification","SVR","304L","316L",{"$f":"$B$72","v":"304L"},null,"904L","U45N"]
["Prix au mètre",432,360,432,{"$f":"IF($B$72=$G$30,G31,H31)","v":632.11764705882342},null,1188,{"$f":"(((G31-D31)/($E$1-$D$1))*$J$1)+(G31-((G31-D31)/($E$1-$D$1))*$E$1)","v":632.11764705882342}]
[null,0,0.5,0.5,0.5,null,0.5]
["Tension de courroies","SVR","304L","316L",{"$f":"$B$72","v":"304L"},null,"904L"]
[null,500,420,500,{"$f":"IF($B$72=$G$30,G34,H34)","v":731.61764705882342},null,1375,{"$f":"(((G34-D34)/($E$1-$D$1))*$J$1)+(G34-((G34-D34)/($E$1-$D$1))*$E$1)","v":731.61764705882342}]
[]
["Barrage interne","SVR","304L","316L",{"$f":"$B$72","v":"304L"},null,"904L"]
[null,300,250,250,{"$f":"IF($B$72=$G$30,G37,H37)","v":263.23529411764707},null,300,{"$f":"(((G37-D37)/($E$1-$D$1))*$J$1)+(G37-((G37-D37)/($E$1-$D$1))*$E$1)","v":263.23529411764707}]
[]
["Outillage de barrage","SVR","304L","316L",{"$f":"$B$72","v":"304L"},null,"904L"]
[null,775,775,775,{"$f":"IF($B$72=$G$30,G40,H40)","v":775},null,775,{"$f":"(((G40-D40)/($E$1-$D$1))*$J$1)+(G40-((G40-D40)/($E$1-$D$1))*$E$1)","v":775}]
[]
["Courroies",55]
[]
["Piquages",40,50,65,80,100,125,150]
["SVR",100,200,250,280,320,380,450]
["304L",227,270,334,382,446,790,939]
["316L",244,291,368,420,497,893,1020,"U45N",{"$f":"(B47/$H$1)*$J$1","v":348.57142857142856},415.71428571428572,525.71428571428578,600,710,1275.7142857142858,1457.1428571428571]
[{"$f":"B72","v":"304L"},{"$f":"IF($A$48=$I$48,J48,J47)","v":348.57142857142856},415.71428571428572,525.71428571428578,600,710,1275.7142857142858,1457.1428571428571,"904L",460,582,722,850,1168,2044,2335,null,null,null,null,null,null,null,null,null,null,null,null,null,"904L"]
[null,1.5,1.5,1.5,2,2,2.5,2.5,null,null,null,null,null,null,null,null,null,null,null,null,null,null,null,null,null,null,null,null,null,"U45N40","U45N50","U45N65","U45N80","U45N100","U45N125","U45N150"]
["Tuyauteries de liaison","SVR40","SVR50","SVR65","SVR80","SVR100","SVR125","SVR150","304L40","304L50","304L65","304L80","304L100","304L125","304L150","316L40","316L50","316L65","316L80","316L100","316L125","316L150",{"$f":"IF($B$72=$AD$48,AD50,AD49)","v":"U45N40"},{"$f":"IF($B$72=$AD$48,AE50,AE49)","v":"U45N50"},"U45N65","U45N80","U45N100","U45N125","U45N150","904L40","904L50","904L65","904L80","904L100","904L125","904L150"]
[250,342,461,590,732,"-","-","-",155,175,231,270,"-","-","-",166,191,258,315,"-","-","-",{"$f":"IF($B$72=$AD$48,AD51,AD51/55*30)","v":182.18181818181816},{"$f":"IF($B$72=$AD$48,AE51,AE51/55*30)","v":226.36363636363637},{"$f":"IF($B$72=$AD$48,AF51,AF51/55*30)","v":286.36363636363637},{"$f":"IF($B$72=$AD$48,AG51,AG51/55*30)","v":361.63636363636363},"-","-","-",334,415,525,663,"-","-","-"]
[500,342,461,590,732,"-","-","-",163,186,245,287,408,828,"-",175,204,274,337,469,959,1115,{"$f":"IF($B$72=$AD$48,AD52,AD52/55*30)","v":195.27272727272725},{"$f":"IF($B$72=$AD$48,AE52,AE52/55*30)","v":245.45454545454544},{"$f":"IF($B$72=$AD$48,AF52,AF52/55*30)","v":310.90909090909088},396,706.36363636363637,1276.909090909091,1476,358,450,570,726,1295,2341,2706]
[750,342,461,590,732,"-","-","-",170,197,258,304,408,828,"-",183,217,290,358,469,959,1115,{"$f":"IF($B$72=$AD$48,AD53,AD53/55*30)","v":208.36363636363637},{"$f":"IF($B$72=$AD$48,AE53,AE53/55*30)","v":264.54545454545456},335.45454545454544,429.81818181818187,706.36363636363637,1276.909090909091,1476,382,485,615,788,1295,2341,2706]
[1000,342,461,590,732,1625,1885,2000,177,208,272,320,408,828,1008,null,null,306,380,469,959,1115,null,null,360,464.18181818181819,{"$f":"IF($B$72=$AD$48,AH54,AH54/55*30)","v":706.36363636363637},{"$f":"IF($B$72=$AD$48,AI54,AI54/55*30)","v":1276.909090909091},{"$f":"IF($B$72=$AD$48,AJ54,AJ54/55*30)","v":1476},null,null,660,851,1295,2341,2706]
[1250,"-","-",603,758,1676,1949,2070,"-","-",286,337,431,871,1062,"-","-",322,401,496,1014,1180,"-","-",384.54545454545456,498.00000000000006,756,1358.7272727272727,1574.7272727272727,"-","-",705,913,1386,2491,2887]
[1500,"-","-",616,784,1727.5,2013.5,2140,"-","-",300,354,453,914,1116,"-","-",355,423,523,1069,1256,"-","-",409.09090909090912,532.36363636363637,806.18181818181813,1441.0909090909092,1674,"-","-",750,976,1478,2642,3069]
[2000,"-","-",642,836,1830,2142,2280,"-","-",327,387,498,1000,1225,"-","-",388,466,577,1178,1376,"-","-",458.18181818181819,600.54545454545462,905.4545454545455,1522.909090909091,1871.4545454545455,"-","-",840,1101,1660,2792,3431]
[2500,"-","-",668,888,1932.5,2270.5,2420,"-","-",355,421,543,1086,1334,"-","-",420,509,631,1288,1507,"-","-",507.27272727272731,668.72727272727263,1005.2727272727273,1687.6363636363637,2069.4545454545455,"-","-",930,1226,1843,3094,3794]
[3000,"-","-",694,940,2035,2400,2560,"-","-",382,480,588,1172,1443,"-","-",453,552,685,1397,1637,"-","-",556.36363636363637,736.90909090909088,1104.5454545454545,1851.8181818181818,2266.909090909091,"-","-",1020,1351,2025,3395,4156]
[4000,"-","-",746,1044,2240,2656,2840,"-","-",437,546,678,1344,1660,"-","-",518,638,793,1616,1898,"-","-",654.5454545454545,873.27272727272725,1303.6363636363635,2180.7272727272725,2662.3636363636365,"-","-",1200,1601,2390,3998,4881]
[4200,"-","-",759,1070,2281,2708,2896,"-","-",448,560,696,1379,1704,"-","-",531,655,815,1660,1950,"-","-",674.18181818181813,900.54545454545462,1343.4545454545455,2246.181818181818,2741.454545454545,"-","-",1236,1651,2463,4118,5026]
[null,0,0,0,0,0,0,0,2,2,2.5,2.5,2.8,3,3,2,2,2.5,2.5,2.8,3,3,2,2,2.5,2.5,2.8,3,3,2,2,2.5,2.5,2.8,3,3]
[]
["Longueur boite à vide",{"$f":"B66*2+B67*2.5+B68*3+B69*3.5+B70*4","v":4}]
["Largeur",{"$f":"'Série 2'!B5","v":500},null,null,"USVR","110304L","110316L","110904L","110SVR","140304L","140316L","140904L","110U45N","140U45N"]
[2000,{"$f":"'Série 2'!B11","v":2},null,2000,32.200000000000003,20,20,20,15,20,20,20,20,20]
[2500,{"$f":"'Série 2'!B12","v":0},null,2500,38.450000000000003,20,20,20,15,20,20,20,20,20]
[3000,{"$f":"'Série 2'!B13","v":0},null,3000,44.45,20,20,20,16,20,20,20,20,20]
[3500,{"$f":"'Série 2'!B9+'Série 2'!B14","v":0},null,3500,52.2,20,20,20,17,20,20,20,20,20]
[null,null,null,4000,0,0,0,0,18,20,20,20,null,20]
["Boite à vide 140: Section",{"$f":"'Série 2'!B46","v":110}]
["Boite à vide 140: Matière",{"$f":"'Série 2'!B47","v":"304L"}]
["Supportage: Matière",{"$f":"'Série 2'!B48","v":"304L"}]
["Boite à vide 140: DN Piquages",{"$f":"'Série 2'!B49","v":65}]
["Boite à vide 140: Nombre de piquages",{"$f":"'Série 2'!B50","v":4}]
["Boite à vide 140: Nombre de barrages internes",{"$f":"'Série 2'!B51","v":3}]
[]
["Corps de Boite à vide",{"$f":"((HLOOKUP(B71&B72,A2:K7,2,0))*B66)+((HLOOKUP(B71&B72,A2:K7,3,0))*B67)+((HLOOKUP(B71&B72,A2:K7,4,0))*B68)+((HLOOKUP(B71&B72,A2:K7,5,0))*B69)+((HLOOKUP(B71&B72,A2:K7,6,0))*B70)","v":3160},{"$f":"((HLOOKUP(B71&B72,E65:N70,2,0))*B66)+((HLOOKUP(B71&B72,E65:N70,3,0))*B67)+((HLOOKUP(B71&B72,E65:N70,4,0))*B68)+((HLOOKUP(B71&B72,E65:N70,5,0))*B69)+((HLOOKUP(B71&B72,E65:N70,6,0))*B70)","v":40}]
["Berceau",{"$f":"(LOOKUP(B73,B9:E9,B10:E10))*((B66+B67+B68+B69+B70)+1)","v":2730},{"$f":"((B66+B67+B68+B69+B70)+1)*8.2","v":24.599999999999998}]
["Entrée et sortie",{"$f":"INDEX(A12:F15,MATCH(B71,A13:A15,0)+1,MATCH(B72,B12:F12,0)+1)","v":1764},27.25]
["Déflecteur + Goulotte",{"$f":"INDEX(A17:E28,MATCH(B65,A18:A28,0)+1,MATCH(B72,B17:E17,0)+1)","v":0},{"$f":"VLOOKUP(B65,A18:F28,6,0)","v":0}]
["Rampe de lubrification",{"$f":"(HLOOKUP(B72,B30:E31,2,0))*B64","v":1440},{"$f":"(HLOOKUP(B73,B30:E32,3,0))*B64","v":2}]
["Tension de courroies",{"$f":"(HLOOKUP(B72,B33:E34,2,0))*(LOOKUP(B64,D83:D88,E83:E88))","v":420},{"$f":"0.5*(LOOKUP(B64,D83:D88,E83:E88))","v":0.5},0,1]
["Barrage interne",{"$f":"(HLOOKUP(B72,B36:E37,2,0))*B76","v":750},{"$f":"B76*8","v":24},15,2]
["Outillage de barrage",{"$f":"IF(B76>0,B40,\"\")","v":775},null,20,2]
["Courroies",{"$f":"(((2*B64)+2.51)*2)*B42","v":1156.0999999999999},5,25,4]
["Piquages",{"$f":"(INDEX(A44:H48,MATCH(B72,A45:A48,0)+1,MATCH(B74,B44:H44,0)+1))*B75","v":1336},{"$f":"(HLOOKUP(B74,B44:H49,6,0))*B75","v":6},30,4]
["Tuyauteries de liaison",{"$f":"(INDEX(A50:AC61,MATCH(B65,A51:A61,0)+1,MATCH(B72&B74,B50:AC50,0)+1))*B75","v":980},{"$f":"(HLOOKUP(B72&B74,B50:AC62,13,0))*B75","v":10},40,6]
["TOTAL:",{"$f":"SUM(B78:B88)","v":14511.1},{"$f":"SUM(C78:C88)","v":139.35}]
[]
["Négoce"]
[0,1000]
[1250,2500]

{"sheet":"Toile2","index":30,"n_rows":21,"n_cols":5,"rows_kept":21,"cut":false,"hidden":true,"merged":[]}
[]
[null,null,null,null,"TOILE FILTRANTE"]
[]
[null,"Longueur boite à vide :",{"$f":"'B. à V.2'!B64","v":4}]
[null,"Largeur :",{"$f":"'Série 2'!B5","v":500}]
[null,"Hauteur talons :",{"$f":"'Série 2'!B19","v":70}]
[null,"Longueur toile :",{"$f":"(LOOKUP(C5,A12:A21,B12:B21))+(C4*2)","v":18.399999999999999}]
[null,"Largeur toile :",{"$f":"((LOOKUP(C6,D13:D14,E13:E14))+C5)*0.001","v":0.70000000000000007}]
[null,"Prix / m2 :",200]
[null,"Prix total :",{"$f":"C7*C8*C9","v":2576}]
[]
[250,10.4]
[500,10.4,null,70,200]
[750,10.4,null,120,300]
[1000,10.4]
[1500,15.25]
[2000,15.25]
[2500,16.3]
[3000,16.3]
[4000,17]
[4200,17]

{"sheet":"Tabl","index":31,"n_rows":90,"n_cols":16,"rows_kept":90,"cut":false,"hidden":true,"merged":[]}
["NEGOCE TABLE",null,null,"CORRECTION PRIX MATIERE",null,{"$f":"'Séries 3-4-5'!B14","v":"304L"}]
[null,null,null,null,"E24",{"$f":"'Séries 3-4-5'!F26","v":0.76}]
[null,null,"Surface filtre",{"$f":"'Séries 3-4-5'!B4","v":2},"304L",{"$f":"'Séries 3-4-5'!F27","v":2.2000000000000002}]
[null,null,"Largeur",{"$f":"'Séries 3-4-5'!B3","v":500},"316L",{"$f":"'Séries 3-4-5'!F29","v":2.9}]
[null,null,"Longueur de boite à vide",{"$f":"(D3/D4)/0.001","v":4},"904L",{"$f":"'Séries 3-4-5'!F32","v":7.6}]
[null,null,"Type de courroies",{"$f":"'Séries 3-4-5'!B15","v":"50X5"},"U45N",{"$f":"'Séries 3-4-5'!F31","v":4}]
[null,null,null,null,null,{"$f":"IF(F1=E2,1,IF(F1=E3,1,IF(F1=E4,F4/F3,IF(F1=E5,F5/F3,IF(F1=E6,F6/F3,\"?\")))))","v":1},{"$f":"IF(F1=E2,F2/F3*1.2,IF(F1=E3,1,IF(F1=E4,F4/F3,IF(F1=E5,F5/F3,IF(F1=E6,F6/F3,\"?\")))))","v":1},"pour E24, une partie rest en 304L"]
[null,null,null,null,null,{"$f":"IF(F1=E2,E3,IF(F1=E3,E3,IF(F1=E4,E4,IF(F1=E5,E5,IF(F1=E6,E6,\"?\")))))","v":"304L"},{"$f":"IF(F1=E2,E2,IF(F1=E3,E3,IF(F1=E4,E4,IF(F1=E5,E5,IF(F1=E6,E6,\"?\")))))","v":"304L"}]
["Réglette"]
["Taquet de fixation"]
["Roue d'extrémité"]
["Entretoise de roue"]
["Galet de retour"]
["Entretoise de galet"]
["Courroies"]
["Chape tendeur"]
["Support galet"]
["Axes de roue"]
["TOTAL"]
["MO"]
[250,2,null,"DUNL",100,35]
[500,4,null,"ALIAS",100,86]
[750,4,null,"30X7",100,27]
[1000,4,null,"40X7",135,46.3]
[1250,6,null,"50X5",150,110]
[1500,6]
[2000,8]
[2250,8]
[2500,8]
[3000,10,null,null,null,null,null,null,"TIENT COMPTE DE LA MATIERE MARS 2006"]
[4000,12]
[4200,14,null,null,null,"BASE COST",null,null,{"$f":"\"base \"&F1","v":"base 304L"},null,null,"base 304L","Total paint","m² peinture","poids peint","poids"]
[" REV","REP","QTE","REP ARTICLE","DESIGNATION","MATIERE","POIDS","Matiere","Prix Unitaire","Prix total",null,"Prix Unitaire",null,13]
["  ",1,{"$f":"(LOOKUP(D4,A21:A32,B21:B32))","v":4},"20 085-A        ","CHAPE TENDEUR                                     ",{"$f":"$G$8","v":"304L"},8,"               ",{"$f":"L34*K34","v":28.3},{"$f":"I34*C34","v":113.2},{"$f":"$G$7","v":1},28.3,{"$f":"IF($F$1=$E$2,N34*C34,0)","v":0},0.5,{"$f":"IF(M34>0,G34*C34,0)","v":0},{"$f":"C34*G34","v":32}]
["  ",2,{"$f":"(LOOKUP(D4,A21:A32,B21:B32))","v":4},"20 086-A        ","CHAPE TENDEUR                                     ",{"$f":"$G$8","v":"304L"},8,"               ",{"$f":"L35*K35","v":28.3},113.2,{"$f":"$G$7","v":1},28.3,{"$f":"IF($F$1=$E$2,N35*C35,0)","v":0},0.5,{"$f":"IF(M35>0,G35*C35,0)","v":0},{"$f":"C35*G35","v":32}]
["  ",5,{"$f":"IF('Séries 3-4-5'!C5>20.1,(LOOKUP(D4,A21:A32,B21:B32))*3,(LOOKUP(D4,A21:A32,B21:B32))*2)","v":8},"20 089-A        ","ROUE                                              ","PEHD 1000",2,"               ",{"$f":"L36*K36","v":19.7},157.6,1,19.7,{"$f":"IF($F$1=$E$2,N36*C36,0)","v":0},null,0,{"$f":"C36*G36","v":16}]
["  ",6,{"$f":"IF('Séries 3-4-5'!C5>20.1,(LOOKUP(D4,A21:A32,B21:B32)),(0))","v":0},"20 090-A        ","ROUE DE SORTIE                                    ","PEHD 1000",2,"               ",14.6,0,1,14.6,0,null,0,{"$f":"C37*G37","v":0}]
["  ",7,{"$f":"C36+C37","v":8},"20 091-A        ","ENTRETOISE DE ROUE                                ",{"$f":"$F$8","v":"304L"},"      .","               ",2.02,16.16,{"$f":"$F$7","v":1},2.02,0,null,0]
["  ",10,{"$f":"SUM(C55:C60)*2","v":{"$error":"#N/A"}},"20 092-A        ","GALET DE RENVOI                                   ","PEHD 1000","      .","               ",2.65,{"$error":"#N/A"},1,2.65,0,null,0]
["  ",11,{"$f":"C39","v":{"$error":"#N/A"}},"20 093-A        ","ENTRETOISE DE GALET                               ",{"$f":"$F$8","v":"304L"},"      .","               ",1.8,{"$error":"#N/A"},{"$f":"$F$7","v":1},1.8,0,null,0]
["  ",12,{"$f":"C39","v":{"$error":"#N/A"}},"15 267-B        ","SUPPORT DE GALET DE RENVOI                        ",{"$f":"$F$8","v":"304L"},"      .","               ",2,{"$error":"#N/A"},{"$f":"$F$7","v":1},2,0,null,0]
["  ",15,{"$f":"IF('Séries 3-4-5'!C5>20.1,(LOOKUP(D4,A21:A32,B21:B32)),(0))","v":0},"20 094-A        ","FER SUPPORT TENDEUR                               ",{"$f":"$G$8","v":"304L"},21,null,80,0,{"$f":"$G$7","v":1},80,0,0.5,0,{"$f":"C42*G42","v":0}]
["  ",16,{"$f":"IF('Séries 3-4-5'!C5>20.1,(LOOKUP(D4,A21:A32,B21:B32)),(0))","v":0},"20 095-A        ","CHAPE FEMELLE                                     ",{"$f":"$G$8","v":"304L"},1,"               ",7,0,{"$f":"$G$7","v":1},7,0,0.5,0,{"$f":"C43*G43","v":0}]
["  ",17,{"$f":"IF('Séries 3-4-5'!C5>20.1,(LOOKUP(D4,A21:A32,B21:B32)),(0))","v":0},"20 096-A        ","BRAS TENDEUR                                      ",{"$f":"$G$8","v":"304L"},3,null,31.5,0,{"$f":"$G$7","v":1},31.5,0,0.5,0,{"$f":"C44*G44","v":0}]
["  ",18,{"$f":"IF('Séries 3-4-5'!C5>20.1,(LOOKUP(D4,A21:A32,B21:B32)*3),(0))","v":0},"20 097-A        ","CONTRE POIDS                                      ",{"$f":"$G$8","v":"304L"},4,"               ",5.8,0,{"$f":"$G$7","v":1},5.8,0,0.5,0,{"$f":"C45*G45","v":0}]
["  ",19,{"$f":"IF('Séries 3-4-5'!C5>20.1,(LOOKUP(D4,A21:A32,B21:B32)),(0))","v":0},"70 179-A        ","AXE                                               ",{"$f":"$F$8","v":"304L"},1,"               ",1.5,0,{"$f":"$F$7","v":1},1.5,0,null,0,{"$f":"C46*G46","v":0}]
["  ",20,{"$f":"(LOOKUP(D4,A21:A32,B21:B32))","v":4},"70 219-A        ","SUPPORT DE BUSE                                   ","304L","      .","               ",6.95,27.8,1,6.95,0,null,0]
[" B",21,{"$f":"((D5*4)+3)*(LOOKUP(D4,A21:A32,B21:B32))","v":76},"16 806-A        ","TAQUET DE FIXATION                                ","304L","      .","               ",1.1000000000000001,83.600000000000009,1,1.1000000000000001,0,null,0]
[" B",22,{"$f":"IF('Séries 3-4-5'!B83=1,(3),(0))","v":3},"20 098-B        ","RAMPE DE LAVAGE ET DE LUBRIFICATION               ","304L",3,"               ",11.3,33.900000000000006,1,11.3,0,null,0,{"$f":"C49*G49","v":9}]
[" B",23,{"$f":"C49","v":3},"20 099-B        ","RAMPE DE LAVAGE ET DE LUBRIFICATION               ","304L",3,"               ",11.3,33.900000000000006,1,11.3,0,null,0,{"$f":"C50*G50","v":9}]
["  ",26,{"$f":"IF('Séries 3-4-5'!B83=1,(30),(0))","v":30},"20 102-A        ","COUDE DE LIAISON                                  ","304L","      .","               ",3.9,117,1,3.9,0,null,0]
["  ",27,{"$f":"C51","v":30},"16 880-A        ","COLLIER DE SERRAGE DN20                           ","304L","      .","               ",3,90,1,3,0,null,0]
["  ",30,2,"70 217-A        ","TUYAUTERIE D'ALIMENTATION                         ","304L",10,"               ",30,60,1,30,0,null,0,{"$f":"C53*G53","v":20}]
["  ",31,{"$f":"IF('Séries 3-4-5'!B83=1,(4),(0))","v":4},"70 218-A        ","TUYAUTERIE D'ALIMENTATION                         ","304L",10,"               ",31,124,1,31,0,null,0,40]
[" B",40,{"$f":"(LOOKUP(D4,A21:A32,B21:B32))/2","v":2},"19 647-B        ","FER DE GLISSEMENT D'ENTREE                        ",{"$f":"$G$8","v":"304L"},52,"               ",155,310,{"$f":"$G$7","v":1},155,0,1.5,0,104]
[" B",41,{"$f":"C55","v":2},"19 648-B        ","FER DE GLISSEMENT D'ENTREE                        ","304L",52,"               ",155,310,1,155,0,1.5,0,104]
[" B",42,{"$f":"(((SUM('Séries 3-4-5'!B8:B11)*((LOOKUP(D4,A21:A32,B21:B32)))))-(C55+C56+C59+C60))/2","v":{"$error":"#N/A"}},"19 658-B        ","FER DE GLISSEMENT INTERMEDIAIRE                   ","304L",52,"               ",153,{"$error":"#N/A"},1,153,0,1.5,0,{"$error":"#N/A"}]
[" B",43,{"$f":"C57","v":{"$error":"#N/A"}},"19 659-B        ","FER DE GLISSEMENT INTERMEDIAIRE                   ","304L",52,"               ",153,{"$error":"#N/A"},1,153,0,1.5,0,{"$error":"#N/A"}]
[" B",58,{"$f":"C55","v":2},"19 649-B        ","FER DE GLISSEMENT DE SORTIE                       ","304L",52,"               ",155,310,1,155,0,1.5,0,104]
[" B",59,{"$f":"C55","v":2},"19 650-B        ","FER DE GLISSEMENT DE SORTIE                       ","304L",52,"               ",155,310,1,155,0,1.5,0,104]
[" B",60,{"$f":"((ROUNDUP(D5/2,0))*(LOOKUP(D4,A21:A32,B21:B32)))-(C62+C63+C64)","v":-8},"20 126-A        ","REGLETTE DE GLISSEMENT (LG.2000)                  ","PEHDS",2,"               ",12.9,-103.2,1,12.9,{"$f":"IF($F$1=$E$2,N61*C61,0)","v":0},null,0,-16]
[" B",61,{"$f":"(LOOKUP(D4,A21:A32,B21:B32))","v":4},"20 127-B        ","REGLETTE DE GLISSEMENT (LG.500)                   ","PEHDS",1,"               ",12.9,51.6,1,12.9,{"$f":"IF($F$1=$E$2,N62*C62,0)","v":0},null,0,4]
["  ",65,{"$f":"(LOOKUP(D4,A21:A32,B21:B32))*1.5","v":6},"20 128-A        ","REGLETTE DE GLISSEMENT LUBRIFIEE (LG.2000)        ","PEHDS",2,"               ",14.3,85.800000000000011,1,14.3,{"$f":"IF($F$1=$E$2,N63*C63,0)","v":0},null,0,12]
["  ",66,{"$f":"C63","v":6},"20 129-A        ","REGLETTE DE GLISSEMENT LUBRIFIEE (LG.2000)        ","PEHDS",2,"               ",14.3,85.800000000000011,1,14.3,0,null,{"$f":"IF(M64>0,G64*C64,0)","v":0},12]
["  ",500,{"$f":"(LOOKUP(D4,A21:A32,B21:B32))","v":4},{"$f":"(D5*2)+3.15","v":11.15},"COURROIE PLATE 50X5","                ","       ",55,3.5,{"$f":"((D65*I65)+H65)*C65","v":376.1},1,3.5,0,null,0]
["  ",501,{"$f":"(LOOKUP(D4,A21:A32,B21:B32))","v":4},"                ","BUSES REF. 1/4 CM01 65 PVDF                       ","PVDF            ","       ",null,3,{"$f":"I66*C66","v":12},1,3,0,null,0]
["  ",502,{"$f":"(LOOKUP(D4,A21:A32,B21:B32))","v":4},"                ","COUDE LONG MALE REF.1A0210.32 DN4/6 NPT1/4\" PP    ","PP              ","       ",null,2.2000000000000002,8.8000000000000007,1,2.2000000000000002,0,null,0]
["  ",503,40,"                ","RACCORD S.M REF.1A0100.32 DN4/6 NPT1/4\" PP        ","PP              ","       ",null,1.6,64,1,1.6,0,null,0]
["  ",504,30,"                ","RACCORD DROIT REF.1A0100.20 DN4/6 D6 PP           ","PP              ","       ",null,1.65,49.5,1,1.65,0,null,0]
["  ",505,25,"                ","TUYAU SOUPLE DN4/6  LG.25M                        ","PE              ","       ",null,0.4,10,1,0.4,{"$f":"IF($F$1=$E$2,N70*C70,0)","v":0},null,0]
["  ",506,20,"                ","COLLIER \"LE NORDET\" DIA.36/39 REF. HA365036       ",316,"       ",null,3,60,1,3,{"$f":"IF($F$1=$E$2,N71*C71,0)","v":0},null,0]
["  ",507,20,"                ","TUYAU \"BERGADUC\" DIA.25/35 LG.20M                 ","EPDM NOIR","       ",null,5,100,1,5,{"$f":"IF($F$1=$E$2,N72*C72,0)","v":0},null,0]
["  ",508,8,"                ","RACCORD UNION F-F MODELE 5116  DIA.3/4\" NPT       ","316 L           ","       ",null,9.11,72.88,1,9.11,0,null,0]
[" B",820,1480,"                ","RONDELLE M 6 N                                    ",{"$f":"$F$8","v":"304L"},"       ","               ",0.01,14.8,{"$f":"$F$7","v":1},0.01,0,null,0]
[" B",821,1480,"                ","ECROU H, M6                                       ","304L","       ","               ",0.01,14.8,1,0.01,0,null,0]
["  ",840,70,"                ","RONDELLE M 10 N                                   ","304L","       ","               ",0.02,1.4000000000000001,1,0.02,0,null,0]
["  ",841,35,"                ","ECROU H, M10                                      ","304L","       ","               ",0.05,1.75,1,0.05,0,null,0]
["  ",842,35,"                ","VIS H, M10-30                                     ","304L","       ","               ",0.1,3.5,1,0.1,0,null,0]
["  ",850,1040,"                ","RONDELLE M 12 N                                   ","304L","       ","               ",0.04,41.6,1,0.04,0,null,0]
["  ",851,520,"                ","ECROU H, M12                                      ","304L","       ","               ",7.0000000000000007E-2,36.400000000000006,1,7.0000000000000007E-2,0,null,0]
["  ",852,320,"                ","VIS H, M12-30                                     ","304L","       ","               ",0.17,54.400000000000006,1,0.17,0,null,0]
["  ",853,200,"                ","VIS H, M12-110                                    ","304L","       ","               ",0.6,120,1,0.6,0,null,0]
["  ",870,170,"                ","RONDELLE M 16 N                                   ","304L","       ","               ",7.0000000000000007E-2,11.9,1,7.0000000000000007E-2,0,null,0]
["  ",871,50,"                ","ECROU H, M16                                      ","304L","       ","               ",0.13,6.5,1,0.13,0,null,0]
["  ",872,40,"                ","VIS H, M16-120                                    ","304L","       ","               ",1,40,1,1,0,null,0]
["  ",950,24,"                ","GOUPILLE CYLINDRIQUE FENDUE V5-28                 ","304L","       ","               ",0.1,2.4000000000000004,1,0.1,0,null,0]
[null,700,{"$f":"IF('Séries 3-4-5'!C5>20.1,(2),(0))","v":0},null,"DEBITMETRE",316,null,null,200,0,1,200,0,null,0,{"$f":"C87*G87","v":0}]
["  ","    ","    ","                ","TOTAL","                ","       ","               ","Mat",{"$f":"SUM(J34:J87)","v":{"$error":"#N/A"}},{"$f":"J34+J35+J42+J43+J44+J45+J46+J47+J49+J50+J51+J53+J54+J55+J56+J57+J58+J59+J60","v":{"$error":"#N/A"}},null,{"$f":"SUM(M34:M87)*N33","v":0},null,{"$f":"SUM(O34:O87)","v":0},{"$f":"SUM(P34:P87)","v":{"$error":"#N/A"}}]
[null,null,null,null,"MO : ",null,null,null,"MO",{"$f":"SUM(C55:C60)*0.5 + SUM(C55:C56)*3","v":{"$error":"#N/A"}},{"$f":"SUM(J36:J41)+SUM(J61:J87)+J48+J52","v":{"$error":"#N/A"}},null,{"$f":"O88*2/60","v":0}]
[null,null,null,null,null,null,null,null,null,{"$f":"K88+K89","v":{"$error":"#N/A"}},null,null,null,"peinture ajouté linge peinture locale"]

{"sheet":"B. à V.","index":32,"n_rows":91,"n_cols":36,"rows_kept":91,"cut":false,"hidden":true,"merged":[]}
["BOITE A VIDE"]
[null,"140SVR","140304L","140316L","140U45N","140904L",null,"170304L","170316L","170U45N","170904L"]
[2000]
[2500]
[3000,8130,{"$f":"3050*1.3","v":3965},{"$f":"3250*1.3","v":4225},{"$f":"D5*1.37","v":5788.25},{"$f":"6105*1.3","v":7936.5},null,{"$f":"C5*1.33","v":5273.4500000000007},5619.25,7698.3725000000004,10555.545]
[3500,9291,{"$f":"3230*1.3","v":4199},{"$f":"3470*1.3","v":4511},{"$f":"D6*1.37","v":6180.0700000000006},{"$f":"6675*1.3","v":8677.5},null,5584.67,5999.63,8219.4931000000015,11541.075000000001]
[4000,10843,{"$f":"3400*1.3","v":4420},{"$f":"3650*1.3","v":4745},{"$f":"D7*1.37","v":6500.6500000000005},{"$f":"7176*1.3","v":9328.8000000000011},null,5878.6,6310.85,8645.8645000000015,12407.304000000002]
[]
["Berceau","304L","316L","U45N","904L"]
[null,{"$f":"910*1.3","v":1183},{"$f":"1090*1.3","v":1417},{"$f":"C10*1.37","v":1941.2900000000002},{"$f":"2050*1.3","v":2665}]
[]
["Entrée et sortie","SVR","304L","316L","U45N","904L"]
[]
[170,null,{"$f":"C15*1.33","v":3049.9560000000006},{"$f":"D15*1.33","v":3247.0620000000004},{"$f":"E15*1.33","v":4448.474940000001},{"$f":"F15*1.33","v":4815.2650000000003}]
[140,{"$f":"1878*1.3","v":2441.4},{"$f":"1764*1.3","v":2293.2000000000003},{"$f":"1878*1.3","v":2441.4},{"$f":"D15*1.37","v":3344.7180000000003},{"$f":"2785*1.3","v":3620.5}]
[]
["Déflecteur + Goulotte","SVR","304L","316L","U45N","904L","MO"]
[250,0,0,0,{"$f":"F18*0.54","v":0},0,0]
[500,0,0,0,{"$f":"F19*0.54","v":0},0,0]
[750,0,0,0,0,0,0]
[1000,0,0,0,0,0,0]
[1250,2120,433,500,693.90000000000009,1285,10]
[1500,2544,505,583,810,1500,12]
[2000,3392,650,752,1042.2,1930,12]
[2500,4240,800,921,1274.4000000000001,2360,12]
[3000,5088,941,1089,1506.6000000000001,2790,12]
[4000,6784,1235,1430,1971.0000000000002,3650,14]
[4200,7125,1292,1495,2063.88,3822,14]
[]
["Rampe de lubrification","SVR","304L","316L","U45N","904L"]
["Prix au mètre",432,360,432,{"$f":"F31*0.54","v":641.5200000000001},1188]
[null,0,0.5,0.5,0.5,0.5]
["Tension de courroies","SVR","304L","316L","U45N","904L"]
[null,{"$f":"500*1.3","v":650},{"$f":"420*1.3","v":546},{"$f":"500*1.3","v":650},{"$f":"F34*0.54","v":965.25000000000011},{"$f":"1375*1.3","v":1787.5}]
[]
["Barrage interne","SVR","304L","316L","U45N","904L"]
[null,300,250,250,300,300]
[]
["Outillage de barrage","SVR","304L","316L","U45N","904L"]
[null,775,775,775,775,775]
[]
["Courroies",55]
[]
["Piquages",40,50,65,80,100,125,150]
["SVR",100,200,250,280,320,380,450]
["304L",227,270,334,382,446,790,939]
["316L",244,291,368,420,497,893,1020]
["U45N",{"$f":"B47*1.37","v":334.28000000000003},{"$f":"C47*1.37","v":398.67},504.16,575.40000000000009,680.8900000000001,1223.4100000000001,1397.4]
["904L",460,582,722,850,1168,2044,2335]
[null,1.5,1.5,1.5,2,2,2.5,2.5]
["Tuyauteries de liaison","SVR40","SVR50","SVR65","SVR80","SVR100","SVR125","SVR150","304L40","304L50","304L65","304L80","304L100","304L125","304L150","316L40","316L50","316L65","316L80","316L100","316L125","316L150","U45N40","U45N50","U45N65","U45N80","U45N100","U45N125","U45N150","904L40","904L50","904L65","904L80","904L100","904L125","904L150"]
[250,342,461,590,732,"-","-","-",155,175,231,270,"-","-","-",166,191,258,315,"-","-","-",{"$f":"P52*1.37","v":227.42000000000002},{"$f":"Q52*1.37","v":261.67},353.46000000000004,431.55,"-","-","-",334,415,525,663,"-","-","-"]
[500,342,461,590,732,"-","-","-",163,186,245,287,"-","-","-",175,204,274,337,"-","-","-",{"$f":"P53*1.37","v":239.75000000000003},279.48,375.38000000000005,461.69000000000005,"-","-","-",358,450,570,726,"-","-","-"]
[750,342,461,590,732,"-","-","-",170,197,258,304,"-","-","-",183,217,290,358,"-","-","-",{"$f":"P54*1.37","v":250.71},297.29000000000002,397.3,490.46000000000004,"-","-","-",382,485,615,788,"-","-","-"]
[1000,342,461,590,732,1625,1885,2000,177,208,272,320,408,828,1008,null,null,306,380,469,959,1115,null,null,{"$f":"R55*1.37","v":419.22},{"$f":"S55*1.37","v":520.6},{"$f":"T55*1.37","v":642.53000000000009},{"$f":"U55*1.37","v":1313.8300000000002},{"$f":"V55*1.37","v":1527.5500000000002},null,null,660,851,1295,2341,2706]
[1250,"-","-",603,758,1676,1949,2070,"-","-",286,337,431,871,1062,"-","-",322,401,496,1014,1180,"-","-",441.14000000000004,549.37,679.5200000000001,1389.18,1616.6000000000001,"-","-",705,913,1386,2491,2887]
[1500,"-","-",616,784,1727.5,2013.5,2140,"-","-",300,354,453,914,1116,"-","-",355,423,523,1069,1256,"-","-",486.35,579.51,716.5100000000001,1464.5300000000002,1720.72,"-","-",750,976,1478,2642,3069]
[2000,"-","-",642,836,1830,2142,2280,"-","-",327,387,498,1000,1225,"-","-",388,466,577,1178,1376,"-","-",531.56000000000006,638.42000000000007,790.49,1613.8600000000001,1885.1200000000001,"-","-",840,1101,1660,2792,3431]
[2500,"-","-",668,888,1932.5,2270.5,2420,"-","-",355,421,543,1086,1334,"-","-",420,509,631,1288,1507,"-","-",575.40000000000009,697.33,864.47,1764.5600000000002,2064.59,"-","-",930,1226,1843,3094,3794]
[3000,"-","-",694,940,2035,2400,2560,"-","-",382,480,588,1172,1443,"-","-",453,552,685,1397,1637,"-","-",620.61,756.24,938.45,1913.89,2242.69,"-","-",1020,1351,2025,3395,4156]
[4000,"-","-",746,1044,2240,2656,2840,"-","-",437,546,678,1344,1660,"-","-",518,638,793,1616,1898,"-","-",709.66000000000008,874.06000000000006,1086.4100000000001,2213.92,2600.2600000000002,"-","-",1200,1601,2390,3998,4881]
[4200,"-","-",759,1070,2281,2708,2896,"-","-",448,560,696,1379,1704,"-","-",531,655,815,1660,1950,"-","-",727.47,897.35,1116.5500000000002,2274.2000000000003,2671.5,"-","-",1236,1651,2463,4118,5026]
[null,0,0,0,0,0,0,0,2,2,2.5,2.5,2.8,3,3,2,2,2.5,2.5,2.8,3,3,2,2,2.5,2.5,2.8,3,3,2,2,2.5,2.5,2.8,3,3]
[]
["Longueur boite à vide",{"$f":"B67*3.5+B68*4","v":{"$error":"#N/A"}}]
["Largeur",{"$f":"'Séries 3-4-5'!B3","v":500},null,null,"USVR","110304L","110316L","110904L","140SVR","140304L","140316L","140U45N","140904L","170304L","170316L","170U45N","170904L"]
[3500,{"$f":"'Séries 3-4-5'!B10","v":{"$error":"#N/A"}},null,3500,52.2,10,10,10,17,10,10,10,10,10,10,10,10]
[4000,{"$f":"'Séries 3-4-5'!B11","v":{"$error":"#N/A"}},null,4000,0,0,0,0,18,10,10,10,10,10,10,10,10]
["Boite à vide 140: Section",{"$f":"'Séries 3-4-5'!B46","v":140}]
["Boite à vide 140: Matière",{"$f":"'Séries 3-4-5'!B47","v":"304L"}]
["Supportage: Matière",{"$f":"'Séries 3-4-5'!B48","v":"304L"}]
["Boite à vide 140: DN Piquages",{"$f":"'Séries 3-4-5'!B49","v":65}]
["Boite à vide 140: Nombre de piquages",{"$f":"'Séries 3-4-5'!B50","v":4}]
["Boite à vide 140: Nombre de barrages internes",{"$f":"'Séries 3-4-5'!B51","v":3}]
[null,"Mat","Heure"]
["Corps de Boite à vide",{"$f":"((HLOOKUP(B69&B70,A2:K7,5,0))*B67)+((HLOOKUP(B69&B70,A2:K7,6,0))*B68)","v":{"$error":"#N/A"}},{"$f":"((HLOOKUP(B69&B70,E66:Q68,2,0))*B67)+((HLOOKUP(B69&B70,E66:Q68,3,0))*B68)","v":{"$error":"#N/A"}}]
["Berceau",{"$f":"(HLOOKUP(B71,B9:E10,2,0))*((B67+B68)+1)","v":{"$error":"#N/A"}},{"$f":"((B67+B68)+1)*4","v":{"$error":"#N/A"}},null,null,{"$f":"(HLOOKUP(B71,B9:E10,2,0))","v":1183}]
["Entrée et sortie",{"$f":"INDEX(A12:F15,MATCH(B69,A13:A15,0)+1,MATCH(B70,B12:F12,0)+1)","v":2293.2000000000003},15]
["Déflecteur + Goulotte",{"$f":"INDEX(A17:F28,MATCH(B66,A18:A28,0)+1,MATCH(B70,B17:F17,0)+1)","v":0},{"$f":"VLOOKUP(B66,A18:G28,7,0)","v":0}]
["Rampe de lubrification",{"$f":"(HLOOKUP(B70,B30:F31,2,0))*B65","v":{"$error":"#N/A"}},{"$f":"(HLOOKUP(B71,B30:F32,3,0))*B65","v":{"$error":"#N/A"}}]
["Tension de courroies",{"$f":"(HLOOKUP(B70,B33:F34,2,0))*(LOOKUP(B65,D81:D86,E81:E86))","v":{"$error":"#N/A"}},{"$f":"0.5*(LOOKUP(B65,D81:D86,E81:E86))","v":{"$error":"#N/A"}},0,1]
["Barrage interne",{"$f":"(HLOOKUP(B70,B36:F37,2,0))*B74","v":750},{"$f":"B74*8","v":24},15,2]
["Outillage de barrage",{"$f":"IF(B74>0,B40,\"\")","v":775},null,20,2]
["Courroies",{"$f":"(((2*B65)+2.51)*2)*B42","v":{"$error":"#N/A"}},5,25,4]
["Piquages",{"$f":"(INDEX(A44:H49,MATCH(B70,A45:A49,0)+1,MATCH(B72,B44:H44,0)+1))*B73","v":1336},{"$f":"(HLOOKUP(B72,B44:H50,7,0))*B73","v":6},30,4]
["Tuyauteries de liaison",{"$f":"(INDEX(A51:AJ62,MATCH(B66,A52:A62,0)+1,MATCH(B70&B72,B51:AJ51,0)+1))*B73","v":980},{"$f":"(HLOOKUP(B70&B72,B51:AJ63,13,0))*B73","v":10},40,6]
["TOTAL:",{"$f":"SUM(B76:B86)","v":{"$error":"#N/A"}},{"$f":"SUM(C76:C86)","v":{"$error":"#N/A"}}]
[]
["Négoce"]
[0,1000]
[1250,2500]

{"sheet":"MasterElec","index":33,"n_rows":96,"n_cols":167,"rows_kept":96,"cut":false,"hidden":true,"merged":[[65,1,65,6],[66,18,66,23],[66,28,66,32],[66,36,66,40],[66,45,66,49],[66,53,66,58],[66,143,66,147],[66,152,66,156],[66,161,66,164],[66,63,66,66],[66,71,66,73],[66,78,66,81],[66,86,66,91],[66,97,66,102],[66,107,66,111],[67,63,67,66],[68,31,69,31],[68,32,69,32],[68,33,69,33],[68,34,69,34],[66,116,66,120],[66,125,66,129],[66,134,66,138],[67,71,67,73],[67,78,67,81],[67,86,67,91],[67,97,67,102],[67,161,67,164],[68,19,69,19],[68,24,69,24],[68,25,69,25],[68,28,69,28],[68,30,69,30],[68,116,71,116],[68,117,71,117],[68,118,71,118],[68,119,71,119],[68,121,71,121],[68,122,71,122],[68,47,70,47],[68,48,70,48],[68,49,70,49],[68,50,70,50],[68,51,70,51],[68,53,68,58],[68,153,69,153],[68,154,69,154],[68,155,69,155],[68,156,69,156],[68,157,69,157],[68,158,69,158],[68,144,69,144],[68,145,69,145],[68,146,69,146],[68,147,69,147],[68,148,69,148],[68,149,69,149],[69,90,70,90],[69,91,70,91],[69,92,70,92],[69,93,70,93],[69,2,70,2],[69,5,70,5],[69,6,70,6],[69,7,70,7],[69,8,70,8],[69,87,70,87],[70,33,71,33],[70,34,71,34],[71,2,72,2],[71,5,72,5],[68,38,70,38],[68,39,70,39],[68,40,70,40],[68,41,70,41],[68,42,70,42],[68,45,70,45],[67,2,68,2],[67,5,68,5],[67,6,68,6],[67,7,68,7],[71,6,72,6],[71,7,72,7],[71,8,72,8],[67,8,68,8],[71,98,72,98],[71,99,72,99],[71,100,72,100],[69,103,70,103],[69,104,70,104],[69,105,70,105],[70,19,71,19],[70,24,71,24],[70,25,71,25],[70,28,71,28],[70,30,71,30],[70,31,71,31],[70,32,71,32],[69,94,70,94],[69,98,70,98],[69,99,70,99],[69,100,70,100],[69,101,70,101],[69,102,70,102],[69,88,70,88],[69,89,70,89],[71,101,72,101],[71,102,72,102],[71,103,72,103],[71,104,72,104],[71,105,72,105],[72,19,73,19],[72,24,73,24],[72,25,73,25],[73,98,74,98],[73,99,74,99],[75,2,76,2],[75,5,76,5],[75,6,76,6],[75,7,76,7],[75,8,76,8],[73,100,74,100],[73,101,74,101],[73,102,74,102],[73,103,74,103],[73,2,74,2],[73,5,74,5],[73,6,74,6],[73,7,74,7],[73,8,74,8],[73,36,73,40],[74,19,75,19],[74,24,75,24],[74,25,75,25],[74,38,76,38],[75,104,76,104],[75,105,76,105],[76,19,77,19],[76,24,77,24],[76,25,77,25],[77,38,79,38],[77,39,79,39],[77,40,79,40],[77,41,79,41],[77,42,79,42],[75,98,76,98],[75,99,76,99],[75,100,76,100],[75,101,76,101],[75,102,76,102],[75,103,76,103],[74,39,76,39],[74,40,76,40],[74,41,76,41],[74,42,76,42],[73,104,74,104],[73,105,74,105],[80,38,82,38],[80,39,82,39],[80,40,82,40],[80,41,82,41],[80,42,82,42],[80,53,80,58],[77,104,78,104],[77,105,78,105],[79,98,80,98],[79,99,80,99],[79,100,80,100],[79,101,80,101],[79,102,80,102],[79,103,80,103],[79,104,80,104],[79,105,80,105],[77,98,78,98],[77,99,78,99],[77,100,78,100],[77,101,78,101],[77,102,78,102],[77,103,78,103],[81,105,82,105],[81,102,82,102],[81,103,82,103],[89,53,89,58],[90,54,90,55],[91,54,91,55],[92,63,92,65],[93,63,93,65],[81,98,82,98],[81,99,82,99],[81,100,82,100],[81,101,82,101]]}
["Non modifiable/ Automatique","A modifier si changement"]
[]
[null,null,null,null,null,null,null,null,null,null,null,null,"nbr","puiss (kw)","puiss maxi (kw)"]
[null,null,null,null,null,null,null,null,null,null,null,"Pompe a filtrat 1",{"$f":"'Offre NEW'!H43","v":1},{"$f":"'Offre NEW'!G43","v":2.2000000000000002},{"$f":"IF(N4<=0.75,0.75,IF(N4<=1.1,1.1,IF(N4<=1.5,1.5,IF(64<=2.2,2.2,IF(N4<=3,3,IF(N4<=4,4,IF(N4<=5.5,5.5,IF(N4<=7.5,7.5,IF(N4<=11,11,IF(N4<=15,15,IF(N4<=18.5,18.5,IF(N4<=22,22,IF(N4<=30,30,IF(N4<=37,37,IF(N4<=45,45,IF(N4<=55,55,IF(N4<=75,75,IF(N4<=90,90,IF(N4<=110,110,IF(N4<=132,132,IF(N4<=160,160,\"PBLM\")))))))))))))))))))))","v":3}]
[null,null,null,null,null,null,null,null,null,null,null,"Pompe a filtrat 2",{"$f":"'Offre NEW'!H44","v":1},{"$f":"'Offre NEW'!G44","v":2.2000000000000002},3]
[null,null,null,null,null,null,null,null,null,null,null,"Pompe a filtrat 3",{"$f":"'Offre NEW'!H45","v":1},{"$f":"'Offre NEW'!G45","v":2.2000000000000002},3]
[null,null,null,null,null,null,null,null,null,null,null,"Pompe a filtrat 4",{"$f":"'Offre NEW'!H46","v":0},{"$f":"'Offre NEW'!G46","v":5.5},5.5]
[null,null,null,null,null,null,null,null,null,null,null,"cloudy pump",{"$f":"'Offre NEW'!H42","v":0},{"$f":"'Offre NEW'!G42","v":11},11]
[null,null,null,null,null,null,null,null,null,null,null,"Liquid ring pump",{"$f":"'Offre NEW'!H47","v":0},{"$f":"'Offre NEW'!G47","v":55},55]
["Catégorie","Prix catégorie",null,null,null,null,null,null,null,null,null,"Cloth Belt wash pump",{"$f":"'Offre NEW'!H48","v":0},{"$f":"'Offre NEW'!G48","v":5.5},5.5]
["CONTROLE DE DEBIT – DEBITMETRE A SECTION VARIABLE",{"$f":"SUM(I68:I77)","v":0},null,"Cellule de puissance et distribution indépendant pour chaque filtre (si plusieurs filtres)","oui",null,"Automate fourni","oui",null,null,null,"Nombre de ballons",{"$f":"Calculations!S31","v":3}]
["CONTROLE ET MESURE DE DEBIT - DEBITMETRE ELECTROMAGNETIQUE",{"$f":"IF(M27=\"SUR DEMANDE\",\"SUR DEMANDE\",IF(N27=\"SUR DEMANDE\",\"SUR DEMANDE\",IF(O27=\"SUR DEMANDE\",\"SUR DEMANDE\",IF(P27=\"SUR DEMANDE\",\"SUR DEMANDE\",SUM(Z69:Z78)))))","v":0},null,null,null,null,null,null,null,null,null,"Puissance moteur  FAB(kW)",{"$f":"Calculations!H73","v":0.37},null,null,null,null,null,null,null,null,"Nombre/pris en compte","Puissance (kw)"]
["CONTROLE DE NIVEAU - DETECTEUR DE NIVEAU",{"$f":"SUM(AI69:AI72)","v":0},null,"Uniquement Armoire Automate","non",null,"Coffret de commande local","MULTIFONCTION INOX",null,null,null,"Nombre de filtres",{"$f":"'Offre NEW'!H7","v":1},null,null,null,null,null,null,null,"Filtre",{"$f":"M13","v":1},{"$f":"M51","v":0.75}]
["CONTROLE ET MESURE DE NIVEAU - TRANSMETTEUR DE NIVEAU",{"$f":"AQ69+AQ72+AQ73+AQ75+AQ78+AQ81","v":6600},null,null,null,null,null,null,null,null,null,"Puissance moteur Pav (kw)",{"$f":"'Offre NEW'!G49","v":5.5},null,null,null,null,null,null,null,"equipement Ballons",{"$f":"M11","v":3},"/"]
["CONTROLE ET MESURE DE PRESSION - TRANSMETTEUR DE PRESSION",{"$f":"AZ69","v":3600},null,"Debitmètre à section variable","non","non","non","non",null,null,null,"Type ballon",{"$f":"Calculations!D44","v":"krogh"},null,null,null,null,null,null,null,"Pompe à vide",{"$f":"M16","v":1},{"$f":"M54","v":5.5}]
["VANNE DE CONTRÔLE - REGULATION DE DEBIT / NIVEAU",{"$f":"SUM(BI70:BI92)","v":0},null,"Débit m3/h",0,0,0,0,null,null,null,"nbr Pàv",{"$f":"'Offre NEW'!H49","v":1},null,null,null,null,null,null,null,"Pompe à filtrat",{"$f":"M4+M5+M6+M7","v":3},{"$f":"O4+O5+O6+O7","v":14.5}]
["DEPART-MOTEUR FILTRE A BANDE",{"$f":"IF(E13=\"oui\",0,SUM(BQ70:BQ90))","v":1910},null,"nombre",0,0,0,0,null,null,null,null,null,null,null,null,null,null,null,null,"Pompe LavageT&B",{"$f":"M10","v":0},{"$f":"O10","v":5.5}]
["DEPART-MOTEUR POMPE A VIDE",{"$f":"IF(E13=\"oui\",0,SUM(BX70:BX96))","v":1010},null,null,null,null,null,null,null,null,null,"Vanne de régu","type 1","type 2",3,4,null,null,null,null,"Pompe Lavage Gateau",{"$f":"M8","v":0},{"$f":"O8","v":11}]
["DEPART-MOTEUR POMPES A FILTRATS",{"$f":"IF(E13=\"oui\",0,SUM(CF70:CF90))","v":6540},null,"Débitmetre Electromagnétique","non","non","non","non",null,null,null,"Débit maxi vanne régulation",{"$f":"IF(E24<=2.5,2.5,IF(E24<=3.5,3.5,IF(E24<=6,6,IF(E24<=8,8,IF(E24<=14,14,IF(E24<=25,25,IF(E24<=35,35,IF(E24<=45,45,IF(E24<=90,90,IF(E24<=165,165,\"PBLM\"))))))))))","v":2.5},{"$f":"IF(F24<=2.5,2.5,IF(F24<=3.5,3.5,IF(F24<=6,6,IF(F24<=8,8,IF(F24<=14,14,IF(F24<=25,25,IF(F24<=35,35,IF(F24<=45,45,IF(F24<=90,90,IF(F24<=165,165,\"PBLM\"))))))))))","v":2.5},{"$f":"IF(G24<=2.5,2.5,IF(G24<=3.5,3.5,IF(G24<=6,6,IF(G24<=8,8,IF(G24<=14,14,IF(G24<=25,25,IF(G24<=35,35,IF(G24<=45,45,IF(G24<=90,90,IF(G24<=165,165,\"PBLM\"))))))))))","v":2.5},{"$f":"IF(H24<=2.5,2.5,IF(H24<=3.5,3.5,IF(H24<=6,6,IF(H24<=8,8,IF(H24<=14,14,IF(H24<=25,25,IF(H24<=35,35,IF(H24<=45,45,IF(H24<=90,90,IF(H24<=165,165,\"PBLM\"))))))))))","v":2.5},null,null,null,null,"Pompe recirculation  AL",{"$f":"M9","v":0},{"$f":"O9","v":55}]
["CELLULE DE PUISSANCE",{"$f":"IF(E13=\"oui\",0,IF(M33<50,0,SUM(CQ70:CQ79)))","v":0},null,"Débit m3/h",1.65,1.65,1.65,1.65,null,null,null,null,"oui",null,null,null,null,null,null,null,"Coffret de commande Local",{"$f":"IF(H13=\"Aucun\",\"non\",H13)","v":"MULTIFONCTION INOX"},"/"]
["CELLULE DE DISTRIBUTION",{"$f":"IF(E13=\"oui\",0,IF(M33<50,0,SUM(DB70:DB83)))","v":0},null,"nombrE",0,0,0,0,null,null,null,null,"non",null,null,null,null,null,null,null,"Cellule de puissance",{"$f":"IF(B20>0,\"oui\",\"non\")","v":"non"},"/"]
["CELLULE AUTOMATE",{"$f":"IF(E13=\"oui\",0,IF(M33<50,0,DJ69))","v":0},null,null,null,null,null,null,null,null,null,null,"DIN PN16",null,null,null,null,null,null,null,"Cellule de distribution",{"$f":"IF(B21>0,\"oui\",\"non\")","v":"non"},"/"]
["Automate Programmable Industriel",{"$f":"DS69","v":14010},null,"Vanne de régulation","non","non","non","non",null,null,null,null,"AINSI 150lbs"]
["COFFRET DE COMMANDE LOCAL - MAINTENANCE",{"$f":"EB69+EB70","v":0},null,"Débit m3/h",0,0,0,0]
["COFFRET DE COMMANDE LOCAL – MULTIFONCTION",{"$f":"EK69+EK70","v":9395},null,"Norme Vanne","DIN PN16","DIN PN16","DIN PN16","DIN PN16",null,null,null,"dm sec var",{"$f":"IF(E16<=0.63,0.63,IF(E16<=4,4,IF(E16<=10,10,IF(E16<=40,40,IF(E16<=63,63,\"PBLM\")))))","v":0.63},{"$f":"IF(F16<=0.63,0.63,IF(F16<=4,4,IF(F16<=10,10,IF(F16<=40,40,IF(F16<=63,63,\"PBLM\")))))","v":0.63},{"$f":"IF(G16<=0.63,0.63,IF(G16<=4,4,IF(G16<=10,10,IF(G16<=40,40,IF(G16<=63,63,\"PBLM\")))))","v":0.63},{"$f":"IF(H16<=0.63,0.63,IF(H16<=4,4,IF(H16<=10,10,IF(H16<=40,40,IF(H16<=63,63,\"PBLM\")))))","v":0.63}]
["Armoire électrique de PUISSANCE-CONTRÔLE - PETIT FILTRE",{"$f":"ET69","v":12555},null,"Positionneur","non","non","non","non"]
["Armoire AUTOMATE - PETIT FILTRE",{"$f":"FC69","v":0},null,"nombre",0,0,0,0,null,null,null,"deb sec ele",{"$f":"IF(E20<=1.6,\"PBLM\",IF(E20<=4.5,4.5,IF(E20<=7,\"PBLM\",IF(E20<=11,11,IF(E20<=15,\"PBLM\",IF(E20<=30,30,IF(E20<=70,70,IF(E20<=110,\"PBLM\",IF(E20<=999,\"SUR DEMANDE\",\"PBLM\")))))))))","v":4.5},{"$f":"IF(F20<=1.6,\"PBLM\",IF(F20<=4.5,4.5,IF(F20<=7,\"PBLM\",IF(F20<=11,11,IF(F20<=15,\"PBLM\",IF(F20<=30,30,IF(F20<=70,70,IF(F20<=110,\"PBLM\",IF(F20<=999,\"SUR DEMANDE\",\"PBLM\")))))))))","v":4.5},{"$f":"IF(G20<=1.6,\"PBLM\",IF(G20<=4.5,4.5,IF(G20<=7,\"PBLM\",IF(G20<=11,11,IF(G20<=15,\"PBLM\",IF(G20<=30,30,IF(G20<=70,70,IF(G20<=110,\"PBLM\",IF(G20<=999,\"SUR DEMANDE\",\"PBLM\")))))))))","v":4.5},{"$f":"IF(H20<=1.6,\"PBLM\",IF(H20<=4.5,4.5,IF(H20<=7,\"PBLM\",IF(H20<=11,11,IF(H20<=15,\"PBLM\",IF(H20<=30,30,IF(H20<=70,70,IF(H20<=110,\"PBLM\",IF(H20<=999,\"SUR DEMANDE\",\"PBLM\")))))))))","v":4.5}]
["VARIATEUR DE FREQUENCE",{"$f":"SUM(FK70:FK89)","v":0}]
[null,null,null,"Variateur de fréquence","oui","oui","oui","oui",null,null,null,"var freq puissance",{"$f":"IF(E30<=0.75,0.75,IF(E30<=1.5,1.5,IF(E30<=2.2,2.2,IF(E30<=3,3,IF(E30<=4,4,IF(E30<=5.5,5.5,IF(E30<=7.5,7.5,IF(E30<=11,11,IF(E30<=15,15,IF(E30<=18.5,18.5,IF(E30<=22,22,IF(E30<=30,30,IF(E30<=37,37,IF(E30<=45,45,IF(E30<=55,55,IF(E30<=75,75,IF(E30<=90,90,IF(E30<=110,110,IF(E30<=132,132,IF(E30<=160,160,\"PBLM\"))))))))))))))))))))","v":0.75},{"$f":"IF(F30<=0.75,0.75,IF(F30<=1.5,1.5,IF(F30<=2.2,2.2,IF(F30<=3,3,IF(F30<=4,4,IF(F30<=5.5,5.5,IF(F30<=7.5,7.5,IF(F30<=11,11,IF(F30<=15,15,IF(F30<=18.5,18.5,IF(F30<=22,22,IF(F30<=30,30,IF(F30<=37,37,IF(F30<=45,45,IF(F30<=55,55,IF(F30<=75,75,IF(F30<=90,90,IF(F30<=110,110,IF(F30<=132,132,IF(F30<=160,160,\"PBLM\"))))))))))))))))))))","v":0.75},{"$f":"IF(G30<=0.75,0.75,IF(G30<=1.5,1.5,IF(G30<=2.2,2.2,IF(G30<=3,3,IF(G30<=4,4,IF(G30<=5.5,5.5,IF(G30<=7.5,7.5,IF(G30<=11,11,IF(G30<=15,15,IF(G30<=18.5,18.5,IF(G30<=22,22,IF(G30<=30,30,IF(G30<=37,37,IF(G30<=45,45,IF(G30<=55,55,IF(G30<=75,75,IF(G30<=90,90,IF(G30<=110,110,IF(G30<=132,132,IF(G30<=160,160,\"PBLM\"))))))))))))))))))))","v":0.75},{"$f":"IF(H30<=0.75,0.75,IF(H30<=1.5,1.5,IF(H30<=2.2,2.2,IF(H30<=3,3,IF(H30<=4,4,IF(H30<=5.5,5.5,IF(H30<=7.5,7.5,IF(H30<=11,11,IF(H30<=15,15,IF(H30<=18.5,18.5,IF(H30<=22,22,IF(H30<=30,30,IF(H30<=37,37,IF(H30<=45,45,IF(H30<=55,55,IF(H30<=75,75,IF(H30<=90,90,IF(H30<=110,110,IF(H30<=132,132,IF(H30<=160,160,\"PBLM\"))))))))))))))))))))","v":0.75}]
["Total Armoire Electrique",{"$f":"IF(A34=\"PBLM\",\"PBLM\",SUM(B17:B28)*1.092727)","v":49631.660340000002},null,"Puissance kw",0,0,0,0]
["Total Instrumentation",{"$f":"IF(M27=\"SUR DEMANDE\",\"SUR DEMANDE\",IF(N27=\"SUR DEMANDE\",\"SUR DEMANDE\",IF(O27=\"SUR DEMANDE\",\"SUR DEMANDE\",IF(P27=\"SUR DEMANDE\",\"SUR DEMANDE\",IF(A34=\"PBLM\",\"PBLM\",SUM(B11:B16)*1.092727)))))","v":11145.815399999999},null,"nombre",0,0,0,0]
[null,null,null,null,null,null,null,null,null,null,null,"Cellule puissance"]
["Case à problème :",null,null,null,null,null,null,null,null,null,null,"puissance tot (kw)",{"$f":"M4*O4+M5*O5+M6*O6+M7*O7+M13*M51+M16*M54+M8*O8+M9*O9+M10*O10","v":15.25},"puiss maxi",{"$f":"IF(M33<=100,100,IF(M33<=150,150,IF(M33<=200,200,IF(M33<=250,250,IF(M33<=300,300,IF(M33<=400,400,IF(M33<=500,500,IF(M33<=600,600,IF(M33<=700,700,\"TROP HAUT\")))))))))","v":100}]
[{"$f":"IF(M25=\"PBLM\",\"PBLM\",IF(N25=\"PBLM\",\"PBLM\",IF(M27=\"PBLM\",\"PBLM\",IF(N27=\"PBLM\",\"PBLM\",IF(M29=\"PBLM\",\"PBLM\",IF(M51=\"PBLM\",\"PBLM\",IF(M54=\"PBLM\",\"PBLM\",IF(O33=\"PBLM\",\"PBLM\",IF(O34=\"PBLM\",\"PBLM\",IF(M35=\"PBLM\",\"PBLM\",IF(O38=\"PBLM\",\"PBLM\",IF(O39=\"PBLM\",\"PBLM\",IF(M40=\"PBLM\",\"PBLM\",IF(M19=\"PBLM\",\"PBLM\",IF(N19=\"PBLM\",\"PBLM\",IF(O4=\"PBLM\",\"PBLM\",IF(O5=\"PBLM\",\"PBLM\",IF(O6=\"PBLM\",\"PBLM\",IF(O7=\"PBLM\",\"PBLM\",IF(O8=\"PBLM\",\"PBLM\",IF(O9=\"PBLM\",\"PBLM\",IF(O10=\"PBLM\",\"PBLM\",IF(O25=\"PBLM\",\"PBLM\",IF(P25=\"PBLM\",\"PBLM\",IF(O19=\"PBLM\",\"PBLM\",IF(P19=\"PBLM\",\"PBLM\",IF(O27=\"PBLM\",\"PBLM\",IF(P27=\"PBLM\",\"PBLM\",\"\"))))))))))))))))))))))))))))","v":""},null,null,null,null,null,null,null,null,null,null,"puissance tot avec division (kw)",{"$f":"M33/M13","v":15.25},"puiss maxi div nbr filtre",{"$f":"IF(M34<=100,100,IF(M34<=150,150,IF(M34<=200,200,IF(M34<=250,250,IF(M34<=300,300,IF(M34<=400,400,IF(M34<=500,500,IF(M34<=600,600,IF(M34<=700,700,\"TROP HAUT\")))))))))","v":100}]
[null,null,null,null,null,null,null,null,null,null,null,"puissance maxi cible",{"$f":"IF(E11=\"non\",O33,O34)","v":100}]
[]
[null,null,null,null,null,null,null,null,null,null,null,"Cellule de distribution"]
[null,null,null,null,null,null,null,null,null,null,null,"puissance totale",{"$f":"M33*1.3","v":19.824999999999999},"puiss maxi",{"$f":"IF(M38<=100,100,IF(M38<=200,200,IF(M38<=300,300,IF(M38<=400,400,IF(M38<=500,500,IF(M38<=600,600,IF(M38<=700,700,\"TROP HAUT\")))))))","v":100}]
[null,null,null,null,null,null,null,null,null,null,null,"puissance tot avec division (kw)",{"$f":"M38/M13","v":19.824999999999999},"puiss maxi div nbr filtre",{"$f":"IF(M39<=100,100,IF(M39<=200,200,IF(M39<=300,300,IF(M39<=400,400,IF(M39<=500,500,IF(M39<=600,600,IF(M39<=700,700,\"TROP HAUT\")))))))","v":100}]
[null,null,null,null,null,null,null,null,null,null,null,"puissance maxi cible",{"$f":"IF(E11=\"non\",O38,O39)","v":100}]
[null,null,null,null,null,null,null,null,null,null,null,null,0]
[null,null,null,null,null,null,null,null,null,null,null,null,1]
[null,null,null,null,null,null,null,null,null,null,null,"Aucun",2]
[null,null,null,null,null,null,null,null,null,null,null,"MAINTENANCE FRP",3]
[null,null,null,null,null,null,null,null,null,null,null,"MAINTENANCE INOX",4]
[null,null,null,null,null,null,null,null,null,null,null,"MULTIFONCTION FRP",5]
[null,null,null,null,null,null,null,null,null,null,null,"MULTIFONCTION INOX",6]
[null,null,null,null,null,null,null,null,null,null,null,null,7]
[]
[null,null,null,null,null,null,null,null,null,null,null,"Départ moteur FAB"]
[null,null,null,null,null,null,null,null,null,null,null,"Puissance maxi",{"$f":"IF(M12<=0.75,0.75,IF(M12<=1.1,1.1,IF(M12<=1.5,1.5,IF(M12<=2.2,2.2,IF(M12<=3,3,IF(M12<=4,4,IF(M12<=5.5,5.5,IF(M12<=7.5,7.5,IF(M12<=11,11,IF(M12<=15,15,IF(M12<=18.5,18.5,IF(M12<=22,22,IF(M12<=30,30,IF(M12<=37,37,IF(M12<=45,45,IF(M12<=55,55,IF(M12<=75,75,IF(M12<=90,90,IF(M12<=110,110,IF(M12<=132,132,IF(M12<=160,160,\"PBLM\")))))))))))))))))))))","v":0.75}]
[]
[null,null,null,null,null,null,null,null,null,null,null,"Pompe a vide"]
[null,null,null,null,null,null,null,null,null,null,null,"Puissance maxi",{"$f":"IF(M14<=0.75,0.75,IF(M14<=1.1,1.1,IF(M14<=1.5,1.5,IF(M14<=2.2,2.2,IF(M14<=3,3,IF(M14<=4,4,IF(M14<=5.5,5.5,IF(M14<=7.5,7.5,IF(M14<=11,11,IF(M14<=15,15,IF(M14<=18.5,18.5,IF(M14<=22,22,IF(M14<=30,30,IF(M14<=37,37,IF(M14<=45,45,IF(M14<=55,55,IF(M14<=75,75,IF(M14<=90,90,IF(M14<=110,110,IF(M14<=132,132,IF(M14<=160,160,IF(M14<=220,220,IF(M14<=250,250,IF(M14<=315,315,IF(M14<=355,355,IF(M14<=400,400,IF(M14<=500,500,\"PBLM\")))))))))))))))))))))))))))","v":5.5}]
[]
[]
[]
[]
[]
[]
[]
[]
[]
[]
[]
[null,"CONTROLE DE DEBIT – DEBITMETRE A SECTION VARIABLE"]
[null,"Désignation",null,"Caractéristique","Fabricant-Type","Code article","Tarif (€)","Quantité","Prix",null,null,null,null,null,null,null,null,null,"CONTROLE ET MESURE DE DEBIT - DEBITMETRE ELECTROMAGNETIQUE",null,null,null,null,null,null,null,null,null,"CONTROLE DE NIVEAU - DETECTEUR DE NIVEAU",null,null,null,null,null,null,null,"CONTROLE ET MESURE DE NIVEAU - TRANSMETTEUR DE NIVEAU",null,null,null,null,null,null,null,null,"CONTROLE ET MESURE DE PRESSION - TRANSMETTEUR DE PRESSION",null,null,null,null,null,null,null,"VANNE DE CONTRÔLE - REGULATION DE DEBIT / NIVEAU",null,null,null,null,null,null,null,null,null,"DEPART-MOTEUR FILTRE A BANDE",null,null,null,null,null,null,null,"DEPART-MOTEUR POMPE A VIDE",null,null,null,null,null,null,"DEPART-MOTEUR POMPES A FILTRATS",null,null,null,null,null,null,null,"CELLULE DE PUISSANCE",null,null,null,null,null,null,null,null,null,null,"CELLULE DE DISTRIBUTION",null,null,null,null,null,null,null,null,null,"CELLULE AUTOMATE",null,null,null,null,null,null,null,null,"Automate Programmable Industriel",null,null,null,null,null,null,null,null,"COFFRET DE COMMANDE LOCAL - MAINTENANCE",null,null,null,null,null,null,null,null,"COFFRET DE COMMANDE LOCAL – MULTIFONCTION",null,null,null,null,null,null,null,null,"Armoire électrique de PUISSANCE-CONTRÔLE - PETIT FILTRE",null,null,null,null,null,null,null,null,"Armoire AUTOMATE",null,null,null,null,null,null,null,null,"VARIATEUR DE FREQUENCE"]
[null,"Débitmètre à section variable",0.63,"Montage à bride 316L DN15 – ½’’","KROHNE","Note 1",1200,{"$f":"IF(AND($M$25=C68,$E$15=\"oui\"),$E$17,0)+IF(AND($N$25=C68,$F$15=\"oui\"),$F$17,0)+IF(AND($O$25=C68,$G$15=\"oui\"),$G$17,0)+IF(AND($P$25=C68,$H$15=\"oui\"),$H$17,0)","v":0},{"$f":"G68*H68","v":0},null,null,null,null,null,null,null,null,null,"Désignation",null,"Caractéristique","Fabricant-Type","Code article","Tarif (€)","Quantité","Prix",null,null,"Désignation","Caractéristique","Fabricant-Type","Code article","Tarif (€)","Quantité","Prix",null,"Désignation","Caractéristique","Fabricant-Type","Code article","Tarif (€)","Quantité","Prix",null,null,"Désignation","Caractéristique","Fabricant-Type","Code article","Tarif (€)","Quantité","Prix",null,"Désignation",null,"Caractéristique","Fabricant-Type","Code article","Tarif (€)",null,null,null,null,"Démarreur électrique composé : Disjoncteur + Contacteur + Variateur de fréquence (*)",null,null,null,null,null,null,null,"Démarreur électrique de type ‘’Direct’’ DOL composé : Disjoncteur + Contacteur (*)",null,null,null,null,null,null,"Démarreur électrique composé : Disjoncteur + Contacteur + Variateur de fréquence (*)",null,null,null,null,null,null,null,"(Additionner la puissance (KW) de tous les départ-moteurs sélectionnés pour obtenir la Puissance Totale Utile de l’unité de filtration)",null,null,null,null,null,null,null,null,null,null,"(Ajouter 30% de la Puissance Totale Utile de l’unité de filtration pour obtenir la Puissance Totale Installée de l’unité de filtration)",null,null,null,null,null,null,null,null,null,"Désignation","Caractéristique","Code article","Tarif (€)",null,"Quantité","Prix",null,null,"Désignation","Caractéristique","Code article","Tarif (€)",null,"Quantité","Prix",null,null,"Désignation","Fonction - Caractéristique","Code article","Tarif (€)",null,"Quantité","Prix",null,null,"Désignation","Fonction - Caractéristique","Code article","Tarif (€)",null,"Quantité","Prix",null,null,"Désignation - Caractéristique","Dimension Cellule","Code article","Tarif (€)",null,"Quantité","Prix",null,null,"Désignation - Caractéristique","Dimension Cellule","Code article","Tarif (€)",null,"Quantité","Prix",null,null,"A associer aux moteurs d’entrainement du filtre à bande et rouleau presseur (*)"]
[null,"Echelle de débit : maxi 630 l/h",null,"Contact SB3,5-E2 24VCC 3fils NO PNP","H250/RR/M9/K1 MAX",null,null,null,null,null,null,null,null,null,null,null,null,null,"Débitmètre électromagnétique",4.5,"Montage à bride 316L revêtue PTFE","Endress Hauser","Note 1",1500,{"$f":"IF(AND($M$27=T69,$E$19=\"oui\"),$E$21,0)+IF(AND($N$27=T69,$F$19=\"oui\"),$F$21,0)+IF(AND($O$27=T69,$G$19=\"oui\"),$G$21,0)+IF(AND($P$27=T69,$H$19=\"oui\"),$H$21,0)","v":0},{"$f":"X69*Y69","v":0},null,null,"Capteur de niveau – Technologie à lame vibrante","Montage à bride 316L DN50","Endress Hauser Liquifant M-FTL50","EELE000794-0000",850,0,{"$f":"AG69*AH69","v":0},null,"Transmetteur de niveau – Technologie à ultrason (*)","Montage G 1½ ''","Endress Hauser Prosonic M-FMU40","EELE000795-0000",850,{"$f":"IF(M15=\"Barometrique\",M11,0)","v":0},{"$f":"AO69*AP69","v":0},null,null,"Transmetteur de pression - Technologie à séparateur","Montage à bride 316L DN50","Endress Hauser Cérabar M-PMP55","EELE001208-0000",1200,{"$f":"M11","v":3},{"$f":"AX69*AY69","v":3600},null,"Exécution DIN PN16",null,null,null,null,null,"Quantité","Prix",null,null,"Désignation - Caractéristique",null,"Code article","Tarif (€)","Quantité","Prix",null,null,"Désignation - Caractéristique","Code article","Tarif (€)","Quantité","Prix",null,null,"Désignation - Caractéristique",null,"Code article","Tarif (€)","Quantité","Prix",null,null,"Désignation - Caractéristique",null,"Dimension Cellule","Code article","Tarif (€)",null,"Quantité","Quantité totale","Prix",null,null,"Désignation - Caractéristique",null,"Dimension Cellule","Code article","Tarif (€)",null,"Quantité","quantité totale","Prix",null,"Cellule Automate","2000x800x500","PLC_EC",{"$f":"2500+605","v":3105},null,{"$f":"M13","v":1},{"$f":"DG69*DI69","v":3105},null,null,"Automate Modicon M340 (*)","1 rack principal 12 emplacements\n1 module d’alimentation 230Vac\n1 Processeur équipé de 2 ports de liaison Modbus RTU RS485 et Modbus TCP/IP Ethernet (pour la communication avec le terminal graphique)\n1 module Modbus RTU RS485  pour la communication avec le DCS Client\n2 cartes - 32 x Entrées TOR 24VCC\n1 carte - 16 x Sorties relais\n3 cartes - 4 x Entrées Analogiques\n1 carte - 4 x Sorties analogiques\n6 embases de raccordement ABE-7","CONF_PLC_STA",14010,null,{"$f":"IF(H11=\"oui\",M13,0)","v":1},{"$f":"DP69*DR69","v":14010},null,null,"Coffret de commande local (*)","Maintenance - 600x400x200 (**)","LCP_MAIN_FRP",3090,null,{"$f":"IF($H$13=\"MAINTENANCE FRP\",$M$13,0)","v":0},{"$f":"DY69*EA69","v":0},null,null,"Coffret de commande local (*)","Multi-fonction - 600x400x200 (**)","LCP_AUTO_FRP",9185,null,{"$f":"IF($H$13=\"MULTIFONCTION FRP\",$M$13,0)","v":0},{"$f":"EH69*EJ69","v":0},null,null,"Puissance Totale Installée  ≤ 50 KW","1 cellule monobloc 2000x1200x500","PTI_020_KVA",12555,null,{"$f":"IF(M33<50,M13,0)","v":1},{"$f":"EQ69*ES69","v":12555},null,null,"Puissance Totale Installée  ≤ 5 KVA","1 cellule monobloc 2000x800x500","PTI_005_KVA",10755,null,{"$f":"IF(E13=\"oui\",M13,0)","v":0},{"$f":"EZ69*FB69","v":0},null,null,"Désignation - Caractéristique",null,"Référence","Tarif (€)","Quantité","Prix"]
[null,"Débitmètre à section variable",4,"Montage à bride 316L DN25 – 1’’","KROHNE","Note 1",1500,{"$f":"IF(AND($M$25=C70,$E$15=\"oui\"),$E$17,0)+IF(AND($N$25=C70,$F$15=\"oui\"),$F$17,0)+IF(AND($O$25=C70,$G$15=\"oui\"),$G$17,0)+IF(AND($P$25=C70,$H$15=\"oui\"),$H$17,0)","v":0},{"$f":"G70*H70","v":0},null,null,null,null,null,null,null,null,null,"Débit : 1,6 à 4,5 m3/h (à 2,5m/s)",null,"DN15 à DN25","Promag 50",null,null,null,null,null,null,null,"Lame vibrante 316L",null,null,null,null,null,null,null,"Signal 2 fils 4-20mA HART",null,null,null,null,null,null,null,null,"Séparateur et membrane 316L",null,null,null,null,null,null,"Vanne de contrôle - Corps Inox - KVS = 4\nDébit maxi : 2,5 m3/h - Signal de commande: 4-20mA",2.5,"Montage à bride DN15","SAMSON","Note 1",{"$f":"2260","v":2260},{"$f":"IF(AND($E$25=\"DIN PN16\",$E$23=\"oui\",$M$19=BC70),$E$27,0)+IF(AND($F$25=\"DIN PN16\",$F$23=\"oui\",$N$19=BC70),$F$27,0)+IF(AND($G$25=\"DIN PN16\",$G$23=\"oui\",$O$19=BC70),$G$27,0)+IF(AND($H$25=\"DIN PN16\",$H$23=\"oui\",$P$19=BC70),$H$27,0)","v":0},{"$f":"BG70*BH70","v":0},null,null,"Puissance moteur ≤ 0,75 kW - 3 x 380…480V AC 50/60 HZ",0.75,"VBF_MS_VFD_0.75",1910,{"$f":"IF($M$51=BM70,$M$13,0)","v":1},{"$f":"BO70*BP70","v":1910},null,null,"Puissance moteur ≤ 0,75 kW - 3 x 380…480V AC 50/60 HZ","P_MS_DOL_0.75",835,{"$f":"IF(M54=0.75,M16,0)","v":0},{"$f":"BV70*BW70","v":0},null,null,"Puissance moteur ≤ 0,75 kW - 3 x 380…480V AC 50/60 HZ",0.75,"P_MS_VFD_0.75",1770,{"$f":"IF($O$4=CB70,$M$4,0)+IF($O$5=CB70,$M$5,0)+IF($O$6=CB70,$M$6,0)+IF($O$7=CB70,$M$7,0)+IF($O$8=CB70,$M$8,0)+IF($O$9=CB70,$M$9,0)+IF($O$10=CB70,$M$10,0)","v":0},{"$f":"CD70*CE70","v":0},null,null,"Puissance Totale Utile 50 ≤ … ≤ 100 KW",100,"1 cellule 2000x800x500","PTU_100_KW",3105,null,{"$f":"IF($M$35=CJ70,1,0)","v":1},{"$f":"IF($E$11=\"non\",CO70,CO70*$M$13)","v":1},{"$f":"CM70*CP70","v":3105},null,null,"Puissance Totale Installée  ≤ 100 KVA",100,"1 cellule 2000x800x500","PTI_100_KVA",{"$f":"9710+605","v":10315},null,{"$f":"IF($M$40=CU70,1,0)","v":1},{"$f":"IF($E$11=\"non\",CZ70,CZ70*$M$13)","v":1},{"$f":"CX70*DA70","v":10315},null,null,null,null,null,null,null,null,null,null,null,null,null,null,null,null,null,null,null,"Coffret de commande local (*)","Maintenance - 500x400x200 (***)","LCP_MAIN_SS",3320,null,{"$f":"IF($H$13=\"MAINTENANCE INOX\",$M$13,0)","v":0},{"$f":"DY70*EA70","v":0},null,null,"Coffret de commande local (*)","Multi-fonction - 500x500x210 (***)","LCP_AUTO_SS",9395,null,{"$f":"IF($H$13=\"MULTIFONCTION INOX\",$M$13,0)","v":1},{"$f":"EH70*EJ70","v":9395},null,null,"3 x 380…480V AC 50/60 HZ",null,null,null,null,null,null,null,null,"1x230…2 x 380…3x380…480V AC 50/60 HZ",null,null,null,null,null,null,null,null,"Puissance 0,75 KW (1HP) - 3 x 380…480V AC 50/60 HZ",0.75,"VFD_0.75",1020,{"$f":"IF(AND($M$29=FG70,$E$29=\"oui\"),$E$31,0)+IF(AND($N$29=FG70,$F$29=\"oui\"),$F$31,0)+IF(AND($O$29=FG70,$G$29=\"oui\"),$G$31,0)+IF(AND($P$29=FG70,$H$29=\"oui\"),$H$31,0)","v":0},{"$f":"FI70*FJ70","v":0}]
[null,"Echelle de débit : maxi 4 m3/h",null,"Contact SB3,5-E2 24VCC 3fils NO PNP","H250/RR/M9/K1 MAX",null,null,null,null,null,null,null,null,null,null,null,null,null,"Débitmètre électromagnétique",11,"Montage à bride 316L revêtue PTFE","Endress Hauser","Note 1",1850,{"$f":"IF(AND($M$27=T71,$E$19=\"oui\"),$E$21,0)+IF(AND($N$27=T71,$F$19=\"oui\"),$F$21,0)+IF(AND($O$27=T71,$G$19=\"oui\"),$G$21,0)+IF(AND($P$27=T71,$H$19=\"oui\"),$H$21,0)","v":0},{"$f":"X71*Y71","v":0},null,null,"Capteur de niveau – Technologie à lame vibrante","Montage à bride 316L DN50","Endress Hauser Liquifant M-FTL51C","EELE000793-0000",1200,{"$f":"IF(M15=\"Barometrique\",M11,0)","v":0},{"$f":"AG71*AH71","v":0},null,"(*) non compatible  pour une installation dans un ballon séparateur soumis au vide",null,null,null,null,null,null,null,null,null,"Signal 2 fils 4-20mA HART",null,null,null,null,null,null,"Vanne de contrôle - Corps Inox - KVS = 6,3\nDébit maxi : 3,5 m3/h - Signal de commande: 4-20mA",3.5,"Montage à bride DN20","SAMSON","Note 1",2270,0,0,null,null,"Puissance moteur 1,1 kW - 3 x 380…480V AC 50/60 HZ",1.1000000000000001,"VBF_MS_VFD_1.1",2010,0,0,null,null,"Puissance moteur 1,1 kW - 3 x 380…480V AC 50/60 HZ","P_MS_DOL_1.1",850,{"$f":"IF(M54=1.1,M16,0)","v":0},0,null,null,"Puissance moteur 1,1 kW - 3 x 380…480V AC 50/60 HZ",1.1000000000000001,"P_MS_VFD_1.1",1840,0,0,null,null,"3 x 380…480V AC 50/60 HZ",null,null,null,null,null,null,null,null,null,null,"3 x 380…480V AC 50/60 HZ",null,null,null,null,null,null,null,null,null,null,null,null,null,null,null,null,null,null,null,null,null,null,null,null,null,null,null,null,null,null,null,null,null,null,null,null,null,null,null,null,null,null,null,null,null,null,null,null,null,null,null,null,null,null,null,null,null,null,null,null,null,null,null,"Puissance 1,5 KW (2HP) - 3 x 380…480V AC 50/60 HZ",1.5,"VFD_1.5",1160,0,0]
[null,"Débitmètre à section variable",10,"Montage à bride 316L DN50 – 2’’","KROHNE","Note 1",2000,{"$f":"IF(AND($M$25=C72,$E$15=\"oui\"),$E$17,0)+IF(AND($N$25=C72,$F$15=\"oui\"),$F$17,0)+IF(AND($O$25=C72,$G$15=\"oui\"),$G$17,0)+IF(AND($P$25=C72,$H$15=\"oui\"),$H$17,0)","v":0},{"$f":"G72*H72","v":0},null,null,null,null,null,null,null,null,null,"Débit : 7 à 11 m3/h (à 2,5m/s)",null,"DN32 à DN40","Promag 50",null,null,null,null,null,null,null,"Lame et bride revêtue PFA",null,null,null,null,null,null,"Option -  Bride de raccordement pour transmetteur de niveau à ultrason","Montage bride DN50 polypropylène","Endress Hauser","EELE000796-0000",75,{"$f":"IF(M15=\"Barometrique\",M11,0)","v":0},{"$f":"AO72*AP72","v":0},null,null,null,null,null,null,null,null,null,null,"Vanne de contrôle - Corps Inox - KVS = 10\nDébit maxi : 6 m3/h - Signal de commande: 4-20mA",6,"Montage à bride DN25","SAMSON","Note 1",2290,0,0,null,null,"Puissance moteur 1,5 kW - 3 x 380…480V AC 50/60 HZ",1.5,"VBF_MS_VFD_1.5",2100,0,0,null,null,"Puissance moteur 1,5 kW - 3 x 380…480V AC 50/60 HZ","P_MS_DOL_1.5",890,{"$f":"IF(M54=1.5,M16,0)","v":0},0,null,null,"Puissance moteur 1,5 kW - 3 x 380…480V AC 50/60 HZ",1.5,"P_MS_VFD_1.5",1930,0,0,null,null,"Puissance Totale Utile  ≤ 150 KW  3 x 380…480V AC 50/60 HZ",150,"1 cellule 2000x800x500","PTU_150_KW",3705,null,{"$f":"IF($M$35=CJ72,1,0)","v":0},{"$f":"IF($E$11=\"non\",CO72,CO72*$M$13)","v":0},{"$f":"CM72*CP72","v":0},null,null,"Puissance Totale Installée  ≤ 200 KVA",200,"1 cellule 2000x800x500","PTI_200_KVA",{"$f":"9850+605","v":10455},null,{"$f":"IF($M$40=CU72,1,0)","v":0},{"$f":"IF($E$11=\"non\",CZ72,CZ72*$M$13)","v":0},{"$f":"CX72*DA72","v":0},null,null,null,null,null,null,null,null,null,null,null,null,null,null,null,null,null,null,null,null,null,null,null,null,null,null,null,null,null,null,null,null,null,null,null,null,null,null,null,null,null,null,null,null,null,null,null,null,null,null,null,null,null,null,null,"Puissance 2,2 KW  (3HP) - 3 x 380…480V AC 50/60 HZ",2.2000000000000002,"VFD_2.2",1325,0,0]
[null,"Echelle de débit : maxi 10 m3/h ",null,"Contact SB3,5-E2 24VCC 3fils NO PNP","H250/RR/M9/K1 MAX",null,null,null,null,null,null,null,null,null,null,null,null,null,"Débitmètre électromagnétique",30,"Montage à bride 316L revêtue PTFE","Endress Hauser","Note 1",2200,{"$f":"IF(AND($M$27=T73,$E$19=\"oui\"),$E$21,0)+IF(AND($N$27=T73,$F$19=\"oui\"),$F$21,0)+IF(AND($O$27=T73,$G$19=\"oui\"),$G$21,0)+IF(AND($P$27=T73,$H$19=\"oui\"),$H$21,0)","v":0},{"$f":"X73*Y73","v":0},null,null,null,null,null,null,null,null,null,null,"Option -  Capot de protection pour transmetteur de niveau à ultrason","Acier Inox 316Ti","Endress Hauser","EELE000797-0000",50,{"$f":"IF(M15=\"Barometrique\",M11,0)","v":0},{"$f":"AO73*AP73","v":0},null,null,null,null,null,null,null,null,null,null,"Vanne de contrôle - Corps Inox - KVS = 16\nDébit maxi : 8 m3/h - Signal de commande: 4-20mA",8,"Montage à bride DN32","SAMSON","Note 1",2550,0,0,null,null,"Puissance moteur 2,2 kW - 3 x 380…480V AC 50/60 HZ",2.2000000000000002,"VBF_MS_VFD_2.2",2250,0,0,null,null,"Puissance moteur 2,2 kW - 3 x 380…480V AC 50/60 HZ","P_MS_DOL_2.2",910,{"$f":"IF(M54=2.2,M16,0)","v":0},0,null,null,"Puissance moteur 2,2 kW - 3 x 380…480V AC 50/60 HZ",2.2000000000000002,"P_MS_VFD_2.2",2050,0,0,null,null,"Puissance Totale Utile  ≤ 200 KW  3 x 380…480V AC 50/60 HZ",200,"1 cellule 2000x800x500","PTU_200_KW",4505,null,0,0,0,null,null,"3 x 380…480V AC 50/60 HZ",null,null,null,null,null,null,null,null,null,null,null,null,null,null,null,null,null,null,null,null,null,null,null,null,null,null,null,null,null,null,null,null,null,null,null,null,null,null,null,null,null,null,null,null,null,null,null,null,null,null,null,null,null,null,null,null,null,null,null,null,null,null,null,"Puissance 3 KW (4HP) - 3 x 380…480V AC 50/60 HZ",3,"VFD_3",1498,0,0]
[null,"Débitmètre à section variable",40,"Montage à bride 316L DN80 – 3’’","KROHNE","Note 1",2800,{"$f":"IF(AND($M$25=C74,$E$15=\"oui\"),$E$17,0)+IF(AND($N$25=C74,$F$15=\"oui\"),$F$17,0)+IF(AND($O$25=C74,$G$15=\"oui\"),$G$17,0)+IF(AND($P$25=C74,$H$15=\"oui\"),$H$17,0)","v":0},{"$f":"G74*H74","v":0},null,null,null,null,null,null,null,null,null,"Débit : 15 à 30 m3/h (à 2,5m/s)",null,"DN50 à DN65","Promag 50",null,null,null,null,null,null,null,null,null,null,null,null,null,null,null,null,null,null,null,null,null,null,null,null,null,null,null,null,null,null,null,"Vanne de contrôle - Corps Inox - KVS = 25\nDébit maxi : 14 m3/h - Signal de commande: 4-20mA",14,"Montage à bride DN40","SAMSON","Note 1",2590,0,0,null,null,"Puissance moteur 3 kW - 3 x 380…480V AC 50/60 HZ",3,"VBF_MS_VFD_3",2410,0,0,null,null,"Puissance moteur 3 kW - 3 x 380…480V AC 50/60 HZ","P_MS_DOL_3",950,{"$f":"IF(M54=3,M16,0)","v":0},0,null,null,"Puissance moteur 3 kW - 3 x 380…480V AC 50/60 HZ",3,"P_MS_VFD_3",2180,3,6540,null,null,"Puissance Totale Utile  ≤ 250 KW  3 x 380…480V AC 50/60 HZ",250,"2 cellules 2000x800x500","PTU_250_KW",5685,null,0,0,0,null,null,"Puissance Totale Installée  ≤ 300 KVA",300,"1 cellule 2000x800x500","PTI_300-KVA",{"$f":"9900+605","v":10505},null,{"$f":"IF($M$40=CU74,1,0)","v":0},{"$f":"IF($E$11=\"non\",CZ74,CZ74*$M$13)","v":0},{"$f":"CX74*DA74","v":0},null,null,null,null,null,null,null,null,null,null,null,null,null,null,null,null,null,null,null,null,null,null,null,null,null,null,null,null,null,null,null,null,null,null,null,null,null,null,null,null,null,null,null,null,null,null,null,null,null,null,null,null,null,null,null,"Puissance 4 KW (5,5HP) - 3 x 380…480V AC 50/60 HZ",4,"VFD_4",1786,0,0]
[null,"Echelle de débit : maxi 40 m3/h",null,"Contact SB3,5-E2 24VCC 3fils NO PNP","H250/RR/M9/K1 MAX",null,null,null,null,null,null,null,null,null,null,null,null,null,"Débitmètre électromagnétique",70,"Montage à bride 316L revêtue PTFE","Endress Hauser","Note 1",2800,{"$f":"IF(AND($M$27=T75,$E$19=\"oui\"),$E$21,0)+IF(AND($N$27=T75,$F$19=\"oui\"),$F$21,0)+IF(AND($O$27=T75,$G$19=\"oui\"),$G$21,0)+IF(AND($P$27=T75,$H$19=\"oui\"),$H$21,0)","v":0},{"$f":"X75*Y75","v":0},null,null,null,null,null,null,null,null,null,null,"Transmetteur de niveau - Technologie à pression différentielle(*)","Montage à bride 316L DN50","Endress Hauser Deltabar S-FMD78","Note 1",2200,{"$f":"IF(M15=\"krogh\",M11,0)","v":3},{"$f":"AO75*AP75","v":6600},null,null,null,null,null,null,null,null,null,null,"Vanne de contrôle - Corps Inox - KVS = 40\nDébit maxi : 25 m3/h - Signal de commande: 4-20mA",25,"Montage à bride DN50","SAMSON","Note 1",2880,0,0,null,null,"Puissance moteur 4 kW - 3 x 380…480V AC 50/60 HZ",4,"VBF_MS_VFD_4",2690,0,0,null,null,"Puissance moteur 4 kW - 3 x 380…480V AC 50/60 HZ","P_MS_DOL_4",980,{"$f":"IF(M54=4,M16,0)","v":0},0,null,null,"Puissance moteur 4 kW - 3 x 380…480V AC 50/60 HZ",4,"P_MS_VFD_4",2420,0,0,null,null,"Puissance Totale Utile  ≤ 300 KW  3 x 380…480V AC 50/60 HZ",300,"2 cellules 2000x800x500","PTU_300_KW",6455,null,0,0,0,null,null,"3 x 380…480V AC 50/60 HZ",null,null,null,null,null,null,null,null,null,null,null,null,null,null,null,null,null,null,null,null,null,null,null,null,null,null,null,null,null,null,null,null,null,null,null,null,null,null,null,null,null,null,null,null,null,null,null,null,null,null,null,null,null,null,null,null,null,null,null,null,null,null,null,"Puissance 5,5 KW (10HP) - 3 x 380…480V AC 50/60 HZ",5.5,"VFD_5.5",2029,0,0]
[null,"Débitmètre à section variable",63,"Montage à bride 316L DN100 – 4’’","KROHNE","Note 1",3200,{"$f":"IF(AND($M$25=C76,$E$15=\"oui\"),$E$17,0)+IF(AND($N$25=C76,$F$15=\"oui\"),$F$17,0)+IF(AND($O$25=C76,$G$15=\"oui\"),$G$17,0)+IF(AND($P$25=C76,$H$15=\"oui\"),$H$17,0)","v":0},{"$f":"G76*H76","v":0},null,null,null,null,null,null,null,null,null,"Débit : 30 à 70 m3/h (à 2,5m/s)",null,"DN65 à DN80","Promag 50",null,null,null,null,null,null,null,null,null,null,null,null,null,null,null,"Séparateur 316L et capillaire",null,null,null,null,null,null,null,null,null,null,null,null,null,null,null,"Vanne de contrôle - Corps Inox - KVS = 60\nDébit maxi : 35 m3/h - Signal de commande: 4-20mA",35,"Montage à bride DN65","SAMSON","Note 1",3390,0,0,null,null,"Puissance moteur 5,5 kW - 3 x 380…480V AC 50/60 HZ",5.5,"VBF_MS_VFD_5.5",2920,0,0,null,null,"Puissance moteur 5,5 kW - 3 x 380…480V AC 50/60 HZ","P_MS_DOL_5.5",1010,{"$f":"IF(M54=5.5,M16,0)","v":1},1010,null,null,"Puissance moteur 5,5 kW - 3 x 380…480V AC 50/60 HZ",5.5,"P_MS_VFD_5.5",2620,0,0,null,null,"Puissance Totale Utile  ≤ 400 KW  3 x 380…480V AC 50/60 HZ",400,"2 cellules 2000x800x500","PTU_400_KW",6705,null,0,0,0,null,null,"Puissance Totale Installée  ≤ 400 KVA",400,"1 cellule 2000x800x500","PTI_400-KVA",{"$f":"10150+605","v":10755},null,{"$f":"IF($M$40=CU76,1,0)","v":0},{"$f":"IF($E$11=\"non\",CZ76,CZ76*$M$13)","v":0},{"$f":"CX76*DA76","v":0},null,null,null,null,null,null,null,null,null,null,null,null,null,null,null,null,null,null,null,null,null,null,null,null,null,null,null,null,null,null,null,null,null,null,null,null,null,null,null,null,null,null,null,null,null,null,null,null,null,null,null,null,null,null,null,"Puissance 7,5 KW (1HP) - 3 x 380…480V AC 50/60 HZ",7.5,"VFD_7.5",2381,0,0]
[null,"Echelle de débit : maxi 63 m3/h",null,"Contact SB3,5-E2 24VCC 3fils NO PNP","H250/RR/M9/K1 MAX",null,null,null,null,null,null,null,null,null,null,null,null,null,"Débitmètre électromagnétique",110,"Montage à bride 316L revêtue PTFE","Endress Hauser","Note 1","Sur demande",{"$f":"IF(AND($M$27=T77,$E$19=\"oui\"),$E$21,0)+IF(AND($N$27=T77,$F$19=\"oui\"),$F$21,0)+IF(AND($O$27=T77,$G$19=\"oui\"),$G$21,0)+IF(AND($P$27=T77,$H$19=\"oui\"),$H$21,0)","v":0},null,null,null,null,null,null,null,null,null,null,null,"(*) généralement utilisé pour les mesures de niveaux dans les ballons séparateurs soumis au vide","Signal 2 fils 4-20mA HART",null,null,null,null,null,null,null,null,null,null,null,null,null,null,null,"Vanne de contrôle - Corps Inox - KVS = 80\nDébit maxi : 45 m3/h - Signal de commande: 4-20mA",45,"Montage à bride DN80","SAMSON","Note 1",4080,0,0,null,null,"Puissance moteur 7,5 kW - 3 x 380…480V AC 50/60 HZ",7.5,"VBF_MS_VFD_7.5",3480,0,0,null,null,"Puissance moteur 7,5 kW - 3 x 380…480V AC 50/60 HZ","P_MS_DOL_7.5",1090,{"$f":"IF(M54=7.5,M16,0)","v":0},0,null,null,"Puissance moteur 7,5 kW - 3 x 380…480V AC 50/60 HZ",7.5,"P_MS_VFD_7.5",3130,0,0,null,null,"Puissance Totale Utile  ≤ 500 KW  3 x 380…480V AC 50/60 HZ",500,"2 cellules 2000x800x500","PTU_500_KW",7705,null,0,0,0,null,null,"3 x 380…480V AC 50/60 HZ",null,null,null,null,null,null,null,null,null,null,null,null,null,null,null,null,null,null,null,null,null,null,null,null,null,null,null,null,null,null,null,null,null,null,null,null,null,null,null,null,null,null,null,null,null,null,null,null,null,null,null,null,null,null,null,null,null,null,null,null,null,null,null,"Puissance 11 KW (15HP) - 3 x 380…480V AC 50/60 HZ",11,"VFD_11",2843,0,0]
[null,null,null,null,null,null,null,null,null,null,null,null,null,null,null,null,null,null,"Débit : 110 à … m3/h (à 2,5m/s)",null,"DN125 à …","Promag 50",null,null,null,null,null,null,null,null,null,null,null,null,null,null,"Transmetteur de niveau - Technologie à sonde capacitive (*)","Montage à bride 316L DN50","Endress Hauser Liquicap M-FMI51","Note 1",2500,0,{"$f":"AO78*AP78","v":0},null,null,null,null,null,null,null,null,null,null,"Vanne de contrôle - Corps Inox - KVS = 160\nDébit maxi : 90 m3/h - Signal de commande: 4-20mA",90,"Montage à bride DN100","SAMSON","Note 1",5330,0,0,null,null,"Puissance moteur 11 kW - 3 x 380…480V AC 50/60 HZ",11,"VBF_MS_VFD_11",4050,0,0,null,null,"Puissance moteur 11 kW - 3 x 380…480V AC 50/60 HZ","P_MS_DOL_11",1110,{"$f":"IF(M54=11,M16,0)","v":0},0,null,null,"Puissance moteur 11 kW - 3 x 380…480V AC 50/60 HZ",11,"P_MS_VFD_11",3630,0,0,null,null,"Puissance Totale Utile  ≤ 600 KW  3 x 380…480V AC 50/60 HZ",600,"2 cellules 2000x800x500","PTU_600_KW",8625,null,0,0,0,null,null,"Puissance Totale Installée  ≤ 500 KVA",500,"1 cellule 2000x800x500","PTI_500-KVA",{"$f":"10800+605","v":11405},null,{"$f":"IF($M$40=CU78,1,0)","v":0},{"$f":"IF($E$11=\"non\",CZ78,CZ78*$M$13)","v":0},{"$f":"CX78*DA78","v":0},null,null,null,null,null,null,null,null,null,null,null,null,null,null,null,null,null,null,null,null,null,null,null,null,null,null,null,null,null,null,null,null,null,null,null,null,null,null,null,null,null,null,null,null,null,null,null,null,null,null,null,null,null,null,null,"Puissance 15 KW (20HP) - 3 x 380…480V AC 50/60 HZ",15,"VFD_15",3438,0,0]
[null,null,null,null,null,null,null,null,null,null,null,null,null,null,null,null,null,null,null,null,null,null,null,null,null,null,null,null,null,null,null,null,null,null,null,null,null,"Tige 316L revêtue PTFE",null,null,null,null,null,null,null,null,null,null,null,null,null,null,null,null,null,null,null,null,null,null,null,null,null,"Puissance moteur 15 kW - 3 x 380…480V AC 50/60 HZ",15,"VBF_MS_VFD_15",4800,0,0,null,null,"Puissance moteur 15 kW - 3 x 380…480V AC 50/60 HZ","P_MS_DOL_15",1200,{"$f":"IF(M54=15,M16,0)","v":0},0,null,null,"Puissance moteur 15 kW - 3 x 380…480V AC 50/60 HZ",15,"P_MS_VFD_15",4280,0,0,null,null,"Puissance Totale Utile  ≤ 700 KW  3 x 380…480V AC 50/60 HZ",700,"2 cellules 2000x800x500","PTU_700_KW",9705,null,0,0,0,null,null,"3 x 380…480V AC 50/60 HZ",null,null,null,null,null,null,null,null,null,null,null,null,null,null,null,null,null,null,null,null,null,null,null,null,null,null,null,null,null,null,null,null,null,null,null,null,null,null,null,null,null,null,null,null,null,null,null,null,null,null,null,null,null,null,null,null,null,null,null,null,null,null,null,"Puissance 18,5 KW (25HP) - 3 x 380…480V AC 50/60 HZ",18.5,"VFD_18.5",4155,0,0]
[null,null,null,null,null,null,null,null,null,null,null,null,null,null,null,null,null,null,null,null,null,null,null,null,null,null,null,null,null,null,null,null,null,null,null,null,"(*) généralement utilisé dans des ballons séparateurs en acier inox soumis au vide. Le principal inconvénient est la longueur imposante des tiges (manutention, installation et remplacement difficile). Ne pas utiliser dans des ballons séparateurs en FRP","Signal 2 fils 4-20mA HART",null,null,null,null,null,null,null,null,null,null,null,null,null,null,null,"Vanne de contrôle - Corps Inox - KVS = 260\nDébit maxi : 165 m3/h - Signal de commande: 4-20mA",165,"Montage à bride DN150","SAMSON","Note 1",8800,{"$f":"IF(AND($E$25=\"DIN PN16\",$E$23=\"oui\",$M$19=BC80),$E$27,0)+IF(AND($F$25=\"DIN PN16\",$F$23=\"oui\",$N$19=BC80),$F$27,0)+IF(AND($G$25=\"DIN PN16\",$G$23=\"oui\",$O$19=BC80),$G$27,0)+IF(AND($H$25=\"DIN PN16\",$H$23=\"oui\",$P$19=BC80),$H$27,0)","v":0},{"$f":"BG80*BH80","v":0},null,null,"Puissance moteur 18,5 kW - 3 x 380…480V AC 50/60 HZ",18.5,"VBF_MS_VFD_18.5",5150,0,0,null,null,"Puissance moteur 18,5 kW - 3 x 380…480V AC 50/60 HZ","MS_DOL_18.5",1250,{"$f":"IF(M54=18.5,M16,0)","v":0},0,null,null,"Puissance moteur 18,5 kW - 3 x 380…480V AC 50/60 HZ",18.5,"P_MS_VFD_18.5",4430,0,0,null,null,null,null,null,null,null,null,null,null,null,null,null,"Puissance Totale Installée  ≤ 600 KVA",600,"1 cellule 2000x800x500","PTI_600-KVA",{"$f":"11250+605","v":11855},null,{"$f":"IF($M$40=CU80,1,0)","v":0},{"$f":"IF($E$11=\"non\",CZ80,CZ80*$M$13)","v":0},{"$f":"CX80*DA80","v":0},null,null,null,null,null,null,null,null,null,null,null,null,null,null,null,null,null,null,null,null,null,null,null,null,null,null,null,null,null,null,null,null,null,null,null,null,null,null,null,null,null,null,null,null,null,null,null,null,null,null,null,null,null,null,null,"Puissance 22 KW (30HP) - 3 x 380…480V AC 50/60 HZ",22,"VFD_22",4860,0,0]
[null,null,null,null,null,null,null,null,null,null,null,null,null,null,null,null,null,null,null,null,null,null,null,null,null,null,null,null,null,null,null,null,null,null,null,null,"Transmetteur de niveau - Technologie à radar filoguidé (*)","Montage à bride 316L DN50","Endress Hauser Levelflex FMP52","Note 1",2500,0,{"$f":"AO81*AP81","v":0},null,null,null,null,null,null,null,null,null,null,"Exécution ANSI 150 lbs",null,null,null,null,null,null,null,null,null,"Puissance moteur 22 kW - 3 x 380…480V AC 50/60 HZ",22,"VBF_MS_VFD_22",6280,0,0,null,null,"Puissance moteur 22 kW - 3 x 380…480V AC 50/60 HZ","P_MS_DOL_22",1350,{"$f":"IF(M54=22,M16,0)","v":0},0,null,null,"Puissance moteur 22 kW - 3 x 380…480V AC 50/60 HZ",22,"P_MS_VFD_22",5470,0,0,null,null,null,null,null,null,null,null,null,null,null,null,null,"3 x 380…480V AC 50/60 HZ",null,null,null,null,null,null,null,null,null,null,null,null,null,null,null,null,null,null,null,null,null,null,null,null,null,null,null,null,null,null,null,null,null,null,null,null,null,null,null,null,null,null,null,null,null,null,null,null,null,null,null,null,null,null,null,null,null,null,null,null,null,null,null,"Puissance 30 KW (40HP) - 3 x 380…480V AC 50/60 HZ",30,"VFD_30",5981,0,0]
[null,null,null,null,null,null,null,null,null,null,null,null,null,null,null,null,null,null,null,null,null,null,null,null,null,null,null,null,null,null,null,null,null,null,null,null,null,"Tige 316L revêtue PTFE",null,null,null,null,null,null,null,null,null,null,null,null,null,null,null,"Vanne de contrôle - Corps Inox - CV = 5\nDébit maxi : 2,5 m3/h - Signal de commande: 4-20mA",2.5,"Montage à bride 1/2’’","SAMSON","Note 1",2260,{"$f":"IF(AND($E$25=\"AINSI 150lbs\",$E$23=\"oui\",$M$19=BC82),$E$27,0)+IF(AND($F$25=\"AINSI 150lbs\",$F$23=\"oui\",$N$19=BC82),$F$27,0)+IF(AND($G$25=\"AINSI 150lbs\",$G$23=\"oui\",$O$19=BC82),$G$27,0)+IF(AND($H$25=\"AINSI 150lbs\",$H$23=\"oui\",$P$19=BC82),$H$27,0)","v":0},{"$f":"BG82*BH82","v":0},null,null,"Puissance moteur 30 kW - 3 x 380…480V AC 50/60 HZ",30,"VBF_MS_VFD_30",7350,0,0,null,null,"Puissance moteur 30 kW - 3 x 380…480V AC 50/60 HZ","P_MS_DOL_30",1390,{"$f":"IF(M54=30,M16,0)","v":0},0,null,null,"Puissance moteur 30 kW - 3 x 380…480V AC 50/60 HZ",30,"P_MS_VFD_30",7010,0,0,null,null,null,null,null,null,null,null,null,null,null,null,null,"Puissance Totale Installée  ≤ 700 KVA",700,"1 cellule 2000x800x500","PTI_700-KVA",{"$f":"12800+605","v":13405},null,{"$f":"IF($M$40=CU82,1,0)","v":0},null,{"$f":"CX82*DA82","v":0},null,null,null,null,null,null,null,null,null,null,null,null,null,null,null,null,null,null,null,null,null,null,null,null,null,null,null,null,null,null,null,null,null,null,null,null,null,null,null,null,null,null,null,null,null,null,null,null,null,null,null,null,null,null,null,"Puissance 37 KW (50HP) - 3 x 380…480V AC 50/60 HZ",37,"VFD_37",7031,0,0]
[null,null,null,null,null,null,null,null,null,null,null,null,null,null,null,null,null,null,null,null,null,null,null,null,null,null,null,null,null,null,null,null,null,null,null,null,"(* généralement utilisé dans des ballons séparateurs en acier inox ou en FRP soumis au vide. Le principal inconvénient est la longueur imposante des tiges (manutention, installation et remplacement difficile)","Signal 2 fils 4-20mA HART",null,null,null,null,null,null,null,null,null,null,null,null,null,null,null,"Vanne de contrôle - Corps Inox - CV = 7,5\nDébit maxi : 3,5 m3/h - Signal de commande: 4-20mA",3.5,"Montage à bride 3/4’’","SAMSON","Note 1",2270,0,0,null,null,"Puissance moteur 37 kW - 3 x 380…480V AC 50/60 HZ",37,"VBF_MS_VFD_37",8780,0,0,null,null,"Puissance moteur 37 kW - 3 x 230…690V AC 50/60 HZ","P_MS_ESS_37",4180,{"$f":"IF(M54=37,M16,0)","v":0},0,null,null,"Puissance moteur 37 kW - 3 x 380…480V AC 50/60 HZ",37,"P_MS_VFD_37",7390,0,0,null,null,null,null,null,null,null,null,null,null,null,null,null,"3 x 380…480V AC 50/60 HZ",null,null,null,null,null,null,{"$f":"IF($E$11=\"non\",CZ82,CZ82*$M$13)","v":0},null,null,null,null,null,null,null,null,null,null,null,null,null,null,null,null,null,null,null,null,null,null,null,null,null,null,null,null,null,null,null,null,null,null,null,null,null,null,null,null,null,null,null,null,null,null,null,null,null,null,null,null,null,null,null,null,"Puissance 45 KW (60HP) - 3 x 380…480V AC 50/60 HZ",45,"VFD_45",8116,0,0]
[null,null,null,null,null,null,null,null,null,null,null,null,null,null,null,null,null,null,null,null,null,null,null,null,null,null,null,null,null,null,null,null,null,null,null,null,null,null,null,null,null,null,null,null,null,null,null,null,null,null,null,null,null,"Vanne de contrôle - Corps Inox - CV = 12\nDébit maxi : 6 m3/h - Signal de commande: 4-20mA",6,"Montage à bride 1’’","SAMSON","Note 1",2290,0,0,null,null,"Puissance moteur 45 kW - 3 x 380…480V AC 50/60 HZ",45,"VBF_MS_VFD_45",11130,0,0,null,null,"Puissance moteur 45 kW - 3 x 230…690V AC 50/60 HZ","P_MS_ESS_45",4880,{"$f":"IF(M54=45,M16,0)","v":0},0,null,null,"Puissance moteur 45 kW - 3 x 380…480V AC 50/60 HZ",45,"P_MS_VFD_45",9690,0,0,null,null,null,null,null,null,null,null,null,null,null,null,null,null,null,null,null,null,null,null,null,null,null,null,null,null,null,null,null,null,null,null,null,null,null,null,null,null,null,null,null,null,null,null,null,null,null,null,null,null,null,null,null,null,null,null,null,null,null,null,null,null,null,null,null,null,null,null,null,null,null,null,null,null,null,null,null,"Puissance 55 KW (75HP) - 3 x 380…480V AC 50/60 HZ",55,"VFD_55",9220,0,0]
[null,null,null,null,null,null,null,null,null,null,null,null,null,null,null,null,null,null,null,null,null,null,null,null,null,null,null,null,null,null,null,null,null,null,null,null,null,null,null,null,null,null,null,null,null,null,null,null,null,null,null,null,null,"Vanne de contrôle - Corps Inox - CV = 30\nDébit maxi : 14 m3/h - Signal de commande: 4-20mA",14,"Montage à bride 1 1/2’’","SAMSON","Note 1",2590,0,0,null,null,"Puissance moteur 55 kW - 3 x 380…480V AC 50/60 HZ",55,"VBF_MS_VFD_55",12350,0,0,null,null,"Puissance moteur 55 kW - 3 x 230…690V AC 50/60 HZ","P_MS_ESS_55",5870,{"$f":"IF(M54=55,M16,0)","v":0},0,null,null,"Puissance moteur 55 kW - 3 x 380…480V AC 50/60 HZ",55,"P_MS_VFD_55",10850,0,0,null,null,null,null,null,null,null,null,null,null,null,null,null,null,null,null,null,null,null,null,null,null,null,null,null,null,null,null,null,null,null,null,null,null,null,null,null,null,null,null,null,null,null,null,null,null,null,null,null,null,null,null,null,null,null,null,null,null,null,null,null,null,null,null,null,null,null,null,null,null,null,null,null,null,null,null,null,"Puissance 75 KW (100HP) - 3 x 380…480V AC 50/60 HZ",75,"VFD_75",12595,0,0]
[null,null,null,null,null,null,null,null,null,null,null,null,null,null,null,null,null,null,null,null,null,null,null,null,null,null,null,null,null,null,null,null,null,null,null,null,null,null,null,null,null,null,null,null,null,null,null,null,null,null,null,null,null,"Vanne de contrôle - Corps Inox - CV = 47\nDébit maxi : 25 m3/h - Signal de commande: 4-20mA",25,"Montage à bride DN 2’’","SAMSON","Note 1",2890,0,0,null,null,"Puissance moteur 75 kW - 3 x 380…480V AC 50/60 HZ",75,"VBF_MS_VFD_75",15695,0,0,null,null,"Puissance moteur 75 kW - 3 x 230…690V AC 50/60 HZ","P_MS_ESS_75",6100,{"$f":"IF(M54=75,M16,0)","v":0},0,null,null,"Puissance moteur 75 kW - 3 x 380…480V AC 50/60 HZ",75,"P_MS_VFD_75",12170,0,0,null,null,null,null,null,null,null,null,null,null,null,null,null,null,null,null,null,null,null,null,null,null,null,null,null,null,null,null,null,null,null,null,null,null,null,null,null,null,null,null,null,null,null,null,null,null,null,null,null,null,null,null,null,null,null,null,null,null,null,null,null,null,null,null,null,null,null,null,null,null,null,null,null,null,null,null,null,"Puissance 90 KW (125HP) - 3 x 380…480V AC 50/60 HZ",90,"VFD_90",14783,0,0]
[null,null,null,null,null,null,null,null,null,null,null,null,null,null,null,null,null,null,null,null,null,null,null,null,null,null,null,null,null,null,null,null,null,null,null,null,null,null,null,null,null,null,null,null,null,null,null,null,null,null,null,null,null,"Vanne de contrôle - Corps Inox - CV = 95\nDébit maxi : 45 m3/h - Signal de commande: 4-20mA",45,"Montage à bride DN 3’’","SAMSON","Note 1",4080,0,0,null,null,"Puissance moteur 90 kW - 3 x 380…480V AC 50/60 HZ",90,"VBF_MS_VFD_90",18170,0,0,null,null,"Puissance moteur 90 kW - 3 x 230…690V AC 50/60 HZ","P_MS_ESS_90",7590,{"$f":"IF(M54=90,M16,0)","v":0},0,null,null,"Puissance moteur 90 kW - 3 x 380…480V AC 50/60 HZ",90,"P_MS_VFD_90",14410,0,0,null,null,null,null,null,null,null,null,null,null,null,null,null,null,null,null,null,null,null,null,null,null,null,null,null,null,null,null,null,null,null,null,null,null,null,null,null,null,null,null,null,null,null,null,null,null,null,null,null,null,null,null,null,null,null,null,null,null,null,null,null,null,null,null,null,null,null,null,null,null,null,null,null,null,null,null,null,"Puissance 110 KW (150HP) - 3 x 380…480V AC 50/60 HZ",110,"VFD_110",17191,0,0]
[null,null,null,null,null,null,null,null,null,null,null,null,null,null,null,null,null,null,null,null,null,null,null,null,null,null,null,null,null,null,null,null,null,null,null,null,null,null,null,null,null,null,null,null,null,null,null,null,null,null,null,null,null,"Vanne de contrôle - Corps Inox - CV = 190\nDébit maxi : 90 m3/h - Signal de commande: 4-20mA",90,"Montage à bride DN 4’’","SAMSON","Note 1",5330,0,0,null,null,"Puissance moteur 110 kW - 3 x 380…480V AC 50/60 HZ",110,"VBF_MS_VFD_110",20580,0,0,null,null,"Puissance moteur 110 kW - 3 x 230…690V AC 50/60 HZ","P_MS_ESS_110",8850,{"$f":"IF(M54=110,M16,0)","v":0},0,null,null,"Puissance moteur 110 kW - 3 x 380…480V AC 50/60 HZ",110,"P_MS_VFD_110",16450,0,0,null,null,null,null,null,null,null,null,null,null,null,null,null,null,null,null,null,null,null,null,null,null,null,null,null,null,null,null,null,null,null,null,null,null,null,null,null,null,null,null,null,null,null,null,null,null,null,null,null,null,null,null,null,null,null,null,null,null,null,null,null,null,null,null,null,null,null,null,null,null,null,null,null,null,null,null,null,"Puissance 132 KW (200HP) - 3 x 380…480V AC 50/60 HZ",132,"VFD_132",19711,0,0]
[null,null,null,null,null,null,null,null,null,null,null,null,null,null,null,null,null,null,null,null,null,null,null,null,null,null,null,null,null,null,null,null,null,null,null,null,null,null,null,null,null,null,null,null,null,null,null,null,null,null,null,null,null,"Vanne de contrôle - Corps Inox - CV = 300\nDébit maxi : 165 m3/h - Signal de commande: 4-20mA",165,"Montage à bride DN 6’’","SAMSON","Note 1",8810,0,0,null,null,"Puissance moteur 132 kW - 3 x 380…480V AC 50/60 HZ",132,"VBF_MS_VFD_132",25338,0,0,null,null,"Puissance moteur 132 kW - 3 x 230…690V AC 50/60 HZ","P_MS_ESS_132",11540,{"$f":"IF(M54=132,M16,0)","v":0},0,null,null,"Puissance moteur 132 kW - 3 x 380…480V AC 50/60 HZ",132,"P_MS_VFD_132",20830,0,0,null,null,null,null,null,null,null,null,null,null,null,null,null,null,null,null,null,null,null,null,null,null,null,null,null,null,null,null,null,null,null,null,null,null,null,null,null,null,null,null,null,null,null,null,null,null,null,null,null,null,null,null,null,null,null,null,null,null,null,null,null,null,null,null,null,null,null,null,null,null,null,null,null,null,null,null,null,"Puissance 160 KW (250HP) - 3 x 380…480V AC 50/60 HZ",160,"VFD_160",21957,0,0]
[null,null,null,null,null,null,null,null,null,null,null,null,null,null,null,null,null,null,null,null,null,null,null,null,null,null,null,null,null,null,null,null,null,null,null,null,null,null,null,null,null,null,null,null,null,null,null,null,null,null,null,null,null,"Option pour vanne de contrôle",null,null,null,null,null,null,null,null,null,"Puissance moteur 160 kW - 3 x 380…480V AC 50/60 HZ",160,"VBF_MS_VFD_160",27584,0,0,null,null,"Puissance moteur 160 kW - 3 x 230…690V AC 50/60 HZ","P_MS_ESS_160",13480,{"$f":"IF(M54=160,M16,0)","v":0},0,null,null,"Puissance moteur 160 kW - 3 x 380…480V AC 50/60 HZ",160,"P_MS_VFD_160",23150,0,0]
[null,null,null,null,null,null,null,null,null,null,null,null,null,null,null,null,null,null,null,null,null,null,null,null,null,null,null,null,null,null,null,null,null,null,null,null,null,null,null,null,null,null,null,null,null,null,null,null,null,null,null,null,null,"Positionneur type HART (4-20mA) pour vanne DN15 à DN40",null,null,"SAMSON","Note 1",504,0,{"$f":"BG91*BH91","v":0},null,null,null,null,null,null,null,null,null,null,"Puissance moteur 220 kW - 3 x 230…690V AC 50/60 HZ","P_MS_ESS_220",17170,{"$f":"IF(M54=220,M16,0)","v":0},0]
[null,null,null,null,null,null,null,null,null,null,null,null,null,null,null,null,null,null,null,null,null,null,null,null,null,null,null,null,null,null,null,null,null,null,null,null,null,null,null,null,null,null,null,null,null,null,null,null,null,null,null,null,null,"Positionneur type HART (4-20mA) pour vanne DN50 à DN150",null,null,"SAMSON","Note 1",550,{"$f":"IF(AND(E26=\"oui\",E23=\"oui\"),E27,0)+IF(AND(F26=\"oui\",F23=\"oui\"),F27,0)+IF(AND(G26=\"oui\",G23=\"oui\"),G27,0)+IF(AND(H26=\"oui\",H23=\"oui\"),H27,0)","v":0},{"$f":"BG92*BH92","v":0},null,null,null,null,null,null,null,null,null,null,"Puissance moteur 250 kW - 3 x 230…690V AC 50/60 HZ","P_MS_ESS_250",19670,{"$f":"IF(M54=250,M16,0)","v":0},0]
[null,null,null,null,null,null,null,null,null,null,null,null,null,null,null,null,null,null,null,null,null,null,null,null,null,null,null,null,null,null,null,null,null,null,null,null,null,null,null,null,null,null,null,null,null,null,null,null,null,null,null,null,null,null,null,null,null,null,null,null,null,null,null,null,null,null,null,null,null,null,null,"Puissance moteur 315 kW - 3 x 230…690V AC 50/60 HZ","P_MS_ESS_315",24340,{"$f":"IF(M54=315,M16,0)","v":0},0]
[null,null,null,null,null,null,null,null,null,null,null,null,null,null,null,null,null,null,null,null,null,null,null,null,null,null,null,null,null,null,null,null,null,null,null,null,null,null,null,null,null,null,null,null,null,null,null,null,null,null,null,null,null,null,null,null,null,null,null,null,null,null,null,null,null,null,null,null,null,null,null,"Puissance moteur 355 kW - 3 x 230…690V AC 50/60 HZ","P_MS_ESS_355",28620,{"$f":"IF(M54=350,M16,0)","v":0},0]
[null,null,null,null,null,null,null,null,null,null,null,null,null,null,null,null,null,null,null,null,null,null,null,null,null,null,null,null,null,null,null,null,null,null,null,null,null,null,null,null,null,null,null,null,null,null,null,null,null,null,null,null,null,null,null,null,null,null,null,null,null,null,null,null,null,null,null,null,null,null,null,"Puissance moteur 400 kW - 3 x 230…690V AC 50/60 HZ","P_MS_ESS_400",30650,{"$f":"IF(M54=400,M16,0)","v":0},0]
[null,null,null,null,null,null,null,null,null,null,null,null,null,null,null,null,null,null,null,null,null,null,null,null,null,null,null,null,null,null,null,null,null,null,null,null,null,null,null,null,null,null,null,null,null,null,null,null,null,null,null,null,null,null,null,null,null,null,null,null,null,null,null,null,null,null,null,null,null,null,null,"Puissance moteur 500 kW - 3 x 230…690V AC 50/60 HZ","P_MS_ESS_500",40730,{"$f":"IF(M54=500,M16,0)","v":0},0]

{"sheet":"Data Instrum_Armoires","index":34,"n_rows":84,"n_cols":81,"rows_kept":84,"cut":false,"hidden":false,"merged":[[1,77,1,80],[2,21,2,24],[2,27,2,32],[2,34,2,39],[2,77,2,80],[1,65,1,69],[1,71,1,75],[1,41,1,45],[1,47,1,51],[1,53,1,57],[1,59,1,63],[1,34,1,39],[4,27,5,27],[4,29,5,29],[4,30,5,30],[3,32,13,32],[4,34,5,34],[3,6,4,6],[3,8,4,8],[3,10,4,10],[3,11,4,11],[3,12,4,12],[1,1,1,6],[1,8,1,12],[1,14,1,19],[1,21,1,24],[1,27,1,32],[7,2,8,2],[7,5,8,5],[7,6,8,6],[3,74,4,74],[3,48,6,48],[5,2,6,2],[5,5,6,5],[5,6,6,6],[5,8,6,8],[5,10,6,10],[5,11,6,11],[3,14,3,19],[5,12,6,12],[8,39,9,39],[3,2,4,2],[3,5,4,5],[3,75,4,75],[4,36,5,36],[4,37,5,37],[3,50,6,50],[3,66,4,66],[3,67,4,67],[3,68,4,68],[3,69,4,69],[3,72,4,72],[6,39,7,39],[3,47,6,47],[3,49,6,49],[4,39,5,39],[3,73,4,73],[16,39,17,39],[12,39,13,39],[14,1,14,6],[14,39,15,39],[15,14,15,19],[11,2,12,2],[11,5,12,5],[11,6,12,6],[16,2,17,2],[10,39,11,39],[9,2,10,2],[9,5,10,5],[9,6,10,6],[18,2,19,2],[20,2,21,2],[22,2,23,2],[24,2,25,2],[24,14,24,19],[25,15,25,16],[35,1,35,5],[36,3,38,3],[36,4,38,4],[36,5,38,5],[39,3,41,3],[39,4,41,4],[39,5,41,5],[26,15,26,16],[27,21,27,24],[28,1,28,5],[28,21,28,24],[30,3,32,3],[30,4,32,4],[30,5,32,5],[60,21,60,24],[61,21,61,24],[42,3,44,3],[42,4,44,4],[42,5,44,5],[48,1,48,5],[50,1,52,1],[50,3,52,3],[50,4,52,4],[50,5,52,5]]}
[]
[null,"CONTROLE DE DEBIT – DEBITMETRE A SECTION VARIABLE",null,null,null,null,null,null,"CONTROLE DE NIVEAU - DETECTEUR DE NIVEAU",null,null,null,null,null,"VANNE DE CONTRÔLE - REGULATION DE DEBIT / NIVEAU",null,null,null,null,null,null,"DEPART-MOTEUR FILTRE A BANDE",null,null,null,null,null,"CELLULE DE PUISSANCE",null,null,null,null,null,null,"CELLULE DE DISTRIBUTION",null,null,null,null,null,null,"CELLULE AUTOMATE",null,null,null,null,null,"Automate Programmable Industriel",null,null,null,null,null,"COFFRET DE COMMANDE LOCAL - MAINTENANCE",null,null,null,null,null,"COFFRET DE COMMANDE LOCAL – MULTIFONCTION",null,null,null,null,null,"Armoire électrique de PUISSANCE-CONTRÔLE - PETIT FILTRE",null,null,null,null,null,"Armoire AUTOMATE",null,null,null,null,null,"VARIATEUR DE FREQUENCE"]
[null,"Désignation",null,"Caractéristique","Fabricant-Type","Code article","Tarif (€)",null,"Désignation","Caractéristique","Fabricant-Type","Code article","Tarif (€)",null,"Désignation",null,"Caractéristique","Fabricant-Type","Code article","Tarif (€)",null,"Démarreur électrique composé : Disjoncteur + Contacteur + Variateur de fréquence (*)",null,null,null,null,null,"(Additionner la puissance (KW) de tous les départ-moteurs sélectionnés pour obtenir la Puissance Totale Utile de l’unité de filtration)",null,null,null,null,null,null,"(Ajouter 30% de la Puissance Totale Utile de l’unité de filtration pour obtenir la Puissance Totale Installée de l’unité de filtration)",null,null,null,null,null,null,"Désignation","Caractéristique","Code article","Tarif (€)",null,null,"Désignation","Caractéristique","Code article","Tarif (€)",null,null,"Désignation","Fonction - Caractéristique","Code article","Tarif (€)",null,null,"Désignation","Fonction - Caractéristique","Code article","Tarif (€)",null,null,"Désignation - Caractéristique","Dimension Cellule","Code article","Tarif (€)",null,null,"Désignation - Caractéristique","Dimension Cellule","Code article","Tarif (€)",null,null,"A associer aux moteurs d’entrainement du filtre à bande et rouleau presseur (*)"]
[null,"Débitmètre à section variable",0.63,"Montage à bride 316L DN15 – ½’’","KROHNE","Note 1",1300,null,"Capteur de niveau – Technologie à lame vibrante","Montage à bride 316L DN50","Endress Hauser Liquifant M-FTL50","EELE000794-0000",1200,null,"Exécution DIN PN16",null,null,null,null,null,null,"Désignation - Caractéristique",null,"Code article","Tarif (€)",null,null,"Désignation - Caractéristique",null,"Dimension Cellule","Code article","Tarif (€)",null,null,"Désignation - Caractéristique",null,"Dimension Cellule","Code article","Tarif (€)",null,null,"Cellule Automate","2000x800x500","PLC_EC",{"$f":"3000+120+180+180+300+70","v":3850},null,null,"Automate Modicon M340 (*)","1 rack principal 12 emplacements\n1 module d’alimentation 230Vac\n1 Processeur équipé de 2 ports de liaison Modbus RTU RS485 et Modbus TCP/IP Ethernet (pour la communication avec le terminal graphique)\n1 module Modbus RTU RS485  pour la communication avec le DCS Client\n2 cartes - 32 x Entrées TOR 24VCC\n1 carte - 16 x Sorties relais\n3 cartes - 4 x Entrées Analogiques\n1 carte - 4 x Sorties analogiques\n6 embases de raccordement ABE-7","CONF_PLC_STA",16800,null,null,"Coffret de commande local (*)","Maintenance - 600x400x200 (**)","LCP_MAIN_FRP",{"$f":"3620+75","v":3695},null,null,"Coffret de commande local (*)","Multi-fonction - 600x400x200 (**)","LCP_AUTO_FRP",{"$f":"11000+75","v":11075},null,null,"Puissance Totale Installée  ≤ 50 KW","1 cellule monobloc 2000x1200x500","PTI_020_KVA",{"$f":"14500+120+180+180+300+70","v":15350},null,null,"Puissance Totale Installée  ≤ 5 KVA","1 cellule monobloc 2000x800x500","PTI_005_KVA",{"$f":"12500+120+180+180+300+70","v":13350},null,null,"Désignation - Caractéristique",null,"Référence","Tarif (€)"]
[null,"Echelle de débit : maxi 630 l/h",null,"Contact SB3,5-E2 24VCC 3fils NO PNP","H250/RR/M9/K1 MAX",null,null,null,null,"Lame vibrante 316L",null,null,null,null,"Vanne de contrôle - Corps Inox - KVS = 4\nDébit maxi : 2,5 m3/h - Signal de commande: 4-20mA",2.5,"Montage à bride DN15","SAMSON","Note 1",3000,null,"Puissance moteur ≤ 0,37 kW - 3 x 380…480V AC 50/60 HZ",0.37,"VBF_MS_VFD_0.37",2000,null,null,"Puissance Totale Utile 50 ≤ … ≤ 100 KW\n3 x 380…480V AC 50/60 HZ",0,"1 cellule 2000x800x500","PTU_100_KW",3000,null,null,"Puissance Totale Installée  ≤ 100 KVA\n3 x 380…480V AC 50/60 HZ",0,"1 cellule 2000x800x500","PTI_100_KVA",11600,null,null,null,null,null,null,null,null,null,null,null,null,null,null,"Coffret de commande local (*)","Maintenance - 500x400x200 (***)","LCP_MAIN_SS",{"$f":"3900+75","v":3975},null,null,"Coffret de commande local (*)","Multi-fonction - 500x500x210 (***)","LCP_AUTO_SS",{"$f":"11200+75","v":11275},null,null,"3 x 380…480V AC 50/60 HZ",null,null,null,null,null,"1x230…2 x 380…3x380…480V AC 50/60 HZ",null,null,null,null,null,"Puissance 0,75 KW (1HP) - 3 x 380…480V AC 50/60 HZ",0.75,"VFD_0.75",1000]
[null,"Débitmètre à section variable",4,"Montage à bride 316L DN25 – 1’’","KROHNE","Note 1",1600,null,"Capteur de niveau – Technologie à lame vibrante","Montage à bride 316L DN50","Endress Hauser Liquifant M-FTL51C","EELE000793-0000",1500,null,"Vanne de contrôle - Corps Inox - KVS = 6,3\nDébit maxi : 3,5 m3/h - Signal de commande: 4-20mA",3.5,"Montage à bride DN20","SAMSON","Note 1",3200,null,"Puissance moteur ≤ 0,75 kW - 3 x 380…480V AC 50/60 HZ",0.75,"VBF_MS_VFD_0.75",2200,null,null,null,100,null,null,3000,null,null,null,100,null,null,11600,null,null,null,null,null,null,null,null,null,null,null,null,null,null,null,null,null,null,null,null,null,null,null,null,null,null,null,null,null,null,null,null,null,null,null,null,null,null,"Puissance 1,5 KW (2HP) - 3 x 380…480V AC 50/60 HZ",1.5,"VFD_1.5",1200]
[null,"Echelle de débit : maxi 4 m3/h",null,"Contact SB3,5-E2 24VCC 3fils NO PNP","H250/RR/M9/K1 MAX",null,null,null,null,"Lame et bride revêtue PFA",null,null,null,null,"Vanne de contrôle - Corps Inox - KVS = 10\nDébit maxi : 6 m3/h - Signal de commande: 4-20mA",6,"Montage à bride DN25","SAMSON","Note 1",3400,null,"Puissance moteur 1,1 kW - 3 x 380…480V AC 50/60 HZ",1.1000000000000001,"VBF_MS_VFD_1.1",2400,null,null,"Puissance Totale Utile  ≤ 150 KW  3 x 380…480V AC 50/60 HZ",150,"1 cellule 2000x800x500","PTU_150_KW",3750,null,null,"Puissance Totale Installée  ≤ 200 KVA\n3 x 380…480V AC 50/60 HZ",200,"1 cellule 2000x800x500","PTI_200_KVA",11850,null,null,null,null,null,null,null,null,null,null,null,null,null,null,null,null,null,null,null,null,null,null,null,null,null,null,null,null,null,null,null,null,null,null,null,null,null,null,"Puissance 2,2 KW  (3HP) - 3 x 380…480V AC 50/60 HZ",2.2000000000000002,"VFD_2.2",1300]
[null,"Débitmètre à section variable",10,"Montage à bride 316L DN50 – 2’’","KROHNE","Note 1",2000,null,null,null,null,null,null,null,"Vanne de contrôle - Corps Inox - KVS = 16\nDébit maxi : 8 m3/h - Signal de commande: 4-20mA",8,"Montage à bride DN32","SAMSON","Note 1",3500,null,"Puissance moteur 1,5 kW - 3 x 380…480V AC 50/60 HZ",1.5,"VBF_MS_VFD_1.5",2500,null,null,"Puissance Totale Utile  ≤ 200 KW  3 x 380…480V AC 50/60 HZ",200,"1 cellule 2000x800x500","PTU_200_KW",4600,null,null,"Puissance Totale Installée  ≤ 300 KVA\n3 x 380…480V AC 50/60 HZ",300,"1 cellule 2000x800x500","PTI_300-KVA",12000,null,null,null,null,null,null,null,null,null,null,null,null,null,null,null,null,null,null,null,null,null,null,null,null,null,null,null,null,null,null,null,null,null,null,null,null,null,null,"Puissance 3 KW (4HP) - 3 x 380…480V AC 50/60 HZ",3,"VFD_3",1400]
[null,"Echelle de débit : maxi 10 m3/h ",null,"Contact SB3,5-E2 24VCC 3fils NO PNP","H250/RR/M9/K1 MAX",null,null,null,null,null,null,null,null,null,"Vanne de contrôle - Corps Inox - KVS = 25\nDébit maxi : 14 m3/h - Signal de commande: 4-20mA",14,"Montage à bride DN40","SAMSON","Note 1",3800,null,"Puissance moteur 2,2 kW - 3 x 380…480V AC 50/60 HZ",2.2000000000000002,"VBF_MS_VFD_2.2",2700,null,null,"Puissance Totale Utile  ≤ 250 KW  3 x 380…480V AC 50/60 HZ",250,"2 cellules 2000x800x500","PTU_250_KW",6000,null,null,"Puissance Totale Installée  ≤ 400 KVA\n3 x 380…480V AC 50/60 HZ",400,"1 cellule 2000x800x500","PTI_400-KVA",11500,null,null,null,null,null,null,null,null,null,null,null,null,null,null,null,null,null,null,null,null,null,null,null,null,null,null,null,null,null,null,null,null,null,null,null,null,null,null,"Puissance 4 KW (5,5HP) - 3 x 380…480V AC 50/60 HZ",4,"VFD_4",1600]
[null,"Débitmètre à section variable",40,"Montage à bride 316L DN80 – 3’’","KROHNE","Note 1",2800,null,null,null,null,null,null,null,"Vanne de contrôle - Corps Inox - KVS = 40\nDébit maxi : 25 m3/h - Signal de commande: 4-20mA",25,"Montage à bride DN50","SAMSON","Note 1",4200,null,"Puissance moteur 3 kW - 3 x 380…480V AC 50/60 HZ",3,"VBF_MS_VFD_3",2900,null,null,"Puissance Totale Utile  ≤ 300 KW  3 x 380…480V AC 50/60 HZ",300,"2 cellules 2000x800x500","PTU_300_KW",7000,null,null,"Puissance Totale Installée  ≤ 500 KVA\n3 x 380…480V AC 50/60 HZ",500,"1 cellule 2000x800x500","PTI_500-KVA",12500,null,null,null,null,null,null,null,null,null,null,null,null,null,null,null,null,null,null,null,null,null,null,null,null,null,null,null,null,null,null,null,null,null,null,null,null,null,null,"Puissance 5,5 KW (10HP) - 3 x 380…480V AC 50/60 HZ",5.5,"VFD_5.5",1800]
[null,"Echelle de débit : maxi 40 m3/h",null,"Contact SB3,5-E2 24VCC 3fils NO PNP","H250/RR/M9/K1 MAX",null,null,null,null,null,null,null,null,null,"Vanne de contrôle - Corps Inox - KVS = 60\nDébit maxi : 35 m3/h - Signal de commande: 4-20mA",35,"Montage à bride DN65","SAMSON","Note 1",4500,null,"Puissance moteur 4 kW - 3 x 380…480V AC 50/60 HZ",4,"VBF_MS_VFD_4",3100,null,null,"Puissance Totale Utile  ≤ 400 KW  3 x 380…480V AC 50/60 HZ",400,"2 cellules 2000x800x500","PTU_400_KW",7300,null,null,"Puissance Totale Installée  ≤ 600 KVA\n3 x 380…480V AC 50/60 HZ",600,"1 cellule 2000x800x500","PTI_600-KVA",13500,null,null,null,null,null,null,null,null,null,null,null,null,null,null,null,null,null,null,null,null,null,null,null,null,null,null,null,null,null,null,null,null,null,null,null,null,null,null,"Puissance 7,5 KW (1HP) - 3 x 380…480V AC 50/60 HZ",7.5,"VFD_7.5",2200]
[null,"Débitmètre à section variable",63,"Montage à bride 316L DN100 – 4’’","KROHNE","Note 1",3200,null,null,null,null,null,null,null,"Vanne de contrôle - Corps Inox - KVS = 80\nDébit maxi : 45 m3/h - Signal de commande: 4-20mA",45,"Montage à bride DN80","SAMSON","Note 1",5000,null,"Puissance moteur 5,5 kW - 3 x 380…480V AC 50/60 HZ",5.5,"VBF_MS_VFD_5.5",3500,null,null,"Puissance Totale Utile  ≤ 500 KW  3 x 380…480V AC 50/60 HZ",500,"2 cellules 2000x800x500","PTU_500_KW",8500,null,null,"Puissance Totale Installée  ≤ 700 KVA\n3 x 380…480V AC 50/60 HZ",700,"1 cellule 2000x800x500","PTI_700-KVA",15600,null,null,null,null,null,null,null,null,null,null,null,null,null,null,null,null,null,null,null,null,null,null,null,null,null,null,null,null,null,null,null,null,null,null,null,null,null,null,"Puissance 11 KW (15HP) - 3 x 380…480V AC 50/60 HZ",11,"VFD_11",2800]
[null,"Echelle de débit : maxi 63 m3/h",null,"Contact SB3,5-E2 24VCC 3fils NO PNP","H250/RR/M9/K1 MAX",null,null,null,null,null,null,null,null,null,"Vanne de contrôle - Corps Inox - KVS = 160\nDébit maxi : 90 m3/h - Signal de commande: 4-20mA",90,"Montage à bride DN100","SAMSON","Note 1","sur demande",null,"Puissance moteur 7,5 kW - 3 x 380…480V AC 50/60 HZ",7.5,"VBF_MS_VFD_7.5",4150,null,null,"Puissance Totale Utile  ≤ 600 KW  3 x 380…480V AC 50/60 HZ",600,"2 cellules 2000x800x500","PTU_600_KW",9600,null,null,null,null,null,null,null,null,null,null,null,null,null,null,null,null,null,null,null,null,null,null,null,null,null,null,null,null,null,null,null,null,null,null,null,null,null,null,null,null,null,null,null,null,null,"Puissance 15 KW (20HP) - 3 x 380…480V AC 50/60 HZ",15,"VFD_15",3200]
[null,null,null,null,null,null,null,null,null,null,null,null,null,null,"Vanne de contrôle - Corps Inox - KVS = 160\nDébit maxi : 120 m3/h - Signal de commande: 4-20mA",120,"Montage à bride DN125","SAMSON","Note 1","sur  demande",null,"Puissance moteur 11 kW - 3 x 380…480V AC 50/60 HZ",11,"VBF_MS_VFD_11",4800,null,null,"Puissance Totale Utile  ≤ 700 KW  3 x 380…480V AC 50/60 HZ",700,"2 cellules 2000x800x500","PTU_700_KW",11000,null,null,null,null,null,null,null,null,null,null,null,null,null,null,null,null,null,null,null,null,null,null,null,null,null,null,null,null,null,null,null,null,null,null,null,null,null,null,null,null,null,null,null,null,null,"Puissance 18,5 KW (25HP) - 3 x 380…480V AC 50/60 HZ",18.5,"VFD_18.5",3600]
[null,"CONTROLE ET MESURE DE DEBIT - DEBITMETRE ELECTROMAGNETIQUE",null,null,null,null,null,null,null,null,null,null,null,null,"Vanne de contrôle - Corps Inox - KVS = 260\nDébit maxi : 165 m3/h - Signal de commande: 4-20mA",165,"Montage à bride DN150","SAMSON","Note 1","sur demande",null,"Puissance moteur 15 kW - 3 x 380…480V AC 50/60 HZ",15,"VBF_MS_VFD_15",5700,null,null,null,null,null,null,null,null,null,null,null,null,null,null,null,null,null,null,null,null,null,null,null,null,null,null,null,null,null,null,null,null,null,null,null,null,null,null,null,null,null,null,null,null,null,null,null,null,null,null,null,null,"Puissance 22 KW (30HP) - 3 x 380…480V AC 50/60 HZ",22,"VFD_22",4400]
[null,"Désignation",null,"Caractéristique","Fabricant-Type","Code article","Tarif (€)",null,null,null,null,null,null,null,"Exécution ANSI 150 lbs",null,null,null,null,null,null,"Puissance moteur 18,5 kW - 3 x 380…480V AC 50/60 HZ",18.5,"VBF_MS_VFD_18.5",6100,null,null,null,null,null,null,null,null,null,null,null,null,null,null,null,null,null,null,null,null,null,null,null,null,null,null,null,null,null,null,null,null,null,null,null,null,null,null,null,null,null,null,null,null,null,null,null,null,null,null,null,null,"Puissance 30 KW (40HP) - 3 x 380…480V AC 50/60 HZ",30,"VFD_30",5400]
[null,"Débitmètre électromagnétique",4.5,"Montage à bride 316L revêtue PTFE","Endress Hauser","Note 1",1800,null,null,null,null,null,null,null,"Vanne de contrôle - Corps Inox - CV = 5\nDébit maxi : 2,5 m3/h - Signal de commande: 4-20mA",2.5,"Montage à bride 1/2’’","SAMSON","Note 1",3000,null,"Puissance moteur 22 kW - 3 x 380…480V AC 50/60 HZ",22,"VBF_MS_VFD_22",7500,null,null,null,null,null,null,null,null,null,null,null,null,null,null,null,null,null,null,null,null,null,null,null,null,null,null,null,null,null,null,null,null,null,null,null,null,null,null,null,null,null,null,null,null,null,null,null,null,null,null,null,null,"Puissance 37 KW (50HP) - 3 x 380…480V AC 50/60 HZ",37,"VFD_37",6500]
[null,"Débit : 1,6 à 4,5 m3/h (à 2,5m/s)",null,"DN15 à DN25","Promag 50",null,null,null,null,null,null,null,null,null,"Vanne de contrôle - Corps Inox - CV = 7,5\nDébit maxi : 3,5 m3/h - Signal de commande: 4-20mA",3.5,"Montage à bride 3/4’’","SAMSON","Note 1",3200,null,"Puissance moteur 30 kW - 3 x 380…480V AC 50/60 HZ",30,"VBF_MS_VFD_30",8800,null,null,null,null,null,null,null,null,null,null,null,null,null,null,null,null,null,null,null,null,null,null,null,null,null,null,null,null,null,null,null,null,null,null,null,null,null,null,null,null,null,null,null,null,null,null,null,null,null,null,null,null,"Puissance 45 KW (60HP) - 3 x 380…480V AC 50/60 HZ",45,"VFD_45",7500]
[null,"Débitmètre électromagnétique",11,"Montage à bride 316L revêtue PTFE","Endress Hauser","Note 1",2000,null,null,null,null,null,null,null,"Vanne de contrôle - Corps Inox - CV = 12\nDébit maxi : 6 m3/h - Signal de commande: 4-20mA",6,"Montage à bride 1’’","SAMSON","Note 1",3400,null,"Puissance moteur 37 kW - 3 x 380…480V AC 50/60 HZ",37,"VBF_MS_VFD_37",10500,null,null,null,null,null,null,null,null,null,null,null,null,null,null,null,null,null,null,null,null,null,null,null,null,null,null,null,null,null,null,null,null,null,null,null,null,null,null,null,null,null,null,null,null,null,null,null,null,null,null,null,null,"Puissance 55 KW (75HP) - 3 x 380…480V AC 50/60 HZ",55,"VFD_55",8800]
[null,"Débit : 7 à 11 m3/h (à 2,5m/s)",null,"DN32 à DN40","Promag 50",null,null,null,null,null,null,null,null,null,"Vanne de contrôle - Corps Inox - CV = 30\nDébit maxi : 14 m3/h - Signal de commande: 4-20mA",14,"Montage à bride 1 1/2’’","SAMSON","Note 1",3800,null,"Puissance moteur 45 kW - 3 x 380…480V AC 50/60 HZ",45,"VBF_MS_VFD_45",13000,null,null,null,null,null,null,null,null,null,null,null,null,null,null,null,null,null,null,null,null,null,null,null,null,null,null,null,null,null,null,null,null,null,null,null,null,null,null,null,null,null,null,null,null,null,null,null,null,null,null,null,null,"Puissance 75 KW (100HP) - 3 x 380…480V AC 50/60 HZ",75,"VFD_75",12000]
[null,"Débitmètre électromagnétique",30,"Montage à bride 316L revêtue PTFE","Endress Hauser","Note 1",2500,null,null,null,null,null,null,null,"Vanne de contrôle - Corps Inox - CV = 47\nDébit maxi : 25 m3/h - Signal de commande: 4-20mA",25,"Montage à bride DN 2’’","SAMSON","Note 1",4200,null,"Puissance moteur 55 kW - 3 x 380…480V AC 50/60 HZ",55,"VBF_MS_VFD_55",14800,null,null,null,null,null,null,null,null,null,null,null,null,null,null,null,null,null,null,null,null,null,null,null,null,null,null,null,null,null,null,null,null,null,null,null,null,null,null,null,null,null,null,null,null,null,null,null,null,null,null,null,null,"Puissance 90 KW (125HP) - 3 x 380…480V AC 50/60 HZ",90,"VFD_90",14100]
[null,"Débit : 15 à 30 m3/h (à 2,5m/s)",null,"DN50 à DN65","Promag 50",null,null,null,null,null,null,null,null,null,"Vanne de contrôle - Corps Inox - CV = 95\nDébit maxi : 45 m3/h - Signal de commande: 4-20mA",45,"Montage à bride DN 3’’","SAMSON","Note 1",5000,null,"Puissance moteur 75 kW - 3 x 380…480V AC 50/60 HZ",75,"VBF_MS_VFD_75",18000,null,null,null,null,null,null,null,null,null,null,null,null,null,null,null,null,null,null,null,null,null,null,null,null,null,null,null,null,null,null,null,null,null,null,null,null,null,null,null,null,null,null,null,null,null,null,null,null,null,null,null,null,"Puissance 110 KW (150HP) - 3 x 380…480V AC 50/60 HZ",110,"VFD_110",17500]
[null,"Débitmètre électromagnétique",70,"Montage à bride 316L revêtue PTFE","Endress Hauser","Note 1",3000,null,null,null,null,null,null,null,"Vanne de contrôle - Corps Inox - CV = 190\nDébit maxi : 90 m3/h - Signal de commande: 4-20mA",90,"Montage à bride DN 4’’","SAMSON","Note 1","sur demande",null,"Puissance moteur 90 kW - 3 x 380…480V AC 50/60 HZ",90,"VBF_MS_VFD_90",21800,null,null,null,null,null,null,null,null,null,null,null,null,null,null,null,null,null,null,null,null,null,null,null,null,null,null,null,null,null,null,null,null,null,null,null,null,null,null,null,null,null,null,null,null,null,null,null,null,null,null,null,null,"Puissance 132 KW (200HP) - 3 x 380…480V AC 50/60 HZ",132,"VFD_132",19900]
[null,"Débit : 30 à 70 m3/h (à 2,5m/s)",null,"DN65 à DN80","Promag 50",null,null,null,null,null,null,null,null,null,"Vanne de contrôle - Corps Inox - CV = 300\nDébit maxi : 165 m3/h - Signal de commande: 4-20mA",165,"Montage à bride DN 6’’","SAMSON","Note 1","sur demande",null,"Puissance moteur 110 kW - 3 x 380…480V AC 50/60 HZ",110,"VBF_MS_VFD_110",24500,null,null,null,null,null,null,null,null,null,null,null,null,null,null,null,null,null,null,null,null,null,null,null,null,null,null,null,null,null,null,null,null,null,null,null,null,null,null,null,null,null,null,null,null,null,null,null,null,null,null,null,null,"Puissance 160 KW (250HP) - 3 x 380…480V AC 50/60 HZ",160,"VFD_160",22000]
[null,"Débitmètre électromagnétique",110,"Montage à bride 316L revêtue PTFE","Endress Hauser","Note 1","Sur demande",null,null,null,null,null,null,null,"Option pour vanne de contrôle",null,null,null,null,null,null,"Puissance moteur 132 kW - 3 x 380…480V AC 50/60 HZ",132,"VBF_MS_VFD_132",30100]
[null,"Débit : 110 à … m3/h (à 2,5m/s)",null,"DN125 à …","Promag 50",null,null,null,null,null,null,null,null,null,"Positionneur type HART (4-20mA) pour vanne DN15 à DN40",null,null,"SAMSON","Note 1",1200,null,"Puissance moteur 160 kW - 3 x 380…480V AC 50/60 HZ",160,"VBF_MS_VFD_160",33100]
[null,null,null,null,null,null,null,null,null,null,null,null,null,null,"Positionneur type HART (4-20mA) pour vanne DN50 à DN150",null,null,"SAMSON","Note 1",1200]
[null,null,null,null,null,null,null,null,null,null,null,null,null,null,null,null,null,null,null,null,null,"DEPART-MOTEUR POMPE A VIDE (et pour pompes sans VFD)"]
[null,"CONTROLE ET MESURE DE NIVEAU - TRANSMETTEUR DE NIVEAU POUR BAC",null,null,null,null,null,null,null,null,null,null,null,null,null,null,null,null,null,null,null,"Démarreur électrique de type ‘’Direct’’ DOL composé : Disjoncteur + Contacteur (*)"]
[null,"Désignation","Caractéristique","Fabricant-Type","Code article","Tarif (€)",null,null,null,null,null,null,null,null,null,null,null,null,null,null,null,"Désignation - Caractéristique",null,"Code article","Tarif (€)"]
[null,"Transmetteur de niveau – Technologie à ultrason (*)","Montage G 1½ ''","Endress Hauser Prosonic M-FMU40","EELE000795-0000",1100,null,null,null,null,null,null,null,null,null,null,null,null,null,null,null,"Puissance moteur ≤ 0,75 kW - 3 x 380…480V AC 50/60 HZ",0.75,"P_MS_DOL_0.75",1000]
[null,null,"Signal 2 fils 4-20mA HART",null,null,null,null,null,null,null,null,null,null,null,null,null,null,null,null,null,null,"Puissance moteur 1,1 kW - 3 x 380…480V AC 50/60 HZ",1.1000000000000001,"P_MS_DOL_1.1",1050]
[null,"(*) non compatible  pour une installation dans un ballon séparateur soumis au vide",null,null,null,null,null,null,null,null,null,null,null,null,null,null,null,null,null,null,null,"Puissance moteur 1,5 kW - 3 x 380…480V AC 50/60 HZ",1.5,"P_MS_DOL_1.5",1100]
[null,"Option -  Bride de raccordement pour transmetteur de niveau à ultrason","Montage bride DN50 polypropylène","Endress Hauser","EELE000796-0000",250,null,null,null,null,null,null,null,null,null,null,null,null,null,null,null,"Puissance moteur 2,2 kW - 3 x 380…480V AC 50/60 HZ",2.2000000000000002,"P_MS_DOL_2.2",1150]
[null,"Option -  Capot de protection pour transmetteur de niveau à ultrason","Acier Inox 316Ti","Endress Hauser","EELE000797-0000",100,null,null,null,null,null,null,null,null,null,null,null,null,null,null,null,"Puissance moteur 3 kW - 3 x 380…480V AC 50/60 HZ",3,"P_MS_DOL_3",1200]
[null,"POUR BALLON VIDE",null,null,null,null,null,null,null,null,null,null,null,null,null,null,null,null,null,null,null,"Puissance moteur 4 kW - 3 x 380…480V AC 50/60 HZ",4,"P_MS_DOL_4",1250]
[null,"Transmetteur de niveau - Technologie à pression différentielle(*)","Montage à bride 316L DN50","Endress Hauser Deltabar S-FMD78","Note 1",3200,null,null,null,null,null,null,null,null,null,null,null,null,null,null,null,"Puissance moteur 5,5 kW - 3 x 380…480V AC 50/60 HZ",5.5,"P_MS_DOL_5.5",1300]
[null,null,"Séparateur 316L et capillaire",null,null,null,null,null,null,null,null,null,null,null,null,null,null,null,null,null,null,"Puissance moteur 7,5 kW - 3 x 380…480V AC 50/60 HZ",7.5,"P_MS_DOL_7.5",1350]
[null,"(*) généralement utilisé pour les mesures de niveaux dans les ballons séparateurs soumis au vide","Signal 2 fils 4-20mA HART",null,null,null,null,null,null,null,null,null,null,null,null,null,null,null,null,null,null,"Puissance moteur 11 kW - 3 x 380…480V AC 50/60 HZ",11,"P_MS_DOL_11",1400]
[null,"Transmetteur de niveau - Technologie à sonde capacitive (*)","Montage à bride 316L DN50","Endress Hauser Liquicap M-FMI51","Note 1",2500,null,null,null,null,null,null,null,null,null,null,null,null,null,null,null,"Puissance moteur 15 kW - 3 x 380…480V AC 50/60 HZ",15,"P_MS_DOL_15",1450]
[null,null,"Tige 316L revêtue PTFE",null,null,null,null,null,null,null,null,null,null,null,null,null,null,null,null,null,null,"Puissance moteur 18,5 kW - 3 x 380…480V AC 50/60 HZ",18.5,"MS_DOL_18.5",1500]
[null,"(*) généralement utilisé dans des ballons séparateurs en acier inox soumis au vide. Le principal inconvénient est la longueur imposante des tiges (manutention, installation et remplacement difficile). Ne pas utiliser dans des ballons séparateurs en FRP","Signal 2 fils 4-20mA HART",null,null,null,null,null,null,null,null,null,null,null,null,null,null,null,null,null,null,"Puissance moteur 22 kW - 3 x 380…480V AC 50/60 HZ",22,"P_MS_DOL_22",16000]
[null,"Transmetteur de niveau - Technologie à radar filoguidé (*)","Montage à bride 316L DN50","Endress Hauser Levelflex FMP52","Note 1",2600,null,null,null,null,null,null,null,null,null,null,null,null,null,null,null,"Puissance moteur 30 kW - 3 x 380…480V AC 50/60 HZ",30,"P_MS_DOL_30",1650]
[null,null,"Tige 316L revêtue PTFE",null,null,null,null,null,null,null,null,null,null,null,null,null,null,null,null,null,null,"Puissance moteur 37 kW - 3 x 230…690V AC 50/60 HZ",37,"P_MS_ESS_37",5000]
[null,"(* généralement utilisé dans des ballons séparateurs en acier inox ou en FRP soumis au vide. Le principal inconvénient est la longueur imposante des tiges (manutention, installation et remplacement difficile)","Signal 2 fils 4-20mA HART",null,null,null,null,null,null,null,null,null,null,null,null,null,null,null,null,null,null,"Puissance moteur 45 kW - 3 x 230…690V AC 50/60 HZ",45,"P_MS_ESS_45",5800]
[null,null,null,null,null,null,null,null,null,null,null,null,null,null,null,null,null,null,null,null,null,"Puissance moteur 55 kW - 3 x 230…690V AC 50/60 HZ",55,"P_MS_ESS_55",7000]
[null,null,null,null,null,null,null,null,null,null,null,null,null,null,null,null,null,null,null,null,null,"Puissance moteur 75 kW - 3 x 230…690V AC 50/60 HZ",75,"P_MS_ESS_75",7300]
[null,null,null,null,null,null,null,null,null,null,null,null,null,null,null,null,null,null,null,null,null,"Puissance moteur 90 kW - 3 x 230…690V AC 50/60 HZ",90,"P_MS_ESS_90",9100]
[null,"CONTROLE ET MESURE DE PRESSION - TRANSMETTEUR DE PRESSION",null,null,null,null,null,null,null,null,null,null,null,null,null,null,null,null,null,null,null,"Puissance moteur 110 kW - 3 x 230…690V AC 50/60 HZ",110,"P_MS_ESS_110",10600]
[null,"Désignation","Caractéristique","Fabricant-Type","Code article","Tarif (€)",null,null,null,null,null,null,null,null,null,null,null,null,null,null,null,"Puissance moteur 132 kW - 3 x 230…690V AC 50/60 HZ",132,"P_MS_ESS_132",13800]
[null,"Transmetteur de pression - Technologie à séparateur","Montage à bride 316L DN50","Endress Hauser Cérabar M-PMP55","EELE001208-0000",1200,null,null,null,null,null,null,null,null,null,null,null,null,null,null,null,"Puissance moteur 160 kW - 3 x 230…690V AC 50/60 HZ",160,"P_MS_ESS_160",16100]
[null,null,"Séparateur et membrane 316L",null,null,null,null,null,null,null,null,null,null,null,null,null,null,null,null,null,null,"Puissance moteur 220 kW - 3 x 230…690V AC 50/60 HZ",220,"P_MS_ESS_220",20500]
[null,null,"Signal 2 fils 4-20mA HART",null,null,null,null,null,null,null,null,null,null,null,null,null,null,null,null,null,null,"Puissance moteur 250 kW - 3 x 230…690V AC 50/60 HZ",250,"P_MS_ESS_250",23600]
[null,null,null,null,null,null,null,null,null,null,null,null,null,null,null,null,null,null,null,null,null,"Puissance moteur 315 kW - 3 x 230…690V AC 50/60 HZ",315,"P_MS_ESS_315",28000]
[null,null,null,null,null,null,null,null,null,null,null,null,null,null,null,null,null,null,null,null,null,"Puissance moteur 355 kW - 3 x 230…690V AC 50/60 HZ",355,"P_MS_ESS_355",34000]
[null,null,null,null,null,null,null,null,null,null,null,null,null,null,null,null,null,null,null,null,null,"Puissance moteur 400 kW - 3 x 230…690V AC 50/60 HZ",400,"P_MS_ESS_400",36700]
[null,null,null,null,null,null,null,null,null,null,null,null,null,null,null,null,null,null,null,null,null,"Puissance moteur 450 kW - 3 x 230…690V AC 50/60 HZ",450,"P_MS_ESS_450",{"$f":"(Y56+Y58)/2","v":42350}]
[null,null,null,null,null,null,null,null,null,null,null,null,null,null,null,null,null,null,null,null,null,"Puissance moteur 500 kW - 3 x 230…690V AC 50/60 HZ",500,"P_MS_ESS_500",48000]
[]
[]
[null,null,null,null,null,null,null,null,null,null,null,null,null,null,null,null,null,null,null,null,null,"DEPART-MOTEUR POMPES A FILTRATS (et Pompes avec VFD)"]
[null,null,null,null,null,null,null,null,null,null,null,null,null,null,null,null,null,null,null,null,null,"Démarreur électrique composé : Disjoncteur + Contacteur + Variateur de fréquence (*)"]
[null,null,null,null,null,null,null,null,null,null,null,null,null,null,null,null,null,null,null,null,null,"Désignation - Caractéristique",null,"Code article","Tarif (€)"]
[null,null,null,null,null,null,null,null,null,null,null,null,null,null,null,null,null,null,null,null,null,"Puissance moteur ≤ 0,75 kW - 3 x 380…480V AC 50/60 HZ",0.75,"P_MS_VFD_0.75",2200]
[null,null,null,null,null,null,null,null,null,null,null,null,null,null,null,null,null,null,null,null,null,"Puissance moteur 1,1 kW - 3 x 380…480V AC 50/60 HZ",1.1000000000000001,"P_MS_VFD_1.1",2400]
[null,null,null,null,null,null,null,null,null,null,null,null,null,null,null,null,null,null,null,null,null,"Puissance moteur 1,5 kW - 3 x 380…480V AC 50/60 HZ",1.5,"P_MS_VFD_1.5",2500]
[null,null,null,null,null,null,null,null,null,null,null,null,null,null,null,null,null,null,null,null,null,"Puissance moteur 2,2 kW - 3 x 380…480V AC 50/60 HZ",2.2000000000000002,"P_MS_VFD_2.2",2700]
[null,null,null,null,null,null,null,null,null,null,null,null,null,null,null,null,null,null,null,null,null,"Puissance moteur 3 kW - 3 x 380…480V AC 50/60 HZ",3,"P_MS_VFD_3",2900]
[null,null,null,null,null,null,null,null,null,null,null,null,null,null,null,null,null,null,null,null,null,"Puissance moteur 4 kW - 3 x 380…480V AC 50/60 HZ",4,"P_MS_VFD_4",3100]
[null,null,null,null,null,null,null,null,null,null,null,null,null,null,null,null,null,null,null,null,null,"Puissance moteur 5,5 kW - 3 x 380…480V AC 50/60 HZ",5.5,"P_MS_VFD_5.5",3500]
[null,null,null,null,null,null,null,null,null,null,null,null,null,null,null,null,null,null,null,null,null,"Puissance moteur 7,5 kW - 3 x 380…480V AC 50/60 HZ",7.5,"P_MS_VFD_7.5",4150]
[null,null,null,null,null,null,null,null,null,null,null,null,null,null,null,null,null,null,null,null,null,"Puissance moteur 11 kW - 3 x 380…480V AC 50/60 HZ",11,"P_MS_VFD_11",4800]
[null,null,null,null,null,null,null,null,null,null,null,null,null,null,null,null,null,null,null,null,null,"Puissance moteur 15 kW - 3 x 380…480V AC 50/60 HZ",15,"P_MS_VFD_15",5700]
[null,null,null,null,null,null,null,null,null,null,null,null,null,null,null,null,null,null,null,null,null,"Puissance moteur 18,5 kW - 3 x 380…480V AC 50/60 HZ",18.5,"P_MS_VFD_18.5",6100]
[null,null,null,null,null,null,null,null,null,null,null,null,null,null,null,null,null,null,null,null,null,"Puissance moteur 22 kW - 3 x 380…480V AC 50/60 HZ",22,"P_MS_VFD_22",7500]
[null,null,null,null,null,null,null,null,null,null,null,null,null,null,null,null,null,null,null,null,null,"Puissance moteur 30 kW - 3 x 380…480V AC 50/60 HZ",30,"P_MS_VFD_30",8800]
[null,null,null,null,null,null,null,null,null,null,null,null,null,null,null,null,null,null,null,null,null,"Puissance moteur 37 kW - 3 x 380…480V AC 50/60 HZ",37,"P_MS_VFD_37",10500]
[null,null,null,null,null,null,null,null,null,null,null,null,null,null,null,null,null,null,null,null,null,"Puissance moteur 45 kW - 3 x 380…480V AC 50/60 HZ",45,"P_MS_VFD_45",13000]
[null,null,null,null,null,null,null,null,null,null,null,null,null,null,null,null,null,null,null,null,null,"Puissance moteur 55 kW - 3 x 380…480V AC 50/60 HZ",55,"P_MS_VFD_55",14800]
[null,null,null,null,null,null,null,null,null,null,null,null,null,null,null,null,null,null,null,null,null,"Puissance moteur 75 kW - 3 x 380…480V AC 50/60 HZ",75,"P_MS_VFD_75",18000]
[null,null,null,null,null,null,null,null,null,null,null,null,null,null,null,null,null,null,null,null,null,"Puissance moteur 90 kW - 3 x 380…480V AC 50/60 HZ",90,"P_MS_VFD_90",21800]
[null,null,null,null,null,null,null,null,null,null,null,null,null,null,null,null,null,null,null,null,null,"Puissance moteur 110 kW - 3 x 380…480V AC 50/60 HZ",110,"P_MS_VFD_110",24500]
[null,null,null,null,null,null,null,null,null,null,null,null,null,null,null,null,null,null,null,null,null,"Puissance moteur 132 kW - 3 x 380…480V AC 50/60 HZ",132,"P_MS_VFD_132",30100]
[null,null,null,null,null,null,null,null,null,null,null,null,null,null,null,null,null,null,null,null,null,"Puissance moteur 160 kW - 3 x 380…480V AC 50/60 HZ",160,"P_MS_VFD_160",33100]

{"sheet":"Instrum et Elec","index":35,"n_rows":36,"n_cols":27,"rows_kept":36,"cut":false,"hidden":false,"merged":[[27,17,27,18],[28,11,28,12],[31,25,31,26],[35,15,36,20],[35,21,36,22],[31,21,31,22],[28,23,28,24],[29,23,29,24],[30,23,30,24],[31,23,31,24],[31,17,31,18],[28,19,28,20],[29,19,29,20],[30,19,30,20],[31,19,31,20],[22,15,22,16],[23,15,23,16],[24,15,24,16],[25,15,25,16],[26,15,26,16],[27,15,27,16],[29,11,29,12],[30,11,30,12],[31,11,31,12],[31,13,31,14],[28,15,28,16],[29,15,29,16],[30,15,30,16],[31,15,31,16],[20,25,20,26],[21,11,21,12],[22,11,22,12],[23,11,23,12],[24,11,24,12],[20,21,20,22],[14,23,14,24],[15,23,15,24],[16,23,16,24],[17,23,17,24],[18,23,18,24],[19,23,19,24],[20,23,20,24],[20,17,20,18],[14,19,14,20],[15,19,15,20],[16,19,16,20],[17,19,17,20],[18,19,18,20],[19,19,19,20],[20,19,20,20],[20,13,20,14],[14,15,14,16],[15,15,15,16],[13,25,13,26],[0,1,0,6],[14,11,14,12],[15,11,15,12],[16,11,16,12],[13,21,13,22],[6,23,6,24],[7,23,7,24],[8,23,8,24],[9,23,9,24],[10,23,10,24],[11,23,11,24],[12,23,12,24],[13,23,13,24],[12,15,12,16],[13,15,13,16],[13,17,13,18],[6,19,6,20],[7,19,7,20],[8,19,8,20],[9,19,9,20],[10,19,10,20],[11,19,11,20],[12,19,12,20],[13,19,13,20],[7,15,7,16],[8,15,8,16],[9,15,9,16],[10,15,10,16],[11,15,11,16],[33,2,33,5],[33,6,33,7],[35,7,36,8],[35,1,36,6],[16,15,16,16],[17,15,17,16],[18,15,18,16],[19,15,19,16],[20,15,20,16],[17,11,17,12],[18,11,18,12],[19,11,19,12],[20,11,20,12],[25,11,25,12],[26,11,26,12],[27,11,27,12],[27,13,27,14],[21,15,21,16],[1,18,1,21],[1,22,1,23],[30,2,30,5],[30,6,30,7],[32,2,32,5],[32,6,32,7],[6,11,6,12],[7,11,7,12],[8,11,8,12],[9,11,9,12],[10,11,10,12],[12,11,12,12],[31,6,31,7],[24,2,24,5],[28,2,28,5],[31,2,31,5],[24,6,24,7],[28,6,28,7],[1,15,1,16],[2,2,2,4],[17,7,17,8],[17,4,17,6],[1,11,1,14],[3,11,3,14],[3,15,3,16],[11,11,11,12],[13,11,13,12],[13,13,13,14],[6,15,6,16],[16,2,16,4],[20,2,20,8],[10,2,10,4],[11,2,11,4],[12,2,12,4],[13,2,13,4],[14,2,14,4],[15,2,15,4],[8,2,8,4],[3,2,3,4],[4,2,4,4],[5,2,5,4],[6,2,6,4],[7,2,7,4]]}
[null,"ELEMENTS A SELECTIONNER EN ROUGE"]
[null,null,null,null,null,null,null,null,null,null,null,"TYPE DE REGULATION (pour C; D; E; F et G) :",null,null,null,"VFD",null,null,"COFFRET DE COMMANDE LOCAL :",null,null,null,"LCP (Maintenance)"]
[null,"N°","Elements",null,null,"Quantité","kW","Prix uni","Prix tot"]
[null,"A","Départ Moteur Filtre",null,null,{"$f":"'Offre NEW'!H7/'Offre NEW'!H7","v":1},{"$f":"Calculations!H73","v":0.37},{"$f":"IF(OR($G$4=\"N/A\",$F$4=0),0,VLOOKUP($G$4,'Data Instrum_Armoires'!$W$5:$Y$26,3,FALSE))","v":2000},{"$f":"H4*F4","v":2000},null,null,"TYPE DE REGULATION (pour H et I) :",null,null,null,"VFD"]
[null,"B","Départ Moteur Rouleau Presseur",null,null,{"$f":"'Offre NEW'!H56/'Offre NEW'!H7","v":0},{"$f":"'Offre NEW'!G56","v":0},{"$f":"IF(OR(G5=\"N/A\",F5=0),0,VLOOKUP(G5,'Data Instrum_Armoires'!$W$6:$Y$26,3,FALSE))","v":0},{"$f":"H5*F5","v":0}]
[null,"C","Départ Moteur Pompe Filtrats 1",null,null,{"$f":"'Offre NEW'!H43/'Offre NEW'!H7","v":1},{"$f":"'Offre NEW'!G43","v":2.2000000000000002},{"$f":"IF(OR(G6=\"N/A\",F6=0),0,IF($P$2=\"VFD\",VLOOKUP(G6,'Data Instrum_Armoires'!$W$64:$Y$84,3,FALSE),VLOOKUP(G6,'Data Instrum_Armoires'!$W$31:$Y$58,3,FALSE)))","v":2700},2700]
[null,"D","Départ Moteur Pompe Filtrats 2",null,null,{"$f":"'Offre NEW'!H44/'Offre NEW'!H7","v":1},{"$f":"'Offre NEW'!G44","v":2.2000000000000002},{"$f":"IF(OR(G7=\"N/A\",F7=0),0,IF($P$2=\"VFD\",VLOOKUP(G7,'Data Instrum_Armoires'!$W$64:$Y$84,3,FALSE),VLOOKUP(G7,'Data Instrum_Armoires'!$W$31:$Y$58,3,FALSE)))","v":2700},2700,null,null,"Ballon 1 ",null,{"$f":"IF('Offre NEW'!H29<>0,Calculations!$D$44,\"N/A\")","v":"krogh"},null,"Ballon 2 ",null,{"$f":"IF('Offre NEW'!H30<>0,Calculations!$D$44,\"N/A\")","v":"krogh"},null,"Ballon 3 ",null,{"$f":"IF('Offre NEW'!H31<>0,Calculations!$D$44,\"N/A\")","v":"krogh"},null,"Ballon 4 ",null,{"$f":"IF('Offre NEW'!H32<>0,Calculations!$D$44,\"N/A\")","v":"N/A"}]
[null,"E","Départ Moteur Pompe Filtrats 3",null,null,{"$f":"'Offre NEW'!H45/'Offre NEW'!H7","v":1},{"$f":"'Offre NEW'!G45","v":2.2000000000000002},{"$f":"IF(OR(G8=\"N/A\",F8=0),0,IF($P$2=\"VFD\",VLOOKUP(G8,'Data Instrum_Armoires'!$W$64:$Y$84,3,FALSE),VLOOKUP(G8,'Data Instrum_Armoires'!$W$31:$Y$58,3,FALSE)))","v":2700},2700,null,null,"Capteur Niveau 1",null,{"$f":"IF(OR(N7=\"krogh\",N7=\"Forcée\"),\"LIT\",IF(N7=\"Barometrique\",\"LSH\",\"N/A\"))","v":"LIT"},{"$f":"IF(N8=\"LIT\",'Data Instrum_Armoires'!$F$37,IF(N8=\"N/A\",0,'Data Instrum_Armoires'!$M$6))","v":3200},"Capteur Niveau 1",null,{"$f":"IF(OR(R7=\"krogh\",R7=\"Forcée\"),\"LIT\",IF(R7=\"Barometrique\",\"LSH\",\"N/A\"))","v":"LIT"},{"$f":"IF(R8=\"LIT\",'Data Instrum_Armoires'!$F$37,IF(R8=\"N/A\",0,'Data Instrum_Armoires'!$M$6))","v":3200},"Capteur Niveau 1",null,{"$f":"IF(OR(V7=\"krogh\",V7=\"Forcée\"),\"LIT\",IF(V7=\"Barometrique\",\"LSH\",\"N/A\"))","v":"LIT"},{"$f":"IF(V8=\"LIT\",'Data Instrum_Armoires'!$F$37,IF(V8=\"N/A\",0,'Data Instrum_Armoires'!$M$6))","v":3200},"Capteur Niveau 1",null,{"$f":"IF(OR(Z7=\"krogh\",Z7=\"Forcée\"),\"LIT\",IF(Z7=\"Barometrique\",\"LSH\",\"N/A\"))","v":"N/A"},{"$f":"IF(Z8=\"LIT\",'Data Instrum_Armoires'!$F$37,IF(Z8=\"N/A\",0,'Data Instrum_Armoires'!$M$6))","v":0}]
[null,"F","Départ Moteur Pompe Filtrats 4",null,null,{"$f":"'Offre NEW'!H46/'Offre NEW'!H7","v":0},{"$f":"'Offre NEW'!G46","v":5.5},{"$f":"IF(OR(G9=\"N/A\",F9=0),0,IF($P$2=\"VFD\",VLOOKUP(G9,'Data Instrum_Armoires'!$W$64:$Y$84,3,FALSE),VLOOKUP(G9,'Data Instrum_Armoires'!$W$31:$Y$58,3,FALSE)))","v":0},0,null,null,"Capteur Niveau 2",null,"N/A",{"$f":"IF(N9=\"LIT\",'Data Instrum_Armoires'!$F$37,IF(N9=\"N/A\",0,'Data Instrum_Armoires'!$M$6))","v":0},"Capteur Niveau 2",null,"N/A",{"$f":"IF(R9=\"LIT\",'Data Instrum_Armoires'!$F$37,IF(R9=\"N/A\",0,'Data Instrum_Armoires'!$M$6))","v":0},"Capteur Niveau 2",null,"N/A",{"$f":"IF(V9=\"LIT\",'Data Instrum_Armoires'!$F$37,IF(V9=\"N/A\",0,'Data Instrum_Armoires'!$M$6))","v":0},"Capteur Niveau 2",null,"N/A",{"$f":"IF(Z9=\"LIT\",'Data Instrum_Armoires'!$F$37,IF(Z9=\"N/A\",0,'Data Instrum_Armoires'!$M$6))","v":0}]
[null,"G","Départ Moteur Pompe Cloudy ",null,null,{"$f":"'Offre NEW'!H42/'Offre NEW'!H7","v":0},{"$f":"'Offre NEW'!G42","v":11},{"$f":"IF(OR(G10=\"N/A\",F10=0),0,IF($P$2=\"VFD\",VLOOKUP(G10,'Data Instrum_Armoires'!$W$64:$Y$84,3,FALSE),VLOOKUP(G10,'Data Instrum_Armoires'!$W$31:$Y$58,3,FALSE)))","v":0},0,null,null,"Capteur Pression",null,{"$f":"IF(N7=\"N/A\",\"N/A\",\"PIT\")","v":"PIT"},{"$f":"IF(N10=\"PIT\",'Data Instrum_Armoires'!$F$51,0)","v":1200},"Capteur Pression",null,0,{"$f":"IF(R10=\"PIT\",'Data Instrum_Armoires'!$F$51,0)","v":0},"Capteur Pression",null,0,{"$f":"IF(V10=\"PIT\",'Data Instrum_Armoires'!$F$51,0)","v":0},"Capteur Pression",null,0,{"$f":"IF(Z10=\"PIT\",'Data Instrum_Armoires'!$F$51,0)","v":0}]
[null,"H","Départ Moteur Pompe Récup A.Liq",null,null,{"$f":"'Offre NEW'!H47/'Offre NEW'!H7","v":0},{"$f":"'Offre NEW'!G47","v":55},{"$f":"IF(OR(G11=\"N/A\",F11=0),0,IF($P$4=\"VFD\",VLOOKUP(G11,'Data Instrum_Armoires'!$W$64:$Y$84,3,FALSE),VLOOKUP(G11,'Data Instrum_Armoires'!$W$31:$Y$58,3,FALSE)))","v":0},0,null,null,"Type de Régulation",null,{"$f":"IF(N7=\"Barometrique\",\"N/A\",$P$2)","v":"VFD"},null,"Type de Régulation",null,{"$f":"IF(R7=\"Barometrique\",\"N/A\",$P$2)","v":"VFD"},null,"Type de Régulation",null,{"$f":"IF(V7=\"Barometrique\",\"N/A\",$P$2)","v":"VFD"},null,"Type de Régulation",null,{"$f":"IF(Z7=\"Barometrique\",\"N/A\",$P$2)","v":"VFD"}]
[null,"I","Départ Moteur Pompe Récup T&B",null,null,{"$f":"'Offre NEW'!H48/'Offre NEW'!H7","v":0},{"$f":"'Offre NEW'!G48","v":5.5},{"$f":"IF(OR(G12=\"N/A\",F12=0),0,IF($P$4=\"VFD\",VLOOKUP(G12,'Data Instrum_Armoires'!$W$64:$Y$84,3,FALSE),VLOOKUP(G12,'Data Instrum_Armoires'!$W$31:$Y$58,3,FALSE)))","v":0},0,null,null,"Vanne de Régulation",null,2.5,{"$f":"IF(OR(N11=\"VFD\",N11=\"N/A\",N12=\"N/A\",N11=\"Pas de Regulation\"),0,VLOOKUP(N12,'Data Instrum_Armoires'!$P$5:$T$15,5,FALSE))","v":0},"Vanne de Régulation",null,"N/A",{"$f":"IF(OR(R11=\"VFD\",R11=\"N/A\",R12=\"N/A\",R11=\"Pas de Regulation\"),0,VLOOKUP(R12,'Data Instrum_Armoires'!$P$5:$T$15,5,FALSE))","v":0},"Vanne de Régulation",null,2.5,{"$f":"IF(OR(V11=\"VFD\",V11=\"N/A\",V12=\"N/A\",V11=\"Pas de Regulation\"),0,VLOOKUP(V12,'Data Instrum_Armoires'!$P$5:$T$15,5,FALSE))","v":0},"Vanne de Régulation",null,2.5,{"$f":"IF(OR(Z11=\"VFD\",Z11=\"N/A\",Z12=\"N/A\",Z11=\"Pas de Regulation\"),0,VLOOKUP(Z12,'Data Instrum_Armoires'!$P$5:$T$15,5,FALSE))","v":0}]
[null,"J","Départ Moteur Pompe HP",null,null,{"$f":"'Offre NEW'!H57/'Offre NEW'!H7","v":0},{"$f":"'Offre NEW'!G57","v":0},{"$f":"IF(OR(G13=\"N/A\",F13=0),0,VLOOKUP(G13,'Data Instrum_Armoires'!$W$31:$Y$58,3,FALSE))","v":0},0,null,null,"Débimètre",null,4.5,{"$f":"IF(N13=\"N/A\",0,VLOOKUP(N13,'Data Instrum_Armoires'!$C$17:$G$26,5,FALSE))","v":1800},"Débimètre",null,4.5,{"$f":"IF(R13=\"N/A\",0,VLOOKUP(R13,'Data Instrum_Armoires'!$C$17:$G$26,5,FALSE))","v":1800},"Débimètre",null,4.5,{"$f":"IF(V13=\"N/A\",0,VLOOKUP(V13,'Data Instrum_Armoires'!$C$17:$G$26,5,FALSE))","v":1800},"Débimètre",null,"N/A",{"$f":"IF(Z13=\"N/A\",0,VLOOKUP(Z13,'Data Instrum_Armoires'!$C$17:$G$26,5,FALSE))","v":0}]
[null,"K","Départ Moteur PàV",null,null,{"$f":"'Offre NEW'!H49/'Offre NEW'!H7","v":1},{"$f":"'Offre NEW'!G49","v":5.5},{"$f":"IF(OR(G14=\"N/A\",F14=0),0,VLOOKUP(G14,'Data Instrum_Armoires'!$W$31:$Y$58,3,FALSE))","v":1300},1300,null,null,"Prix total Inst ballon 1",null,{"$f":"IF(N7=\"N/A\",0,SUM(O8:O13))","v":6200},null,"Prix total Inst ballon 2",null,{"$f":"IF(R7=\"N/A\",0,SUM(S8:S13))","v":5000},null,"Prix total Inst ballon 3",null,{"$f":"IF(V7=\"N/A\",0,SUM(W8:W13))","v":5000},null,"Prix total Inst ballon 4",null,{"$f":"IF(Z7=\"N/A\",0,SUM(AA8:AA13))","v":0}]
[null,"L","Départ Accessoire 1",null,null,0,"N/A",{"$f":"IF(OR(G15=\"N/A\",F15=0),0,VLOOKUP(G15,'Data Instrum_Armoires'!$W$64:$Y$84,3,FALSE))","v":0},0,null,null,"Bac Barométrique 1 ",null,{"$f":"IF(AND(N7=\"Barometrique\",'Offre NEW'!H36),\"\",\"N/A\")","v":"N/A"},null,"Bac Barométrique 2 ",null,{"$f":"IF(AND(R7=\"Barometrique\",'Offre NEW'!H37),\"\",\"N/A\")","v":"N/A"},null,"Bac Barométrique 3 ",null,{"$f":"IF(AND(V7=\"Barometrique\",'Offre NEW'!H38),\"\",\"N/A\")","v":"N/A"},null,"Bac Barométrique 4 ",null,{"$f":"IF(AND(Z7=\"Barometrique\",'Offre NEW'!H39),\"\",\"N/A\")","v":"N/A"}]
[null,"M","Départ Accessoire 2",null,null,0,"N/A",{"$f":"IF(OR(G16=\"N/A\",F16=0),0,VLOOKUP(G16,'Data Instrum_Armoires'!$W$64:$Y$84,3,FALSE))","v":0},0,null,null,"Capteur Niveau 1",null,{"$f":"IF(N15=\"\",\"Ultrason\",\"N/A\")","v":"N/A"},{"$f":"IF(N16=\"N/A\",0,SUM('Data Instrum_Armoires'!F31:F35))","v":0},"Capteur Niveau 1",null,{"$f":"IF(R15=\"\",\"Ultrason\",\"N/A\")","v":"N/A"},{"$f":"IF(R16=\"N/A\",0,SUM('Data Instrum_Armoires'!F31:F35))","v":0},"Capteur Niveau 1",null,{"$f":"IF(V15=\"\",\"Ultrason\",\"N/A\")","v":"N/A"},{"$f":"IF(V16=\"N/A\",0,SUM('Data Instrum_Armoires'!F31:F35))","v":0},"Capteur Niveau 1",null,{"$f":"IF(Z15=\"\",\"Ultrason\",\"N/A\")","v":"N/A"},{"$f":"IF(Z16=\"N/A\",0,SUM('Data Instrum_Armoires'!F31:F35))","v":0}]
[null,"N","Départ Accessoire 3",null,null,0,"N/A",{"$f":"IF(OR(G17=\"N/A\",F17=0),0,VLOOKUP(G17,'Data Instrum_Armoires'!$W$64:$Y$84,3,FALSE))","v":0},0,null,null,"Capteur Niveau 2",null,"LSL",{"$f":"IF(N17=\"LIT\",'Data Instrum_Armoires'!$F$37,IF(N17=\"N/A\",0,'Data Instrum_Armoires'!$M$6))","v":1500},"Capteur Niveau 2",null,"N/A",{"$f":"IF(R17=\"LIT\",'Data Instrum_Armoires'!$F$37,IF(R17=\"N/A\",0,'Data Instrum_Armoires'!$M$6))","v":0},"Capteur Niveau 2",null,"N/A",{"$f":"IF(V17=\"LIT\",'Data Instrum_Armoires'!$F$37,IF(V17=\"N/A\",0,'Data Instrum_Armoires'!$M$6))","v":0},"Capteur Niveau 2",null,"N/A",{"$f":"IF(Z17=\"LIT\",'Data Instrum_Armoires'!$F$37,IF(Z17=\"N/A\",0,'Data Instrum_Armoires'!$M$6))","v":0}]
[null,null,null,null,"Prix total Départs Moteurs",null,null,{"$f":"SUM(I4:I17)","v":11400},null,null,null,"Type de Régulation",null,{"$f":"IF(N15=\"\",$P$2,\"N/A\")","v":"N/A"},null,"Type de Régulation",null,{"$f":"IF(R15=\"\",$P$2,\"N/A\")","v":"N/A"},null,"Type de Régulation",null,{"$f":"IF(V15=\"\",$P$2,\"N/A\")","v":"N/A"},null,"Type de Régulation",null,{"$f":"IF(Z15=\"\",$P$2,\"N/A\")","v":"N/A"}]
[null,null,null,null,null,null,null,null,null,null,null,"Vanne de Régulation",null,2.5,{"$f":"IF(OR(N18=\"VFD\",N18=\"N/A\",N19=\"N/A\",N18=\"Pas de Regulation\"),0,VLOOKUP(N19,'Data Instrum_Armoires'!$P$5:$T$15,5,FALSE))","v":0},"Vanne de Régulation",null,45,{"$f":"IF(OR(R18=\"VFD\",R18=\"N/A\",R19=\"N/A\",R18=\"Pas de Regulation\"),0,VLOOKUP(R19,'Data Instrum_Armoires'!$P$5:$T$15,5,FALSE))","v":0},"Vanne de Régulation",null,2.5,{"$f":"IF(OR(V18=\"VFD\",V18=\"N/A\",V19=\"N/A\",V18=\"Pas de Regulation\"),0,VLOOKUP(V19,'Data Instrum_Armoires'!$P$5:$T$15,5,FALSE))","v":0},"Vanne de Régulation",null,2.5,{"$f":"IF(OR(Z18=\"VFD\",Z18=\"N/A\",Z19=\"N/A\",Z18=\"Pas de Regulation\"),0,VLOOKUP(Z19,'Data Instrum_Armoires'!$P$5:$T$15,5,FALSE))","v":0}]
[null,null,null,null,null,null,null,null,null,null,null,"Débimètre",null,"N/A",{"$f":"IF(N20=\"N/A\",0,VLOOKUP(N20,'Data Instrum_Armoires'!$C$17:$G$26,5,FALSE))","v":0},"Débimètre",null,"N/A",{"$f":"IF(R20=\"N/A\",0,VLOOKUP(R20,'Data Instrum_Armoires'!$C$17:$G$26,5,FALSE))","v":0},"Débimètre",null,"N/A",{"$f":"IF(V20=\"N/A\",0,VLOOKUP(V20,'Data Instrum_Armoires'!$C$17:$G$26,5,FALSE))","v":0},"Débimètre",null,"N/A",{"$f":"IF(Z20=\"N/A\",0,VLOOKUP(Z20,'Data Instrum_Armoires'!$C$17:$G$26,5,FALSE))","v":0}]
[null,null,{"$f":"IF(F28=50,\"ATTENTION CONFIGURATION PARTICULIERE : FILTRE PETIT\",\"OK CONFIGURATION NORMALE\")","v":"ATTENTION CONFIGURATION PARTICULIERE : FILTRE PETIT"},null,null,null,null,null,null,null,null,"Prix total Inst Bac Bar 1",null,{"$f":"IF(N15=\"N/A\",0,SUM(O16:O20))","v":0},null,"Prix total Inst Bac Bar 2",null,{"$f":"IF(R15=\"N/A\",0,SUM(S16:S20))","v":0},null,"Prix total Inst Bac Bar 3",null,{"$f":"IF(V15=\"N/A\",0,SUM(W16:W20))","v":0},null,"Prix total Inst Bac Bar 4",null,{"$f":"IF(Z15=\"N/A\",0,SUM(AA16:AA20))","v":0}]
[null,null,null,null,null,null,null,null,null,null,null,"Bac Récup Anneau Liquide",null,{"$f":"IF('Offre NEW'!H40<>0,\"\",\"N/A\")","v":"N/A"},null,"Bac Récup Lavage T&B",null,{"$f":"IF('Offre NEW'!H41<>0,\"\",\"N/A\")","v":"N/A"}]
[null,null,"Puissance Totale Utile ",null,null,{"$f":"SUMPRODUCT(F4:F17,G4:G17)","v":12.47},"kW",null,null,null,null,"Capteur Niveau 1",null,{"$f":"IF(N22=\"\",\"Ultrason\",\"N/A\")","v":"N/A"},{"$f":"IF(N23=\"N/A\",0,SUM('Data Instrum_Armoires'!F38:F42))","v":0},"Capteur Niveau 1",null,{"$f":"IF(R22=\"\",\"Ultrason\",\"N/A\")","v":"N/A"},{"$f":"IF(R23=\"N/A\",0,SUM('Data Instrum_Armoires'!F38:F42))","v":0}]
[null,null,"Standard Puissance Totale Utile",null,null,{"$f":"INDEX('Data Instrum_Armoires'!AC5:AC14,MATCH(F23,'Data Instrum_Armoires'!AC5:AC14)+1)","v":100},"kW",null,null,null,null,"Capteur Niveau 2",null,"N/A",{"$f":"IF(N24=\"LIT\",'Data Instrum_Armoires'!$F$37,IF(N24=\"N/A\",0,'Data Instrum_Armoires'!$M$6))","v":0},"Capteur Niveau 2",null,"N/A",{"$f":"IF(R24=\"LIT\",'Data Instrum_Armoires'!$F$37,IF(R24=\"N/A\",0,'Data Instrum_Armoires'!$M$6))","v":0}]
[null,null,{"$f":"\"Cellule de Puissance \"&F24&\" kW\"","v":"Cellule de Puissance 100 kW"},null,null,null,{"$f":"VLOOKUP($F$24,'Data Instrum_Armoires'!$AC$5:$AF$14,4,FALSE)","v":3000},null,null,null,null,"Type de Régulation",null,{"$f":"IF(N22=\"\",$P$4,\"N/A\")","v":"N/A"},null,"Type de Régulation",null,{"$f":"IF(R22=\"\",$P$4,\"N/A\")","v":"N/A"}]
[null,null,null,null,null,null,null,null,null,null,null,"Vanne de Régulation",null,2.5,{"$f":"IF(OR(N25=\"VFD\",N25=\"N/A\",N26=\"N/A\",N25=\"Pas de Regulation\"),0,VLOOKUP(N26,'Data Instrum_Armoires'!$P$5:$T$15,5,FALSE))","v":0},"Vanne de Régulation",null,2.5,{"$f":"IF(OR(R25=\"VFD\",R25=\"N/A\",R26=\"N/A\",R25=\"Pas de Regulation\"),0,VLOOKUP(R26,'Data Instrum_Armoires'!$P$5:$T$15,5,FALSE))","v":0}]
[null,null,"Puissance Totale Installée",null,null,{"$f":"1.3*F23","v":16.211000000000002},"kVA",null,null,null,null,"Débimètre",null,"N/A",{"$f":"IF(N27=\"N/A\",0,VLOOKUP(N27,'Data Instrum_Armoires'!$C$17:$G$26,5,FALSE))","v":0},"Débimètre",null,"N/A",{"$f":"IF(R27=\"N/A\",0,VLOOKUP(R27,'Data Instrum_Armoires'!$C$17:$G$26,5,FALSE))","v":0}]
[null,null,"Standard Puissance Totale Installée",null,null,{"$f":"IF(F27<50,50,INDEX('Data Instrum_Armoires'!AJ5:AJ12,MATCH(F27,'Data Instrum_Armoires'!AJ5:AJ12)+1))","v":50},"kVA",null,null,null,null,"Prix tot Inst Bac Récup AL",null,{"$f":"IF(N22=\"N/A\",0,SUM(O23:O27))","v":0},null,"Prix tot Inst Bac Récup T&B",null,{"$f":"IF(R22=\"N/A\",0,SUM(S23:S27))","v":0}]
[null,null,{"$f":"\"Cellule de Distribution \"&F28&\" kVA\"","v":"Cellule de Distribution 50 kVA"},null,null,null,{"$f":"VLOOKUP($F$28,'Data Instrum_Armoires'!$AJ$5:$AM$12,4,FALSE)","v":{"$error":"#N/A"}},null,null,null,null,"Lavage Gateau 1",null,{"$f":"IF(Calculations!$R$11<>0,\"\",\"N/A\")","v":""},null,"Lavage Gateau 2",null,{"$f":"IF(Calculations!$R$11>1,\"\",\"N/A\")","v":""},null,"Lavage Gateau 3",null,{"$f":"IF(Calculations!$R$11>2,\"\",\"N/A\")","v":""},null,"Lavage Gateau 3",null,{"$f":"IF(Calculations!$R$11>3,\"\",\"N/A\")","v":"N/A"}]
[null,null,null,null,null,null,null,null,null,null,null,"Vanne de Régulation",null,"N/A",{"$f":"IF(OR(N30=\"N/A\",N29=\"N/A\"),0,VLOOKUP(N30,'Data Instrum_Armoires'!$P$5:$T$15,5,FALSE))","v":0},"Vanne de Régulation",null,"N/A",{"$f":"IF(OR(R30=\"N/A\",R29=\"N/A\"),0,VLOOKUP(R30,'Data Instrum_Armoires'!$P$5:$T$15,5,FALSE))","v":0},"Vanne de Régulation",null,"N/A",{"$f":"IF(OR(V30=\"N/A\",V29=\"N/A\"),0,VLOOKUP(V30,'Data Instrum_Armoires'!$P$5:$T$15,5,FALSE))","v":0},"Vanne de Régulation",null,"N/A",{"$f":"IF(OR(Z30=\"N/A\",Z29=\"N/A\"),0,VLOOKUP(Z30,'Data Instrum_Armoires'!$P$5:$T$15,5,FALSE))","v":0}]
[null,null,"Cellule Automate",null,null,null,{"$f":"'Data Instrum_Armoires'!AS4","v":3850},null,null,null,null,"Débimètre",null,"N/A",{"$f":"IF(N31=\"N/A\",0,VLOOKUP(N31,'Data Instrum_Armoires'!$C$17:$G$26,5,FALSE))","v":0},"Débimètre",null,"N/A",{"$f":"IF(R31=\"N/A\",0,VLOOKUP(R31,'Data Instrum_Armoires'!$C$17:$G$26,5,FALSE))","v":0},"Débimètre",null,"N/A",{"$f":"IF(V31=\"N/A\",0,VLOOKUP(V31,'Data Instrum_Armoires'!$C$17:$G$26,5,FALSE))","v":0},"Débimètre",null,"N/A",{"$f":"IF(Z31=\"N/A\",0,VLOOKUP(Z31,'Data Instrum_Armoires'!$C$17:$G$26,5,FALSE))","v":0}]
[null,null,{"$f":"\"Armoire Electrique de Puissance-Contrôle \"&F28&\" kVA\"","v":"Armoire Electrique de Puissance-Contrôle 50 kVA"},null,null,null,{"$f":"'Data Instrum_Armoires'!BQ4","v":15350},null,null,null,null,"Prix tot Inst Lav Gateau 1",null,{"$f":"IF(N29=\"N/A\",0,SUM(O30:O31))","v":0},null,"Prix tot Inst Lav Gateau 2",null,{"$f":"IF(R29=\"N/A\",0,SUM(S30:S31))","v":0},null,"Prix tot Inst Lav Gateau 3",null,{"$f":"IF(V29=\"N/A\",0,SUM(W30:W31))","v":0},null,"Prix tot Inst Lav Gateau 3",null,{"$f":"IF(Z29=\"N/A\",0,SUM(AA30:AA31))","v":0}]
[null,null,{"$f":"\"COFFRET DE COMMANDE LOCAL \"&W2","v":"COFFRET DE COMMANDE LOCAL LCP (Maintenance)"},null,null,null,{"$f":"IF(W2=\"LCP3 (MULTIFONCTION)\",'Data Instrum_Armoires'!BK5,'Data Instrum_Armoires'!BE5)","v":3975}]
[null,null,"Automate Programmable industriel",null,null,null,{"$f":"'Data Instrum_Armoires'!AY4","v":16800}]
[]
[null,"TOTAL ELECTRIQUE",null,null,null,null,null,{"$f":"IF(C21=\"ATTENTION CONFIGURATION PARTICULIERE : FILTRE PETIT\",(H18+G32+G33+G34),(H18+G25+G29+G31+G33+G34))","v":47525},null,null,null,null,null,null,null,"TOTAL INSTRUMENTATION",null,null,null,null,null,{"$f":"N14+R14+V14+Z14+N21+R21+V21+Z21+N28+R28+N32+R32+V32+Z32","v":16200}]

{"sheet":"Barême Pays","index":36,"n_rows":208,"n_cols":4,"rows_kept":208,"cut":false,"hidden":true,"merged":[]}
[null,null,"Date","2017-01-27"]
[null,null,"Source","http://pauillac,inria,fr/~leifer/ijeuro/#BE"]
[]
[null,null,null,"Tarifs Journaliers (Euros)"]
[null,null,"AFGHANISTAN",267.83999999999997]
[null,null,"AFRIQUE DU SUD",138]
[null,null,"ALBANIE",180]
[null,null,"ALGERIE",95.48]
[null,null,"ALLEMAGNE (REPUBLIQUE FEDERALE D')",164]
[null,null,"ANDORRE",118]
[null,null,"ANGOLA",300]
[null,null,"ANGUILLA",199.68]
[null,null,"ANTIGUA",220.8]
[null,null,"ARABIE SAOUDITE",158]
[null,null,"ARGENTINE",150.72]
[null,null,"ARMENIE",186]
[null,null,"ARUBA",144]
[null,null,"AUSTRALIE",242.56]
[null,null,"AUTRICHE",175]
[null,null,"AZERBAIDJAN",204]
[null,null,"BAHAMAS",198.72]
[null,null,"BAHREIN",200]
[null,null,"BANGLADESH",130]
[null,null,"BARBADE",297.60000000000002]
[null,null,"Belgique",143]
[null,null,"BELIZE",169.92]
[null,null,"BENIN",145]
[null,null,"BERMUDES",186.24]
[null,null,"BIELORUSSIE",150]
[null,null,"BIRMANIE",240]
[null,null,"BOLIVIE",129.6]
[null,null,"BOSNIE-HERZEGOVINE",169]
[null,null,"BOTSWANA",119]
[null,null,"BRESIL",216]
[null,null,"BRUNEI DARUSSALAM",168.3]
[null,null,"BRUXELLES",46]
[null,null,"BULGARIE",145]
[null,null,"BURKINA FASO",145]
[null,null,"BURUNDI",140]
[null,null,"CAIMANS (ILES)",135.36000000000001]
[null,null,"CAMBODGE",144]
[null,null,"CAMEROUN",120]
[null,null,"CANADA",185.12]
[null,null,"CAP-VERT",123.13]
[null,null,"CENTRAFRICAINE (REPUBLIQUE)",121.96]
[null,null,"CHILI",208.32]
[null,null,"CHINE",236.3]
[null,null,"CHYPRE",190]
[null,null,"COLOMBIE",168.96]
[null,null,"COMORES",150]
[null,null,"CONGO",106.53]
[null,null,"CONGO (REPUBLIQUE DEMOCRATIQUE DU)",195]
[null,null,"COOK (ILES)",167.33]
[null,null,"COREE DU NORD",261.12]
[null,null,"COREE DU SUD",210]
[null,null,"COSTA RICA",162.24]
[null,null,"COTE D'IVOIRE",208.86]
[null,null,"CROATIE",142]
[null,null,"CUBA",155]
[null,null,"DANEMARK",224.1]
[null,null,"DJIBOUTI",196.13]
[null,null,"DOMINICAINE (REPUBLIQUE)",136.32]
[null,null,"DOMINIQUE",192.96]
[null,null,"EGYPTE (REPUBLIQUE ARABE D')",148]
[null,null,"EMIRATS ARABES UNIS",300]
[null,null,"EQUATEUR",144]
[null,null,"ERYTHREE",94]
[null,null,"ESPAGNE",132]
[null,null,"ESTONIE",129]
[null,null,"ETATS-UNIS",307.2]
[null,null,"ETHIOPIE",123]
[null,null,"FIDJI",102.59]
[null,null,"FINLANDE",220]
[null,null,"France",160]
[null,null,"GABON",152.44999999999999]
[null,null,"GAMBIE",55.1]
[null,null,"GEORGIE",187.2]
[null,null,"GHANA",184.32]
[null,null,"GRANDE-BRETAGNE",150.80000000000001]
[null,null,"GRECE",167]
[null,null,"GRENADE",191.04]
[null,null,"GUATEMALA",160]
[null,null,"GUINEE (CONAKRY)",170]
[null,null,"GUINEE BISSAU",105]
[null,null,"GUINEE EQUATORIALE",137.97]
[null,null,"GUYANA (GEORGETOWN)",192]
[null,null,"HAITI",211.2]
[null,null,"HONDURAS",145.91999999999999]
[null,null,"HONG-KONG",270.60000000000002]
[null,null,"HONGRIE",175]
[null,null,"ILES PALAOS",298.56]
[null,null,"INDE",260]
[null,null,"INDONESIE",160]
[null,null,"IRAK",300]
[null,null,"IRAN",178.56]
[null,null,"IRLANDE",190]
[null,null,"ISLANDE",123.15]
[null,null,"ISRAEL",230]
[null,null,"ITALIE",220]
[null,null,"JAMAIQUE",155.52000000000001]
[null,null,"JAPON",209.86]
[null,null,"JORDANIE",205.36]
[null,null,"KAZAKHSTAN",290]
[null,null,"KENYA",135.36000000000001]
[null,null,"KIRGHIZIE",150]
[null,null,"KIRIBATI",101.22]
[null,null,"KOWEIT",245]
[null,null,"LAOS",144]
[null,null,"LESOTHO",120]
[null,null,"LETTONIE",152]
[null,null,"LIBAN",154]
[null,null,"LIBERIA",220.8]
[null,null,"LIBYE",189]
[null,null,"LIECHTENSTEIN",215.51]
[null,null,"LITUANIE",145]
[null,null,"LUXEMBOURG",173]
[null,null,"LUXEMBOURG (VILLE)",50]
[null,null,"MACAO",270.60000000000002]
[null,null,"MACEDOINE",117]
[null,null,"MADAGASCAR",114]
[null,null,"MALAISIE",100.62]
[null,null,"MALAWI",205.44]
[null,null,"MALDIVES",230]
[null,null,"MALI",94.52]
[null,null,"MALTE",105]
[null,null,"MAROC",175]
[null,null,"MARSHALL (ILES)",147.84]
[null,null,"MAURICE",146.30000000000001]
[null,null,"MAURITANIE",143]
[null,null,"MEXIQUE",150]
[null,null,"MICRONESIE",150.72]
[null,null,"MOLDAVIE",180.48]
[null,null,"MONGOLIE EXTERIEURE",102]
[null,null,"MONTENEGRO",150]
[null,null,"MOZAMBIQUE",181.44]
[null,null,"NAMIBIE",90]
[null,null,"NAURU",95.26]
[null,null,"NEPAL",134.4]
[null,null,"NEW-YORK CITY",307.2]
[null,null,"NICARAGUA",147.84]
[null,null,"NIGER",118.91]
[null,null,"NIGERIA",273]
[null,null,"NIUE",135.46]
[null,null,"NORVEGE",162.62]
[null,null,"NOUVELLE-GUINEE PAPOUASIE",172]
[null,null,"NOUVELLE-ZELANDE",245.68]
[null,null,"OMAN",265]
[null,null,"OUGANDA",130]
[null,null,"OUZBEKISTAN",108.48]
[null,null,"PAKISTAN",166.08]
[null,null,"PANAMA",170.88]
[null,null,"PARAGUAY",172.8]
[null,null,"PAYS-BAS",161]
[null,null,"PEROU",163.19999999999999]
[null,null,"PHILIPPINES",167.51]
[null,null,"POLOGNE",175]
[null,null,"PORTUGAL",160]
[null,null,"QATAR",278]
[null,null,"ROUMANIE",160]
[null,null,"RUSSIE",230]
[null,null,"RWANDA",265.92]
[null,null,"RéPUBLIQUE DU SOUDAN DU SUD",293.76]
[null,null,"SAINT-KITTS-ET-NEVIS",193.92]
[null,null,"SAINT-VINCENT",180.48]
[null,null,"SAINTE-LUCIE ET LES AUTRES PAYS DES",191.04]
[null,null,"SALVADOR",169.92]
[null,null,"SAMOA OCCIDENTALES",133.44]
[null,null,"SAO TOME-ET-PRINCIPE",129.6]
[null,null,"SENEGAL",139.94999999999999]
[null,null,"SERBIE",150]
[null,null,"SERBIE-MONTENEGRO",150]
[null,null,"SEYCHELLES",300]
[null,null,"SIERRA LEONE",249.6]
[null,null,"SINGAPOUR",200]
[null,null,"SLOVAQUIE",155]
[null,null,"SLOVENIE",160]
[null,null,"SOMALIE",151.68]
[null,null,"SOUDAN",168]
[null,null,"SRI LANKA (EX CEYLAN)",155]
[null,null,"SUEDE",207.69]
[null,null,"SUISSE",215.51]
[null,null,"SURINAM",172.8]
[null,null,"SWAZILAND",45.18]
[null,null,"SYRIE",154]
[null,null,"TADJIKISTAN",129.6]
[null,null,"TAIWAN (EX FORMOSE)",174.91]
[null,null,"TANZANIE",135]
[null,null,"TCHAD",225]
[null,null,"TCHEQUE (REPUBLIQUE)",180]
[null,null,"THAILANDE",102.18]
[null,null,"TIMOR EST",150]
[null,null,"TOGO",125.98]
[null,null,"TOKYO",246.9]
[null,null,"TONGA",98.01]
[null,null,"TRINITE ET TOBAGO",256.32]
[null,null,"TUNISIE",125]
[null,null,"TURKMENISTAN",102]
[null,null,"TURQUIE",165]
[null,null,"TUVALU",87.94]
[null,null,"UKRAINE",208]
[null,null,"URUGUAY",129.6]
[null,null,"VANUATU",210]
[null,null,"VENEZUELA",195]
[null,null,"VIETNAM",158]
[null,null,"YEMEN (REPUBLIQUE DU)",188]
[null,null,"YOUGOSLAVIE (VOIR SERBIE-MONTENEGRO)",130.56]
[null,null,"ZAMBIE",180]
[null,null,"ZIMBABWE",172.8]

{"sheet":"Recap revisions","index":37,"n_rows":89,"n_cols":163,"rows_kept":89,"cut":false,"hidden":false,"merged":[[4,145,21,145],[4,146,21,146],[21,156,21,159],[4,156,4,157],[4,158,4,159],[4,160,21,160],[4,161,21,161],[4,162,21,162],[5,126,5,129],[5,141,5,144],[6,126,6,129],[6,141,6,144],[7,126,7,129],[7,141,7,144],[8,126,8,129],[8,141,8,144],[9,126,9,129],[9,141,9,144],[10,126,10,129],[10,141,10,144],[11,126,11,129],[11,141,11,144],[12,126,12,129],[12,141,12,144],[20,126,20,129],[21,126,21,129],[21,141,21,144],[14,126,14,129],[4,128,4,129],[4,130,21,130],[4,131,21,131],[4,132,21,132],[4,141,4,142],[4,143,4,144],[13,126,13,129],[13,141,13,144],[14,141,14,144],[15,126,15,129],[15,141,15,144],[16,126,16,129],[16,141,16,144],[17,126,17,129],[17,141,17,144],[18,126,18,129],[19,126,19,129],[16,111,16,114],[15,81,15,84],[16,81,16,84],[14,81,14,84],[20,66,20,69],[20,96,20,99],[20,111,20,114],[21,66,21,69],[21,96,21,99],[21,111,21,114],[17,66,17,69],[17,96,17,99],[17,111,17,114],[18,66,18,69],[18,96,18,99],[18,111,18,114],[19,66,19,69],[19,96,19,99],[19,111,19,114],[19,81,19,84],[20,81,20,84],[17,81,17,84],[12,111,12,114],[13,66,13,69],[13,96,13,99],[13,111,13,114],[13,81,13,84],[14,66,14,69],[14,96,14,99],[14,111,14,114],[15,66,15,69],[15,96,15,99],[15,111,15,114],[9,96,9,99],[9,111,9,114],[10,66,10,69],[10,96,10,99],[10,111,10,114],[9,81,9,84],[10,81,10,84],[11,66,11,69],[11,96,11,99],[11,111,11,114],[4,56,21,56],[3,111,3,112],[4,66,4,67],[4,68,4,69],[4,70,21,70],[4,71,21,71],[4,72,21,72],[4,96,4,97],[4,98,4,99],[4,100,21,100],[4,101,21,101],[4,102,21,102],[4,111,4,112],[5,66,5,69],[5,96,5,99],[5,111,5,114],[6,66,6,69],[6,96,6,99],[7,96,7,99],[7,111,7,114],[8,66,8,69],[8,96,8,99],[8,111,8,114],[9,66,9,69],[16,36,16,39],[1,93,1,98],[3,83,3,84],[3,96,3,97],[3,98,3,99],[12,66,12,69],[12,96,12,99],[16,66,16,69],[16,96,16,99],[7,36,7,39],[8,36,8,39],[9,36,9,39],[10,36,10,39],[11,36,11,39],[12,36,12,39],[13,36,13,39],[14,36,14,39],[5,51,5,54],[4,53,4,54],[4,51,4,52],[4,40,21,40],[4,41,21,41],[4,42,21,42],[4,55,21,55],[6,36,6,39],[1,9,1,13],[3,6,3,7],[3,8,3,9],[2,4,2,12],[1,3,1,8],[6,6,6,9],[3,49,21,49],[3,53,3,54],[4,21,4,22],[4,23,4,24],[4,25,21,25],[4,26,21,26],[4,27,21,27],[5,21,5,24],[6,21,6,24],[7,21,7,24],[8,21,8,24],[9,21,9,24],[10,21,10,24],[11,21,11,24],[12,21,12,24],[13,21,13,24],[14,21,14,24],[66,19,66,27],[4,11,21,11],[4,12,21,12],[4,8,4,9],[4,6,4,7],[5,6,5,9],[3,34,21,34],[3,38,3,39],[3,36,3,37],[15,36,15,39],[17,36,17,39],[18,36,18,39],[19,36,19,39],[20,36,20,39],[21,36,21,39],[16,21,16,24],[17,21,17,24],[18,21,18,24],[19,21,19,24],[20,21,20,24],[21,21,21,24],[4,36,4,37],[4,38,4,39],[5,36,5,39],[7,6,7,9],[15,21,15,24],[20,51,20,54],[21,51,21,54],[66,34,66,42],[66,49,66,57],[1,18,1,23],[1,24,1,28],[2,19,2,27],[19,51,19,54],[18,51,18,54],[17,51,17,54],[16,51,16,54],[15,51,15,54],[14,51,14,54],[13,51,13,54],[12,51,12,54],[11,51,11,54],[10,51,10,54],[9,51,9,54],[8,51,8,54],[7,51,7,54],[6,51,6,54],[23,19,23,27],[8,81,8,84],[4,57,21,57],[79,19,79,27],[3,4,21,4],[66,4,66,12],[23,4,23,12],[79,4,79,12],[3,19,21,19],[3,21,3,22],[3,23,3,24],[8,6,8,9],[9,6,9,9],[10,6,10,9],[11,6,11,9],[12,6,12,9],[13,6,13,9],[14,6,14,9],[15,6,15,9],[16,6,16,9],[17,6,17,9],[18,6,18,9],[19,6,19,9],[20,6,20,9],[21,6,21,9],[1,99,1,103],[1,108,1,113],[1,114,1,118],[4,10,21,10],[79,34,79,42],[79,49,79,57],[1,63,1,68],[1,69,1,73],[1,78,1,83],[1,84,1,88],[3,64,21,64],[3,66,3,67],[3,68,3,69],[3,79,21,79],[23,34,23,42],[23,49,23,57],[3,51,3,52],[1,33,1,38],[1,39,1,43],[1,48,1,53],[1,54,1,58],[2,34,2,42],[2,49,2,57],[18,81,18,84],[2,64,2,72],[2,79,2,87],[2,94,2,102],[2,109,2,117],[3,94,21,94],[3,109,21,109],[4,85,21,85],[4,86,21,86],[4,87,21,87],[4,113,4,114],[4,115,21,115],[4,116,21,116],[4,117,21,117],[6,111,6,114],[7,66,7,69],[7,81,7,84],[3,81,3,82],[5,81,5,84],[6,81,6,84],[3,113,3,114],[4,81,4,82],[4,83,4,84],[12,81,12,84],[11,81,11,84],[66,64,66,72],[66,79,66,87],[66,94,66,102],[66,109,66,117],[79,64,79,72],[79,79,79,87],[79,94,79,102],[79,109,79,117],[21,81,21,84],[23,64,23,72],[23,79,23,87],[23,94,23,102],[23,109,23,117],[1,153,1,158],[1,159,1,163],[2,124,2,132],[2,139,2,147],[2,154,2,162],[3,124,21,124],[3,126,3,127],[3,128,3,129],[3,139,21,139],[3,141,3,142],[1,144,1,148],[1,123,1,128],[1,129,1,133],[1,138,1,143],[4,126,4,127],[5,156,5,159],[6,156,6,159],[7,156,7,159],[8,156,8,159],[9,156,9,159],[10,156,10,159],[11,156,11,159],[12,156,12,159],[4,147,21,147],[66,154,66,162],[79,124,79,132],[79,139,79,147],[79,154,79,162],[23,124,23,132],[23,139,23,147],[23,154,23,162],[3,143,3,144],[3,154,21,154],[3,156,3,157],[3,158,3,159],[66,124,66,132],[66,139,66,147],[13,156,13,159],[14,156,14,159],[15,156,15,159],[16,156,16,159],[17,156,17,159],[18,141,18,144],[18,156,18,159],[19,141,19,144],[19,156,19,159],[20,141,20,144],[20,156,20,159]]}
[]
[null,"Revision actuelle",null,"REVISION",null,null,null,null,null,0,null,null,null,null,null,null,null,null,"REVISION",null,null,null,null,null,1,null,null,null,null,null,null,null,null,"REVISION",null,null,null,null,null,2,null,null,null,null,null,null,null,null,"REVISION",null,null,null,null,null,3,null,null,null,null,null,null,null,null,"REVISION",null,null,null,null,null,4,null,null,null,null,null,null,null,null,"REVISION",null,null,null,null,null,5,null,null,null,null,null,null,null,null,"REVISION",null,null,null,null,null,6,null,null,null,null,null,null,null,null,"REVISION",null,null,null,null,null,7,null,null,null,null,null,null,null,null,"REVISION",null,null,null,null,null,8,null,null,null,null,null,null,null,null,"REVISION",null,null,null,null,null,9,null,null,null,null,null,null,null,null,"REVISION",null,null,null,null,null,10]
[null,{"$f":"Calculations!G2","v":4},null,null,"FILTRE",null,null,null,null,null,null,null,null,null,null,null,null,null,null,"FILTRE",null,null,null,null,null,null,null,null,null,null,null,null,null,null,"FILTRE",null,null,null,null,null,null,null,null,null,null,null,null,null,null,"FILTRE",null,null,null,null,null,null,null,null,null,null,null,null,null,null,"FILTRE",null,null,null,null,null,null,null,null,null,null,null,null,null,null,"FILTRE",null,null,null,null,null,null,null,null,null,null,null,null,null,null,"FILTRE",null,null,null,null,null,null,null,null,null,null,null,null,null,null,"FILTRE",null,null,null,null,null,null,null,null,null,null,null,null,null,null,"FILTRE",null,null,null,null,null,null,null,null,null,null,null,null,null,null,"FILTRE",null,null,null,null,null,null,null,null,null,null,null,null,null,null,"FILTRE"]
[null,null,null,null,1,null,{"$f":"IF($C$3=\"FR\",\"Taille (m²)\",\"Size (m²)\")","v":"Size (m²)"},null,{"$f":"IF($C$3=\"FR\",\"Largeur (m)\",\"Width (m)\")","v":"Width (m)"},null,"QTE","PR","K",null,null,null,null,null,null,1,null,{"$f":"IF($C$3=\"FR\",\"Taille (m²)\",\"Size (m²)\")","v":"Size (m²)"},null,{"$f":"IF($C$3=\"FR\",\"Largeur (m)\",\"Width (m)\")","v":"Width (m)"},null,"QTE","PR","K",null,null,null,null,null,null,1,null,{"$f":"IF($C$3=\"FR\",\"Taille (m²)\",\"Size (m²)\")","v":"Size (m²)"},null,{"$f":"IF($C$3=\"FR\",\"Largeur (m)\",\"Width (m)\")","v":"Width (m)"},null,"QTE","PR","K",null,null,null,null,null,null,1,null,{"$f":"IF($C$3=\"FR\",\"Taille (m²)\",\"Size (m²)\")","v":"Size (m²)"},null,{"$f":"IF($C$3=\"FR\",\"Largeur (m)\",\"Width (m)\")","v":"Width (m)"},null,"QTE","PR","K",null,null,null,null,null,null,1,null,{"$f":"IF($C$3=\"FR\",\"Taille (m²)\",\"Size (m²)\")","v":"Size (m²)"},null,{"$f":"IF($C$3=\"FR\",\"Largeur (m)\",\"Width (m)\")","v":"Width (m)"},null,"QTE","PR","K",null,null,null,null,null,null,1,null,{"$f":"IF($C$3=\"FR\",\"Taille (m²)\",\"Size (m²)\")","v":"Size (m²)"},null,{"$f":"IF($C$3=\"FR\",\"Largeur (m)\",\"Width (m)\")","v":"Width (m)"},null,"QTE","PR","K",null,null,null,null,null,null,1,null,{"$f":"IF($C$3=\"FR\",\"Taille (m²)\",\"Size (m²)\")","v":"Size (m²)"},null,{"$f":"IF($C$3=\"FR\",\"Largeur (m)\",\"Width (m)\")","v":"Width (m)"},null,"QTE","PR","K",null,null,null,null,null,null,1,null,{"$f":"IF($C$3=\"FR\",\"Taille (m²)\",\"Size (m²)\")","v":"Size (m²)"},null,{"$f":"IF($C$3=\"FR\",\"Largeur (m)\",\"Width (m)\")","v":"Width (m)"},null,"QTE","PR","K",null,null,null,null,null,null,1,null,{"$f":"IF($C$3=\"FR\",\"Taille (m²)\",\"Size (m²)\")","v":"Size (m²)"},null,{"$f":"IF($C$3=\"FR\",\"Largeur (m)\",\"Width (m)\")","v":"Width (m)"},null,"QTE","PR","K",null,null,null,null,null,null,1,null,{"$f":"IF($C$3=\"FR\",\"Taille (m²)\",\"Size (m²)\")","v":"Size (m²)"},null,{"$f":"IF($C$3=\"FR\",\"Largeur (m)\",\"Width (m)\")","v":"Width (m)"},null,"QTE","PR","K",null,null,null,null,null,null,1,null,{"$f":"IF($C$3=\"FR\",\"Taille (m²)\",\"Size (m²)\")","v":"Size (m²)"},null,{"$f":"IF($C$3=\"FR\",\"Largeur (m)\",\"Width (m)\")","v":"Width (m)"},null,"QTE","PR","K"]
[null,null,null,null,null,"Filter",45,null,3,null,1,389600.86931307957,1.7654723239999999,null,null,null,null,null,null,null,null,null,null,null,null,null,null,null,null,null,null,null,null,null,null,"Filter",2,null,0.5,null,1,130506.04451859802,1.7654723239999999]
[]
[null,null,null,null,null,null,"MOC",null,null,null,null,null,null,null,null,null,null,null,null,null,null,null,null,null,null,null,null,null,null,null,null,null,null,null,null,null,"MOC"]
[null,null,null,null,null,"Frame","316L",null,null,null,null,null,null,null,null,null,null,null,null,null,null,null,null,null,null,null,null,null,null,null,null,null,null,null,null,"Frame","304L"]
[null,null,null,null,null,"Vacuum box","316L",null,null,null,null,null,null,null,null,null,null,null,null,null,null,null,null,null,null,null,null,null,null,null,null,null,null,null,null,"Vacuum box","304L"]
[null,null,null,null,null,"Slurry Feeder","316L",null,null,null,null,null,null,null,null,null,null,null,null,null,null,null,null,null,null,null,null,null,null,null,null,null,null,null,null,"Slurry Feeder","304L"]
[null,null,null,null,null,"Cake Washing Feeder","316L",null,null,null,null,null,null,null,null,null,null,null,null,null,null,null,null,null,null,null,null,null,null,null,null,null,null,null,null,"Cake Washing Feeder","304L"]
[null,null,null,null,null,"Collection through","316L",null,null,null,null,null,null,null,null,null,null,null,null,null,null,null,null,null,null,null,null,null,null,null,null,null,null,null,null,"Collection through","304L"]
[null,null,null,null,null,"Cake discharge hopper","316L",null,null,null,null,null,null,null,null,null,null,null,null,null,null,null,null,null,null,null,null,null,null,null,null,null,null,null,null,"Cake discharge hopper","304L"]
[null,null,null,null,null,"Cloth & belt support rollers","316L",null,null,null,null,null,null,null,null,null,null,null,null,null,null,null,null,null,null,null,null,null,null,null,null,null,null,null,null,"Cloth & belt support rollers","304L"]
[null,null,null,null,null,"Belt","SBR",null,null,null,null,null,null,null,null,null,null,null,null,null,null,null,null,null,null,null,null,null,null,null,null,null,null,null,null,"Belt","SBR"]
[null,null,null,null,null,"Curbs","SBR",null,null,null,null,null,null,null,null,null,null,null,null,null,null,null,null,null,null,null,null,null,null,null,null,null,null,null,null,"Curbs","SBR"]
[null,null,null,null,null,"Filter Cloth",null,null,null,null,null,null,null,null,null,null,null,null,null,null,null,null,null,null,null,null,null,null,null,null,null,null,null,null,null,"Filter Cloth"]
[null,null,null,null,null,"Gear box type planetary",null,null,null,null,null,null,null,null,null,null,null,null,null,null,null,null,null,null,null,null,null,null,null,null,null,null,null,null,null,"Gear box type planetary"]
[null,null,null,null,null,"Safety guards according CE rules",null,null,null,null,null,null,null,null,null,null,null,null,null,null,null,null,null,null,null,null,null,null,null,null,null,null,null,null,null,"Safety guards according CE rules"]
[null,null,null,null,null,"Local control panel",null,null,null,null,null,null,null,null,null,null,null,null,null,null,null,null,null,null,null,null,null,null,null,null,null,null,null,null,null,"Local control panel"]
[null,null,null,null,null,null,"Power (kW)",null,null,null,null,null,null,null,null,null,null,null,null,null,null,null,null,null,null,null,null,null,null,null,null,null,null,null,null,null,"Power (kW)"]
[null,null,null,null,null,"Electric motor","18,5 kW",null,null,null,null,null,null,null,null,null,null,null,null,null,null,null,null,null,null,null,null,null,null,null,null,null,null,null,null,"Electric motor","0,37 kW"]
[]
[null,null,null,null,"ACCESSOIRES",null,null,null,null,null,null,null,null,null,null,null,null,null,null,"ACCESSOIRES",null,null,null,null,null,null,null,null,null,null,null,null,null,null,"ACCESSOIRES",null,null,null,null,null,null,null,null,null,null,null,null,null,null,"ACCESSOIRES",null,null,null,null,null,null,null,null,null,null,null,null,null,null,"ACCESSOIRES",null,null,null,null,null,null,null,null,null,null,null,null,null,null,"ACCESSOIRES",null,null,null,null,null,null,null,null,null,null,null,null,null,null,"ACCESSOIRES",null,null,null,null,null,null,null,null,null,null,null,null,null,null,"ACCESSOIRES",null,null,null,null,null,null,null,null,null,null,null,null,null,null,"ACCESSOIRES",null,null,null,null,null,null,null,null,null,null,null,null,null,null,"ACCESSOIRES",null,null,null,null,null,null,null,null,null,null,null,null,null,null,"ACCESSOIRES"]
[null,null,null,null,null,"ELEMENTS","MOC","DN","DEBIT","PUISSANCE","QTE","PR","K",null,null,null,null,null,null,null,"ELEMENTS","MOC","DN","DEBIT","PUISSANCE","QTE","PR","K",null,null,null,null,null,null,null,"ELEMENTS","MOC","DN","DEBIT","PUISSANCE","QTE","PR","K",null,null,null,null,null,null,null,"ELEMENTS","MOC","DN","DEBIT","PUISSANCE","QTE","PR","K",null,null,null,null,null,null,null,"ELEMENTS","MOC","DN","DEBIT","PUISSANCE","QTE","PR","K",null,null,null,null,null,null,null,"ELEMENTS","MOC","DN","DEBIT","PUISSANCE","QTE","PR","K",null,null,null,null,null,null,null,"ELEMENTS","MOC","DN","DEBIT","PUISSANCE","QTE","PR","K",null,null,null,null,null,null,null,"ELEMENTS","MOC","DN","DEBIT","PUISSANCE","QTE","PR","K",null,null,null,null,null,null,null,"ELEMENTS","MOC","DN","DEBIT","PUISSANCE","QTE","PR","K",null,null,null,null,null,null,null,"ELEMENTS","MOC","DN","DEBIT","PUISSANCE","QTE","PR","K",null,null,null,null,null,null,null,"ELEMENTS","MOC","DN","DEBIT","PUISSANCE","QTE","PR","K"]
[null,null,null,null,{"$f":"IF(Tableau01[[#This Row],[ELEMENTS]]=\"\",\"\",1)","v":1},"Manifold","316L",300,null,null,1,null,1.7654723239999999,null,null,null,null,null,null,{"$f":"IF(Tableau0110[[#This Row],[ELEMENTS]]=\"\",\"\",1)","v":""},null,null,null,null,null,null,null,null,null,null,null,null,null,null,{"$f":"IF(Tableau0114[[#This Row],[ELEMENTS]]=\"\",\"\",1)","v":1},"Manifold","304L",65,null,null,1,26729.591836734697,1.7654723239999999,null,null,null,null,null,null,{"$f":"IF(Tableau011017[[#This Row],[ELEMENTS]]=\"\",\"\",1)","v":""},null,null,null,null,null,null,null,null,null,null,null,null,null,null,{"$f":"IF(Tableau0120[[#This Row],[ELEMENTS]]=\"\",\"\",1)","v":""},null,null,null,null,null,null,null,null,null,null,null,null,null,null,{"$f":"IF(Tableau011023[[#This Row],[ELEMENTS]]=\"\",\"\",1)","v":""},null,null,null,null,null,null,null,null,null,null,null,null,null,null,{"$f":"IF(Tableau011426[[#This Row],[ELEMENTS]]=\"\",\"\",1)","v":""},null,null,null,null,null,null,null,null,null,null,null,null,null,null,{"$f":"IF(Tableau01101729[[#This Row],[ELEMENTS]]=\"\",\"\",1)","v":""},null,null,null,null,null,null,null,null,null,null,null,null,null,null,{"$f":"IF(Tableau0141[[#This Row],[ELEMENTS]]=\"\",\"\",1)","v":""},null,null,null,null,null,null,null,null,null,null,null,null,null,null,{"$f":"IF(Tableau011043[[#This Row],[ELEMENTS]]=\"\",\"\",1)","v":""},null,null,null,null,null,null,null,null,null,null,null,null,null,null,{"$f":"IF(Tableau011445[[#This Row],[ELEMENTS]]=\"\",\"\",1)","v":""}]
[null,null,null,null,{"$f":"IF(Tableau01[[#This Row],[ELEMENTS]]=\"\",\"\",E26+1)","v":2},"Cloudy Port Receiver","304L",null,null,null,1,null,1.7654723239999999,null,null,null,null,null,null,{"$f":"IF(Tableau0110[[#This Row],[ELEMENTS]]=\"\",\"\",T26+1)","v":""},null,null,null,null,null,null,null,null,null,null,null,null,null,null,{"$f":"IF(Tableau0114[[#This Row],[ELEMENTS]]=\"\",\"\",AI26+1)","v":2},"Filtrate Receiver 1","304L",400,null,null,1,3966.6666666666665,1.7654723239999999,null,null,null,null,null,null,{"$f":"IF(Tableau011017[[#This Row],[ELEMENTS]]=\"\",\"\",AX26+1)","v":""},null,null,null,null,null,null,null,null,null,null,null,null,null,null,{"$f":"IF(Tableau0120[[#This Row],[ELEMENTS]]=\"\",\"\",BM26+1)","v":""},null,null,null,null,null,null,null,null,null,null,null,null,null,null,{"$f":"IF(Tableau011023[[#This Row],[ELEMENTS]]=\"\",\"\",CB26+1)","v":""},null,null,null,null,null,null,null,null,null,null,null,null,null,null,{"$f":"IF(Tableau011426[[#This Row],[ELEMENTS]]=\"\",\"\",CQ26+1)","v":""},null,null,null,null,null,null,null,null,null,null,null,null,null,null,{"$f":"IF(Tableau01101729[[#This Row],[ELEMENTS]]=\"\",\"\",DF26+1)","v":""},null,null,null,null,null,null,null,null,null,null,null,null,null,null,{"$f":"IF(Tableau0141[[#This Row],[ELEMENTS]]=\"\",\"\",DU26+1)","v":""},null,null,null,null,null,null,null,null,null,null,null,null,null,null,{"$f":"IF(Tableau011043[[#This Row],[ELEMENTS]]=\"\",\"\",EJ26+1)","v":""},null,null,null,null,null,null,null,null,null,null,null,null,null,null,{"$f":"IF(Tableau011445[[#This Row],[ELEMENTS]]=\"\",\"\",EY26+1)","v":""}]
[null,null,null,null,{"$f":"IF(Tableau01[[#This Row],[ELEMENTS]]=\"\",\"\",E27+1)","v":3},"Filtrate Receiver 1","304L",1200,null,null,1,null,1.7654723239999999,null,null,null,null,null,null,{"$f":"IF(Tableau0110[[#This Row],[ELEMENTS]]=\"\",\"\",T27+1)","v":""},null,null,null,null,null,null,null,null,null,null,null,null,null,null,{"$f":"IF(Tableau0114[[#This Row],[ELEMENTS]]=\"\",\"\",AI27+1)","v":3},"Filtrate Receiver 2","304L",400,null,null,1,3966.6666666666665,1.7654723239999999,null,null,null,null,null,null,{"$f":"IF(Tableau011017[[#This Row],[ELEMENTS]]=\"\",\"\",AX27+1)","v":""},null,null,null,null,null,null,null,null,null,null,null,null,null,null,{"$f":"IF(Tableau0120[[#This Row],[ELEMENTS]]=\"\",\"\",BM27+1)","v":""},null,null,null,null,null,null,null,null,null,null,null,null,null,null,{"$f":"IF(Tableau011023[[#This Row],[ELEMENTS]]=\"\",\"\",CB27+1)","v":""},null,null,null,null,null,null,null,null,null,null,null,null,null,null,{"$f":"IF(Tableau011426[[#This Row],[ELEMENTS]]=\"\",\"\",CQ27+1)","v":""},null,null,null,null,null,null,null,null,null,null,null,null,null,null,{"$f":"IF(Tableau01101729[[#This Row],[ELEMENTS]]=\"\",\"\",DF27+1)","v":""},null,null,null,null,null,null,null,null,null,null,null,null,null,null,{"$f":"IF(Tableau0141[[#This Row],[ELEMENTS]]=\"\",\"\",DU27+1)","v":""},null,null,null,null,null,null,null,null,null,null,null,null,null,null,{"$f":"IF(Tableau011043[[#This Row],[ELEMENTS]]=\"\",\"\",EJ27+1)","v":""},null,null,null,null,null,null,null,null,null,null,null,null,null,null,{"$f":"IF(Tableau011445[[#This Row],[ELEMENTS]]=\"\",\"\",EY27+1)","v":""}]
[null,null,null,null,{"$f":"IF(Tableau01[[#This Row],[ELEMENTS]]=\"\",\"\",E28+1)","v":4},"Filtrate Receiver 2","304L",1200,null,null,1,null,1.7654723239999999,null,null,null,null,null,null,{"$f":"IF(Tableau0110[[#This Row],[ELEMENTS]]=\"\",\"\",T28+1)","v":""},null,null,null,null,null,null,null,null,null,null,null,null,null,null,{"$f":"IF(Tableau0114[[#This Row],[ELEMENTS]]=\"\",\"\",AI28+1)","v":4},"Filtrate Receiver 3","304L",400,null,null,1,3966.6666666666665,1.7654723239999999,null,null,null,null,null,null,{"$f":"IF(Tableau011017[[#This Row],[ELEMENTS]]=\"\",\"\",AX28+1)","v":""},null,null,null,null,null,null,null,null,null,null,null,null,null,null,{"$f":"IF(Tableau0120[[#This Row],[ELEMENTS]]=\"\",\"\",BM28+1)","v":""},null,null,null,null,null,null,null,null,null,null,null,null,null,null,{"$f":"IF(Tableau011023[[#This Row],[ELEMENTS]]=\"\",\"\",CB28+1)","v":""},null,null,null,null,null,null,null,null,null,null,null,null,null,null,{"$f":"IF(Tableau011426[[#This Row],[ELEMENTS]]=\"\",\"\",CQ28+1)","v":""},null,null,null,null,null,null,null,null,null,null,null,null,null,null,{"$f":"IF(Tableau01101729[[#This Row],[ELEMENTS]]=\"\",\"\",DF28+1)","v":""},null,null,null,null,null,null,null,null,null,null,null,null,null,null,{"$f":"IF(Tableau0141[[#This Row],[ELEMENTS]]=\"\",\"\",DU28+1)","v":""},null,null,null,null,null,null,null,null,null,null,null,null,null,null,{"$f":"IF(Tableau011043[[#This Row],[ELEMENTS]]=\"\",\"\",EJ28+1)","v":""},null,null,null,null,null,null,null,null,null,null,null,null,null,null,{"$f":"IF(Tableau011445[[#This Row],[ELEMENTS]]=\"\",\"\",EY28+1)","v":""}]
[null,null,null,null,{"$f":"IF(Tableau01[[#This Row],[ELEMENTS]]=\"\",\"\",E29+1)","v":5},"Filtrate Receiver 3","304L",1200,null,null,1,null,1.7654723239999999,null,null,null,null,null,null,{"$f":"IF(Tableau0110[[#This Row],[ELEMENTS]]=\"\",\"\",T29+1)","v":""},null,null,null,null,null,null,null,null,null,null,null,null,null,null,{"$f":"IF(Tableau0114[[#This Row],[ELEMENTS]]=\"\",\"\",AI29+1)","v":5},"Fume Hood",null,null,null,null,1,12538.585868104885,1.7654723239999999,null,null,null,null,null,null,{"$f":"IF(Tableau011017[[#This Row],[ELEMENTS]]=\"\",\"\",AX29+1)","v":""},null,null,null,null,null,null,null,null,null,null,null,null,null,null,{"$f":"IF(Tableau0120[[#This Row],[ELEMENTS]]=\"\",\"\",BM29+1)","v":""},null,null,null,null,null,null,null,null,null,null,null,null,null,null,{"$f":"IF(Tableau011023[[#This Row],[ELEMENTS]]=\"\",\"\",CB29+1)","v":""},null,null,null,null,null,null,null,null,null,null,null,null,null,null,{"$f":"IF(Tableau011426[[#This Row],[ELEMENTS]]=\"\",\"\",CQ29+1)","v":""},null,null,null,null,null,null,null,null,null,null,null,null,null,null,{"$f":"IF(Tableau01101729[[#This Row],[ELEMENTS]]=\"\",\"\",DF29+1)","v":""},null,null,null,null,null,null,null,null,null,null,null,null,null,null,{"$f":"IF(Tableau0141[[#This Row],[ELEMENTS]]=\"\",\"\",DU29+1)","v":""},null,null,null,null,null,null,null,null,null,null,null,null,null,null,{"$f":"IF(Tableau011043[[#This Row],[ELEMENTS]]=\"\",\"\",EJ29+1)","v":""},null,null,null,null,null,null,null,null,null,null,null,null,null,null,{"$f":"IF(Tableau011445[[#This Row],[ELEMENTS]]=\"\",\"\",EY29+1)","v":""}]
[null,null,null,null,{"$f":"IF(Tableau01[[#This Row],[ELEMENTS]]=\"\",\"\",E30+1)","v":6},"Filtrate Receiver 4","304L",1200,null,null,1,null,1.7654723239999999,null,null,null,null,null,null,{"$f":"IF(Tableau0110[[#This Row],[ELEMENTS]]=\"\",\"\",T30+1)","v":""},null,null,null,null,null,null,null,null,null,null,null,null,null,null,{"$f":"IF(Tableau0114[[#This Row],[ELEMENTS]]=\"\",\"\",AI30+1)","v":6},"Drip-pan",null,null,null,null,1,7515.0386073825503,1.7654723239999999,null,null,null,null,null,null,{"$f":"IF(Tableau011017[[#This Row],[ELEMENTS]]=\"\",\"\",AX30+1)","v":""},null,null,null,null,null,null,null,null,null,null,null,null,null,null,{"$f":"IF(Tableau0120[[#This Row],[ELEMENTS]]=\"\",\"\",BM30+1)","v":""},null,null,null,null,null,null,null,null,null,null,null,null,null,null,{"$f":"IF(Tableau011023[[#This Row],[ELEMENTS]]=\"\",\"\",CB30+1)","v":""},null,null,null,null,null,null,null,null,null,null,null,null,null,null,{"$f":"IF(Tableau011426[[#This Row],[ELEMENTS]]=\"\",\"\",CQ30+1)","v":""},null,null,null,null,null,null,null,null,null,null,null,null,null,null,{"$f":"IF(Tableau01101729[[#This Row],[ELEMENTS]]=\"\",\"\",DF30+1)","v":""},null,null,null,null,null,null,null,null,null,null,null,null,null,null,{"$f":"IF(Tableau0141[[#This Row],[ELEMENTS]]=\"\",\"\",DU30+1)","v":""},null,null,null,null,null,null,null,null,null,null,null,null,null,null,{"$f":"IF(Tableau011043[[#This Row],[ELEMENTS]]=\"\",\"\",EJ30+1)","v":""},null,null,null,null,null,null,null,null,null,null,null,null,null,null,{"$f":"IF(Tableau011445[[#This Row],[ELEMENTS]]=\"\",\"\",EY30+1)","v":""}]
[null,null,null,null,{"$f":"IF(Tableau01[[#This Row],[ELEMENTS]]=\"\",\"\",E31+1)","v":7},"Moisture trap","Exclu",1200,null,null,1,null,1.7654723239999999,null,null,null,null,null,null,{"$f":"IF(Tableau0110[[#This Row],[ELEMENTS]]=\"\",\"\",T31+1)","v":""},null,null,null,null,null,null,null,null,null,null,null,null,null,null,{"$f":"IF(Tableau0114[[#This Row],[ELEMENTS]]=\"\",\"\",AI31+1)","v":7},"Water splash protection cover",null,null,null,null,1,3020,1.7654723239999999,null,null,null,null,null,null,{"$f":"IF(Tableau011017[[#This Row],[ELEMENTS]]=\"\",\"\",AX31+1)","v":""},null,null,null,null,null,null,null,null,null,null,null,null,null,null,{"$f":"IF(Tableau0120[[#This Row],[ELEMENTS]]=\"\",\"\",BM31+1)","v":""},null,null,null,null,null,null,null,null,null,null,null,null,null,null,{"$f":"IF(Tableau011023[[#This Row],[ELEMENTS]]=\"\",\"\",CB31+1)","v":""},null,null,null,null,null,null,null,null,null,null,null,null,null,null,{"$f":"IF(Tableau011426[[#This Row],[ELEMENTS]]=\"\",\"\",CQ31+1)","v":""},null,null,null,null,null,null,null,null,null,null,null,null,null,null,{"$f":"IF(Tableau01101729[[#This Row],[ELEMENTS]]=\"\",\"\",DF31+1)","v":""},null,null,null,null,null,null,null,null,null,null,null,null,null,null,{"$f":"IF(Tableau0141[[#This Row],[ELEMENTS]]=\"\",\"\",DU31+1)","v":""},null,null,null,null,null,null,null,null,null,null,null,null,null,null,{"$f":"IF(Tableau011043[[#This Row],[ELEMENTS]]=\"\",\"\",EJ31+1)","v":""},null,null,null,null,null,null,null,null,null,null,null,null,null,null,{"$f":"IF(Tableau011445[[#This Row],[ELEMENTS]]=\"\",\"\",EY31+1)","v":""}]
[null,null,null,null,{"$f":"IF(Tableau01[[#This Row],[ELEMENTS]]=\"\",\"\",E32+1)","v":8},"Scrubber","Exclu",1200,null,null,1,null,1.7654723239999999,null,null,null,null,null,null,{"$f":"IF(Tableau0110[[#This Row],[ELEMENTS]]=\"\",\"\",T32+1)","v":""},null,null,null,null,null,null,null,null,null,null,null,null,null,null,{"$f":"IF(Tableau0114[[#This Row],[ELEMENTS]]=\"\",\"\",AI32+1)","v":8},"Filtrate Pump 1","CD4Mcu",null,2,1.5,1,5996.4975000000004,1.5674999999999999,null,null,null,null,null,null,{"$f":"IF(Tableau011017[[#This Row],[ELEMENTS]]=\"\",\"\",AX32+1)","v":""},null,null,null,null,null,null,null,null,null,null,null,null,null,null,{"$f":"IF(Tableau0120[[#This Row],[ELEMENTS]]=\"\",\"\",BM32+1)","v":""},null,null,null,null,null,null,null,null,null,null,null,null,null,null,{"$f":"IF(Tableau011023[[#This Row],[ELEMENTS]]=\"\",\"\",CB32+1)","v":""},null,null,null,null,null,null,null,null,null,null,null,null,null,null,{"$f":"IF(Tableau011426[[#This Row],[ELEMENTS]]=\"\",\"\",CQ32+1)","v":""},null,null,null,null,null,null,null,null,null,null,null,null,null,null,{"$f":"IF(Tableau01101729[[#This Row],[ELEMENTS]]=\"\",\"\",DF32+1)","v":""},null,null,null,null,null,null,null,null,null,null,null,null,null,null,{"$f":"IF(Tableau0141[[#This Row],[ELEMENTS]]=\"\",\"\",DU32+1)","v":""},null,null,null,null,null,null,null,null,null,null,null,null,null,null,{"$f":"IF(Tableau011043[[#This Row],[ELEMENTS]]=\"\",\"\",EJ32+1)","v":""},null,null,null,null,null,null,null,null,null,null,null,null,null,null,{"$f":"IF(Tableau011445[[#This Row],[ELEMENTS]]=\"\",\"\",EY32+1)","v":""}]
[null,null,null,null,{"$f":"IF(Tableau01[[#This Row],[ELEMENTS]]=\"\",\"\",E33+1)","v":9},"Cloudy Port Barometric Tank",null,null,null,null,1,null,1.7654723239999999,null,null,null,null,null,null,{"$f":"IF(Tableau0110[[#This Row],[ELEMENTS]]=\"\",\"\",T33+1)","v":""},null,null,null,null,null,null,null,null,null,null,null,null,null,null,{"$f":"IF(Tableau0114[[#This Row],[ELEMENTS]]=\"\",\"\",AI33+1)","v":9},"Filtrate Pump 2","CD4Mcu",null,2,1.5,1,5996.4975000000004,1.5674999999999999,null,null,null,null,null,null,{"$f":"IF(Tableau011017[[#This Row],[ELEMENTS]]=\"\",\"\",AX33+1)","v":""},null,null,null,null,null,null,null,null,null,null,null,null,null,null,{"$f":"IF(Tableau0120[[#This Row],[ELEMENTS]]=\"\",\"\",BM33+1)","v":""},null,null,null,null,null,null,null,null,null,null,null,null,null,null,{"$f":"IF(Tableau011023[[#This Row],[ELEMENTS]]=\"\",\"\",CB33+1)","v":""},null,null,null,null,null,null,null,null,null,null,null,null,null,null,{"$f":"IF(Tableau011426[[#This Row],[ELEMENTS]]=\"\",\"\",CQ33+1)","v":""},null,null,null,null,null,null,null,null,null,null,null,null,null,null,{"$f":"IF(Tableau01101729[[#This Row],[ELEMENTS]]=\"\",\"\",DF33+1)","v":""},null,null,null,null,null,null,null,null,null,null,null,null,null,null,{"$f":"IF(Tableau0141[[#This Row],[ELEMENTS]]=\"\",\"\",DU33+1)","v":""},null,null,null,null,null,null,null,null,null,null,null,null,null,null,{"$f":"IF(Tableau011043[[#This Row],[ELEMENTS]]=\"\",\"\",EJ33+1)","v":""},null,null,null,null,null,null,null,null,null,null,null,null,null,null,{"$f":"IF(Tableau011445[[#This Row],[ELEMENTS]]=\"\",\"\",EY33+1)","v":""}]
[null,null,null,null,{"$f":"IF(Tableau01[[#This Row],[ELEMENTS]]=\"\",\"\",E34+1)","v":10},"Filtrate Receiver Barometric Tank 1",null,null,null,null,1,null,1.7654723239999999,null,null,null,null,null,null,{"$f":"IF(Tableau0110[[#This Row],[ELEMENTS]]=\"\",\"\",T34+1)","v":""},null,null,null,null,null,null,null,null,null,null,null,null,null,null,{"$f":"IF(Tableau0114[[#This Row],[ELEMENTS]]=\"\",\"\",AI34+1)","v":10},"Filtrate Pump 3","CD4Mcu",null,2,1.5,1,5996.4975000000004,1.5674999999999999,null,null,null,null,null,null,{"$f":"IF(Tableau011017[[#This Row],[ELEMENTS]]=\"\",\"\",AX34+1)","v":""},null,null,null,null,null,null,null,null,null,null,null,null,null,null,{"$f":"IF(Tableau0120[[#This Row],[ELEMENTS]]=\"\",\"\",BM34+1)","v":""},null,null,null,null,null,null,null,null,null,null,null,null,null,null,{"$f":"IF(Tableau011023[[#This Row],[ELEMENTS]]=\"\",\"\",CB34+1)","v":""},null,null,null,null,null,null,null,null,null,null,null,null,null,null,{"$f":"IF(Tableau011426[[#This Row],[ELEMENTS]]=\"\",\"\",CQ34+1)","v":""},null,null,null,null,null,null,null,null,null,null,null,null,null,null,{"$f":"IF(Tableau01101729[[#This Row],[ELEMENTS]]=\"\",\"\",DF34+1)","v":""},null,null,null,null,null,null,null,null,null,null,null,null,null,null,{"$f":"IF(Tableau0141[[#This Row],[ELEMENTS]]=\"\",\"\",DU34+1)","v":""},null,null,null,null,null,null,null,null,null,null,null,null,null,null,{"$f":"IF(Tableau011043[[#This Row],[ELEMENTS]]=\"\",\"\",EJ34+1)","v":""},null,null,null,null,null,null,null,null,null,null,null,null,null,null,{"$f":"IF(Tableau011445[[#This Row],[ELEMENTS]]=\"\",\"\",EY34+1)","v":""}]
[null,null,null,null,{"$f":"IF(Tableau01[[#This Row],[ELEMENTS]]=\"\",\"\",E35+1)","v":11},"Filtrate Receiver Barometric Tank 2",null,null,null,null,1,null,1.7654723239999999,null,null,null,null,null,null,{"$f":"IF(Tableau0110[[#This Row],[ELEMENTS]]=\"\",\"\",T35+1)","v":""},null,null,null,null,null,null,null,null,null,null,null,null,null,null,{"$f":"IF(Tableau0114[[#This Row],[ELEMENTS]]=\"\",\"\",AI35+1)","v":11},"Vacuum Pump","Cast Iron",null,200,5.5,1,34225,1.5674999999999999,null,null,null,null,null,null,{"$f":"IF(Tableau011017[[#This Row],[ELEMENTS]]=\"\",\"\",AX35+1)","v":""},null,null,null,null,null,null,null,null,null,null,null,null,null,null,{"$f":"IF(Tableau0120[[#This Row],[ELEMENTS]]=\"\",\"\",BM35+1)","v":""},null,null,null,null,null,null,null,null,null,null,null,null,null,null,{"$f":"IF(Tableau011023[[#This Row],[ELEMENTS]]=\"\",\"\",CB35+1)","v":""},null,null,null,null,null,null,null,null,null,null,null,null,null,null,{"$f":"IF(Tableau011426[[#This Row],[ELEMENTS]]=\"\",\"\",CQ35+1)","v":""},null,null,null,null,null,null,null,null,null,null,null,null,null,null,{"$f":"IF(Tableau01101729[[#This Row],[ELEMENTS]]=\"\",\"\",DF35+1)","v":""},null,null,null,null,null,null,null,null,null,null,null,null,null,null,{"$f":"IF(Tableau0141[[#This Row],[ELEMENTS]]=\"\",\"\",DU35+1)","v":""},null,null,null,null,null,null,null,null,null,null,null,null,null,null,{"$f":"IF(Tableau011043[[#This Row],[ELEMENTS]]=\"\",\"\",EJ35+1)","v":""},null,null,null,null,null,null,null,null,null,null,null,null,null,null,{"$f":"IF(Tableau011445[[#This Row],[ELEMENTS]]=\"\",\"\",EY35+1)","v":""}]
[null,null,null,null,{"$f":"IF(Tableau01[[#This Row],[ELEMENTS]]=\"\",\"\",E36+1)","v":12},"Filtrate Receiver Barometric Tank 3",null,null,null,null,1,null,1.7654723239999999,null,null,null,null,null,null,{"$f":"IF(Tableau0110[[#This Row],[ELEMENTS]]=\"\",\"\",T36+1)","v":""},null,null,null,null,null,null,null,null,null,null,null,null,null,null,{"$f":"IF(Tableau0114[[#This Row],[ELEMENTS]]=\"\",\"\",AI36+1)","v":12},"Instrumentation & Valves",null,null,null,null,1,27159.000000000004,1.7654723239999999,null,null,null,null,null,null,{"$f":"IF(Tableau011017[[#This Row],[ELEMENTS]]=\"\",\"\",AX36+1)","v":""},null,null,null,null,null,null,null,null,null,null,null,null,null,null,{"$f":"IF(Tableau0120[[#This Row],[ELEMENTS]]=\"\",\"\",BM36+1)","v":""},null,null,null,null,null,null,null,null,null,null,null,null,null,null,{"$f":"IF(Tableau011023[[#This Row],[ELEMENTS]]=\"\",\"\",CB36+1)","v":""},null,null,null,null,null,null,null,null,null,null,null,null,null,null,{"$f":"IF(Tableau011426[[#This Row],[ELEMENTS]]=\"\",\"\",CQ36+1)","v":""},null,null,null,null,null,null,null,null,null,null,null,null,null,null,{"$f":"IF(Tableau01101729[[#This Row],[ELEMENTS]]=\"\",\"\",DF36+1)","v":""},null,null,null,null,null,null,null,null,null,null,null,null,null,null,{"$f":"IF(Tableau0141[[#This Row],[ELEMENTS]]=\"\",\"\",DU36+1)","v":""},null,null,null,null,null,null,null,null,null,null,null,null,null,null,{"$f":"IF(Tableau011043[[#This Row],[ELEMENTS]]=\"\",\"\",EJ36+1)","v":""},null,null,null,null,null,null,null,null,null,null,null,null,null,null,{"$f":"IF(Tableau011445[[#This Row],[ELEMENTS]]=\"\",\"\",EY36+1)","v":""}]
[null,null,null,null,{"$f":"IF(Tableau01[[#This Row],[ELEMENTS]]=\"\",\"\",E37+1)","v":13},"Filtrate Receiver Barometric Tank 4",null,null,null,null,1,null,1.7654723239999999,null,null,null,null,null,null,{"$f":"IF(Tableau0110[[#This Row],[ELEMENTS]]=\"\",\"\",T37+1)","v":""},null,null,null,null,null,null,null,null,null,null,null,null,null,null,{"$f":"IF(Tableau0114[[#This Row],[ELEMENTS]]=\"\",\"\",AI37+1)","v":13},"Engineering","Cat. 1 (HASLER Standard)",null,null,null,1,5000,2,null,null,null,null,null,null,{"$f":"IF(Tableau011017[[#This Row],[ELEMENTS]]=\"\",\"\",AX37+1)","v":""},null,null,null,null,null,null,null,null,null,null,null,null,null,null,{"$f":"IF(Tableau0120[[#This Row],[ELEMENTS]]=\"\",\"\",BM37+1)","v":""},null,null,null,null,null,null,null,null,null,null,null,null,null,null,{"$f":"IF(Tableau011023[[#This Row],[ELEMENTS]]=\"\",\"\",CB37+1)","v":""},null,null,null,null,null,null,null,null,null,null,null,null,null,null,{"$f":"IF(Tableau011426[[#This Row],[ELEMENTS]]=\"\",\"\",CQ37+1)","v":""},null,null,null,null,null,null,null,null,null,null,null,null,null,null,{"$f":"IF(Tableau01101729[[#This Row],[ELEMENTS]]=\"\",\"\",DF37+1)","v":""},null,null,null,null,null,null,null,null,null,null,null,null,null,null,{"$f":"IF(Tableau0141[[#This Row],[ELEMENTS]]=\"\",\"\",DU37+1)","v":""},null,null,null,null,null,null,null,null,null,null,null,null,null,null,{"$f":"IF(Tableau011043[[#This Row],[ELEMENTS]]=\"\",\"\",EJ37+1)","v":""},null,null,null,null,null,null,null,null,null,null,null,null,null,null,{"$f":"IF(Tableau011445[[#This Row],[ELEMENTS]]=\"\",\"\",EY37+1)","v":""}]
[null,null,null,null,{"$f":"IF(Tableau01[[#This Row],[ELEMENTS]]=\"\",\"\",E38+1)","v":14},"Liquid Ring Water Recirculating Tank","Polyethylène",null,null,null,1,null,1.7654723239999999,null,null,null,null,null,null,{"$f":"IF(Tableau0110[[#This Row],[ELEMENTS]]=\"\",\"\",T38+1)","v":""},null,null,null,null,null,null,null,null,null,null,null,null,null,null,{"$f":"IF(Tableau0114[[#This Row],[ELEMENTS]]=\"\",\"\",AI38+1)","v":14},"High Pressure pump & Ramp ",null,null,null,null,1,15500,1.7654723239999999,null,null,null,null,null,null,{"$f":"IF(Tableau011017[[#This Row],[ELEMENTS]]=\"\",\"\",AX38+1)","v":""},null,null,null,null,null,null,null,null,null,null,null,null,null,null,{"$f":"IF(Tableau0120[[#This Row],[ELEMENTS]]=\"\",\"\",BM38+1)","v":""},null,null,null,null,null,null,null,null,null,null,null,null,null,null,{"$f":"IF(Tableau011023[[#This Row],[ELEMENTS]]=\"\",\"\",CB38+1)","v":""},null,null,null,null,null,null,null,null,null,null,null,null,null,null,{"$f":"IF(Tableau011426[[#This Row],[ELEMENTS]]=\"\",\"\",CQ38+1)","v":""},null,null,null,null,null,null,null,null,null,null,null,null,null,null,{"$f":"IF(Tableau01101729[[#This Row],[ELEMENTS]]=\"\",\"\",DF38+1)","v":""},null,null,null,null,null,null,null,null,null,null,null,null,null,null,{"$f":"IF(Tableau0141[[#This Row],[ELEMENTS]]=\"\",\"\",DU38+1)","v":""},null,null,null,null,null,null,null,null,null,null,null,null,null,null,{"$f":"IF(Tableau011043[[#This Row],[ELEMENTS]]=\"\",\"\",EJ38+1)","v":""},null,null,null,null,null,null,null,null,null,null,null,null,null,null,{"$f":"IF(Tableau011445[[#This Row],[ELEMENTS]]=\"\",\"\",EY38+1)","v":""}]
[null,null,null,null,{"$f":"IF(Tableau01[[#This Row],[ELEMENTS]]=\"\",\"\",E39+1)","v":15},"Cloth & Belt Wash Recirculating Tank","316L",null,null,null,1,null,1.7654723239999999,null,null,null,null,null,null,{"$f":"IF(Tableau0110[[#This Row],[ELEMENTS]]=\"\",\"\",T39+1)","v":""},null,null,null,null,null,null,null,null,null,null,null,null,null,null,{"$f":"IF(Tableau0114[[#This Row],[ELEMENTS]]=\"\",\"\",AI39+1)","v":""},null,null,null,null,null,null,null,null,null,null,null,null,null,null,{"$f":"IF(Tableau011017[[#This Row],[ELEMENTS]]=\"\",\"\",AX39+1)","v":""},null,null,null,null,null,null,null,null,null,null,null,null,null,null,{"$f":"IF(Tableau0120[[#This Row],[ELEMENTS]]=\"\",\"\",BM39+1)","v":""},null,null,null,null,null,null,null,null,null,null,null,null,null,null,{"$f":"IF(Tableau011023[[#This Row],[ELEMENTS]]=\"\",\"\",CB39+1)","v":""},null,null,null,null,null,null,null,null,null,null,null,null,null,null,{"$f":"IF(Tableau011426[[#This Row],[ELEMENTS]]=\"\",\"\",CQ39+1)","v":""},null,null,null,null,null,null,null,null,null,null,null,null,null,null,{"$f":"IF(Tableau01101729[[#This Row],[ELEMENTS]]=\"\",\"\",DF39+1)","v":""},null,null,null,null,null,null,null,null,null,null,null,null,null,null,{"$f":"IF(Tableau0141[[#This Row],[ELEMENTS]]=\"\",\"\",DU39+1)","v":""},null,null,null,null,null,null,null,null,null,null,null,null,null,null,{"$f":"IF(Tableau011043[[#This Row],[ELEMENTS]]=\"\",\"\",EJ39+1)","v":""},null,null,null,null,null,null,null,null,null,null,null,null,null,null,{"$f":"IF(Tableau011445[[#This Row],[ELEMENTS]]=\"\",\"\",EY39+1)","v":""}]
[null,null,null,null,{"$f":"IF(Tableau01[[#This Row],[ELEMENTS]]=\"\",\"\",E40+1)","v":16},"Cloudy Port Pump",null,null,null,11,1,null,1.5674999999999999,null,null,null,null,null,null,{"$f":"IF(Tableau0110[[#This Row],[ELEMENTS]]=\"\",\"\",T40+1)","v":""},null,null,null,null,null,null,null,null,null,null,null,null,null,null,{"$f":"IF(Tableau0114[[#This Row],[ELEMENTS]]=\"\",\"\",AI40+1)","v":""},null,null,null,null,null,null,null,null,null,null,null,null,null,null,{"$f":"IF(Tableau011017[[#This Row],[ELEMENTS]]=\"\",\"\",AX40+1)","v":""},null,null,null,null,null,null,null,null,null,null,null,null,null,null,{"$f":"IF(Tableau0120[[#This Row],[ELEMENTS]]=\"\",\"\",BM40+1)","v":""},null,null,null,null,null,null,null,null,null,null,null,null,null,null,{"$f":"IF(Tableau011023[[#This Row],[ELEMENTS]]=\"\",\"\",CB40+1)","v":""},null,null,null,null,null,null,null,null,null,null,null,null,null,null,{"$f":"IF(Tableau011426[[#This Row],[ELEMENTS]]=\"\",\"\",CQ40+1)","v":""},null,null,null,null,null,null,null,null,null,null,null,null,null,null,{"$f":"IF(Tableau01101729[[#This Row],[ELEMENTS]]=\"\",\"\",DF40+1)","v":""},null,null,null,null,null,null,null,null,null,null,null,null,null,null,{"$f":"IF(Tableau0141[[#This Row],[ELEMENTS]]=\"\",\"\",DU40+1)","v":""},null,null,null,null,null,null,null,null,null,null,null,null,null,null,{"$f":"IF(Tableau011043[[#This Row],[ELEMENTS]]=\"\",\"\",EJ40+1)","v":""},null,null,null,null,null,null,null,null,null,null,null,null,null,null,{"$f":"IF(Tableau011445[[#This Row],[ELEMENTS]]=\"\",\"\",EY40+1)","v":""}]
[null,null,null,null,{"$f":"IF(Tableau01[[#This Row],[ELEMENTS]]=\"\",\"\",E41+1)","v":17},"Filtrate Pump 1","CD4Mcu",null,15,1.5,1,null,1.5674999999999999,null,null,null,null,null,null,{"$f":"IF(Tableau0110[[#This Row],[ELEMENTS]]=\"\",\"\",T41+1)","v":""},null,null,null,null,null,null,null,null,null,null,null,null,null,null,{"$f":"IF(Tableau0114[[#This Row],[ELEMENTS]]=\"\",\"\",AI41+1)","v":""},null,null,null,null,null,null,null,null,null,null,null,null,null,null,{"$f":"IF(Tableau011017[[#This Row],[ELEMENTS]]=\"\",\"\",AX41+1)","v":""},null,null,null,null,null,null,null,null,null,null,null,null,null,null,{"$f":"IF(Tableau0120[[#This Row],[ELEMENTS]]=\"\",\"\",BM41+1)","v":""},null,null,null,null,null,null,null,null,null,null,null,null,null,null,{"$f":"IF(Tableau011023[[#This Row],[ELEMENTS]]=\"\",\"\",CB41+1)","v":""},null,null,null,null,null,null,null,null,null,null,null,null,null,null,{"$f":"IF(Tableau011426[[#This Row],[ELEMENTS]]=\"\",\"\",CQ41+1)","v":""},null,null,null,null,null,null,null,null,null,null,null,null,null,null,{"$f":"IF(Tableau01101729[[#This Row],[ELEMENTS]]=\"\",\"\",DF41+1)","v":""},null,null,null,null,null,null,null,null,null,null,null,null,null,null,{"$f":"IF(Tableau0141[[#This Row],[ELEMENTS]]=\"\",\"\",DU41+1)","v":""},null,null,null,null,null,null,null,null,null,null,null,null,null,null,{"$f":"IF(Tableau011043[[#This Row],[ELEMENTS]]=\"\",\"\",EJ41+1)","v":""},null,null,null,null,null,null,null,null,null,null,null,null,null,null,{"$f":"IF(Tableau011445[[#This Row],[ELEMENTS]]=\"\",\"\",EY41+1)","v":""}]
[null,null,null,null,{"$f":"IF(Tableau01[[#This Row],[ELEMENTS]]=\"\",\"\",E42+1)","v":18},"Filtrate Pump 2","CD4Mcu",null,20,3,1,null,1.5674999999999999,null,null,null,null,null,null,{"$f":"IF(Tableau0110[[#This Row],[ELEMENTS]]=\"\",\"\",T42+1)","v":""},null,null,null,null,null,null,null,null,null,null,null,null,null,null,{"$f":"IF(Tableau0114[[#This Row],[ELEMENTS]]=\"\",\"\",AI42+1)","v":""},null,null,null,null,null,null,null,null,null,null,null,null,null,null,{"$f":"IF(Tableau011017[[#This Row],[ELEMENTS]]=\"\",\"\",AX42+1)","v":""},null,null,null,null,null,null,null,null,null,null,null,null,null,null,{"$f":"IF(Tableau0120[[#This Row],[ELEMENTS]]=\"\",\"\",BM42+1)","v":""},null,null,null,null,null,null,null,null,null,null,null,null,null,null,{"$f":"IF(Tableau011023[[#This Row],[ELEMENTS]]=\"\",\"\",CB42+1)","v":""},null,null,null,null,null,null,null,null,null,null,null,null,null,null,{"$f":"IF(Tableau011426[[#This Row],[ELEMENTS]]=\"\",\"\",CQ42+1)","v":""},null,null,null,null,null,null,null,null,null,null,null,null,null,null,{"$f":"IF(Tableau01101729[[#This Row],[ELEMENTS]]=\"\",\"\",DF42+1)","v":""},null,null,null,null,null,null,null,null,null,null,null,null,null,null,{"$f":"IF(Tableau0141[[#This Row],[ELEMENTS]]=\"\",\"\",DU42+1)","v":""},null,null,null,null,null,null,null,null,null,null,null,null,null,null,{"$f":"IF(Tableau011043[[#This Row],[ELEMENTS]]=\"\",\"\",EJ42+1)","v":""},null,null,null,null,null,null,null,null,null,null,null,null,null,null,{"$f":"IF(Tableau011445[[#This Row],[ELEMENTS]]=\"\",\"\",EY42+1)","v":""}]
[null,null,null,null,{"$f":"IF(Tableau01[[#This Row],[ELEMENTS]]=\"\",\"\",E43+1)","v":19},"Filtrate Pump 3","CD4Mcu",null,30,5.5,1,null,1.5674999999999999,null,null,null,null,null,null,{"$f":"IF(Tableau0110[[#This Row],[ELEMENTS]]=\"\",\"\",T43+1)","v":""},null,null,null,null,null,null,null,null,null,null,null,null,null,null,{"$f":"IF(Tableau0114[[#This Row],[ELEMENTS]]=\"\",\"\",AI43+1)","v":""},null,null,null,null,null,null,null,null,null,null,null,null,null,null,{"$f":"IF(Tableau011017[[#This Row],[ELEMENTS]]=\"\",\"\",AX43+1)","v":""},null,null,null,null,null,null,null,null,null,null,null,null,null,null,{"$f":"IF(Tableau0120[[#This Row],[ELEMENTS]]=\"\",\"\",BM43+1)","v":""},null,null,null,null,null,null,null,null,null,null,null,null,null,null,{"$f":"IF(Tableau011023[[#This Row],[ELEMENTS]]=\"\",\"\",CB43+1)","v":""},null,null,null,null,null,null,null,null,null,null,null,null,null,null,{"$f":"IF(Tableau011426[[#This Row],[ELEMENTS]]=\"\",\"\",CQ43+1)","v":""},null,null,null,null,null,null,null,null,null,null,null,null,null,null,{"$f":"IF(Tableau01101729[[#This Row],[ELEMENTS]]=\"\",\"\",DF43+1)","v":""},null,null,null,null,null,null,null,null,null,null,null,null,null,null,{"$f":"IF(Tableau0141[[#This Row],[ELEMENTS]]=\"\",\"\",DU43+1)","v":""},null,null,null,null,null,null,null,null,null,null,null,null,null,null,{"$f":"IF(Tableau011043[[#This Row],[ELEMENTS]]=\"\",\"\",EJ43+1)","v":""},null,null,null,null,null,null,null,null,null,null,null,null,null,null,{"$f":"IF(Tableau011445[[#This Row],[ELEMENTS]]=\"\",\"\",EY43+1)","v":""}]
[null,null,null,null,{"$f":"IF(Tableau01[[#This Row],[ELEMENTS]]=\"\",\"\",E44+1)","v":20},"Filtrate Pump 4","CD4Mcu",null,35,5.5,1,null,1.5674999999999999,null,null,null,null,null,null,{"$f":"IF(Tableau0110[[#This Row],[ELEMENTS]]=\"\",\"\",T44+1)","v":""},null,null,null,null,null,null,null,null,null,null,null,null,null,null,{"$f":"IF(Tableau0114[[#This Row],[ELEMENTS]]=\"\",\"\",AI44+1)","v":""},null,null,null,null,null,null,null,null,null,null,null,null,null,null,{"$f":"IF(Tableau011017[[#This Row],[ELEMENTS]]=\"\",\"\",AX44+1)","v":""},null,null,null,null,null,null,null,null,null,null,null,null,null,null,{"$f":"IF(Tableau0120[[#This Row],[ELEMENTS]]=\"\",\"\",BM44+1)","v":""},null,null,null,null,null,null,null,null,null,null,null,null,null,null,{"$f":"IF(Tableau011023[[#This Row],[ELEMENTS]]=\"\",\"\",CB44+1)","v":""},null,null,null,null,null,null,null,null,null,null,null,null,null,null,{"$f":"IF(Tableau011426[[#This Row],[ELEMENTS]]=\"\",\"\",CQ44+1)","v":""},null,null,null,null,null,null,null,null,null,null,null,null,null,null,{"$f":"IF(Tableau01101729[[#This Row],[ELEMENTS]]=\"\",\"\",DF44+1)","v":""},null,null,null,null,null,null,null,null,null,null,null,null,null,null,{"$f":"IF(Tableau0141[[#This Row],[ELEMENTS]]=\"\",\"\",DU44+1)","v":""},null,null,null,null,null,null,null,null,null,null,null,null,null,null,{"$f":"IF(Tableau011043[[#This Row],[ELEMENTS]]=\"\",\"\",EJ44+1)","v":""},null,null,null,null,null,null,null,null,null,null,null,null,null,null,{"$f":"IF(Tableau011445[[#This Row],[ELEMENTS]]=\"\",\"\",EY44+1)","v":""}]
[null,null,null,null,{"$f":"IF(Tableau01[[#This Row],[ELEMENTS]]=\"\",\"\",E45+1)","v":21},"Liquid Ring Water Recirculating Pump",null,null,null,55,1,null,1.5674999999999999,null,null,null,null,null,null,{"$f":"IF(Tableau0110[[#This Row],[ELEMENTS]]=\"\",\"\",T45+1)","v":""},null,null,null,null,null,null,null,null,null,null,null,null,null,null,{"$f":"IF(Tableau0114[[#This Row],[ELEMENTS]]=\"\",\"\",AI45+1)","v":""},null,null,null,null,null,null,null,null,null,null,null,null,null,null,{"$f":"IF(Tableau011017[[#This Row],[ELEMENTS]]=\"\",\"\",AX45+1)","v":""},null,null,null,null,null,null,null,null,null,null,null,null,null,null,{"$f":"IF(Tableau0120[[#This Row],[ELEMENTS]]=\"\",\"\",BM45+1)","v":""},null,null,null,null,null,null,null,null,null,null,null,null,null,null,{"$f":"IF(Tableau011023[[#This Row],[ELEMENTS]]=\"\",\"\",CB45+1)","v":""},null,null,null,null,null,null,null,null,null,null,null,null,null,null,{"$f":"IF(Tableau011426[[#This Row],[ELEMENTS]]=\"\",\"\",CQ45+1)","v":""},null,null,null,null,null,null,null,null,null,null,null,null,null,null,{"$f":"IF(Tableau01101729[[#This Row],[ELEMENTS]]=\"\",\"\",DF45+1)","v":""},null,null,null,null,null,null,null,null,null,null,null,null,null,null,{"$f":"IF(Tableau0141[[#This Row],[ELEMENTS]]=\"\",\"\",DU45+1)","v":""},null,null,null,null,null,null,null,null,null,null,null,null,null,null,{"$f":"IF(Tableau011043[[#This Row],[ELEMENTS]]=\"\",\"\",EJ45+1)","v":""},null,null,null,null,null,null,null,null,null,null,null,null,null,null,{"$f":"IF(Tableau011445[[#This Row],[ELEMENTS]]=\"\",\"\",EY45+1)","v":""}]
[null,null,null,null,{"$f":"IF(Tableau01[[#This Row],[ELEMENTS]]=\"\",\"\",E46+1)","v":22},"Cloth & Belt Wash Recirculating Pump","316L",null,20,5.5,1,null,1.5674999999999999,null,null,null,null,null,null,{"$f":"IF(Tableau0110[[#This Row],[ELEMENTS]]=\"\",\"\",T46+1)","v":""},null,null,null,null,null,null,null,null,null,null,null,null,null,null,{"$f":"IF(Tableau0114[[#This Row],[ELEMENTS]]=\"\",\"\",AI46+1)","v":""},null,null,null,null,null,null,null,null,null,null,null,null,null,null,{"$f":"IF(Tableau011017[[#This Row],[ELEMENTS]]=\"\",\"\",AX46+1)","v":""},null,null,null,null,null,null,null,null,null,null,null,null,null,null,{"$f":"IF(Tableau0120[[#This Row],[ELEMENTS]]=\"\",\"\",BM46+1)","v":""},null,null,null,null,null,null,null,null,null,null,null,null,null,null,{"$f":"IF(Tableau011023[[#This Row],[ELEMENTS]]=\"\",\"\",CB46+1)","v":""},null,null,null,null,null,null,null,null,null,null,null,null,null,null,{"$f":"IF(Tableau011426[[#This Row],[ELEMENTS]]=\"\",\"\",CQ46+1)","v":""},null,null,null,null,null,null,null,null,null,null,null,null,null,null,{"$f":"IF(Tableau01101729[[#This Row],[ELEMENTS]]=\"\",\"\",DF46+1)","v":""},null,null,null,null,null,null,null,null,null,null,null,null,null,null,{"$f":"IF(Tableau0141[[#This Row],[ELEMENTS]]=\"\",\"\",DU46+1)","v":""},null,null,null,null,null,null,null,null,null,null,null,null,null,null,{"$f":"IF(Tableau011043[[#This Row],[ELEMENTS]]=\"\",\"\",EJ46+1)","v":""},null,null,null,null,null,null,null,null,null,null,null,null,null,null,{"$f":"IF(Tableau011445[[#This Row],[ELEMENTS]]=\"\",\"\",EY46+1)","v":""}]
[null,null,null,null,{"$f":"IF(Tableau01[[#This Row],[ELEMENTS]]=\"\",\"\",E47+1)","v":23},"Vacuum Pump","Cast Iron",null,1000,160,1,null,1.5674999999999999,null,null,null,null,null,null,{"$f":"IF(Tableau0110[[#This Row],[ELEMENTS]]=\"\",\"\",T47+1)","v":""},null,null,null,null,null,null,null,null,null,null,null,null,null,null,{"$f":"IF(Tableau0114[[#This Row],[ELEMENTS]]=\"\",\"\",AI47+1)","v":""},null,null,null,null,null,null,null,null,null,null,null,null,null,null,{"$f":"IF(Tableau011017[[#This Row],[ELEMENTS]]=\"\",\"\",AX47+1)","v":""},null,null,null,null,null,null,null,null,null,null,null,null,null,null,{"$f":"IF(Tableau0120[[#This Row],[ELEMENTS]]=\"\",\"\",BM47+1)","v":""},null,null,null,null,null,null,null,null,null,null,null,null,null,null,{"$f":"IF(Tableau011023[[#This Row],[ELEMENTS]]=\"\",\"\",CB47+1)","v":""},null,null,null,null,null,null,null,null,null,null,null,null,null,null,{"$f":"IF(Tableau011426[[#This Row],[ELEMENTS]]=\"\",\"\",CQ47+1)","v":""},null,null,null,null,null,null,null,null,null,null,null,null,null,null,{"$f":"IF(Tableau01101729[[#This Row],[ELEMENTS]]=\"\",\"\",DF47+1)","v":""},null,null,null,null,null,null,null,null,null,null,null,null,null,null,{"$f":"IF(Tableau0141[[#This Row],[ELEMENTS]]=\"\",\"\",DU47+1)","v":""},null,null,null,null,null,null,null,null,null,null,null,null,null,null,{"$f":"IF(Tableau011043[[#This Row],[ELEMENTS]]=\"\",\"\",EJ47+1)","v":""},null,null,null,null,null,null,null,null,null,null,null,null,null,null,{"$f":"IF(Tableau011445[[#This Row],[ELEMENTS]]=\"\",\"\",EY47+1)","v":""}]
[null,null,null,null,{"$f":"IF(Tableau01[[#This Row],[ELEMENTS]]=\"\",\"\",E48+1)","v":24},"Piping",null,null,null,null,1,null,1.7654723239999999,null,null,null,null,null,null,{"$f":"IF(Tableau0110[[#This Row],[ELEMENTS]]=\"\",\"\",T48+1)","v":""},null,null,null,null,null,null,null,null,null,null,null,null,null,null,{"$f":"IF(Tableau0114[[#This Row],[ELEMENTS]]=\"\",\"\",AI48+1)","v":""},null,null,null,null,null,null,null,null,null,null,null,null,null,null,{"$f":"IF(Tableau011017[[#This Row],[ELEMENTS]]=\"\",\"\",AX48+1)","v":""},null,null,null,null,null,null,null,null,null,null,null,null,null,null,{"$f":"IF(Tableau0120[[#This Row],[ELEMENTS]]=\"\",\"\",BM48+1)","v":""},null,null,null,null,null,null,null,null,null,null,null,null,null,null,{"$f":"IF(Tableau011023[[#This Row],[ELEMENTS]]=\"\",\"\",CB48+1)","v":""},null,null,null,null,null,null,null,null,null,null,null,null,null,null,{"$f":"IF(Tableau011426[[#This Row],[ELEMENTS]]=\"\",\"\",CQ48+1)","v":""},null,null,null,null,null,null,null,null,null,null,null,null,null,null,{"$f":"IF(Tableau01101729[[#This Row],[ELEMENTS]]=\"\",\"\",DF48+1)","v":""},null,null,null,null,null,null,null,null,null,null,null,null,null,null,{"$f":"IF(Tableau0141[[#This Row],[ELEMENTS]]=\"\",\"\",DU48+1)","v":""},null,null,null,null,null,null,null,null,null,null,null,null,null,null,{"$f":"IF(Tableau011043[[#This Row],[ELEMENTS]]=\"\",\"\",EJ48+1)","v":""},null,null,null,null,null,null,null,null,null,null,null,null,null,null,{"$f":"IF(Tableau011445[[#This Row],[ELEMENTS]]=\"\",\"\",EY48+1)","v":""}]
[null,null,null,null,{"$f":"IF(Tableau01[[#This Row],[ELEMENTS]]=\"\",\"\",E49+1)","v":25},"Electrical & Control Cabinet",null,null,null,null,1,108125,1.7654723239999999,null,null,null,null,null,null,{"$f":"IF(Tableau0110[[#This Row],[ELEMENTS]]=\"\",\"\",T49+1)","v":""},null,null,null,null,null,null,null,null,null,null,null,null,null,null,{"$f":"IF(Tableau0114[[#This Row],[ELEMENTS]]=\"\",\"\",AI49+1)","v":""},null,null,null,null,null,null,null,null,null,null,null,null,null,null,{"$f":"IF(Tableau011017[[#This Row],[ELEMENTS]]=\"\",\"\",AX49+1)","v":""},null,null,null,null,null,null,null,null,null,null,null,null,null,null,{"$f":"IF(Tableau0120[[#This Row],[ELEMENTS]]=\"\",\"\",BM49+1)","v":""},null,null,null,null,null,null,null,null,null,null,null,null,null,null,{"$f":"IF(Tableau011023[[#This Row],[ELEMENTS]]=\"\",\"\",CB49+1)","v":""},null,null,null,null,null,null,null,null,null,null,null,null,null,null,{"$f":"IF(Tableau011426[[#This Row],[ELEMENTS]]=\"\",\"\",CQ49+1)","v":""},null,null,null,null,null,null,null,null,null,null,null,null,null,null,{"$f":"IF(Tableau01101729[[#This Row],[ELEMENTS]]=\"\",\"\",DF49+1)","v":""},null,null,null,null,null,null,null,null,null,null,null,null,null,null,{"$f":"IF(Tableau0141[[#This Row],[ELEMENTS]]=\"\",\"\",DU49+1)","v":""},null,null,null,null,null,null,null,null,null,null,null,null,null,null,{"$f":"IF(Tableau011043[[#This Row],[ELEMENTS]]=\"\",\"\",EJ49+1)","v":""},null,null,null,null,null,null,null,null,null,null,null,null,null,null,{"$f":"IF(Tableau011445[[#This Row],[ELEMENTS]]=\"\",\"\",EY49+1)","v":""}]
[null,null,null,null,{"$f":"IF(Tableau01[[#This Row],[ELEMENTS]]=\"\",\"\",E50+1)","v":26},"Instrumentation & Valves",null,null,null,null,1,19000,1.7654723239999999,null,null,null,null,null,null,{"$f":"IF(Tableau0110[[#This Row],[ELEMENTS]]=\"\",\"\",T50+1)","v":""},null,null,null,null,null,null,null,null,null,null,null,null,null,null,{"$f":"IF(Tableau0114[[#This Row],[ELEMENTS]]=\"\",\"\",AI50+1)","v":""},null,null,null,null,null,null,null,null,null,null,null,null,null,null,{"$f":"IF(Tableau011017[[#This Row],[ELEMENTS]]=\"\",\"\",AX50+1)","v":""},null,null,null,null,null,null,null,null,null,null,null,null,null,null,{"$f":"IF(Tableau0120[[#This Row],[ELEMENTS]]=\"\",\"\",BM50+1)","v":""},null,null,null,null,null,null,null,null,null,null,null,null,null,null,{"$f":"IF(Tableau011023[[#This Row],[ELEMENTS]]=\"\",\"\",CB50+1)","v":""},null,null,null,null,null,null,null,null,null,null,null,null,null,null,{"$f":"IF(Tableau011426[[#This Row],[ELEMENTS]]=\"\",\"\",CQ50+1)","v":""},null,null,null,null,null,null,null,null,null,null,null,null,null,null,{"$f":"IF(Tableau01101729[[#This Row],[ELEMENTS]]=\"\",\"\",DF50+1)","v":""},null,null,null,null,null,null,null,null,null,null,null,null,null,null,{"$f":"IF(Tableau0141[[#This Row],[ELEMENTS]]=\"\",\"\",DU50+1)","v":""},null,null,null,null,null,null,null,null,null,null,null,null,null,null,{"$f":"IF(Tableau011043[[#This Row],[ELEMENTS]]=\"\",\"\",EJ50+1)","v":""},null,null,null,null,null,null,null,null,null,null,null,null,null,null,{"$f":"IF(Tableau011445[[#This Row],[ELEMENTS]]=\"\",\"\",EY50+1)","v":""}]
[null,null,null,null,{"$f":"IF(Tableau01[[#This Row],[ELEMENTS]]=\"\",\"\",E51+1)","v":27},"Engineering","Cat. 1 (HASLER Standard)",null,null,null,1,null,2,null,null,null,null,null,null,{"$f":"IF(Tableau0110[[#This Row],[ELEMENTS]]=\"\",\"\",T51+1)","v":""},null,null,null,null,null,null,null,null,null,null,null,null,null,null,{"$f":"IF(Tableau0114[[#This Row],[ELEMENTS]]=\"\",\"\",AI51+1)","v":""},null,null,null,null,null,null,null,null,null,null,null,null,null,null,{"$f":"IF(Tableau011017[[#This Row],[ELEMENTS]]=\"\",\"\",AX51+1)","v":""},null,null,null,null,null,null,null,null,null,null,null,null,null,null,{"$f":"IF(Tableau0120[[#This Row],[ELEMENTS]]=\"\",\"\",BM51+1)","v":""},null,null,null,null,null,null,null,null,null,null,null,null,null,null,{"$f":"IF(Tableau011023[[#This Row],[ELEMENTS]]=\"\",\"\",CB51+1)","v":""},null,null,null,null,null,null,null,null,null,null,null,null,null,null,{"$f":"IF(Tableau011426[[#This Row],[ELEMENTS]]=\"\",\"\",CQ51+1)","v":""},null,null,null,null,null,null,null,null,null,null,null,null,null,null,{"$f":"IF(Tableau01101729[[#This Row],[ELEMENTS]]=\"\",\"\",DF51+1)","v":""},null,null,null,null,null,null,null,null,null,null,null,null,null,null,{"$f":"IF(Tableau0141[[#This Row],[ELEMENTS]]=\"\",\"\",DU51+1)","v":""},null,null,null,null,null,null,null,null,null,null,null,null,null,null,{"$f":"IF(Tableau011043[[#This Row],[ELEMENTS]]=\"\",\"\",EJ51+1)","v":""},null,null,null,null,null,null,null,null,null,null,null,null,null,null,{"$f":"IF(Tableau011445[[#This Row],[ELEMENTS]]=\"\",\"\",EY51+1)","v":""}]
[null,null,null,null,{"$f":"IF(Tableau01[[#This Row],[ELEMENTS]]=\"\",\"\",E52+1)","v":""},null,null,null,null,null,null,null,null,null,null,null,null,null,null,{"$f":"IF(Tableau0110[[#This Row],[ELEMENTS]]=\"\",\"\",T52+1)","v":""},null,null,null,null,null,null,null,null,null,null,null,null,null,null,{"$f":"IF(Tableau0114[[#This Row],[ELEMENTS]]=\"\",\"\",AI52+1)","v":""},null,null,null,null,null,null,null,null,null,null,null,null,null,null,{"$f":"IF(Tableau011017[[#This Row],[ELEMENTS]]=\"\",\"\",AX52+1)","v":""},null,null,null,null,null,null,null,null,null,null,null,null,null,null,{"$f":"IF(Tableau0120[[#This Row],[ELEMENTS]]=\"\",\"\",BM52+1)","v":""},null,null,null,null,null,null,null,null,null,null,null,null,null,null,{"$f":"IF(Tableau011023[[#This Row],[ELEMENTS]]=\"\",\"\",CB52+1)","v":""},null,null,null,null,null,null,null,null,null,null,null,null,null,null,{"$f":"IF(Tableau011426[[#This Row],[ELEMENTS]]=\"\",\"\",CQ52+1)","v":""},null,null,null,null,null,null,null,null,null,null,null,null,null,null,{"$f":"IF(Tableau01101729[[#This Row],[ELEMENTS]]=\"\",\"\",DF52+1)","v":""},null,null,null,null,null,null,null,null,null,null,null,null,null,null,{"$f":"IF(Tableau0141[[#This Row],[ELEMENTS]]=\"\",\"\",DU52+1)","v":""},null,null,null,null,null,null,null,null,null,null,null,null,null,null,{"$f":"IF(Tableau011043[[#This Row],[ELEMENTS]]=\"\",\"\",EJ52+1)","v":""},null,null,null,null,null,null,null,null,null,null,null,null,null,null,{"$f":"IF(Tableau011445[[#This Row],[ELEMENTS]]=\"\",\"\",EY52+1)","v":""}]
[null,null,null,null,{"$f":"IF(Tableau01[[#This Row],[ELEMENTS]]=\"\",\"\",E53+1)","v":""},null,null,null,null,null,null,null,null,null,null,null,null,null,null,{"$f":"IF(Tableau0110[[#This Row],[ELEMENTS]]=\"\",\"\",T53+1)","v":""},null,null,null,null,null,null,null,null,null,null,null,null,null,null,{"$f":"IF(Tableau0114[[#This Row],[ELEMENTS]]=\"\",\"\",AI53+1)","v":""},null,null,null,null,null,null,null,null,null,null,null,null,null,null,{"$f":"IF(Tableau011017[[#This Row],[ELEMENTS]]=\"\",\"\",AX53+1)","v":""},null,null,null,null,null,null,null,null,null,null,null,null,null,null,{"$f":"IF(Tableau0120[[#This Row],[ELEMENTS]]=\"\",\"\",BM53+1)","v":""},null,null,null,null,null,null,null,null,null,null,null,null,null,null,{"$f":"IF(Tableau011023[[#This Row],[ELEMENTS]]=\"\",\"\",CB53+1)","v":""},null,null,null,null,null,null,null,null,null,null,null,null,null,null,{"$f":"IF(Tableau011426[[#This Row],[ELEMENTS]]=\"\",\"\",CQ53+1)","v":""},null,null,null,null,null,null,null,null,null,null,null,null,null,null,{"$f":"IF(Tableau01101729[[#This Row],[ELEMENTS]]=\"\",\"\",DF53+1)","v":""},null,null,null,null,null,null,null,null,null,null,null,null,null,null,{"$f":"IF(Tableau0141[[#This Row],[ELEMENTS]]=\"\",\"\",DU53+1)","v":""},null,null,null,null,null,null,null,null,null,null,null,null,null,null,{"$f":"IF(Tableau011043[[#This Row],[ELEMENTS]]=\"\",\"\",EJ53+1)","v":""},null,null,null,null,null,null,null,null,null,null,null,null,null,null,{"$f":"IF(Tableau011445[[#This Row],[ELEMENTS]]=\"\",\"\",EY53+1)","v":""}]
[null,null,null,null,{"$f":"IF(Tableau01[[#This Row],[ELEMENTS]]=\"\",\"\",E54+1)","v":""},null,null,null,null,null,null,null,null,null,null,null,null,null,null,{"$f":"IF(Tableau0110[[#This Row],[ELEMENTS]]=\"\",\"\",T54+1)","v":""},null,null,null,null,null,null,null,null,null,null,null,null,null,null,{"$f":"IF(Tableau0114[[#This Row],[ELEMENTS]]=\"\",\"\",AI54+1)","v":""},null,null,null,null,null,null,null,null,null,null,null,null,null,null,{"$f":"IF(Tableau011017[[#This Row],[ELEMENTS]]=\"\",\"\",AX54+1)","v":""},null,null,null,null,null,null,null,null,null,null,null,null,null,null,{"$f":"IF(Tableau0120[[#This Row],[ELEMENTS]]=\"\",\"\",BM54+1)","v":""},null,null,null,null,null,null,null,null,null,null,null,null,null,null,{"$f":"IF(Tableau011023[[#This Row],[ELEMENTS]]=\"\",\"\",CB54+1)","v":""},null,null,null,null,null,null,null,null,null,null,null,null,null,null,{"$f":"IF(Tableau011426[[#This Row],[ELEMENTS]]=\"\",\"\",CQ54+1)","v":""},null,null,null,null,null,null,null,null,null,null,null,null,null,null,{"$f":"IF(Tableau01101729[[#This Row],[ELEMENTS]]=\"\",\"\",DF54+1)","v":""},null,null,null,null,null,null,null,null,null,null,null,null,null,null,{"$f":"IF(Tableau0141[[#This Row],[ELEMENTS]]=\"\",\"\",DU54+1)","v":""},null,null,null,null,null,null,null,null,null,null,null,null,null,null,{"$f":"IF(Tableau011043[[#This Row],[ELEMENTS]]=\"\",\"\",EJ54+1)","v":""},null,null,null,null,null,null,null,null,null,null,null,null,null,null,{"$f":"IF(Tableau011445[[#This Row],[ELEMENTS]]=\"\",\"\",EY54+1)","v":""}]
[null,null,null,null,{"$f":"IF(Tableau01[[#This Row],[ELEMENTS]]=\"\",\"\",E55+1)","v":""},null,null,null,null,null,null,null,null,null,null,null,null,null,null,{"$f":"IF(Tableau0110[[#This Row],[ELEMENTS]]=\"\",\"\",T55+1)","v":""},null,null,null,null,null,null,null,null,null,null,null,null,null,null,{"$f":"IF(Tableau0114[[#This Row],[ELEMENTS]]=\"\",\"\",AI55+1)","v":""},null,null,null,null,null,null,null,null,null,null,null,null,null,null,{"$f":"IF(Tableau011017[[#This Row],[ELEMENTS]]=\"\",\"\",AX55+1)","v":""},null,null,null,null,null,null,null,null,null,null,null,null,null,null,{"$f":"IF(Tableau0120[[#This Row],[ELEMENTS]]=\"\",\"\",BM55+1)","v":""},null,null,null,null,null,null,null,null,null,null,null,null,null,null,{"$f":"IF(Tableau011023[[#This Row],[ELEMENTS]]=\"\",\"\",CB55+1)","v":""},null,null,null,null,null,null,null,null,null,null,null,null,null,null,{"$f":"IF(Tableau011426[[#This Row],[ELEMENTS]]=\"\",\"\",CQ55+1)","v":""},null,null,null,null,null,null,null,null,null,null,null,null,null,null,{"$f":"IF(Tableau01101729[[#This Row],[ELEMENTS]]=\"\",\"\",DF55+1)","v":""},null,null,null,null,null,null,null,null,null,null,null,null,null,null,{"$f":"IF(Tableau0141[[#This Row],[ELEMENTS]]=\"\",\"\",DU55+1)","v":""},null,null,null,null,null,null,null,null,null,null,null,null,null,null,{"$f":"IF(Tableau011043[[#This Row],[ELEMENTS]]=\"\",\"\",EJ55+1)","v":""},null,null,null,null,null,null,null,null,null,null,null,null,null,null,{"$f":"IF(Tableau011445[[#This Row],[ELEMENTS]]=\"\",\"\",EY55+1)","v":""}]
[null,null,null,null,{"$f":"IF(Tableau01[[#This Row],[ELEMENTS]]=\"\",\"\",E56+1)","v":""},null,null,null,null,null,null,null,null,null,null,null,null,null,null,{"$f":"IF(Tableau0110[[#This Row],[ELEMENTS]]=\"\",\"\",T56+1)","v":""},null,null,null,null,null,null,null,null,null,null,null,null,null,null,{"$f":"IF(Tableau0114[[#This Row],[ELEMENTS]]=\"\",\"\",AI56+1)","v":""},null,null,null,null,null,null,null,null,null,null,null,null,null,null,{"$f":"IF(Tableau011017[[#This Row],[ELEMENTS]]=\"\",\"\",AX56+1)","v":""},null,null,null,null,null,null,null,null,null,null,null,null,null,null,{"$f":"IF(Tableau0120[[#This Row],[ELEMENTS]]=\"\",\"\",BM56+1)","v":""},null,null,null,null,null,null,null,null,null,null,null,null,null,null,{"$f":"IF(Tableau011023[[#This Row],[ELEMENTS]]=\"\",\"\",CB56+1)","v":""},null,null,null,null,null,null,null,null,null,null,null,null,null,null,{"$f":"IF(Tableau011426[[#This Row],[ELEMENTS]]=\"\",\"\",CQ56+1)","v":""},null,null,null,null,null,null,null,null,null,null,null,null,null,null,{"$f":"IF(Tableau01101729[[#This Row],[ELEMENTS]]=\"\",\"\",DF56+1)","v":""},null,null,null,null,null,null,null,null,null,null,null,null,null,null,{"$f":"IF(Tableau0141[[#This Row],[ELEMENTS]]=\"\",\"\",DU56+1)","v":""},null,null,null,null,null,null,null,null,null,null,null,null,null,null,{"$f":"IF(Tableau011043[[#This Row],[ELEMENTS]]=\"\",\"\",EJ56+1)","v":""},null,null,null,null,null,null,null,null,null,null,null,null,null,null,{"$f":"IF(Tableau011445[[#This Row],[ELEMENTS]]=\"\",\"\",EY56+1)","v":""}]
[null,null,null,null,{"$f":"IF(Tableau01[[#This Row],[ELEMENTS]]=\"\",\"\",E57+1)","v":""},null,null,null,null,null,null,null,null,null,null,null,null,null,null,{"$f":"IF(Tableau0110[[#This Row],[ELEMENTS]]=\"\",\"\",T57+1)","v":""},null,null,null,null,null,null,null,null,null,null,null,null,null,null,{"$f":"IF(Tableau0114[[#This Row],[ELEMENTS]]=\"\",\"\",AI57+1)","v":""},null,null,null,null,null,null,null,null,null,null,null,null,null,null,{"$f":"IF(Tableau011017[[#This Row],[ELEMENTS]]=\"\",\"\",AX57+1)","v":""},null,null,null,null,null,null,null,null,null,null,null,null,null,null,{"$f":"IF(Tableau0120[[#This Row],[ELEMENTS]]=\"\",\"\",BM57+1)","v":""},null,null,null,null,null,null,null,null,null,null,null,null,null,null,{"$f":"IF(Tableau011023[[#This Row],[ELEMENTS]]=\"\",\"\",CB57+1)","v":""},null,null,null,null,null,null,null,null,null,null,null,null,null,null,{"$f":"IF(Tableau011426[[#This Row],[ELEMENTS]]=\"\",\"\",CQ57+1)","v":""},null,null,null,null,null,null,null,null,null,null,null,null,null,null,{"$f":"IF(Tableau01101729[[#This Row],[ELEMENTS]]=\"\",\"\",DF57+1)","v":""},null,null,null,null,null,null,null,null,null,null,null,null,null,null,{"$f":"IF(Tableau0141[[#This Row],[ELEMENTS]]=\"\",\"\",DU57+1)","v":""},null,null,null,null,null,null,null,null,null,null,null,null,null,null,{"$f":"IF(Tableau011043[[#This Row],[ELEMENTS]]=\"\",\"\",EJ57+1)","v":""},null,null,null,null,null,null,null,null,null,null,null,null,null,null,{"$f":"IF(Tableau011445[[#This Row],[ELEMENTS]]=\"\",\"\",EY57+1)","v":""}]
[null,null,null,null,{"$f":"IF(Tableau01[[#This Row],[ELEMENTS]]=\"\",\"\",E58+1)","v":""},null,null,null,null,null,null,null,null,null,null,null,null,null,null,{"$f":"IF(Tableau0110[[#This Row],[ELEMENTS]]=\"\",\"\",T58+1)","v":""},null,null,null,null,null,null,null,null,null,null,null,null,null,null,{"$f":"IF(Tableau0114[[#This Row],[ELEMENTS]]=\"\",\"\",AI58+1)","v":""},null,null,null,null,null,null,null,null,null,null,null,null,null,null,{"$f":"IF(Tableau011017[[#This Row],[ELEMENTS]]=\"\",\"\",AX58+1)","v":""},null,null,null,null,null,null,null,null,null,null,null,null,null,null,{"$f":"IF(Tableau0120[[#This Row],[ELEMENTS]]=\"\",\"\",BM58+1)","v":""},null,null,null,null,null,null,null,null,null,null,null,null,null,null,{"$f":"IF(Tableau011023[[#This Row],[ELEMENTS]]=\"\",\"\",CB58+1)","v":""},null,null,null,null,null,null,null,null,null,null,null,null,null,null,{"$f":"IF(Tableau011426[[#This Row],[ELEMENTS]]=\"\",\"\",CQ58+1)","v":""},null,null,null,null,null,null,null,null,null,null,null,null,null,null,{"$f":"IF(Tableau01101729[[#This Row],[ELEMENTS]]=\"\",\"\",DF58+1)","v":""},null,null,null,null,null,null,null,null,null,null,null,null,null,null,{"$f":"IF(Tableau0141[[#This Row],[ELEMENTS]]=\"\",\"\",DU58+1)","v":""},null,null,null,null,null,null,null,null,null,null,null,null,null,null,{"$f":"IF(Tableau011043[[#This Row],[ELEMENTS]]=\"\",\"\",EJ58+1)","v":""},null,null,null,null,null,null,null,null,null,null,null,null,null,null,{"$f":"IF(Tableau011445[[#This Row],[ELEMENTS]]=\"\",\"\",EY58+1)","v":""}]
[null,null,null,null,{"$f":"IF(Tableau01[[#This Row],[ELEMENTS]]=\"\",\"\",E59+1)","v":""},null,null,null,null,null,null,null,null,null,null,null,null,null,null,{"$f":"IF(Tableau0110[[#This Row],[ELEMENTS]]=\"\",\"\",T59+1)","v":""},null,null,null,null,null,null,null,null,null,null,null,null,null,null,{"$f":"IF(Tableau0114[[#This Row],[ELEMENTS]]=\"\",\"\",AI59+1)","v":""},null,null,null,null,null,null,null,null,null,null,null,null,null,null,{"$f":"IF(Tableau011017[[#This Row],[ELEMENTS]]=\"\",\"\",AX59+1)","v":""},null,null,null,null,null,null,null,null,null,null,null,null,null,null,{"$f":"IF(Tableau0120[[#This Row],[ELEMENTS]]=\"\",\"\",BM59+1)","v":""},null,null,null,null,null,null,null,null,null,null,null,null,null,null,{"$f":"IF(Tableau011023[[#This Row],[ELEMENTS]]=\"\",\"\",CB59+1)","v":""},null,null,null,null,null,null,null,null,null,null,null,null,null,null,{"$f":"IF(Tableau011426[[#This Row],[ELEMENTS]]=\"\",\"\",CQ59+1)","v":""},null,null,null,null,null,null,null,null,null,null,null,null,null,null,{"$f":"IF(Tableau01101729[[#This Row],[ELEMENTS]]=\"\",\"\",DF59+1)","v":""},null,null,null,null,null,null,null,null,null,null,null,null,null,null,{"$f":"IF(Tableau0141[[#This Row],[ELEMENTS]]=\"\",\"\",DU59+1)","v":""},null,null,null,null,null,null,null,null,null,null,null,null,null,null,{"$f":"IF(Tableau011043[[#This Row],[ELEMENTS]]=\"\",\"\",EJ59+1)","v":""},null,null,null,null,null,null,null,null,null,null,null,null,null,null,{"$f":"IF(Tableau011445[[#This Row],[ELEMENTS]]=\"\",\"\",EY59+1)","v":""}]
[null,null,null,null,{"$f":"IF(Tableau01[[#This Row],[ELEMENTS]]=\"\",\"\",E60+1)","v":""},null,null,null,null,null,null,null,null,null,null,null,null,null,null,{"$f":"IF(Tableau0110[[#This Row],[ELEMENTS]]=\"\",\"\",T60+1)","v":""},null,null,null,null,null,null,null,null,null,null,null,null,null,null,{"$f":"IF(Tableau0114[[#This Row],[ELEMENTS]]=\"\",\"\",AI60+1)","v":""},null,null,null,null,null,null,null,null,null,null,null,null,null,null,{"$f":"IF(Tableau011017[[#This Row],[ELEMENTS]]=\"\",\"\",AX60+1)","v":""},null,null,null,null,null,null,null,null,null,null,null,null,null,null,{"$f":"IF(Tableau0120[[#This Row],[ELEMENTS]]=\"\",\"\",BM60+1)","v":""},null,null,null,null,null,null,null,null,null,null,null,null,null,null,{"$f":"IF(Tableau011023[[#This Row],[ELEMENTS]]=\"\",\"\",CB60+1)","v":""},null,null,null,null,null,null,null,null,null,null,null,null,null,null,{"$f":"IF(Tableau011426[[#This Row],[ELEMENTS]]=\"\",\"\",CQ60+1)","v":""},null,null,null,null,null,null,null,null,null,null,null,null,null,null,{"$f":"IF(Tableau01101729[[#This Row],[ELEMENTS]]=\"\",\"\",DF60+1)","v":""},null,null,null,null,null,null,null,null,null,null,null,null,null,null,{"$f":"IF(Tableau0141[[#This Row],[ELEMENTS]]=\"\",\"\",DU60+1)","v":""},null,null,null,null,null,null,null,null,null,null,null,null,null,null,{"$f":"IF(Tableau011043[[#This Row],[ELEMENTS]]=\"\",\"\",EJ60+1)","v":""},null,null,null,null,null,null,null,null,null,null,null,null,null,null,{"$f":"IF(Tableau011445[[#This Row],[ELEMENTS]]=\"\",\"\",EY60+1)","v":""}]
[null,null,null,null,{"$f":"IF(Tableau01[[#This Row],[ELEMENTS]]=\"\",\"\",E61+1)","v":""},null,null,null,null,null,null,null,null,null,null,null,null,null,null,{"$f":"IF(Tableau0110[[#This Row],[ELEMENTS]]=\"\",\"\",T61+1)","v":""},null,null,null,null,null,null,null,null,null,null,null,null,null,null,{"$f":"IF(Tableau0114[[#This Row],[ELEMENTS]]=\"\",\"\",AI61+1)","v":""},null,null,null,null,null,null,null,null,null,null,null,null,null,null,{"$f":"IF(Tableau011017[[#This Row],[ELEMENTS]]=\"\",\"\",AX61+1)","v":""},null,null,null,null,null,null,null,null,null,null,null,null,null,null,{"$f":"IF(Tableau0120[[#This Row],[ELEMENTS]]=\"\",\"\",BM61+1)","v":""},null,null,null,null,null,null,null,null,null,null,null,null,null,null,{"$f":"IF(Tableau011023[[#This Row],[ELEMENTS]]=\"\",\"\",CB61+1)","v":""},null,null,null,null,null,null,null,null,null,null,null,null,null,null,{"$f":"IF(Tableau011426[[#This Row],[ELEMENTS]]=\"\",\"\",CQ61+1)","v":""},null,null,null,null,null,null,null,null,null,null,null,null,null,null,{"$f":"IF(Tableau01101729[[#This Row],[ELEMENTS]]=\"\",\"\",DF61+1)","v":""},null,null,null,null,null,null,null,null,null,null,null,null,null,null,{"$f":"IF(Tableau0141[[#This Row],[ELEMENTS]]=\"\",\"\",DU61+1)","v":""},null,null,null,null,null,null,null,null,null,null,null,null,null,null,{"$f":"IF(Tableau011043[[#This Row],[ELEMENTS]]=\"\",\"\",EJ61+1)","v":""},null,null,null,null,null,null,null,null,null,null,null,null,null,null,{"$f":"IF(Tableau011445[[#This Row],[ELEMENTS]]=\"\",\"\",EY61+1)","v":""}]
[null,null,null,null,{"$f":"IF(Tableau01[[#This Row],[ELEMENTS]]=\"\",\"\",E62+1)","v":""},null,null,null,null,null,null,null,null,null,null,null,null,null,null,{"$f":"IF(Tableau0110[[#This Row],[ELEMENTS]]=\"\",\"\",T62+1)","v":""},null,null,null,null,null,null,null,null,null,null,null,null,null,null,{"$f":"IF(Tableau0114[[#This Row],[ELEMENTS]]=\"\",\"\",AI62+1)","v":""},null,null,null,null,null,null,null,null,null,null,null,null,null,null,{"$f":"IF(Tableau011017[[#This Row],[ELEMENTS]]=\"\",\"\",AX62+1)","v":""},null,null,null,null,null,null,null,null,null,null,null,null,null,null,{"$f":"IF(Tableau0120[[#This Row],[ELEMENTS]]=\"\",\"\",BM62+1)","v":""},null,null,null,null,null,null,null,null,null,null,null,null,null,null,{"$f":"IF(Tableau011023[[#This Row],[ELEMENTS]]=\"\",\"\",CB62+1)","v":""},null,null,null,null,null,null,null,null,null,null,null,null,null,null,{"$f":"IF(Tableau011426[[#This Row],[ELEMENTS]]=\"\",\"\",CQ62+1)","v":""},null,null,null,null,null,null,null,null,null,null,null,null,null,null,{"$f":"IF(Tableau01101729[[#This Row],[ELEMENTS]]=\"\",\"\",DF62+1)","v":""},null,null,null,null,null,null,null,null,null,null,null,null,null,null,{"$f":"IF(Tableau0141[[#This Row],[ELEMENTS]]=\"\",\"\",DU62+1)","v":""},null,null,null,null,null,null,null,null,null,null,null,null,null,null,{"$f":"IF(Tableau011043[[#This Row],[ELEMENTS]]=\"\",\"\",EJ62+1)","v":""},null,null,null,null,null,null,null,null,null,null,null,null,null,null,{"$f":"IF(Tableau011445[[#This Row],[ELEMENTS]]=\"\",\"\",EY62+1)","v":""}]
[null,null,null,null,{"$f":"IF(Tableau01[[#This Row],[ELEMENTS]]=\"\",\"\",E63+1)","v":""},null,null,null,null,null,null,null,null,null,null,null,null,null,null,{"$f":"IF(Tableau0110[[#This Row],[ELEMENTS]]=\"\",\"\",T63+1)","v":""},null,null,null,null,null,null,null,null,null,null,null,null,null,null,{"$f":"IF(Tableau0114[[#This Row],[ELEMENTS]]=\"\",\"\",AI63+1)","v":""},null,null,null,null,null,null,null,null,null,null,null,null,null,null,{"$f":"IF(Tableau011017[[#This Row],[ELEMENTS]]=\"\",\"\",AX63+1)","v":""},null,null,null,null,null,null,null,null,null,null,null,null,null,null,{"$f":"IF(Tableau0120[[#This Row],[ELEMENTS]]=\"\",\"\",BM63+1)","v":""},null,null,null,null,null,null,null,null,null,null,null,null,null,null,{"$f":"IF(Tableau011023[[#This Row],[ELEMENTS]]=\"\",\"\",CB63+1)","v":""},null,null,null,null,null,null,null,null,null,null,null,null,null,null,{"$f":"IF(Tableau011426[[#This Row],[ELEMENTS]]=\"\",\"\",CQ63+1)","v":""},null,null,null,null,null,null,null,null,null,null,null,null,null,null,{"$f":"IF(Tableau01101729[[#This Row],[ELEMENTS]]=\"\",\"\",DF63+1)","v":""},null,null,null,null,null,null,null,null,null,null,null,null,null,null,{"$f":"IF(Tableau0141[[#This Row],[ELEMENTS]]=\"\",\"\",DU63+1)","v":""},null,null,null,null,null,null,null,null,null,null,null,null,null,null,{"$f":"IF(Tableau011043[[#This Row],[ELEMENTS]]=\"\",\"\",EJ63+1)","v":""},null,null,null,null,null,null,null,null,null,null,null,null,null,null,{"$f":"IF(Tableau011445[[#This Row],[ELEMENTS]]=\"\",\"\",EY63+1)","v":""}]
[null,null,null,null,{"$f":"IF(Tableau01[[#This Row],[ELEMENTS]]=\"\",\"\",E64+1)","v":""},null,null,null,null,null,null,null,null,null,null,null,null,null,null,{"$f":"IF(Tableau0110[[#This Row],[ELEMENTS]]=\"\",\"\",T64+1)","v":""},null,null,null,null,null,null,null,null,null,null,null,null,null,null,{"$f":"IF(Tableau0114[[#This Row],[ELEMENTS]]=\"\",\"\",AI64+1)","v":""},null,null,null,null,null,null,null,null,null,null,null,null,null,null,{"$f":"IF(Tableau011017[[#This Row],[ELEMENTS]]=\"\",\"\",AX64+1)","v":""},null,null,null,null,null,null,null,null,null,null,null,null,null,null,{"$f":"IF(Tableau0120[[#This Row],[ELEMENTS]]=\"\",\"\",BM64+1)","v":""},null,null,null,null,null,null,null,null,null,null,null,null,null,null,{"$f":"IF(Tableau011023[[#This Row],[ELEMENTS]]=\"\",\"\",CB64+1)","v":""},null,null,null,null,null,null,null,null,null,null,null,null,null,null,{"$f":"IF(Tableau011426[[#This Row],[ELEMENTS]]=\"\",\"\",CQ64+1)","v":""},null,null,null,null,null,null,null,null,null,null,null,null,null,null,{"$f":"IF(Tableau01101729[[#This Row],[ELEMENTS]]=\"\",\"\",DF64+1)","v":""},null,null,null,null,null,null,null,null,null,null,null,null,null,null,{"$f":"IF(Tableau0141[[#This Row],[ELEMENTS]]=\"\",\"\",DU64+1)","v":""},null,null,null,null,null,null,null,null,null,null,null,null,null,null,{"$f":"IF(Tableau011043[[#This Row],[ELEMENTS]]=\"\",\"\",EJ64+1)","v":""},null,null,null,null,null,null,null,null,null,null,null,null,null,null,{"$f":"IF(Tableau011445[[#This Row],[ELEMENTS]]=\"\",\"\",EY64+1)","v":""}]
[]
[null,null,null,null,"OPTIONS",null,null,null,null,null,null,null,null,null,null,null,null,null,null,"OPTIONS",null,null,null,null,null,null,null,null,null,null,null,null,null,null,"OPTIONS",null,null,null,null,null,null,null,null,null,null,null,null,null,null,"OPTIONS",null,null,null,null,null,null,null,null,null,null,null,null,null,null,"OPTIONS",null,null,null,null,null,null,null,null,null,null,null,null,null,null,"OPTIONS",null,null,null,null,null,null,null,null,null,null,null,null,null,null,"OPTIONS",null,null,null,null,null,null,null,null,null,null,null,null,null,null,"OPTIONS",null,null,null,null,null,null,null,null,null,null,null,null,null,null,"OPTIONS",null,null,null,null,null,null,null,null,null,null,null,null,null,null,"OPTIONS",null,null,null,null,null,null,null,null,null,null,null,null,null,null,"OPTIONS"]
[null,null,null,null,"Colonne1","ELEMENTS","MOC","DN","DEBIT","PUISSANCE","QTE","PR","K",null,null,null,null,null,null,"Colonne1","ELEMENTS","MOC","DN","DEBIT","PUISSANCE","QTE","PR","K",null,null,null,null,null,null,"Colonne1","ELEMENTS","MOC","DN","DEBIT","PUISSANCE","QTE","PR","K",null,null,null,null,null,null,"Colonne1","ELEMENTS","MOC","DN","DEBIT","PUISSANCE","QTE","PR","K",null,null,null,null,null,null,"Colonne1","ELEMENTS","MOC","DN","DEBIT","PUISSANCE","QTE","PR","K",null,null,null,null,null,null,"Colonne1","ELEMENTS","MOC","DN","DEBIT","PUISSANCE","QTE","PR","K",null,null,null,null,null,null,"Colonne1","ELEMENTS","MOC","DN","DEBIT","PUISSANCE","QTE","PR","K",null,null,null,null,null,null,"Colonne1","ELEMENTS","MOC","DN","DEBIT","PUISSANCE","QTE","PR","K",null,null,null,null,null,null,"Colonne1","ELEMENTS","MOC","DN","DEBIT","PUISSANCE","QTE","PR","K",null,null,null,null,null,null,"Colonne1","ELEMENTS","MOC","DN","DEBIT","PUISSANCE","QTE","PR","K",null,null,null,null,null,null,"Colonne1","ELEMENTS","MOC","DN","DEBIT","PUISSANCE","QTE","PR","K"]
[null,null,null,null,1,"Cloth Ultrasonic welding machine",null,null,null,null,1,6000,1.5674999999999999,null,null,null,null,null,null,null,null,null,null,null,null,null,null,null,null,null,null,null,null,null,1,"Cloth Ultrasonic welding machine",null,null,null,null,1,7500,1.5674999999999999]
[null,null,null,null,2,"Automatic lubrication system",null,null,null,null,1,12000,1.5674999999999999,null,null,null,null,null,null,null,null,null,null,null,null,null,null,null,null,null,null,null,null,null,2,"Automatic lubrication system",null,null,null,null,1,12000,1.5674999999999999]
[null,null,null,null,null,null,null,null,null,null,null,null,null,null,null,null,null,null,null,null,null,null,null,null,null,null,null,null,null,null,null,null,null,null,6,"Moisture trap","304L",200,null,null,1,1499.6505681818185,1.5674999999999999]
[]
[]
[]
[]
[]
[]
[]
[]
[]
[]
[null,null,null,null,"A","Erection for 3 weeks",null,null,null,null,1,12647.125,2,null,null,null,null,null,null,null,null,null,null,null,null,null,null,null,null,null,null,null,null,null,"A","Erection for 3 weeks",null,null,null,null,1,12647.125,2]
[null,null,null,null,"B","Cold Commissioning for 1 week",null,null,null,null,1,4420,2,null,null,null,null,null,null,null,null,null,null,null,null,null,null,null,null,null,null,null,null,null,"B","Cold Commissioning for 1 week",null,null,null,null,1,4420,2]
[null,null,null,null,"C","Hot Commissioning for 5 weeks",null,null,null,null,1,20740,2,null,null,null,null,null,null,null,null,null,null,null,null,null,null,null,null,null,null,null,null,null,"C","Hot Commissioning for 1 week",null,null,null,null,1,4420,2]
[null,null,null,null,null,null,null,null,null,null,null,null,null,null,null,null,null,null,null,null,null,null,null,null,null,null,null,null,null,null,null,null,null,null,"D","Commissioning Spare Parts",null,null,null,null,1,1094,2]
[null,null,null,null,null,null,null,null,null,null,null,null,null,null,null,null,null,null,null,null,null,null,null,null,null,null,null,null,null,null,null,null,null,null,"E","One Year Spare Parts",null,null,null,null,1,887,2]
[null,null,null,null,null,null,null,null,null,null,null,null,null,null,null,null,null,null,null,null,null,null,null,null,null,null,null,null,null,null,null,null,null,null,"F","2 Year Spare Parts",null,null,null,null,1,3918.61,2]
[null,null,null,null,null,null,null,null,null,null,null,null,null,null,null,null,null,null,null,null,null,null,null,null,null,null,null,null,null,null,null,null,null,null,"G","Strategic Spare Parts",null,null,null,null,1,5563.6100000000006,2]
[null,null,null,null,null,null,null,null,null,null,null,null,null,null,null,null,null,null,null,null,null,null,null,null,null,null,null,null,null,null,null,null,null,null,"H","Factory Acceptance Test",null,null,null,null,1,2850,2]

{"sheet":"Offre NEW","index":38,"n_rows":92,"n_cols":20,"rows_kept":92,"cut":false,"hidden":false,"merged":[[1,10,1,11],[4,2,4,9],[5,1,23,1],[19,3,19,6],[20,3,20,6],[21,3,21,6],[22,3,22,6],[23,3,23,6],[17,3,17,6],[18,3,18,6],[9,3,9,6],[10,3,10,6],[11,3,11,6],[12,3,12,6],[16,3,16,6],[14,3,14,6],[6,13,6,14],[5,5,5,6],[13,3,13,6],[15,3,15,6],[11,13,11,14],[9,13,9,14],[6,9,23,9],[6,8,23,8],[7,3,7,6],[8,3,8,6],[6,3,6,4],[6,5,6,6],[6,7,23,7],[3,18,3,19],[5,3,5,4],[3,12,3,14],[4,13,4,14],[5,13,5,14]]}
[null,null,null,null,null,null,null,null,null,null,{"$f":"IF(Calculations!I9=\"SERIE 3\",'Séries 3-4-5'!B8,IF(Calculations!I9=\"SERIE 4\",'Séries 3-4-5'!B8,IF(Calculations!I9=\"SERIE 5\",'Séries 3-4-5'!B8,'Série 2'!B10)))","v":"RIGHT"},{"$f":"IF(K1=\"RIGHT\",\"You can keep working\",IF(Calculations!I9=\"SERIE 2\",\"correct values in flowsheet série 2\",\"correct values in flowsheet séries 3-4-5\"))","v":"You can keep working"}]
[]
[null,null,"GB",null,null,null,null,null,null,null,null,null,null,null,null,null,null,3]
[null,null,null,null,null,null,null,null,null,null,null,"Country","France",null,null,null,null,4,"Coefficient K 25/03/22"]
[null,null,{"$f":" IF(M4=\"Maroc\",\"ATTENTION : Destination Maroc --> inclure une ligne pour une inspection de la marchandise par BUREAU VERITAS au Mêle avant expédition\",\"\")","v":""},null,null,null,null,null,null,null,null,"Erection Time",3,"weeks",null,null,null,5,"EQ Eng",{"$f":"1.6*1.03*1.01*1.015*1.045","v":1.7654723239999999}]
[null,1,{"$f":"IF($C$3=\"FR\",\"Filtre\",\"Filter\")","v":"Filter"},{"$f":"IF($C$3=\"FR\",\"Taille (m²)\",\"Size (m²)\")","v":"Size (m²)"},null,{"$f":"IF($C$3=\"FR\",\"Largeur (m)\",\"Width (m)\")","v":"Width (m)"},null,{"$f":"IF($C$3=\"FR\",\"Qté\",\"Qty\")","v":"Qty"},"Prix Revient (€)","K",null,"Cold Commissioning Time",1,"weeks",null,null,null,6,"Buy & Sell",{"$f":"1.5*1.045","v":1.5674999999999999}]
[null,null,{"$f":"IF(C3=\"FR\",\"Filtre\",\"Filter\")","v":"Filter"},{"$f":"Calculations!$C$9","v":2},null,{"$f":"Calculations!$E$9/1000","v":0.5},null,1,{"$f":"IF(Calculations!I9=\"SERIE 2\",'Cost List2.xls'!U100,'Cost list'!V101)+800","v":129716.47330179026},{"$f":"T5","v":1.7654723239999999},null,"Hot Commissioning Time",1,"weeks",null,null,null,7,"Services or Spares",{"$f":"2","v":2}]
[null,null,null,null,null,null,null,null,null,null,null,null,null,null,null,null,null,8,"Packing or Transport",1.25]
[null,null,null,{"$f":"IF($C$3=\"FR\",\"Matériau\",\"MOC\")","v":"MOC"},null,null,null,null,null,null,null,null,null,null,null,null,null,9]
[null,null,{"$f":"IF($C$3=\"FR\",\"Charpente\",\"Frame\")","v":"Frame"},{"$f":"Calculations!$E$22","v":"304L"},null,null,null,null,null,null,null,"INCOTERM","DAP","Lacq",null,null,null,10,"Mise à jour PR quotes",2022]
[null,null,{"$f":"IF($C$3=\"FR\",\"Boîte à vide\",\"Vacuum box\")","v":"Vacuum box"},{"$f":"Calculations!$E$11","v":"304L"},null,null,null,null,null,null,null,null,null,null,null,null,null,11]
[null,null,{"$f":"IF($C$3=\"FR\",\"Alimentateur\",\"Slurry Feeder\")","v":"Slurry Feeder"},{"$f":"Calculations!$E$13","v":"304L"},null,null,null,null,null,null,null,"Delivery Time",52,"weeks",null,null,null,12]
[null,null,{"$f":"IF($C$3=\"FR\",\"Goulotte de lavage\",\"Cake Washing Feeder\")","v":"Cake Washing Feeder"},{"$f":"Calculations!$E$14","v":"304L"},null,null,null,null,null,null,null,null,null,null,null,null,null,13]
[null,null,{"$f":"IF($C$3=\"FR\",\"Bac de récupération\",\"Collection through\")","v":"Collection through"},{"$f":"Calculations!$E$17","v":"304L"},null,null,null,null,null,null,null,"Offer Type","Budget",null,null,null,null,14]
[null,null,{"$f":"IF($C$3=\"FR\",\"Trémie de décharge gâteau\",\"Cake discharge hopper\")","v":"Cake discharge hopper"},{"$f":"Calculations!$E$16","v":"304L"},null,null,null,null,null,null,null,null,null,null,null,null,null,15]
[null,null,{"$f":"IF($C$3=\"FR\",\"Rouleaux supports toile & bande\",\"Cloth & belt support rollers\")","v":"Cloth & belt support rollers"},{"$f":"Calculations!$E$19","v":"304L"},null,null,null,null,null,null,null,"Application Engineer","Alexis GILBERT",null,null,null,null,16]
[null,null,{"$f":"IF($C$3=\"FR\",\"Bande\",\"Belt\")","v":"Belt"},{"$f":"Calculations!$H$23","v":"EPDM"},null,null,null,null,null,null,null,null,null,null,null,null,null,17]
[null,null,{"$f":"IF($C$3=\"FR\",\"Talons\",\"Curbs\")","v":"Curbs"},{"$f":"$D$17","v":"EPDM"},null,null,null,null,null,null,null,"Regional Sales Manager","Nicolas DELATTRE",null,null,null,null,18]
[null,null,{"$f":"IF($C$3=\"FR\",\"Toile\",\"Filter Cloth\")","v":"Filter Cloth"},null,null,null,null,null,null,null,null,null,null,null,null,null,null,19]
[null,null,{"$f":"IF($C$3=\"FR\",\"Réducteur type planétaire\",\"Gear box type planetary\")","v":"Gear box type planetary"},null,null,null,null,null,null,null,null,"RFQ received on ",{"$f":"TODAY()","v":"2025-04-25"},null,null,null,null,20]
[null,null,{"$f":"IF($C$3=\"FR\",\"Protection grillagée normes CE\",\"Safety guards according CE rules\")","v":"Safety guards according CE rules"}]
[null,null,{"$f":"IF($C$3=\"FR\",\"Boitier de commande locale\",\"Local control panel\")","v":"Local control panel"}]
[null,null,null,{"$f":"IF($C$3=\"FR\",\"Puissance (kW)\",\"Power (kW)\")","v":"Power (kW)"}]
[null,null,{"$f":"IF($C$3=\"FR\",\"Moteur électrique\",\"Electric motor\")","v":"Electric motor"},{"$f":"Calculations!$R$25","v":"0,37 kW"}]
[]
[null,null,"Accessoires","Matériau","Ø (mm)","Débit (m3/h)","Puissance (kW)","Qté","Prix Revient (€)","K"]
[null,2,{"$f":"IF(C3=\"FR\",\"Collecteur\",\"Manifold\")","v":"Manifold"},{"$f":"Calculations!$E$31","v":"304L"},{"$f":"Calculations!$E$32","v":65},null,null,1,{"$f":"(((6500*4.03)/1.029)*1.05^2)","v":28066.071428571431},{"$f":"$T$5","v":1.7654723239999999},null,"OP0580 BRGM 6500€ manifold ajustable DN50 04/22"]
[null,3,{"$f":"IF(C3=\"FR\",\"Ballon Cloudy\",\"Cloudy Port Receiver\")","v":"Cloudy Port Receiver"},{"$f":"Calculations!$C$44","v":"304L"},null,null,null,0,null,{"$f":"$T$5","v":1.7654723239999999}]
[null,4,{"$f":"IF(C3=\"FR\",\"Ballon 1\",\"Filtrate Receiver 1\")","v":"Filtrate Receiver 1"},{"$f":"Calculations!$C$44","v":"304L"},{"$f":"Calculations!$E$44","v":500},null,null,1,{"$f":"3500*1.137","v":3979.5},1.7654723239999999,null,"Prix HC 11/2024 + transport sans interco"]
[null,5,{"$f":"IF(C3=\"FR\",\"Ballon 2\",\"Filtrate Receiver 2\")","v":"Filtrate Receiver 2"},{"$f":"Calculations!$C$44","v":"304L"},{"$f":"Calculations!$E$44","v":500},null,null,1,{"$f":"3500*1.137","v":3979.5},1.7654723239999999,null,"Prix HC 11/2024 + transport sans interco"]
[null,6,{"$f":"IF(C3=\"FR\",\"Ballon 3\",\"Filtrate Receiver 3\")","v":"Filtrate Receiver 3"},{"$f":"Calculations!$C$44","v":"304L"},{"$f":"Calculations!$E$44","v":500},null,null,1,3979.5,1.7654723239999999,null,"Prix HC 11/2024 + transport sans interco"]
[null,7,{"$f":"IF(C3=\"FR\",\"Ballon 4\",\"Filtrate Receiver 4\")","v":"Filtrate Receiver 4"},{"$f":"Calculations!$C$44","v":"304L"},{"$f":"Calculations!$E$44","v":500},null,null,0,null,1.7654723239999999]
[null,8,{"$f":"IF(C3=\"FR\",\"Cyclone\",\"Moisture trap\")","v":"Moisture trap"},{"$f":"Calculations!$C$46","v":"304L"},{"$f":"Calculations!$E$46","v":200},null,null,1,{"$f":"((((2400/1.35)*300)/600)*1.136)","v":1009.7777777777776},1.7654723239999999,null,"Prix HC 11/2024 D600 316L + transport sans interco"]
[null,9,{"$f":"IF(C3=\"FR\",\"Laveur de gaz\",\"Scrubber\")","v":"Scrubber"},{"$f":"Calculations!$C$48","v":"Exclu"},{"$f":"Calculations!$E$48","v":200},null,null,0,{"$f":"(((100*(3*1.5))+150)*2)+(40*50)","v":3200},1.7654723239999999]
[null,10,{"$f":"IF(C3=\"FR\",\"Bac Barométrique Cloudy \",\"Cloudy Port Barometric Tank\")","v":"Cloudy Port Barometric Tank"},null,null,null,null,0,{"$f":"(((13500*(7.2*1.2))/(10.5*1.8))/1.35)*1.136+(40*50)","v":7193.1428571428569},1.7654723239999999]
[null,11,"Fume Hood",null,null,null,null,1,{"$f":"(((13500*(7.2*1.2))/(10.5*1.8))/1.35)*1.136+(40*50)","v":7193.1428571428569},1.7654723239999999,null,"Prix HC 11/2024 8B10 316L 13500€ + transport sans interco"]
[null,12,"Drip-pan",null,null,null,null,1,{"$f":"((((13000/1.3)*(7.2*1.2))/(10.5*1.8))/1.35)*1.136+(24*50)","v":5046.7724867724855},{"$f":"$T$5","v":1.7654723239999999},null,"Prix HC 11/2024 8B10 316L 13000€ + transport sans interco"]
[null,13,"Water splash protection cover",null,null,null,null,1,{"$f":"(((100*(3*1.5))+150)*2)+(40*50)","v":3200},1.7654723239999999,null,"Plaques ALTUGLASS (80€/m²) + 40h d'études"]
[null,14,"Steam box",null,null,null,null,1,5500,1.7654723239999999,null,"Estimation selon 725144 EVONIK B30 15500€ 2021 + 60h d'études",{"$f":"(((15500*5)/30)*1.05^4)+(60*50)","v":6140.0578125000002}]
[null,15,{"$f":"IF(C3=\"FR\",\"Bac Recirculation Anneau Liquide\",\"Liquid Ring Water Recirculating Tank\")","v":"Liquid Ring Water Recirculating Tank"},"Polyethylène",null,null,null,0,{"$f":"30000+2500","v":32500},1.7654723239999999]
[null,16,{"$f":"IF(C3=\"FR\",\"Bac Recirculation Lavage Toile & Bande\",\"Cloth & Belt Wash Recirculating Tank\")","v":"Cloth & Belt Wash Recirculating Tank"},{"$f":"IF(Calculations!H16=\"Basic ou option\",Calculations!E16,Calculations!H16)","v":"304L"},null,null,null,0,{"$f":"(+'[27]Instrum et Elec'!V24+2000+1500+350+650+3900+90)*1.1","v":9339},1.7654723239999999]
[null,17,{"$f":"IF(C3=\"FR\",\"Pompe Cloudy\",\"Cloudy Port Pump\")","v":"Cloudy Port Pump"},null,null,null,11,0,5000,{"$f":"$T$6","v":1.5674999999999999}]
[null,18,{"$f":"IF(C3=\"FR\",\"Pompe Filtrats 1\",\"Filtrate Pump 1\")","v":"Filtrate Pump 1"},"316L",null,2,2.2000000000000002,1,{"$f":"(5086+(524*1.15)+190)*0.95","v":5584.67},{"$f":"$T$6","v":1.5674999999999999},null,"Offre pompe flasquée VACCENT 316L 11/2024 (moteur IE4)","Dimensionnement : Débit filtrat * 1,1",{"$f":"1.1*'I 27200 (Carbonate)'!H35","v":0.36024299019607842}]
[null,19,{"$f":"IF(C3=\"FR\",\"Pompe Filtrats 2\",\"Filtrate Pump 2\")","v":"Filtrate Pump 2"},"316L",null,2,2.2000000000000002,1,{"$f":"(5086+(524*1.15)+190)*0.95","v":5584.67},1.5674999999999999,null,"Offre pompe flasquée VACCENT 316L 11/2024 (moteur IE4)","Dimensionnement : Débit filtrat * 1,1",{"$f":"1.1*'I 27200 (Carbonate)'!L35","v":2.71425E-2}]
[null,20,{"$f":"IF(C3=\"FR\",\"Pompe Filtrats 3\",\"Filtrate Pump 3\")","v":"Filtrate Pump 3"},"316L",null,2,2.2000000000000002,1,5584.67,1.5674999999999999,null,"Offre pompe flasquée VACCENT 316L 11/2024 (moteur IE4)","Dimensionnement : Débit filtrat * 1,1",{"$f":"1.1*'I 27200 (Carbonate)'!P35","v":2.71425E-2}]
[null,21,{"$f":"IF(C3=\"FR\",\"Pompe Filtrats 4\",\"Filtrate Pump 4\")","v":"Filtrate Pump 4"},"CD4Mcu",null,35,5.5,0,null,1.5674999999999999]
[null,22,{"$f":"IF(C3=\"FR\",\"Pompe Recirculation Anneau Liquide\",\"Liquid Ring Water Recirculating Pump\")","v":"Liquid Ring Water Recirculating Pump"},null,null,null,55,0,null,1.5674999999999999]
[null,23,{"$f":"IF(C3=\"FR\",\"Pompe Recirculation Lavage T&B\",\"Cloth & Belt Wash Recirculating Pump\")","v":"Cloth & Belt Wash Recirculating Pump"},"316L",null,20,5.5,0,null,1.5674999999999999]
[null,24,{"$f":"IF(C3=\"FR\",\"Pompe à Vide\",\"Vacuum Pump\")","v":"Vacuum Pump"},"Cast Iron",null,{"$f":"Calculations!N11","v":200},5.5,1,{"$f":"30000+2500","v":32500},1.5674999999999999,null,"Prix Process Vacuum recirculation totale 11/24 + transport"]
[null,25,{"$f":"IF(C3=\"FR\",\"Passerelles (0,85 de largeur - \"&Calculations!I31&\")\",\"Walkways (0.85 width - \"&Calculations!I31&\")\")","v":"Walkways (0.85 width - N/A)"},{"$f":"IF(C3=\"GB\",\"FRP frame & \"&Calculations!J31&\" duckboard\",\"Bati en FRP & \"&Calculations!J31&\" caillebotis\")","v":"FRP frame & N/A duckboard"},null,null,null,0,null,{"$f":"$T$5","v":1.7654723239999999}]
[null,26,{"$f":"IF(C3=\"FR\",\"Tuyauterie\",\"Piping\")","v":"Piping"},null,null,null,null,0,null,{"$f":"$T$5","v":1.7654723239999999}]
[null,27,{"$f":"IF(C3=\"FR\",\"Armoire Puissance / Contrôle\",\"Electrical & Control Cabinet\")","v":"Electrical & Control Cabinet"},null,null,null,null,0,{"$f":"'Instrum et Elec'!H36","v":47525},1.7654723239999999]
[null,28,{"$f":"IF(C3=\"FR\",\"Instrumentation & Vannes\",\"Instrumentation & Valves\")","v":"Instrumentation & Valves"},null,null,null,null,1,{"$f":"(+'Instrum et Elec'!V36+2000+1500+350+650+3900+90)*1.1","v":27159.000000000004},1.7654723239999999,null,"Prix mis à jour par Germain 2023 (intégration coffre LCP maintenance + Boîte de jonction + Câble + étiquettes)"]
[null,29,"Engineering","Cat. 1 (HASLER Standard)",null,null,null,1,5000,{"$f":"T7","v":2}]
[null,30,{"$f":"IF(C3=\"FR\",\"Factory Acceptance Test incluant :\nInspection visuelle dimensionnelle \nRevue documentaire (Manufacturer data Book)\",\"Factory Acceptance Test including :\nVisual dimensional inspection\nDocumentation review and approval (Manufacturer data Book)\")","v":"Factory Acceptance Test including :\nVisual dimensional inspection\nDocumentation review and approval (Manufacturer data Book)"},null,null,null,null,0,{"$f":"'Project Engineering'!C17*50","v":0},{"$f":"T7","v":2}]
[null,31,{"$f":"IF(C4=\"FR\",\"Certification CE\",\"CE Certification\")","v":"CE Certification"},null,null,null,null,0,null,{"$f":"$T$5","v":1.7654723239999999}]
[null,32,"Factory Acceptance Test",null,null,null,null,0,null,{"$f":"$T$5","v":1.7654723239999999}]
[null,33,{"$f":"IF(C3=\"FR\",\"Rampe et pompe à Haute Pression\",\"High Pressure pump & Ramp \")","v":"High Pressure pump & Ramp "},null,null,null,null,0,{"$f":"14000+(30*50)","v":15500},{"$f":"$T$5","v":1.7654723239999999},null,"QS0040 NIOBEC 16000€ 06/23 12B15 + 30h d'études"]
[null,34,null,null,null,null,null,0]
[null,35,null,null,null,null,null,0]
[null,36,null,null,null,null,null,0]
[null,37,null,null,null,null,null,0]
[null,38,null,null,null,null,null,0]
[null,39,null,null,null,null,null,0]
[null,40,null,null,null,null,null,0]
[null,41,null,null,null,null,null,0]
[]
[]
[null,"Colonne1","Options","Matériau","Ø (mm)","Colonne5","Colonne6","Qté","Colonne8","Colonne9"]
[null,1,"Cloth Ultrasonic welding machine",null,null,null,null,0,7500,{"$f":"$T$6","v":1.5674999999999999},null,"Prix CEGID 12/2024"]
[null,2,"Automatic lubrication system",null,null,null,null,0,12000,{"$f":"$T$6","v":1.5674999999999999}]
[null,3,"Transport",null,null,null,null,0,null,{"$f":"$T$8","v":1.25}]
[null,4,{"$f":"IF(C4=\"FR\",\"Emballage\",\"Packing\")","v":"Packing"},null,null,null,null,0,null,1.25]
[null,5,"High pressure ramp",null,null,null,null,0,null,{"$f":"$T$6","v":1.5674999999999999}]
[null,6,"Moisture trap","304L",200,null,null,0,{"$f":"((((4750*4)/5.5)*300)/800)*(1.05^3)","v":1499.6505681818185},{"$f":"$T$6","v":1.5674999999999999},null,"NS0210 RAFF METAL 4750€ 09/20 D:800"]
[null,7,"Pressure roller",null,null,null,null,0,null,{"$f":"$T$6","v":1.5674999999999999}]
[null,8,null,null,null,null,null,0]
[null,9,null,null,null,null,null,0]
[null,10,null,null,null,null,null,0]
[]
[]
[null,"Colonne10","Services","Colonne12","Colonne13","Colonne14","Colonne15","Qté","Colonne17","Colonne18"]
[null,"A",{"$f":"IF(C3=\"FR\",\"Supervision de montage\",\"Erection\")&IF(C3=\"FR\",\" pour \",\" for \")&M5&IF(C3=\"FR\",IF(M5=1,\" semaine\",\" semaines\"),IF(M5=1,\" week\",\" weeks\"))","v":"Erection for 3 weeks"},null,null,null,null,1,13500,{"$f":"$T$7","v":2},null,"Prix 2024 tout inclus (logement, transport, nourriture)"]
[null,"B",{"$f":"\"Cold Commissioning \"&IF(C3=\"GB\",\"for \",\"pour \")&M6&IF(C3=\"GB\",IF(M6>1,\" weeks\",\" week\"),IF(M6>1,\" semaines\",\" semaine\"))","v":"Cold Commissioning for 1 week"},null,null,null,null,1,4500,{"$f":"$T$7","v":2},null,"Prix 2024 tout inclus (logement, transport, nourriture)"]
[null,"C",{"$f":"\"Hot Commissioning \"&IF(C3=\"GB\",\"for \",\"pour \")&M7&IF(C3=\"GB\",IF(M7>1,\" weeks\",\" week\"),IF(M7>1,\" semaines\",\" semaine\"))","v":"Hot Commissioning for 1 week"},null,null,null,null,1,4500,2,null,"Prix 2024 tout inclus (logement, transport, nourriture)"]
[null,"D",{"$f":"IF(C3=\"FR\",\"PDR Commissioning\",\"Commissioning Spare Parts\")","v":"Commissioning Spare Parts"},null,null,null,null,1,{"$f":"'PdR ENG'!M65/2","v":1094},2]
[null,"E",{"$f":"IF(C3=\"FR\",\"PDR 1 An\",\"One Year Spare Parts\")","v":"One Year Spare Parts"},null,null,null,null,1,{"$f":"'PdR ENG'!N65/2","v":887},2]
[null,"F",{"$f":"IF(C3=\"FR\",\"PDR 2 Ans\",\"2 Year Spare Parts\")","v":"2 Year Spare Parts"},null,null,null,null,1,{"$f":"'PdR ENG'!O65/2","v":3918.61},2]
[null,"G",{"$f":"IF(C3=\"FR\",\"PDR Stratégiques\",\"Strategic Spare Parts\")","v":"Strategic Spare Parts"},null,null,null,null,1,{"$f":"'PdR ENG'!P65/2","v":5563.6100000000006},2]
[null,"H","Visual Inspection",null,null,null,null,1,{"$f":"((1*980)+((1*1360)+1020))/2","v":1680},2,null,"1 jour pour 2 personnes (1 chef de projet + un contrôleur du Mêle)","Prix de vente divisé par 2 pour le PR"]
[null,"I","Site Acceptance Test",null,null,null,null,1,2500,2,null,"Minimum 2 jours par filtre (facturation au prorata du temps passé)"]
[null,"J","Warranty extension",null,null,null,null,1,{"$f":"SUM(I7,I27,I29,I30,I31,I33,I36,I37,I38,I43,I44,I45,I49,I53)*0.06","v":15755.024871123293},2]

{"sheet":"photo","index":39,"n_rows":5,"n_cols":7,"rows_kept":5,"cut":false,"hidden":true,"merged":[]}
["Fertilizer"]
["Chemical",null,null,null,null,null," "]
["Mining & Metal"]
[]
[null,null,null,null,{"$f":"ADDRESS(F5,2,,,\"photo\")","v":"photo!$B$3"},{"$f":"IF(Calculations!K2=\"Fertilizer\",1,IF(Calculations!K2=\"Chemical\",2,3))","v":3}]

{"sheet":"Dimens. scrubber","index":40,"n_rows":21,"n_cols":3,"rows_kept":21,"cut":false,"hidden":true,"merged":[[0,0,2,2]]}
["SCRUBBER AND NOZZLE CALCULATION"]
[]
[]
["Air speed :",30,"m/s"]
["Water / Air :",1.5E-3]
["Water speed",2,"m/s"]
[]
[]
["Vacuum pump flow :",{"$f":"Calculations!N11","v":200},"m3/h"]
["Air temperature",{"$f":"Calculations!R49","v":65},"°C"]
[]
["Results"]
[]
["Piping : Theorical Ø",{"$f":"SQRT((B9/3600)*4/(PI()*$B$4))*1000","v":48.557708026314629},"mm"]
["Srubber : Theorical Ø",{"$f":"B14*SQRT($B$4/2)","v":188.06319451591878},"mm"]
["Water flow :",{"$f":"($B$5*B9)*(SQRT(B10/25))","v":0.48373546489791297},"m3/h"]
["Connection D : Theorical Ø :",{"$f":"SQRT((B16/3600)*4/(PI()*$B$6))*1000","v":9.2489573218557926},"mm"]
["Nozzle : Theorical flow :",{"$f":"(B16*1000)/60","v":8.0622577482985491},"l/mn @ 1 bar"]
["Nozzle type :","Full cone"]
[null,"Angle @ 1 bar :","≈ 120°"]
[null,"Material :","316SS - PP - PVDF"]

{"sheet":"Synthèse chiffrage","index":41,"n_rows":40,"n_cols":10,"rows_kept":40,"cut":false,"hidden":false,"merged":[[27,4,27,5],[29,5,30,5],[5,4,5,5],[7,5,8,5],[13,4,13,5],[15,5,16,5],[20,4,20,5],[22,5,23,5]]}
[]
[]
[null,"OFFRE ",{"$f":"Calculations!C3&\"-\"&Calculations!G1&\" _rev\"&Calculations!G2","v":"726789-03 _rev4"},"FOR INTERNAL USE ONLY",null,"2024-12-09"]
[null,"CLIENT",{"$f":"Calculations!C2","v":"CARESTER"},null,null,{"$f":"'Offre NEW'!M16","v":"Alexis GILBERT"}]
[]
[null,"TOTAL sans SERVICES ni PACK & TRANSP",null,"€","%"]
[null,null,"Prix revient",{"$f":"D15+D22+D29","v":280583.74785205483}]
[null,null,"Prix consulté",{"$f":"D16+D23+D30","v":164133.13993650794},{"$f":"D8/$D$7","v":0.58497023150126093},{"$f":"E8+E9","v":0.70459965296821636}]
[null,null,"Prix d'après autres affaires",{"$f":"D17+D24+D31","v":33566.071428571435},{"$f":"D9/$D$7","v":0.11962942146695549}]
[null,null,"Prix configurateur (+/-10%)",{"$f":"D18+D25+D32","v":54865.031618404013},{"$f":"D10/$D$7","v":0.19553887934853961}]
[null,null,"Coût des heures à facturer",{"$f":"D19+D26+D33","v":28019.504868571428},{"$f":"D11/$D$7","v":9.9861467683243901E-2}]
[]
[]
[null,"FILTRE ",null,"€","%"]
[null,null,"Prix revient",{"$f":"'Offre NEW'!I7","v":129716.47330179026},null,null,null,null,"Prix CN consulté sans interco 1,35","Prix consulté Europe (bande + talons)"]
[null,null,"Prix consulté",{"$f":"'Cost List2.xls'!T11+'Cost List2.xls'!T13+'Cost List2.xls'!T14+'Cost List2.xls'!T15+'Cost List2.xls'!T16+'Cost List2.xls'!T18+'Cost List2.xls'!T19+'Cost List2.xls'!T20+'Cost List2.xls'!T21+'Cost List2.xls'!T22+'Cost List2.xls'!T23+'Cost List2.xls'!T24+'Cost List2.xls'!T29+'Cost List2.xls'!T33","v":51831.936814814813},{"$f":"D16/$D$15","v":0.39957867721415657},{"$f":"E16+E17","v":0.39957867721415657},null,null,{"$f":"'Cost List2.xls'!T11+'Cost List2.xls'!T15+'Cost List2.xls'!T16+'Cost List2.xls'!T19+'Cost List2.xls'!T20+'Cost List2.xls'!T21+'Cost List2.xls'!T22+'Cost List2.xls'!T23+'Cost List2.xls'!T24+'Cost List2.xls'!T29+'Cost List2.xls'!T33","v":29555.774814814809},{"$f":"'Cost List2.xls'!T13+'Cost List2.xls'!T14+'Cost List2.xls'!T18","v":22276.162}]
[null,null,"Prix d'après autres affaires",null,{"$f":"D17/$D$15","v":0},null,null,null,"Montage équipement sur filtre"]
[null,null,"Prix configurateur (+/-10%)",{"$f":"D15-D16-D19","v":54865.031618404013},{"$f":"D18/$D$15","v":0.42296117233127706},null,null,null,{"$f":"'Cost List2.xls'!T54","v":23019.504868571428},"337h à 50€ + 1100€ de matière + 2500€ de renforcement châssis pour le transport"]
[null,null,"Coût des heures montage LM",{"$f":"'Cost List2.xls'!T54","v":23019.504868571428},{"$f":"D19/$D$15","v":0.17746015045456626}]
[]
[null,"ACCESSOIRES ",null,"€","%"]
[null,null,"Prix revient",{"$f":"D23+D24+D26","v":143367.27455026456}]
[null,null,"Prix consulté",{"$f":"'Offre NEW'!I29+'Offre NEW'!I30+'Offre NEW'!I31+'Offre NEW'!I33+'Offre NEW'!I36+'Offre NEW'!I37+'Offre NEW'!I38+'Offre NEW'!I43+'Offre NEW'!I44+'Offre NEW'!I45+'Offre NEW'!I49+'Offre NEW'!I53","v":104801.20312169312},{"$f":"D23/$D$22","v":0.73099808481711648},{"$f":"E23+E24","v":0.96512453755095273}]
[null,null,"Prix d'après autres affaires",{"$f":"'Offre NEW'!I27+'Offre NEW'!I39","v":33566.071428571435},{"$f":"D24/$D$22","v":0.23412645273383623}]
[null,null,"Prix configurateur (+/-10%)",null,{"$f":"D25/$D$22","v":0}]
[null,null,"Coût des heures à facturer",{"$f":"'Offre NEW'!I54","v":5000},{"$f":"D26/$D$22","v":3.4875462449047254E-2}]
[]
[null,"OPTIONS",null,"€","%"]
[null,null,"Prix revient",{"$f":"'Offre NEW'!I70","v":7500}]
[null,null,"Prix consulté",{"$f":"'Offre NEW'!I70","v":7500},{"$f":"D30/$D$29","v":1},{"$f":"E30+E31","v":1}]
[null,null,"Prix d'après autres affaires",null,{"$f":"D31/$D$29","v":0}]
[null,null,"Prix configurateur (+/-10%)",null,{"$f":"D32/$D$29","v":0}]
[null,null,"Coût des heures à facturer",null,{"$f":"D33/$D$29","v":0}]
[]
[null,"SERVICES ",null,"€"]
[null,null,"Prix revient (=PV/2)",{"$f":"SUM('Offre NEW'!I83:I92)","v":53898.244871123294}]
[]
[null,"PACK & TRANSPORT ",null,"€"]
[null,null,"Packaging "]
[null,null,"Transport"]

{"sheet":"En-tête","index":42,"n_rows":44,"n_cols":22,"rows_kept":44,"cut":false,"hidden":false,"merged":[]}
[]
[]
[]
[]
[]
[]
[]
[]
[]
[]
[]
[]
[]
[]
[]
[]
[]
[]
[]
[]
[]
[]
[]
[]
[]
[]
[]
[]
[]
[]
[]
[]
[]
[]
[]
[]
[]
[null,null,null,null,null,null,null,null,null,{"$f":"IF('Offre NEW'!C3=\"FR\",\"Filtre à bande horizontal sous vide\",\"Horizontal Vacuum Belt Filter\")","v":"Horizontal Vacuum Belt Filter"}]
[null,null,null,null,null,null,null,null,null,{"$f":"IF(AND('Offre NEW'!C3=\"GB\",'Offre NEW'!M14=\"Budget\"),\"Budget Offer\",IF(AND('Offre NEW'!C3=\"GB\",'Offre NEW'!M14=\"Commercial\"),\"Commercial Offer\",IF(AND('Offre NEW'!C3=\"FR\",'Offre NEW'!M14=\"Budget\"),\"Offre Budget\",IF(AND('Offre NEW'!C3=\"FR\",'Offre NEW'!M14=\"Commercial\"),\"Offre Commerciale\",\"\"))))&\" n°\"&Calculations!C3&\"_\"&Calculations!G1&Calculations!H3","v":"Budget Offer n°726789_03rev4"}]
[null,null,null,null,null,null,null,null,null,{"$f":"IF('Offre NEW'!C3=\"FR\",\"Projet : \",\"Project : \")&Calculations!K3","v":"Project : Tb slurry filtration"},null,null,null,null,null,null,null,null,null,null,null," "]
[null,null,null,null,null,null,null,null,null,{"$f":"\"Client Reference :\"&Calculations!C4","v":"Client Reference :CAREMAG"}]
[]
[null,null,null,null,null,null,null,null,null,{"$f":"Calculations!C2","v":"CARESTER"}]
[null,null,null,null,null,null,null,null,null,{"$f":"TEXT(Calculations!R2,\"jj/mm/aaaa\")","v":"25/04/2025"}]

{"sheet":"cover_L","index":43,"n_rows":96,"n_cols":25,"rows_kept":96,"cut":false,"hidden":false,"merged":[[82,2,83,26],[84,3,85,26],[59,2,60,26],[62,2,63,26],[65,2,68,26],[70,2,71,26],[73,2,74,26]]}
[]
[]
[]
[null,{"$f":"IF('Offre NEW'!C3=\"FR\",\"Sommaire\",\"Summary\")","v":"Summary"}]
[]
[null,null,{"$f":"IF('Offre NEW'!C3=\"FR\",\"Lettre d'introduction\",\"Cover Letter\")","v":"Cover Letter"}]
[null,null,{"$f":"IF('Offre NEW'!C3=\"FR\",\"Offre de prix\",\"Price List\")","v":"Price List"}]
[null,null,{"$f":"IF('Offre NEW'!C3=\"FR\",\"Conditions Particulières de Vente\",\"Special Terms of Sales\")","v":"Special Terms of Sales"}]
[null,null,null,{"$f":"IF('Offre NEW'!C3=\"FR\",\"Délai de livraison\",\"Delivery Time Ex Works (EXW) / Planning\")","v":"Delivery Time Ex Works (EXW) / Planning"}]
[null,null,null,"INCOTERM"]
[null,null,null,{"$f":"IF('Offre NEW'!C3=\"FR\",\"Conditions et termes de paiement\",\"Condition & terms of payment\")","v":"Condition & terms of payment"}]
[null,null,null,{"$f":"IF('Offre NEW'!C3=\"FR\",\"Garantie\",\"Warranty\")","v":"Warranty"}]
[null,null,null,{"$f":"IF('Offre NEW'!C3=\"FR\",\"Durée de validité\",\"Validity\")","v":"Validity"}]
[null,null,{"$f":"IF('Offre NEW'!C3=\"FR\",\"Rappel des Coordonnées\",\"Contact Matrix\")","v":"Contact Matrix"}]
[null,null,null,{"$f":"IF('Offre NEW'!C3=\"FR\",\"Coordonnées du client\",\"Customer Contact Matrix\")","v":"Customer Contact Matrix"}]
[null,null,null,{"$f":"IF('Offre NEW'!C3=\"FR\",\"Coordonnées de Hasler Group\",\"Hasler Group Contact Matrix\")","v":"Hasler Group Contact Matrix"}]
[null,null,{"$f":"'CGV 1'!A3","v":"PRICE LIST 2022 - Worldwide \nCUSTOMER SERVICES"}]
[null,null,{"$f":"IF('Offre NEW'!C3=\"FR\",\"Conditions générales d'intervention 2021\",\"General conditions of interventions 2021\")","v":"General conditions of interventions 2021"}]
[null,null,{"$f":"IF('Offre NEW'!C3=\"FR\",\"Conditions générales de vente\",\"General terms & conditions of sales\")","v":"General terms & conditions of sales"}]
[null,null,{"$f":"IF('Offre NEW'!C3=\"FR\",\"Découvrez \",\"Discover \")&\"HASLER Group\"","v":"Discover HASLER Group"}]
[]
[]
[]
[]
[]
[]
[]
[]
[]
[]
[]
[]
[]
[]
[]
[]
[]
[]
[]
[]
[]
[]
[]
[]
[]
[]
[]
[]
[]
[]
[]
[null,null,{"$f":"C6","v":"Cover Letter"}]
[]
[]
[null,null,{"$f":"\"Nanterre, \"&TEXT('récap interne pour DIRECTION'!B4,\"jj/mm/aaaa\")","v":"Nanterre, 25/04/2025"}]
[null,null,{"$f":"IF('Offre NEW'!C3=\"FR\",\"Notre Référence: \",\"Our Reference: \")&'récap interne pour DIRECTION'!B6","v":"Our Reference: 726789_03rev4"}]
[]
[null,null,{"$f":"IF('Offre NEW'!C3=\"FR\",\"Madame, Monsieur,\",\"Dear Sir or Madam,\")","v":"Dear Sir or Madam,"}]
[]
[]
[]
[]
[]
[]
[]
[]
[]
[]
[]
[]
[]
[]
[]
[]
[]
[]
[]
[]
[]
[]
[]
[]
[]
[]
[]
[]
[]
[]
[]
[]
[null,null,{"$f":"IF('Offre NEW'!C3=\"FR\",\"Nous nous tenons à votre disposition pour toutes clarifications concernant cette offre.\",\"Do not hesitate to contact us should you have any questions about this quotation.\")","v":"Do not hesitate to contact us should you have any questions about this quotation."}]
[]
[null,null,{"$f":"IF('Offre NEW'!C3=\"FR\",\"Sincères salutations,\",\"Best regards,\")","v":"Best regards,"}]
[]
[null,null,{"$f":"'Offre NEW'!M16","v":"Alexis GILBERT"},null,null,null,null,null,null,null,null,null,null,null,null,null,null,null,null,null,null,null,null,null,{"$f":"'Offre NEW'!M18","v":"Nicolas DELATTRE"}]
[null,null,{"$f":"IF('Offre NEW'!C3=\"FR\",\"Ingénieur Application\",\"Application Engineer\")","v":"Application Engineer"},null,null,null,null,null,null,null,null,null,null,null,null,null,null,null,null,null,null,null,null,null,{"$f":"IF('Offre NEW'!C3=\"FR\",\"           Responsable Commercial\",\"           Sales Manager\")","v":"           Sales Manager"}]

{"sheet":"Quotation","index":44,"n_rows":77,"n_cols":18,"rows_kept":77,"cut":false,"hidden":false,"merged":[[3,2,3,9],[24,3,24,6],[6,3,6,4],[6,5,6,6],[17,3,17,6],[18,3,18,6],[19,3,19,6],[20,3,20,6],[21,3,21,6],[22,3,22,6],[7,3,7,4],[7,5,7,6],[7,7,24,7],[8,2,8,6],[9,3,9,6],[10,3,10,6],[67,1,69,7],[67,8,69,9],[73,1,74,7],[73,8,74,9],[6,8,6,9],[7,8,66,9],[7,1,24,1],[11,3,11,6],[23,3,23,6],[12,3,12,6],[13,3,13,6],[14,3,14,6],[15,3,15,6],[16,3,16,6],[75,1,75,7],[75,8,75,9],[76,1,76,2],[76,3,76,7],[76,8,76,9]]}
[null,null,null,null,null,null,null,null,null,null,null,null,null,null,null,null,"FR",1]
[null,null,null,null,null,null,null,null,null,null,null,null,null,null,null,null,"GB",2]
[]
[null,null,{"$f":"cover_L!C7&\" \"&IF('Offre NEW'!C3=\"FR\",\"- Offre N° \",\"- Offer N° \")&'récap interne pour DIRECTION'!B6","v":"Price List - Offer N° 726789_03rev4"}]
[]
[]
[null,null,{"$f":"IF('Offre NEW'!C3=\"FR\",\"Filtre\",\"Filter\")","v":"Filter"},{"$f":"IF('Offre NEW'!C3=\"FR\",\"Taille (m²)\",\"Size (m²)\")","v":"Size (m²)"},null,{"$f":"IF('Offre NEW'!C3=\"FR\",\"Largeur (m)\",\"Width (m)\")","v":"Width (m)"},null,{"$f":"IF('Offre NEW'!C3=\"FR\",\"Qté\",\"Qty\")","v":"Qty"},{"$f":"IF('Offre NEW'!C3=\"FR\",\"GRAND TOTAL EQUIPEMENT, € (hors taxes)\",\"GRAND TOTAL EQUIPMENT, € (excluding VAT)\")","v":"GRAND TOTAL EQUIPMENT, € (excluding VAT)"}]
[null,1,{"$f":"'Offre NEW'!C7","v":"Filter"},{"$f":"Calculations!$C$9","v":2},null,{"$f":"Calculations!$E$9/1000","v":0.5},null,{"$f":"'Offre NEW'!H7","v":1}]
[]
[null,null,null,{"$f":"'Offre NEW'!D9","v":"MOC"}]
[null,null,{"$f":"'Offre NEW'!C10","v":"Frame"},{"$f":"'Offre NEW'!D10","v":"304L"}]
[null,null,{"$f":"'Offre NEW'!C11","v":"Vacuum box"},{"$f":"'Offre NEW'!D11","v":"304L"}]
[null,null,{"$f":"'Offre NEW'!C12","v":"Slurry Feeder"},{"$f":"'Offre NEW'!D12","v":"304L"}]
[null,null,{"$f":"'Offre NEW'!C13","v":"Cake Washing Feeder"},{"$f":"'Offre NEW'!D13","v":"304L"}]
[null,null,{"$f":"'Offre NEW'!C14","v":"Collection through"},{"$f":"'Offre NEW'!D14","v":"304L"}]
[null,null,{"$f":"'Offre NEW'!C15","v":"Cake discharge hopper"},{"$f":"'Offre NEW'!D15","v":"304L"}]
[null,null,{"$f":"'Offre NEW'!C16","v":"Cloth & belt support rollers"},{"$f":"'Offre NEW'!D16","v":"304L"}]
[null,null,{"$f":"'Offre NEW'!C17","v":"Belt"},{"$f":"'Offre NEW'!D17","v":"EPDM"}]
[null,null,{"$f":"'Offre NEW'!C18","v":"Curbs"},{"$f":"'Offre NEW'!D18","v":"EPDM"}]
[null,null,{"$f":"'Offre NEW'!C19","v":"Filter Cloth"}]
[null,null,{"$f":"'Offre NEW'!C20","v":"Gear box type planetary"}]
[null,null,{"$f":"'Offre NEW'!C21","v":"Safety guards according CE rules"}]
[null,null,{"$f":"'Offre NEW'!C22","v":"Local control panel"}]
[null,null,null,{"$f":"'Offre NEW'!D23","v":"Power (kW)"}]
[null,null,{"$f":"'Offre NEW'!C24","v":"Electric motor"},{"$f":"'Offre NEW'!D24","v":"0,37 kW"}]
[]
[null,null,{"$f":"IF('Offre NEW'!C3=\"FR\",\"Accessoires\",\"Accessories\")","v":"Accessories"},{"$f":"IF('Offre NEW'!C3=\"FR\",\"Matériau\",\"MOC\")","v":"MOC"},"Ø (mm)",{"$f":"IF('Offre NEW'!C3=\"FR\",\"Débit (m3/h)\",\"Flowrate (m3/h)\")","v":"Flowrate (m3/h)"},{"$f":"IF('Offre NEW'!C3=\"FR\",\"Puissance (kW)\",\"Power (kW)\")","v":"Power (kW)"},{"$f":"IF('Offre NEW'!C3=\"FR\",\"Qté\",\"Qty\")","v":"Qty"}]
[null,2,"Manifold","304L",65,null,null,1]
[null,3,"Filtrate Receiver 1","304L",500,null,null,1]
[null,4,"Filtrate Receiver 2","304L",500,null,null,1]
[null,5,"Filtrate Receiver 3","304L",500,null,null,1]
[null,6,"Moisture trap","304L",200,null,null,1]
[null,7,"Fume Hood",null,null,null,null,1]
[null,8,"Drip-pan",null,null,null,null,1]
[null,9,"Water splash protection cover",null,null,null,null,1]
[null,10,"Filtrate Pump 1","CD4Mcu",null,2,5.5,1]
[null,11,"Filtrate Pump 2","CD4Mcu",null,2,5.5,1]
[null,12,"Filtrate Pump 3","CD4Mcu",null,2,5.5,1]
[null,13,"Vacuum Pump","Cast Iron",null,200,5.5,1]
[null,14,"Instrumentation & Valves",null,null,null,null,1]
[null,15,"Engineering","Cat. 1 (HASLER Standard)",null,null,null,1]
[null,16]
[null,17]
[null,18]
[null,19]
[null,20]
[null,21]
[null,22]
[null,23]
[null,24]
[null,25]
[null,26]
[null,27]
[null,28]
[null,29]
[null,30]
[null,31]
[null,32]
[null,33]
[null,34]
[null,35]
[null,36]
[null,37]
[null,38]
[null,39]
[null,40]
[null,41]
[null,"GRAND TOTAL EQUIPMENT excluding Options, € \n(excluding VAT)",null,null,null,null,null,null,{"$f":"'Offre NEW'!I7+SUM('Offre NEW'!I27:I66)","v":393340.89070919767}]
[]
[]
[]
[]
[]
[null,"Packing and Delivery costs",null,null,null,null,null,null,"Total Sale Price (€ ex VAT)"]
[]
[null,"Packing",null,null,null,null,null,null,"TO BE QUOTED"]
[null,"Freight",null,{"$f":"'Offre NEW'!M10 & \" - \" &'Offre NEW'!N10","v":"DAP - Lacq"},null,null,null,null,"TO BE QUOTED"]

{"sheet":"Quotation2","index":45,"n_rows":74,"n_cols":18,"rows_kept":74,"cut":false,"hidden":false,"merged":[[17,1,17,8],[3,2,3,9]]}
[null,null,null,null,null,null,null,null,null,null,null,null,null,null,null,null,"FR",1]
[null,null,null,null,null,null,null,null,null,null,null,null,null,null,null,null,"GB",2]
[]
[null,null,{"$f":"cover_L!C7&\" \"&IF('Offre NEW'!C3=\"FR\",\"- Offre N° \",\"- Offer N° \")&'récap interne pour DIRECTION'!B6","v":"Price List - Offer N° 726789_03rev4"}]
[]
[]
[null,null,"Options",null,null,null,null,"Qty","Unit Sale Price (€ ex VAT)","Total Sale Price\n(€ ex VAT)"]
[null,"A","Cloth Ultrasonic welding machine",null,null,null,null,1,null,{"$f":"H8*I8","v":0}]
[null,"B",null,null,null,null,null,null,null,0]
[null,"C",null,null,null,null,null,null,null,0]
[null,"D",null,null,null,null,null,null,null,0]
[null,"E",null,null,null,null,null,null,null,0]
[null,"F",null,null,null,null,null,null,null,0]
[null,"G",null,null,null,null,null,null,null,0]
[null,"H",null,null,null,null,null,null,null,0]
[null,"I",null,null,null,null,null,null,null,0]
[null,"J",null,null,null,null,null,null,null,0]
[null,{"$f":"IF('Offre NEW'!C3=\"FR\",\"GRAND TOTAL OPTIONS, € (hors taxes)\",\"GRAND TOTAL OPTIONS, € (excluding VAT)\")","v":"GRAND TOTAL OPTIONS, € (excluding VAT)"},null,null,null,null,null,null,null,{"$f":"SUM(J8:J17)","v":0}]
[]
[]
[]
[]
[]
[]
[]
[]
[]
[]
[]
[]
[]
[]
[]
[]
[]
[]
[]
[]
[]
[]
[]
[]
[]
[]
[]
[]
[]
[]
[]
[]
[]
[]
[]
[]
[]
[]
[]
[]
[]
[]
[null,null,null,null,null,null,null,null,null,{"$f":"J8+SUM(J28:J60)","v":0}]
[]
[]
[]
[]
[]
[]
[]
[]
[]
[]
[]
[]
[null,null,null,null,null,null,null,null,null,{"$f":"J61+J71","v":0}]

{"sheet":"Quotation3","index":46,"n_rows":18,"n_cols":18,"rows_kept":18,"cut":false,"hidden":false,"merged":[[3,2,3,9],[17,1,17,8],[16,2,16,9]]}
[null,null,null,null,null,null,null,null,null,null,null,null,null,null,null,null,"FR",1]
[null,null,null,null,null,null,null,null,null,null,null,null,null,null,null,null,"GB",2]
[]
[null,null,{"$f":"cover_L!C7&\" \"&IF('Offre NEW'!C3=\"FR\",\"- Offre N° \",\"- Offer N° \")&'récap interne pour DIRECTION'!B6","v":"Price List - Offer N° 726789_03rev4"}]
[]
[]
[null,null,"Spare Parts & Services",null,null,null,null,"Qty","Unit Sale Price (€ ex VAT)","Total Sale Price\n(€ ex VAT)"]
[null,"A",null,null,null,null,null,null,null,{"$f":"H8*I8","v":0}]
[null,"B",null,null,null,null,null,null,null,0]
[null,"C",null,null,null,null,null,null,null,0]
[null,"D",null,null,null,null,null,null,null,0]
[null,"E",null,null,null,null,null,null,null,0]
[null,"F",null,null,null,null,null,null,null,0]
[null,"G",null,null,null,null,null,null,null,0]
[null,"H",null,null,null,null,null,null,null,0]
[null,"I",null,null,null,null,null,null,null,0]
[null,"J","- Prices for erection supervision and commissioning exclude travel and accommodation costs. After intervention, an invoice will be issued for the additional days according to the attached price, as well as accommodation and travel costs with supporting documents.\n- The warranty period is only valid if erection supervision and commissioning is provided by Hasler."]
[null,{"$f":"IF('Offre NEW'!C3=\"FR\",\"GRAND TOTAL SERVICES/PDR, € (hors taxes)\",\"GRAND TOTAL SERVICES/SPARE PARTS, € (excluding VAT)\")","v":"GRAND TOTAL SERVICES/SPARE PARTS, € (excluding VAT)"},null,null,null,null,null,null,null,{"$f":"SUM(J8:J17)","v":0}]

{"sheet":"CPV","index":47,"n_rows":80,"n_cols":18,"rows_kept":80,"cut":false,"hidden":false,"merged":[[64,1,64,4],[64,5,64,10],[64,11,64,16],[64,17,64,26],[79,1,79,4],[79,5,79,10],[79,11,79,16],[79,17,79,26],[77,5,77,10],[77,11,77,16],[77,17,77,26],[78,1,78,4],[78,5,78,10],[78,11,78,16],[78,17,78,26],[62,5,62,10],[62,11,62,16],[62,17,62,26],[35,1,42,26],[63,1,63,4],[63,5,63,10],[63,11,63,16],[63,17,63,26],[46,1,49,26],[6,1,7,26],[8,1,9,26],[21,1,21,2],[21,3,21,5],[21,6,21,15],[21,16,21,26],[10,1,14,26],[22,1,23,2],[22,3,23,5],[22,6,23,15],[22,16,23,26],[28,1,29,2],[28,3,29,5],[28,6,29,15],[28,16,29,26],[24,6,27,15],[24,3,27,5],[24,1,27,2],[24,16,27,26]]}
[]
[]
[null,{"$f":"cover_L!C8&\" \"&IF('Offre NEW'!C3=\"FR\",\"- Offre N° \",\"- Offer N° \")&Calculations!C3&\"_\"&Calculations!G1&Calculations!H3","v":"Special Terms of Sales - Offer N° 726789_03rev4"}]
[]
[null,{"$f":"cover_L!D9","v":"Delivery Time Ex Works (EXW) / Planning"}]
[]
[null,{"$f":"'récap interne pour DIRECTION'!B10&IF('Offre NEW'!C3=\"FR\",\" mois après envoi de notre accusé de réception de commande et réception de l'acompte (valable hors périodes de vacances), Délai EXW - équipement prêt pour expédition (Le Mêle sur Sarthe, France)\",\" months after sending our order acknowledgment and receipt of the deposit (excluding holidays), Delivery time EXW - equipment ready for shipment (Le Mêle sur Sarthe, France)\")","v":"52 months after sending our order acknowledgment and receipt of the deposit (excluding holidays), Delivery time EXW - equipment ready for shipment (Le Mêle sur Sarthe, France)"}]
[]
[null,{"$f":"IF('Offre NEW'!C3=\"FR\",\"Prévoir un délai suplémentaire pour l'acheminement de la marchandise au lieu de l'incoterm contractuel (à confirmer apres commande)\",\"Take into account an additional time for delivery of the goods at the contractual incoterm place of destination (to be confirmed after order)\")","v":"Take into account an additional time for delivery of the goods at the contractual incoterm place of destination (to be confirmed after order)"}]
[]
[null,{"$f":"IF('Offre NEW'!C3=\"GB\",listes!K28,listes!K34)","v":"IMPORTANT / COVID 19 HEALTH PANDEMIC - Delivery time and costs :\nIn view of the COVID 19 health pandemic, the delivery times and costs we indicate are currently indicative and cannot be considered contractual. HASLER GROUP obviously does everything in its power to maintain these deadlines and costs as they are stated. However, we reserve the right to update the transport costs before shipping if they should fluctuate.\nWe will notify you in advance of any additional impact"}]
[]
[]
[]
[]
[null,{"$f":"cover_L!D10","v":"INCOTERM"}]
[]
[null,{"$f":"IF('Offre NEW'!C3=\"FR\",\"L'Incoterm de livraison est \",\"Incoterm of delivery is \")&'récap interne pour DIRECTION'!B9&IF('Offre NEW'!C3=\"FR\",\", lieu de destination : \",\", place of destination : \")& 'récap interne pour DIRECTION'!D9","v":"Incoterm of delivery is DAP, place of destination : Lacq"}]
[]
[null,{"$f":"cover_L!D11","v":"Condition & terms of payment"}]
[]
[null,"Item",null,{"$f":"IF('Offre NEW'!C3=\"FR\",\"Paiement\",\"Payment\")","v":"Payment"},null,null,{"$f":"IF('Offre NEW'!C3=\"FR\",\"Calendrier de paiement\",\"Milestone schedule\")","v":"Milestone schedule"},null,null,null,null,null,null,null,null,null,{"$f":"IF('Offre NEW'!C3=\"FR\",\"Mode de paiement\",\"Payment type\")","v":"Payment type"}]
[null,1,null,0.3,null,null,{"$f":"IF('Offre NEW'!C3=\"FR\",\"à la commande dès réception de la confirmation de commande et de la facture correspondante »\",\"at the order upon receipt of the order confirmation and the corresponding invoice\")","v":"at the order upon receipt of the order confirmation and the corresponding invoice"},null,null,null,null,null,null,null,null,null,{"$f":"IF('Offre NEW'!C3=\"FR\",\"Par virement bancaire\",\"By bank transfer\")","v":"By bank transfer"}]
[]
[null,{"$f":"IF(D25=\"\",\"\",2)","v":2},null,0.7,null,null,{"$f":"IF('Offre NEW'!C3=\"FR\",\"A la mise à disposition du matériel à notre usine (EXW Le Mêle sur Sarthe), à 30 jours date de notre facture\",\"30 days net after the date of invoice, invoice issued at Ex Works delivery date\")","v":"30 days net after the date of invoice, invoice issued at Ex Works delivery date"},null,null,null,null,null,null,null,null,null,{"$f":"IF('Offre NEW'!C3=\"FR\",\"Par virement bancaire\",\"By bank transfer\")","v":"By bank transfer"}]
[]
[]
[]
[null,{"$f":"IF(D29=\"\",\"\",4)","v":""}]
[]
[]
[]
[null,{"$f":"cover_L!D12","v":"Warranty"}]
[]
[null,{"$f":"IF('Offre NEW'!C3=\"FR\",\"La garantie est de 12 mois après la mise en service; maximum 18 mois après la livraison.\",\"The warranty is 12 months after commissioning, maximum 18 months after delivery.\")","v":"The warranty is 12 months after commissioning, maximum 18 months after delivery."}]
[null,{"$f":"IF('Offre NEW'!C3=\"FR\",listes!W2,listes!W1)","v":"The equipment must not be modified without prior consultation with HASLER. Modification without HASLER written consent may invalidate the warranty and any product liability.Any warranty for newly purchased equipment will be void unless HASLER has supervised and/or validated on site the equipment assembly and mounting.Expertise for abnormal conditions under warranty periods are to be exclusively conducted by HASLER. Should the expertise conclude that the causes of the conditions are not related to the warranty then the full expertise will have to be covered by the main contractor or the end user."}]
[]
[]
[]
[]
[]
[]
[]
[]
[null,{"$f":"cover_L!D13","v":"Validity"}]
[]
[null,{"$f":"IF('Offre NEW'!C3=\"FR\",listes!K40,listes!K44)","v":"Validity period : 1 week\nDue to the fluctuation of the price of Nickel present in the stainless steel alloys of our equipment, we guarantee this price for a period of one month.\nAfter this period, we will revise our prices and adjust our offer accordingly."}]
[]
[]
[]
[]
[null,{"$f":"cover_L!C14","v":"Contact Matrix"}]
[]
[]
[null,{"$f":"cover_L!D15","v":"Customer Contact Matrix"}]
[null,{"$f":"Calculations!C2","v":"CARESTER"}]
[null,{"$f":"IF('Offre NEW'!C3=\"FR\",\"Adresse :\",\"Address :\")","v":"Address :"}]
[null,{"$f":"IF('Offre NEW'!C3=\"FR\",\"Ville :\",\"City : \")","v":"City : "}]
[null,{"$f":"IF('Offre NEW'!C3=\"FR\",\"Pays :\",\"Country : \")","v":"Country : "}]
[null,"Telephone : "]
[null,"Internet : "]
[]
[null,null,null,null,null,{"$f":"IF('Offre NEW'!C3=\"FR\",\"Nom\",\"Name\")","v":"Name"},null,null,null,null,null,{"$f":"IF('Offre NEW'!C3=\"FR\",\"Fonction\",\"Position\")","v":"Position"},null,null,null,null,null,"Contact"]
[null,{"$f":"IF('Offre NEW'!C3=\"FR\",\"Sce Achat\",\"Purchase dpt\")","v":"Purchase dpt"}]
[null,{"$f":"IF('Offre NEW'!C3=\"FR\",\"Technique\",\"Technical\")","v":"Technical"}]
[]
[]
[]
[]
[null,{"$f":"cover_L!D16","v":"Hasler Group Contact Matrix"}]
[null,"Hasler Group"]
[null,{"$f":"IF('Offre NEW'!C3=\"FR\",\"Adresse :                       \",\"Address :                       \")&\" 18-22 rue d'Arras\"","v":"Address :                        18-22 rue d'Arras"}]
[null,{"$f":"IF('Offre NEW'!C3=\"FR\",\"Ville :                              \",\"City :                               \")&\" 92000 Nanterre\"","v":"City :                                92000 Nanterre"}]
[null,{"$f":"IF('Offre NEW'!C3=\"FR\",\"Pays :                              \",\"Country :                         \")&\"France\"","v":"Country :                         France"}]
[null,"Telephone :                   +33 1 56 83 83 83"]
[null,"Internet : www.hasler-gp.com"]
[]
[null,null,null,null,null,{"$f":"IF('Offre NEW'!C3=\"FR\",\"Nom\",\"Name\")","v":"Name"},null,null,null,null,null,{"$f":"IF('Offre NEW'!C3=\"FR\",\"Fonction\",\"Position\")","v":"Position"},null,null,null,null,null,"Contact"]
[null,"Commercial",null,null,null,{"$f":"cover_L!Y95","v":"Nicolas DELATTRE"},null,null,null,null,null,{"$f":"IF('Offre NEW'!C3=\"FR\",\"Responsable Commercial\",\"Area Sales Manager\")","v":"Area Sales Manager"},null,null,null,null,null,{"$f":"VLOOKUP(F79,listes!L2:M25,2,FALSE)","v":"n.delattre@hasler.group"}]
[null,{"$f":"IF('Offre NEW'!C3=\"FR\",\"Technique\",\"Technical\")","v":"Technical"},null,null,null,{"$f":"cover_L!C95","v":"Alexis GILBERT"},null,null,null,null,null,{"$f":"IF('Offre NEW'!C3=\"FR\",\"Ingénieur Application\",\"Application Engineer\")","v":"Application Engineer"},null,null,null,null,null,{"$f":"VLOOKUP(F80,listes!R2:S9,2,FALSE)","v":"a.gilbert@hasler.group"}]

{"sheet":"CGV 2","index":48,"n_rows":36,"n_cols":11,"rows_kept":36,"cut":false,"hidden":false,"merged":[[10,10,11,29],[16,10,17,29]]}
[]
[]
[null,null,{"$f":"cover_L!C18","v":"General conditions of interventions 2021"}]
[]
[null,null,{"$f":"IF('Offre NEW'!C3=\"FR\",\"Validité de l'offre : \",\"Validity of the offer : \")","v":"Validity of the offer : "},null,null,null,null,null,null,null,{"$f":"IF('Offre NEW'!C3=\"FR\",\"1 mois\",\"1 month\")","v":"1 month"}]
[]
[null,null,{"$f":"IF('Offre NEW'!C3=\"FR\",\"Termes de paiement :\",\"Payment terms :\")","v":"Payment terms :"},null,null,null,null,null,null,null,{"$f":"IF('Offre NEW'!C3=\"FR\",\"100% à réception de facture par virement\",\"100% at invoice receipt and by bank transfer\")","v":"100% at invoice receipt and by bank transfer"}]
[]
[null,null,{"$f":"IF('Offre NEW'!C3=\"FR\",\"Jours de travail :\",\"Working days :\")","v":"Working days :"},null,null,null,null,null,null,null,{"$f":"IF('Offre NEW'!C3=\"FR\",\"8 h par jour - 40 heures par semaine - Du Lundi au Vendredi, Respectant la législation Française\",\"8 hours per day - 40 hours per week - From Monday to Friday According to French law\")","v":"8 hours per day - 40 hours per week - From Monday to Friday According to French law"}]
[]
[null,null,null,null,null,null,null,null,null,null,{"$f":"IF('Offre NEW'!C3=\"FR\",\"Si les jours de travail sont différents, cela doit être en accord entre les deux parties avant le départ du technicien et les tarifs seront modifiés comme suit :\",\"If working days are different, it has to be agreed by both part before the departure of the technician and the tarifs has to be modified accordingly as follow :\")","v":"If working days are different, it has to be agreed by both part before the departure of the technician and the tarifs has to be modified accordingly as follow :"}]
[]
[null,null,null,null,null,null,null,null,null,null,{"$f":"IF('Offre NEW'!C3=\"FR\",\"Samedi + 50%\",\"Saturdays + 50%\")","v":"Saturdays + 50%"}]
[null,null,null,null,null,null,null,null,null,null,{"$f":"IF('Offre NEW'!C3=\"FR\",\"Dimanche + 100%\",\"Sundays + 100%\")","v":"Sundays + 100%"}]
[null,null,null,null,null,null,null,null,null,null,{"$f":"IF('Offre NEW'!C3=\"FR\",\"La durée de travail ne doit pas dépasser 10 heures par jour\",\"Daily working hours should not exceed 10 hours a day\")","v":"Daily working hours should not exceed 10 hours a day"}]
[null,null,null,null,null,null,null,null,null,null,{"$f":"IF('Offre NEW'!C3=\"FR\",\"La durée de travail ne doit pas dépasser 48 heures par semaine\",\"Weekly working hours should not exceed 48 hours a week\")","v":"Weekly working hours should not exceed 48 hours a week"}]
[null,null,null,null,null,null,null,null,null,null,{"$f":"IF('Offre NEW'!C3=\"FR\",\"Dans le cas où la mission dure 12 semaines ou plus, la durée du travail ne doit pas dépasser 42 heures par semaine en moyenne\",\"If the intervention takes 12 weeks or more, working hours must not exceed 42 hours a week on average\")","v":"If the intervention takes 12 weeks or more, working hours must not exceed 42 hours a week on average"}]
[]
[]
[null,null,{"$f":"IF('Offre NEW'!C3=\"FR\",\"Heures supplémentaires :\",\"Overtime :\")","v":"Overtime :"},null,null,null,null,null,null,null,{"$f":"IF('Offre NEW'!C3=\"FR\",\"Les heures supplémentaires en journée doivent être effectuées entre 6h et 20h\",\"Overtime during the day must be made between 6 and 20h\")","v":"Overtime during the day must be made between 6 and 20h"}]
[null,null,null,null,null,null,null,null,null,null,{"$f":"IF('Offre NEW'!C3=\"FR\",\"Les heures effectuées entre 22h et 6h sont des heures de nuit\",\"The working hours made between 22:00 and 6:00 are night hours\")","v":"The working hours made between 22:00 and 6:00 are night hours"}]
[]
[null,null,{"$f":"IF('Offre NEW'!C3=\"FR\",\"Repos obligatoires :\",\"Mandatory rest :\")","v":"Mandatory rest :"},null,null,null,null,null,null,null,{"$f":"IF('Offre NEW'!C3=\"FR\",\"Un repos minimum quotidien de 11 heures\",\"Minimum daily rest of 11 consecutive hours\")","v":"Minimum daily rest of 11 consecutive hours"}]
[null,null,null,null,null,null,null,null,null,null,{"$f":"IF('Offre NEW'!C3=\"FR\",\"Un repos minimum hebdomadaire de 35 heures consécutives\",\"Minimum weekly rest of 35 consecutive hours\")","v":"Minimum weekly rest of 35 consecutive hours"}]
[]
[null,null,{"$f":"IF('Offre NEW'!C3=\"FR\",\"Frais administratifs :\",\"Administrative price :\")","v":"Administrative price :"},null,null,null,null,null,null,null,{"$f":"IF('Offre NEW'!C3=\"FR\",\"Les frais administratifs sont facturés quelque soit la durée de la prestation\",\"The administrative fees are charged regardless of the duration of the service\")","v":"The administrative fees are charged regardless of the duration of the service"}]
[]
[null,null,{"$f":"IF('Offre NEW'!C3=\"FR\",\"Voyage :\",\"Travel :\")","v":"Travel :"},null,null,null,null,null,null,null,{"$f":"IF('Offre NEW'!C3=\"FR\",\"Les différentes parties du voyage, telles que : voiture, bus, taxi, avion\",\"Every part of the travel, such as : car, bus, taxi, flight ticket\")","v":"Every part of the travel, such as : car, bus, taxi, flight ticket"}]
[null,null,null,null,null,null,null,null,null,null,{"$f":"IF('Offre NEW'!C3=\"FR\",\"seront organisées directement par HASLER, si non spécifié\",\"Are organized by HASLER directly if not specified\")","v":"Are organized by HASLER directly if not specified"}]
[null,null,null,null,null,null,null,null,null,null,{"$f":"IF('Offre NEW'!C3=\"FR\",\"Si le vol dure 6 heures ou plus, le billet sera pris en Business Class\",\"Flight over 6 hours will be done in business class\")","v":"Flight over 6 hours will be done in business class"}]
[null,null,null,null,null,null,null,null,null,null,{"$f":"IF('Offre NEW'!C3=\"FR\",\"Tous les coûts de modifications seront facturés\",\"Every modifications costs will be charged\")","v":"Every modifications costs will be charged"}]
[]
[null,null,{"$f":"IF('Offre NEW'!C3=\"FR\",\"Hébergement :\",\"Lodging :\")","v":"Lodging :"},null,null,null,null,null,null,null,{"$f":"IF('Offre NEW'!C3=\"FR\",\"Hôtel et repas doivent être conformes aux standards européens\",\"Hotels and meals have to be at Europeans standards\")","v":"Hotels and meals have to be at Europeans standards"}]
[]
[null,null,"Visa :",null,null,null,null,null,null,null,{"$f":"IF('Offre NEW'!C3=\"FR\",\"Le client doit fournir la lettre d'invitation appropriée pour permettre l'intervention\",\"Customer have to provide the appropriate invitation letter to HASLER\")","v":"Customer have to provide the appropriate invitation letter to HASLER"}]
[null,null,null,null,null,null,null,null,null,null,{"$f":"IF('Offre NEW'!C3=\"FR\",\"Les coûts pour l'obtention du visa seront facturés au client\",\"The costs for obtaining the visa are invoiced\")","v":"The costs for obtaining the visa are invoiced"}]

{"sheet":"CGV 1","index":49,"n_rows":40,"n_cols":5,"rows_kept":40,"cut":false,"hidden":false,"merged":[[27,2,27,4],[28,0,28,1],[28,2,28,4],[20,2,20,4],[21,0,21,1],[21,2,21,4],[22,2,22,4],[23,2,23,4],[24,3,24,4],[25,2,25,4],[26,2,26,4],[16,0,16,1],[17,0,17,1],[18,0,18,1],[20,0,20,1],[27,0,27,1],[22,0,23,0],[25,0,26,0],[2,0,5,4],[7,0,7,1],[8,0,8,1],[9,0,12,0],[13,0,15,0],[42,0,42,4],[30,0,30,1],[30,2,30,4],[31,0,31,1],[31,2,31,4],[33,0,33,4],[34,0,34,3],[35,0,35,4],[36,0,36,4],[39,0,39,4],[40,0,40,4],[41,0,41,4]]}
[]
[]
[{"$f":"IF('Offre NEW'!C3=\"FR\",France!A6,Etranger!A6)","v":"PRICE LIST 2022 - Worldwide \nCUSTOMER SERVICES"}]
[]
[]
[]
[]
[{"$f":"IF('Offre NEW'!C3=\"FR\",France!A11,Etranger!A11)","v":"Type of service"},null,{"$f":"IF('Offre NEW'!C3=\"FR\",France!C11,Etranger!C11)","v":"FILTRATION / PROCESSING :                                   - Erection Supervision\n- Equipment Maintenance (4)                                                                  - Mechanical Audit of Equipment (3)"},{"$f":"IF('Offre NEW'!C3=\"FR\",France!D11,Etranger!D11)","v":"DOSING / MIXING :                             - Commissioning                        - Erection Supervision\n- Equipment Maintenance (4)"},{"$f":"IF('Offre NEW'!C3=\"FR\",France!E11,Etranger!E11)","v":"FILTRATION / PROCESSING:                          - Laboratory Tests\n- Commissioning\n- Training\n- Process Audit (3)"}]
[{"$f":"IF('Offre NEW'!C3=\"FR\",France!A12,Etranger!A12)","v":"Category of staff"},null,{"$f":"IF('Offre NEW'!C3=\"FR\",France!C12,Etranger!C12)","v":"Technician or Audit Technician"},{"$f":"IF('Offre NEW'!C3=\"FR\",France!D12,Etranger!D12)","v":"Dosing Specialist"},{"$f":"IF('Offre NEW'!C3=\"FR\",France!E12,Etranger!E12)","v":"Process Engineer"}]
[{"$f":"IF('Offre NEW'!C3=\"FR\",France!A13,Etranger!A13)","v":"Daily rate (for 8 working hours)"},{"$f":"IF('Offre NEW'!C3=\"FR\",France!B13,Etranger!B13)","v":"Monday to Friday maxi 40 h/week"},{"$f":"IF('Offre NEW'!M4=\"France\",France!C13,Etranger!C13)","v":940},{"$f":"IF('Offre NEW'!M4=\"France\",France!D13,Etranger!D13)","v":1065},{"$f":"IF('Offre NEW'!M4=\"France\",France!E13,Etranger!E13)","v":1360}]
[null,{"$f":"IF('Offre NEW'!C3=\"FR\",France!B14,Etranger!B14)","v":"Hourly rate base"},{"$f":"IF('Offre NEW'!M4=\"France\",France!C14,Etranger!C14)","v":"(117,5 €/h)"},{"$f":"IF('Offre NEW'!M4=\"France\",France!D14,Etranger!D14)","v":"(133,1 €/h)"},{"$f":"IF('Offre NEW'!M4=\"France\",France!E14,Etranger!E14)","v":"(170 €/h)"}]
[null,{"$f":"IF('Offre NEW'!C3=\"FR\",France!B15,Etranger!B15)","v":"Saturday"},{"$f":"C10*1.5","v":1410},{"$f":"D10*1.5","v":1597.5},{"$f":"E10*1.5","v":2040}]
[null,{"$f":"IF('Offre NEW'!C3=\"FR\",France!B16,Etranger!B16)","v":"Sunday or Bank holiday"},{"$f":"C10*2","v":1880},{"$f":"D10*2","v":2130},{"$f":"E10*2","v":2720}]
["Additional price for overtime worked",{"$f":"IF('Offre NEW'!C3=\"FR\",France!B17,Etranger!B17)","v":"During day between 40 & 43 h"},"+ 25 %","+25%","+ 25 %"]
[null,{"$f":"IF('Offre NEW'!C3=\"FR\",France!B18,Etranger!B18)","v":"During day between 44 & 48 h"},"+ 50 %","+50%","+50%"]
[null,{"$f":"IF('Offre NEW'!C3=\"FR\",France!B19,Etranger!B19)","v":"During night (from 22:00 & 6:00)"},"+50%","+50%","+50%"]
[{"$f":"IF('Offre NEW'!C3=\"FR\",France!A20,Etranger!A20)","v":"Detailed audit report (3)"},null,{"$f":"IF('Offre NEW'!M4=\"France\",France!C20,Etranger!C20)","v":900},null,{"$f":"IF('Offre NEW'!M4=\"France\",France!E20,Etranger!E20)","v":900}]
[{"$f":"IF('Offre NEW'!C3=\"FR\",France!A21,Etranger!A21)","v":"Price for one day of journey"},null,{"$f":"0.75*C10","v":705},{"$f":"0.75*D10","v":798.75},{"$f":"0.75*E10","v":1020}]
[{"$f":"IF('Offre NEW'!C3=\"FR\",France!A22,Etranger!A22)","v":"Price for one day off (1)"},null,{"$f":"0.5*C10","v":470},{"$f":"0.5*D10","v":532.5},{"$f":"0.5*E10","v":680}]
[]
[{"$f":"IF('Offre NEW'!C3=\"FR\",France!A24,Etranger!A24)","v":"Type of service"},null,{"$f":"IF('Offre NEW'!C3=\"FR\",France!C24,Etranger!C24)","v":"FILTRATION / PROCESSING :                                                                                                    - Equipements control\n- Belt filters / Rotating filters\n- UCP"}]
[{"$f":"IF('Offre NEW'!C3=\"FR\",France!A25,Etranger!A25)","v":"Category of staff"},null,{"$f":"IF('Offre NEW'!C3=\"FR\",France!C25,Etranger!C25)","v":"Process Engineer"}]
[{"$f":"IF('Offre NEW'!C3=\"FR\",France!A26,Etranger!A26)","v":"Daily rate (for 8 working hours)"},{"$f":"IF('Offre NEW'!C3=\"FR\",France!B26,Etranger!B26)","v":"First test day"},{"$f":"IF('Offre NEW'!C3=\"FR\",France!C26,Etranger!C26)","v":"On request"}]
[null,{"$f":"IF('Offre NEW'!C3=\"FR\",France!B27,Etranger!B27)","v":"Additional test day"},{"$f":"IF('Offre NEW'!C3=\"FR\",France!C27,Etranger!C27)","v":"On request"}]
[]
[{"$f":"IF('Offre NEW'!C3=\"FR\",France!A29,Etranger!A29)","v":"Travel expenses (2)"},{"$f":"IF('Offre NEW'!C3=\"FR\",France!B29,Etranger!B29)","v":"By car"},{"$f":"IF('Offre NEW'!C3=\"FR\",France!C29,Etranger!C29)","v":"1,25 €/km + 10% increased costs"}]
[null,{"$f":"IF('Offre NEW'!C3=\"FR\",France!B30,Etranger!B30)","v":"Other way"},{"$f":"IF('Offre NEW'!C3=\"FR\",France!C30,Etranger!C30)","v":"Actual costs increased of 10%"}]
[{"$f":"IF('Offre NEW'!C3=\"FR\",France!A31,Etranger!A31)","v":"Lodging expenses (2)"},null,{"$f":"IF('Offre NEW'!C3=\"FR\",France!C31,Etranger!C31)","v":"Actual costs increased of 10%. \nHôtel *** Class minimum according to european standard                                               \n3 meals per day"}]
[{"$f":"IF('Offre NEW'!C3=\"FR\",France!A32,Etranger!A32)","v":"Administrative Fee"},null,{"$f":"IF('Offre NEW'!C3=\"FR\",France!C32,Etranger!C32)","v":"310 € for intervention preparation, writting of report, …."}]
[]
[{"$f":"IF('Offre NEW'!C3=\"FR\",France!A34,Etranger!A34)","v":"Validity"},null,{"$f":"IF('Offre NEW'!C3=\"FR\",France!C34,Etranger!C34)","v":"From 1st January to 31st December 2021"}]
[{"$f":"IF('Offre NEW'!C3=\"FR\",France!A35,Etranger!A35)","v":"Payment terms"},null,{"$f":"IF('Offre NEW'!C3=\"FR\",France!C35,Etranger!C35)","v":"100% at invoice receipt and by bank transfer, one invoice per month"}]
[]
[{"$f":"IF('Offre NEW'!C3=\"FR\",France!A37,Etranger!A37)","v":"(1) One day minimum after 6 consecutive working days"}]
[{"$f":"IF('Offre NEW'!C3=\"FR\",France!A38,Etranger!A38)","v":"(2) Contact us for all included packages "}]
[{"$f":"IF('Offre NEW'!C3=\"FR\",France!A39,Etranger!A39)","v":"(3) Writting of a complete and detailed audit report after each visit on site"}]
[{"$f":"IF('Offre NEW'!C3=\"FR\",France!A40,Etranger!A40)","v":"(4) Before any maintenance intervention, make sure of the necessary parts availability "}]
[]
[{"$f":"IF('Offre NEW'!C3=\"FR\",France!A42,Etranger!A42)","v":"NOTE"}]
[{"$f":"IF('Offre NEW'!C3=\"FR\",France!A43,Etranger!A43)","v":"This price list is associated to our general conditions of intervention"}]

{"sheet":"CGV 3","index":50,"n_rows":185,"n_cols":3,"rows_kept":185,"cut":false,"hidden":false,"merged":[[184,0,184,30],[3,1,182,29]]}
[]
[null,null,{"$f":"cover_L!C19","v":"General terms & conditions of sales"}]
[]
[null,{"$f":"IF('Offre NEW'!C3=\"FR\",'récap interne pour DIRECTION'!BG143,'récap interne pour DIRECTION'!AC143)","v":{"$cut":{"chars":30152,"head":"1.\tGENERAL POINTS\n1.1.\tCommercial relations between HASLER GROUP, or one of its subsidiaries representing it (‘Supplier’), and the buyer, referred to as the “Customer”, shall be governed by these General Terms and Conditions of Sale. They constitute the sole basis of any commercial negotiation and shall apply to all points which are not regulated in another manner in writing by mutual Agreement. Customer terms and conditions of Purchase which contradict these General Terms and Conditions of Sale shall only be valid if the Supplier has agreed to them in writing.\n1.2.\tDeviations/additions to these General Terms and Conditions of Sale shall only be valid if the Supplier has expressly accepted them in writing.\n1.3.\tOffers which do not mention a validity period shall be non-binding. Once the validity period has expired, the Supplier reserves the right to accept or not any order. \n1.4.\tThe ‘Agreement’ consists of the documents listed below which shall prevail over each other in the following order of priority:\n- an Agreement signed by both the Customer and the Supplier or the order and its acceptance signed by the Supplier with its comments (if required);\n- any specific and/or additional special Terms and Conditions of Sale agreed by the Customer and the Supplier;\n- these General Terms and Conditions of Sale, which form an integral part of the Agreement.\n1.5. \t‘Works’, specified in the Agreement, consist of the ‘Equipment’ to be delivered (materials, products, equipment, etc.) and the ‘Services’ to be provided (assembly, supervision, commissioning, repair, upgrade, maintenance, etc.) in accordance with Agreement requirements.\n1.6.\tThe Supplier shall be free to subcontract all or part of the Equipment and Services under the Agreement.\n1.7.\tThe Customer shall refrain from any action or practice with a view to hiring the Supplier’s employees.\t\n1.8.\tIf any provision of the Agreement is deemed invalid or unenforceable in whole or in part by a competent authority, the validity of the other provisions of the Agreement and the rest of the provision in question shall not be affected.\n1.9.\tThe headings in these General Terms and Conditions of Sale are indicative and do not affect the content of the relevant provisions.\n2.\tAGREEMENT AND EFFECTIVE DATE\n2.1.\tThe Agreement shall enter into effect when the last of the following events occurs (‘Effective Date’):\n- Agreement signature by the Supplier and the Customer; \n- receipt by the Supplier of a down payment as provided for in the Agreement or, failing that, receipt by the Customer of the formal acceptance of the order signed by the Supplier;\n- receipt by the Supplier of an irrevocable and confirmed letter of credit acceptable by the Supplier, or receipt of any other payment guarantee by the Supplier (stand-by letter of credit or other, to be agreed by the Supplier).\n2.2.\tUnless otherwise indicated in the special conditions of sale, the Effective Date shall constitute the date of the beginning of the Supplier’s contractual obligations and the delivery lead time and schedules specified, if applicable, in the Agreement for Equipment, spare parts, and Service provision.\n2.3.\tIf more than thirty (30) days pass after the Agreement’s signature without the occurrence of the Effective Date, the Supplier may modify the aforementioned schedules.\n3.\tORDER, ORDER CONFIRMATION\n3.1.\tUnless there are justified exceptions, the Supplier shall confirm orders in writing. \nThe terms of the written order confirmation shall be the exclusive reference for payment terms, the delivery time, the contents of the delivery, and the scope of the Services, and shall include, where applicable, reservations on the Customer order (HASLER EQ23 document).\n3.2.\tOrder changes, as well as oral Agreements shall only be valid if the Supplier has confirmed them in writing to the Customer.\n3.3.\tThe Supplier shall be authorised to make changes bringing improvements at any time as long as they do not hinder the guaranteed performance and do not result in an increase in the price for the Customer.\n3.4.\tThe submission of an order signe"}}}]
[]
[]
[]
[]
[]
[]
[]
[]
[]
[]
[]
[]
[]
[]
[]
[]
[]
[]
[]
[]
[]
[]
[]
[]
[]
[]
[]
[]
[]
[]
[]
[]
[]
[]
[]
[]
[]
[]
[]
[]
[]
[]
[]
[]
[]
[]
[]
[]
[]
[]
[]
[]
[]
[]
[]
[]
[]
[]
[]
[]
[]
[]
[]
[]
[]
[]
[]
[]
[]
[]
[]
[]
[]
[]
[]
[]
[]
[]
[]
[]
[]
[]
[]
[]
[]
[]
[]
[]
[]
[]
[]
[]
[]
[]
[]
[]
[]
[]
[]
[]
[]
[]
[]
[]
[]
[]
[]
[]
[]
[]
[]
[]
[]
[]
[]
[]
[]
[]
[]
[]
[]
[]
[]
[]
[]
[]
[]
[]
[]
[]
[]
[]
[]
[]
[]
[]
[]
[]
[]
[]
[]
[]
[]
[]
[]
[]
[]
[]
[]
[]
[]
[]
[]
[]
[]
[]
[]
[]
[]
[]
[]
[]
[]
[]
[]
[]
[]
[]
[]
[]
[]
[]
[]
[]
[]
[]
[]
[]
[]
[]
[{"$f":"cover_L!C20","v":"Discover HASLER Group"}]

{"sheet":"Etranger","index":51,"n_rows":43,"n_cols":5,"rows_kept":43,"cut":false,"hidden":true,"merged":[[19,0,19,1],[5,0,8,4],[10,0,10,1],[11,0,11,1],[12,0,15,0],[16,0,18,0],[20,0,20,1],[21,0,21,1],[23,0,23,1],[23,2,23,4],[24,0,24,1],[24,2,24,4],[25,0,26,0],[25,2,25,4],[26,2,26,4],[27,3,27,4],[28,0,29,0],[28,2,28,4],[29,2,29,4],[30,0,30,1],[30,2,30,4],[31,0,31,1],[31,2,31,4],[33,0,33,1],[33,2,33,4],[42,0,42,4],[43,0,43,4],[44,0,44,4],[45,0,45,4],[34,0,34,1],[34,2,34,4],[36,0,36,4],[37,0,37,3],[38,0,38,4],[39,0,39,4]]}
[]
[]
[]
[]
[]
["PRICE LIST 2022 - Worldwide \nCUSTOMER SERVICES"]
[]
[]
[]
[]
["Type of service",null,"FILTRATION / PROCESSING :                                   - Erection Supervision\n- Equipment Maintenance (4)                                                                  - Mechanical Audit of Equipment (3)","DOSING / MIXING :                             - Commissioning                        - Erection Supervision\n- Equipment Maintenance (4)","FILTRATION / PROCESSING:                          - Laboratory Tests\n- Commissioning\n- Training\n- Process Audit (3)"]
["Category of staff",null,"Technician or Audit Technician","Dosing Specialist","Process Engineer"]
["Daily rate (for 8 working hours)","Monday to Friday maxi 40 h/week",1130,1250,1360]
[null,"Hourly rate base","(135 €/h)","(150 €/h)","(167.50 €/h)"]
[null,"Saturday",1700,1880,{"$f":"E13*1.5","v":2040}]
[null,"Sunday or Bank holiday",{"$f":"C13*2","v":2260},{"$f":"D13*2","v":2500},{"$f":"E13*2","v":2720}]
["Additional price for overtime worked","During day between 40 & 43 h","+ 25 %","+25%","+ 25 %"]
[null,"During day between 44 & 48 h","+ 50 %","+50%","+50%"]
[null,"During night (from 22:00 & 6:00)","+50%","+50%","+50%"]
["Detailed audit report (3)",null,900,null,900]
["Price for one day of journey",null,850,940,{"$f":"0.75*E13","v":1020}]
["Price for one day off (1)",null,570,630,{"$f":"0.5*E13","v":680}]
[]
["Type of service",null,"FILTRATION / PROCESSING :                                                                                                    - Equipements control\n- Belt filters / Rotating filters\n- UCP"]
["Category of staff",null,"Process Engineer"]
["Daily rate (for 8 working hours)","First test day","On request"]
[null,"Additional test day","On request"]
[]
["Travel expenses (2)","By car","1,25 €/km + 10% increased costs"]
[null,"Other way","Actual costs increased of 10%"]
["Lodging expenses (2)",null,"Actual costs increased of 10%. \nHôtel *** Class minimum according to european standard                                               \n3 meals per day"]
["Administrative Fee",null,"310 € for intervention preparation, writting of report, …."]
[]
["Validity",null,"From 1st January to 31st December 2021"]
["Payment terms",null,"100% at invoice receipt and by bank transfer, one invoice per month"]
[]
["(1) One day minimum after 6 consecutive working days"]
["(2) Contact us for all included packages "]
["(3) Writting of a complete and detailed audit report after each visit on site"]
["(4) Before any maintenance intervention, make sure of the necessary parts availability "]
[]
["NOTE"]
["This price list is associated to our general conditions of intervention"]

{"sheet":"France","index":52,"n_rows":43,"n_cols":5,"rows_kept":43,"cut":false,"hidden":true,"merged":[[19,0,19,1],[5,0,8,4],[10,0,10,1],[11,0,11,1],[12,0,15,0],[16,0,18,0],[20,0,20,1],[21,0,21,1],[23,0,23,1],[23,2,23,4],[24,0,24,1],[24,2,24,4],[25,0,26,0],[25,2,25,4],[26,2,26,4],[27,3,27,4],[28,0,29,0],[28,2,28,4],[29,2,29,4],[30,0,30,1],[30,2,30,4],[31,0,31,1],[31,2,31,4],[33,0,33,1],[33,2,33,4],[42,0,42,4],[43,0,43,4],[44,0,44,4],[45,0,45,4],[34,0,34,1],[34,2,34,4],[36,0,36,4],[37,0,37,3],[38,0,38,4],[39,0,39,4]]}
[null,null,"\n\nTARIF 2016 - France\nOFFRE DE SERVICES\n"]
[]
[]
[]
[]
["TARIF 2022 - France \nOFFRE DE SERVICES"]
[]
[]
[]
[]
["Type de service",null,"FILTRATION / PROCESSING :                                   - Supervision de Montage\n- Maintenance d'équipements (4)                                      - Audit mécanique d'équipements (3)","DOSAGE / AGITATION :                             - Mise en service                        - Supervision de Montage\n- Maintenance d'équipements (4)","FILTRATION / PROCESSING :                          - Essais\n- Mise en service\n- Formation\n- Audit process (3)"]
["Catégorie de personnel",null,"Technicien ou Auditeur technique","Spécialiste Dosage","Ingénieur Process"]
["Tarif forfaitaire journalier (pour 8 heures travaillées)","Lundi au Vendredi maxi 40 h/semaine",940,1065,1360]
[null,"Taux horaire de base","(117,5 €/h)","(133,1 €/h)","(170 €/h)"]
[null,"Samedi",{"$f":"C13*1.5","v":1410},1600,{"$f":"E13*1.5","v":2040}]
[null,"Dimanche ou férié",{"$f":"C13*2","v":1880},{"$f":"D13*2","v":2130},{"$f":"E13*2","v":2720}]
["Majoration Heures Supp.","En journée entre 40 et 43 h","+ 25 %","+25%","+ 25 %"]
[null,"En journée entre 44 et 48 h","+ 50 %","+50%","+50%"]
[null,"De nuit (entre 22:00 et 6:00)","+50%","+50%","+50%"]
["Rapport d'audit détaillé (3)",null,900,null,900]
["Tarif journée de voyage",null,710,800,{"$f":"0.75*E13","v":1020}]
["Tarif jour non travaillé (1)",null,{"$f":"0.5*C13","v":470},530,{"$f":"0.5*E13","v":680}]
[]
["Type de service",null,"FILTRATION / PROCESSING :                                                                                                              - Pilotage d'équipements  dans votre usine\n- Filtres à bande/rotatifs\n- malaxeurs"]
["Catégorie de personnel",null,"Ingénieur process"]
["Tarif forfaitaire journalier (pour 8 heures travaillées)","1ère journée","Nous consulter"]
[null,"Journée supplémentaire","Nous consulter"]
[]
["Frais de voyage (2)","En voiture","1,25 €/km + frais majorés de 10%"]
[null,"Autre moyen","Frais réels majorés de 10%"]
["Frais d'hébergement (2)",null,"Frais réels majorés de 10%. \nHôtel *** minimum au standard européen                                                                                       Trois repas par jour"]
["Frais administratifs",null,"310 € pour préparation de l'intervention, rédaction rapport de mission, …."]
[]
["Validité",null,"Du 1er Janvier au 31 Décembre 2021"]
["Conditions de paiement",null,"100% à réception de facture par virement, une facture par mois sera établie"]
[]
["(1) 1 journée minimum après 6 jours de travail consécutifs"]
["(2) Consultez nous pour des forfaits tout compris"]
["(3) Rédaction d'un rapport d'audit détaillé à l'issue de la visite sur site"]
["(4) Avant toute intervention de maintenance, veuillez vous assurer de la disponibilité des pièces nécessaires"]
[]
["NOTA"]
["Ce tarif est associé à nos conditions générales d'intervention"]

{"sheet":"récap interne pour DIRECTION","index":53,"n_rows":143,"n_cols":59,"rows_kept":143,"cut":false,"hidden":false,"merged":[[79,0,79,1],[142,28,302,56],[142,58,302,86],[10,1,10,4],[11,0,11,4],[11,5,11,8],[11,10,11,11],[9,1,9,4],[9,9,9,11],[0,1,0,4],[1,1,1,4],[2,1,2,4],[3,1,3,4],[4,1,4,4],[5,1,5,4],[6,1,6,4],[6,9,6,11],[7,1,7,4],[8,3,8,4]]}
["Customer Name",{"$f":"Calculations!C2","v":"CARESTER"},null,null,null,"AE",{"$f":"'Offre NEW'!M16","v":"Alexis GILBERT"},null,null,"CAT VENTE","Somme CR (€)","K 100","Kmarché EQ NEUFS POUR INFO","% PRICE LIST MARCHE"]
["Project Name",{"$f":"Calculations!C4","v":"CAREMAG"},null,null,null,"ASM",{"$f":"'Offre NEW'!M18","v":"Nicolas DELATTRE"},null,null,"EQ Eng",{"$f":"SUMIF(G14:G78,\"='Offre NEW'!$T$5\",F14:F78)","v":0},1.6479999999999999,{"$f":"4*K2^-0.082","v":{"$error":"#DIV/0!"}},{"$f":"M2/L2","v":{"$error":"#DIV/0!"}}]
["Project reference n°",null,null,null,null,null,null,null,null,"Buy & Sell",{"$f":"SUMIF(G14:G78,\"=1,339\",F14:F78)","v":0},1.339]
["RFQ date (reçu le)",{"$f":"'Offre NEW'!M20","v":"2025-04-25"},null,null,null,null,null,null,null,"Spares / Services",{"$f":"SUMIF(G14:G78,\"=2\",F14:F78)","v":0},2]
["HASLER GROUP Quote n°",null,null,null,null,null,null,null,null,"Engineering / Project Management",{"$f":"SUMIF(G14:G78,\"=1,5\",F14:F78)","v":0},1.5]
["Commercial Quote Rev number",{"$f":"Calculations!C3&\"_\"&Calculations!G1&Calculations!H3","v":"726789_03rev4"},null,null,null,null,null,null,null,"Packing / Transport",{"$f":"SUMIF(G14:G78,\"=1,1845\",F14:F78)","v":0},1.1845000000000001]
["Technical Quote Rev number",null,null,null,null,null,null,null,null,"NE PAS MODIFIER - CALCUL AUTOMATIQUE"]
["DATE SENT BY AE (DD/MM/YY)",{"$f":"Calculations!R2","v":"2025-04-25"}]
["INCOTERM (code / nom du lieu)",{"$f":"'Offre NEW'!M10","v":"DAP"},null,{"$f":"'Offre NEW'!N10","v":"Lacq"}]
["DELIVERY TIME - EXW le Mele (Months)",{"$f":"'Offre NEW'!M12","v":52},null,null,null,null,null,null,null,"Renseigner toutes les cases \"saumons\"",null,null,"et vert de gris"]
["Type d'offre",{"$f":"'Offre NEW'!M14","v":"Budget"}]
["REMPLI PAR APPLICATION ENGINEER",null,null,null,null,"NE PAS MODIFIER",null,null,null,"INFO RECUE DE ASM","NE PAS MODIFIER",null,null,null,"NE PAS MODIFIER"]
["Item","Description","Type Pièces","Quantité","Cout de revient unitaire €","Cout de revient total €","K PRICE LIST/Cout de revient","Prix de vente PRICE LIST unitaire (€)","Prix de vente total PRICE LIST (€)","% DU PRIX VENTE PRICE LIST","PVUnit OFFRE (€)","Pvtot  (€)\nOFFRE","Commission (%)","Commission (€)","Marge brute sur achats totale PV OFFRE (€)"]
[1,{"$f":"Quotation!C7","v":"Filter"},{"$f":"IF(G14='Offre NEW'!$T$5,\"EQ Eng\",IF(G14='Offre NEW'!$T$6,\"Buy & Sell\",IF(G14='Offre NEW'!$T$7,\"Services or Spares\",IF(G14='Offre NEW'!$T$8,\"Packing or Transport\",IF(G14=1.5,\"Eng or Project Mgmt\",\"\")))))","v":"EQ Eng"},{"$f":"Quotation!H8","v":1},{"$f":"'Offre NEW'!I7","v":129716.47330179026},{"$f":"IF(D14=\"\",\"\",D14*E14)","v":129716.47330179026},{"$f":"'Offre NEW'!J7","v":1.7654723239999999},{"$f":"IF(D14=\"\",\"\",E14*G14)","v":229010.8435811956},{"$f":"IF(D14=\"\",\"\",H14*D14)","v":229010.8435811956},1,{"$f":"IF(D14=\"\",\"\",ROUND(H14*J14,))","v":229011},{"$f":"IF(D14=\"\",\"\",K14*D14)","v":229011},{"$f":"IF(D14=\"\",\"\",0)","v":0},{"$f":"IF(D14=\"\",\"\",ROUND(L14*M14,))","v":0},{"$f":"IF(B14=\"\",\"\",L14-E14*D14-N14)","v":99294.526698209738}]
[2,null,{"$f":"IF(G15='Offre NEW'!$T$5,\"EQ Eng\",IF(G15='Offre NEW'!$T$6,\"Buy & Sell\",IF(G15='Offre NEW'!$T$7,\"Services or Spares\",IF(G15='Offre NEW'!$T$8,\"Packing or Transport\",IF(G15=1.5,\"Eng or Project Mgmt\",\"\")))))","v":""},null,null,{"$f":"IF(D15=\"\",\"\",D15*E15)","v":""},null,{"$f":"IF(D15=\"\",\"\",E15*G15)","v":""},{"$f":"IF(D15=\"\",\"\",H15*D15)","v":""},{"$f":"IF(D15=\"\",\"\",100%)","v":""},{"$f":"IF(D15=\"\",\"\",ROUND(H15*J15,))","v":""},{"$f":"IF(D15=\"\",\"\",K15*D15)","v":""},{"$f":"IF(D15=\"\",\"\",0)","v":""},{"$f":"IF(D15=\"\",\"\",ROUND(L15*M15,))","v":""},{"$f":"IF(B15=\"\",\"\",L15-E15*D15-N15)","v":""}]
[3,null,{"$f":"IF(G16='Offre NEW'!$T$5,\"EQ Eng\",IF(G16='Offre NEW'!$T$6,\"Buy & Sell\",IF(G16='Offre NEW'!$T$7,\"Services or Spares\",IF(G16='Offre NEW'!$T$8,\"Packing or Transport\",IF(G16=1.5,\"Eng or Project Mgmt\",\"\")))))","v":""},null,null,"",null,"","","","","","","",""]
[4,null,{"$f":"IF(G17='Offre NEW'!$T$5,\"EQ Eng\",IF(G17='Offre NEW'!$T$6,\"Buy & Sell\",IF(G17='Offre NEW'!$T$7,\"Services or Spares\",IF(G17='Offre NEW'!$T$8,\"Packing or Transport\",IF(G17=1.5,\"Eng or Project Mgmt\",\"\")))))","v":""},null,null,"",null,"","","","","","","",""]
[5,null,{"$f":"IF(G18='Offre NEW'!$T$5,\"EQ Eng\",IF(G18='Offre NEW'!$T$6,\"Buy & Sell\",IF(G18='Offre NEW'!$T$7,\"Services or Spares\",IF(G18='Offre NEW'!$T$8,\"Packing or Transport\",IF(G18=1.5,\"Eng or Project Mgmt\",\"\")))))","v":""},null,null,"",null,"","","","","","","",""]
[6,null,{"$f":"IF(G19='Offre NEW'!$T$5,\"EQ Eng\",IF(G19='Offre NEW'!$T$6,\"Buy & Sell\",IF(G19='Offre NEW'!$T$7,\"Services or Spares\",IF(G19='Offre NEW'!$T$8,\"Packing or Transport\",IF(G19=1.5,\"Eng or Project Mgmt\",\"\")))))","v":""},null,null,"",null,"","","","","","","",""]
[7,null,{"$f":"IF(G20='Offre NEW'!$T$5,\"EQ Eng\",IF(G20='Offre NEW'!$T$6,\"Buy & Sell\",IF(G20='Offre NEW'!$T$7,\"Services or Spares\",IF(G20='Offre NEW'!$T$8,\"Packing or Transport\",IF(G20=1.5,\"Eng or Project Mgmt\",\"\")))))","v":""},null,null,"",null,"","","","","","","",""]
[8,null,{"$f":"IF(G21='Offre NEW'!$T$5,\"EQ Eng\",IF(G21='Offre NEW'!$T$6,\"Buy & Sell\",IF(G21='Offre NEW'!$T$7,\"Services or Spares\",IF(G21='Offre NEW'!$T$8,\"Packing or Transport\",IF(G21=1.5,\"Eng or Project Mgmt\",\"\")))))","v":""},null,null,"",null,"","","","","","","",""]
[9,null,{"$f":"IF(G22='Offre NEW'!$T$5,\"EQ Eng\",IF(G22='Offre NEW'!$T$6,\"Buy & Sell\",IF(G22='Offre NEW'!$T$7,\"Services or Spares\",IF(G22='Offre NEW'!$T$8,\"Packing or Transport\",IF(G22=1.5,\"Eng or Project Mgmt\",\"\")))))","v":""},null,null,"",null,"","","","","","","",""]
[10,null,{"$f":"IF(G23='Offre NEW'!$T$5,\"EQ Eng\",IF(G23='Offre NEW'!$T$6,\"Buy & Sell\",IF(G23='Offre NEW'!$T$7,\"Services or Spares\",IF(G23='Offre NEW'!$T$8,\"Packing or Transport\",IF(G23=1.5,\"Eng or Project Mgmt\",\"\")))))","v":""},null,null,"",null,"","","","","","","",""]
[11,null,{"$f":"IF(G24='Offre NEW'!$T$5,\"EQ Eng\",IF(G24='Offre NEW'!$T$6,\"Buy & Sell\",IF(G24='Offre NEW'!$T$7,\"Services or Spares\",IF(G24='Offre NEW'!$T$8,\"Packing or Transport\",IF(G24=1.5,\"Eng or Project Mgmt\",\"\")))))","v":""},null,null,"",null,"","","","","","","",""]
[12,null,{"$f":"IF(G25='Offre NEW'!$T$5,\"EQ Eng\",IF(G25='Offre NEW'!$T$6,\"Buy & Sell\",IF(G25='Offre NEW'!$T$7,\"Services or Spares\",IF(G25='Offre NEW'!$T$8,\"Packing or Transport\",IF(G25=1.5,\"Eng or Project Mgmt\",\"\")))))","v":""},null,null,"",null,"","","","","","","",""]
[13,null,{"$f":"IF(G26='Offre NEW'!$T$5,\"EQ Eng\",IF(G26='Offre NEW'!$T$6,\"Buy & Sell\",IF(G26='Offre NEW'!$T$7,\"Services or Spares\",IF(G26='Offre NEW'!$T$8,\"Packing or Transport\",IF(G26=1.5,\"Eng or Project Mgmt\",\"\")))))","v":""},null,null,"",null,"","","","","","","",""]
[14,null,{"$f":"IF(G27='Offre NEW'!$T$5,\"EQ Eng\",IF(G27='Offre NEW'!$T$6,\"Buy & Sell\",IF(G27='Offre NEW'!$T$7,\"Services or Spares\",IF(G27='Offre NEW'!$T$8,\"Packing or Transport\",IF(G27=1.5,\"Eng or Project Mgmt\",\"\")))))","v":""},null,null,"",null,"","","","","","","",""]
[15,null,{"$f":"IF(G28='Offre NEW'!$T$5,\"EQ Eng\",IF(G28='Offre NEW'!$T$6,\"Buy & Sell\",IF(G28='Offre NEW'!$T$7,\"Services or Spares\",IF(G28='Offre NEW'!$T$8,\"Packing or Transport\",IF(G28=1.5,\"Eng or Project Mgmt\",\"\")))))","v":""},null,null,"",null,"","","","","","","",""]
[16,null,{"$f":"IF(G29='Offre NEW'!$T$5,\"EQ Eng\",IF(G29='Offre NEW'!$T$6,\"Buy & Sell\",IF(G29='Offre NEW'!$T$7,\"Services or Spares\",IF(G29='Offre NEW'!$T$8,\"Packing or Transport\",IF(G29=1.5,\"Eng or Project Mgmt\",\"\")))))","v":""},null,null,"",null,"","","","","","","",""]
[17,null,{"$f":"IF(G30='Offre NEW'!$T$5,\"EQ Eng\",IF(G30='Offre NEW'!$T$6,\"Buy & Sell\",IF(G30='Offre NEW'!$T$7,\"Services or Spares\",IF(G30='Offre NEW'!$T$8,\"Packing or Transport\",IF(G30=1.5,\"Eng or Project Mgmt\",\"\")))))","v":""},null,null,"",null,"","","","","","","",""]
[18,null,{"$f":"IF(G31='Offre NEW'!$T$5,\"EQ Eng\",IF(G31='Offre NEW'!$T$6,\"Buy & Sell\",IF(G31='Offre NEW'!$T$7,\"Services or Spares\",IF(G31='Offre NEW'!$T$8,\"Packing or Transport\",IF(G31=1.5,\"Eng or Project Mgmt\",\"\")))))","v":""},null,null,"",null,"","","","","","","",""]
[19,null,{"$f":"IF(G32='Offre NEW'!$T$5,\"EQ Eng\",IF(G32='Offre NEW'!$T$6,\"Buy & Sell\",IF(G32='Offre NEW'!$T$7,\"Services or Spares\",IF(G32='Offre NEW'!$T$8,\"Packing or Transport\",IF(G32=1.5,\"Eng or Project Mgmt\",\"\")))))","v":""},null,null,"",null,"","","","","","","",""]
[20,null,{"$f":"IF(G33='Offre NEW'!$T$5,\"EQ Eng\",IF(G33='Offre NEW'!$T$6,\"Buy & Sell\",IF(G33='Offre NEW'!$T$7,\"Services or Spares\",IF(G33='Offre NEW'!$T$8,\"Packing or Transport\",IF(G33=1.5,\"Eng or Project Mgmt\",\"\")))))","v":""},null,null,"",null,"","","","","","","",""]
[21,null,{"$f":"IF(G34='Offre NEW'!$T$5,\"EQ Eng\",IF(G34='Offre NEW'!$T$6,\"Buy & Sell\",IF(G34='Offre NEW'!$T$7,\"Services or Spares\",IF(G34='Offre NEW'!$T$8,\"Packing or Transport\",IF(G34=1.5,\"Eng or Project Mgmt\",\"\")))))","v":""},null,null,"",null,"","","","","","","",""]
[22,null,{"$f":"IF(G35='Offre NEW'!$T$5,\"EQ Eng\",IF(G35='Offre NEW'!$T$6,\"Buy & Sell\",IF(G35='Offre NEW'!$T$7,\"Services or Spares\",IF(G35='Offre NEW'!$T$8,\"Packing or Transport\",IF(G35=1.5,\"Eng or Project Mgmt\",\"\")))))","v":""},null,null,"",null,"","","","","","","",""]
[23,null,{"$f":"IF(G36='Offre NEW'!$T$5,\"EQ Eng\",IF(G36='Offre NEW'!$T$6,\"Buy & Sell\",IF(G36='Offre NEW'!$T$7,\"Services or Spares\",IF(G36='Offre NEW'!$T$8,\"Packing or Transport\",IF(G36=1.5,\"Eng or Project Mgmt\",\"\")))))","v":""},null,null,"",null,"","","","","","","",""]
[24,null,{"$f":"IF(G37='Offre NEW'!$T$5,\"EQ Eng\",IF(G37='Offre NEW'!$T$6,\"Buy & Sell\",IF(G37='Offre NEW'!$T$7,\"Services or Spares\",IF(G37='Offre NEW'!$T$8,\"Packing or Transport\",IF(G37=1.5,\"Eng or Project Mgmt\",\"\")))))","v":""},null,null,"",null,"","","","","","","",""]
[25,null,{"$f":"IF(G38='Offre NEW'!$T$5,\"EQ Eng\",IF(G38='Offre NEW'!$T$6,\"Buy & Sell\",IF(G38='Offre NEW'!$T$7,\"Services or Spares\",IF(G38='Offre NEW'!$T$8,\"Packing or Transport\",IF(G38=1.5,\"Eng or Project Mgmt\",\"\")))))","v":""},null,null,"",null,"","","","","","","",""]
[26,null,{"$f":"IF(G39='Offre NEW'!$T$5,\"EQ Eng\",IF(G39='Offre NEW'!$T$6,\"Buy & Sell\",IF(G39='Offre NEW'!$T$7,\"Services or Spares\",IF(G39='Offre NEW'!$T$8,\"Packing or Transport\",IF(G39=1.5,\"Eng or Project Mgmt\",\"\")))))","v":""},null,null,"",null,"","","","","","","",""]
[27,null,{"$f":"IF(G40='Offre NEW'!$T$5,\"EQ Eng\",IF(G40='Offre NEW'!$T$6,\"Buy & Sell\",IF(G40='Offre NEW'!$T$7,\"Services or Spares\",IF(G40='Offre NEW'!$T$8,\"Packing or Transport\",IF(G40=1.5,\"Eng or Project Mgmt\",\"\")))))","v":""},null,null,"",null,"","","","","","","",""]
[28,null,{"$f":"IF(G41='Offre NEW'!$T$5,\"EQ Eng\",IF(G41='Offre NEW'!$T$6,\"Buy & Sell\",IF(G41='Offre NEW'!$T$7,\"Services or Spares\",IF(G41='Offre NEW'!$T$8,\"Packing or Transport\",IF(G41=1.5,\"Eng or Project Mgmt\",\"\")))))","v":""},null,null,"",null,"","","","","","","",""]
[29,null,{"$f":"IF(G42='Offre NEW'!$T$5,\"EQ Eng\",IF(G42='Offre NEW'!$T$6,\"Buy & Sell\",IF(G42='Offre NEW'!$T$7,\"Services or Spares\",IF(G42='Offre NEW'!$T$8,\"Packing or Transport\",IF(G42=1.5,\"Eng or Project Mgmt\",\"\")))))","v":""},null,null,"",null,"","","","","","","",""]
[30,null,{"$f":"IF(G43='Offre NEW'!$T$5,\"EQ Eng\",IF(G43='Offre NEW'!$T$6,\"Buy & Sell\",IF(G43='Offre NEW'!$T$7,\"Services or Spares\",IF(G43='Offre NEW'!$T$8,\"Packing or Transport\",IF(G43=1.5,\"Eng or Project Mgmt\",\"\")))))","v":""},null,null,"",null,"","","","","","","",""]
[31,null,{"$f":"IF(G44='Offre NEW'!$T$5,\"EQ Eng\",IF(G44='Offre NEW'!$T$6,\"Buy & Sell\",IF(G44='Offre NEW'!$T$7,\"Services or Spares\",IF(G44='Offre NEW'!$T$8,\"Packing or Transport\",IF(G44=1.5,\"Eng or Project Mgmt\",\"\")))))","v":""},null,null,"",null,"","","","","","","",""]
[32,null,{"$f":"IF(G45='Offre NEW'!$T$5,\"EQ Eng\",IF(G45='Offre NEW'!$T$6,\"Buy & Sell\",IF(G45='Offre NEW'!$T$7,\"Services or Spares\",IF(G45='Offre NEW'!$T$8,\"Packing or Transport\",IF(G45=1.5,\"Eng or Project Mgmt\",\"\")))))","v":""},null,null,"",null,"","","","","","","",""]
[33,null,{"$f":"IF(G46='Offre NEW'!$T$5,\"EQ Eng\",IF(G46='Offre NEW'!$T$6,\"Buy & Sell\",IF(G46='Offre NEW'!$T$7,\"Services or Spares\",IF(G46='Offre NEW'!$T$8,\"Packing or Transport\",IF(G46=1.5,\"Eng or Project Mgmt\",\"\")))))","v":""},null,null,"",null,"","","","","","","",""]
[34,null,{"$f":"IF(G47='Offre NEW'!$T$5,\"EQ Eng\",IF(G47='Offre NEW'!$T$6,\"Buy & Sell\",IF(G47='Offre NEW'!$T$7,\"Services or Spares\",IF(G47='Offre NEW'!$T$8,\"Packing or Transport\",IF(G47=1.5,\"Eng or Project Mgmt\",\"\")))))","v":""},null,null,"",null,"","","","","","","",""]
[35,null,{"$f":"IF(G48='Offre NEW'!$T$5,\"EQ Eng\",IF(G48='Offre NEW'!$T$6,\"Buy & Sell\",IF(G48='Offre NEW'!$T$7,\"Services or Spares\",IF(G48='Offre NEW'!$T$8,\"Packing or Transport\",IF(G48=1.5,\"Eng or Project Mgmt\",\"\")))))","v":""},null,null,"",null,"","","","","","","",""]
[36,null,{"$f":"IF(G49='Offre NEW'!$T$5,\"EQ Eng\",IF(G49='Offre NEW'!$T$6,\"Buy & Sell\",IF(G49='Offre NEW'!$T$7,\"Services or Spares\",IF(G49='Offre NEW'!$T$8,\"Packing or Transport\",IF(G49=1.5,\"Eng or Project Mgmt\",\"\")))))","v":""},null,null,"",null,"","","","","","","",""]
[37,null,{"$f":"IF(G50='Offre NEW'!$T$5,\"EQ Eng\",IF(G50='Offre NEW'!$T$6,\"Buy & Sell\",IF(G50='Offre NEW'!$T$7,\"Services or Spares\",IF(G50='Offre NEW'!$T$8,\"Packing or Transport\",IF(G50=1.5,\"Eng or Project Mgmt\",\"\")))))","v":""},null,null,"",null,"","","","","","","",""]
[38,null,{"$f":"IF(G51='Offre NEW'!$T$5,\"EQ Eng\",IF(G51='Offre NEW'!$T$6,\"Buy & Sell\",IF(G51='Offre NEW'!$T$7,\"Services or Spares\",IF(G51='Offre NEW'!$T$8,\"Packing or Transport\",IF(G51=1.5,\"Eng or Project Mgmt\",\"\")))))","v":""},null,null,"",null,"","","","","","","",""]
[39,null,{"$f":"IF(G52='Offre NEW'!$T$5,\"EQ Eng\",IF(G52='Offre NEW'!$T$6,\"Buy & Sell\",IF(G52='Offre NEW'!$T$7,\"Services or Spares\",IF(G52='Offre NEW'!$T$8,\"Packing or Transport\",IF(G52=1.5,\"Eng or Project Mgmt\",\"\")))))","v":""},null,null,"",null,"","","","","","","",""]
[40,null,{"$f":"IF(G53='Offre NEW'!$T$5,\"EQ Eng\",IF(G53='Offre NEW'!$T$6,\"Buy & Sell\",IF(G53='Offre NEW'!$T$7,\"Services or Spares\",IF(G53='Offre NEW'!$T$8,\"Packing or Transport\",IF(G53=1.5,\"Eng or Project Mgmt\",\"\")))))","v":""},null,null,"",null,"","","","","","","",""]
[41,null,{"$f":"IF(G54='Offre NEW'!$T$5,\"EQ Eng\",IF(G54='Offre NEW'!$T$6,\"Buy & Sell\",IF(G54='Offre NEW'!$T$7,\"Services or Spares\",IF(G54='Offre NEW'!$T$8,\"Packing or Transport\",IF(G54=1.5,\"Eng or Project Mgmt\",\"\")))))","v":""},null,null,"",null,"","","","","","","",""]
[42,null,{"$f":"IF(G55='Offre NEW'!$T$5,\"EQ Eng\",IF(G55='Offre NEW'!$T$6,\"Buy & Sell\",IF(G55='Offre NEW'!$T$7,\"Services or Spares\",IF(G55='Offre NEW'!$T$8,\"Packing or Transport\",IF(G55=1.5,\"Eng or Project Mgmt\",\"\")))))","v":""},null,null,"",null,"","","","","","","",""]
[43,null,{"$f":"IF(G56='Offre NEW'!$T$5,\"EQ Eng\",IF(G56='Offre NEW'!$T$6,\"Buy & Sell\",IF(G56='Offre NEW'!$T$7,\"Services or Spares\",IF(G56='Offre NEW'!$T$8,\"Packing or Transport\",IF(G56=1.5,\"Eng or Project Mgmt\",\"\")))))","v":""},null,null,"",null,"","","","","","","",""]
[44,null,{"$f":"IF(G57='Offre NEW'!$T$5,\"EQ Eng\",IF(G57='Offre NEW'!$T$6,\"Buy & Sell\",IF(G57='Offre NEW'!$T$7,\"Services or Spares\",IF(G57='Offre NEW'!$T$8,\"Packing or Transport\",IF(G57=1.5,\"Eng or Project Mgmt\",\"\")))))","v":""},null,null,"",null,"","","","","","","",""]
[45,null,{"$f":"IF(G58='Offre NEW'!$T$5,\"EQ Eng\",IF(G58='Offre NEW'!$T$6,\"Buy & Sell\",IF(G58='Offre NEW'!$T$7,\"Services or Spares\",IF(G58='Offre NEW'!$T$8,\"Packing or Transport\",IF(G58=1.5,\"Eng or Project Mgmt\",\"\")))))","v":""},null,null,"",null,"","","","","","","",""]
[46,null,{"$f":"IF(G59='Offre NEW'!$T$5,\"EQ Eng\",IF(G59='Offre NEW'!$T$6,\"Buy & Sell\",IF(G59='Offre NEW'!$T$7,\"Services or Spares\",IF(G59='Offre NEW'!$T$8,\"Packing or Transport\",IF(G59=1.5,\"Eng or Project Mgmt\",\"\")))))","v":""},null,null,"",null,"","","","","","","",""]
[47,null,{"$f":"IF(G60='Offre NEW'!$T$5,\"EQ Eng\",IF(G60='Offre NEW'!$T$6,\"Buy & Sell\",IF(G60='Offre NEW'!$T$7,\"Services or Spares\",IF(G60='Offre NEW'!$T$8,\"Packing or Transport\",IF(G60=1.5,\"Eng or Project Mgmt\",\"\")))))","v":""},null,null,"",null,"","","","","","","",""]
[48,null,{"$f":"IF(G61='Offre NEW'!$T$5,\"EQ Eng\",IF(G61='Offre NEW'!$T$6,\"Buy & Sell\",IF(G61='Offre NEW'!$T$7,\"Services or Spares\",IF(G61='Offre NEW'!$T$8,\"Packing or Transport\",IF(G61=1.5,\"Eng or Project Mgmt\",\"\")))))","v":""},null,null,"",null,"","","","","","","",""]
[49,null,{"$f":"IF(G62='Offre NEW'!$T$5,\"EQ Eng\",IF(G62='Offre NEW'!$T$6,\"Buy & Sell\",IF(G62='Offre NEW'!$T$7,\"Services or Spares\",IF(G62='Offre NEW'!$T$8,\"Packing or Transport\",IF(G62=1.5,\"Eng or Project Mgmt\",\"\")))))","v":""},null,null,"",null,"","","","","","","",""]
[50,null,{"$f":"IF(G63='Offre NEW'!$T$5,\"EQ Eng\",IF(G63='Offre NEW'!$T$6,\"Buy & Sell\",IF(G63='Offre NEW'!$T$7,\"Services or Spares\",IF(G63='Offre NEW'!$T$8,\"Packing or Transport\",IF(G63=1.5,\"Eng or Project Mgmt\",\"\")))))","v":""},null,null,"",null,"","","","","","","",""]
[51,null,{"$f":"IF(G64='Offre NEW'!$T$5,\"EQ Eng\",IF(G64='Offre NEW'!$T$6,\"Buy & Sell\",IF(G64='Offre NEW'!$T$7,\"Services or Spares\",IF(G64='Offre NEW'!$T$8,\"Packing or Transport\",IF(G64=1.5,\"Eng or Project Mgmt\",\"\")))))","v":""},null,null,"",null,"","","","","","","",""]
[52,null,{"$f":"IF(G65='Offre NEW'!$T$5,\"EQ Eng\",IF(G65='Offre NEW'!$T$6,\"Buy & Sell\",IF(G65='Offre NEW'!$T$7,\"Services or Spares\",IF(G65='Offre NEW'!$T$8,\"Packing or Transport\",IF(G65=1.5,\"Eng or Project Mgmt\",\"\")))))","v":""},null,null,"",null,"","","","","","","",""]
[53,null,{"$f":"IF(G66='Offre NEW'!$T$5,\"EQ Eng\",IF(G66='Offre NEW'!$T$6,\"Buy & Sell\",IF(G66='Offre NEW'!$T$7,\"Services or Spares\",IF(G66='Offre NEW'!$T$8,\"Packing or Transport\",IF(G66=1.5,\"Eng or Project Mgmt\",\"\")))))","v":""},null,null,"",null,"","","","","","","",""]
[54,null,{"$f":"IF(G67='Offre NEW'!$T$5,\"EQ Eng\",IF(G67='Offre NEW'!$T$6,\"Buy & Sell\",IF(G67='Offre NEW'!$T$7,\"Services or Spares\",IF(G67='Offre NEW'!$T$8,\"Packing or Transport\",IF(G67=1.5,\"Eng or Project Mgmt\",\"\")))))","v":""},null,null,"",null,"","","","","","","",""]
[55,null,{"$f":"IF(G68='Offre NEW'!$T$5,\"EQ Eng\",IF(G68='Offre NEW'!$T$6,\"Buy & Sell\",IF(G68='Offre NEW'!$T$7,\"Services or Spares\",IF(G68='Offre NEW'!$T$8,\"Packing or Transport\",IF(G68=1.5,\"Eng or Project Mgmt\",\"\")))))","v":""},null,null,"",null,"","","","","","","",""]
[56,null,{"$f":"IF(G69='Offre NEW'!$T$5,\"EQ Eng\",IF(G69='Offre NEW'!$T$6,\"Buy & Sell\",IF(G69='Offre NEW'!$T$7,\"Services or Spares\",IF(G69='Offre NEW'!$T$8,\"Packing or Transport\",IF(G69=1.5,\"Eng or Project Mgmt\",\"\")))))","v":""},null,null,"",null,"","","","","","","",""]
[57,null,{"$f":"IF(G70='Offre NEW'!$T$5,\"EQ Eng\",IF(G70='Offre NEW'!$T$6,\"Buy & Sell\",IF(G70='Offre NEW'!$T$7,\"Services or Spares\",IF(G70='Offre NEW'!$T$8,\"Packing or Transport\",IF(G70=1.5,\"Eng or Project Mgmt\",\"\")))))","v":""},null,null,"",null,"","","","","","","",""]
[58,null,{"$f":"IF(G71='Offre NEW'!$T$5,\"EQ Eng\",IF(G71='Offre NEW'!$T$6,\"Buy & Sell\",IF(G71='Offre NEW'!$T$7,\"Services or Spares\",IF(G71='Offre NEW'!$T$8,\"Packing or Transport\",IF(G71=1.5,\"Eng or Project Mgmt\",\"\")))))","v":""},null,null,"",null,"","","","","","","",""]
[59,null,{"$f":"IF(G72='Offre NEW'!$T$5,\"EQ Eng\",IF(G72='Offre NEW'!$T$6,\"Buy & Sell\",IF(G72='Offre NEW'!$T$7,\"Services or Spares\",IF(G72='Offre NEW'!$T$8,\"Packing or Transport\",IF(G72=1.5,\"Eng or Project Mgmt\",\"\")))))","v":""},null,null,"",null,"","","","","","","",""]
[60,null,{"$f":"IF(G73='Offre NEW'!$T$5,\"EQ Eng\",IF(G73='Offre NEW'!$T$6,\"Buy & Sell\",IF(G73='Offre NEW'!$T$7,\"Services or Spares\",IF(G73='Offre NEW'!$T$8,\"Packing or Transport\",IF(G73=1.5,\"Eng or Project Mgmt\",\"\")))))","v":""},null,null,"",null,"","","","","","","",""]
[61,null,{"$f":"IF(G74='Offre NEW'!$T$5,\"EQ Eng\",IF(G74='Offre NEW'!$T$6,\"Buy & Sell\",IF(G74='Offre NEW'!$T$7,\"Services or Spares\",IF(G74='Offre NEW'!$T$8,\"Packing or Transport\",IF(G74=1.5,\"Eng or Project Mgmt\",\"\")))))","v":""},null,null,"",null,"","","","","","","",""]
[62,null,{"$f":"IF(G75='Offre NEW'!$T$5,\"EQ Eng\",IF(G75='Offre NEW'!$T$6,\"Buy & Sell\",IF(G75='Offre NEW'!$T$7,\"Services or Spares\",IF(G75='Offre NEW'!$T$8,\"Packing or Transport\",IF(G75=1.5,\"Eng or Project Mgmt\",\"\")))))","v":""},null,null,"",null,"","","","","","","",""]
[63,null,{"$f":"IF(G76='Offre NEW'!$T$5,\"EQ Eng\",IF(G76='Offre NEW'!$T$6,\"Buy & Sell\",IF(G76='Offre NEW'!$T$7,\"Services or Spares\",IF(G76='Offre NEW'!$T$8,\"Packing or Transport\",IF(G76=1.5,\"Eng or Project Mgmt\",\"\")))))","v":""},null,null,"",null,"","","","","","","",""]
[64,null,{"$f":"IF(G77='Offre NEW'!$T$5,\"EQ Eng\",IF(G77='Offre NEW'!$T$6,\"Buy & Sell\",IF(G77='Offre NEW'!$T$7,\"Services or Spares\",IF(G77='Offre NEW'!$T$8,\"Packing or Transport\",IF(G77=1.5,\"Eng or Project Mgmt\",\"\")))))","v":""},null,null,"",null,"","","","","","","",""]
[65,null,{"$f":"IF(G78='Offre NEW'!$T$5,\"EQ Eng\",IF(G78='Offre NEW'!$T$6,\"Buy & Sell\",IF(G78='Offre NEW'!$T$7,\"Services or Spares\",IF(G78='Offre NEW'!$T$8,\"Packing or Transport\",IF(G78=1.5,\"Eng or Project Mgmt\",\"\")))))","v":""},null,null,"",null,{"$f":"IF(D78=\"\",\"\",E78*G78)","v":""},"","","","","","",""]
[null,null,null,null,"CR:SOMME CR(€)",{"$f":"SUM(F14:F78)","v":129716.47330179026},null,"PV 100% Equipement",{"$f":"SUM(I14:I54)","v":229010.8435811956},null,"PV: TOTAL PV OFFRE ( €)",{"$f":"SUM(L14:L78)","v":229011},"C: total commission (€)",{"$f":"SUM(N14:N78)","v":0},{"$f":"SUM(O14:O78)","v":99294.526698209738},"M2:TOTAL Marge Brute PV CLIENT (€)"]
["SYNTHESE  - NE PAS MODIFIER",null,null,null,null,null,null,"PV 100% Options",{"$f":"SUM(I57:I66)","v":0},null,null,null,null,"K2: K global (PV/couts de revient comm comprise après remise)",{"$f":"L79/(F79+N79)","v":1.7654735298515039}]
["PV: Prix de vente total projet (€)",null,null,null,null,null,null,"PV 100% Services",{"$f":"SUM(I69:I78)","v":0}]
["CR: Cout de revient total projet (€)","K1: PV/CR"]
["(PV-CR) Marge 1 (€ )",{"$f":"L79-F79","v":99294.526698209738}]
["C: Total Commission (€)",{"$f":"N79","v":0}]
["% comm","K2: PV/(CR+C)"]
["(PV-CR-C) Marge 2 (€ )",{"$f":"B83-B84","v":99294.526698209738}]
[]
[null,null,null,null,null,null,null,null,null,null,null,"  "]
[]
[]
[]
[]
[]
[]
[]
[]
[]
[]
[]
[]
[]
[]
[]
[]
[]
[]
[]
[]
[]
[]
[]
[]
[]
[]
[]
[]
[]
[]
[]
[]
[]
[]
[]
[]
[]
[]
[]
[]
[]
[]
[]
[]
[]
[]
[]
[]
[]
[]
[]
[]
[]
[]
[null,null,null,null,null,null,null,null,null,null,null,null,null,null,null,null,null,null,null,null,null,null,null,null,null,null,null,null,{"$cut":{"chars":30152,"head":"1.\tGENERAL POINTS\n1.1.\tCommercial relations between HASLER GROUP, or one of its subsidiaries representing it (‘Supplier’), and the buyer, referred to as the “Customer”, shall be governed by these General Terms and Conditions of Sale. They constitute the sole basis of any commercial negotiation and shall apply to all points which are not regulated in another manner in writing by mutual Agreement. Customer terms and conditions of Purchase which contradict these General Terms and Conditions of Sale shall only be valid if the Supplier has agreed to them in writing.\n1.2.\tDeviations/additions to these General Terms and Conditions of Sale shall only be valid if the Supplier has expressly accepted them in writing.\n1.3.\tOffers which do not mention a validity period shall be non-binding. Once the validity period has expired, the Supplier reserves the right to accept or not any order. \n1.4.\tThe ‘Agreement’ consists of the documents listed below which shall prevail over each other in the following order of priority:\n- an Agreement signed by both the Customer and the Supplier or the order and its acceptance signed by the Supplier with its comments (if required);\n- any specific and/or additional special Terms and Conditions of Sale agreed by the Customer and the Supplier;\n- these General Terms and Conditions of Sale, which form an integral part of the Agreement.\n1.5. \t‘Works’, specified in the Agreement, consist of the ‘Equipment’ to be delivered (materials, products, equipment, etc.) and the ‘Services’ to be provided (assembly, supervision, commissioning, repair, upgrade, maintenance, etc.) in accordance with Agreement requirements.\n1.6.\tThe Supplier shall be free to subcontract all or part of the Equipment and Services under the Agreement.\n1.7.\tThe Customer shall refrain from any action or practice with a view to hiring the Supplier’s employees.\t\n1.8.\tIf any provision of the Agreement is deemed invalid or unenforceable in whole or in part by a competent authority, the validity of the other provisions of the Agreement and the rest of the provision in question shall not be affected.\n1.9.\tThe headings in these General Terms and Conditions of Sale are indicative and do not affect the content of the relevant provisions.\n2.\tAGREEMENT AND EFFECTIVE DATE\n2.1.\tThe Agreement shall enter into effect when the last of the following events occurs (‘Effective Date’):\n- Agreement signature by the Supplier and the Customer; \n- receipt by the Supplier of a down payment as provided for in the Agreement or, failing that, receipt by the Customer of the formal acceptance of the order signed by the Supplier;\n- receipt by the Supplier of an irrevocable and confirmed letter of credit acceptable by the Supplier, or receipt of any other payment guarantee by the Supplier (stand-by letter of credit or other, to be agreed by the Supplier).\n2.2.\tUnless otherwise indicated in the special conditions of sale, the Effective Date shall constitute the date of the beginning of the Supplier’s contractual obligations and the delivery lead time and schedules specified, if applicable, in the Agreement for Equipment, spare parts, and Service provision.\n2.3.\tIf more than thirty (30) days pass after the Agreement’s signature without the occurrence of the Effective Date, the Supplier may modify the aforementioned schedules.\n3.\tORDER, ORDER CONFIRMATION\n3.1.\tUnless there are justified exceptions, the Supplier shall confirm orders in writing. \nThe terms of the written order confirmation shall be the exclusive reference for payment terms, the delivery time, the contents of the delivery, and the scope of the Services, and shall include, where applicable, reservations on the Customer order (HASLER EQ23 document).\n3.2.\tOrder changes, as well as oral Agreements shall only be valid if the Supplier has confirmed them in writing to the Customer.\n3.3.\tThe Supplier shall be authorised to make changes bringing improvements at any time as long as they do not hinder the guaranteed performance and do not result in an increase in the price for the Customer.\n3.4.\tThe submission of an order signe"}},null,null,null,null,null,null,null,null,null,null,null,null,null,null,null,null,null,null,null,null,null,null,null,null,null,null,null,null,null,{"$cut":{"chars":32369,"head":"1.\tGENERALITES\n1.1.\tLes relations commerciales entre la société HASLER GROUP, ou l’une de ses filiales la représentant, nommée « le Fournisseur » par la suite, et l’acheteur, dénommé « le Client », sont régies par les présentes Conditions Générales de Vente. Celles-ci constituent le socle unique de toute négociation commerciale, et s’appliquent à tous les points qui ne sont pas réglementés d’une autre manière par écrit selon accord réciproque. Des conditions du Client qui sont en contradiction avec ces Conditions Générales de Vente ne sont valables que si le Fournisseur s’est déclaré par écrit d’accord avec elles.\n1.2.\tDes divergences / compléments à ces Conditions Générales de Vente ne sont valables que si le Fournisseur les a acceptés expressément et par écrit.\n1.3.\tLes offres qui ne mentionnent pas de délai de validité sont sans engagement. Une fois le délai de validité écoulé, le Fournisseur se réserve le droit d’accepter ou non toute commande s’y référant.\n1.4.\t« Le Contrat » est constitué des documents énumérés ci-après et prévalant les uns sur les autres dans l'ordre de priorité suivant :\n-\tun accord signé par le Client et le Fournisseur, ou la commande et son acceptation signées par le Fournisseur avec ses commentaires éventuels ;\n-\ttoutes conditions de vente spécifiques et / ou spéciales complémentaires convenues par le Client et le Fournisseur ;\n-\tles présentes Conditions Générales de Vente, qui font partie intégrante du Contrat.\n1.5. \t« Les Travaux », précisés dans le Contrat, sont constitués de « l’Équipement » à livrer (matériaux, produits, équipements, …) et des « Services » à exécuter (Travaux de montage, supervision, mise en service, réparation, mise à niveau, maintenance, …) conformément aux exigences du Contrat.\n1.6.\tLe Fournisseur est libre de sous-traiter tout ou partie de l’équipement et des services du Contrat.\n1.7.\tLe Client s’abstiendra de toute action ou pratique en vue d’embaucher du personnel du Fournisseur.\t\n1.8.\tSi une disposition du Contrat est jugée invalide ou inapplicable par une autorité compétente, en tout ou en partie, la validité des autres dispositions du Contrat et le reste de la disposition en question n’en seront pas affectés.\n1.9.\tLes titres des présentes Conditions Générale de Vente sont indicatifs et n’affectent pas le contenu des clauses pertinentes.\n2.\tCONTRAT ET DATE D’ENTREE EN VIGUEUR\n2.1.\tLe Contrat entrera en vigueur lorsque le dernier des événements suivants se produira (« Date d'entrée en vigueur ») :\n-\tsignature du Contrat par le Fournisseur et le Client \n-\tréception par le Fournisseur d'un acompte tel que prévu au Contrat, ou par défaut, réception par le Client de l'acceptation formelle de la commande signée par le Fournisseur\n-\tréception par le Fournisseur d'un crédit documentaire irrévocable et confirmé acceptable par le Fournisseur, ou réception de toute autre garantie de paiement par le Fournisseur (lettre de crédit stand-by ou autre, à convenir par le Fournisseur)\n2.2.\tSauf indication contraire dans les conditions particulières de vente, la Date d'entrée en vigueur constituera la date de début des obligations contractuelles du Fournisseur et du délai de livraison et des calendriers spécifiés le cas échéant dans le Contrat de l'Équipement, des pièces de rechange et des prestations de Service.\n2.3.\tS'il devait y avoir plus de trente (30) jours après la signature du Contrat sans occurrence de la date d'entrée en vigueur, le Fournisseur aurait le droit de modifier les calendriers susmentionnés.\n3.\tCOMMANDE, CONFIRMATION DE COMMANDE\n3.1.\tSauf exception justifiée, le Fournisseur confirme les commandes par écrit. \nLes termes de la confirmation de commande écrite sont la référence exclusive pour les termes de paiement, le délai, le contenu de la livraison et l’étendue des prestations, et intègrent, le cas échéant, des réserves sur la commande du Client (document HASLER EQ23).\n3.2.\tDes modifications de commande, ainsi que des accords oraux ne sont valables que si le Fournisseur les a confirmés par écrit au Client.\n3.3.\tLe Fournisseur est autorisé à procéder en tout temps"}}]

{"sheet":"TRANSFERT pour recap ASM","index":54,"n_rows":79,"n_cols":11,"rows_kept":79,"cut":false,"hidden":false,"merged":[[9,7,9,8],[0,1,0,4],[1,1,1,4],[2,1,2,4],[3,1,3,4],[4,1,4,4],[5,1,5,4],[6,1,6,4],[7,5,7,6],[7,1,7,4],[8,1,8,4],[9,4,9,5]]}
["Customer Name",{"$f":"'récap interne pour DIRECTION'!B1:E1","v":"CARESTER"}]
["Project Name",{"$f":"'récap interne pour DIRECTION'!B2:F2","v":"CAREMAG"},null,null,null,"CAT VENTE","Somme PV price list (€)"]
["RFQ date",{"$f":"'récap interne pour DIRECTION'!B4:F4","v":"2025-04-25"},null,null,null,"EQ Eng",{"$f":"SUMIF($C$12:$C$76,\"=EQ Eng\",F12:F76)","v":229010.8435811956}]
["HASLER GROUP File n°",{"$f":"'récap interne pour DIRECTION'!B5","v":0},null,null,null,"Buy & Sell",{"$f":"SUMIF(C12:C76,\"=Buy & Sell\",F12:F76)","v":0}]
["Quote Rev number",{"$f":"'récap interne pour DIRECTION'!B6:F6","v":"726789_03rev4"},null,null,null,"Spares / Services",{"$f":"SUMIF(C12:C76,\"=Services or Spares\",F12:F76)","v":0}]
["SENT BY AE (DD/MM/YY)",{"$f":"'récap interne pour DIRECTION'!B8:F8","v":"2025-04-25"},null,null,null,"Engineering / Project Management",{"$f":"SUMIF(C12:C76,\"=Eng or Project Mgmt\",F12:F76)","v":0}]
["INCOTERM (code / nom du lieu)",{"$f":"'récap interne pour DIRECTION'!B9&\" \"&'récap interne pour DIRECTION'!D9","v":"DAP Lacq"},null,null,null,"Packing / Transport",{"$f":"SUMIF(C13:C77,\"=Packing or Transport\",F13:F77)","v":0}]
["DELIVERY TIME - EXW le Mele (Months)",{"$f":"'récap interne pour DIRECTION'!B10","v":52},null,null,null,"POUR ESTIMATION PV% PAR ASM"]
[{"$f":"'récap interne pour DIRECTION'!A11","v":"Type d'offre"},{"$f":"'récap interne pour DIRECTION'!B11:F11","v":"Budget"}]
[null,null,null,null,"NE PAS MODIFIER",null,null,"NE PAS MODIFIER"]
["Item","Decription","Type de pièce","Quantité d'items","Prix PRICE LIST unitaire (€)","Prix PRICE LIST Total  (€)","% DU PRIX VENTE PRICE LIST","PVUnit CLIENT (€)","Pvtotal CLIENT  (€)","Commission (%)","Commission (€)"]
[{"$f":"'récap interne pour DIRECTION'!A14","v":1},{"$f":"IF(D12=\"\",\"\",'récap interne pour DIRECTION'!B14)","v":"Filter"},{"$f":"'récap interne pour DIRECTION'!C14","v":"EQ Eng"},{"$f":"IF('récap interne pour DIRECTION'!D14=\"\",\"\",'récap interne pour DIRECTION'!D14)","v":1},{"$f":"'récap interne pour DIRECTION'!H14","v":229010.8435811956},{"$f":"IF(D12=\"\",\"\",E12*D12)","v":229010.8435811956},{"$f":"'récap interne pour DIRECTION'!J14","v":1},{"$f":"IF(E12=\"\",\"\",ROUND(G12*E12,))","v":229011},{"$f":"IF(D12=\"\",\"\",H12*D12)","v":229011},{"$f":"'récap interne pour DIRECTION'!M14","v":0},{"$f":"IF(I12=\"\",\"\",ROUND(J12*I12,))","v":0}]
[{"$f":"'récap interne pour DIRECTION'!A15","v":2},{"$f":"IF(D13=\"\",\"\",'récap interne pour DIRECTION'!B15)","v":""},{"$f":"'récap interne pour DIRECTION'!C15","v":""},{"$f":"IF('récap interne pour DIRECTION'!D15=\"\",\"\",'récap interne pour DIRECTION'!D15)","v":""},{"$f":"'récap interne pour DIRECTION'!H15","v":""},"",{"$f":"'récap interne pour DIRECTION'!J15","v":""},{"$f":"IF(E13=\"\",\"\",ROUND(G13*E13,))","v":""},"",{"$f":"'récap interne pour DIRECTION'!M15","v":""},""]
[{"$f":"'récap interne pour DIRECTION'!A16","v":3},{"$f":"IF(D14=\"\",\"\",'récap interne pour DIRECTION'!B16)","v":""},{"$f":"'récap interne pour DIRECTION'!C16","v":""},{"$f":"IF('récap interne pour DIRECTION'!D16=\"\",\"\",'récap interne pour DIRECTION'!D16)","v":""},{"$f":"'récap interne pour DIRECTION'!H16","v":""},"",{"$f":"'récap interne pour DIRECTION'!J16","v":""},"","",{"$f":"'récap interne pour DIRECTION'!M16","v":""},""]
[{"$f":"'récap interne pour DIRECTION'!A17","v":4},{"$f":"IF(D15=\"\",\"\",'récap interne pour DIRECTION'!B17)","v":""},{"$f":"'récap interne pour DIRECTION'!C17","v":""},{"$f":"IF('récap interne pour DIRECTION'!D17=\"\",\"\",'récap interne pour DIRECTION'!D17)","v":""},{"$f":"'récap interne pour DIRECTION'!H17","v":""},"",{"$f":"'récap interne pour DIRECTION'!J17","v":""},"","",{"$f":"'récap interne pour DIRECTION'!M17","v":""},""]
[{"$f":"'récap interne pour DIRECTION'!A18","v":5},{"$f":"IF(D16=\"\",\"\",'récap interne pour DIRECTION'!B18)","v":""},{"$f":"'récap interne pour DIRECTION'!C18","v":""},{"$f":"IF('récap interne pour DIRECTION'!D18=\"\",\"\",'récap interne pour DIRECTION'!D18)","v":""},{"$f":"'récap interne pour DIRECTION'!H18","v":""},"",{"$f":"'récap interne pour DIRECTION'!J18","v":""},"","",{"$f":"'récap interne pour DIRECTION'!M18","v":""},""]
[{"$f":"'récap interne pour DIRECTION'!A19","v":6},{"$f":"IF(D17=\"\",\"\",'récap interne pour DIRECTION'!B19)","v":""},{"$f":"'récap interne pour DIRECTION'!C19","v":""},{"$f":"IF('récap interne pour DIRECTION'!D19=\"\",\"\",'récap interne pour DIRECTION'!D19)","v":""},{"$f":"'récap interne pour DIRECTION'!H19","v":""},"",{"$f":"'récap interne pour DIRECTION'!J19","v":""},"","",{"$f":"'récap interne pour DIRECTION'!M19","v":""},""]
[{"$f":"'récap interne pour DIRECTION'!A20","v":7},{"$f":"IF(D18=\"\",\"\",'récap interne pour DIRECTION'!B20)","v":""},{"$f":"'récap interne pour DIRECTION'!C20","v":""},{"$f":"IF('récap interne pour DIRECTION'!D20=\"\",\"\",'récap interne pour DIRECTION'!D20)","v":""},{"$f":"'récap interne pour DIRECTION'!H20","v":""},"",{"$f":"'récap interne pour DIRECTION'!J20","v":""},"","",{"$f":"'récap interne pour DIRECTION'!M20","v":""},""]
[{"$f":"'récap interne pour DIRECTION'!A21","v":8},{"$f":"IF(D19=\"\",\"\",'récap interne pour DIRECTION'!B21)","v":""},{"$f":"'récap interne pour DIRECTION'!C21","v":""},{"$f":"IF('récap interne pour DIRECTION'!D21=\"\",\"\",'récap interne pour DIRECTION'!D21)","v":""},{"$f":"'récap interne pour DIRECTION'!H21","v":""},"",{"$f":"'récap interne pour DIRECTION'!J21","v":""},"","",{"$f":"'récap interne pour DIRECTION'!M21","v":""},""]
[{"$f":"'récap interne pour DIRECTION'!A22","v":9},{"$f":"IF(D20=\"\",\"\",'récap interne pour DIRECTION'!B22)","v":""},{"$f":"'récap interne pour DIRECTION'!C22","v":""},{"$f":"IF('récap interne pour DIRECTION'!D22=\"\",\"\",'récap interne pour DIRECTION'!D22)","v":""},{"$f":"'récap interne pour DIRECTION'!H22","v":""},"",{"$f":"'récap interne pour DIRECTION'!J22","v":""},"","",{"$f":"'récap interne pour DIRECTION'!M22","v":""},""]
[{"$f":"'récap interne pour DIRECTION'!A23","v":10},{"$f":"IF(D21=\"\",\"\",'récap interne pour DIRECTION'!B23)","v":""},{"$f":"'récap interne pour DIRECTION'!C23","v":""},{"$f":"IF('récap interne pour DIRECTION'!D23=\"\",\"\",'récap interne pour DIRECTION'!D23)","v":""},{"$f":"'récap interne pour DIRECTION'!H23","v":""},"",{"$f":"'récap interne pour DIRECTION'!J23","v":""},"","",{"$f":"'récap interne pour DIRECTION'!M23","v":""},""]
[{"$f":"'récap interne pour DIRECTION'!A24","v":11},{"$f":"IF(D22=\"\",\"\",'récap interne pour DIRECTION'!B24)","v":""},{"$f":"'récap interne pour DIRECTION'!C24","v":""},{"$f":"IF('récap interne pour DIRECTION'!D24=\"\",\"\",'récap interne pour DIRECTION'!D24)","v":""},{"$f":"'récap interne pour DIRECTION'!H24","v":""},"",{"$f":"'récap interne pour DIRECTION'!J24","v":""},"","",{"$f":"'récap interne pour DIRECTION'!M24","v":""},""]
[{"$f":"'récap interne pour DIRECTION'!A25","v":12},{"$f":"IF(D23=\"\",\"\",'récap interne pour DIRECTION'!B25)","v":""},{"$f":"'récap interne pour DIRECTION'!C25","v":""},{"$f":"IF('récap interne pour DIRECTION'!D25=\"\",\"\",'récap interne pour DIRECTION'!D25)","v":""},{"$f":"'récap interne pour DIRECTION'!H25","v":""},"",{"$f":"'récap interne pour DIRECTION'!J25","v":""},"","",{"$f":"'récap interne pour DIRECTION'!M25","v":""},""]
[{"$f":"'récap interne pour DIRECTION'!A26","v":13},{"$f":"IF(D24=\"\",\"\",'récap interne pour DIRECTION'!B26)","v":""},{"$f":"'récap interne pour DIRECTION'!C26","v":""},{"$f":"IF('récap interne pour DIRECTION'!D26=\"\",\"\",'récap interne pour DIRECTION'!D26)","v":""},{"$f":"'récap interne pour DIRECTION'!H26","v":""},"",{"$f":"'récap interne pour DIRECTION'!J26","v":""},"","",{"$f":"'récap interne pour DIRECTION'!M26","v":""},""]
[{"$f":"'récap interne pour DIRECTION'!A27","v":14},{"$f":"IF(D25=\"\",\"\",'récap interne pour DIRECTION'!B27)","v":""},{"$f":"'récap interne pour DIRECTION'!C27","v":""},{"$f":"IF('récap interne pour DIRECTION'!D27=\"\",\"\",'récap interne pour DIRECTION'!D27)","v":""},{"$f":"'récap interne pour DIRECTION'!H27","v":""},"",{"$f":"'récap interne pour DIRECTION'!J27","v":""},"","",{"$f":"'récap interne pour DIRECTION'!M27","v":""},""]
[{"$f":"'récap interne pour DIRECTION'!A28","v":15},{"$f":"IF(D26=\"\",\"\",'récap interne pour DIRECTION'!B28)","v":""},{"$f":"'récap interne pour DIRECTION'!C28","v":""},{"$f":"IF('récap interne pour DIRECTION'!D28=\"\",\"\",'récap interne pour DIRECTION'!D28)","v":""},{"$f":"'récap interne pour DIRECTION'!H28","v":""},"",{"$f":"'récap interne pour DIRECTION'!J28","v":""},"","",{"$f":"'récap interne pour DIRECTION'!M28","v":""},""]
[{"$f":"'récap interne pour DIRECTION'!A29","v":16},{"$f":"IF(D27=\"\",\"\",'récap interne pour DIRECTION'!B29)","v":""},{"$f":"'récap interne pour DIRECTION'!C29","v":""},{"$f":"IF('récap interne pour DIRECTION'!D29=\"\",\"\",'récap interne pour DIRECTION'!D29)","v":""},{"$f":"'récap interne pour DIRECTION'!H29","v":""},"",{"$f":"'récap interne pour DIRECTION'!J29","v":""},"","",{"$f":"'récap interne pour DIRECTION'!M29","v":""},""]
[{"$f":"'récap interne pour DIRECTION'!A30","v":17},{"$f":"IF(D28=\"\",\"\",'récap interne pour DIRECTION'!B30)","v":""},{"$f":"'récap interne pour DIRECTION'!C30","v":""},{"$f":"IF('récap interne pour DIRECTION'!D30=\"\",\"\",'récap interne pour DIRECTION'!D30)","v":""},{"$f":"'récap interne pour DIRECTION'!H30","v":""},"",{"$f":"'récap interne pour DIRECTION'!J30","v":""},"","",{"$f":"'récap interne pour DIRECTION'!M30","v":""},""]
[{"$f":"'récap interne pour DIRECTION'!A31","v":18},{"$f":"IF(D29=\"\",\"\",'récap interne pour DIRECTION'!B31)","v":""},{"$f":"'récap interne pour DIRECTION'!C31","v":""},{"$f":"IF('récap interne pour DIRECTION'!D31=\"\",\"\",'récap interne pour DIRECTION'!D31)","v":""},{"$f":"'récap interne pour DIRECTION'!H31","v":""},"",{"$f":"'récap interne pour DIRECTION'!J31","v":""},"","",{"$f":"'récap interne pour DIRECTION'!M31","v":""},""]
[{"$f":"'récap interne pour DIRECTION'!A32","v":19},{"$f":"IF(D30=\"\",\"\",'récap interne pour DIRECTION'!B32)","v":""},{"$f":"'récap interne pour DIRECTION'!C32","v":""},{"$f":"IF('récap interne pour DIRECTION'!D32=\"\",\"\",'récap interne pour DIRECTION'!D32)","v":""},{"$f":"'récap interne pour DIRECTION'!H32","v":""},"",{"$f":"'récap interne pour DIRECTION'!J32","v":""},"","",{"$f":"'récap interne pour DIRECTION'!M32","v":""},""]
[{"$f":"'récap interne pour DIRECTION'!A33","v":20},{"$f":"IF(D31=\"\",\"\",'récap interne pour DIRECTION'!B33)","v":""},{"$f":"'récap interne pour DIRECTION'!C33","v":""},{"$f":"IF('récap interne pour DIRECTION'!D33=\"\",\"\",'récap interne pour DIRECTION'!D33)","v":""},{"$f":"'récap interne pour DIRECTION'!H33","v":""},"",{"$f":"'récap interne pour DIRECTION'!J33","v":""},"","",{"$f":"'récap interne pour DIRECTION'!M33","v":""},""]
[{"$f":"'récap interne pour DIRECTION'!A34","v":21},{"$f":"IF(D32=\"\",\"\",'récap interne pour DIRECTION'!B34)","v":""},{"$f":"'récap interne pour DIRECTION'!C34","v":""},{"$f":"IF('récap interne pour DIRECTION'!D34=\"\",\"\",'récap interne pour DIRECTION'!D34)","v":""},{"$f":"'récap interne pour DIRECTION'!H34","v":""},"",{"$f":"'récap interne pour DIRECTION'!J34","v":""},"","",{"$f":"'récap interne pour DIRECTION'!M34","v":""},""]
[{"$f":"'récap interne pour DIRECTION'!A35","v":22},{"$f":"IF(D33=\"\",\"\",'récap interne pour DIRECTION'!B35)","v":""},{"$f":"'récap interne pour DIRECTION'!C35","v":""},{"$f":"IF('récap interne pour DIRECTION'!D35=\"\",\"\",'récap interne pour DIRECTION'!D35)","v":""},{"$f":"'récap interne pour DIRECTION'!H35","v":""},"",{"$f":"'récap interne pour DIRECTION'!J35","v":""},"","",{"$f":"'récap interne pour DIRECTION'!M35","v":""},""]
[{"$f":"'récap interne pour DIRECTION'!A36","v":23},{"$f":"IF(D34=\"\",\"\",'récap interne pour DIRECTION'!B36)","v":""},{"$f":"'récap interne pour DIRECTION'!C36","v":""},{"$f":"IF('récap interne pour DIRECTION'!D36=\"\",\"\",'récap interne pour DIRECTION'!D36)","v":""},{"$f":"'récap interne pour DIRECTION'!H36","v":""},"",{"$f":"'récap interne pour DIRECTION'!J36","v":""},"","",{"$f":"'récap interne pour DIRECTION'!M36","v":""},""]
[{"$f":"'récap interne pour DIRECTION'!A37","v":24},{"$f":"IF(D35=\"\",\"\",'récap interne pour DIRECTION'!B37)","v":""},{"$f":"'récap interne pour DIRECTION'!C37","v":""},{"$f":"IF('récap interne pour DIRECTION'!D37=\"\",\"\",'récap interne pour DIRECTION'!D37)","v":""},{"$f":"'récap interne pour DIRECTION'!H37","v":""},"",{"$f":"'récap interne pour DIRECTION'!J37","v":""},"","",{"$f":"'récap interne pour DIRECTION'!M37","v":""},""]
[{"$f":"'récap interne pour DIRECTION'!A38","v":25},{"$f":"IF(D36=\"\",\"\",'récap interne pour DIRECTION'!B38)","v":""},{"$f":"'récap interne pour DIRECTION'!C38","v":""},{"$f":"IF('récap interne pour DIRECTION'!D38=\"\",\"\",'récap interne pour DIRECTION'!D38)","v":""},{"$f":"'récap interne pour DIRECTION'!H38","v":""},"",{"$f":"'récap interne pour DIRECTION'!J38","v":""},"","",{"$f":"'récap interne pour DIRECTION'!M38","v":""},""]
[{"$f":"'récap interne pour DIRECTION'!A39","v":26},{"$f":"IF(D37=\"\",\"\",'récap interne pour DIRECTION'!B39)","v":""},{"$f":"'récap interne pour DIRECTION'!C39","v":""},{"$f":"IF('récap interne pour DIRECTION'!D39=\"\",\"\",'récap interne pour DIRECTION'!D39)","v":""},{"$f":"'récap interne pour DIRECTION'!H39","v":""},"",{"$f":"'récap interne pour DIRECTION'!J39","v":""},"","",{"$f":"'récap interne pour DIRECTION'!M39","v":""},""]
[{"$f":"'récap interne pour DIRECTION'!A40","v":27},{"$f":"IF(D38=\"\",\"\",'récap interne pour DIRECTION'!B40)","v":""},{"$f":"'récap interne pour DIRECTION'!C40","v":""},{"$f":"IF('récap interne pour DIRECTION'!D40=\"\",\"\",'récap interne pour DIRECTION'!D40)","v":""},{"$f":"'récap interne pour DIRECTION'!H40","v":""},"",{"$f":"'récap interne pour DIRECTION'!J40","v":""},"","",{"$f":"'récap interne pour DIRECTION'!M40","v":""},""]
[{"$f":"'récap interne pour DIRECTION'!A41","v":28},{"$f":"IF(D39=\"\",\"\",'récap interne pour DIRECTION'!B41)","v":""},{"$f":"'récap interne pour DIRECTION'!C41","v":""},{"$f":"IF('récap interne pour DIRECTION'!D41=\"\",\"\",'récap interne pour DIRECTION'!D41)","v":""},{"$f":"'récap interne pour DIRECTION'!H41","v":""},"",{"$f":"'récap interne pour DIRECTION'!J41","v":""},"","",{"$f":"'récap interne pour DIRECTION'!M41","v":""},""]
[{"$f":"'récap interne pour DIRECTION'!A42","v":29},{"$f":"IF(D40=\"\",\"\",'récap interne pour DIRECTION'!B42)","v":""},{"$f":"'récap interne pour DIRECTION'!C42","v":""},{"$f":"IF('récap interne pour DIRECTION'!D42=\"\",\"\",'récap interne pour DIRECTION'!D42)","v":""},{"$f":"'récap interne pour DIRECTION'!H42","v":""},"",{"$f":"'récap interne pour DIRECTION'!J42","v":""},"","",{"$f":"'récap interne pour DIRECTION'!M42","v":""},""]
[{"$f":"'récap interne pour DIRECTION'!A43","v":30},{"$f":"IF(D41=\"\",\"\",'récap interne pour DIRECTION'!B43)","v":""},{"$f":"'récap interne pour DIRECTION'!C43","v":""},{"$f":"IF('récap interne pour DIRECTION'!D43=\"\",\"\",'récap interne pour DIRECTION'!D43)","v":""},{"$f":"'récap interne pour DIRECTION'!H43","v":""},"",{"$f":"'récap interne pour DIRECTION'!J43","v":""},"","",{"$f":"'récap interne pour DIRECTION'!M43","v":""},""]
[{"$f":"'récap interne pour DIRECTION'!A44","v":31},{"$f":"IF(D42=\"\",\"\",'récap interne pour DIRECTION'!B44)","v":""},{"$f":"'récap interne pour DIRECTION'!C44","v":""},{"$f":"IF('récap interne pour DIRECTION'!D44=\"\",\"\",'récap interne pour DIRECTION'!D44)","v":""},{"$f":"'récap interne pour DIRECTION'!H44","v":""},"",{"$f":"'récap interne pour DIRECTION'!J44","v":""},"","",{"$f":"'récap interne pour DIRECTION'!M44","v":""},""]
[{"$f":"'récap interne pour DIRECTION'!A45","v":32},{"$f":"IF(D43=\"\",\"\",'récap interne pour DIRECTION'!B45)","v":""},{"$f":"'récap interne pour DIRECTION'!C45","v":""},{"$f":"IF('récap interne pour DIRECTION'!D45=\"\",\"\",'récap interne pour DIRECTION'!D45)","v":""},{"$f":"'récap interne pour DIRECTION'!H45","v":""},"",{"$f":"'récap interne pour DIRECTION'!J45","v":""},"","",{"$f":"'récap interne pour DIRECTION'!M45","v":""},""]
[{"$f":"'récap interne pour DIRECTION'!A46","v":33},{"$f":"IF(D44=\"\",\"\",'récap interne pour DIRECTION'!B46)","v":""},{"$f":"'récap interne pour DIRECTION'!C46","v":""},{"$f":"IF('récap interne pour DIRECTION'!D46=\"\",\"\",'récap interne pour DIRECTION'!D46)","v":""},{"$f":"'récap interne pour DIRECTION'!H46","v":""},"",{"$f":"'récap interne pour DIRECTION'!J46","v":""},"","",{"$f":"'récap interne pour DIRECTION'!M46","v":""},""]
[{"$f":"'récap interne pour DIRECTION'!A47","v":34},{"$f":"IF(D45=\"\",\"\",'récap interne pour DIRECTION'!B47)","v":""},{"$f":"'récap interne pour DIRECTION'!C47","v":""},{"$f":"IF('récap interne pour DIRECTION'!D47=\"\",\"\",'récap interne pour DIRECTION'!D47)","v":""},{"$f":"'récap interne pour DIRECTION'!H47","v":""},"",{"$f":"'récap interne pour DIRECTION'!J47","v":""},"","",{"$f":"'récap interne pour DIRECTION'!M47","v":""},""]
[{"$f":"'récap interne pour DIRECTION'!A48","v":35},{"$f":"IF(D46=\"\",\"\",'récap interne pour DIRECTION'!B48)","v":""},{"$f":"'récap interne pour DIRECTION'!C48","v":""},{"$f":"IF('récap interne pour DIRECTION'!D48=\"\",\"\",'récap interne pour DIRECTION'!D48)","v":""},{"$f":"'récap interne pour DIRECTION'!H48","v":""},"",{"$f":"'récap interne pour DIRECTION'!J48","v":""},"","",{"$f":"'récap interne pour DIRECTION'!M48","v":""},""]
[{"$f":"'récap interne pour DIRECTION'!A49","v":36},{"$f":"IF(D47=\"\",\"\",'récap interne pour DIRECTION'!B49)","v":""},{"$f":"'récap interne pour DIRECTION'!C49","v":""},{"$f":"IF('récap interne pour DIRECTION'!D49=\"\",\"\",'récap interne pour DIRECTION'!D49)","v":""},{"$f":"'récap interne pour DIRECTION'!H49","v":""},"",{"$f":"'récap interne pour DIRECTION'!J49","v":""},"","",{"$f":"'récap interne pour DIRECTION'!M49","v":""},""]
[{"$f":"'récap interne pour DIRECTION'!A50","v":37},{"$f":"IF(D48=\"\",\"\",'récap interne pour DIRECTION'!B50)","v":""},{"$f":"'récap interne pour DIRECTION'!C50","v":""},{"$f":"IF('récap interne pour DIRECTION'!D50=\"\",\"\",'récap interne pour DIRECTION'!D50)","v":""},{"$f":"'récap interne pour DIRECTION'!H50","v":""},"",{"$f":"'récap interne pour DIRECTION'!J50","v":""},"","",{"$f":"'récap interne pour DIRECTION'!M50","v":""},""]
[{"$f":"'récap interne pour DIRECTION'!A51","v":38},{"$f":"IF(D49=\"\",\"\",'récap interne pour DIRECTION'!B51)","v":""},{"$f":"'récap interne pour DIRECTION'!C51","v":""},{"$f":"IF('récap interne pour DIRECTION'!D51=\"\",\"\",'récap interne pour DIRECTION'!D51)","v":""},{"$f":"'récap interne pour DIRECTION'!H51","v":""},"",{"$f":"'récap interne pour DIRECTION'!J51","v":""},"","",{"$f":"'récap interne pour DIRECTION'!M51","v":""},""]
[{"$f":"'récap interne pour DIRECTION'!A52","v":39},{"$f":"IF(D50=\"\",\"\",'récap interne pour DIRECTION'!B52)","v":""},{"$f":"'récap interne pour DIRECTION'!C52","v":""},{"$f":"IF('récap interne pour DIRECTION'!D52=\"\",\"\",'récap interne pour DIRECTION'!D52)","v":""},{"$f":"'récap interne pour DIRECTION'!H52","v":""},"",{"$f":"'récap interne pour DIRECTION'!J52","v":""},"","",{"$f":"'récap interne pour DIRECTION'!M52","v":""},""]
[{"$f":"'récap interne pour DIRECTION'!A53","v":40},{"$f":"IF(D51=\"\",\"\",'récap interne pour DIRECTION'!B53)","v":""},{"$f":"'récap interne pour DIRECTION'!C53","v":""},{"$f":"IF('récap interne pour DIRECTION'!D53=\"\",\"\",'récap interne pour DIRECTION'!D53)","v":""},{"$f":"'récap interne pour DIRECTION'!H53","v":""},"",{"$f":"'récap interne pour DIRECTION'!J53","v":""},"","",{"$f":"'récap interne pour DIRECTION'!M53","v":""},""]
[{"$f":"'récap interne pour DIRECTION'!A54","v":41},{"$f":"IF(D52=\"\",\"\",'récap interne pour DIRECTION'!B54)","v":""},{"$f":"'récap interne pour DIRECTION'!C54","v":""},{"$f":"IF('récap interne pour DIRECTION'!D54=\"\",\"\",'récap interne pour DIRECTION'!D54)","v":""},{"$f":"'récap interne pour DIRECTION'!H54","v":""},"",{"$f":"'récap interne pour DIRECTION'!J54","v":""},"","",{"$f":"'récap interne pour DIRECTION'!M54","v":""},""]
[{"$f":"'récap interne pour DIRECTION'!A55","v":42},{"$f":"IF(D53=\"\",\"\",'récap interne pour DIRECTION'!B55)","v":""},{"$f":"'récap interne pour DIRECTION'!C55","v":""},{"$f":"IF('récap interne pour DIRECTION'!D55=\"\",\"\",'récap interne pour DIRECTION'!D55)","v":""},{"$f":"'récap interne pour DIRECTION'!H55","v":""},"",{"$f":"'récap interne pour DIRECTION'!J55","v":""},"","",{"$f":"'récap interne pour DIRECTION'!M55","v":""},""]
[{"$f":"'récap interne pour DIRECTION'!A56","v":43},{"$f":"IF(D54=\"\",\"\",'récap interne pour DIRECTION'!B56)","v":""},{"$f":"'récap interne pour DIRECTION'!C56","v":""},{"$f":"IF('récap interne pour DIRECTION'!D56=\"\",\"\",'récap interne pour DIRECTION'!D56)","v":""},{"$f":"'récap interne pour DIRECTION'!H56","v":""},"",{"$f":"'récap interne pour DIRECTION'!J56","v":""},"","",{"$f":"'récap interne pour DIRECTION'!M56","v":""},""]
[{"$f":"'récap interne pour DIRECTION'!A57","v":44},{"$f":"IF(D55=\"\",\"\",'récap interne pour DIRECTION'!B57)","v":""},{"$f":"'récap interne pour DIRECTION'!C57","v":""},{"$f":"IF('récap interne pour DIRECTION'!D57=\"\",\"\",'récap interne pour DIRECTION'!D57)","v":""},{"$f":"'récap interne pour DIRECTION'!H57","v":""},"",{"$f":"'récap interne pour DIRECTION'!J57","v":""},"","",{"$f":"'récap interne pour DIRECTION'!M57","v":""},""]
[{"$f":"'récap interne pour DIRECTION'!A58","v":45},{"$f":"IF(D56=\"\",\"\",'récap interne pour DIRECTION'!B58)","v":""},{"$f":"'récap interne pour DIRECTION'!C58","v":""},{"$f":"IF('récap interne pour DIRECTION'!D58=\"\",\"\",'récap interne pour DIRECTION'!D58)","v":""},{"$f":"'récap interne pour DIRECTION'!H58","v":""},"",{"$f":"'récap interne pour DIRECTION'!J58","v":""},"","",{"$f":"'récap interne pour DIRECTION'!M58","v":""},""]
[{"$f":"'récap interne pour DIRECTION'!A59","v":46},{"$f":"IF(D57=\"\",\"\",'récap interne pour DIRECTION'!B59)","v":""},{"$f":"'récap interne pour DIRECTION'!C59","v":""},{"$f":"IF('récap interne pour DIRECTION'!D59=\"\",\"\",'récap interne pour DIRECTION'!D59)","v":""},{"$f":"'récap interne pour DIRECTION'!H59","v":""},"",{"$f":"'récap interne pour DIRECTION'!J59","v":""},"","",{"$f":"'récap interne pour DIRECTION'!M59","v":""},""]
[{"$f":"'récap interne pour DIRECTION'!A60","v":47},{"$f":"IF(D58=\"\",\"\",'récap interne pour DIRECTION'!B60)","v":""},{"$f":"'récap interne pour DIRECTION'!C60","v":""},{"$f":"IF('récap interne pour DIRECTION'!D60=\"\",\"\",'récap interne pour DIRECTION'!D60)","v":""},{"$f":"'récap interne pour DIRECTION'!H60","v":""},"",{"$f":"'récap interne pour DIRECTION'!J60","v":""},"","",{"$f":"'récap interne pour DIRECTION'!M60","v":""},""]
[{"$f":"'récap interne pour DIRECTION'!A61","v":48},{"$f":"IF(D59=\"\",\"\",'récap interne pour DIRECTION'!B61)","v":""},{"$f":"'récap interne pour DIRECTION'!C61","v":""},{"$f":"IF('récap interne pour DIRECTION'!D61=\"\",\"\",'récap interne pour DIRECTION'!D61)","v":""},{"$f":"'récap interne pour DIRECTION'!H61","v":""},"",{"$f":"'récap interne pour DIRECTION'!J61","v":""},"","",{"$f":"'récap interne pour DIRECTION'!M61","v":""},""]
[{"$f":"'récap interne pour DIRECTION'!A62","v":49},{"$f":"IF(D60=\"\",\"\",'récap interne pour DIRECTION'!B62)","v":""},{"$f":"'récap interne pour DIRECTION'!C62","v":""},{"$f":"IF('récap interne pour DIRECTION'!D62=\"\",\"\",'récap interne pour DIRECTION'!D62)","v":""},{"$f":"'récap interne pour DIRECTION'!H62","v":""},"",{"$f":"'récap interne pour DIRECTION'!J62","v":""},"","",{"$f":"'récap interne pour DIRECTION'!M62","v":""},""]
[{"$f":"'récap interne pour DIRECTION'!A63","v":50},{"$f":"IF(D61=\"\",\"\",'récap interne pour DIRECTION'!B63)","v":""},{"$f":"'récap interne pour DIRECTION'!C63","v":""},{"$f":"IF('récap interne pour DIRECTION'!D63=\"\",\"\",'récap interne pour DIRECTION'!D63)","v":""},{"$f":"'récap interne pour DIRECTION'!H63","v":""},"",{"$f":"'récap interne pour DIRECTION'!J63","v":""},"","",{"$f":"'récap interne pour DIRECTION'!M63","v":""},""]
[{"$f":"'récap interne pour DIRECTION'!A64","v":51},{"$f":"IF(D62=\"\",\"\",'récap interne pour DIRECTION'!B64)","v":""},{"$f":"'récap interne pour DIRECTION'!C64","v":""},{"$f":"IF('récap interne pour DIRECTION'!D64=\"\",\"\",'récap interne pour DIRECTION'!D64)","v":""},{"$f":"'récap interne pour DIRECTION'!H64","v":""},"",{"$f":"'récap interne pour DIRECTION'!J64","v":""},"","",{"$f":"'récap interne pour DIRECTION'!M64","v":""},""]
[{"$f":"'récap interne pour DIRECTION'!A65","v":52},{"$f":"IF(D63=\"\",\"\",'récap interne pour DIRECTION'!B65)","v":""},{"$f":"'récap interne pour DIRECTION'!C65","v":""},{"$f":"IF('récap interne pour DIRECTION'!D65=\"\",\"\",'récap interne pour DIRECTION'!D65)","v":""},{"$f":"'récap interne pour DIRECTION'!H65","v":""},"",{"$f":"'récap interne pour DIRECTION'!J65","v":""},"","",{"$f":"'récap interne pour DIRECTION'!M65","v":""},""]
[{"$f":"'récap interne pour DIRECTION'!A66","v":53},{"$f":"IF(D64=\"\",\"\",'récap interne pour DIRECTION'!B66)","v":""},{"$f":"'récap interne pour DIRECTION'!C66","v":""},{"$f":"IF('récap interne pour DIRECTION'!D66=\"\",\"\",'récap interne pour DIRECTION'!D66)","v":""},{"$f":"'récap interne pour DIRECTION'!H66","v":""},"",{"$f":"'récap interne pour DIRECTION'!J66","v":""},"","",{"$f":"'récap interne pour DIRECTION'!M66","v":""},""]
[{"$f":"'récap interne pour DIRECTION'!A67","v":54},{"$f":"IF(D65=\"\",\"\",'récap interne pour DIRECTION'!B67)","v":""},{"$f":"'récap interne pour DIRECTION'!C67","v":""},{"$f":"IF('récap interne pour DIRECTION'!D67=\"\",\"\",'récap interne pour DIRECTION'!D67)","v":""},{"$f":"'récap interne pour DIRECTION'!H67","v":""},"",{"$f":"'récap interne pour DIRECTION'!J67","v":""},"","",{"$f":"'récap interne pour DIRECTION'!M67","v":""},""]
[{"$f":"'récap interne pour DIRECTION'!A68","v":55},{"$f":"IF(D66=\"\",\"\",'récap interne pour DIRECTION'!B68)","v":""},{"$f":"'récap interne pour DIRECTION'!C68","v":""},{"$f":"IF('récap interne pour DIRECTION'!D68=\"\",\"\",'récap interne pour DIRECTION'!D68)","v":""},{"$f":"'récap interne pour DIRECTION'!H68","v":""},"",{"$f":"'récap interne pour DIRECTION'!J68","v":""},"","",{"$f":"'récap interne pour DIRECTION'!M68","v":""},""]
[{"$f":"'récap interne pour DIRECTION'!A69","v":56},{"$f":"IF(D67=\"\",\"\",'récap interne pour DIRECTION'!B69)","v":""},{"$f":"'récap interne pour DIRECTION'!C69","v":""},{"$f":"IF('récap interne pour DIRECTION'!D69=\"\",\"\",'récap interne pour DIRECTION'!D69)","v":""},{"$f":"'récap interne pour DIRECTION'!H69","v":""},"",{"$f":"'récap interne pour DIRECTION'!J69","v":""},"","",{"$f":"'récap interne pour DIRECTION'!M69","v":""},""]
[{"$f":"'récap interne pour DIRECTION'!A70","v":57},{"$f":"IF(D68=\"\",\"\",'récap interne pour DIRECTION'!B70)","v":""},{"$f":"'récap interne pour DIRECTION'!C70","v":""},{"$f":"IF('récap interne pour DIRECTION'!D70=\"\",\"\",'récap interne pour DIRECTION'!D70)","v":""},{"$f":"'récap interne pour DIRECTION'!H70","v":""},"",{"$f":"'récap interne pour DIRECTION'!J70","v":""},"","",{"$f":"'récap interne pour DIRECTION'!M70","v":""},""]
[{"$f":"'récap interne pour DIRECTION'!A71","v":58},{"$f":"IF(D69=\"\",\"\",'récap interne pour DIRECTION'!B71)","v":""},{"$f":"'récap interne pour DIRECTION'!C71","v":""},{"$f":"IF('récap interne pour DIRECTION'!D71=\"\",\"\",'récap interne pour DIRECTION'!D71)","v":""},{"$f":"'récap interne pour DIRECTION'!H71","v":""},"",{"$f":"'récap interne pour DIRECTION'!J71","v":""},"","",{"$f":"'récap interne pour DIRECTION'!M71","v":""},""]
[{"$f":"'récap interne pour DIRECTION'!A72","v":59},{"$f":"IF(D70=\"\",\"\",'récap interne pour DIRECTION'!B72)","v":""},{"$f":"'récap interne pour DIRECTION'!C72","v":""},{"$f":"IF('récap interne pour DIRECTION'!D72=\"\",\"\",'récap interne pour DIRECTION'!D72)","v":""},{"$f":"'récap interne pour DIRECTION'!H72","v":""},"",{"$f":"'récap interne pour DIRECTION'!J72","v":""},"","",{"$f":"'récap interne pour DIRECTION'!M72","v":""},""]
[{"$f":"'récap interne pour DIRECTION'!A73","v":60},{"$f":"IF(D71=\"\",\"\",'récap interne pour DIRECTION'!B73)","v":""},{"$f":"'récap interne pour DIRECTION'!C73","v":""},{"$f":"IF('récap interne pour DIRECTION'!D73=\"\",\"\",'récap interne pour DIRECTION'!D73)","v":""},{"$f":"'récap interne pour DIRECTION'!H73","v":""},"",{"$f":"'récap interne pour DIRECTION'!J73","v":""},"","",{"$f":"'récap interne pour DIRECTION'!M73","v":""},""]
[{"$f":"'récap interne pour DIRECTION'!A74","v":61},{"$f":"IF(D72=\"\",\"\",'récap interne pour DIRECTION'!B74)","v":""},{"$f":"'récap interne pour DIRECTION'!C74","v":""},{"$f":"IF('récap interne pour DIRECTION'!D74=\"\",\"\",'récap interne pour DIRECTION'!D74)","v":""},{"$f":"'récap interne pour DIRECTION'!H74","v":""},"",{"$f":"'récap interne pour DIRECTION'!J74","v":""},"","",{"$f":"'récap interne pour DIRECTION'!M74","v":""},""]
[{"$f":"'récap interne pour DIRECTION'!A75","v":62},{"$f":"IF(D73=\"\",\"\",'récap interne pour DIRECTION'!B75)","v":""},{"$f":"'récap interne pour DIRECTION'!C75","v":""},{"$f":"IF('récap interne pour DIRECTION'!D75=\"\",\"\",'récap interne pour DIRECTION'!D75)","v":""},{"$f":"'récap interne pour DIRECTION'!H75","v":""},"",{"$f":"'récap interne pour DIRECTION'!J75","v":""},"","",{"$f":"'récap interne pour DIRECTION'!M75","v":""},""]
[{"$f":"'récap interne pour DIRECTION'!A76","v":63},{"$f":"IF(D74=\"\",\"\",'récap interne pour DIRECTION'!B76)","v":""},{"$f":"'récap interne pour DIRECTION'!C76","v":""},{"$f":"IF('récap interne pour DIRECTION'!D76=\"\",\"\",'récap interne pour DIRECTION'!D76)","v":""},{"$f":"'récap interne pour DIRECTION'!H76","v":""},"",{"$f":"'récap interne pour DIRECTION'!J76","v":""},"","",{"$f":"'récap interne pour DIRECTION'!M76","v":""},""]
[{"$f":"'récap interne pour DIRECTION'!A77","v":64},{"$f":"IF(D75=\"\",\"\",'récap interne pour DIRECTION'!B77)","v":""},{"$f":"'récap interne pour DIRECTION'!C77","v":""},{"$f":"IF('récap interne pour DIRECTION'!D77=\"\",\"\",'récap interne pour DIRECTION'!D77)","v":""},{"$f":"'récap interne pour DIRECTION'!H77","v":""},"",{"$f":"'récap interne pour DIRECTION'!J77","v":""},"","",{"$f":"'récap interne pour DIRECTION'!M77","v":""},""]
[{"$f":"'récap interne pour DIRECTION'!A78","v":65},{"$f":"IF(D76=\"\",\"\",'récap interne pour DIRECTION'!B78)","v":""},{"$f":"'récap interne pour DIRECTION'!C78","v":""},{"$f":"IF('récap interne pour DIRECTION'!D78=\"\",\"\",'récap interne pour DIRECTION'!D78)","v":""},{"$f":"'récap interne pour DIRECTION'!H78","v":""},{"$f":"IF(D76=\"\",\"\",E76*D76)","v":""},{"$f":"'récap interne pour DIRECTION'!J78","v":""},"",{"$f":"IF(D76=\"\",\"\",H76*D76)","v":""},{"$f":"'récap interne pour DIRECTION'!M78","v":""},{"$f":"IF(I76=\"\",\"\",ROUND(J76*I76,))","v":""}]
["case jaune : ","ne pas modifier, données de base issues du fichier source",null,null,null,null,null,"TOTAL PV PROJET ( €)\nAprès réduction",{"$f":"SUM(I12:I76)","v":229011}]
["case orange : ","case modifiable par ASM"]
["case blanche : ","ne pas modifier, données calculées automatiquement"]

{"sheet":"Project Engineering","index":55,"n_rows":20,"n_cols":7,"rows_kept":20,"cut":false,"hidden":true,"merged":[[0,2,0,3],[0,4,0,6],[3,4,5,4]]}
[null,null,"TEMPS GESTION PROJET TOUS DAS",null,"FILTRATION"]
["CATEGORIE ENGINEERING","TYPOLOGIE DE DOCUMENTATION","PACKAGE DE BASE (GESTION DE PROJET) H/mois"," COEFF MULTIPLICATEUR SUR DOCUMENTATION SI PAS D'EXPERIENCE HASLER AVEC LE CLIENT","PREPARATION INSPECTION  (h)","TEMPS INSPECTION/POSTE  (h)","DOCUMENTATION PAR POSTE FILTRATION (h)"]
[1,"DOSSIER STD HASLER",2,"N/A","N/A","N/A",70]
[2,"DOSSIER SUIVANT SPEC ENGINEERING Chimie, engrais, …. (ex: JESA) ",20,1.5,4,14,120]
[3,"DOSSIER SUIVANT SPEC ENGINEERING Chimie, Energie, Pétrole …. (ex: plus de 60 docs spécifiques demandés) ",20,1.5,null,14,250]
[4,"DOSSIER SUIVANT SPEC ENGINEERING AVEC QCP aux exigences élevées pour marchés nucléaire (ex: plus de 100 docs spécifiques demandés) ",20,1.5,null,35,420]
[]
[null,"EXEMPLES - DONNEES TRANSMISES PAR CHEFS PROJET"]
[]
[]
[]
["durée projet",{"$f":"'Offre NEW'!M12*4","v":208}]
["nb postes",{"$f":"'Offre NEW'!H55","v":0}]
["CAT CLIENT",{"$f":"IF('Offre NEW'!D54=\"Cat. 1 (HASLER Standard)\",'Project Engineering'!A3,IF('Offre NEW'!D54=\"Cat. 2\",'Project Engineering'!A4,IF('Offre NEW'!D54=\"Cat. 3\",'Project Engineering'!A5,'Project Engineering'!A6)))","v":1}]
[null,"gestion de projet (h)",{"$f":"IF(B14=1,B12*C3,IF(B14=2,B12*C4,IF(B14=3,B12*C5,IF(B14=4,B12*C6))))","v":416}]
[null,"Documentation",{"$f":"IF(B14=1,B13*G3,IF(B14=2,B13*G4,IF(B14=3,B13*G5,IF(B14=4,B13*G6))))","v":0}]
[null,"inspection",{"$f":"IF(B14=1,0,IF(B14=2,E4+F4*B13,IF(B14=3,E4+F5*B13,IF(B14=4,E4+F6*B13))))","v":0}]
["NVEAU CLIENT","sur horaire nouveau client (20% comm, 100% doc)",{"$f":"0","v":0}]
[null,"TOTAL",{"$f":"SUM(C15:C18)","v":416}]
[null,"REEL"]

{"sheet":"listes","index":56,"n_rows":44,"n_cols":23,"rows_kept":44,"cut":false,"hidden":false,"merged":[[27,10,31,35],[33,10,37,35],[39,10,41,22],[43,10,45,22]]}
["{stage}",null,"{type_de_piece}",null,"{EMBALLAGE}",null,"{LANGUE}",null,"{INCOTERM}",null,"{ASM}",null,null,null,null,null,"{AE}",null,null,null,null,null,"The equipment must not be modified without prior consultation with HASLER. Modification without HASLER written consent may invalidate the warranty and any product liability.Any warranty for newly purchased equipment will be void unless HASLER has supervised and/or validated on site the equipment assembly and mounting.Expertise for abnormal conditions under warranty periods are to be exclusively conducted by HASLER. Should the expertise conclude that the causes of the conditions are not related to the warranty then the full expertise will have to be covered by the main contractor or the end user."]
["Budget",null,"EQ NEUFS",null,"plateau - palette",null,"FR",null,"EXW",null,"NDEL","Nicolas DELATTRE","n.delattre@hasler.group",null,null,null,null,null,null,null,null,null,"L'équipement ne doit pas être modifié sans consultation préalable avec HASLER. Toute modification sans le consentement écrit de HASLER peut invalider la garantie et toute responsabilité du produit.Toute garantie pour les équipements nouvellement achetés sera annulée à moins que HASLER n'ait supervisé et / ou validé sur place le montage et le montage de l'équipement.L'expertise pour les conditions anormales pendant les périodes de garantie doit être exclusivement menée par HASLER. Si l'expertise conclut que les causes des conditions ne sont pas liées à la garantie, l'expertise complète devra être couverte par l'entrepreneur principal ou l'utilisateur final."]
["Commercial",null,"PDR achat revente",null,{"$f":"IF('[37]récap interne pour DIRECTION'!G1=\"FR\",\"Maritime\",\"Seaworthy\")","v":"Seaworthy"},null,"GB",null,"FCA",null,"PTHI","Pierre Henri THIEFAINE","ph.thiefaine@hasler.group",null,null,null,"FBAD","Francis BADIN","f.badin@hasler.group"]
[null,null,"PDR copiables",null,null,null,"CN",null,"CPT",null,"CPIS","Cosimo PISCOPIELLO","c.piscopiello@hasler.group",null,null,null,"BROU","Benoît ROUDAUT","b.roudaut@hasler.group"]
[null,null,"PDR hélices LUMPP",null,null,null,null,null,"CIP",null,"MJAM","Michel JAMEY","m.jamey@hasler.group",null,null,null,"AGIL","Alexis GILBERT","a.gilbert@hasler.group"]
[null,null,"SERVICES",null,null,null,null,null,"FAS",null,"EGUA","Enrico GUALDI","e.gualdi@hasler.group"]
[null,null,null,null,null,null,null,null,"FOB",null,"PTES","Phirun TES","p.tes@hasler.group"]
[null,null,null,null,null,null,null,null,"CFR",null,"SJOU","Simon JOUAN","s.jouan@hasler.group"]
[null,null,null,null,null,null,null,null,"CIF",null,"WSON","Song WEI","s.wei@hasler.group"]
[null,null,null,null,null,null,null,null,"DAT",null,"LERC","Laurent ERCKELBOUDT","l.erckelboudt@hasler.group"]
[null,null,null,null,null,null,null,null,"DAP",null,"JHOU","Jason HOUDEBINE","j.houdebine@hasler.group",null,null,null,"{Engineering}"]
[null,null,null,null,null,null,null,null,"DDP",null,"LZHA","Lintao Zhang","lt.zhang@hasler.group",null,null,null,"Cat. 1 (HASLER Standard)"]
[null,null,null,null,null,null,null,null,null,null,"SVOI","Susan VOINSON","s.voinson@hasler.group",null,null,null,"Cat. 2"]
[null,null,null,null,null,null,null,null,null,null,"IPOKA","Igor POKASOV","i.pokasov@hasler.group",null,null,null,"Cat. 3"]
[null,null,null,null,null,null,null,null,null,null,"YJAR","Younes JAREK","y.jarek@hasler-gp.com",null,null,null,"Cat. 4"]
[null,null,"{type_agt}",null,null,null,null,null,null,null,"JTOS","Jocelyn Tosi","j.tosi@hasler.group"]
[null,null,{"$f":"IF('[37]récap interne pour DIRECTION'!G1=\"FR\",\"Agitateur vertical toit de cuve\",\"Vertical top entry Mixer\")","v":"Vertical top entry Mixer"},null,null,null,null,null,null,null,"RCOL","Romuald COLLAUDIN","r.collaudin@hasler-gp.com.cn"]
[null,null,{"$f":"IF('[37]récap interne pour DIRECTION'!G1=\"FR\",\"Heavy duty mixer\",\"Heavy duty mixer\")","v":"Heavy duty mixer"},null,null,null,null,null,null,null,"KSCH","Konstantin SCHILLOW","k.schillow@hasler.group"]
[null,null,{"$f":"IF('[37]récap interne pour DIRECTION'!G1=\"FR\",\"Agitateur entrée latérale\",\"Side entry Mixer\")","v":"Side entry Mixer"}]
[null,null,{"$f":"IF('[37]récap interne pour DIRECTION'!G1=\"FR\",\"Racleur\",\"Rake\")","v":"Rake"}]
[]
[]
[null,null,"PRE"]
[null,null,"MONT"]
[]
[]
[]
[null,null,null,null,null,null,null,null,null,null,"IMPORTANT / COVID 19 HEALTH PANDEMIC - Delivery time and costs :\nIn view of the COVID 19 health pandemic, the delivery times and costs we indicate are currently indicative and cannot be considered contractual. HASLER GROUP obviously does everything in its power to maintain these deadlines and costs as they are stated. However, we reserve the right to update the transport costs before shipping if they should fluctuate.\nWe will notify you in advance of any additional impact"]
[]
[]
[]
[]
[]
[null,null,null,null,null,null,null,null,null,null,"IMPORTANT / CONTEXTE SANITAIRE  COVID 19 - Délais et coûts de transport  :\nAu regard du contexte sanitaire COVID 19,  les délais et frais de livraison  que nous indiquons sont aujourd’hui à titre indicatif et ne peuvent être considérés comme contractuels.\nHASLER GROUP met bien évidemment tout en œuvre pour maintenir ces frais et délais mais se réserve le droit de réactualiser avant expédition les couts de transports si ces derniers devaient fluctuer.\nNous vous informerons au préalable de tout impact  supplémentaire."]
[]
[]
[]
[]
[]
[null,null,null,null,null,null,null,null,null,null,"Période de validité : 1 semaine\nEn raison de la fluctuation des cours de Nickel présent dans les alliages INOX de nos équipements , nous garantissons ce prix sur un délai d’un mois.\nPassé ce délai, nous réviserons nos prix et ajusterons notre offre ."]
[]
[]
[]
[null,null,null,null,null,null,null,null,null,null,"Validity period : 1 week\nDue to the fluctuation of the price of Nickel present in the stainless steel alloys of our equipment, we guarantee this price for a period of one month.\nAfter this period, we will revise our prices and adjust our offer accordingly."]

{"sheet":"Services","index":57,"n_rows":21,"n_cols":6,"rows_kept":21,"cut":false,"hidden":false,"merged":[[20,1,20,4],[3,1,3,5],[8,1,8,4],[10,1,10,5],[14,1,14,4],[16,1,16,5]]}
[null,"Mise à jour 2023 - Prix juste des jours travaillés, de voyage et off"]
[null,"Le reste : frais hébergement et voyage facturés au frais réels + 10%"]
[]
[null,"Supervision Montage - HASLER GROUP"]
[null,"HASLER GROUP - Tarif Forfaitaire Journalier (Lundi au Vendredi)",{"$f":"1130*1.05","v":1186.5},{"$f":"'Offre NEW'!M5*5","v":15},"jours",{"$f":"C5*D5","v":17797.5}]
[null,"HASLER GROUP - Tarif journée de voyage",{"$f":"C5*0.75","v":889.875},2,"jours",{"$f":"C6*D6","v":1779.75}]
[null,"HASLER GROUP - Tarif journée de repos",{"$f":"C5/2","v":593.25},{"$f":"2*'Offre NEW'!M5-2","v":4},"jours",2373]
[null,"HASLER GROUP - Caisse d'outillage - Collage talon Location",{"$f":"1.045*3200","v":3344},1,"Caisse",3344]
[null,"Prix TOTAL",null,null,null,{"$f":"SUM(F5:F8)","v":25294.25}]
[]
[null,"COLD COMMISSIONING - HASLER GROUP"]
[null,"HASLER GROUP - Tarif Forfaitaire Journalier (Lundi au Vendredi)",1360,{"$f":"'Offre NEW'!M6*5","v":5},"jours",{"$f":"C12*D12","v":6800}]
[null,"HASLER GROUP - Tarif journée de voyage",{"$f":"C12*0.75","v":1020},2,"jours",{"$f":"C13*D13","v":2040}]
[null,"HASLER GROUP - Tarif journée de repos",{"$f":"C12/2","v":680},{"$f":"2*'Offre NEW'!M6-2","v":0},"jours",0]
[null,"Prix TOTAL",null,null,null,{"$f":"SUM(F12:F14)","v":8840}]
[]
[null,"HOT COMMISSIONING - HASLER GROUP"]
[null,"HASLER GROUP - Tarif Forfaitaire Journalier (Lundi au Vendredi)",1360,{"$f":"'Offre NEW'!M7*5","v":5},"jours",{"$f":"C18*D18","v":6800}]
[null,"HASLER GROUP - Tarif journée de voyage",{"$f":"C18*0.75","v":1020},2,"jours",{"$f":"C19*D19","v":2040}]
[null,"HASLER GROUP - Tarif journée de repos",{"$f":"C18/2","v":680},{"$f":"2*'Offre NEW'!M7-2","v":0},"jours",0]
[null,"Prix TOTAL",null,null,null,{"$f":"SUM(F18:F20)","v":8840}]

{"sheet":"Spec PAV","index":58,"n_rows":199,"n_cols":3,"rows_kept":199,"cut":false,"hidden":true,"merged":[[0,0,5,2],[62,0,62,2],[61,0,61,2],[60,0,60,2],[59,0,59,2],[58,0,58,2],[57,0,57,2],[56,0,56,2],[55,0,55,2],[53,0,53,2],[52,0,52,2],[51,0,51,2],[50,0,50,2],[49,0,49,2],[47,0,47,2],[46,0,46,2],[6,1,6,2],[7,0,7,2],[69,0,69,2],[148,0,148,2],[40,0,40,2],[21,0,21,2],[35,0,35,2],[54,0,54,2],[45,0,45,2],[44,0,44,2],[43,0,43,2],[42,0,42,2],[41,0,41,2],[196,0,196,2],[198,0,198,2],[162,0,162,2],[170,0,170,2],[8,0,8,2]]}
["TECHNICAL SPECIFICATION FOR VACUUM PUMP PACKAGE"]
[]
[]
[]
[]
[]
["Specification N°",{"$f":"Calculations!C3","v":726789}]
[]
["1. Technical Specification"]
[]
["APPLICATION"]
[]
["Country","Spain"]
["Altitude","Sea Level"]
["Absolute discharge pressure","Atmospheric"]
["Ambiance","Chemical Industry"]
["Air temperature","Maxi 40°C / Mini 0°C"]
["Operating","24h/24"]
[]
["1.1 REQUESTED FLOWRATE"]
[]
["Expressed in m3/h in suction conditions, in saturated air."]
["Range:",{"$f":"Calculations!N11","v":200}," +/- 5% m3/h"]
[]
["1.2 PRESSURE"]
["Requested Delta P ",{"$f":"-(1013-B27)","v":-613},"mbar rel"]
["Nominal pressure ",400,"mbar abs"]
[]
["1.3 SATURATED AIR"]
[]
["Air (gas) at suction",null,"°C"]
["Temperature of sealing water",null,"°C"]
[]
["1.4 OPERATING GUARANTEE"]
[]
["In addition to the conditions above:\n- The pump and separators/silencers must be guaranteed for correct operation with a suction pressure equal to\natmospheric pressure (water delivery for example). The separator must be computed at pressure 0.\n- The flow rate is the nominal value at the vacuum\n- Pump must be able to run in all the pressure range of is curve without disturbance, mainly at low pressure for the\nefficiency of the water separator\n- Pump must be able to run in all the air temperature and assume the required flow at +/- 5% in the range that could be\ndue to change of weather or process.\n- Pump must be able to run in all the water temperature. Range that could be due to change of weather or process that is\nusually fixed at +/- 5°C of the nominal."]
[]
["1.5 SUPPLY"]
[]
["Type","Liquid Ring Pump"]
["Material of Construction"]
["The complete pump will be delivered in operating order."]
["The limits of the supply will be at the flanges for:"]
["Water input"]
["Gas input"]
["Gas output"]
["Water output"]
["The flanges will be either standard EN 1092-1 PN10"]
["Body, heads and rotor material","Cast Iron & Carbon Steel"]
["A complete transmission: pulleys/belts, coupling or reduction gearing"]
["A safety guard for transmission according to NF EN 12100 or OSHA"]
["A common base plate in painted carbon steel for pump/motor/transmission"]
["A inlet manifold (flange-mounted)"]
["A discharge separator (flange-mounted)"]
["A liquid-ring water supply pipe fitted with : \n             1 manometer with isolating valve\n             1 globe valve or restriction orifice\n             1 on/off solenoid valve\n             1 Y filter\n             1 Flowmeter supply by RPA\n"]
["1 vacuum relief valve (delivered separately)"]
["2 drip pan for recovery of gland packing"]
["1 vacuum gauge on the pump"]
["2 temporary start-up strainer"]
["1 silencer if required for respecting required noise level"]
["Shaft sealing: packing type"]
["Paint :  \nSupplier standard \nTop Color : Supplier standard\nSafety guard: Safety yellow RAL 1021"]
["\n- 1 suitable motor : \n\n             1 Cast iron frame – xx kW– 400 V – xx Hz – Cl. F/B – IP55 – xxxx rpm – IM1001 (B3), equipped with winding thermistors (detail  for motor see attached specification). \n             Painting according supplier’s standard according to environment conditions \n             Top Color : Supplier standard \n\n\n- 1 Set of motor slide rails (if necessary)\n- Inspection, tests and documentation as per specification chapter 2 \n- Language : English\n- Noise level : less than 85 dB(A) at 1 m (DIN 45635)\n- Vibration level: less than 4.5 mm/s (ISO DR 2372 machine group II)"]
[]
[]
["1.6 PRICE LIST"]
[]
["Price list should be detailed according to the following items and type of pump\n\n- Pump with accessories\n- Transmission \n- Common base \n- Motor \n- Vacuum breaker valve \n- Paint extra cost if required\n- Spare parts : Commissioning and 2 years operation\n- Tests certificate & Documentation"]
[]
["2. Inspection & Tests"]
[]
[]
[]
[]
[]
[]
[]
[]
[]
[]
[]
[]
[]
[]
[]
[]
[]
[]
[]
[]
[]
[]
[]
[]
[]
[]
[]
[]
[]
[]
[]
[]
[]
[]
[]
[]
[]
[]
[]
[]
[]
[]
[]
[]
[]
[]
[]
[]
[]
[]
[]
[]
[]
[]
[]
[]
[]
[]
[]
[]
[]
[]
[]
[]
[]
[]
[]
[]
[]
[]
[]
[]
[]
[]
[]
[]
[]
[]
["3. Packing"]
[]
["Packing shall be in accordance with S.E.I.L.A. technical specifications and suitable for sea transport."]
["Website : www.seila.fr "]
["E-Mail : info@seila.fr "]
[]
["The VENDOR shall specify whether the equipment will be supplied pre-assembled in one piece or in several pieces to be assembled on site. "]
[]
["The VENDOR shall take the limitations of transportation into consideration when carrying out his design."]
[]
["The packing shall be suitable for transportation by container 20’ or 40’."]
["Maximum width : 210 cm"]
["Maximum height : 200 cm "]
[]
["The packing shall be suitable for the type of equipment subject of this Purchase Order and such as to protect it from damage during overseas transportation, loading and unloading and during possible site storage. The packing material shall be new and uncontaminated in accordance with ISPM No. 15 \"INTERNATIONAL STANDARDS FOR PHYTOSANITARY MEASURES\". "]
["Website : http://www.ippc.int"]
["E-Mail : ippc@fao.org"]
[]
["Packing shall be suitable for transportation on roads having gradients up to 20%. "]
[]
["Equipment and parts transported loose, on pallets, in crates or in boxes shall be adequately fastened in order to prevent any movement. "]
[]
["Flanges shall be protected by blind flanges. Threaded connections shall be plugged. Machined surfaces shall be protected with a rust preventive product (grease, removable varnish, ... ). "]
[]
["The VENDOR shall provide the following shipping data as soon as possible: "]
["-          Total Gross Weight "]
["-          Total Net Weight "]
["-          Total Shipping Volume "]
["-          Certificate of Origin "]
["-          Customs Tariff Code"]
[]
["It is incumbent upon the VENDOR to liaise with the shipping agency chosen by the RPA Process (depending of the P.O.). "]
[]
["Each parcel shall be marked as follows : "]
[]
["Depending of the P.O."]
["-          Purchase Order No : "]
["-          Dimensions (L x W x H) : "]
["-          Gross Weight : "]
["-          Net Weight : "]
["-          Parcel No 1, 2, etc. / X"]
["(X being the total number of parcels in the consignment) "]
[]
["VENDOR shall notify RPA Process as soon as the equipment is ready for dispatch. "]
[]
["No shipment shall be made without written approval from RPA Process"]
[]
[]
["4. Guarantee"]
[]
["Addendum to clause 15 of our P.G.C\n\nGUARANTEE PERIOD\nThe guarantee period is of   24  months after industrial start-up on the site of the final client and will come to an end on  36 months after delivery.\n"]

{"sheet":"Spec Toile","index":59,"n_rows":33,"n_cols":13,"rows_kept":33,"cut":false,"hidden":true,"merged":[[32,1,32,4],[33,0,33,4],[34,0,34,4],[26,2,26,3],[27,2,27,3],[28,2,28,3],[29,2,29,3],[30,0,30,4],[31,0,31,4],[25,0,25,4],[11,0,11,4],[15,0,15,4],[16,0,16,4],[17,0,17,4],[18,1,18,4],[19,0,19,4],[20,1,20,4],[21,0,21,4],[22,1,22,4],[23,0,23,4],[24,1,24,4],[10,0,10,4],[0,0,5,4],[6,1,6,4],[7,0,7,4],[8,0,8,4],[9,0,9,4]]}
["TECHNICAL SPECIFICATION FOR RUBBER BELT"]
[]
[]
[]
[]
[]
["Specification N°",{"$f":"Calculations!C3","v":726789}]
[]
["1. Technical Specification"]
[]
["1.1 APPLICATION"]
[]
["·         Caractéristiques de la composition du produit / Product characteristics"]
["·         Température Produit / Product Temperature",null,null,"°C"]
["·         Temps d'opération / Operating",null,null,"24h/24"]
[]
["1.1 SPECIFICATIONS TOILE / CLOTH SPECIFICATIONS"]
[]
["·         Référence Toile / Cloth reference"]
[]
["·         Matériau Toile/ Cloth material"]
[]
["·         Bord de la toile / Cloth edges","Bords coupés à chaud et revêtement sur 20mm / Hot Cutting and coating on 20mm"]
[]
["·         Impression toile / Cloth marking","Indiquer le sens de défilement par une flèche / Indicate cloth direction with arrow\nMarquage \"Cake Side\" aux extrémités / \"Cake Side\" written on both extremities of cloth"]
[]
["·         Dimensions / Sizes","Largeur / Width",{"$f":"IF(Calculations!$I$9=\"SERIE 2\",Toile2!C8*1000,Toile!C8*1000)","v":700.00000000000011},null,{"$f":"\"+/- 10  mm\"","v":"+/- 10  mm"}]
[null,"Longueur / Length",{"$f":"IF(Calculations!$I$9=\"SERIE 2\",Toile2!C7*1000,Toile!C7*1000)","v":18400},null,{"$f":"\"+/- 100  mm\"","v":"+/- 100  mm"}]
[null,"Jonction / Junction","Soudure / Welding",null,null,null,null,null,null,null,null,null,"Soudure / Welding"]
[null,null,null,null,null,null,null,null,null,null,null,null,"Clipper "]
[]
[]
["·         Contrôle / Checking","PV de contrôle dimensionnel / Dimensions check certificate\nCertificat de conformité à la commande / Confromity certificate order"]

{"sheet":"Spec Bande","index":60,"n_rows":60,"n_cols":13,"rows_kept":60,"cut":false,"hidden":true,"merged":[[48,1,48,4],[0,0,5,4],[7,0,7,4],[8,0,8,4],[22,1,22,4],[39,0,39,4],[38,1,38,4],[25,2,25,3],[23,0,23,4],[21,0,21,4],[47,0,47,4],[45,0,45,4],[19,0,19,4],[18,1,18,4],[17,0,17,4],[31,0,31,4],[49,0,49,4],[52,0,52,4],[35,0,35,4],[32,1,32,4],[34,1,34,4],[36,1,36,3],[37,0,37,4],[41,0,41,4],[33,0,33,4],[40,1,40,4],[43,1,43,4],[44,1,44,4],[46,1,46,4],[50,1,50,4],[51,1,51,4],[42,2,42,4],[6,1,6,4],[9,0,9,4],[11,0,11,4],[10,0,10,4],[16,0,16,4],[15,0,15,4],[30,2,30,3],[24,2,24,3],[26,2,26,3],[27,2,27,3],[28,2,28,3],[29,2,29,3]]}
["TECHNICAL SPECIFICATION FOR RUBBER BELT"]
[]
[]
[]
[]
[]
["Specification N°",{"$f":"Calculations!C3","v":726789}]
[]
["1. Technical Specification"]
[]
["1.1 APPLICATION"]
[]
["·         Caractéristiques de la composition du produit / Product characteristics",null,null,{"$f":"Calculations!K3","v":"Tb slurry filtration"}]
["·         Température Produit / Product Temperature",null,null,"°C"]
["·         Temps d'opération / Operating",null,null,"24h/24"]
[]
["1.1 SPECIFICATIONS BANDE / BELT SPECIFICATIONS"]
[]
["·         Choix du caoutchouc / Rubber selection","SBR - LT"]
[]
["·         Carcasse / Carcass","Type 4EE200 arrêtée à  \n4EE 200 type up to",{"$f":"IF(OR(Calculations!E9=4000,Calculations!E9=4200),\"105 mm\",\"60 mm\")","v":"60 mm"},"des bords et sans dans la partie médiane sur une largeur de :\nfrom edges and without any in the middle line for a width of :",{"$f":"IF(OR(Calculations!E9=4000,Calculations!E9=4200),\"115 mm\",IF(OR(Calculations!E9=3000,Calculations!E9=2500,Calculations!E9=2000,Calculations!E9=2250),\"100 mm\",\"80 mm\"))","v":"80 mm"}]
[]
["·         Impression toile / Cloth marking","Sur toute la largeur de la bande en face supérieure\nOn the whole width of the cloth on upper side"]
[]
["·         Dimensions / Sizes","Désignation / Designation",{"$f":"Calculations!K10","v":"2B5"}]
[null,"Quantité / Quantity"]
[null,"Longueur sans fin interne/Length inner endless",{"$f":"IF(Calculations!$I$9=\"SERIE 2\",Band2!C13,Band!C10)*1000","v":12980},null,{"$f":"\"+/- 75  mm\"","v":"+/- 75  mm"}]
[null,"Largeur / Width",{"$f":"IF(Calculations!$I$9=\"SERIE 2\",LOOKUP(Band2!H3,Band2!B16:G16,Band2!B15:G15),LOOKUP(Band!H3,Band!B13:G13,Band!B12:G12))","v":680},null,{"$f":"\"+/- 10  mm\"","v":"+/- 10  mm"}]
[null,"Revêtement supérieur / Cover top side",{"$f":"Calculations!R60","v":10},null,{"$f":"\"+/- 0,5  mm\"","v":"+/- 0,5  mm"}]
[null,"Revêtement inférieur / Cover bottom side",{"$f":"Calculations!R61","v":4},null,{"$f":"\"+/-  0,5  mm\"","v":"+/-  0,5  mm"}]
[null,"Epaisseur totale / Total thickness",{"$f":"Calculations!E24","v":18.5},null,{"$f":"\"+/- 1  mm\"","v":"+/- 1  mm"},null,null,null,null,null,null,null,"SBR - LT"]
[null,null,null,null,null,null,null,null,null,null,null,null,"SBR - HT"]
["·         Bande / Belt","Sans fin / Endless",null,null,null,null,null,null,null,null,null,null,"EPDM"]
[null,null,null,null,null,null,null,null,null,null,null,null,"NITRILE"]
["·         Jonction / Junction","En notre usine / In our plant"]
[]
["·         Marquage / Marking","Oui ",null,null,"Marking to be confirmed"]
[null,null,null,null,null,null,null,null,null,null,null,null,"Sans fin / Endless"]
["·         Garantie / Warranty","La période de garantie est de  18 mois  après la mise en service industrielle sur le site du client final devant intervenir de 6 à 18 mois après la date de livraison. La période de garantie de prorata temporis est de 12 mois prenant effet après la période initiale.\n\nAutres clauses habituelles entre nos deux sociétés. \n\nThe guarantee period is 18 months after industrial start-up on final customer’s site which must take place from 6 to 18 months after delivery. The guarantee prorata temporis period is 12 months effective after the initial period.\n\nOther conditions as per the usual ones between our two companies.",null,null,null,null,null,null,null,null,null,null,"Ouvert / Open"]
[]
["·         Contrôle / Checking","Selon notre spécification FP 92.04 / As per our specification FP 92.04"]
[]
["·         Documents / Documents","Langue / Language","English"]
[null,"Certificat de conformité / Compliance certificate"]
[null,"Certificat dimensionnel / Dimensional certificate"]
[]
["·         Echantillon / Sample","Pour chaque bande, nous fournir un échantillon de longueur 100 mm montrant la section de la bande dans sa largeur\nFor each belt, supply of  one 100 mm long sample showing the belt section"]
[]
["·        Vitesse du filtre / Filter speed",{"$f":"Calculations!F25","v":0.39247751430907601}]
[]
["·        Travaux effectués par nos soins / Works carried out by HASLER GROUP","Taillage de la bande et perçage central / Belt cutting and central drilling"]
[null,"Collage des talons sans préchauffage/ Belt curbs gluing without preheating"]
[]
[]
[null,null,null,null,null,null,null,null,null,null,null,null,"En notre usine / In our plant"]
[null,null,null,null,null,null,null,null,null,null,null,null,"En votre usine / In oyur plant"]
[null,null,null,null,null,null,null,null,null,null,null,null,"Sur site / On site"]
[]
[null,null,null,null,null,null,null,null,null,null,null,null,"Oui "]
[null,null,null,null,null,null,null,null,null,null,null,null,"Non"]

{"sheet":"Manifold INOX","index":61,"n_rows":41,"n_cols":29,"rows_kept":41,"cut":false,"hidden":true,"merged":[[2,10,2,11],[7,10,7,11]]}
[]
[]
[null,null,null,null,null,null,null,null,null,null,"MANUEL"]
[null,null,null,"DN","Poids au mètre MANIFOLD (kg)",null,null,null,null,null,"Matière","DN manifold","Nombre Troncons","Troncon 1 (m)","Troncon 2 (m)","Troncon 3 (m)","Troncon 4 (m)","Longueur Totale Troncons (m)","Poids total Troncons (kg)","Nbre brides pleines","Nbre brides plates","Poids total brides","Nbre piquages vers BAV","DN piquages vers BAV","Poids piquages vers BAV (kg)","Poids piquages vers ballons (kg)","Poids total (kg)","Prix (Euros)"]
[null,null,null,65,5.49,null,null,null,null,null,"904L",200,1,5.9,0,0,0,10,{"$f":"VLOOKUP(L5,D5:E19,2,TRUE)*R5","v":202.7},4,4,{"$f":"T5*VLOOKUP(L5,D22:E34,2,TRUE)+U5*VLOOKUP(L5,D22:F34,3,TRUE)","v":103.24000000000001},8,100,{"$f":"VLOOKUP(X5,D5:E9,2,TRUE)*W5*0.3","v":20.376000000000001},{"$f":"M5*0.5*VLOOKUP(L5,D5:E19,2,TRUE)","v":10.135},{"$f":"$S$5+$V$5+$Y$5+$Z$5","v":336.45099999999996},{"$f":"AA5*VLOOKUP(K5,D37:E38,2,FALSE)/0.8","v":{"$error":"#N/A"}}]
[null,null,null,80,6.56]
[null,null,null,100,8.49]
[null,null,null,125,10.27,null,null,null,null,null,"AUTO"]
[null,null,null,150,14.04,null,null,null,null,null,"Matière","DN manifold","Nombre Troncons","Troncon 1 (m)","Troncon 2 (m)","Troncon 3 (m)","Troncon 4 (m)","Longueur Totale Troncons (m)","Poids total Troncons (kg)","Nbre brides pleines","Nbre brides plates","Poids total brides","Nbre piquages vers BAV","DN piquages vers BAV","Poids piquages vers BAV (kg)","Poids piquages vers ballons (kg)","Poids total (kg)","Prix (Euros)"]
[null,null,null,200,20.27,null,null,null,null,null,{"$f":"Calculations!E31","v":"304L"},{"$f":"Calculations!E32","v":65},{"$f":"Calculations!S31","v":3},{"$f":"IF(M10=1,Calculations!AC51,IF(M10=2,Calculations!Z50,IF(M10=3,Calculations!Z49,IF(M10=4,Calculations!Z48))))","v":3851.73},{"$f":"IF(M10=1,0,IF(M10=2,Calculations!AD50,IF(M10=3,Calculations!AB49,IF(M10=4,Calculations!AB48))))","v":" "},{"$f":"IF(M10=1,0,IF(M10=2,0,IF(M10=3,Calculations!AF49,IF(M10=4,Calculations!AD48))))","v":101},{"$f":"IF(M10=1,0,IF(M10=2,0,IF(M10=3,0,IF(M10=4,Calculations!AF48))))","v":0},{"$f":"SUM(N10:Q10)/1000","v":3.9527299999999999},{"$f":"VLOOKUP(L10,D5:E19,2,TRUE)*R10","v":21.7004877},{"$f":"M10*2","v":6},{"$f":"M10*3+IF(N10>12000,2,0)+IF(O10>12000,2,0)+IF(P10>12000,2,0)+IF(Q10>12000,2,0)","v":11},{"$f":"T10*VLOOKUP(L10,D22:E34,2,TRUE)+U10*VLOOKUP(L10,D22:F34,3,TRUE)","v":54.96},{"$f":"Calculations!R36","v":4},{"$f":"Calculations!H29","v":65},{"$f":"VLOOKUP(X10,D5:E19,2,TRUE)*W10*0.3","v":6.5880000000000001},{"$f":"M10*0.5*VLOOKUP(L10,D10:E24,2,TRUE)","v":{"$error":"#N/A"}},{"$f":"$S$10+$V$10+$Y$10+$Z$10","v":{"$error":"#N/A"}},{"$f":"AA10*VLOOKUP(K10,D37:E41,2,FALSE)/0.8","v":{"$error":"#N/A"}}]
[null,null,null,250,28.21]
[null,null,null,300,33.04]
[null,null,null,350,41.99]
[null,null,null,400,48.07]
[null,null,null,450,54.15]
[null,null,null,500,69.95]
[null,null,null,600,95.49]
[null,null,null,700]
[null,null,null,800,null,null,null,null,null,null,null,null,null,null,null,null,null,null,null,null,null,null,null,null,null,null,null,15000]
[null,null,null,null,null,null,null,null,null,null,null,null,null,null,null,null,null,null,null,null,null,null,null,null,null,null,null,{"$f":"AB19/AA5","v":44.583015060142493}]
[null,null,null,null,"Poids unitaire brides pleines (kg)","Poids unitaire brides plates (kg)"]
[null,null,null,65,3.66,3]
[null,null,null,80,4.7699999999999996,3.79]
[null,null,null,100,5.65,4.03]
[null,null,null,125,8.42,5.46,null,null,null,null,null,null,null,null,null,null,null,null,null,null,null,null,null,null,null,null,null,{"$f":"AA10*45","v":{"$error":"#N/A"}}]
[null,null,null,150,10.4,6.57]
[null,null,null,200,16.5,9.31]
[null,null,null,250,24.9,11.9]
[null,null,null,300,35.1,13.8]
[null,null,null,350,40.6,20.6,null,null,null,null,null,null,null,null,null,null,null,null,null,null,null,null,null,null,null,null,null,{"$f":"AA10/4","v":{"$error":"#N/A"}}]
[null,null,null,400,49.4,27.9]
[null,null,null,450,60.2,35.4]
[null,null,null,500,75,41.1,null,null,null,null,null,null,null,null,null,null,null,null,null,null,null,null,null,null,null,null,null,null,{"$f":"AB30*25","v":{"$error":"#N/A"}}]
[null,null,null,600,103.49,62.5]
[]
[null,null,null,null,"Prix au kilo (Euros)"]
[null,null,null,"304L",11.5]
[null,null,null,"316L",13]
[null,null,null,"U45N",17]
[null,null,null,"904L",35]
[null,null,null,"E24",3]

{"sheet":"PdR FR","index":62,"n_rows":76,"n_cols":20,"rows_kept":76,"cut":false,"hidden":false,"merged":[[0,2,3,15],[4,2,5,3],[6,2,7,3],[8,2,9,3],[4,4,5,6],[6,4,7,6],[8,4,9,6],[4,13,9,15],[4,7,6,9],[7,7,9,9],[4,10,6,12],[7,10,9,12]]}
[null,null,"LISTE PIECES DE RECHANGE"]
[]
[null,null,null,null,null,null,null,null,null,null,null,null,null,null,null,null,null,null,"Commission",0]
[]
[null,null,"Client",null,{"$f":"Calculations!C2","v":"CARESTER"},null,null,"Date",null,null,{"$f":"TODAY()","v":"2025-04-25"},null,null,"Customers Service\nJose PINTO\nPhone : +33 (0)2 33 81 13 14 \nMob : +33 (0)6 37 07 29 37\njose.pinto@hasler-gp.com"]
[]
[null,null,"Type de filtre",null,{"$f":"Calculations!K10","v":"2B5"}]
[null,null,null,null,null,null,null,"Validité des prix",null,null,{"$f":"YEAR(K5)","v":2025}]
[null,null,"Référence du filtre",null,{"$f":"Calculations!C4","v":"CAREMAG"}]
[]
["Code Article","Matière","Désignation","Quantité installée par Filtre","Quantité recommandée pour commissioning","Quantité recommandée pour 1 an","Quantité recommandée pour 2 ans","Quantité \nen stock","Prix\nRevient Formule JPIN","Prix\nRevient Unitaire","Marge\nBrute","Prix Vente\n Unitaire","Prix Vente Total Commissioning","Prix Vente Total \n1 an","Prix Vente Total  \n2 ans","Prix Vente Total Stock"]
["E00000000000018","PE-UHMW","Galet guide bande",{"$f":"IF(Calculations!I9=\"SERIE 2\",6,'Séries 3-4-5'!B23)","v":6},0,0,0,2,null,20,0.55000000000000004,{"$f":"ROUNDUP((J12/(1-K12))/(1-$T$3),)","v":45},{"$f":"L12*E12","v":0},{"$f":"L12*F12","v":0},{"$f":"L12*G12","v":0},{"$f":"L12*H12","v":90}]
["E000000536-0006","316L","Palette palpeur",{"$f":"1","v":1},0,1,2,1,null,93,0.55000000000000004,{"$f":"ROUNDUP((J13/(1-K13))/(1-$T$3),)","v":207},0,{"$f":"L13*F13","v":207},{"$f":"L13*G13","v":414},{"$f":"L13*H13","v":207}]
["ECOM000249-0006","316L","JUD",{"$f":"1","v":1},0,0,0,1,null,846,0.4,1410,0,0,0,1410]
["EGUIDROUPOL9",null,"Rouleau 9\" polyuréthane",null,null,null,null,null,null,148,0.55000000000000004,329,0,0,0,0]
["EGUIDROUNIO9","316L","Rouleau 9\" inox",null,null,null,null,null,null,106,0.55000000000000004,236,0,0,0,0]
["EGUIDVERIN09",null,"Vérin 5\"1/4 - 9\"",null,null,null,null,null,null,157,0.55000000000000004,349,0,0,0,0]
["EGUIDPAL09NO",null,"Palpeur pnematique 9\"",null,null,null,null,null,null,105,0.55000000000000004,234,0,0,0,0]
[null,null,"Palier complet tambour moteur",2,0,0,0,1,"Somme des composants + 250€ de peinture",null,0.4,0,0,0,0,0]
[null,null,"Roulement pour tambour moteur",{"$f":"2","v":2},0,0,0,1,"Voir CEGID",null,0.4,0,0,0,0,0]
[null,null,"Manchon de serrage",{"$f":"D20","v":2},0,0,0,1,"Voir CEGID",null,0.4,0,0,0,0,0]
[null,null,"Palier complet tambour libre",{"$f":"D20","v":2},0,0,0,1,"Somme des composants + 250€ peinture",null,0.4,0,0,0,0,0]
[null,null,"Roulement pour tambour libre",{"$f":"2","v":2},0,0,0,1,"Voir CEGID",null,0.4,0,0,0,0,0]
[null,null,"Manchon de serrage",{"$f":"D23","v":2},0,0,0,1,"Voir CEGID",null,0.4,0,0,0,0,0]
[null,null,"Palier complet rouleaux toile et bande",{"$f":"D23","v":2},0,0,0,0,"Somme des composants + 40€ peinture",null,0.4,0,0,0,0,0]
[{"$f":"IF(Calculations!I9=\"SERIE 2\",\"E00000000000361\",\"\")","v":"E00000000000361"},null,"Palier complet rouleaux toile",{"$f":"('Séries 3-4-5'!B26+'Séries 3-4-5'!B29+'Séries 3-4-5'!B32+'Séries 3-4-5'!B35+'Séries 3-4-5'!B38+'Séries 3-4-5'!B41)*2-D27","v":{"$error":"#N/A"}},0,0,0,{"$f":"CEILING(D26/10,5)","v":{"$error":"#N/A"}},"Voir CEGID",null,0.4,0,0,0,0,{"$error":"#N/A"}]
[null,null,"Palier complet rouleaux bande",{"$f":"'Séries 3-4-5'!B26*2","v":{"$error":"#N/A"}},0,0,0,{"$f":"CEILING(D27/10,5)","v":{"$error":"#N/A"}},"Voir CEGID",null,0.4,0,0,0,0,{"$error":"#N/A"}]
["E000002479-8005",null,"Palier plastique rouleau entrée",2,0,0,0,2,null,22,0.55000000000000004,49,0,0,0,98]
[null,null,null,null,null,null,null,null,null,null,null,0,null,0]
[null,null,null,null,null,null,null,null,null,null,null,null,null,0]
["ECOM000034-7058","SBR","Véssie vérin 8x2 - Guidage toile",{"$f":"IF(Calculations!$I$9=\"SERIE 2\",'Série 2'!B73,'Séries 3-4-5'!$B$73)","v":0},0,0,0,{"$f":"IF(D31=0,0,1)","v":0},null,45,0.4,75,0,0,0,0]
["ECOM001026-7058","SBR","Véssie vérin 8x3 - Basculement boîte à vide",{"$f":"IF(Calculations!I9=\"SERIE 2\",0,'Séries 3-4-5'!B72)","v":0},0,0,0,{"$f":"IF(D32=0,0,1)","v":0},null,62,0.4,104,0,0,0,0]
["ECOM000435-7058","SBR","Vessie vérin 6x2 - Basculement boîte à vide",{"$f":"IF(Calculations!I9=\"SERIE 2\",'Série 2'!B74-'PdR FR'!D34,0)","v":3},null,null,null,null,null,null,null,null,null,0]
["ECOM000435-7058","SBR","Véssie vérin 6x2 - Tension toile",{"$f":"IF(Calculations!$I$9=\"SERIE 2\",2,'Séries 3-4-5'!$B$73)","v":2},null,null,null,null,null,null,null,null,null,0]
["ECOM000088-7058","SBR","Véssie vérin 10x2 - Tension toile",{"$f":"IF(Calculations!I9=\"SERIE 2\",0,'Séries 3-4-5'!B71)","v":0},0,0,0,0,null,47,0.4,79,0,0,0,0]
["ECOM000100-7058","SBR","Véssie vérin 12x2 - Tension toile",{"$f":"IF(Calculations!I9=\"SERIE 2\",0,'Séries 3-4-5'!B70)","v":0},0,0,0,0,null,68,0.4,114,0,0,0,0]
[null,null,"Toile",{"$f":"1","v":1},1,1,3,1,"Voir CEGID",null,0.4,{"$f":"250*Calculations!C9","v":500},500,500,1500,500]
[null,null,null,null,null,null,null,null,null,null,null,0,null,0]
[null,"PE-UHMW","Longueur réglettes table - Droite",{"$f":"D41/2","v":2},0,0,0,1,"(20 x longueur table) + 15",{"$f":"20*Tabl!D5+15","v":95},0.55000000000000004,212,0,0,0,212]
[null,"PE-UHMW","Longueur réglettes table - Gauche",{"$f":"D39","v":2},0,0,0,1,"(20 x longueur table) + 15",{"$f":"J39","v":95},0.55000000000000004,212,0,0,0,212]
[null,null,"Courroie de table",{"$f":"IF(Calculations!I9=\"SERIE 2\",'Cost List2.xls'!G12,'Cost list'!H13)","v":4},2,0,{"$f":"D41","v":4},2,"6,5 x longueur (mètres) + 90",{"$f":"6.5*Tabl!D65+90","v":162.47500000000002},0.55000000000000004,362,{"$f":"L41*E41","v":724},0,1448,724]
["E000002231-8005","PE-UHMW","Roue de tension",{"$f":"IF(OR(Calculations!$I$9=\"SERIE 3\",Calculations!$I$9=\"SERIE 4\",Calculations!$I$9=\"SERIE 5\"),Tabl!$C$36,IF(Calculations!$E$9=500,4,IF(Calculations!$E$9=1000,8,12)))","v":4},0,0,0,0,null,34,0.55000000000000004,76,0,0,0,0]
["E000002232-8005","PE-UHMW","Roue de sortie",{"$f":"IF(Calculations!I9=\"SERIE 2\",Tabl2!B10,Tabl!C37)","v":8},0,0,0,0,null,29,0.55000000000000004,65,0,0,0,0]
["E000002234-8005","PE-UHMW","Galet de renvoi",{"$f":"IF(Calculations!I9=\"SERIE 2\",Tabl2!B12,Tabl!C39)","v":13},0,0,0,0,null,3,0.55000000000000004,7,0,0,0,0]
[null,null,null,null,null,null,null,null,null,null,null,0,null,0]
[null,null,"Réducteur",1,0,0,0,0,"Voir CEGID",null,0.4,0,0,0,0,0]
[null,null,"Moteur",1,0,0,0,0,"Voir CEGID",null,0.4,0,0,0,0,0]
[null,null,"Jeu de courroies de transmission",1,0,0,1,1,"Voir CEGID",null,0.4,0,0,0,0,0]
[null,null,null,null,null,null,null,null,null,null,null,0,null,0]
[null,"PE-UHMW","Dessus de BAV",1,0,0,1,1,"100 x longueur boite",{"$f":"100*Tabl!D5","v":400},0.55000000000000004,889,0,0,889,889]
[null,null,"Courroie boite à vide",2,2,2,4,2,"11 x longueur (mètres) + 90",{"$f":"11*('B. à V.'!B65*2+2.51)+90","v":{"$error":"#N/A"}},0.55000000000000004,{"$error":"#N/A"},{"$error":"#N/A"},{"$error":"#N/A"},{"$error":"#N/A"},{"$error":"#N/A"}]
["E000000746-8005","PE-UHMW","Roue de sortie BAV",2,0,0,0,0,null,56,0.55000000000000004,125,0,0,0,0]
["E000000384-8005","PE-UHMW","Galet de renvoi",{"$f":"'Séries 3-4-5'!N65","v":{"$error":"#N/A"}},0,0,0,0,null,8,0.55000000000000004,18,0,0,0,0]
[{"$f":"'Séries 3-4-5'!L53","v":"E000000715-7023"},"Rubber","Manchette",{"$f":"Calculations!R36","v":4},0,0,{"$f":"D54","v":4},{"$f":"CEILING(D54/10,5)","v":5},"Voir CEGID",null,0.4,200,0,0,800,1000]
[null,null,null,null,null,null,null,null,null,null,null,0,null,0]
[null,"PU 90 shore","Lame de grattoir",1,0,1,2,1,"27 x longueur (mètres) + 45 €",{"$f":"27*(Calculations!E9/1000+0.38)+45","v":68.760000000000005},0.55000000000000004,153,0,153,306,153]
[null,"PVDF","Buse",{"$f":"3*Calculations!H75+2*Calculations!H76","v":36},{"$f":"CEILING(D57/10,10)","v":10},0,{"$f":"D57","v":36},{"$f":"CEILING(D57/2,10)","v":20},null,2.5,0.4,5,50,0,180,100]
[null,null,null,null,null,null,null,null,null,null,null,0,null,0]
["EELE000311-9034",null,"Corps de détecteur - Dérive bande ou toile",4,0,0,0,{"$f":"D59","v":4},null,31,0.4,52,0,0,0,208]
["EELE000313-9034",null,"Tête de détecteur - Dérive bande ou toile",4,0,0,0,{"$f":"D60","v":4},null,31,0.4,52,0,0,0,208]
["EELE000449-9034",null,"Arrêt d'urgence à cable - GAUCHE",1,0,0,0,1,null,352,0.4,587,0,0,0,587]
["EELE000450-9034",null,"Arrêt d'urgence à cable - DROIT",1,0,0,0,1,null,352,0.4,587,0,0,0,587]
["EELE000192-0000",null,"Détecteur inductif - Tension et rotation toile",2,0,0,0,2,null,100,0.4,167,0,0,0,334]
["EELE000484-0000",null,"Pressostat air",1,0,0,0,1,null,320,0.4,534,0,0,0,534]
["EELE000485-0000",null,"Pressostat eau",1,0,0,0,1,null,320,0.4,534,0,0,0,534]
[null,null,"Capteur surcouple",1,0,0,0,1,null,57,0.4,{"$f":"ROUNDUP((J66/(1-K66))/(1-$T$3),)","v":95},{"$f":"L66*E66","v":0},0,{"$f":"L66*G66","v":0},{"$f":"L66*H66","v":95}]
["EELE000317-0000",null,"Transmetteur épaisseur gateau",1,0,0,0,1,null,543,0.4,905,0,0,{"$f":"$L$12*G67","v":0},905]
[null,null,null,null,null,null,null,null,null,null,null,null,{"$f":"SUM(M12:M67)","v":{"$error":"#N/A"}},{"$f":"SUM(N12:N67)","v":{"$error":"#N/A"}},{"$error":"#N/A"},{"$error":"#N/A"},"TOTAL (€)"]
[]
[]
[null,null,null,null,{"$f":"IF(OR(Calculations!$I$9=\"SERIE 3\",Calculations!$I$9=\"SERIE 4\",Calculations!$I$9=\"SERIE 5\"),Tabl!$C$36,IF(Calculations!$E$9=500,4,IF(Calculations!$E$9=1000,8,12)))","v":4}]
[]
[]
[null,null,null,null,"B0,5 => 4"]
[null,null,null,null,"B10 => 8"]
[null,null,null,null,"B12,5 / B15 => 12"]

{"sheet":"Hotte","index":63,"n_rows":6,"n_cols":6,"rows_kept":6,"cut":false,"hidden":true,"merged":[[10,3,11,3]]}
[]
[]
[]
[null,null,"Prix","m² (Hors Tout)","Prix / m² - 2020"]
[null,"REFIAL - 25B20 - Hotte avec rideaux PVC",{"$f":"'[8]Nomenclature REFIAL'!V524*1.03^5","v":16592.933273011498},{"$f":"18*2.654","v":47.771999999999998},{"$f":"C5/D5","v":347.33595564371387},{"$f":"ROUNDUP(E5,-2)","v":400}]
[null,"EVONIK - 5B12,5 - Hotte Rigide ",{"$f":"'[8]Nomenclature EVONIK'!C479*1.03^5","v":15851.876595207821},{"$f":"7.435*1.9","v":14.126499999999998},{"$f":"C6/D6","v":1122.1375850499292},{"$f":"ROUNDUP(E6,-2)","v":1200}]

{"sheet":"Pompes Centrifuges AFFETTI","index":64,"n_rows":37,"n_cols":18,"rows_kept":37,"cut":false,"hidden":true,"merged":[]}
[]
[]
[null," Pompe  "," puissance (kW)"," moteur  "," matériau  "," montage  "," raccords  "," vitesse (tr/min)","Débit min (m3/h)"," HMT (m)","Prix unitaires H.T.  ",null,null,null,null,"PP"]
[null,"CMO3212PV0900",2.2000000000000002,"ME35X220902N5","PVDF"," accouplement  "," brides  ",2900,3.5," 25  ",{"$f":"IF(E4=\"PP\",1111,1640)","v":1640},null,null,null,null,"PVDF",1111,1640]
[null,"CMO3212PV0900",2.2000000000000002,"ME35X220902N5","PVDF"," accouplement  "," brides  ",2900,8.5," 25  ",{"$f":"IF(E5=\"PP\",1111,1645)","v":1645},null,null,null,null,null,1111,1645]
[null,"CMO3212PV1000",3,"ME35X301002N5","PVDF"," accouplement  "," brides  ",2900,11.5," 25  ",{"$f":"IF(E6=\"PP\",1173,1707)","v":1707},null,null,null,null,null,1173,1707]
[null,"CMO3212PV1120",4,"ME35X401122N5","PVDF"," accouplement  "," brides  ",2900,20," 25  ",{"$f":"IF(E7=\"PP\",1476,2316)","v":2316},null,null,null,null,null,1476,2316]
[null,"CMO3212PV1320",7.5,"ME35X751322N5","PVDF"," accouplement  "," brides  ",2900,40," 25  ",{"$f":"IF(E8=\"PP\",1773,2621)","v":2621},null,null,null,null,null,1773,2621]
[null,"CMO3212PV1600",11,"ME35X111602N5","PVDF"," accouplement  "," brides  ",2900,60," 25  ",{"$f":"IF(E9=\"PP\",2125,2932)","v":2932},null,null,null,null,null,2125,2932]
[]
[]
[]
[]
[null,null,null,null,null,null,null,"Débit (m3/h)","Prix (Euros)"]
[null,null,null,null,null,null,"Pompe filtrats 1",{"$f":"Calculations!V15","v":20},{"$f":"IF(H15=0,0,1009.8+18.885*H15)","v":1387.5}]
[null,null,null,null,null,null,"Pompe filtrats 2",{"$f":"Calculations!V16","v":30},{"$f":"IF(H16=0,0,1009.8+18.885*H16)","v":1576.35}]
[null,null,null,null,null,null,"Pompe filtrats 3",{"$f":"Calculations!V17","v":50},1954.0500000000002]
[null,null,null,null,null,null,"Pompe filtrats 4",{"$f":"Calculations!V18","v":400},{"$f":"IF(H18=0,0,1009.8+18.885*H18)","v":8563.8000000000011}]
[null,null,null,null,null,null,"Pompe TB",{"$f":"ROUNDUP((Calculations!$G$41+((Calculations!$Q$39+Calculations!$Q$40)/1000)),2)","v":{"$error":"#VALUE!"}},{"$error":"#VALUE!"}]
[]
[]
[]
[]
[]
[]
[]
[]
[]
[]
[]
[]
[null,null,null,null,null,null,null,"Débit (m3/h)","Prix (Euros)"]
[null,null,null,null,null,null,"Pompe filtrats 1",{"$f":"Calculations!V15","v":20},{"$f":"IF(H33=0,0,1553.4+24.674*H33)","v":2046.88}]
[null,null,null,null,null,null,"Pompe filtrats 2",{"$f":"Calculations!V16","v":30},{"$f":"IF(H34=0,0,1553.4+24.674*H34)","v":2293.62}]
[null,null,null,null,null,null,"Pompe filtrats 3",{"$f":"Calculations!V17","v":50},2787.1000000000004]
[null,null,null,null,null,null,"Pompe filtrats 4",{"$f":"Calculations!V18","v":400},11423]
[null,null,null,null,null,null,"Pompe TB",{"$f":"ROUNDUP((Calculations!$G$41+((Calculations!$Q$39+Calculations!$Q$40)/1000)),2)","v":{"$error":"#VALUE!"}},{"$error":"#VALUE!"}]

{"sheet":"Pompe centrifuge PP","index":65,"n_rows":13,"n_cols":12,"rows_kept":13,"cut":false,"hidden":true,"merged":[]}
[]
[]
[]
[null," Pompe  "," puissance (kW)"," moteur  "," matériau  "," montage  "," raccords  "," vitesse (tr/min)","Débit min (m3/h)","Débit max (m3/h)"," HMT (m)","Prix unitaires H.T.  "]
[null," CPDR 80-50-315 CST  "," 4  "," 112M  "," PP  "," accouplement  "," brides  "," 1450  ",3,11," 25  ",6733]
[null," CPDR 80-50-315 CST  "," 5.5  "," 132S  "," PP  "," accouplement  "," brides  "," 1450  ",11,22," 25  ",6929]
[null," CPDR 80-50-315 CST  "," 7.5  "," 132M  "," PP  "," accouplement  "," brides  "," 1450  ",22,33," 25  ",7029]
[null," CPDR 80-50-315 CST  "," 11  "," 160M  "," PP  "," accouplement  "," brides  "," 1450  ",33,41," 25  ",7347]
[null," RCNKu 125-80-250 CST  "," 11  "," 160M  "," PP  "," accouplement  "," brides  "," 1450  ",41,90," 25  ",8030]
[null," RCNKu 125-100-250 CST  "," 30  "," 200L  "," PP  "," accouplement  "," brides  "," 1450  ",90,160," 25  ",10925]
[null," RCNKu 150-125-315 CST  "," 37  "," 225S  "," PP  "," accouplement  "," brides  "," 1450  ",160,200," 25  ",12329]
[null," RCNKu 250-200-315 CST  "," 75  "," 280S  "," PP  "," accouplement  "," brides  "," 1450  ",200,350," 25  ",21526]
[null," RCNKu 250-200-400 CST  "," 75  "," 280S  "," PP  "," accouplement  "," brides  "," de 968 à 1002  ",350,500," 25  ",27120]

{"sheet":"Pompe Péristaltique WATSON","index":66,"n_rows":23,"n_cols":15,"rows_kept":23,"cut":false,"hidden":true,"merged":[]}
[]
[]
[null,"Modèle","Débit (m3/h)","Puiss Moteur (kW)","Prix (Euros)"]
[null,"SPX10",0.105,0.18,1930]
[null,"SPX15",0.39700000000000002,0.37,2505]
[null,"SPX20",0.64900000000000002,0.37,2634]
[null,"SPX25",1.8,1.1000000000000001,4196,null,null,null,null,null,null,null,null,"Débit (m3/h)","Prix (Euros)"]
[null,"SPX32",3.15,1.5,5444,null,null,null,null,null,null,null,"Pompe filtrats 1",{"$f":"Calculations!V15","v":20},{"$f":"IF(N8=0,0,IF(N8>72.34,\"CONSULTATION\",621.18*N8+3486.6))","v":15910.199999999999}]
[null,"SPX40",5.68,2.2000000000000002,6284,null,null,null,null,null,null,null,"Pompe filtrats 2",{"$f":"Calculations!V16","v":30},{"$f":"IF(N9=0,0,IF(N9>72.34,\"CONSULTATION\",621.18*N9+3486.6))","v":22121.999999999996}]
[null,"SPX50",11.391,5.5,9811,null,null,null,null,null,null,null,"Pompe filtrats 3",{"$f":"Calculations!V17","v":50},34545.599999999999]
[null,"SPX65",21.977,7.5,13566,null,null,null,null,null,null,null,"Pompe filtrats 4",{"$f":"Calculations!V18","v":400},"CONSULTATION"]
[null,"SPX80",27.885999999999999,11,18950,null,null,null,null,null,null,null,"Pompe TB",{"$f":"ROUNDUP((Calculations!$G$41+((Calculations!$Q$39+Calculations!$Q$40)/1000)),2)","v":{"$error":"#VALUE!"}},{"$error":"#VALUE!"}]
[null,"SPX100",36.17,15,25760]
[null,null,{"$f":"2*C4","v":0.21},null,{"$f":"2*E4","v":3860}]
[null,null,{"$f":"2*C5","v":0.79400000000000004},null,{"$f":"2*E5","v":5010}]
[null,null,1.298,null,5268]
[null,null,3.6,null,8392]
[null,null,6.3,null,10888]
[null,null,11.36,null,12568]
[null,null,22.782,null,19622]
[null,null,43.954000000000001,null,27132]
[null,null,55.771999999999998,null,37900]
[null,null,72.34,null,51520]

{"sheet":"Pompe KROGH","index":67,"n_rows":71,"n_cols":15,"rows_kept":71,"cut":false,"hidden":true,"merged":[]}
[null,"Type de pompe","MOC","Débit (m3/h)","Pinst (kW)","HMT (mCL)","Année","Prix  (Dollars)","Packing (Dollars)","Transport (Dollars)",{"$f":"\"Prix \" & 'Offre NEW'!$T$10 & \" (Dollars)\"","v":"Prix 2022 (Dollars)"}]
[null,"1x8","316L",7,3,26,2009,{"$f":"7080+480","v":7560},null,null,{"$f":"H2*1.03^('Offre NEW'!$T$10-G2)","v":11102.114873693823}]
[null,"1 1/4 x 9","316L",14.4,7.5,25,2007,7635,null,null,{"$f":"H3*1.03^('Offre NEW'!$T$10-G3)","v":11895.081225746837}]
[null,"1 1/4 x 9","316L",15.6,7.5,25,2007,7635,null,null,{"$f":"H4*1.03^('Offre NEW'!$T$10-G4)","v":11895.081225746837}]
[null,"1 1/4 x 9","316L",18.600000000000001,7.5,25,2007,7635,null,null,{"$f":"H5*1.03^('Offre NEW'!$T$10-G5)","v":11895.081225746837}]
[null,"1 1/2 x 9","316L",20,5.5,26,2008,7805,null,null,{"$f":"H6*1.03^('Offre NEW'!$T$10-G6)","v":11805.762802494142}]
[null,"2x9","316L",25,5.5,26,2008,8260,null,null,{"$f":"H7*1.03^('Offre NEW'!$T$10-G7)","v":12493.991127303218}]
[null,"2x9","316L",25,7.5,27,2009,9260,null,null,{"$f":"H8*1.03^('Offre NEW'!$T$10-G8)","v":13598.622186561483}]
[null,"1 1/2 x 9","316L",33,7.5,23,2007,9190,140,1230,{"$f":"H9*1.03^('Offre NEW'!$T$10-G9)","v":14317.720558561025}]
[null,"2 1/2 x 9","316L",45,7.5,27,2009,9370,null,null,{"$f":"H10*1.03^('Offre NEW'!$T$10-G10)","v":13760.160895041154}]
[null,"2 1/2 x 9","316L",50,7.5,26,2008,8685,null,null,{"$f":"H11*1.03^('Offre NEW'!$T$10-G11)","v":13136.841760366638}]
[null,"3x9","316L",60,11,27,2009,11705,null,null,{"$f":"H12*1.03^('Offre NEW'!$T$10-G12)","v":17189.187115950557}]
[null,"3x9","316L",80,11,27,2009,11705,null,null,{"$f":"H13*1.03^('Offre NEW'!$T$10-G13)","v":17189.187115950557}]
[null,"3x9","316L",90,15,27,2009,12130,null,null,{"$f":"H14*1.03^('Offre NEW'!$T$10-G14)","v":17813.313944167472}]
[null,"3x9","316L",94.8,15,25,2007,10840,null,null,{"$f":"H15*1.03^('Offre NEW'!$T$10-G15)","v":16888.366795952286}]
[null,"4x9","316L",95,15,26,2008,11325,null,null,{"$f":"H16*1.03^('Offre NEW'!$T$10-G16)","v":17130.078633984132}]
[null,"4x9","316L",125,15,27,2010,{"$f":"11260+1855","v":13115},150,2680,{"$f":"H17*1.03^('Offre NEW'!$T$10-G17)","v":18698.854030987633}]
[null,"4x9","316L",140,18.5,27,2008,12540,null,null,{"$f":"H18*1.03^('Offre NEW'!$T$10-G18)","v":18967.875149683092}]
[null,"4x9","316L",144,18.5,25,2007,11240,null,null,{"$f":"H19*1.03^('Offre NEW'!$T$10-G19)","v":17511.553762592594}]
[null,"4x9","316L",160,18.5,25,2009,{"$f":"10610+2090","v":12700},140,1560,{"$f":"H20*1.03^('Offre NEW'!$T$10-G20)","v":18650.378160834862}]
[null,"4x9","316L",165,18.5,25,2009,12660,null,null,{"$f":"H21*1.03^('Offre NEW'!$T$10-G21)","v":18591.636812296798}]
[null,"2x9","CD4MCu",22,7.5,27,2009,{"$f":"8370+1010","v":9380},null,null,{"$f":"H22*1.03^('Offre NEW'!$T$10-G22)","v":13774.846232175669}]
[null,"2x9","CD4MCu",32,7.5,27,2009,9350,null,null,{"$f":"H23*1.03^('Offre NEW'!$T$10-G23)","v":13730.790220772122}]
[null,"2x9","CD4MCu",35,7.5,27,2008,{"$f":"9450+830","v":10280},null,null,{"$f":"H24*1.03^('Offre NEW'!$T$10-G24)","v":15549.422371510542}]
[null,"1 1/2 x 9","CD4MCu",35,7.5,23,2007,8290,null,null,{"$f":"H25*1.03^('Offre NEW'!$T$10-G25)","v":12915.549883620337}]
[null,"2x9","CD4MCu",35,7.5,27,2008,10280,null,null,{"$f":"H26*1.03^('Offre NEW'!$T$10-G26)","v":15549.422371510542}]
[null,"3x9","CD4MCu",53,11,27,2009,{"$f":"10590+1370","v":11960},280,2270,{"$f":"H27*1.03^('Offre NEW'!$T$10-G27)","v":17563.663212880703}]
[null,"3x9","CD4MCu",68.099999999999994,18.5,31.7,2007,12180,null,null,{"$f":"H28*1.03^('Offre NEW'!$T$10-G28)","v":18976.043134197309}]
[null,"3x9","CD4MCu",70,11,23,2008,11680,null,null,{"$f":"H29*1.03^('Offre NEW'!$T$10-G29)","v":17667.047986307698}]
[null,"4x9","CD4MCu",90,15,27,2011,{"$f":"12290+1795","v":14085},null,null,{"$f":"H30*1.03^('Offre NEW'!$T$10-G30)","v":19496.934069153816}]
[null,"4x9","CD4MCu",95,15,23,2007,11910,null,null,{"$f":"H31*1.03^('Offre NEW'!$T$10-G31)","v":18555.391931715105}]
[null,"4x9","CD4MCu",227,37,31.7,2007,14850,null,null,{"$f":"H32*1.03^('Offre NEW'!$T$10-G32)","v":23135.816136521353}]
[null,"1 1/4 x 9","Fonte",10,4,27,2010,6020,150,null,{"$f":"H33*1.03^('Offre NEW'!$T$10-G33)","v":8583.0805388139961}]
[null,"1 1/2 x 9","Fonte",20,5.5,26,2010,7155,150,null,{"$f":"H34*1.03^('Offre NEW'!$T$10-G34)","v":10201.319145384408}]
[null,"2 1/2 x 9","Fonte",40,7.5,25,2010,7300,150,null,{"$f":"H35*1.03^('Offre NEW'!$T$10-G35)","v":10408.054473977105}]
[null,"3x9","Fonte",65,11,27,2009,{"$f":"6280+1330","v":7610},140,1540,{"$f":"H36*1.03^('Offre NEW'!$T$10-G36)","v":11175.541559366402}]
[null,"4x9","Fonte",120,15,26,2009,8820,null,null,{"$f":"H37*1.03^('Offre NEW'!$T$10-G37)","v":12952.467352642794}]
[null,"4x9","Fonte",125,15,27,2009,8730,null,null,{"$f":"H38*1.03^('Offre NEW'!$T$10-G38)","v":12820.299318432153}]
[null,"4x9","Fonte RL",78,15,27,2010,14830,null,null,{"$f":"H39*1.03^('Offre NEW'!$T$10-G39)","v":21144.033951928828}]
[null,"4x9","Fonte RL",120,18.5,27,2010,15750,null,null,{"$f":"H40*1.03^('Offre NEW'!$T$10-G40)","v":22455.733967827313}]
[null,"4x9","Fonte RL",156,30,27,2010,17050,null,null,{"$f":"H41*1.03^('Offre NEW'!$T$10-G41)","v":24309.223120727347}]
[]
[]
[]
[]
[]
[]
[]
[]
[]
[]
[]
[]
[]
[]
[]
[]
[]
[]
[]
[]
[]
[]
[]
[null,null,null,"Débit (m3/h)","Prix (Euros)",null,null,null,"Débit (m3/h)","Prix (Euros)",null,null,null,"Débit (m3/h)","Prix (Euros)"]
[null,null,"Pompe filtrats 1",{"$f":"Calculations!V15","v":20},{"$f":"IF(D66=0,0,IF(D66>165,\"CONSULTATION\",-0.3807*D66^2+112.74*D66+10206))","v":12308.52},null,null,"Pompe filtrats 1",{"$f":"Calculations!V15","v":20},{"$f":"IF(I66=0,0,IF(I66>227,\"CONSULTATION\",-0.2877*I66^2+118.25*I66+11053))","v":13302.92},null,null,"Pompe filtrats 1",{"$f":"Calculations!V15","v":20},{"$f":"IF(N66=0,0,IF(N66>125,\"CONSULTATION\",-0.1482*N66^2+53.434*N66+8537))","v":9546.4}]
[null,null,"Pompe filtrats 2",{"$f":"Calculations!V16","v":30},{"$f":"IF(D67=0,0,IF(D67>165,\"CONSULTATION\",-0.3807*D67^2+112.74*D67+10206))","v":13245.57},null,null,"Pompe filtrats 2",{"$f":"Calculations!V16","v":30},{"$f":"IF(I67=0,0,IF(I67>227,\"CONSULTATION\",-0.2877*I67^2+118.25*I67+11053))","v":14341.57},null,null,"Pompe filtrats 2",{"$f":"Calculations!V16","v":30},{"$f":"IF(N67=0,0,IF(N67>125,\"CONSULTATION\",-0.1482*N67^2+53.434*N67+8537))","v":10006.64}]
[null,null,"Pompe filtrats 3",{"$f":"Calculations!V17","v":50},14891.25,null,null,"Pompe filtrats 3",{"$f":"Calculations!V17","v":50},16246.25,null,null,"Pompe filtrats 3",{"$f":"Calculations!V17","v":50},10838.2]
[null,null,"Pompe filtrats 4",{"$f":"Calculations!V18","v":400},"CONSULTATION",null,null,"Pompe filtrats 4",{"$f":"Calculations!V18","v":400},"CONSULTATION",null,null,"Pompe filtrats 4",{"$f":"Calculations!V18","v":400},"CONSULTATION"]
[null,null,"Pompe TB",{"$f":"ROUNDUP((Calculations!$G$41+((Calculations!$Q$39+Calculations!$Q$40)/1000)),2)","v":{"$error":"#VALUE!"}},{"$error":"#VALUE!"},null,null,"Pompe TB",{"$f":"ROUNDUP((Calculations!$G$41+((Calculations!$Q$39+Calculations!$Q$40)/1000)),2)","v":{"$error":"#VALUE!"}},{"$error":"#VALUE!"},null,null,"Pompe TB",{"$f":"ROUNDUP((Calculations!$G$41+((Calculations!$Q$39+Calculations!$Q$40)/1000)),2)","v":{"$error":"#VALUE!"}},{"$error":"#VALUE!"}]
[null,null,null,null," "]

{"sheet":"Option cost","index":68,"n_rows":31,"n_cols":7,"rows_kept":31,"cut":false,"hidden":true,"merged":[]}
["Pneumatic stainless tubing"]
[null,"L=1 m","Heure"]
["304L",null,30]
[316,700,30]
["U45N"]
["904L"]
[]
["Belt support roller type mine"]
[null,"L=1 m"]
[1000]
[1250]
[1500]
[2000]
[3000]
["4000/4200"]
[]
["Pulley wash ramp"]
[null,1000,1250,1500,2000,3000,"4000/4200"]
["304L"]
["316L"]
["U45N"]
["904L"]
[]
["Flocculator including divider"]
["Goulotte",300,400,500,600]
["304L"]
["316L"]
["U45N"]
["904L"]
[]
["Polyethylene Tube"]

{"sheet":"CSFRAME 3 meter","index":69,"n_rows":31,"n_cols":15,"rows_kept":31,"cut":false,"hidden":true,"merged":[]}
[]
["FILTRE :",{"$f":"Surface","v":2},"M2",null,"CHARPENTE LG. :",{"$f":"'Séries 3-4-5'!B3","v":500},null,null,"5 mn/kg = 2000"]
[null,null,null,null,null,null,null,null,"4 mn/kg > 2000"]
[]
["Désignation","Poids","Prix moyen","Surface peinture","Prix au M2","Quantité","Poids total","Total","M. O.",null,"Désignation","Poids"]
[null,null," matière: E24 2",null,null,null,null,null,{"$f":"IF('Séries 3-4-5'!B6=\"serie 3\",5,4)","v":5}]
[null,null,null,null,13,null,null,null,"mn / kg",null,null,2000,3000,"4000/ 4200","4200 S5"]
["Bati d' entée",{"$f":"IF($F$2=2000,L8,M8)","v":1469},0.85,77,13,1,{"$f":"F8*B8","v":1469},{"$f":"((B8*C8))*F8","v":1248.6499999999999},null,null,"Bati d' entée",1353,1469,2624,2624]
["Bati de sortie",{"$f":"IF($F$2=2000,L9,M9)","v":1060},0.85,56,13,1,{"$f":"F9*B9","v":1060},{"$f":"((B9*C9))*F9","v":901},null,null,"Bati de sortie",1100,1060,2671,2671]
["Poteau",{"$f":"IF($F$2=2000,L10,M10)","v":315},0.85,15,13,{"$f":"IF(SUM(F14+F15+F17+F18+F19)=0,\"\",(F14+F15+F17+F18+F19)-1)","v":{"$error":"#N/A"}},{"$f":"IF(F10=\"\",\"\",F10*B10)","v":{"$error":"#N/A"}},{"$f":"IF(F10=\"\",\"\",((B10*C10))*F10)","v":{"$error":"#N/A"}},null,null,"Poteau",350,315,740,740]
["Support tension de toile",{"$f":"IF($F$2=2000,L11,M11)","v":235},0.85,10,13,1,{"$f":"F11*B11","v":235},{"$f":"((B11*C11))*F11","v":199.75},null,null,"Support tension de toile",102,235,235,235]
["Rails bati d'entrée :",{"$f":"IF(F6=2000,L12,M12)","v":0},null,null,null,null,null,null,null,null,"Rails"]
["Pas de 3000",{"$f":"IF($F$2=2000,L13,M13)","v":130},0.85,6.5,13,{"$f":"'Séries 3-4-5'!B9","v":{"$error":"#N/A"}},{"$f":"F13*B13","v":{"$error":"#N/A"}},{"$f":"((B13*C13))*F13","v":{"$error":"#N/A"}},null,null,"Pas de 3000",130,130,156,156]
["Pas de 3500",{"$f":"IF($F$2=2000,L14,M14)","v":140},0.85,7,13,{"$f":"'Séries 3-4-5'!B10","v":{"$error":"#N/A"}},{"$f":"F14*B14","v":{"$error":"#N/A"}},{"$f":"((B14*C14))*F14","v":{"$error":"#N/A"}},null,null,"Pas de 3500",140,140,168,168]
["Pas de 4000",153,0.85,7.65,13,{"$f":"'Séries 3-4-5'!B11","v":{"$error":"#N/A"}},{"$f":"F15*B15","v":{"$error":"#N/A"}},{"$f":"((B15*C15))*F15","v":{"$error":"#N/A"}},null,null,"Pas de 4000",153,153,184,184]
["Rails :",0,null,null,null,null,null,null,null,null,"Rails :"]
["Intermédiaire 3000",75,0.85,3.75,13,0,{"$f":"F17*B17","v":0},{"$f":"((B17*C17))*F17","v":0},null,null,"Intermédiaire 3000",75,75,90,90]
["Intermédiaire 3500",87,0.85,4.3499999999999996,13,0,{"$f":"F18*B18","v":0},{"$f":"((B18*C18))*F18","v":0},null,null,"Intermédiaire 3500",87,87,105,105]
["Intermédiaire 4000",100,0.85,5,13,0,{"$f":"F19*B19","v":0},{"$f":"((B19*C19))*F19","v":0},null,null,"Intermédiaire 4000",100,100,120,120]
["Bati de sortie",40,0.85,2,13,1,{"$f":"F20*B20","v":40},{"$f":"((B20*C20))*F20","v":34},null,null,"Bati de sortie",40,40,48,48]
["Reforts de table",190,0.85,16,13,{"$f":"LOOKUP(B26,C26:C31,D26:D31)","v":2},{"$f":"F21*B21","v":380},{"$f":"((B21*C21))*F21","v":323},null,null,"Reforts de table",60,190,190,190]
[null,null,"Peinture:",{"$f":"IF(F2=3000,D8+D9+D10+D11+D13*F13+D14*F14+D15*F15+D17*F17+D18*F18+D19*F19+D20+D21*F21,L22*0.03)","v":110.7},{"$f":"D22*E7","v":1439.1000000000001},"TOTAL :",{"$f":"SUM(G8:G21)","v":{"$error":"#N/A"}},{"$f":"SUM(H8:H21)+(HLOOKUP(F2,Char!H84:M90,2,0)/6.655957)","v":{"$error":"#N/A"}},{"$f":"((G22*I6)/60)+70","v":{"$error":"#N/A"}},"inclu 70 h pour protection",null,{"$f":"SUM(L8:L21)","v":3690},{"$f":"SUM(M8:M21)","v":3994},{"$f":"SUM(N8:N21)","v":7331},{"$f":"SUM(O8:O21)","v":7331}]
[null,null,"M.O. :",2,{"$f":"(G22*D23/60)+50","v":{"$error":"#N/A"}}]
["Note:difference rails entrée mise dans bati d'entrée ",null,null,null,null,null,"prix moyen :",{"$f":"H22/G22","v":{"$error":"#N/A"}}]
[]
["Couple DaNm",{"$f":"'Séries 3-4-5'!B77","v":2319.9441837187496},0,1]
[null,null,1000,1]
[null,null,2000,2]
[null,null,4000,3]
[null,null,8000,4]
[null,null,10000,5]

{"sheet":"CSFRAME 4 meter","index":70,"n_rows":31,"n_cols":9,"rows_kept":31,"cut":false,"hidden":true,"merged":[]}
[]
["FILTRE :",{"$f":"(((F13+F17)*3)+((F14+F18)*3.5)+((F15+F19)*4))*F2*0.001","v":{"$error":"#N/A"}},"M2",null,"CHARPENTE LG. :",4200]
[]
[]
["Désignation","Poids","Prix moyen","Surface peinture","Prix au M2","Quantité","Poids total","Total","M. O."]
[null,null," matière: E24 2",null,null,null,null,null,4]
[null,null,null,null,null,null,null,null,"mn / kg"]
["Bati d' entée",2624,0.85,null,13,1,{"$f":"F8*B8","v":2624},{"$f":"((B8*C8))*F8","v":2230.4}]
["Bati de sortie",2671,0.85,null,13,1,{"$f":"F9*B9","v":2671},{"$f":"((B9*C9))*F9","v":2270.35}]
["Poteau",740,0.85,null,13,{"$f":"IF(SUM(F14+F15+F17+F18+F19)=0,\"\",(F14+F15+F17+F18+F19)-1)","v":{"$error":"#N/A"}},{"$f":"IF(F10=\"\",\"\",F10*B10)","v":{"$error":"#N/A"}},{"$f":"IF(F10=\"\",\"\",((B10*C10))*F10)","v":{"$error":"#N/A"}}]
["Support tension de toile",235,0.85,null,13,1,{"$f":"F11*B11","v":235},{"$f":"((B11*C11))*F11","v":199.75}]
["Rails bati d'entrée :"]
["Pas de 3000",156,0.85,null,13,{"$f":"'Séries 3-4-5'!B9","v":{"$error":"#N/A"}},{"$f":"F13*B13","v":{"$error":"#N/A"}},{"$f":"((B13*C13))*F13","v":{"$error":"#N/A"}}]
["Pas de 3500",168,0.85,null,13,{"$f":"'Séries 3-4-5'!B10","v":{"$error":"#N/A"}},{"$f":"F14*B14","v":{"$error":"#N/A"}},{"$f":"((B14*C14))*F14","v":{"$error":"#N/A"}}]
["Pas de 4000",184,0.85,null,13,{"$f":"'Séries 3-4-5'!B11","v":{"$error":"#N/A"}},{"$f":"F15*B15","v":{"$error":"#N/A"}},{"$f":"((B15*C15))*F15","v":{"$error":"#N/A"}}]
["Rails :"]
["Intermédiaire 3000",90,0.85,null,13,0,{"$f":"F17*B17","v":0},{"$f":"((B17*C17))*F17","v":0}]
["Intermédiaire 3500",105,0.85,null,13,0,{"$f":"F18*B18","v":0},{"$f":"((B18*C18))*F18","v":0}]
["Intermédiaire 4000",120,0.85,null,13,0,{"$f":"F19*B19","v":0},{"$f":"((B19*C19))*F19","v":0}]
["Bati de sortie",48,0.85,null,13,1,{"$f":"F20*B20","v":48},{"$f":"((B20*C20))*F20","v":40.799999999999997}]
["Reforts de table",190,0.85,null,13,{"$f":"LOOKUP(B26,C26:C31,D26:D31)","v":2},{"$f":"F21*B21","v":380},{"$f":"((B21*C21))*F21","v":323}]
[null,null,"Peinture:",{"$f":"SUM(G8:G11)*0.03","v":{"$error":"#N/A"}},{"$f":"D22*E21","v":{"$error":"#N/A"}},"TOTAL :",{"$f":"SUM(G8:G21)","v":{"$error":"#N/A"}},{"$f":"SUM(H8:H21)+(HLOOKUP(F2,Char!H84:M90,2,0)/6.655957)","v":{"$error":"#N/A"}},{"$f":"(G22*I6)/60","v":{"$error":"#N/A"}}]
[null,null,"M.O. :",2,{"$f":"SUM(G8:G11)*D23/60","v":{"$error":"#N/A"}}]
["Note:difference rails entrée mise dans bati d'entrée",null,null,null,null,null,"prix moyen :",{"$f":"H22/G22","v":{"$error":"#N/A"}}]
[]
["Couple DaNm",{"$f":"'Séries 3-4-5'!B77","v":2319.9441837187496},0,1,null,null,null,{"$f":"HLOOKUP(F2,Char!H84:M90,2,0)","v":5797}]
[null,null,1000,1]
[null,null,2000,2]
[null,null,4000,3]
[null,null,8000,4]
[null,null,10000,5]

{"sheet":"Char","index":71,"n_rows":96,"n_cols":18,"rows_kept":96,"cut":false,"hidden":true,"merged":[]}
[]
["FAB",{"$f":"'Séries 3-4-5'!B4","v":2},"M2",null,null,"CHARPENTE \"INOX\" Lg.",{"$f":"'Séries 3-4-5'!B3","v":500},null,null,null,null,null," \"ADX\" "]
[]
[]
["Désignation","Poids",null,"Prix moyen matière",null,null,"Quantité","Poids total","Total","Total","Total","Total","M. O."]
[null,null,"304 L","316 L","904 L","U45N",null,null,"304L","316L","904L","U45N",{"$f":"IF('Cost list'!F11=\"\",O7,O6)","v":5.5},"E24",5.5]
[null,null,null,null,null,null,null,null,null,null,null,null," mn/kg",null,3.5]
["Bati d' entée",{"$f":"HLOOKUP($G$2,$B$36:$M$54,2,0)+53","v":282},16.5,20,{"$f":"D8*2.75","v":55},28,1,{"$f":"G8*B8","v":282},{"$f":"C8*H8","v":4653},{"$f":"H8*D8","v":5640},{"$f":"H8*E8","v":15510},{"$f":"F8*H8","v":7896}]
["Bati de sortie",{"$f":"HLOOKUP($G$2,$B$36:$M$53,3,0)","v":227},16.5,20,55,28,1,227,3745.5,4540,12485,{"$f":"F9*H9","v":6356}]
["Poteau",{"$f":"HLOOKUP($G$2,$B$36:$M$53,4,0)","v":92},16.5,20,55,28,{"$f":"IF(SUM(G13+G14+G15+G16+G17+G18+G19)=0,0,(G13+G14+G15+G16+G17+G18+G19)-1)","v":{"$error":"#N/A"}},{"$error":"#N/A"},{"$error":"#N/A"},{"$error":"#N/A"},{"$error":"#N/A"},{"$error":"#N/A"}]
["Support tension de toile",{"$f":"HLOOKUP($G$2,$B$36:$M$53,5,0)","v":0},16.5,20,55,28,1,0,0,0,0,0]
["Renforts de table",{"$f":"HLOOKUP($G$2,$B$36:$M$53,6,0)","v":0},16.5,20,55,28,1,0,0,0,0,0]
["Rails bati d'entrée Pas de 3500",{"$f":"HLOOKUP($G$2,$B$36:$M$53,10,0)","v":312},16.5,20,55,28,{"$f":"'Séries 3-4-5'!B10","v":{"$error":"#N/A"}},{"$error":"#N/A"},{"$error":"#N/A"},{"$error":"#N/A"},{"$error":"#N/A"},{"$error":"#N/A"}]
["Rails bati d'entrée Pas de 4000",{"$f":"HLOOKUP($G$2,$B$36:$M$53,11,0)","v":0},16.5,20,55,28,{"$f":"'Séries 3-4-5'!B11","v":{"$error":"#N/A"}},{"$error":"#N/A"},{"$error":"#N/A"},{"$error":"#N/A"},{"$error":"#N/A"},{"$error":"#N/A"},null,null,null,null,{"$f":"IF(E11=\";\",O24,0)","v":0}]
["Rails intermédiaires Pas de 2000",{"$f":"HLOOKUP($G$2,$B$36:$M$53,12,0)","v":174},16.5,20,55,28,null,0,0,0,0,0]
["Rails intermédiaires Pas de 2500",{"$f":"HLOOKUP($G$2,$B$36:$M$53,13,0)","v":216},16.5,20,55,28,0,0,0,0,0,0]
["Rails intermédiaires Pas de 3000",{"$f":"HLOOKUP($G$2,$B$36:$M$53,14,0)","v":260},16.5,20,55,28,0,0,0,0,0,0]
["Rails intermédiaires Pas de 3500",{"$f":"HLOOKUP($G$2,$B$36:$M$53,15,0)","v":304},16.5,20,55,28,0,0,0,0,0,0]
["Rails intermédiaires Pas de 4000",{"$f":"HLOOKUP($G$2,$B$36:$M$53,16,0)","v":0},16.5,20,55,28,0,0,0,0,0,0]
["Rails Bati de sortie",{"$f":"HLOOKUP($G$2,$B$36:$M$53,17,0)","v":8},16.5,20,55,28,1,8,132,160,440,224]
["Sous-traitance tubes (mètres)",{"$f":"HLOOKUP($G$2,$B$36:$M$53,18,0)","v":{"$error":"#N/A"}},500,500,500,500,1,{"$error":"#N/A"},{"$error":"#N/A"},{"$error":"#N/A"},{"$error":"#N/A"},{"$f":"F21*H21","v":{"$error":"#N/A"}},null,"Bati ADX",null,"mat","MO"]
[null,null,null,null,null,null,null,0,0,0,0,{"$f":"H22*F22","v":0},null,"matiere","MO","Paint","Paint"]
[null,null,null,null,null,null,null,null,null,null,null,null,null,"Euro","Euro","Euro","Euro"]
["Note:difference rails entrée mise dans bati d'entrée",null,null,null,null,null,"TOTAL :",{"$f":"SUM(H8:H20)","v":{"$error":"#N/A"}},{"$f":"IF('Cost list'!$F$11=\"\",(SUM(I8:I22)*1.3)+IF('Séries 3-4-5'!$B$84=0,0,HLOOKUP($G$2,$B$84:$M$87,3,0)),SUM(I8:I22)+IF('Séries 3-4-5'!$B$84=0,0,HLOOKUP($G$2,$B$84:$M$87,3,0)))","v":{"$error":"#N/A"}},{"$f":"IF('Cost list'!$F$11=\"\",(SUM(J8:J22)*1.3)+IF('Séries 3-4-5'!$B$84=0,0,HLOOKUP($G$2,$B$84:$M$87,3,0)),SUM(J8:J22)+IF('Séries 3-4-5'!$B$84=0,0,HLOOKUP($G$2,$B$84:$M$87,3,0)))","v":{"$error":"#N/A"}},{"$f":"IF('Cost list'!$F$11=\"\",(SUM(K8:K22)*1.3)+IF('Séries 3-4-5'!$B$84=0,0,HLOOKUP($G$2,$B$84:$M$87,3,0)),SUM(K8:K22)+IF('Séries 3-4-5'!$B$84=0,0,HLOOKUP($G$2,$B$84:$M$87,3,0)))","v":{"$error":"#N/A"}},{"$f":"IF('Cost list'!$F$11=\"\",(SUM(L8:L22)*1.3)+IF('Séries 3-4-5'!$B$84=0,0,HLOOKUP($G$2,$B$84:$M$87,3,0)),SUM(L8:L22)+IF('Séries 3-4-5'!$B$84=0,0,HLOOKUP($G$2,$B$84:$M$87,3,0)))","v":{"$error":"#N/A"}},{"$f":"((H24*M6)/60)+IF('Séries 3-4-5'!$B$84=0,0,HLOOKUP($G$2,B84:M90,7,0))","v":{"$error":"#N/A"}},{"$f":"IF('Cost list'!L4=3000,'CSFRAME 3 meter'!H22,IF('Cost list'!L4=2000,'CSFRAME 3 meter'!H22,'CSFRAME 4 meter'!H22))","v":{"$error":"#N/A"}},{"$f":"IF('Cost list'!L4=3000,'CSFRAME 3 meter'!I22,IF('Cost list'!L4=2000,'CSFRAME 3 meter'!I22,'CSFRAME 4 meter'!I22))","v":{"$error":"#N/A"}},{"$f":"IF('Cost list'!L4=3000,'CSFRAME 3 meter'!E22,IF('Cost list'!L4=2000,'CSFRAME 3 meter'!E22,'CSFRAME 4 meter'!E22))","v":{"$error":"#N/A"}},{"$f":"IF('Cost list'!L4=3000,'CSFRAME 3 meter'!E23,IF('Cost list'!L4=2000,'CSFRAME 3 meter'!E23,'CSFRAME 4 meter'!E23))","v":{"$error":"#N/A"}}]
[]
[null,350,null,null,null,null,null,"prix moyen :",{"$f":"I24/H24","v":{"$error":"#N/A"}},{"$f":"J24/H24","v":{"$error":"#N/A"}},null,{"$f":"K24/H24","v":{"$error":"#N/A"}}]
["Demontage accessoires",20,null,null,null,null,null,null,{"$f":"I24/6.55957","v":{"$error":"#N/A"}},{"$f":"J24/6.55957","v":{"$error":"#N/A"}},{"$f":"K24/6.55957","v":{"$error":"#N/A"}},{"$f":"L24/6.55957","v":{"$error":"#N/A"}}]
[{"$f":"IF(A26=\"PRE\",\"pre-assembly + labelling\",\"full erection in factory + reinforcement\")","v":"full erection in factory + reinforcement"},100]
[]
[]
[]
[]
[]
[]
[]
[null,250,500,750,1000,1250,1500,2000,2250,2500,3000,4000,4200]
["Bati d' entée",214,229,250,265,null,1124,1175,null,1200,1245,1962,2087]
["Bati de sortie",212,227,248,263,null,796,850,null,1230,1271,1928,2073]
["Poteau",85,92,105,112,null,200,227,null,290,315,462,499]
["Support tension de toile",null,null,null,null,null,120,120,null,120,145,145,145]
["Renforts de table",null,null,null,null,null,190,190,null,190,{"$f":"(63*2)+((LOOKUP($P$41,$Q$41:$Q$46,$R$41:$R$46))*68)","v":194},{"$f":"(63*2)+((LOOKUP($P$41,$Q$41:$Q$46,$R$41:$R$46))*68)","v":194},{"$f":"(63*2)+((LOOKUP($P$41,$Q$41:$Q$46,$R$41:$R$46))*68)","v":194},null,"Couple Nm",{"$f":"'Séries 3-4-5'!B77","v":2319.9441837187496},0,1]
["Rails bati d'entrée Pas de 2000",91,182,182,182,null,null,null,null,null,null,null,null,null,null,null,10000,1]
["Rails bati d'entrée Pas de 2500",112,224,224,224,null,null,null,null,null,null,null,null,null,{"$f":"(LOOKUP(P41,Q41:Q46,R41:R46))","v":1},null,20000,2]
["Rails bati d'entrée Pas de 3000",134,268,268,268,null,130,130,null,130,130,130,130,null,null,null,40000,3]
["Rails bati d'entrée Pas de 3500",156,312,312,312,null,140,140,null,140,140,140,140,null,null,null,80000,4]
["Rails bati d'entrée Pas de 4000",null,null,null,null,null,153,153,null,153,153,153,153,null,null,null,100000,5]
["Rails intermédiaires Pas de 2000",87,174,174,174]
["Rails intermédiaires Pas de 2500",108,216,216,216]
["Rails intermédiaires Pas de 3000",130,260,260,260,null,75,75,null,75,75,75,75]
["Rails intermédiaires Pas de 3500",152,304,304,304,null,87,87,null,87,87,87,87]
["Rails intermédiaires Pas de 4000",null,null,null,null,null,100,100,null,100,100,100,100]
["Rails Bati de sortie",4,8,8,8,null,40,40,null,40,40,40,40]
["Sous-traitance tubes (mètres)",{"$f":"($G$10*3)+6","v":{"$error":"#N/A"}},{"$f":"($G$10*3)+6","v":{"$error":"#N/A"}},{"$f":"($G$10*3)+6","v":{"$error":"#N/A"}},{"$f":"($G$10*3)+6","v":{"$error":"#N/A"}},null,30,30,null,30,30,35,38]
["MO",14,12,12,12,7,7,7,7,5.5,5.5,5.5,5.5]
[]
[]
["GUIDAGE TOILE",250,500,750,1000,1250,1500,2000,2250,2500,3000,4000,4200]
["E24",600,600,600,600,1740,1840,2000,2160,2275,2500,2800,2870]
["304L",600,600,600,600,1740,1840,2000,2160,2275,2500,2800,2870]
["316L",700,700,700,700,2000,2115,2340,2480,2615,2875,3200,3300]
["904L",1925,1925,1925,1925,5500,5820,6500,6820,7190,7910,8800,9075]
["U45N",{"$f":"B61*0.54","v":1039.5},{"$f":"C61*0.54","v":1039.5},1039.5,1039.5,2970,3142.8,3510.0000000000005,3682.8,3882.6000000000004,4271.4000000000005,4752,4900.5]
["NEGOCE",4000,4830,4830,4830,23000,26200,31145,32300,33500,41000,53000,55000]
["MO",40,40,40,40,25,30,30,30,30,30,30,30]
[]
["TENSION TOILE",250,500,750,1000,1250,1500,2000,2250,2500,3000,4000,4200]
["E24",1750,2100,2450,2800,3150,3500,4200,4900,5305,6050,7600,7950]
["304L",1750,2100,2450,2800,3150,3500,4200,4900,5305,6050,7600,7950]
["316L",2000,2400,2800,3200,3600,4000,4800,5610,6100,6950,8725,9100]
["904L",5500,6600,7700,8800,9900,11000,13200,15430,16775,19115,24000,25025]
["U45N",{"$f":"B70*0.54","v":2970},3564.0000000000005,4158,4752,5346,5940,7128.0000000000009,8332.2000000000007,9058.5,10322.1,12960,13513.5]
["NEGOCE",500,500,500,500,1500,1500,1500,1500,1500,1500,1500,1500]
["MO",40,40,40,40,50,50,50,50,50,50,60,60]
[]
["BRAS DE REACTION",250,500,750,1000,1250,1500,2000,2250,2500,3000,4000,4200]
["E24",255,255,255,598,935,1190,1678,1910,2170,2610,5128,5128]
["304L",255,255,255,598,935,1190,1678,1910,2170,2610,5128,5128]
["316L",300,300,300,705,1100,1400,1980,2250,2550,3075,6080,6080]
["904L",825,825,825,1955,3050,3880,5490,6240,7075,8530,17080,17080]
["U45N",{"$f":"B79*0.54","v":445.50000000000006},445.50000000000006,445.50000000000006,1055.7,1647,2095.2000000000003,2964.6000000000004,3369.6000000000004,3820.5000000000005,4606.2000000000007,9223.2000000000007,9223.2000000000007]
["NEGOCE",200,200,200,900,900,900,900,900,900,900,900,900]
["MO",10,10,10,20,25,25,25,30,30,30,50,50]
[]
["PROTECTION",250,500,750,1000,1250,1500,2000,2250,2500,3000,4000,4200]
["304L",null,null,null,null,null,null,4100,null,4879,4879,5644,5797]
["316L",null,null,null,null,null,null,4825,null,5740,5740,6640,6820]
["904L",null,null,null,null,null,null,13265,null,15785,15785,18260,18755]
["U45N",{"$f":"B87*0.54","v":0},0,0,0,0,0,7163.1,0,8523.9000000000015,8523.9000000000015,9860.4000000000015,10127.700000000001]
["NEGOCE",null,null,null,null,null,null,13850,null,16610,16610,18120,19630]
["MO",null,null,null,null,null,null,50,null,50,50,50,50]
[]
["PROTECTION CE",{"$f":"(((B2/G2/0.001)+13)*2+((G2*0.001)+7.5))*250","v":10500}]
[]
["VISSERIE",304,1400]
[null,316,2800]
[null,"904L",14000]

{"sheet":"Tamb","index":72,"n_rows":21,"n_cols":13,"rows_kept":21,"cut":false,"hidden":true,"merged":[]}
["TAMBOURS REVETUS \"NATUREL\""]
[]
["Désignation",250,500,750,1000,1250,1500,2000,2250,2500,3000,4000,4200]
["Matière tambour moteur",900,1000,1100,1200,3607,0,0,0,0,0,0,0]
["Revêtement tambour moteur",4980,5890,6780,7700,10585,38400,42600,0,42600,65600,84300,94300]
["Matière tambour libre",600,700,800,900,2852,0,0,0,0,0,0,0]
["Revêtement tambour libre",3900,4650,5400,6150,8220,33300,37000,0,37000,48500,63400,75000]
["MO Tambour moteur",32,32,32,32,55,0,0,0,0,0,0,0]
["MO Tambour libre",28,28,28,28,46,0,0,0,0,0,0,0]
["Paliers de tambours",1200,3200,3200,4000,10000,13350,17800,null,17800,32000,35000,40300]
[]
[]
[null,null,null,null,null,null,null,null,null,null,null,"dia 1400"]
[null,null,null,null,null,null,null,null,null,null,3000,4000,4200]
[null,null,null,null,null,null,null,null,null,null,12200,15452,0]
[null,null,null,null,null,null,null,null,null,null,23800,29600,94300]
[null,null,null,null,null,null,null,null,null,null,10150,13008,0]
[null,null,null,null,null,null,null,null,null,null,19800,24400,75000]
[null,null,null,null,null,null,null,null,null,null,90,120,0]
[null,null,null,null,null,null,null,null,null,null,80,110,0]
[null,null,null,null,null,null,null,null,null,null,32000,35000,40300]

{"sheet":"Roul","index":73,"n_rows":820,"n_cols":42,"rows_kept":820,"cut":false,"hidden":true,"merged":[]}
["ROULEAUX","Mis à jour le 17/01/06"]
[3000]
["Soutien de bande"]
["Matière","304 L","316 L","E24","904L","U45N",null,"Selection des rouleaux",null,2000,3000,"4000/4200"]
["Désignation",null,null,null,null,null,null,"Cloth form rollers T70",null,273,273,273,5,null,null,null,"Ø","2000304L","2000316L","2000CAOUT","2000904L","2000U45N","2500304L","2500316L","2500CAOUT","2500904L","2500U45N","3000304L","3000316L","3000904L","3000U45N","3000CAOUT","4000304L","4000316L","4000904L","4000U45N","4000CAOUT","4200304L","4200316L","4200904L","4200U45N","4200CAOUT"]
[null,600,700,254,2490,{"$f":"E6*0.54","v":1344.6000000000001},null,"Cloth form rollers T120",null,355,355,355,6,null,null,"Rouleau soutien bande",219,0,0,0,0,0,0,0,0,0,0,0,0,0,0,0,0,0,0,0,0,0,0,0,0,0]
["1 Tube ø 273 x 4,19 Lg 2970",{"$f":"A8*B6","v":1782.0000000000002},{"$f":"A8*C6","v":2079},{"$f":"A8*D6","v":754.38},{"$f":"A8*E6","v":7395.3},{"$f":"A8*F6","v":3993.4620000000004},null,"belt support roller T70",null,273,273,355,7,null,null,null,273,{"$f":"Roul!B112","v":2275},{"$f":"Roul!C112","v":2631},{"$f":"Roul!D112","v":1262.3800000000001},{"$f":"Roul!E112","v":8323.2999999999993},{"$f":"Roul!F112","v":4494.5820000000003},{"$f":"Roul!B112","v":2275},{"$f":"Roul!C112","v":2631},{"$f":"Roul!D112","v":1262.3800000000001},{"$f":"Roul!E112","v":8323.2999999999993},{"$f":"Roul!F112","v":4494.5820000000003},{"$f":"B13","v":2875},{"$f":"C13","v":3331},{"$f":"E13","v":10813.3},{"$f":"F13","v":5839.1820000000007},{"$f":"D13","v":1516.38},0,0,0,0,0,0,0,0,0,0]
[2.97,null,null,null,null,null,null,"belt support roller T120",null,355,355,406,8,null,null,null,355,{"$f":"Roul!B125","v":3047.05},{"$f":"Roul!C125","v":3561.3999999999996},{"$f":"Roul!D125","v":1708.1999999999998},{"$f":"Roul!E125","v":11396.3},{"$f":"Roul!F125","v":6154.0020000000004},{"$f":"Roul!B125","v":3047.05},{"$f":"Roul!C125","v":3561.3999999999996},{"$f":"Roul!D125","v":1708.1999999999998},{"$f":"Roul!E125","v":11396.3},{"$f":"Roul!F125","v":6154.0020000000004},{"$f":"B26","v":5957.05},{"$f":"C26","v":6901.4},{"$f":"E26","v":20716.300000000003},{"$f":"F26","v":11186.802000000001},{"$f":"D26","v":2838.2},{"$f":"B197","v":7231.55},{"$f":"C197","v":8389.4},{"$f":"E197","v":25393.300000000003},{"$f":"F197","v":13712.382},{"$f":"D197","v":3766.2},{"$f":"B282","v":7404.5499999999993},{"$f":"C282","v":8593.4},{"$f":"E282","v":26071.3},{"$f":"F282","v":14078.502},{"$f":"D282","v":3858.2}]
["4 Galettes ép 10 ø 270 x ø 60",610,700,210,1900,{"$f":"E9*0.54","v":1026},null,"Cloth exit rollers",null,168,168,273,9,null,null,null,406,0,0,0,0,0,0,0,0,0,0,0,0,0,0,0,{"$f":"B210","v":9083.6},{"$f":"C210","v":10301},{"$f":"E210","v":28824},{"$f":"F210","v":15564.960000000001},{"$f":"D210","v":3966.2},{"$f":"B295","v":9309.6},{"$f":"C295","v":10561},{"$f":"E295","v":29564},{"$f":"F295","v":15964.560000000001},{"$f":"D295","v":4058.2}]
[null,21,24,24,66,{"$f":"E10*0.54","v":35.64},null,"Cloth discharge rollers",null,168,168,168.3,10,null,null,null,"Ø","2000304L","2000316L","2000CAOUT","2000904L","2000U45N","2500304L","2500316L","2500CAOUT","2500904L","2500U45N","3000304L","3000316L","3000904L","3000U45N","3000CAOUT","4000304L","4000316L","4000904L","4000U45N","4000CAOUT","4200304L","4200316L","4200904L","4200U45N","4200CAOUT"]
["2 Ronds ø 70 Lg 380",{"$f":"A12*B10","v":483},{"$f":"A12*C10","v":552},{"$f":"A12*D10","v":552},{"$f":"A12*E10","v":1518},{"$f":"A12*F10","v":819.72},null,"Cloth support rollers",null,168,168,273,11,null,null,"Revêtement caoutchouc",219,0,0,0,0,0,0,0,0,0,0,0,0,0,0,0,0,0,0,0,0,0,0,0,0,0]
[23,null,null,null,null,null,null,"Cloth return rollers",null,168,219,273,12,null,null,null,273,15,15,{"$f":"Roul!D113+15","v":3030},15,15,15,15,{"$f":"Roul!I113+15","v":15},15,15,15,15,15,15,{"$f":"D14+15","v":4485},0,0,0,0,0,0,0,0,0,0]
["TOTAL Matière",{"$f":"B7+B9+B11","v":2875},{"$f":"C7+C9+C11","v":3331},{"$f":"D7+D9+D11","v":1516.38},{"$f":"E7+E9+E11","v":10813.3},{"$f":"F7+F9+F11","v":5839.1820000000007},null,{"$f":"\"T\"&'Séries 3-4-5'!B18&(LEFT('Séries 3-4-5'!B3,1))","v":"T705"},"T702","T1202","T703","T1203","T704","T1204",null,null,355,15,15,{"$f":"Roul!D126+15","v":4025},15,15,15,15,{"$f":"Roul!I126+15","v":15},15,15,15,15,15,15,{"$f":"D27","v":5900},15,15,15,15,{"$f":"D198+15","v":7715},15,15,15,15,{"$f":"D283+15","v":8085}]
["Revêtement caoutchouc",null,null,4470,null,null,"belt support",{"$f":"IF($H$13=K13,K7,IF($H$13=L13,K8,IF($H$13=M13,L7,IF($H$13=N13,L8,IF($H$13=I13,J7,J8)))))","v":355},"7*8",null,null,null,null,null,null,null,406,0,0,0,0,0,0,0,0,0,0,0,0,0,0,0,15,15,15,15,{"$f":"D211+15","v":8827},15,15,15,15,{"$f":"D296+15","v":9250}]
["M. O.",6,6,6,6,6,"Cloth return",{"$f":"IF($H$13=K13,K12,IF($H$13=L13,K12,IF($H$13=M13,L12,IF($H$13=N13,L12,IF($H$13=I13,J12,J12)))))","v":168},12,null,null,null,null,null,null,null,"Ø","2000304L","2000316L","2000CAOUT","2000904L","2000U45N","2500304L","2500316L","2500CAOUT","2500904L","2500U45N","3000304L","3000316L","3000904L","3000U45N","3000CAOUT","4000304L","4000316L","4000904L","4000U45N","4000CAOUT","4200304L","4200316L","4200904L","4200U45N","4200CAOUT"]
["Soutien de bande",null,null,null,null,null,"Cloth support",{"$f":"IF($H$13=K13,K11,IF($H$13=L13,K11,IF($H$13=M13,L11,IF($H$13=N13,L11,IF($H$13=I13,J11,J11)))))","v":168},11,null,null,null,null,null,null,"Rouleau soutien toile",60,0,0,0,0,0,0,0,0,0,0,0,0,0,0,0,0,0,0,0,0,0,0,0,0,0]
["Matière","304 L","316 L","E24","904L","U45N","Cloth exist",{"$f":"IF($H$13=K13,K9,IF($H$13=L13,K10,IF($H$13=M13,L9,IF($H$13=N13,L9,IF($H$13=I13,J9,J9)))))","v":168},9,null,null,null,null,null,null,null,114,0,0,{"$f":"Roul!D804","v":0},0,0,0,0,{"$f":"Roul!I804","v":0},0,0,0,0,0,0,{"$f":"#REF!","v":{"$error":"#REF!"}},0,0,0,0,0,0,0,0,0,0]
["Désignation",null,null,null,null,null,"Cloth form",{"$f":"IF($H$13=K13,K5,IF(Roul!$H$13=L13,K6,IF($H$13=M13,L5,IF($H$13=N13,L6,IF($H$13=I13,J6,J5)))))","v":273},"5*6",null,null,null,null,null,null,null,168.3,{"$f":"Roul!B139","v":1056.5},{"$f":"Roul!C139","v":1178},{"$f":"Roul!D139","v":721.8},{"$f":"Roul!E139","v":4208.5},{"$f":"Roul!F139","v":2290.9900000000002},{"$f":"Roul!B139","v":1056.5},{"$f":"Roul!C139","v":1178},{"$f":"Roul!D139","v":721.8},{"$f":"Roul!E139","v":4208.5},{"$f":"Roul!F139","v":2290.9900000000002},{"$f":"B40","v":1346.5},{"$f":"C40","v":1498},{"$f":"E40","v":5538.5},{"$f":"F40","v":3009.1900000000005},{"$f":"D40","v":885.80000000000007},0,0,0,0,0,0,0,0,0,0]
[null,865,1020,460,3390,{"$f":"E19*0.54","v":1830.6000000000001},null,null,null,null,null,null,null,null,null,null,219,0,0,0,0,0,0,0,0,0,0,{"$f":"B54","v":1881},{"$f":"C54","v":2069},{"$f":"E54","v":5696.25},{"$f":"F54","v":3099.8950000000004},{"$f":"D54","v":1299.6500000000001},0,0,0,0,0,0,0,0,0,0]
["1 Tube ø 355 x 4,78 Lg 2970",{"$f":"A21*B19","v":2569.0500000000002},{"$f":"A21*C19","v":3029.4},{"$f":"A21*D19","v":1366.2},{"$f":"A21*E19","v":10068.300000000001},{"$f":"A21*F19","v":5436.8820000000005},null,null,null,null,null,null,null,null,null,null,273,0,0,0,0,0,0,0,0,0,0,0,0,0,0,0,{"$f":"B224","v":3542},{"$f":"C224","v":4098},{"$f":"E224","v":13587.5},{"$f":"F224","v":7385.5500000000011},{"$f":"D224","v":1868.3},{"$f":"B309","v":3662},{"$f":"C309","v":4238},{"$f":"E309","v":14085.5},{"$f":"F309","v":7654.4700000000012},{"$f":"D309","v":1919.1000000000001}]
[2.97,null,null,null,null,null,null,"SI($H$13=I13;K7;SI($H$13=J13;K8;SI($H$13=K13;L7;SI($H$13=J13;SI($H$13=J13;K8)))",null,null,null,null,null,null,null,null,"Ø","2000304L","2000316L","2000CAOUT","2000904L","2000U45N","2500304L","2500316L","2500CAOUT","2500904L","2500U45N","3000304L","3000316L","3000904L","3000U45N","3000CAOUT","4000304L","4000316L","4000904L","4000U45N","4000CAOUT","4200304L","4200316L","4200904L","4200U45N","4200CAOUT"]
["4 Galettes moulées ø 350",2800,3200,800,8800,{"$f":"E22*0.54","v":4752},null,null,null,null,null,null,null,null,null,"Revêtement caoutchouc",60,0,0,0,0,0,0,0,0,0,0,0,0,0,0,0,0,0,0,0,0,0,0,0,0,0]
[null,21,24,24,66,{"$f":"E23*0.54","v":35.64},null,null,null,null,null,null,null,null,null,null,114,0,0,{"$f":"Roul!D805","v":0},0,0,0,0,{"$f":"Roul!I805","v":0},0,0,0,0,0,0,{"$f":"#REF!","v":{"$error":"#REF!"}},0,0,0,0,0,0,0,0,0,0]
["2 Ronds ø 70 Lg 450",{"$f":"A25*B23","v":588},{"$f":"A25*C23","v":672},{"$f":"A25*D23","v":672},{"$f":"A25*E23","v":1848},{"$f":"A25*F23","v":997.92000000000007},null,null,null,null,null,null,null,null,null,null,168.3,15,15,{"$f":"Roul!D140+15","v":2390},15,15,15,15,{"$f":"Roul!D140+15","v":2390},15,15,15,15,15,15,{"$f":"D41","v":3325},0,0,0,0,0,0,0,0,0,0]
[28,null,null,null,null,null,null,null,null,null,null,null,null,null,null,null,219,0,0,0,0,0,0,0,0,0,0,15,15,15,15,{"$f":"D55","v":4400},0,0,0,0,0,0,0,0,0,0]
["TOTAL Matière",{"$f":"B20+B22+B24","v":5957.05},{"$f":"C20+C22+C24","v":6901.4},{"$f":"D20+D22+D24","v":2838.2},{"$f":"E20+E22+E24","v":20716.300000000003},{"$f":"F20+F22+F24","v":11186.802000000001},null,null,null,null,null,null,null,null,null,null,273,0,0,0,0,0,0,0,0,0,0,0,0,0,0,0,15,15,15,15,{"$f":"D225+15","v":6985},15,15,15,15,{"$f":"D310+15","v":7290}]
["Revêtement caoutchouc",null,null,5900,null,null,null,null,null,null,null,null,null,null,null,null,"Ø","2000304L","2000316L","2000CAOUT","2000904L","2000U45N","2500304L","2500316L","2500CAOUT","2500904L","2500U45N","3000304L","3000316L","3000904L","3000U45N","3000CAOUT","4000304L","4000316L","4000904L","4000U45N","4000CAOUT","4200304L","4200316L","4200904L","4200U45N","4200CAOUT"]
["M. O.",14,14,14,14,14,null,null,null,null,null,null,null,null,null,"Rouleau d'entrée",219,0,0,0,0,0,0,0,0,0,0,0,0,0,0,0,0,0,0,0,0,0,0,0,0,0]
["Soutien de toile",null,null,null,null,null,"Soutien de toile",null,null,null,null,null,null,null,null,null,273,{"$f":"Roul!B154","v":2224.5},{"$f":"Roul!C154","v":2618},{"$f":"Roul!D154","v":1327.9},{"$f":"Roul!E154","v":9018.5},{"$f":"Roul!F154","v":6022.29},{"$f":"Roul!B154","v":2224.5},{"$f":"Roul!C154","v":2618},{"$f":"Roul!D154","v":1327.9},{"$f":"Roul!E154","v":9018.5},{"$f":"Roul!F154","v":6022.29},{"$f":"B69","v":2824.5},{"$f":"C69","v":3318},{"$f":"E69","v":11508.5},{"$f":"F69","v":7366.89},{"$f":"D69","v":1581.9},{"$f":"B239","v":3424.5},{"$f":"C239","v":4018},{"$f":"E239","v":13998.5},{"$f":"F239","v":8711.4900000000016},{"$f":"D239","v":1835.9},{"$f":"B324","v":3544.5},{"$f":"C324","v":4158},{"$f":"E324","v":14496.5},{"$f":"F324","v":8980.41},{"$f":"D324","v":1886.7}]
["Matière","304 L","316 L","E24","904L","U45N","Matière",null,null,"E24",null,null,null,null,null,null,355,{"$f":"Roul!B169","v":3638.8},{"$f":"Roul!C169","v":4294.3999999999996},{"$f":"Roul!D169","v":2045.2},{"$f":"Roul!E169","v":14476.8},{"$f":"Roul!F169","v":9726.4720000000016},{"$f":"Roul!B169","v":3638.8},{"$f":"Roul!C169","v":4294.3999999999996},{"$f":"Roul!D169","v":2045.2},{"$f":"Roul!E169","v":14476.8},{"$f":"Roul!F169","v":9726.4720000000016},{"$f":"B84","v":4503.7999999999993},{"$f":"C84","v":5314.4},{"$f":"E84","v":17866.8},{"$f":"F84","v":11557.072},{"$f":"D84","v":2505.1999999999998},{"$f":"B254","v":5368.7999999999993},{"$f":"C254","v":6334.4},{"$f":"E254","v":21256.799999999999},{"$f":"F254","v":13387.672},{"$f":"D254","v":2965.2},{"$f":"B339","v":5541.7999999999993},{"$f":"C339","v":6538.4},{"$f":"E339","v":21934.799999999999},{"$f":"F339","v":13753.791999999999},{"$f":"D339","v":3057.2}]
["Désignation",null,null,null,null,null,"Désignation",null,null,null,null,null,null,null,null,null,"Ø","2000304L","2000316L","2000CAOUT","2000904L","2000U45N","2500304L","2500316L","2500CAOUT","2500904L","2500U45N","3000304L","3000316L","3000904L","3000U45N","3000CAOUT","4000304L","4000316L","4000904L","4000U45N","4000CAOUT","4200304L","4200316L","4200904L","4200U45N","4200CAOUT"]
[null,290,320,164,1330,{"$f":"E32*0.54","v":718.2},null,null,null,12,null,null,null,null,null,"Revêtement caoutchouc",219,0,0,0,0,0,0,0,0,0,0,0,0,0,0,0,0,0,0,0,0,0,0,0,0,0]
["1 Tube ø 168,3 x 3,4 Lg 3450",{"$f":"A34*B32","v":1000.5},{"$f":"A34*C32","v":1104},{"$f":"A34*D32","v":565.80000000000007},{"$f":"A34*E32","v":4588.5},{"$f":"A34*F32","v":2477.7900000000004},"1 Tube ø 168,3 x 7,11 Lg 3450",null,null,{"$f":"G34*J32","v":1200},null,null,null,null,null,null,273,15,15,{"$f":"Roul!D155","v":3015},15,15,15,15,{"$f":"Roul!D155","v":3015},15,15,15,15,15,15,{"$f":"D70","v":4470},15,15,15,15,{"$f":"D240","v":5850},15,15,15,15,{"$f":"D325+15","v":6165}]
[3.45,null,null,null,null,null,100,null,null,null,null,null,null,null,null,null,355,15,15,{"$f":"Roul!D170","v":4010},15,15,15,15,{"$f":"Roul!D170","v":4010},15,15,15,15,15,15,{"$f":"D85","v":5900},15,15,15,15,{"$f":"D255","v":7700},15,15,15,15,{"$f":"D340+15","v":8115}]
["2 Galettes ép 10 ø 170 x ø 50",96,114,40,250,{"$f":"E35*0.54","v":135},"2 Galettes ép 10 ø 170 x ø 50",null,null,40,null,null,null,null,null,null,"Ø","2000304L","2000316L","2000CAOUT","2000904L","2000U45N","2500304L","2500316L","2500CAOUT","2500904L","2500U45N","3000304L","3000316L","3000904L","3000U45N","3000CAOUT","4000304L","4000316L","4000904L","4000U45N","4000CAOUT","4200304L","4200316L","4200904L","4200U45N","4200CAOUT"]
["2 Galettes ép 10 ø 170 x ø 50",40,40,40,40,40,"2 Galettes ép 10 ø 170 x ø 50",null,null,40,null,null,null,null,null,"Rouleau guide",168.3,{"$f":"Roul!B183","v":1056.5},{"$f":"Roul!C183","v":1178},{"$f":"Roul!D183","v":0},{"$f":"Roul!E183","v":4208.5},{"$f":"Roul!F183","v":2290.9900000000002},{"$f":"Roul!B183","v":1056.5},{"$f":"Roul!C183","v":1178},{"$f":"Roul!D183","v":0},{"$f":"Roul!E183","v":4208.5},{"$f":"Roul!F183","v":2290.9900000000002},0,0,0,0,0,0,0,0,0,0,0,0,0,0,0]
[null,21,24,24,66,{"$f":"E37*0.54","v":35.64},null,null,null,24,null,null,null,null,null,null,219,0,0,0,0,0,0,0,0,0,0,{"$f":"B98","v":1881},{"$f":"C98","v":2069},{"$f":"E98","v":5696.25},{"$f":"F98","v":3099.8950000000004},0,0,0,0,0,0,0,0,0,0,0]
["2 Ronds ø 55 Lg 265",{"$f":"A39*B37","v":210},{"$f":"A39*C37","v":240},{"$f":"A39*D37","v":240},{"$f":"A39*E37","v":660},{"$f":"A39*F37","v":356.4},"2 Ronds ø 55 Lg 265",null,null,{"$f":"G39*J37","v":240},null,null,null,null,null,null,273,0,0,0,0,0,0,0,0,0,0,0,0,0,0,0,{"$f":"B268","v":3542},{"$f":"C268","v":4098},{"$f":"E268","v":13587.5},{"$f":"F268","v":7385.5500000000011},0,{"$f":"B353","v":3662},{"$f":"C353","v":4238},{"$f":"E353","v":14085.5},{"$f":"F353","v":7654.4700000000012},0]
[10,null,null,null,null,null,10,null,null,null,null,null,null,null,null,null,"Ø","2000304L","2000316L","2000CAOUT","2000904L","2000U45N","2500304L","2500316L","2500CAOUT","2500904L","2500U45N","3000304L","3000316L","3000904L","3000U45N","3000CAOUT","4000304L","4000316L","4000904L","4000U45N","4000CAOUT","4200304L","4200316L","4200904L","4200U45N","4200CAOUT"]
["TOTAL Matière",{"$f":"B33+B35+B36+B38","v":1346.5},{"$f":"C33+C35+C36+C38","v":1498},{"$f":"D33+D35+D36+D38","v":885.80000000000007},{"$f":"E33+E35+E36+E38","v":5538.5},{"$f":"F33+F35+F36+F38","v":3009.1900000000005},"TOTAL Matière",null,null,{"$f":"J33+J35+J36+J38","v":1520},null,null,null,null,null,"Revêtement caoutchouc",168.3,{"$f":"Roul!B184","v":2150},{"$f":"Roul!C184","v":2150},0,{"$f":"Roul!E184","v":2150},{"$f":"Roul!F184","v":2150},{"$f":"Roul!B184","v":2150},{"$f":"Roul!C184","v":2150},0,{"$f":"Roul!E184","v":2150},{"$f":"Roul!F184","v":2150},0,0,0,0,0,0,0,0,0,0,0,0,0,0,0]
["Revêtement caoutchouc",null,null,3325,null,null,"Revêtement caoutchouc",null,null,4000,null,null,null,null,null,null,219,0,0,0,0,0,0,0,0,0,0,{"$f":"B99","v":3500},{"$f":"C99","v":3500},{"$f":"E99","v":3500},{"$f":"F99","v":3500},0,0,0,0,0,0,0,0,0,0,0]
["M. O.",6,6,6,6,6,"M. O.",null,null,12,null,null,null,null,null,null,273,0,0,0,0,0,0,0,0,0,0,0,0,0,0,0,{"$f":"B269","v":5725},{"$f":"C269","v":5725},{"$f":"E269","v":5725},{"$f":"F269","v":5725},0,{"$f":"B354","v":6000},{"$f":"C354","v":6000},{"$f":"E354","v":6000},{"$f":"F354","v":6000},0]
["Soutien de toile"]
["Matière","304 L","316 L","E24","904L","U45N",null,null,null,null,null,null,null,null,null,"Ø",null,null,"Rouleau débatisseur :"]
["Désignation",null,null,null,null,null,null,null,null,null,null,null,null,null,null,60,2,null,null,1500,2000,3000,null,null,null,null,null,4000,4200]
[null,420,460,277,1265,{"$f":"E46*0.54","v":683.1},null,null,null,null,null,null,null,null,null,114,3.5,null,168,{"$f":"S378","v":0},{"$f":"J139","v":1160},{"$f":"J40","v":1520},null,null,null,null,null,{"$f":"J224","v":2168},{"$f":"J309","v":2390.5500000000002}]
["1 Tube ø 219,1 x 3,76 Lg 3450",{"$f":"A48*B46","v":1449},{"$f":"A48*C46","v":1587},{"$f":"A48*D46","v":955.65000000000009},{"$f":"A48*E46","v":4364.25},{"$f":"A48*F46","v":2356.6950000000002},null,null,null,null,null,null,null,null,null,168,5,null,null,null,{"$f":"J140","v":3000},{"$f":"J41","v":4000},null,null,null,null,null,{"$f":"J225","v":4000},{"$f":"J310","v":5000}]
[3.45,null,null,null,null,null,null,null,null,null,null,null,null,null,null,219,6,null,null,null,{"$f":"J141","v":12},{"$f":"J42","v":12},null,null,null,null,null,{"$f":"J226","v":12},{"$f":"J311","v":15}]
["2 Galettes ép 10 ø 220 x ø 50",170,190,52,620,{"$f":"E49*0.54","v":334.8},null,null,null,null,null,null,null,null,null,273,7]
["2 Galettes ép 10 ø 220 x ø 50",52,52,52,52,52,null,null,null,null,null,null,null,null,null,355,13]
[null,21,24,24,66,{"$f":"E51*0.54","v":35.64},null,null,null,null,null,null,null,null,null,406,15]
["2 Ronds ø 55 Lg 265",{"$f":"A53*B51","v":210},{"$f":"A53*C51","v":240},{"$f":"A53*D51","v":240},{"$f":"A53*E51","v":660},{"$f":"A53*F51","v":356.4}]
[10,null,null,null,null,null,null,null,null,null,null,null,null,null,null,"SNH507",200,0.15]
["TOTAL Matière",{"$f":"B47+B49+B50+B52","v":1881},{"$f":"C47+C49+C50+C52","v":2069},{"$f":"D47+D49+D50+D52","v":1299.6500000000001},{"$f":"E47+E49+E50+E52","v":5696.25},{"$f":"F47+F49+F50+F52","v":3099.8950000000004},null,null,null,null,null,null,null,null,null,"SNH509",270,0.15]
["Revêtement caoutchouc",null,null,4400,null,null,null,null,null,null,null,null,null,null,null,"SNH511",326,0.15]
["M. O.",7,7,7,7,7]
["Rouleau d'entrée",null,null,null,null,null,null,null,null,null,null,null,null,null,null,250,200]
["Matière","304 L","316 L","E24","904L","U45N",null,null,null,null,null,null,null,null,null,500,200]
["Désignation",null,null,null,null,null,null,null,null,null,null,null,null,null,null,750,200]
[null,600,700,254,2490,{"$f":"E60*0.54","v":1344.6000000000001},null,null,null,null,null,null,null,null,null,1000,200]
["1 Tube ø 273 x 4,19 Lg 2850",{"$f":"A62*B60","v":1710},{"$f":"A62*C60","v":1995},{"$f":"A62*D60","v":723.9},{"$f":"A62*E60","v":7096.5},{"$f":"A62*F60","v":3832.1100000000006},null,null,null,null,null,null,null,null,null,1250,270]
[2.85,null,null,null,null,null,null,null,null,null,null,null,null,null,null,1500,270]
["2 Galettes ép 10 ø 270 x ø 50",305,350,105,950,{"$f":"E63*0.54","v":513},null,null,null,null,null,null,null,null,null,2000,270]
["2 Galettes ép 10 ø 270 x ø 50",105,105,105,105,105,null,null,null,null,null,null,null,null,null,2250,270]
[null,21,24,24,66,{"$f":"E65*0.54","v":35.64},null,null,null,null,null,null,null,null,null,2500,270]
["2 Ronds ø 55 Lg 385",{"$f":"A67*B65","v":304.5},{"$f":"A67*C65","v":348},{"$f":"A67*D65","v":348},{"$f":"A67*E65","v":957},{"$f":"A67*F65","v":516.78},null,null,null,null,null,null,null,null,null,3000,270]
[14.5,null,null,null,null,null,null,null,null,null,null,null,null,null,null,4000,270,326]
["Fond bombé Ø 273",400,520,300,2400,2400,null,null,null,null,null,null,null,null,null,4200,270,326]
["TOTAL Matière",{"$f":"B61+B63+B64+B66+B68","v":2824.5},{"$f":"C61+C63+C64+C66+C68","v":3318},{"$f":"D61+D63+D64+D66+D68","v":1581.9},{"$f":"E61+E63+E64+E66+E68","v":11508.5},{"$f":"F61+F63+F64+F66+F68","v":7366.89}]
["Revêtement caoutchouc",null,null,4470]
["M. O.",9,9,9,9,9]
["Rouleau d'entrée"]
["Matière","304 L","316 L","E24","904L","U45N"]
["Désignation"]
[null,865,1020,460,3390,{"$f":"E75*0.54","v":1830.6000000000001}]
["1 Tube ø 355 x 4,78 Lg 2820",{"$f":"A77*B75","v":2439.2999999999997},{"$f":"A77*C75","v":2876.3999999999996},{"$f":"A77*D75","v":1297.1999999999998},{"$f":"A77*E75","v":9559.7999999999993},{"$f":"A77*F75","v":5162.2920000000004}]
[2.82]
["2 Galettes ép 10 ø 350 x ø 50",860,1000,250,3200,{"$f":"E78*0.54","v":1728}]
["2 Galettes ép 10 ø 350 x ø 50",250,250,250,250,250]
[null,21,24,24,66,{"$f":"E80*0.54","v":35.64}]
["2 Ronds ø 55 Lg 385",{"$f":"A82*B80","v":304.5},{"$f":"A82*C80","v":348},{"$f":"A82*D80","v":348},{"$f":"A82*E80","v":957},{"$f":"A82*F80","v":516.78}]
[14.5]
["Fond bombé Ø 355",650,840,360,3900,3900]
["TOTAL Matière",{"$f":"B76+B78+B79+B81+B83","v":4503.7999999999993},{"$f":"C76+C78+C79+C81+C83","v":5314.4},{"$f":"D76+D78+D79+D81+D83","v":2505.1999999999998},{"$f":"E76+E78+E79+E81+E83","v":17866.8},{"$f":"F76+F78+F79+F81+F83","v":11557.072}]
["Revêtement caoutchouc",null,null,5900]
["M. O.",10,10,10,10,10]
["Guidage toile"]
["Matière","304 L","316 L",null,"904L","U45N"]
["Désignation"]
[null,420,460,null,1265,{"$f":"E90*0.54","v":683.1}]
["1 Tube ø 219,1 x 3,76 Lg 3450",{"$f":"A92*B90","v":1449},{"$f":"A92*C90","v":1587},null,{"$f":"A92*E90","v":4364.25},{"$f":"A92*F90","v":2356.6950000000002}]
[3.45]
["2 Galettes ép 10 ø 220 x ø 50",170,190,null,620,{"$f":"E93*0.54","v":334.8}]
["2 Galettes ép 10 ø 220 x ø 50",52,52,null,52,52]
[null,21,24,null,66,{"$f":"E95*0.54","v":35.64}]
["2 Ronds ø 55 Lg 265",{"$f":"A97*B95","v":210},{"$f":"A97*C95","v":240},null,{"$f":"A97*E95","v":660},{"$f":"A97*F95","v":356.4}]
[10]
["TOTAL Matière",{"$f":"B91+B93+B94+B96","v":1881},{"$f":"C91+C93+C94+C96","v":2069},null,{"$f":"E91+E93+E94+E96","v":5696.25},{"$f":"F91+F93+F94+F96","v":3099.8950000000004}]
["Revêtement caoutchouc",3500,3500,null,3500,3500]
["M. O.",7,7,null,7,7]
[2000]
["Soutien de bande"]
["Matière","304 L","316 L","E24","904L","U45N"]
["Désignation"]
[null,600,700,254,2490,{"$f":"E105*0.54","v":1344.6000000000001}]
["1 Tube ø 273 x 4,19 Lg 1970",{"$f":"A107*B105","v":1182},{"$f":"A107*C105","v":1379},{"$f":"A107*D105","v":500.38},{"$f":"A107*E105","v":4905.3},{"$f":"A107*F105","v":2648.8620000000001}]
[1.97]
["4 Galettes ép 10 ø 270 x ø 60",610,700,210,1900,{"$f":"E108*0.54","v":1026}]
[null,21,24,24,66,{"$f":"E109*0.54","v":35.64}]
["2 Ronds ø 70 Lg 380",{"$f":"A111*B109","v":483},{"$f":"A111*C109","v":552},{"$f":"A111*D109","v":552},{"$f":"A111*E109","v":1518},{"$f":"A111*F109","v":819.72}]
[23]
["TOTAL Matière",{"$f":"B106+B108+B110","v":2275},{"$f":"C106+C108+C110","v":2631},{"$f":"D106+D108+D110","v":1262.3800000000001},{"$f":"E106+E108+E110","v":8323.2999999999993},{"$f":"F106+F108+F110","v":4494.5820000000003}]
["Revêtement caoutchouc",null,null,3015]
["M. O.",6,6,6,6,6]
["Soutien de bande"]
["Matière","304 L","316 L","E24","904L","U45N"]
["Désignation"]
[null,865,1020,460,3390,{"$f":"E118*0.54","v":1830.6000000000001}]
["1 Tube ø 355 x 4,78 Lg 1970",{"$f":"A120*B118","v":1704.05},{"$f":"A120*C118","v":2009.3999999999999},{"$f":"A120*D118","v":906.19999999999993},{"$f":"A120*E118","v":6678.3},{"$f":"A120*F118","v":3606.2820000000002}]
[1.97]
["4 Galettes ép 10 ø 350 x ø 60",860,1000,250,3200,{"$f":"E121*0.54","v":1728}]
[null,21,24,24,66,{"$f":"E122*0.54","v":35.64}]
["2 Ronds ø 70 Lg 380",{"$f":"A124*B122","v":483},{"$f":"A124*C122","v":552},{"$f":"A124*D122","v":552},{"$f":"A124*E122","v":1518},{"$f":"A124*F122","v":819.72}]
[23]
["TOTAL Matière",{"$f":"B119+B121+B123","v":3047.05},{"$f":"C119+C121+C123","v":3561.3999999999996},{"$f":"D119+D121+D123","v":1708.1999999999998},{"$f":"E119+E121+E123","v":11396.3},{"$f":"F119+F121+F123","v":6154.0020000000004}]
["Revêtement caoutchouc",null,null,4010]
["M. O.",8,8,8,8,8]
["Soutien de toile",null,null,null,null,null,"Soutien de toile"]
["Matière","304 L","316 L","E24","904L","U45N","Matière",null,null,"E24"]
["Désignation",null,null,null,null,null,"Désignation"]
[null,290,320,164,1330,{"$f":"E131*0.54","v":718.2},null,null,null,12]
["1 Tube ø 168,3 x 3,4 Lg 2450",{"$f":"A133*B131","v":710.5},{"$f":"A133*C131","v":784},{"$f":"A133*D131","v":401.8},{"$f":"A133*E131","v":3258.5000000000005},{"$f":"A133*F131","v":1759.5900000000001},"1 Tube ø 168,3 x 7,11 Lg 2450",null,null,{"$f":"G133*J131","v":840}]
[2.4500000000000002,null,null,null,null,null,70]
["2 Galettes ép 10 ø 170 x ø 50",96,114,40,250,{"$f":"E134*0.54","v":135},"2 Galettes ép 10 ø 170 x ø 50",null,null,40]
["2 Galettes ép 10 ø 170 x ø 50",40,40,40,40,40,"2 Galettes ép 10 ø 170 x ø 50",null,null,40]
[null,21,24,24,66,{"$f":"E136*0.54","v":35.64},null,null,null,24]
["2 Ronds ø 55 Lg 265",{"$f":"A138*B136","v":210},{"$f":"A138*C136","v":240},{"$f":"A138*D136","v":240},{"$f":"A138*E136","v":660},{"$f":"A138*F136","v":356.4},"2 Ronds ø 55 Lg 265",null,null,{"$f":"G138*J136","v":240}]
[10,null,null,null,null,null,10]
["TOTAL Matière",{"$f":"B132+B134+B135+B137","v":1056.5},{"$f":"C132+C134+C135+C137","v":1178},{"$f":"D132+D134+D135+D137","v":721.8},{"$f":"E132+E134+E135+E137","v":4208.5},{"$f":"F132+F134+F135+F137","v":2290.9900000000002},"TOTAL Matière",null,null,{"$f":"J132+J134+J135+J137","v":1160}]
["Revêtement caoutchouc",null,null,2375,null,null,"Revêtement caoutchouc",null,null,3000]
["M. O.",6,6,6,6,6,"M. O.",null,null,12]
["Rouleau d'entrée"]
["Matière","304 L","316 L","E24","904L","U45N"]
["Désignation"]
[null,600,700,254,2490,{"$f":"E145*0.54","v":1344.6000000000001}]
["1 Tube ø 273 x 4,19 Lg 1850",{"$f":"A147*B145","v":1110},{"$f":"A147*C145","v":1295},{"$f":"A147*D145","v":469.90000000000003},{"$f":"A147*E145","v":4606.5},{"$f":"A147*F145","v":2487.5100000000002}]
[1.85]
["2 Galettes ép 10 ø 270 x ø 50",305,350,105,950,{"$f":"E148*0.54","v":513}]
["2 Galettes ép 10 ø 270 x ø 50",105,105,105,105,105]
[null,21,24,24,66,{"$f":"E150*0.54","v":35.64}]
["2 Ronds ø 55 Lg 385",{"$f":"A152*B150","v":304.5},{"$f":"A152*C150","v":348},{"$f":"A152*D150","v":348},{"$f":"A152*E150","v":957},{"$f":"A152*F150","v":516.78}]
[14.5]
["Fond bombé Ø 273",400,520,300,2400,2400]
["TOTAL Matière",{"$f":"B146+B148+B149+B151+B153","v":2224.5},{"$f":"C146+C148+C149+C151+C153","v":2618},{"$f":"D146+D148+D149+D151+D153","v":1327.9},{"$f":"E146+E148+E149+E151+E153","v":9018.5},{"$f":"F146+F148+F149+F151+F153","v":6022.29}]
["Revêtement caoutchouc",null,null,3015]
["M. O.",9,9,9,9,9]
["Rouleau d'entrée"]
["Matière","304 L","316 L","E24","904L","U45N"]
["Désignation"]
[null,865,1020,460,3390,{"$f":"E160*0.54","v":1830.6000000000001}]
["1 Tube ø 355 x 4,78 Lg 1820",{"$f":"A162*B160","v":1574.3},{"$f":"A162*C160","v":1856.4},{"$f":"A162*D160","v":837.2},{"$f":"A162*E160","v":6169.8},{"$f":"A162*F160","v":3331.6920000000005}]
[1.82]
["2 Galettes ép 10 ø 350 x ø 50",860,1000,250,3200,{"$f":"E163*0.54","v":1728}]
["2 Galettes ép 10 ø 350 x ø 50",250,250,250,250,250]
[null,21,24,24,66,{"$f":"E165*0.54","v":35.64}]
["2 Ronds ø 55 Lg 385",{"$f":"A167*B165","v":304.5},{"$f":"A167*C165","v":348},{"$f":"A167*D165","v":348},{"$f":"A167*E165","v":957},{"$f":"A167*F165","v":516.78}]
[14.5]
["Fond bombé Ø 355",650,840,360,3900,3900]
["TOTAL Matière",{"$f":"B161+B163+B164+B166+B168","v":3638.8},{"$f":"C161+C163+C164+C166+C168","v":4294.3999999999996},{"$f":"D161+D163+D164+D166+D168","v":2045.2},{"$f":"E161+E163+E164+E166+E168","v":14476.8},{"$f":"F161+F163+F164+F166+F168","v":9726.4720000000016}]
["Revêtement caoutchouc",null,null,4010]
["M. O.",10,10,10,10,10]
["Guidage toile"]
["Matière","304 L","316 L",null,"904L","U45N"]
["Désignation"]
[null,290,320,null,1330,{"$f":"E175*0.54","v":718.2}]
["1 Tube ø 168 x 3,4 Lg 2450",{"$f":"A177*B175","v":710.5},{"$f":"A177*C175","v":784},null,{"$f":"A177*E175","v":3258.5000000000005},{"$f":"A177*F175","v":1759.5900000000001}]
[2.4500000000000002]
["2 Galettes ép 10 ø 170 x ø 50",96,114,null,250,{"$f":"E178*0.54","v":135}]
["2 Galettes ép 10 ø 170 x ø 50",40,40,null,40,40]
[null,21,24,null,66,{"$f":"E180*0.54","v":35.64}]
["2 Ronds ø 55 Lg 265",{"$f":"A182*B180","v":210},{"$f":"A182*C180","v":240},null,{"$f":"A182*E180","v":660},{"$f":"A182*F180","v":356.4}]
[10]
["TOTAL Matière",{"$f":"B176+B178+B179+B181","v":1056.5},{"$f":"C176+C178+C179+C181","v":1178},null,{"$f":"E176+E178+E179+E181","v":4208.5},{"$f":"F176+F178+F179+F181","v":2290.9900000000002}]
["Revêtement caoutchouc",2150,2150,null,2150,2150]
["M. O.",6,6,null,6,6]
[4000]
["Soutien de bande"]
["Matière","304 L","316 L","E24","904L","U45N"]
["Désignation"]
[null,865,1020,460,3390,{"$f":"E190*0.54","v":1830.6000000000001}]
["1 Tube ø 355 x 4,78 Lg 3970",{"$f":"A192*B190","v":3434.05},{"$f":"A192*C190","v":4049.4},{"$f":"A192*D190","v":1826.2},{"$f":"A192*E190","v":13458.300000000001},{"$f":"A192*F190","v":7267.4820000000009}]
[3.97]
["4 Galettes moulées ø 350",2800,3200,800,8800,{"$f":"E193*0.54","v":4752}]
[null,21,24,24,66,{"$f":"E194*0.54","v":35.64}]
["2 Ronds ø 90 Lg 475",{"$f":"A196*B194","v":997.5},{"$f":"A196*C194","v":1140},{"$f":"A196*D194","v":1140},{"$f":"A196*E194","v":3135},{"$f":"A196*F194","v":1692.9}]
[47.5]
["TOTAL Matière",{"$f":"B191+B193+B195","v":7231.55},{"$f":"C191+C193+C195","v":8389.4},{"$f":"D191+D193+D195","v":3766.2},{"$f":"E191+E193+E195","v":25393.300000000003},{"$f":"F191+F193+F195","v":13712.382}]
["Revêtement caoutchouc",null,null,7700]
["M. O.",15,15,15,15,15]
["Soutien de bande"]
["Matière","304 L","316 L","E24","904L","U45N"]
["Désignation"]
[null,1130,1300,460,3700,{"$f":"E203*0.54","v":1998.0000000000002}]
["1 Tube ø 406 x 4,78 Lg 3970",{"$f":"A205*B203","v":4486.1000000000004},{"$f":"A205*C203","v":5161},{"$f":"A205*D203","v":1826.2},{"$f":"A205*E203","v":14689},{"$f":"A205*F203","v":7932.0600000000013}]
[3.97]
["4 Galettes moulées ø 406",3600,4000,1000,11000,{"$f":"E206*0.54","v":5940}]
[null,21,24,24,66,{"$f":"E207*0.54","v":35.64}]
["2 Ronds ø 90 Lg 475",{"$f":"A209*B207","v":997.5},{"$f":"A209*C207","v":1140},{"$f":"A209*D207","v":1140},{"$f":"A209*E207","v":3135},{"$f":"A209*F207","v":1692.9}]
[47.5]
["TOTAL Matière",{"$f":"B204+B206+B208","v":9083.6},{"$f":"C204+C206+C208","v":10301},{"$f":"D204+D206+D208","v":3966.2},{"$f":"E204+E206+E208","v":28824},{"$f":"F204+F206+F208","v":15564.960000000001}]
["Revêtement caoutchouc",null,null,8812]
["M. O.",15,15,15,15,15]
["Soutien de toile",null,null,null,null,null,"Soutien de toile"]
["Matière","304 L","316 L","E24","904L","U45N","Matière",null,null,"E24"]
["Désignation",null,null,null,null,null,"Désignation"]
[null,600,700,254,2490,{"$f":"E216*0.54","v":1344.6000000000001},null,null,null,12]
["1 Tube ø 273 x 4,19 Lg 4450",{"$f":"A218*B216","v":2670},{"$f":"A218*C216","v":3115},{"$f":"A218*D216","v":1130.3},{"$f":"A218*E216","v":11080.5},{"$f":"A218*F216","v":5983.4700000000012},"1 Tube ø 168,3 x 7,11 Lg 4450",null,null,{"$f":"G218*J216","v":1560}]
[4.45,null,null,null,null,null,130]
["2 Galettes ép 10 ø 270 x ø 50",305,350,105,950,{"$f":"E219*0.54","v":513},"2 Galettes ép 10 ø 170 x ø 50",null,null,40]
["2 Galettes ép 10 ø 270 x ø 50",105,105,105,105,105,"2 Galettes ép 10 ø 170 x ø 50",null,null,40]
[null,21,24,24,66,{"$f":"E221*0.54","v":35.64},null,null,null,24]
["2 Ronds ø 70 Lg 360",{"$f":"A223*B221","v":462},{"$f":"A223*C221","v":528},{"$f":"A223*D221","v":528},{"$f":"A223*E221","v":1452},{"$f":"A223*F221","v":784.08},"2 Ronds ø 70 Lg 360",null,null,{"$f":"G223*J221","v":528}]
[22,null,null,null,null,null,22]
["TOTAL Matière",{"$f":"B217+B219+B220+B222","v":3542},{"$f":"C217+C219+C220+C222","v":4098},{"$f":"D217+D219+D220+D222","v":1868.3},{"$f":"E217+E219+E220+E222","v":13587.5},{"$f":"F217+F219+F220+F222","v":7385.5500000000011},"TOTAL Matière",null,null,{"$f":"J217+J219+J220+J222","v":2168}]
["Revêtement caoutchouc",null,null,6970,null,null,"Revêtement caoutchouc",null,null,4000]
["M. O.",8,8,8,8,8,"M. O.",null,null,12]
["Rouleau d'entrée"]
["Matière","304 L","316 L","E24","904L","U45N"]
["Désignation"]
[null,600,700,254,2490,{"$f":"E230*0.54","v":1344.6000000000001}]
["1 Tube ø 273 x 4,19 Lg 3850",{"$f":"A232*B230","v":2310},{"$f":"A232*C230","v":2695},{"$f":"A232*D230","v":977.9},{"$f":"A232*E230","v":9586.5},{"$f":"A232*F230","v":5176.7100000000009}]
[3.85]
["2 Galettes ép 10 ø 270 x ø 50",305,350,105,950,{"$f":"E233*0.54","v":513}]
["2 Galettes ép 10 ø 270 x ø 50",105,105,105,105,105]
[null,21,24,24,66,{"$f":"E235*0.54","v":35.64}]
["2 Ronds ø 55 Lg 385",{"$f":"A237*B235","v":304.5},{"$f":"A237*C235","v":348},{"$f":"A237*D235","v":348},{"$f":"A237*E235","v":957},{"$f":"A237*F235","v":516.78}]
[14.5]
["Fond bombé Ø 273",400,520,300,2400,2400]
["TOTAL Matière",{"$f":"B231+B233+B234+B236+B238","v":3424.5},{"$f":"C231+C233+C234+C236+C238","v":4018},{"$f":"D231+D233+D234+D236+D238","v":1835.9},{"$f":"E231+E233+E234+E236+E238","v":13998.5},{"$f":"F231+F233+F234+F236+F238","v":8711.4900000000016}]
["Revêtement caoutchouc",null,null,5850]
["M. O.",9,9,9,9,9]
["Rouleau d'entrée"]
["Matière","304 L","316 L","E24","904L","U45N"]
["Désignation"]
[null,865,1020,460,3390,{"$f":"E245*0.54","v":1830.6000000000001}]
["1 Tube ø 355 x 4,78 Lg 3820",{"$f":"A247*B245","v":3304.2999999999997},{"$f":"A247*C245","v":3896.3999999999996},{"$f":"A247*D245","v":1757.1999999999998},{"$f":"A247*E245","v":12949.8},{"$f":"A247*F245","v":6992.8919999999998}]
[3.82]
["2 Galettes ép 10 ø 350 x ø 50",860,1000,250,3200,{"$f":"E248*0.54","v":1728}]
["2 Galettes ép 10 ø 350 x ø 50",250,250,250,250,250]
[null,21,24,24,66,{"$f":"E250*0.54","v":35.64}]
["2 Ronds ø 55 Lg 385",{"$f":"A252*B250","v":304.5},{"$f":"A252*C250","v":348},{"$f":"A252*D250","v":348},{"$f":"A252*E250","v":957},{"$f":"A252*F250","v":516.78}]
[14.5]
["Fond bombé Ø 355",650,840,360,3900,3900]
["TOTAL Matière",{"$f":"B246+B248+B249+B251+B253","v":5368.7999999999993},{"$f":"C246+C248+C249+C251+C253","v":6334.4},{"$f":"D246+D248+D249+D251+D253","v":2965.2},{"$f":"E246+E248+E249+E251+E253","v":21256.799999999999},{"$f":"F246+F248+F249+F251+F253","v":13387.672}]
["Revêtement caoutchouc",null,null,7700]
["M. O.",10,10,10,10,10]
["Guidage toile"]
["Matière","304 L","316 L",null,"904L","U45N"]
["Désignation"]
[null,600,700,254,2490,{"$f":"E260*0.54","v":1344.6000000000001}]
["1 Tube ø 273 x 4,19 Lg 4450",{"$f":"A262*B260","v":2670},{"$f":"A262*C260","v":3115},{"$f":"A262*D260","v":1130.3},{"$f":"A262*E260","v":11080.5},{"$f":"A262*F260","v":5983.4700000000012}]
[4.45]
["2 Galettes ép 10 ø 270 x ø 50",305,350,105,950,{"$f":"E263*0.54","v":513}]
["2 Galettes ép 10 ø 270 x ø 50",105,105,105,105,105]
[null,21,24,24,66,{"$f":"E265*0.54","v":35.64}]
["2 Ronds ø 70 Lg 360",{"$f":"A267*B265","v":462},{"$f":"A267*C265","v":528},{"$f":"A267*D265","v":528},{"$f":"A267*E265","v":1452},{"$f":"A267*F265","v":784.08}]
[22]
["TOTAL Matière",{"$f":"B261+B263+B264+B266","v":3542},{"$f":"C261+C263+C264+C266","v":4098},null,{"$f":"E261+E263+E264+E266","v":13587.5},{"$f":"F261+F263+F264+F266","v":7385.5500000000011}]
["Revêtement caoutchouc",5725,5725,null,5725,5725]
["M. O.",8,8,null,8,8]
[4200]
["Soutien de bande"]
["Matière","304 L","316 L","E24","904L","U45N"]
["Désignation"]
[null,865,1020,460,3390,{"$f":"E275*0.54","v":1830.6000000000001}]
["1 Tube ø 355 x 4,78 Lg 4170",{"$f":"A277*B275","v":3607.0499999999997},{"$f":"A277*C275","v":4253.3999999999996},{"$f":"A277*D275","v":1918.2},{"$f":"A277*E275","v":14136.3},{"$f":"A277*F275","v":7633.6020000000008}]
[4.17]
["4 Galettes moulées ø 350",2800,3200,800,8800,{"$f":"E278*0.54","v":4752}]
[null,21,24,24,66,{"$f":"E279*0.54","v":35.64}]
["2 Ronds ø 90 Lg 475",{"$f":"A281*B279","v":997.5},{"$f":"A281*C279","v":1140},{"$f":"A281*D279","v":1140},{"$f":"A281*E279","v":3135},{"$f":"A281*F279","v":1692.9}]
[47.5]
["TOTAL Matière",{"$f":"B276+B278+B280","v":7404.5499999999993},{"$f":"C276+C278+C280","v":8593.4},{"$f":"D276+D278+D280","v":3858.2},{"$f":"E276+E278+E280","v":26071.3},{"$f":"F276+F278+F280","v":14078.502}]
["Revêtement caoutchouc",null,null,8070]
["M. O.",15,15,15,15,15]
["Soutien de bande"]
["Matière","304 L","316 L","E24","904L","U45N"]
["Désignation"]
[null,1130,1300,460,3700,{"$f":"E288*0.54","v":1998.0000000000002}]
["1 Tube ø 406 x 4,78 Lg 4170",{"$f":"A290*B288","v":4712.1000000000004},{"$f":"A290*C288","v":5421},{"$f":"A290*D288","v":1918.2},{"$f":"A290*E288","v":15429},{"$f":"A290*F288","v":8331.6600000000017}]
[4.17]
["4 Galettes moulées ø 406",3600,4000,1000,11000,{"$f":"E291*0.54","v":5940}]
[null,21,24,24,66,{"$f":"E292*0.54","v":35.64}]
["2 Ronds ø 90 Lg 475",{"$f":"A294*B292","v":997.5},{"$f":"A294*C292","v":1140},{"$f":"A294*D292","v":1140},{"$f":"A294*E292","v":3135},{"$f":"A294*F292","v":1692.9}]
[47.5]
["TOTAL Matière",{"$f":"B289+B291+B293","v":9309.6},{"$f":"C289+C291+C293","v":10561},{"$f":"D289+D291+D293","v":4058.2},{"$f":"E289+E291+E293","v":29564},{"$f":"F289+F291+F293","v":15964.560000000001}]
["Revêtement caoutchouc",null,null,9235]
["M. O.",15,15,15,15,15]
["Soutien de toile",null,null,null,null,null,"Soutien de toile"]
["Matière","304 L","316 L","E24","904L","U45N","Matière",null,null,"E24"]
["Désignation",null,null,null,null,null,"Désignation"]
[null,600,700,254,2490,{"$f":"E301*0.54","v":1344.6000000000001},null,null,null,385]
["1 Tube ø 273 x 4,19 Lg 4650",{"$f":"A303*B301","v":2790},{"$f":"A303*C301","v":3255.0000000000005},{"$f":"A303*D301","v":1181.1000000000001},{"$f":"A303*E301","v":11578.5},{"$f":"A303*F301","v":6252.3900000000012},"1 Tube ø 168,3 x 10,97 Lg 4630",null,null,{"$f":"G303*J301","v":1782.55}]
[4.6500000000000004,null,null,null,null,null,4.63]
["2 Galettes ép 10 ø 270 x ø 50",305,350,105,950,{"$f":"E304*0.54","v":513},"2 Galettes ép 10 ø 170 x ø 50",null,null,40]
["2 Galettes ép 10 ø 270 x ø 50",105,105,105,105,105,"2 Galettes ép 10 ø 170 x ø 50",null,null,40]
[null,21,24,24,66,{"$f":"E306*0.54","v":35.64},null,null,null,24]
["2 Ronds ø 70 Lg 360",{"$f":"A308*B306","v":462},{"$f":"A308*C306","v":528},{"$f":"A308*D306","v":528},{"$f":"A308*E306","v":1452},{"$f":"A308*F306","v":784.08},"2 Ronds ø 70 Lg 360",null,null,{"$f":"G308*J306","v":528}]
[22,null,null,null,null,null,22]
["TOTAL Matière",{"$f":"B302+B304+B305+B307","v":3662},{"$f":"C302+C304+C305+C307","v":4238},{"$f":"D302+D304+D305+D307","v":1919.1000000000001},{"$f":"E302+E304+E305+E307","v":14085.5},{"$f":"F302+F304+F305+F307","v":7654.4700000000012},"TOTAL Matière",null,null,{"$f":"J302+J304+J305+J307","v":2390.5500000000002}]
["Revêtement caoutchouc",null,null,7275,null,null,"Revêtement caoutchouc",null,null,5000]
["M. O.",8,8,8,8,8,"M. O.",null,null,15]
["Rouleau d'entrée"]
["Matière","304 L","316 L","E24","904L","U45N"]
["Désignation"]
[null,600,700,254,2490,{"$f":"E315*0.54","v":1344.6000000000001}]
["1 Tube ø 273 x 4,19 Lg 4050",{"$f":"A317*B315","v":2430},{"$f":"A317*C315","v":2835},{"$f":"A317*D315","v":1028.7},{"$f":"A317*E315","v":10084.5},{"$f":"A317*F315","v":5445.63}]
[4.05]
["2 Galettes ép 10 ø 270 x ø 50",305,350,105,950,{"$f":"E318*0.54","v":513}]
["2 Galettes ép 10 ø 270 x ø 50",105,105,105,105,105]
[null,21,24,24,66,{"$f":"E320*0.54","v":35.64}]
["2 Ronds ø 55 Lg 385",{"$f":"A322*B320","v":304.5},{"$f":"A322*C320","v":348},{"$f":"A322*D320","v":348},{"$f":"A322*E320","v":957},{"$f":"A322*F320","v":516.78}]
[14.5]
["Fond bombé Ø 273",400,520,300,2400,2400]
["TOTAL Matière",{"$f":"B316+B318+B319+B321+B323","v":3544.5},{"$f":"C316+C318+C319+C321+C323","v":4158},{"$f":"D316+D318+D319+D321+D323","v":1886.7},{"$f":"E316+E318+E319+E321+E323","v":14496.5},{"$f":"F316+F318+F319+F321+F323","v":8980.41}]
["Revêtement caoutchouc",null,null,6150]
["M. O.",9,9,9,9,9]
["Rouleau d'entrée"]
["Matière","304 L","316 L","E24","904L","U45N"]
["Désignation"]
[null,865,1020,460,3390,{"$f":"E330*0.54","v":1830.6000000000001}]
["1 Tube ø 355 x 4,78 Lg 4020",{"$f":"A332*B330","v":3477.2999999999997},{"$f":"A332*C330","v":4100.3999999999996},{"$f":"A332*D330","v":1849.1999999999998},{"$f":"A332*E330","v":13627.8},{"$f":"A332*F330","v":7359.0119999999997}]
[4.0199999999999996]
["2 Galettes ép 10 ø 350 x ø 50",860,1000,250,3200,{"$f":"E333*0.54","v":1728}]
["2 Galettes ép 10 ø 350 x ø 50",250,250,250,250,250]
[null,21,24,24,66,{"$f":"E335*0.54","v":35.64}]
["2 Ronds ø 55 Lg 385",{"$f":"A337*B335","v":304.5},{"$f":"A337*C335","v":348},{"$f":"A337*D335","v":348},{"$f":"A337*E335","v":957},{"$f":"A337*F335","v":516.78}]
[14.5]
["Fond bombé Ø 355",650,840,360,3900,3900]
["TOTAL Matière",{"$f":"B331+B333+B334+B336+B338","v":5541.7999999999993},{"$f":"C331+C333+C334+C336+C338","v":6538.4},{"$f":"D331+D333+D334+D336+D338","v":3057.2},{"$f":"E331+E333+E334+E336+E338","v":21934.799999999999},{"$f":"F331+F333+F334+F336+F338","v":13753.791999999999}]
["Revêtement caoutchouc",null,null,8100]
["M. O.",10,10,10,10,10]
["Guidage toile"]
["Matière","304 L","316 L",null,"904L","U45N"]
["Désignation"]
[null,600,700,254,2490,{"$f":"E345*0.54","v":1344.6000000000001}]
["1 Tube ø 273 x 4,19 Lg 4650",{"$f":"A347*B345","v":2790},{"$f":"A347*C345","v":3255.0000000000005},{"$f":"A347*D345","v":1181.1000000000001},{"$f":"A347*E345","v":11578.5},{"$f":"A347*F345","v":6252.3900000000012}]
[4.6500000000000004]
["2 Galettes ép 10 ø 270 x ø 50",305,350,105,950,{"$f":"E348*0.54","v":513}]
["2 Galettes ép 10 ø 270 x ø 50",105,105,105,105,105]
[null,21,24,24,66,{"$f":"E350*0.54","v":35.64}]
["2 Ronds ø 70 Lg 360",{"$f":"A352*B350","v":462},{"$f":"A352*C350","v":528},{"$f":"A352*D350","v":528},{"$f":"A352*E350","v":1452},{"$f":"A352*F350","v":784.08}]
[22]
["TOTAL Matière",{"$f":"B346+B348+B349+B351","v":3662},{"$f":"C346+C348+C349+C351","v":4238},null,{"$f":"E346+E348+E349+E351","v":14085.5},{"$f":"F346+F348+F349+F351","v":7654.4700000000012}]
["Revêtement caoutchouc",6000,6000,null,6000,6000]
["M. O.",8,8,null,8,8]
[]
[]
[]
[]
[]
[]
[]
[]
[]
[]
[]
[]
[]
[]
[]
[]
[]
[]
[]
[]
[]
[]
[]
[]
[]
[]
[]
[]
[]
[]
[]
[]
[]
[]
[]
[]
[]
[]
[]
[]
[]
[]
[]
[]
[]
[]
[]
[]
[]
[]
[]
[]
[]
[]
[]
[]
[]
[]
[]
[]
[]
[]
[]
[]
[]
[]
[]
[]
[]
[]
[]
[]
[]
[]
[]
[]
[]
[]
[]
[]
[]
[]
[]
[]
[]
[]
[]
[]
[]
[]
[]
[]
[]
[]
[]
[]
[]
[]
[]
[]
[]
[]
[]
[]
[]
[]
[]
[]
[]
[]
[]
[]
[]
[]
[]
[]
[]
[]
[]
[]
[]
[]
[]
[]
[]
[]
[]
[]
[]
[]
[]
[]
[]
[]
[]
[]
[]
[]
[]
[]
[]
[]
[]
[]
[]
[]
[]
[]
[]
[]
[]
[]
[]
[]
[]
[]
[]
[]
[]
[]
[]
[]
[]
[]
[]
[]
[]
[]
[]
[]
[]
[]
[]
[]
[]
[]
[]
[]
[]
[]
[]
[]
[]
[]
[]
[]
[]
[]
[]
[]
[]
[]
[]
[]
[]
[]
[]
[]
[]
[]
[]
[]
[]
[]
[]
[]
[]
[]
[]
[]
[]
[]
[]
[]
[]
[]
[]
[]
[]
[]
[]
[]
[]
[]
[]
[]
[]
[]
[]
[]
[]
[]
[]
[]
[]
[]
[]
[]
[]
[]
[]
[]
[]
[]
[]
[]
[]
[]
[]
[]
[]
[]
[]
[]
[]
[]
[]
[]
[]
[]
[]
[]
[]
[]
[]
[]
[]
[]
[]
[]
[]
[]
[]
[]
[]
[]
[]
[]
[]
[]
[]
[]
[]
[]
[]
[]
[]
[]
[]
[]
[]
[]
[]
[]
[]
[]
[]
[]
[]
[]
[]
[]
[]
[]
[]
[]
[]
[]
[]
[]
[]
[]
[]
[]
[]
[]
[]
[]
[]
[]
[]
[]
[]
[]
[]
[]
[]
[]
[]
[]
[]
[]
[]
[]
[]
[]
[]
[]
[]
[]
[]
[]
[]
[]
[]
[]
[]
[]
[]
[]
[]
[]
[]
[]
[]
[]
[]
[]
[]
[]
[]
[]
[]
[]
[]
[]
[]
[]
[]
[]
[]
[]
[]
[]
[]
[]
[]
[]
[]
[]
[]
[]
[]
[]
[]
[]
[]
[]
[]
[]
[]
[]
[]
[]
[]
[]
[]
[]
[]
[]
[]
[]
[]
[]
[]
[]
[]
[]
[]
[]
[]
[]
[]
[]
[]
[]
[]
[]
[]
[]
[]
[]
[]
[]
[]
[]
[]
[]
[]
[]
[]
[]
[]
[]
[]
[]
[]
[]
[]
[]
[]
[]
[]
[]
[]
[]
[]
[]
[]
[]
[]
[]
[]
[]
[]
[]
[]
[]
[]
[]
[]
[]
[]
[]
["M. O.",5,5,5,5]

{"sheet":"Toile","index":74,"n_rows":21,"n_cols":5,"rows_kept":21,"cut":false,"hidden":true,"merged":[]}
[]
[null,null,null,null,"TOILE FILTRANTE"]
[]
[null,"Longueur boite à vide :",{"$f":"'B. à V.'!B65","v":{"$error":"#N/A"}}]
[null,"Largeur :",{"$f":"'Séries 3-4-5'!B3","v":500}]
[null,"Hauteur talons :",{"$f":"'Séries 3-4-5'!B18","v":70}]
[null,"Longueur toile :",{"$f":"(LOOKUP(C5,A12:A21,B12:B21))+(C4*2)","v":{"$error":"#N/A"}}]
[null,"Largeur toile :",{"$f":"((LOOKUP(C6,D13:D14,E13:E14))+C5)*0.001","v":0.70000000000000007}]
[null,"Prix / m2 :",200]
[null,"Prix total :",{"$f":"C7*C8*C9","v":{"$error":"#N/A"}}]
[]
[250,10.4]
[500,10.4,null,70,200]
[750,10.4,null,120,300]
[1000,10.4]
[1500,15.25]
[2000,15.25]
[2500,16.3]
[3000,16.3]
[4000,17]
[4200,17]

{"sheet":"Prix de revient","index":75,"n_rows":37,"n_cols":12,"rows_kept":37,"cut":false,"hidden":true,"merged":[[0,3,0,6],[1,3,1,4],[6,9,6,11],[2,5,2,6],[6,3,6,5],[6,6,6,8],[4,2,4,3],[5,2,5,3]]}
["R.P.A PROCESS TECHNOLOGIES",null,null,"DEVIS FILTRE A BANDE",null,null,null,{"$f":"CONCATENATE('Cost list'!I4,\"B\",'Cost list'!L4)","v":"2B500"}]
[null,"EURO",null,"PRIX POUR :",null,{"$f":"'Séries 3-4-5'!I3","v":1},"FILTRE(S)"]
["Réf. Client",null,{"$f":"'Séries 3-4-5'!H2","v":"CARESTER"},null,null,"Devis :",null,{"$f":"'Séries 3-4-5'!E2","v":"726789-rev4"},"REV :",{"$f":"IF('Cost list'!#REF!=0,\"\",'Cost list'!#REF!)","v":{"$error":"#REF!"}}]
["Description :",null,{"$f":"'Cost list'!O4","v":"304L+304L+EPDM+T70+3G+0,25KW+1VF"}]
["Date :",null,{"$f":"'Séries 3-4-5'!B2","v":"2025-04-25"}]
["Date de révision :",null,{"$f":"IF('Cost list'!#REF!=0,\"\",'Cost list'!#REF!)","v":{"$error":"#REF!"}}]
["Rubriques analytiques",null,"Nbre","ACTIVITE",null,null,"PERIPHERIQUE",null,null,"TOTAL"]
[null,null,"heures","Tx PR",null,"Tx PV","Tx PR",null,"Tx PV","Tx PR",null,"Tx PV"]
["Coûts directs de production :"]
[null,"Coûts matières s/ Activité",null,null,{"$f":"'Cost list'!O60/6.55956","v":0},null,null,0,null,null,{"$f":"+E10+H10","v":0},{"$f":"+K10/$K$34","v":{"$error":"#DIV/0!"}}]
[null,"Coûts matières s/ Périphériques",null,null,0,null,null,0,null,null,{"$f":"+E11+H11","v":0},{"$error":"#DIV/0!"}]
[null,"Coûts matières s/ Sorties de Stock",null,null,0,null,null,0,null,null,0,{"$error":"#DIV/0!"}]
[null,"Transport s/Ventes",null,null,0,null,null,0,null,null,{"$f":"+E13+H13","v":0},{"$error":"#DIV/0!"}]
[]
[null,"Heures Bureau d'Etudes           ",{"$f":"'Séries 3-4-5'!B7","v":300},32.624000000000002,{"$f":"+C15*D15","v":9787.2000000000007},null,null,0,null,null,9787.2000000000007,{"$error":"#DIV/0!"}]
[null,"Heures Production Réalisation   ",{"$f":"'Cost list'!Q60","v":0},28.66,{"$f":"+C16*D16","v":0},null,null,0,null,null,0,{"$error":"#DIV/0!"}]
[null,"Heures Intérimaires",0,22.867000000000001,{"$f":"+C17*D17","v":0},null,null,0,null,null,{"$f":"+E17+H17","v":0},{"$error":"#DIV/0!"}]
[]
[null,"Sous-traitance Capacité",null,null,0,null,null,{"$f":"+H11*G19","v":0},null,null,0,{"$error":"#DIV/0!"}]
[null,"Sous-traitance Compétence",null,null,0,null,null,{"$f":"+H14*G20","v":0},null,null,0,{"$error":"#DIV/0!"}]
[null,"Sous-traitance Groupe",null,null,0,null,null,{"$f":"+H19*G21","v":0},null,null,0,{"$error":"#DIV/0!"}]
[null,"Sous-traitance Locale",null,null,0,null,null,0,null,null,{"$f":"+E22+H22","v":0},{"$error":"#DIV/0!"}]
[null,null,null,1,{"$f":"SUM(E10:E22)","v":9787.2000000000007},null,1,{"$f":"SUM(H10:H22)","v":0},null,1,{"$f":"SUM(K10:K22)","v":9787.2000000000007},{"$f":"+K23/$K$34","v":{"$error":"#DIV/0!"}}]
["Coûts indirects de production "]
[null,"Division Technique/Production/Réalisation",null,{"$f":"9.428%+5.422%","v":0.14849999999999999},{"$f":"+E23*D25","v":1453.3992000000001},{"$f":"+E25/E34","v":{"$error":"#DIV/0!"}},2.5000000000000001E-2,{"$f":"+H23*G25","v":0},{"$f":"+H25/H34","v":{"$error":"#DIV/0!"}},{"$f":"+K25/$K$23","v":0.14849999999999999},{"$f":"+E25+H25","v":1453.3992000000001},{"$f":"+K25/$K$34","v":{"$error":"#DIV/0!"}}]
[null,"Frais de voyages/déplacements",null,null,0,null,null,0,null,{"$f":"+K26/$K$23","v":0},{"$f":"+E26+H26","v":0},{"$f":"+K26/$K$34","v":{"$error":"#DIV/0!"}}]
[]
["Prix de Revient de Production",null,null,null,{"$f":"SUM(E23:E27)","v":11240.599200000001},null,null,{"$f":"SUM(H23:H27)","v":0},null,{"$f":"SUM(J23:J27)","v":1.1485000000000001},{"$f":"SUM(K23:K27)","v":11240.599200000001},{"$f":"+K28/$K$34","v":{"$error":"#DIV/0!"}}]
[]
[null,"Frais Admin/Commerciaux/R&D",null,{"$f":"14.56%+9.243%+1.0645%","v":0.24867500000000001},{"$f":"+E23*D30","v":2433.8319600000004},{"$f":"+E30/E34","v":{"$error":"#DIV/0!"}},{"$f":"3.9%+2.5%","v":6.4000000000000001E-2},{"$f":"+H23*G30","v":0},{"$f":"+H30/H34","v":{"$error":"#DIV/0!"}},{"$f":"+K30/$K$23","v":0.24867500000000003},{"$f":"+E30+H30","v":2433.8319600000004},{"$f":"+K30/$K$34","v":{"$error":"#DIV/0!"}}]
[null,"Commissions ",null,null,null,{"$f":"+E31/E34","v":{"$error":"#DIV/0!"}},null,0,{"$f":"+H31/H34","v":{"$error":"#DIV/0!"}},{"$f":"+K31/$K$23","v":0},{"$f":"+E31+H31","v":0},{"$f":"+K31/$K$34","v":{"$error":"#DIV/0!"}}]
[null,"Redevances ",null,null,0,{"$f":"+E32/E34","v":{"$error":"#DIV/0!"}},null,0,{"$f":"+H32/H34","v":{"$error":"#DIV/0!"}},{"$f":"+K32/$K$23","v":0},{"$f":"+E32+H32","v":0},{"$f":"+K32/$K$34","v":{"$error":"#DIV/0!"}}]
["Prix de Revient Société",null,null,null,{"$f":"SUM(E28:E32)","v":13674.43116},{"$f":"+E33/E34","v":{"$error":"#DIV/0!"}},null,{"$f":"SUM(H28:H32)","v":0},{"$f":"+H33/H34","v":{"$error":"#DIV/0!"}},null,{"$f":"SUM(K28:K32)","v":13674.43116},{"$f":"+K33/K34","v":{"$error":"#DIV/0!"}}]
["Prix de Vente",null,null,null,null,1,null,0,1,{"$f":"+K34/$K$23","v":0},{"$f":"+E34+H34","v":0},1]
["Résultat Net (*)",null,null,null,{"$f":"+E34-E33","v":-13674.43116},{"$f":"+E35/E34","v":{"$error":"#DIV/0!"}},null,{"$f":"+H34-H33","v":0},{"$f":"+H35/H34","v":{"$error":"#DIV/0!"}},{"$f":"+K35/$K$23","v":-1.3971749999999998},{"$f":"+K34-K33","v":-13674.43116},{"$f":"+K35/$K$34","v":{"$error":"#DIV/0!"}}]
[]
["(*)","Avant = Frais Financiers, Impôt Société & Paticipation des Salariés"]

{"sheet":"Ballon Séparateur","index":76,"n_rows":49,"n_cols":30,"rows_kept":49,"cut":false,"hidden":true,"merged":[[34,6,36,6],[35,7,36,7],[2,1,2,8],[48,6,49,6],[32,3,32,4],[34,4,34,5],[41,6,42,6]]}
[]
[]
[null,"FILTRATE RECEIVER"]
[]
[]
[]
[null,null,"Diamètre",null,null,null,{"$f":"Calculations!E44","v":500}]
[null,null,null,null,null,null,null,null,null,null,null,null,null,"D",200,400,500,600,800,1000,1200,1400,1600,1800,2000,2200,2400,2600,2800,3000]
[null,null,"Matériau de construction : ",null,null,null,{"$f":"Calculations!C44","v":"304L"},null,null,null,null,null,null,"H",600,900,1050,1250,1600,1900,2200,2500,2800,3200,3500,3800,4000,4000,4000,4000]
[null,null,null,null,null,null,null,null,null,null,null,null,null,"L",450,700,850,1050,1400,1700,2000,2300,2600,3000,3300,3600,3800,3800,3800,3800]
[null,null,"Equipements / Equipments",null,null,null,null,null,null,null,null,null,null,"P",{"$f":"600-280-75","v":245},400,500,600,700,800,900,1000,1200,1300,1400,1500,1800,1800,1800,1800]
[null,null,null,"Pieds supports / Supporting legs :",null,null,{"$f":"Calculations!R44","v":"Non"},null,null,null,null,null,null,"F",75,100,100,100,100,100,100,100,100,100,100,100,100,100,100,100]
[null,null,null,"Connection \"A\"",null,"DN",{"$f":"Calculations!G44","v":65},null,null,null,null,null,null,"Poids",8,19,29,66,102,225,400,535,833,1077,1745,2092,2727,3327,3527,3727]
[null,null,null,"Connection \"B\" ",null,"DN",{"$f":"Calculations!I44","v":65},null,null,null,null,null,null,"Ep",2,2,2,3,3,4,5,5,6,6,8,8,10,12,12,12]
[null,null,null,"Connection \"C\"",null,"DN",{"$f":"Calculations!K44","v":32},null,null,null,null,null,null,"I",125,{"$f":"(P8/2)+100","v":300},350,400,500,600,700,800,900,1000,1100,1200,1300,1400,1500,1600]
[null,null,null,null,null,null,null,null,null,null,null,null,null,"pds fond",1.5,3,4.5999999999999996,11.1,12.6,33.6,61.5,82,129,162,264,316,316,316,316,316]
[null,null,null,null,null,null,null,null,null,null,null,null,null,"ht fond",55,85,104,128,167,210,253,292,333,371,419,458,458,458,458,458]
[]
[null,null,"Prix de revient Production :",null,null,null,{"$f":"IF(G9=\"SVR\",Q21,IF(G9=\"Acier au Carbone\",Q22,IF(G9=\"Acier caoutchouté\",Q23,IF(G9=\"AISI 304L\",Q24,IF(G9=\"AISI 316L\",Q25,IF(G9=\"AISI 904L\",Q26,0))))))","v":0},"€"]
[]
[null,null,null,null,null,null,null,null,null,null,null,null,null,{"$f":"G7","v":500},null,"FRP",{"$f":"HLOOKUP($N$21,O31:AD32,2,TRUE)","v":13}]
[null,null,null,null,null,null,null,null,null,null,null,null,null,{"$f":"HLOOKUP($N$21,$O$8:$AD$12,2,TRUE)","v":1050},null,"Acier au Carbone",{"$f":"HLOOKUP($N$21,O34:AD35,2,TRUE)","v":14}]
[null,null,null,null,null,null,null,null,null,null,null,null,null,{"$f":"HLOOKUP($N$21,$O$8:$AD$12,3,TRUE)","v":850},null,"Acier caoutchouté",{"$f":"HLOOKUP($N$21,O37:AD38,2,TRUE)","v":15}]
[null,null,null,null,null,null,null,null,null,null,null,null,null,{"$f":"HLOOKUP($N$21,$O$8:$AD$12,4,TRUE)","v":500},null,"AISI 304L",{"$f":"HLOOKUP($N$21,O40:AD41,2,TRUE)","v":16}]
[null,null,null,null,null,null,null,null,null,null,null,null,null,{"$f":"HLOOKUP($N$21,$O$8:$AD$12,5,TRUE)","v":100},null,"AISI 316L",{"$f":"HLOOKUP($N$21,O43:AD44,2,TRUE)","v":17}]
[null,null,null,null,null,null,null,null,null,null,null,null,null,{"$f":"HLOOKUP($N$21,$O$8:$AD$15,6,TRUE)","v":29},null,"AISI 904L",{"$f":"HLOOKUP($N$21,O46:AD47,2,TRUE)","v":18}]
[null,null,null,null,null,null,null,null,null,null,null,null,null,{"$f":"HLOOKUP($N$21,$O$8:$AD$15,8,TRUE)","v":350}]
[]
[]
[]
[null,null,null,null,null,null,null,null,null,null,null,null,null,null,300,400,500,600,800,1000,1200,1400,1600,1800,2000,2200,2400,2600,2800,3000]
[null,null,null,null,null,null,null,null,null,null,null,null,null,"SVR",1,7,{"$f":"P32+6","v":13},{"$f":"Q32+6","v":19},25,31,37,43,49,55,61,67,73,79,85,91]
[null,null,null,{"$f":"G7","v":500}]
[null,null,null,null,null,null,null,null,null,null,null,null,null,null,300,400,500,600,800,1000,1200,1400,1600,1800,2000,2200,2400,2600,2800,3000]
[null,null,null,null,{"$f":"N27","v":350},null,{"$f":"N23","v":850},null,null,null,null,null,null,"Acier au Carbone",2,8,{"$f":"P35+6","v":14},20,26,32,38,44,50,56,62,68,74,80,86,92]
[null,null,null,null,null,null,null,{"$f":"N22","v":1050}]
[null,null,{"$f":"N26","v":29},"kg",null,null,null,null,null,null,null,null,null,null,300,400,500,600,800,1000,1200,1400,1600,1800,2000,2200,2400,2600,2800,3000]
[null,null,null,null,null,null,null,null,null,null,null,null,null,"Acier caoutchouté",3,9,{"$f":"P38+6","v":15},21,27,33,39,45,51,57,63,69,75,81,87,93]
[]
[null,null,null,null,null,null,null,null,null,null,null,null,null,null,300,400,500,600,800,1000,1200,1400,1600,1800,2000,2200,2400,2600,2800,3000]
[null,null,null,null,null,null,null,null,null,null,null,null,null,"AISI 304L",4,10,{"$f":"P41+6","v":16},22,28,34,40,46,52,58,64,70,76,82,88,94]
[null,null,null,null,null,null,{"$f":"N24","v":500}]
[null,null,null,null,null,null,null,null,null,null,null,null,null,null,300,400,500,600,800,1000,1200,1400,1600,1800,2000,2200,2400,2600,2800,3000]
[null,null,null,null,null,null,null,null,null,null,null,null,null,"AISI 316L",5,11,{"$f":"P44+6","v":17},23,29,35,41,47,53,59,65,71,77,83,89,95]
[]
[null,null,null,null,null,null,null,null,null,null,null,null,null,null,300,400,500,600,800,1000,1200,1400,1600,1800,2000,2200,2400,2600,2800,3000]
[null,null,null,null,null,null,null,null,null,null,null,null,null,"AISI 904L",6,12,{"$f":"P47+6","v":18},24,30,36,42,48,54,60,66,72,78,84,90,96]
[]
[null,null,null,null,null,null,{"$f":"N25","v":100}]

{"sheet":"Ballon Séparateur Flasqué","index":77,"n_rows":47,"n_cols":30,"rows_kept":47,"cut":false,"hidden":true,"merged":[[2,1,2,8],[32,5,36,5],[33,3,33,4],[37,5,39,5],[40,5,42,5]]}
[]
[]
[null,"FILTRATE RECEIVER (KROGH TYPE)"]
[null,"v"]
[]
[]
[null,null,"Diamètre",null,null,null,{"$f":"Calculations!E44","v":500}]
[null,null,null,null,null,null,null,null,null,null,null,null,null,"D",300,400,500,600,800,1000,1200,1400,1600,1800,2000,2200,2400,2600,2800,3000]
[null,null,"Matériau de construction : ",null,null,null,{"$f":"Calculations!C44","v":"304L"},null,null,null,null,null,null,"H",900,1000,1150,1350,1700,2000,2300,2400,2900,3300,3600,3900,4100,4100,4100,4100]
[null,null,null,null,null,null,null,null,null,null,null,null,null,"L",800,900,1050,1250,1600,1900,2200,2500,2800,3200,3500,3800,4000,4000,4000,4000]
[null,null,"Equipements / Equipments",null,null,null,null,null,null,null,null,null,null,"P",400,500,600,700,800,900,1000,1100,1300,1400,1500,1600,1900,1900,1900,1900]
[null,null,null,"Pieds supports / Supporting legs :",null,null,{"$f":"Calculations!R44","v":"Non"},null,null,null,null,null,null,"F",100,100,100,100,100,100,100,100,100,100,100,100,100,100,100,100]
[null,null,null,"Connection \"A\"",null,"DN",{"$f":"Calculations!G44","v":65},null,null,null,null,null,null,"Poids",15,23,34,77,116,248,435,576,888,1139,1838,2193,2866,3507,3721,3935]
[null,null,null,"Connection \"B\" ",null,"DN",{"$f":"Calculations!I44","v":65},null,null,null,null,null,null,"Ep",2,2,2,3,3,4,5,5,6,6,8,8,10,12,12,12]
[null,null,null,"Connection \"C\"",null,"DN",{"$f":"Calculations!K44","v":32},null,null,null,null,null,null,"I",{"$f":"(O8/2)+100","v":250},{"$f":"(P8/2)+100","v":300},350,400,500,600,700,800,900,1000,1100,1200,1300,1400,1500,1600]
[null,null,null,null,null,null,null,null,null,null,null,null,null,"pds fond",1.8,3,4.5999999999999996,11.1,12.6,33.6,61.5,82,129,162,264,316,316,316,316,316]
[null,null,null,null,null,null,null,null,null,null,null,null,null,"ht fond",65,85,104,128,167,210,253,292,333,371,419,458,458,458,458,458]
[]
[null,null,"Prix de revient Production :",null,null,null,{"$f":"IF(G9=\"SVR\",Q21,IF(G9=\"Acier au Carbone\",Q22,IF(G9=\"Acier caoutchouté\",Q23,IF(G9=\"AISI 304L\",Q24,IF(G9=\"AISI 316L\",Q25,IF(G9=\"AISI 904L\",Q26,0))))))","v":0},"€"]
[]
[null,null,null,null,null,null,null,null,null,null,null,null,null,{"$f":"G7","v":500},null,"FRP",{"$f":"HLOOKUP($N$21,O31:AD32,2,TRUE)","v":13}]
[null,null,null,null,null,null,null,null,null,null,null,null,null,{"$f":"HLOOKUP($N$21,$O$8:$AD$12,2,TRUE)","v":1150},null,"Acier au Carbone",{"$f":"HLOOKUP($N$21,O34:AD35,2,TRUE)","v":14}]
[null,null,null,null,null,null,null,null,null,null,null,null,null,{"$f":"HLOOKUP($N$21,$O$8:$AD$12,3,TRUE)","v":1050},null,"Acier caoutchouté",{"$f":"HLOOKUP($N$21,O37:AD38,2,TRUE)","v":15}]
[null,null,null,null,null,null,null,null,null,null,null,null,null,{"$f":"HLOOKUP($N$21,$O$8:$AD$12,4,TRUE)","v":600},null,"AISI 304L",{"$f":"HLOOKUP($N$21,O40:AD41,2,TRUE)","v":16}]
[null,null,null,null,null,null,null,null,null,null,null,null,null,{"$f":"HLOOKUP($N$21,$O$8:$AD$12,5,TRUE)","v":100},null,"AISI 316L",{"$f":"HLOOKUP($N$21,O43:AD44,2,TRUE)","v":17}]
[null,null,null,null,null,null,null,null,null,null,null,null,null,{"$f":"HLOOKUP($N$21,$O$8:$AD$15,6,TRUE)","v":34},null,"AISI 904L",{"$f":"HLOOKUP($N$21,O46:AD47,2,TRUE)","v":18}]
[null,null,null,null,null,null,null,null,null,null,null,null,null,{"$f":"HLOOKUP($N$21,$O$8:$AD$15,8,TRUE)","v":350}]
[]
[]
[]
[null,null,null,null,null,null,null,null,null,null,null,null,null,null,300,400,500,600,800,1000,1200,1400,1600,1800,2000,2200,2400,2600,2800,3000]
[null,null,null,{"$f":"N21","v":500},null,null,null,null,null,null,null,null,null,"SVR",1,7,{"$f":"P32+6","v":13},{"$f":"Q32+6","v":19},25,31,37,43,49,55,61,67,73,79,85,91]
[null,null,null,null,null,{"$f":"N22","v":1150}]
[null,null,null,{"$f":"N27","v":350},null,null,null,null,null,null,null,null,null,null,300,400,500,600,800,1000,1200,1400,1600,1800,2000,2200,2400,2600,2800,3000]
[null,null,null,null,null,null,null,null,null,null,null,null,null,"Acier au Carbone",2,8,{"$f":"P35+6","v":14},20,26,32,38,44,50,56,62,68,74,80,86,92]
[]
[null,null,null,null,null,null,null,null,null,null,null,null,null,null,300,400,500,600,800,1000,1200,1400,1600,1800,2000,2200,2400,2600,2800,3000]
[null,null,null,null,null,{"$f":"N23","v":1050},null,null,null,null,null,null,null,"Acier caoutchouté",3,9,{"$f":"P38+6","v":15},21,27,33,39,45,51,57,63,69,75,81,87,93]
[]
[null,null,null,{"$f":"N26","v":34},"Kg",null,null,null,null,null,null,null,null,null,300,400,500,600,800,1000,1200,1400,1600,1800,2000,2200,2400,2600,2800,3000]
[null,null,null,null,null,{"$f":"N24","v":600},null,null,null,null,null,null,null,"AISI 304L",4,10,{"$f":"P41+6","v":16},22,28,34,40,46,52,58,64,70,76,82,88,94]
[]
[null,null,null,null,null,null,null,null,null,null,null,null,null,null,300,400,500,600,800,1000,1200,1400,1600,1800,2000,2200,2400,2600,2800,3000]
[null,null,null,null,null,null,null,null,null,null,null,null,null,"AISI 316L",5,11,{"$f":"P44+6","v":17},23,29,35,41,47,53,59,65,71,77,83,89,95]
[]
[null,null,null,null,null,null,null,null,null,null,null,null,null,null,300,400,500,600,800,1000,1200,1400,1600,1800,2000,2200,2400,2600,2800,3000]
[null,null,null,null,null,null,null,null,null,null,null,null,null,"AISI 904L",6,12,{"$f":"P47+6","v":18},24,30,36,42,48,54,60,66,72,78,84,90,96]

{"sheet":"Cyclone.","index":78,"n_rows":49,"n_cols":30,"rows_kept":49,"cut":false,"hidden":true,"merged":[[42,5,44,5],[48,5,49,5],[2,1,2,8],[29,5,32,5],[30,3,30,4],[34,5,38,5],[35,3,35,4],[39,5,41,5]]}
[]
[]
[null,"CYCLONE"]
[]
[]
[]
[null,null,"Diamètre",null,null,null,{"$f":"Calculations!E46","v":200}]
[null,null,null,null,null,null,null,null,null,null,null,null,null,"D",200,400,500,600,800,1000,1200,1400,1600,1800,2000,2200,2400,2600,2800,3000]
[null,null,"Matériau de construction : ",null,null,null,{"$f":"Calculations!C46","v":"304L"},null,null,null,null,null,null,"H",700,900,1050,1250,1600,1900,2200,2500,2800,3200,3500,3800,4000,4000,4000,4000]
[null,null,null,null,null,null,null,null,null,null,null,null,null,"L",550,700,850,1050,1400,1700,2000,2300,2600,3000,3300,3600,3800,3800,3800,3800]
[null,null,"Equipements / Equipments",null,null,null,null,null,null,null,null,null,null,"P",200,250,300,350,400,450,500,600,650,700,750,1500,1800,1800,1800,1800]
[null,null,null,"Pieds supports / Supporting legs :",null,null,{"$f":"Calculations!R46","v":"Non"},null,null,null,null,null,null,"F",100,100,100,100,100,100,100,100,100,100,100,100,100,100,100,100]
[null,null,null,"Connection \"A\"",null,"DN",{"$f":"Calculations!G46","v":65},null,null,null,null,null,null,"Poids",13,25,58,105,185,357,478,743,963,1564,1876,2092,2727,3327,3527,3727]
[null,null,null,"Connection \"B\" ",null,"DN",{"$f":"Calculations!I46","v":65},null,null,null,null,null,null,"Ep",2,2,2,3,4,5,6,6,6,6,8,8,10,12,12,12]
[null,null,null,"Connection \"C\"",null,"DN",{"$f":"Calculations!K46","v":40},null,null,null,null,null,null,"I",{"$f":"(O8/2)+100","v":200},{"$f":"(P8/2)+100","v":300},350,400,500,600,700,800,900,1000,1100,1200,1300,1400,1500,1600]
[null,null,null,null,null,null,null,null,null,null,null,null,null,"pds fond",1.8,3,4.5999999999999996,11.1,12.6,33.6,61.5,82,129,162,264,316,316,316,316,316]
[null,null,null,null,null,null,null,null,null,null,null,null,null,"ht fond",65,85,104,128,167,210,253,292,333,371,419,458,458,458,458,458]
[]
[null,null,"Prix de revient Production :",null,null,null,{"$f":"IF(G9=\"FRP\",Q21,IF(G9=\"Acier au Carbone\",Q22,IF(G9=\"Acier caoutchouté\",Q23,IF(G9=\"304L\",Q24,IF(G9=\"316L\",Q25,IF(G9=\"904L\",Q26,0))))))","v":{"$error":"#N/A"}},"€"]
[]
[null,null,null,null,null,null,null,null,null,null,null,null,null,{"$f":"G7","v":200},null,"FRP",{"$f":"HLOOKUP($N$21,O31:AD32,2,TRUE)","v":{"$error":"#N/A"}}]
[null,null,null,null,null,null,null,null,null,null,null,null,null,{"$f":"HLOOKUP($N$21,$O$8:$AD$12,2,TRUE)","v":700},null,"Acier au Carbone",{"$f":"HLOOKUP($N$21,O34:AD35,2,TRUE)","v":{"$error":"#N/A"}}]
[null,null,null,null,null,null,null,null,null,null,null,null,null,{"$f":"HLOOKUP($N$21,$O$8:$AD$12,3,TRUE)","v":550},null,"Acier caoutchouté",{"$f":"HLOOKUP($N$21,O37:AD38,2,TRUE)","v":{"$error":"#N/A"}}]
[null,null,null,null,null,null,null,null,null,null,null,null,null,{"$f":"HLOOKUP($N$21,$O$8:$AD$12,4,TRUE)","v":200},null,"AISI 304L",{"$f":"HLOOKUP($N$21,O40:AD41,2,TRUE)","v":{"$error":"#N/A"}}]
[null,null,null,null,null,null,null,null,null,null,null,null,null,{"$f":"HLOOKUP($N$21,$O$8:$AD$12,5,TRUE)","v":100},null,"AISI 316L",{"$f":"HLOOKUP($N$21,O43:AD44,2,TRUE)","v":{"$error":"#N/A"}}]
[null,null,null,null,null,null,null,null,null,null,null,null,null,{"$f":"HLOOKUP($N$21,$O$8:$AD$15,6,TRUE)","v":13},null,"AISI 904L",{"$f":"HLOOKUP($N$21,O46:AD47,2,TRUE)","v":{"$error":"#N/A"}}]
[null,null,null,null,null,null,null,null,null,null,null,null,null,{"$f":"HLOOKUP($N$21,$O$8:$AD$15,8,TRUE)","v":200}]
[]
[]
[null,null,null,null,null,{"$f":"N24","v":200}]
[null,null,null,{"$f":"N27","v":200},null,null,null,null,null,null,null,null,null,null,300,400,500,600,800,1000,1200,1400,1600,1800,2000,2200,2400,2600,2800,3000]
[null,null,null,null,null,null,null,null,null,null,null,null,null,"FRP",1,7,{"$f":"P32+6","v":13},{"$f":"Q32+6","v":19},25,31,37,43,49,55,61,67,73,79,85,91]
[]
[null,null,null,null,null,null,null,null,null,null,null,null,null,null,300,400,500,600,800,1000,1200,1400,1600,1800,2000,2200,2400,2600,2800,3000]
[null,null,null,null,null,{"$f":"N22","v":700},null,null,null,null,null,null,null,"Acier au Carbone",2,8,{"$f":"P35+6","v":14},20,26,32,38,44,50,56,62,68,74,80,86,92]
[]
[null,null,null,{"$f":"N21","v":200},null,null,null,null,null,null,null,null,null,null,300,400,500,600,800,1000,1200,1400,1600,1800,2000,2200,2400,2600,2800,3000]
[null,null,null,null,null,null,null,null,null,null,null,null,null,"Acier caoutchouté",3,9,{"$f":"P38+6","v":15},21,27,33,39,45,51,57,63,69,75,81,87,93]
[]
[null,null,null,null,null,{"$f":"N23","v":550},null,null,null,null,null,null,null,null,300,400,500,600,800,1000,1200,1400,1600,1800,2000,2200,2400,2600,2800,3000]
[null,null,{"$f":"N26","v":13},"Kg",null,null,null,null,null,null,null,null,null,"AISI 304L",4,10,{"$f":"P41+6","v":16},22,28,34,40,46,52,58,64,70,76,82,88,94]
[]
[null,null,null," 60°",null,null,null,null,null,null,null,null,null,null,300,400,500,600,800,1000,1200,1400,1600,1800,2000,2200,2400,2600,2800,3000]
[null,null,null,null,null,null,null,null,null,null,null,null,null,"AISI 316L",5,11,{"$f":"P44+6","v":17},23,29,35,41,47,53,59,65,71,77,83,89,95]
[]
[null,null,null,null,null,null,null,null,null,null,null,null,null,null,300,400,500,600,800,1000,1200,1400,1600,1800,2000,2200,2400,2600,2800,3000]
[null,null,null,null,null,null,null,null,null,null,null,null,null,"AISI 904L",6,12,{"$f":"P47+6","v":18},24,30,36,42,48,54,60,66,72,78,84,90,96]
[]
[null,null,null,null,null,{"$f":"N25","v":100}]

{"sheet":"Laveur.","index":79,"n_rows":49,"n_cols":30,"rows_kept":49,"cut":false,"hidden":true,"merged":[[48,6,49,6],[2,1,2,8],[34,6,38,6],[35,4,35,5],[39,6,41,6],[42,6,44,6]]}
[]
[]
[null,"LAVEUR"]
[]
[]
[]
[null,null,"Diamètre",null,null,null,{"$f":"Calculations!E48","v":200}]
[null,null,null,null,null,null,null,null,null,null,null,null,null,"D",200,400,500,600,800,1000,1200,1400,1600,1800,2000,2200,2400,2600,2800,3000]
[null,null,"Matériau de construction : ",null,null,null,{"$f":"Calculations!C48","v":"Exclu"},null,null,null,null,null,null,"H",750,900,1050,1250,1600,1900,2200,2500,2800,3200,3500,3800,4000,4000,4000,4000]
[null,null,null,null,null,null,null,null,null,null,null,null,null,"L",500,700,850,1050,1400,1700,2000,2300,2600,3000,3300,3600,3800,3800,3800,3800]
[null,null,"Equipements / Equipments",null,null,null,null,null,null,null,null,null,null,"P",200,400,500,600,700,800,900,1000,1200,1300,1400,1500,1800,1800,1800,1800]
[null,null,null,"Pieds supports / Supporting legs :",null,null,{"$f":"Calculations!R48","v":"Non"},null,null,null,null,null,null,"F",100,100,100,100,100,100,100,100,100,100,100,100,100,100,100,100]
[null,null,null,"Connection \"A\"",null,"DN",{"$f":"Calculations!G48","v":65},null,null,null,null,null,null,"Poids",12,19,29,66,102,225,400,535,833,1077,1745,2092,2727,3327,3527,3727]
[null,null,null,"Connection \"B\" ",null,"DN",{"$f":"Calculations!I48","v":65},null,null,null,null,null,null,"Ep",2,2,2,3,3,4,5,5,6,6,8,8,10,12,12,12]
[null,null,null,"Connection \"C\"",null,"DN",{"$f":"Calculations!K48","v":20},null,null,null,null,null,null,"I",{"$f":"(O8/2)+100","v":200},{"$f":"(P8/2)+100","v":300},350,400,500,600,700,800,900,1000,1100,1200,1300,1400,1500,1600]
[null,null,null,"Connection \"D\"",null,"DN","1\"1/4",null,null,null,null,null,null,"pds fond",1.8,3,4.5999999999999996,11.1,12.6,33.6,61.5,82,129,162,264,316,316,316,316,316]
[null,null,null,null,null,null,null,null,null,null,null,null,null,"ht fond",65,85,104,128,167,210,253,292,333,371,419,458,458,458,458,458]
[]
[null,null,"Prix de revient Production :",null,null,null,{"$f":"IF(G9=\"FRP\",Q21,IF(G9=\"Acier au Carbone\",Q22,IF(G9=\"Acier caoutchouté\",Q23,IF(G9=\"304L\",Q24,IF(G9=\"316L\",Q25,IF(G9=\"904L\",Q26,0))))))","v":0},"€"]
[]
[null,null,null,null,null,null,null,null,null,null,null,null,null,{"$f":"G7","v":200},null,"FRP",{"$f":"HLOOKUP($N$21,O31:AD32,2,TRUE)","v":{"$error":"#N/A"}}]
[null,null,null,null,null,null,null,null,null,null,null,null,null,{"$f":"HLOOKUP($N$21,$O$8:$AD$12,2,TRUE)","v":750},null,"Acier au Carbone",{"$f":"HLOOKUP($N$21,O34:AD35,2,TRUE)","v":{"$error":"#N/A"}}]
[null,null,null,null,null,null,null,null,null,null,null,null,null,{"$f":"HLOOKUP($N$21,$O$8:$AD$12,3,TRUE)","v":500},null,"Acier caoutchouté",{"$f":"HLOOKUP($N$21,O37:AD38,2,TRUE)","v":{"$error":"#N/A"}}]
[null,null,null,null,null,null,null,null,null,null,null,null,null,{"$f":"HLOOKUP($N$21,$O$8:$AD$12,4,TRUE)","v":200},null,"AISI 304L",{"$f":"HLOOKUP($N$21,O40:AD41,2,TRUE)","v":{"$error":"#N/A"}}]
[null,null,null,null,null,null,null,null,null,null,null,null,null,{"$f":"HLOOKUP($N$21,$O$8:$AD$12,5,TRUE)","v":100},null,"AISI 316L",{"$f":"HLOOKUP($N$21,O43:AD44,2,TRUE)","v":{"$error":"#N/A"}}]
[null,null,null,null,null,null,null,null,null,null,null,null,null,{"$f":"HLOOKUP($N$21,$O$8:$AD$15,6,TRUE)","v":12},null,"AISI 904L",{"$f":"HLOOKUP($N$21,O46:AD47,2,TRUE)","v":{"$error":"#N/A"}}]
[null,null,null,null,null,null,null,null,null,null,null,null,null,{"$f":"HLOOKUP($N$21,$O$8:$AD$15,8,TRUE)","v":200}]
[]
[]
[]
[null,null,null,null,null,null,null,null,null,null,null,null,null,null,300,400,500,600,800,1000,1200,1400,1600,1800,2000,2200,2400,2600,2800,3000]
[null,null,null,null,null,null,null,null,null,null,null,null,null,"FRP",1,7,{"$f":"P32+6","v":13},{"$f":"Q32+6","v":19},25,31,37,43,49,55,61,67,73,79,85,91]
[]
[null,null,null,null,{"$f":"N21","v":200},null,null,null,null,null,null,null,null,null,300,400,500,600,800,1000,1200,1400,1600,1800,2000,2200,2400,2600,2800,3000]
[null,null,null,null,null,null,{"$f":"N22","v":750},null,null,null,null,null,null,"Acier au Carbone",2,8,{"$f":"P35+6","v":14},20,26,32,38,44,50,56,62,68,74,80,86,92]
[null,null,null,null,{"$f":"N27","v":200}]
[null,null,null,null,null,null,null,null,null,null,null,null,null,null,300,400,500,600,800,1000,1200,1400,1600,1800,2000,2200,2400,2600,2800,3000]
[null,null,null,null,null,null,null,null,null,null,null,null,null,"Acier caoutchouté",3,9,{"$f":"P38+6","v":15},21,27,33,39,45,51,57,63,69,75,81,87,93]
[]
[null,null,null,null,null,null,{"$f":"N23","v":500},null,null,null,null,null,null,null,300,400,500,600,800,1000,1200,1400,1600,1800,2000,2200,2400,2600,2800,3000]
[null,null,null,null,null,null,null,null,null,null,null,null,null,"AISI 304L",4,10,{"$f":"P41+6","v":16},22,28,34,40,46,52,58,64,70,76,82,88,94]
[null,null,null,null,{"$f":"N26","v":12},"Kg"]
[null,null,null,null,null,null,{"$f":"N24","v":200},null,null,null,null,null,null,null,300,400,500,600,800,1000,1200,1400,1600,1800,2000,2200,2400,2600,2800,3000]
[null,null,null,null,null,null,null,null,null,null,null,null,null,"AISI 316L",5,11,{"$f":"P44+6","v":17},23,29,35,41,47,53,59,65,71,77,83,89,95]
[]
[null,null,null,null,null,null,null,null,null,null,null,null,null,null,300,400,500,600,800,1000,1200,1400,1600,1800,2000,2200,2400,2600,2800,3000]
[null,null,null,null,null,null,null,null,null,null,null,null,null,"AISI 904L",6,12,{"$f":"P47+6","v":18},24,30,36,42,48,54,60,66,72,78,84,90,96]
[]
[null,null,null,null,null,null,{"$f":"N25","v":100}]

{"sheet":"Drip pan - Walkways","index":80,"n_rows":49,"n_cols":35,"rows_kept":49,"cut":false,"hidden":false,"merged":[[8,1,8,6],[9,1,9,2],[9,3,9,4],[10,4,17,4],[13,1,13,2]]}
[null,null,null,null,null,null,null,null,null,null,null,null,null,null,null,null,null,null,null,null,null,null,null,null,null,"m²","%","Poids","Longueur","Aire","Longueur","Aire HATCH","Poids","Prix"]
[null,null,null,null,null,null,null,null,null,null,null,null,null,null,null,null,null,null,null,null,"Drip Pan HOGANAS",null,null,null,"Surface Partie Externe",{"$f":"7.005*2.45-Z3","v":6.7816499999999991},{"$f":"Z2/(Z2+Z3)","v":0.39514923742516272},{"$f":"AA2*V3","v":185.72014158982648},7.0049999999999999,null,{"$f":"Calculations!C9/(Calculations!E9/1000)","v":4},null,{"$f":"AB2/AC2*AE2","v":106.05004516192804},{"$f":"AG2*V6","v":1241.0111667885196}]
["WALK WAY AND DRIP PAN BUDGET PRICE ELABORATION",null,null,null,null,null,null,null,null,null,null,null,null,null,null,null,null,null,null,null,"Poids (kg)",470,null,null,"Surface Partie Interne",{"$f":"1.58*(7.005-(2.45-1.58)/2)","v":10.380600000000001},{"$f":"1-AA2","v":0.60485076257483728},{"$f":"AA3*V3","v":284.27985841017352},7.0049999999999999,{"$f":"Z3","v":10.380600000000001},null,{"$f":"((80+Calculations!E9)/1000)*AE2","v":2.3199999999999998},{"$f":"AB3/AD3*AF3","v":63.534792932162148},{"$f":"AG3*V6","v":743.49225771679119}]
[null,"Fille the values in the green cells",null,null,null,null,null,null,null,null,null,null,null,null,null,null,null,null,null,null,"Prix ",5500]
[null,null,null,null,null,null,null,null,null,null,null,null,null,null,null,null,null,null,null,null,"Matière ","316L",null,null,null,null,null,null,null,null,null,null,"Prix total Drip Pan ",null,{"$f":"AH2+AH3","v":1984.5034245053107}]
[null,null,null,null,null,"m",null,null,"Stairs",null,null,null,null,null,null,null,null,null,null,null,"Prix / kg",{"$f":"V4/V3","v":11.702127659574469}]
[null,null,null,null,null,0.85]
[null,null,null,null,null,null,null,null,null,null,"Surface (m²) - One side",{"$f":"$D$10*$F$21","v":6.0604999999999993},null,null,null,"Prix SADACI - Fabrication Europe"]
[null,null,null,null,null,null,null,null,null,null,"Surface (m²) - L Shape",{"$f":"($D$10+$H$10)*$F$21+$F$14*$H$10","v":7.7604999999999995},null,null,null,"m² SADACI",{"$f":"15.16*0.85","v":12.885999999999999}]
[0.85,"Longueur hors tout filtre",null,{"$f":"Calculations!R55/1000","v":7.13},null,"m",null,0.85,null,null,"Surface (m²) Entier",{"$f":"($A$10+$D$10+$H$10)*($F$7+$F$21)+$F$14*($H$10+$A$10)","v":16.965999999999998},null,null,null,"Prix Passerelles Acier / Caillebotis FRP SADACI",{"$f":"17000-2600+14*45","v":15030}]
[null,null,null,null,"Largeut H.T. filtre",null,null,null,null,null,null,null,null,null,null,"Prix m²",{"$f":"Q10/Q9","v":1166.382120130374}]
[null,null,null,null,null,null,null,null,null,null,"Poids au m² (kg/m²)",110,null,null,null,"Prix Unitaire Escalier",2000]
[null,null,null,null,null,"m",null,null,null,null,"Prix au kilo (Eur/kg)",{"$f":"[38]Charpente!M13","v":4.6049116760017235}]
[null,"Nombre d'escaliers :",null,2,null,{"$f":"Calculations!R54/1000","v":1.1499999999999999},null,null,null,null,"Prix caillebotis Acier (Eur/m²)",40]
[null,null,null,null,null,null,null,null,null,null,"Prix caillebotis FRP (Eur/m²)",45]
[null,null,null,null,null,null,null,null,null,null,null,null,null,null,null,"Prix Walkways Entier avec 2 Escaliers",{"$f":"$L$10*Q11+2*Q12","v":23788.839050131923}]
[null,null,null,"FILTER",null,null,null,null,null,null,"Prix passerelles Acier (Eur)",{"$f":"L10*L12*L13+L14*L10","v":9272.6024644549743},null,null,null,"Prix Walkways en L avec 2 Escaliers",{"$f":"$L$9*Q11+2*Q12","v":13051.708443271767}]
[null,null,null,null,null,null,null,null,null,null,"Prix passerelles FRP (Eur)",{"$f":"L10*L12*L13+L15*L10","v":9357.4324644549743},null,null,null,"Prix Walkways 1 côté avec 2 Escaliers",{"$f":"$L$8*Q11+Q12*2","v":11068.858839050132}]
[]
[null,null,null,null,null,"m"]
[null,null,null,null,null,0.85]
[]
[null,null,null,null,"2005 price",null,null,null,null,null,null,null,null,null,null,"Consultation Paul Yung - Fabrication Chine"]
["Stairs","Walkways + stairs - unit price _Passerelles +escaliers",null,null,null,null,"Walkways + stairs - unit price _Passerelles avec caillebotis polyester +escaliers",null,null,null,null,null,null,null,null,"m² SADACI",{"$f":"15.16*0.85","v":12.885999999999999}]
[null,null,null,"m2",480,null,null,null,"m2",680,null,null,null,null,null,"Prix Passerelles Acier / Caillebotis Inox SADACI",{"$f":"IF(P40=\"FRP\",6500,IF(P40=\"304L\",8000,N/A))","v":{"$error":"#NAME?"}}]
[null,null,null,"Escalier",2160,null,null,null,"Escalier",2160,null,null,null,null,null,"Prix m²",{"$f":"Q25/Q24","v":{"$error":"#NAME?"}}]
[null,null,null,null,null,null,null,null,null,null,null,null,null,null,null,"Prix Unitaire Escalier",2000]
[null,null,null,"Supplyer cost _ Prix d'achat :",{"$f":"(((A10+D10+H10)*(F7+F21))+(F14*(H10+A10)))*E25+D14*E26","v":12463.679999999998},null,null,null,"Supplyer cost _ Prix d'achat :",{"$f":"(((A10+D10+H10)*(F7+F21))+(F14*(H10+A10)))*J25+D14*J26","v":15856.88}]
[]
[null,"Drip pan PPH",null,null,null,null,null,null,null,{"$f":"(((A10+D10+H10)*(F7+F21))+(F14*(H10+A10)))*L12*L13+(((A10+D10+H10)*(F7+F21))+(F14*(H10+A10)))*L15+D14*J26","v":13677.432464454974}]
[null,null,null,"m2",350,null,null,null,null,null,null,null,null,null,null,"Prix Walkways Entier avec 2 Escaliers",{"$f":"$L$10*Q26+2*Q27","v":{"$error":"#NAME?"}}]
[null,null,null,null,null,null,null,null,null,null,null,null,null,null,null,"Prix Walkways en L avec 2 Escaliers",{"$f":"$L$9*Q26+2*Q27","v":{"$error":"#NAME?"}}]
[null,null,null,null,null,null,null,null,null,null,null,null,null,null,null,"Prix Walkways 1 côté avec 2 Escaliers",{"$f":"$L$8*Q26+Q27*2","v":{"$error":"#NAME?"}}]
[null,null,null,"Supplyer cost _ Prix d'achat :",{"$f":"((D10+0.5)*(F14+0.5))*E31","v":4406.3249999999998}]
[]
[]
[]
[null,null,null,null,null,null,null,null,null,null,null,null,null,null,null,"Sélection du type de Passerelle"]
[null,null,null,null,null,null,null,null,null,null,null,null,null,null,"Forme",{"$f":"Calculations!I31","v":"N/A"}]
[null,null,null,null,null,null,null,null,null,null,null,null,null,null,"Matériau",{"$f":"Calculations!J31","v":"N/A"}]
[null,null,null,null,null,null,null,null,null,null,null,null,null,null,"Prix",{"$f":"IF(OR(P39=H47,P39=N47),Q31,IF(OR(P39=H48,P39=N48),Q32,IF(OR(P39=H49,P39=N49),Q33,0)))","v":0}]
[]
[]
[]
[]
[]
[null,null,null,null,null,null,null,"on all sides of the filter + 2 stairs",null,null,null,null,null,"en entier du filtre + 2 escaliers"]
[null,null,null,null,null,null,null,"L shape, on one side of the filter + 2 stairs",null,null,null,null,null,"forme en L, sur un côté du filtre + 2 escaliers"]
[null,null,null,null,null,null,null,"on one side of the filter + 2 stairs",null,null,null,null,null,"sur un côté du filtre + 2 escaliers"]

{"sheet":"PdR ENG","index":81,"n_rows":65,"n_cols":20,"rows_kept":65,"cut":false,"hidden":false,"merged":[[8,2,9,3],[8,4,9,6],[0,2,3,15],[4,2,5,3],[4,4,5,6],[4,7,6,9],[4,10,6,12],[4,13,9,15],[6,2,7,3],[6,4,7,6],[7,7,9,9],[7,10,9,12]]}
[null,null,"SPARE PARTS LIST"]
[]
[null,null,null,null,null,null,null,null,null,null,null,null,null,null,null,null,null,null,"Commission",0]
[]
[null,null,"Customer",null,{"$f":"Calculations!C2","v":"CARESTER"},null,null,"Date",null,null,{"$f":"TODAY()","v":"2025-04-25"},null,null,"Customers Service\nJose PINTO\nPhone : +33 (0)2 33 81 13 14 \nMob : +33 (0)6 37 07 29 37\njose.pinto@hasler-gp.com"]
[]
[null,null,"Filter Type",null,{"$f":"Calculations!K10","v":"2B5"}]
[null,null,null,null,null,null,null,"Prices Validity",null,null,{"$f":"YEAR(K5)","v":2025}]
[null,null,"Filter Ref",null,{"$f":"Calculations!C4","v":"CAREMAG"}]
[]
["RPA Code","Material","Description","Quantity installed per Filter","Quantity recommended for commissioning","Quantity recommended for 1 year","Quantity recommended for 2 years","Quantity for safety stock","Prix\nRevient Formule JPIN","Prix\nRevient Unitaire","Marge\nBrute","Unit price","Total price for commissioning","Total price for 1 year","Total price for 2 years","Total price for safety stock"]
["E00000000000018","PE-UHMW","Belt guiding roller",{"$f":"IF(Calculations!I9=\"SERIE 2\", 'Série 2'!B23,'Séries 3-4-5'!B23)","v":6},0,0,0,2,null,20,0.55000000000000004,{"$f":"ROUNDUP((J12/(1-K12))/(1-$T$3),)","v":45},{"$f":"L12*E12","v":0},{"$f":"$L$12*F12","v":0},{"$f":"L12*G12","v":0},{"$f":"L12*H12","v":90}]
["E000000536-0006","316L","Cloth tracking edge sensor",{"$f":"1","v":1},0,1,2,1,null,93,0.55000000000000004,{"$f":"ROUNDUP((J13/(1-K13))/(1-$T$3),)","v":207},0,{"$f":"L13*F13","v":207},{"$f":"L13*G13","v":414},{"$f":"L13*H13","v":207}]
["ECOM000249-0006","316L","Cloth tracking operating device",{"$f":"1","v":1},0,0,0,1,null,846,0.4,1410,0,{"$f":"L14*F14","v":0},0,1410]
["EGUIDROUPOL9",null,"Rouleau 9\" polyuréthane",null,null,null,null,null,null,148,0.55000000000000004,329,0,0,0,0]
["EGUIDROUNIO9","316L","Rouleau 9\" inox",null,null,null,null,null,null,106,0.55000000000000004,236,0,0,0,0]
["EGUIDVERIN09",null,"Vérin 5\"1/4 - 9\"",null,null,null,null,null,null,157,0.55000000000000004,349,0,0,0,0]
["EGUIDPAL09NO",null,"Palpeur pnematique 9\"",null,null,null,null,null,null,105,0.55000000000000004,234,0,0,0,0]
[null,null,"Pillow block for drive pulley",2,0,0,0,1,"Somme des composants + 250€ de peinture",null,0.4,0,0,{"$f":"L19*F19","v":0},0,0]
[null,null,"Roulement pour tambour moteur",{"$f":"2","v":2},0,0,0,1,"Voir CEGID",null,0.4,0,0,0,0,0]
[null,null,"Manchon de serrage",{"$f":"D20","v":2},0,0,0,1,"Voir CEGID",null,0.4,0,0,0,0,0]
[null,null,"Pillow block for idle pulley",{"$f":"D20","v":2},0,0,0,1,"Somme des composants + 250€ peinture",null,0.4,0,0,{"$f":"L22*F22","v":0},0,0]
[null,null,"Roulement pour tambour libre",{"$f":"2","v":2},0,0,0,1,"Voir CEGID",null,0.4,0,0,0,0,0]
[null,null,"Manchon de serrage",{"$f":"D23","v":2},0,0,0,1,"Voir CEGID",null,0.4,0,0,0,0,0]
[null,null,"Palier complet rouleaux toile et bande",{"$f":"D23","v":2},0,0,0,0,"Somme des composants + 40€ peinture",null,0.4,0,0,0,0,0]
[null,null,"Pillow block for cloth rollers",{"$f":"IF(Calculations!I9=\"SERIE 2\",('Série 2'!B26+'Série 2'!B29+'Série 2'!B32+'Série 2'!B35+'Série 2'!B38+'Série 2'!B41)*2-D27,('Séries 3-4-5'!B26+'Séries 3-4-5'!B29+'Séries 3-4-5'!B32+'Séries 3-4-5'!B35+'Séries 3-4-5'!B38+'Séries 3-4-5'!B41)*2-D27)","v":24},0,0,0,{"$f":"CEILING(D26/10,5)","v":5},"Voir CEGID",null,0.4,0,0,{"$f":"L26*F26","v":0},0,0]
[null,null,"Pillow block for belt rollers",{"$f":"IF(Calculations!I9=\"SERIE 2\",'Série 2'!B26*2,'Séries 3-4-5'!B26*2)","v":6},0,0,0,{"$f":"CEILING(D27/10,5)","v":5},"Voir CEGID",null,0.4,0,0,{"$f":"L27*F27","v":0},0,0]
[null,null,"Plastic bearing for cloth forming roller",2,0,0,0,2,null,22,0.55000000000000004,49,0,{"$f":"L28*F28","v":0},0,98]
[null,null,null,null,null,null,null,null,null,null,null,0]
["ECOM000034-7058","SBR","Pneumatic bellow 8x2 - Cloth guiding",{"$f":"'Séries 3-4-5'!B73","v":2},0,0,0,{"$f":"IF(D30=0,0,1)","v":1},null,45,0.4,75,0,{"$f":"L30*F30","v":0},0,75]
["ECOM001026-7058","SBR","Pneumatic bellow 8x3 - Vacuum box tilting",{"$f":"IF(Calculations!I9=\"SERIE 2\",'Série 2'!B72,'Séries 3-4-5'!B72)","v":0},0,0,0,{"$f":"IF(D31=0,0,1)","v":0},null,62,0.4,104,0,{"$f":"L31*F31","v":0},0,0]
["ECOM000088-7058","SBR","Pneumatic bellow 10x2 - Cloth tension",{"$f":"'Séries 3-4-5'!B71","v":2},0,0,0,1,null,47,0.4,79,0,{"$f":"L32*F32","v":0},0,79]
["ECOM000100-7058","SBR","Pneumatic bellow 12x2 - Cloth tension",{"$f":"'Séries 3-4-5'!B70","v":0},0,0,0,0,null,68,0.4,114,0,{"$f":"L33*F33","v":0},0,0]
[null,null,"Filter cloth",{"$f":"1","v":1},1,1,3,1,"Voir CEGID",null,0.4,{"$f":"250*Calculations!C9","v":500},500,{"$f":"L34*F34","v":500},1500,500]
[null,null,null,null,null,null,null,null,null,null,null,0]
[null,"PE-UHMW","Length of table sliding rules - Right side",{"$f":"D38/2","v":2},0,0,0,1,"(20 x longueur table) + 15",{"$f":"20*Tabl!D5+15","v":95},0.55000000000000004,212,0,{"$f":"L36*F36","v":0},0,212]
[null,"PE-UHMW","Length of table sliding rules - Left side",{"$f":"D36","v":2},0,0,0,1,"(20 x longueur table) + 15",{"$f":"J36","v":95},0.55000000000000004,212,0,{"$f":"L37*F37","v":0},0,212]
[null,null,"Table wear belt",{"$f":"'Cost list'!H13","v":4},2,0,{"$f":"D38","v":4},2,"6,5 x longueur (mètres) + 90",{"$f":"6.5*Tabl!D65+90","v":162.47500000000002},0.55000000000000004,362,{"$f":"L38*E38","v":724},{"$f":"L38*F38","v":0},1448,724]
["E000002231-8005","PE-UHMW","Tensioning wheel",{"$f":"Tabl!C36","v":8},0,0,0,0,null,34,0.55000000000000004,76,0,{"$f":"$L$39*F39","v":0},0,0]
["E000002232-8005","PE-UHMW","End wheel table",{"$f":"Tabl!C37","v":0},0,0,0,0,null,29,0.55000000000000004,65,0,{"$f":"$L$40*F40","v":0},0,0]
["E000002234-8005","PE-UHMW","Return roller",{"$f":"Tabl!C39","v":{"$error":"#N/A"}},0,0,0,0,null,3,0.55000000000000004,7,0,{"$f":"$L$41*F41","v":0},0,0]
[null,null,null,null,null,null,null,null,null,null,null,0]
[null,null,"Filter drive reducer",1,0,0,0,0,"Voir CEGID",null,0.4,0,0,{"$f":"$L$43*F43","v":0},0,0]
[null,null,"Filter drive motor",1,0,0,0,0,"Voir CEGID",null,0.4,0,0,{"$f":"$L$44*F44","v":0},0,0]
[null,null,"Set of V-Belt",1,0,0,1,1,"Voir CEGID",null,0.4,472.22,0,{"$f":"$L$45*F45","v":0},472.22,472.22]
[null,null,null,null,null,null,null,null,null,null,null,0]
[null,"PE-UHMW","Vacuum box sliding rules",1,0,0,1,1,"100 x longueur boite",{"$f":"100*Tabl!D5","v":400},0.55000000000000004,889,0,{"$f":"$L$47*F47","v":0},889,889]
[null,null,"Vacuum box wear belts",2,2,2,4,2,"11 x longueur (mètres) + 90",{"$f":"IF(Calculations!I9=\"SERIE 2\",11*('B. à V.2'!B64*2+2.51)+90,11*('B. à V.'!B65*2+2.51)+90)","v":205.61},0.55000000000000004,457,914,{"$f":"$L$48*F48","v":914},1828,914]
["E000000746-8005","PE-UHMW","End wheel vacuum box",2,0,0,0,0,null,56,0.55000000000000004,125,0,{"$f":"$L$49*F49","v":0},0,0]
["E000000384-8005","PE-UHMW","Return roller",{"$f":"'Séries 3-4-5'!N65","v":{"$error":"#N/A"}},0,0,0,0,null,8,0.55000000000000004,18,0,{"$f":"$L$50*F50","v":0},0,0]
[{"$f":"'Séries 3-4-5'!L53","v":"E000000715-7023"},"Rubber","Rubber sleeve",{"$f":"'B. à V.'!B73","v":4},0,0,{"$f":"D51","v":4},{"$f":"CEILING(D51/10,5)","v":5},"Voir CEGID",null,0.4,200,0,{"$f":"$L$51*F51","v":0},800,1000]
[null,null,null,null,null,null,null,null,null,null,null,0]
[null,"PU 90 shore","Scraper",1,0,1,2,1,"27 x longueur (mètres) + 45 €",{"$f":"27*(Calculations!E9/1000+0.38)+45","v":68.760000000000005},0.55000000000000004,153,0,{"$f":"$L$53*F53","v":153},306,153]
[null,"PVDF","Spray nozzle",{"$f":"3*Calculations!H75+2*Calculations!H76","v":36},{"$f":"CEILING(D54/10,10)","v":10},0,{"$f":"D54","v":36},{"$f":"CEILING(D54/2,10)","v":20},null,2.5,0.4,5,50,{"$f":"$L$54*F54","v":0},180,100]
[null,null,null,null,null,null,null,null,null,null,null,0]
["EELE000311-9034",null,"Cloth & Belt misalignment switch (body)",4,0,0,0,4,null,31,0.4,52,0,{"$f":"$L$56*F56","v":0},0,208]
["EELE000313-9034",null,"Cloth & Belt misalignment switch (head)",4,0,0,0,4,null,31,0.4,52,0,{"$f":"$L$57*F57","v":0},0,208]
["EELE000449-9034",null,"Emergency stop - LEFT",1,0,0,0,1,null,352,0.4,587,0,{"$f":"$L$58*F58","v":0},0,587]
["EELE000450-9034",null,"Emergency stop - RIGHT",1,0,0,0,1,null,352,0.4,587,0,{"$f":"$L$59*F59","v":0},0,587]
["EELE000192-0000",null,"Cloth run-off and tension sensor",2,0,0,0,2,null,100,0.4,167,0,{"$f":"$L$60*F60","v":0},0,334]
["EELE000484-0000",null,"Air pressure switch",1,0,0,0,1,null,320,0.4,534,0,{"$f":"$L$61*F61","v":0},0,534]
["EELE000485-0000",null,"Water pressure switch",1,0,0,0,1,null,320,0.4,534,0,{"$f":"$L$62*F62","v":0},0,534]
[null,null,"Overtorque limit switch",1,0,0,0,1,null,57,0.4,{"$f":"ROUNDUP((J63/(1-K63))/(1-$T$3),)","v":95},{"$f":"L63*E63","v":0},{"$f":"$L$63*F63","v":0},{"$f":"L63*G63","v":0},{"$f":"L63*H63","v":95}]
["EELE000317-0000",null,"Cake thickness transmitter",1,0,0,0,1,null,543,0.4,905,0,{"$f":"$L$64*F64","v":0},{"$f":"$L$12*G64","v":0},905]
[null,null,null,null,null,null,null,null,null,null,null,null,{"$f":"SUM(M12:M64)","v":2188},{"$f":"SUM(N12:N64)","v":1774},7837.22,11127.220000000001,"TOTAL (€)"]

{"sheet":"EN TETE","index":82,"n_rows":44,"n_cols":13,"rows_kept":44,"cut":false,"hidden":false,"merged":[[3,12,5,18]]}
[]
[]
[]
[null,null,null,null,null,null,null,null,null,null,null,null,"Règles photo :\n - Photo petit Filtre : taille < 15m²\n - Photo grand Filtre : taille > 15m²"]
[]
[]
[]
[]
[]
[]
[]
[]
[]
[]
[]
[]
[]
[]
[]
[]
[]
[]
[]
[]
[]
[]
[]
[]
[]
[]
[]
[]
[]
[]
[]
[]
[]
[null,null,null,null,null,null,null,null,null,{"$f":"IF('Offre NEW'!C3=\"FR\",\"Filtre à bande horizontal sous vide\",\"Horizontal Vacuum Belt Filter\")","v":"Horizontal Vacuum Belt Filter"}]
[null,null,null,null,null,null,null,null,null,{"$f":"\"Technical Offer \"&Calculations!C3&\"_\"&Calculations!G1&Calculations!H3","v":"Technical Offer 726789_03rev4"}]
[null,null,null,null,null,null,null,null,null,{"$f":"IF('Offre NEW'!C3=\"FR\",\"Projet : \",\"Project : \")&Calculations!K3","v":"Project : Tb slurry filtration"}]
[null,null,null,null,null,null,null,null,null,{"$f":"\"Client Reference : \"&Calculations!C4","v":"Client Reference : CAREMAG"}]
[]
[null,null,null,null,null,null,null,null,null,{"$f":"\"For \"&Calculations!C2","v":"For CARESTER"}]
[null,null,null,null,null,null,null,null,null,{"$f":"TEXT(Calculations!R2,\"jj/mm/aaaa\")","v":"25/04/2025"}]

{"sheet":"Argumentaire","index":83,"n_rows":377,"n_cols":26,"rows_kept":377,"cut":false,"hidden":true,"merged":[[339,25,386,28],[195,25,214,28],[326,1,327,24],[326,25,327,54],[1071,3,1074,24],[1075,3,1076,24],[1080,0,1082,25],[1092,16,1092,21],[1094,0,1094,25],[759,17,760,24],[796,3,797,24],[608,3,609,24],[613,17,614,24],[616,3,618,24],[653,3,654,24],[666,3,667,24],[684,17,685,24],[523,17,524,24],[528,3,529,24],[530,3,530,24],[531,3,532,24],[562,17,563,24],[603,3,605,24],[482,5,483,24],[51,25,98,28],[147,25,194,28],[1007,3,1008,24],[1009,3,1010,24],[1012,3,1013,24],[1035,3,1036,24],[1061,3,1062,24],[1068,3,1070,24],[918,3,919,24],[923,3,924,24],[926,3,927,24],[984,17,985,24],[1003,3,1004,24],[1005,3,1006,24],[815,3,817,24],[837,17,838,24],[849,3,850,24],[901,5,902,11],[911,3,912,24],[916,3,917,24],[702,17,704,24],[727,17,728,24],[740,17,742,24],[744,17,745,24],[484,5,485,24],[503,3,504,24],[505,3,508,24],[513,3,517,24],[520,17,521,24],[433,3,433,24],[437,17,438,24],[460,3,461,24],[476,3,477,24],[478,5,478,24],[479,5,480,24],[403,17,404,24],[416,17,417,24],[418,17,419,24],[420,17,421,24],[425,17,426,24],[430,3,432,24],[375,2,375,24],[376,2,376,24],[383,17,384,24],[390,17,391,24],[393,17,394,24],[397,17,399,24],[340,1,341,24],[345,17,346,24],[354,1,358,24],[365,3,366,24],[373,1,374,1],[373,2,374,24],[250,1,251,24],[256,1,257,24],[273,3,274,24],[280,1,281,24],[291,3,291,24],[313,1,314,24],[185,1,190,1],[185,2,190,24],[198,1,199,24],[224,1,225,1],[224,2,225,24],[226,1,227,1],[226,2,227,24],[154,1,158,1],[154,2,158,24],[160,1,170,1],[160,2,170,24],[172,1,183,1],[172,2,183,24],[104,1,106,24],[109,14,109,19],[114,14,114,19],[129,1,130,24],[132,1,133,24],[150,1,152,1],[150,2,152,24],[76,1,76,23],[77,1,77,11],[77,12,77,23],[78,1,78,11],[78,12,78,23],[92,1,93,1],[68,1,69,7],[68,8,68,14],[68,15,68,23],[69,8,69,14],[69,15,69,23],[73,1,74,24],[63,15,63,23],[64,8,64,14],[64,15,64,23],[65,8,65,14],[65,15,65,23],[66,8,66,14],[66,15,66,23],[56,1,57,24],[59,1,66,7],[59,8,60,14],[59,15,59,23],[60,15,60,23],[61,8,61,14],[61,15,61,23],[62,8,62,14],[62,15,62,23],[63,8,63,14]]}
[]
[]
[]
[null,null," OUR UNDERSTANDING OF YOUR REQUIREMENTS 2"]
[]
[]
[]
[]
[]
[]
[]
[]
[]
[null,null,"Table of Contents"]
[]
[]
[null,null,"I.",{"$f":"\"OUR UNDERSTANDING OF YOUR REQUIREMENTS\"&\"………………………………………………………………………………………………………………………………………………………………………………\"","v":"OUR UNDERSTANDING OF YOUR REQUIREMENTS………………………………………………………………………………………………………………………………………………………………………………"},null,null,null,null,null,null,null,null,null,null,null,null,null,null,null,null,null,null,null,3]
[]
[null,null,null,"a.",{"$f":"\"Your project\"&\"………………………………………………………………………………………………………………………………………………………………………………\"","v":"Your project………………………………………………………………………………………………………………………………………………………………………………"},null,null,null,null,null,null,null,null,null,null,null,null,null,null,null,null,null,null,3]
[null,null,null,"b.",{"$f":"\"Your targets\"&\"………………………………………………………………………………………………………………………………………………………………………………\"","v":"Your targets………………………………………………………………………………………………………………………………………………………………………………"},null,null,null,null,null,null,null,null,null,null,null,null,null,null,null,null,null,null,3]
[null,null,null,"c.",{"$f":"\"Your constraints\"&\"………………………………………………………………………………………………………………………………………………………………………………\"","v":"Your constraints………………………………………………………………………………………………………………………………………………………………………………"},null,null,null,null,null,null,null,null,null,null,null,null,null,null,null,null,null,null,3]
[]
[null,null,"II.",{"$f":"\"HASLER GROUP SOLUTION\"&\"………………………………………………………………………………………………………………………………………………………………………………\"","v":"HASLER GROUP SOLUTION………………………………………………………………………………………………………………………………………………………………………………"},null,null,null,null,null,null,null,null,null,null,null,null,null,null,null,null,null,null,null,4]
[]
[null,null,null,"a.",{"$f":"\"Introduction and summary of our scope\"&\"………………………………………………………………………………………………………………………………………………………………………………\"","v":"Introduction and summary of our scope………………………………………………………………………………………………………………………………………………………………………………"},null,null,null,null,null,null,null,null,null,null,null,null,null,null,null,null,null,null,4]
[null,null,null,"b.",{"$f":"\"A tailor made solution to solve your constraints\"&\"………………………………………………………………………………………………………………………………………………………………………………\"","v":"A tailor made solution to solve your constraints………………………………………………………………………………………………………………………………………………………………………………"},null,null,null,null,null,null,null,null,null,null,null,null,null,null,null,null,null,null,5]
[null,null,null,"c.",{"$f":"\"A solution for maximum peace of mind\"&\"………………………………………………………………………………………………………………………………………………………………………………\"","v":"A solution for maximum peace of mind………………………………………………………………………………………………………………………………………………………………………………"},null,null,null,null,null,null,null,null,null,null,null,null,null,null,null,null,null,null,6]
[null,null,null,"d.",{"$f":"\"A solution that complies with the highest HSE requirements\"&\"………………………………………………………………………………………………………………………………………………………………………………\"","v":"A solution that complies with the highest HSE requirements………………………………………………………………………………………………………………………………………………………………………………"},null,null,null,null,null,null,null,null,null,null,null,null,null,null,null,null,null,null,7]
[null,null,null,"e.",{"$f":"\"HASLER GROUP always with you\"&\"………………………………………………………………………………………………………………………………………………………………………………\"","v":"HASLER GROUP always with you………………………………………………………………………………………………………………………………………………………………………………"},null,null,null,null,null,null,null,null,null,null,null,null,null,null,null,null,null,null,7]
[null,null,null,"f.",{"$f":"\"A solution 4.0 ready\"&\"………………………………………………………………………………………………………………………………………………………………………………\"","v":"A solution 4.0 ready………………………………………………………………………………………………………………………………………………………………………………"},null,null,null,null,null,null,null,null,null,null,null,null,null,null,null,null,null,null,7]
[]
[null,null,"III.",{"$f":"\"OUR RUBBER BELT & BELT SUPPORTING SYSTEM KEY FACTS\"&\"………………………………………………………………………………………………………………………………………………………………………………\"","v":"OUR RUBBER BELT & BELT SUPPORTING SYSTEM KEY FACTS………………………………………………………………………………………………………………………………………………………………………………"},null,null,null,null,null,null,null,null,null,null,null,null,null,null,null,null,null,null,null,8]
[]
[null,null,null,"a.",{"$f":"\"“FILTRES PHILIPPE” rubber belt description\"&\"………………………………………………………………………………………………………………………………………………………………………………\"","v":"“FILTRES PHILIPPE” rubber belt description………………………………………………………………………………………………………………………………………………………………………………"},null,null,null,null,null,null,null,null,null,null,null,null,null,null,null,null,null,null,8]
[null,null,null,"b.",{"$f":"\"Our belt supporting system design\"&\"………………………………………………………………………………………………………………………………………………………………………………\"","v":"Our belt supporting system design………………………………………………………………………………………………………………………………………………………………………………"},null,null,null,null,null,null,null,null,null,null,null,null,null,null,null,null,null,null,8]
[]
[]
[]
[]
[]
[]
[]
[]
[]
[]
[]
[]
[]
[]
[]
[]
[null,null,null,null,null,null,null,null,null,null,null,null,null,null,null,null,null,null,null,null,null,null,null,null,null,"PAGE A MODIFIER ET ADAPTER"]
[null,"I.","OUR UNDERSTANDING OF YOUR REQUIREMENTS"]
[]
[null,"a.","Your project"]
[]
[null,"You are requesting a new filtration unit with its necessary accessories to filter a suspension of XXX & XXX slurry, with the following typical composition:"]
[]
[]
[null,"Slurry characteristics",null,null,null,null,null,null,"Composition",null,null,null,null,null,null,"Solid phase : XXX"]
[null,null,null,null,null,null,null,null,null,null,null,null,null,null,null,"Liquid phase : XXX"]
[null,null,null,null,null,null,null,null,"Production (t/h)",null,null,null,null,null,null,"XX"]
[null,null,null,null,null,null,null,null,"Production (m3/h)",null,null,null,null,null,null,"XX"]
[null,null,null,null,null,null,null,null,"Density (T/m3)",null,null,null,null,null,null,"XX"]
[null,null,null,null,null,null,null,null,"Solids Concentration (%w/w)",null,null,null,null,null,null,"XX"]
[null,null,null,null,null,null,null,null,"Production Dry Solids (t/h)",null,null,null,null,null,null,"XX"]
[null,null,null,null,null,null,null,null,"Temperature (°C)",null,null,null,null,null,null,"XX °C"]
[]
[null,"Wash Water Characteristics",null,null,null,null,null,null,"Production Dry Solids (t/h)",null,null,null,null,null,null,"XX"]
[null,null,null,null,null,null,null,null,"Temperature (°C)",null,null,null,null,null,null,"XX °C"]
[]
[null,"b.","Your targets"]
[]
[null,"The goals of this new filtration unit are to ensure the production rate you require and to wash the XX and XX out of the cake.  The goals are summed up in the table below:"]
[]
[]
[null,"Kazan Soda Goals"]
[null,"Filtrate suspended solids target",null,null,null,null,null,null,null,null,null,null,"As low as possible "]
[null,"Cake Moisture (%)",null,null,null,null,null,null,null,null,null,null,"≤ 30%"]
[]
[null,"c.","Your constraints"]
[]
[null,"1)","Sufficient space to install this filtration unit"]
[]
[null,"2)","High accessibility and maintenance is required due to the small space available"]
[]
[null,"3)","Rollers blockage due to calcium formation"]
[]
[null,"4)","Wrinkles formation on the center of the cloth"]
[]
[null,"5)","Energy consumption : cake mositure a key parameter"]
[]
[]
[]
[]
[]
[]
[]
[]
[]
[null,"II.","HASLER GROUP SOLUTION"]
[]
[null,"a.","Introduction and summary of our scope"]
[]
[null,"Based on the analysis of your needs, we offer you an optimized solution reaching the set objectives, considering your constraints and your issues, offering the best compromise between performance, availability, and safety."]
[]
[]
[]
[null,"•","Equipment Type:"]
[null,null,null,null,null,null,null,null,null,null,null,null,null,null,"Vacuum Belt Filter"]
[]
[null,"•","Brand:"]
[]
[]
[null,"•","Model:",null,null,null,null,null,null,null,null,null,null,null,{"$f":"Calculations!K10","v":"2B5"}]
[]
[]
[]
[]
[]
[]
[]
[]
[]
[]
[]
[]
[]
[]
[null,"Whether you are looking to dewater a cake, recover the filtrate or remove impurities from the cake, our equipment is designed to ensure process performances are always met."]
[]
[]
[null,"To achieve performances, a belt filter should be flat and running straight therefore special attention is given to our design, particularly the rubber belt and its supporting system."]
[]
[]
[]
[]
[]
[]
[]
[]
[]
[]
[]
[]
[]
[]
[null,null,null,null,null,null,null,null,null,null,null,null,null,null,null,null,null,null,null,null,null,null,null,null,null,"PAGE A MODIFIER ET ADAPTER"]
[null,"b.","A tailor made solution to solve your constraints"]
[]
[null,"1)","Sufficient space to install this filtration unit : \na preliminary General Assembly is included in our offer"]
[]
[]
[]
[null,"2)","High accessibility and maintenance is required due to the small space available : \nOur design ensures that \"Filtres Philippe\" filters require very low maintenance, but also provides high accessibility to lower downtime during maintenance (see paragraph II.c page 6)"]
[]
[]
[]
[]
[]
[null,"3)","Rollers blockage due to calcium formation : \nTo reduce product formation on rollers and wear belts, we included in our offer a highly efficient cloth & belt washing system including several headers and nozzles in different areas of the cloth and the belt. We also added a high pressure system, cleaning the cloth continuously at 100 bars.\nHasler Group suggested during the last meeting to include as an option the acid wash system, which cleans the water automatically using acid injection inside a box (see appendix cloth acid wash, page 39)\nThe design of our belt supporting system allows easy maintenance (see pargraph III.b. page 8)"]
[]
[]
[]
[]
[]
[]
[]
[]
[]
[]
[]
[null,"4)","Wrinkles formation on the center of the cloth :\nThis can be caused by  the temperature of the of the slurry, the materials of the filter cloth and the misalignment of supporting rollers. To resolve this problem we have several solutions :\nDuring the commissioning all the rollers are adjusted and verified to ensure a stable running cloth\nWe included in our scope a Curved roller, this roller spins with cloth and its curve can be adjusted to reduce stresses applied on the cloth.\nWe also advise to test and equivalent cloth in polyester, which will have higher mechanical resistance"]
[]
[]
[]
[]
[]
[]
[]
[]
[]
[]
[]
[]
[null,"5)","Energy consumption : cake mositure a key parameter\nWe understand that after the filter, the cake is dried using a rotary kiln. This means that cake moisture is a key parameter in your filtration process. We suggested as an option to add our cake pressure system that will help reduce the water content by pressing it out of the cake. The pressure roller system will mechanically apply a 3 bar pressure on the cake in the drying zone. (see appendix cake pressure roller, page 38)"]
[]
[]
[]
[]
[]
[]
[]
[]
[]
[null,null,null,null,null,null,null,null,null,null,null,null,null,null,null,null,null,null,null,null,null,null,null,null,null,"PARTIE A MODIFIER ET ADAPTER"]
[null,null,"A solution optimized for you"]
[]
[null,"Hasler Group has installed more than 30 belt filters at major soda ash manufacturing companies worldwide."]
[]
[]
[]
[]
[]
[]
[]
[]
[]
[]
[]
[]
[]
[]
[]
[]
[]
[null,"c.","A solution for maximum peace of mind"]
[]
[null,"•","Highest availability on the market, made for continuous processes."]
[]
[null,null,"An equipment designed to reduce downtime:"]
[]
[null,"-","Easy access to all the parts for fast maintenance"]
[null,"-","Vacuum Box Tilting System: access under 60 seconds with one operator"]
[null,"-","Belt support: Wear Strips + Wear Belt or Dry Support Table guaranteeing low wear part consumption"]
[]
[null,"-","Fully automated (System controlled by PLC, Cloth Guiding & Tensioning Automatic Systems, Automatic Lubrication Units)."]
[]
[]
[null,"•","Highest availability on the market, made for continuous processes."]
[]
[null,"-","Low water consumption: Complete water recirculation systems"]
[null,"-","Low energy consumption: Variable speed drives, table support systems"]
[null,"-","Low wear part consumption: Table support system "]
[null,"-","Low maintenance: Fast & Easy Maintenance"]
[]
[]
[]
[]
[]
[]
[]
[]
[]
[null,"d.","A solution that complies with the highest HSE requirements"]
[]
[null,"Your health & safety is our concern."]
[]
[null,"Safety guards are installed around the unit to prevent any risk of accident."]
[]
[null,"Our belt filters are CE certified and meet the environmental, safety and health requirements set by the EU. "]
[]
[]
[]
[null,"e.","HASLER GROUP always with you"]
[]
[null,"At HASLER Group we take time to understand our activity’s evolutions and to listen to our customers. Our philosophy is to focus on our customer’s needs and to work with them on solutions. Services include:"]
[]
[]
[]
[]
[]
[]
[]
[]
[]
[]
[]
[]
[]
[]
[]
[]
[]
[]
[]
[]
[]
[null,"f.","A solution 4.0 ready"]
[]
[null,"All our equipment are fully automized (System controlled by PLC, Cloth Guiding & Tensioning Automatic Systems, Automatic Lubrication Units)."]
[]
[]
[]
[]
[]
[]
[]
[]
[]
[]
[]
[null,"III.","OUR RUBBER BELT & BELT SUPPORTING SYSTEM KEY FACTS"]
[]
[null,"a.","FILTRES PHILIPPE” rubber belt description"]
[]
[null,"The belt supports the filter cloth and provides drainage channels for filtrate and air extraction. "]
[]
[null,"This is the reason why the rubber always must be perfectly aligned with the vacuum box:"]
[]
[]
[]
[]
[]
[]
[]
[]
[]
[]
[]
[]
[]
[]
[null,"In order to guarantee the quality of the rubber belt, all the major manufacturing steps are performed in our workshop."]
[]
[]
[null,"-","Stabilized in our workshop"]
[null,"-","Tailored to our customer’s process (grooves and holes) ensuring a high drainage capacity"]
[null,"-","Shipped endless at our customer’s site"]
[]
[null,"This guarantees that the rubber belt will be running straight, ensuring process performances are always met."]
[]
[null,"b.","Our belt supporting system design"]
[]
[null,"A flat belt is mandatory to ensure efficient filtration, washing and drying efficiencies."]
[]
[null,"Our table technology of wear belt and high molecular weight sliding strips ensure perfect flatness of the table, making sure performances are always met.",null,null,null,null,null,null,null,null,null,null,null,null,null,null,null,null,null,null,null,null,null,null,null,"SI TABLE COURROIE GARDER PARAGRAPHE SUIVANT ET SUPPRIMER DERNIERE PAGE \nSI TABLE A GALETS EFFACER PARAGRAPHE ET GARDER LA DERNIERE PAGE"]
[]
[]
[]
[]
[]
[]
[]
[]
[]
[]
[]
[]
[null,null,null,null,null,null,null,null,null,null,null,null,null,null,null,null,null,null,null,null,null,null,null,null,null,"PAGE A EFFACER SI TABLE A COURROIE"]
[null,"Our roller table technology ensures perfect flatness of the table, making sure performances are always met."]
[]
[]
[]
[]
[]
[]
[]
[]
[]
[]
[]
[]
[]
[null,"The support table is constituted by set of steel sections covered with PEHD 1000 resistant rollers without plastic bearings.\nThese rollers spin and are driven by the belt and run on a stainless steel spacer without roller bearings"]
[]
[]
[]
[]
[]
[null,"Main advantages of this system :"]
[]
[]
[]
[]
[]
[]
[]
[]
[]
[]
[]
[]
[null,"-","Rollers running on a spacer (no rollers bearings) : reducing blockage problems due to product formation"]
[]
[null,"-","Zero consumption : no lubrication, grease or oil is required for operation"]
[null,"-","Fast & Easy maintenance : To change a roller, only remove the screw"]

{"sheet":"Insert page argumentaire","index":84,"n_rows":0,"n_cols":0,"rows_kept":0,"cut":false,"hidden":false,"merged":[[289,17,290,24],[1,0,1,25],[56,16,56,21],[58,0,58,25],[93,0,95,27],[167,17,168,24],[217,3,218,24],[224,5,226,24],[227,5,229,24],[233,3,234,24],[235,3,235,24],[236,3,237,24],[374,3,376,24],[308,3,309,24],[317,3,318,24],[327,17,328,24],[334,17,335,24],[337,17,338,24],[341,17,343,24],[347,17,348,24],[360,17,361,24],[362,17,363,24],[364,17,365,24],[369,17,370,24],[464,17,465,24],[377,3,377,24],[381,17,382,24],[404,3,405,24],[420,3,421,24],[422,5,422,24],[423,5,424,24],[426,5,427,24],[428,5,429,24],[447,3,448,24],[449,3,452,24],[457,3,461,24],[628,17,629,24],[467,17,468,24],[472,3,473,24],[474,3,474,24],[475,3,476,24],[506,17,507,24],[547,3,549,24],[552,3,553,24],[557,17,558,24],[560,3,562,24],[597,3,598,24],[610,3,611,24],[860,3,861,24],[646,17,648,24],[671,17,672,24],[684,17,686,24],[688,17,689,24],[703,17,704,24],[740,3,741,24],[759,3,761,24],[781,17,782,24],[793,3,794,24],[845,5,846,11],[855,3,856,24],[1012,3,1014,24],[862,3,863,24],[867,3,868,24],[870,3,871,24],[928,17,929,24],[947,3,948,24],[949,3,950,24],[951,3,952,24],[953,3,954,24],[956,3,957,24],[979,3,980,24],[1005,3,1006,24],[1015,3,1018,24],[1019,3,1020,24],[1024,0,1026,25],[1036,16,1036,21],[1038,0,1038,25]]}

{"sheet":"OFFRE TECHNIQUE","index":85,"n_rows":1066,"n_cols":62,"rows_kept":1066,"cut":false,"hidden":false,"merged":[[581,3,581,22],[879,3,879,24],[1043,14,1043,18],[903,1,904,5],[903,6,904,11],[903,12,904,16],[903,17,904,24],[1045,0,1045,25],[984,3,985,24],[1013,3,1014,24],[1020,3,1022,24],[1023,3,1026,24],[1027,3,1028,24],[1031,0,1033,25],[934,17,935,24],[956,3,957,24],[958,3,959,24],[960,3,961,24],[962,3,963,24],[937,3,938,24],[899,1,900,5],[899,6,900,11],[899,12,900,16],[899,17,900,24],[901,1,902,5],[901,6,902,11],[901,12,902,16],[901,17,902,24],[895,1,896,5],[895,6,896,11],[895,12,896,16],[895,17,896,24],[897,1,898,5],[897,6,898,11],[897,12,898,16],[897,17,898,24],[891,1,892,5],[891,6,892,11],[891,12,892,16],[891,17,892,24],[893,1,894,5],[893,6,894,11],[893,12,894,16],[893,17,894,24],[888,1,889,5],[888,6,889,11],[888,12,889,16],[888,17,889,24],[890,1,890,5],[890,6,890,11],[890,12,890,16],[890,17,890,24],[886,1,887,5],[886,6,887,11],[886,12,887,16],[886,17,887,24],[859,3,860,24],[866,3,867,24],[868,3,869,24],[873,3,874,24],[876,3,877,24],[783,17,784,24],[795,3,796,24],[599,3,600,24],[612,3,613,24],[610,61,611,68],[649,17,651,24],[674,17,675,24],[687,17,689,24],[885,1,885,5],[885,6,885,11],[885,12,885,16],[885,17,885,24],[706,17,707,24],[743,3,744,24],[762,3,764,24],[762,27,763,48],[691,17,692,24],[765,27,768,47],[1,0,3,25],[13,14,13,16],[15,0,15,25],[56,0,58,25],[68,14,68,17],[70,0,70,25],[339,17,340,24],[365,17,366,24],[243,3,243,24],[244,3,245,24],[315,3,316,24],[324,3,324,24],[333,17,333,24],[343,17,344,24],[353,17,354,23],[347,17,349,24],[105,0,107,25],[298,17,299,24],[367,17,367,24],[176,17,176,24],[178,17,179,24],[426,3,427,24],[428,5,428,24],[429,5,430,24],[432,5,433,24],[434,5,435,24],[451,3,452,24],[373,17,374,24],[380,3,382,24],[383,3,383,24],[387,17,388,24],[410,3,411,24],[368,17,368,24],[376,17,376,24],[224,3,226,24],[232,5,234,24],[235,5,237,24],[241,3,242,24],[437,3,437,22],[453,3,456,24],[461,3,465,24],[550,3,552,24],[555,3,556,24],[560,17,561,24],[563,3,565,24],[479,3,480,24],[468,17,469,24],[471,17,472,24],[476,3,477,24],[478,3,478,24],[508,17,509,24]]}
[]
["TECHNICAL SPECIFICATION \n FOR\"PHILIPPE\" VACUUM BELT FILTER\n"]
[]
[]
[]
[]
[null,null,null,null,null,"CLIENT",null,null,null,null,null,null,null,null,{"$f":"Calculations!$C$2","v":"CARESTER"}]
[null,null,null,null,null,"JOB REF",null,null,null,null,null,null,null,null,{"$f":"Calculations!$C$4","v":"CAREMAG"}]
[null,null,null,null,null,"QUOTATION N°",null,null,null,null,null,null,null,null,{"$f":"Calculations!$C$3&\"_\"&Calculations!$K$10&\"-\"&Calculations!G1&Calculations!$H$3","v":"726789_2B5-03rev4"}]
[null,null,null,null,null,"PRODUCT",null,null,null,null,null,null,null,null,{"$f":"Calculations!$K$3","v":"Tb slurry filtration"}]
[null,null,null,null,null,"SELECTED FILTER",null,null,null,null,null,null,null,null,{"$f":"\"VACUUM BELT FILTER \"&Calculations!$C$9&\" m²\"","v":"VACUUM BELT FILTER 2 m²"}]
[null,null,null,null,null,"WIDTH",null,null,null,null,null,null,null,null,{"$f":"Calculations!$E$9&\" mm\"","v":"500 mm"}]
[null,null,null,null,null,"TYPE",null,null,null,null,null,null,null,null,{"$f":"Calculations!$K$10&\" - \"&Calculations!$I$9","v":"2B5 - SERIE 2"}]
[null,null,null,null,null,"DATE",null,null,null,null,null,null,null,null,{"$f":"Calculations!$R$2","v":"2025-04-25"}]
[]
["TABLE OF CONTENT"]
[]
[]
[null,null,null,null,null,"TECHNICAL DESCRIPTION OF PHILIPPE FILTER"]
[]
[null,null,null,null,null,"Design features"]
[null,null,null,null,null,"Painting"]
[null,null,null,null,null,"Limit of supply"]
[]
[]
[null,null,null,null,null,"COMPLEMENTARY EQUIPMENTS AND SERVICES"]
[]
[null,null,null,null,null,"Appendix \"Cloth Ultrasonic welding machine\""]
[null,null,null,null,null,"Appendix \"Fume Hood\""]
[null,null,null,null,null,"Appendix \"Drip Pan\""]
[null,null,null,null,null,"Appendix \"Filtrate receiver\""]
[null,null,null,null,null,"Appendix \"Cyclone\""]
[null,null,null,null,null,"Appendix \"Scrubber\""]
[null,null,null,null,null,"Appendix \"Vacuum Pump\""]
[null,null,null,null,null,"Appendix \"Filtrate Pump\""]
[null,null,null,null,null,"Appendix \"High Pressure Ramp\""]
[null,null,null,null,null,"Appendix \"Splash protection system\""]
[null,null,null,null,null,"Appendix \"Steam Box\""]
[null,null,null,null,null,"Appendix \"Local Control Panel\""]
[null,null,null,null,null,"Appendix \"Erection on site\""]
[null,null,null,null,null,"Appendix \"Commissioning on site\""]
[null,null,null,null,null,"Appendix ''Spare Parts - Maintenance Schedule''"]
[null,null,null,null,null,"Appendix ''Factory Acceptance Test''"]
[null,null,null,null,null,"Appendix ''Site Acceptance Test''"]
[]
[]
[null,null,null,null,null,"DRAWINGS FOR \"PHILIPPE\" VACUUM BELT FILTER"]
[null,null,null,null,null,null,null,null,null," "]
[null,null,null,null,null,"PFD"]
[null,null,null,null,null,"General assembly drawing for information only"]
[]
[]
[]
[]
[]
[]
["TECHNICAL DESCRIPTION\nOF \"PHILIPPE\" VACUUM BELT FILTER\n\n"]
[]
[]
[]
[]
[null,null,null,null,null,"CLIENT",null,null,null,null,null,null,null,null,{"$f":"Calculations!$C$2","v":"CARESTER"}]
[null,null,null,null,null,"JOB REF",null,null,null,null,null,null,null,null,{"$f":"Calculations!$C$4","v":"CAREMAG"}]
[null,null,null,null,null,"QUOTATION N°",null,null,null,null,null,null,null,null,{"$f":"Calculations!$C$3&\"_\"&Calculations!$K$10&\"-\"&Calculations!G1&Calculations!$H$3","v":"726789_2B5-03rev4"}]
[null,null,null,null,null,"PRODUCT",null,null,null,null,null,null,null,null,{"$f":"Calculations!$K$3","v":"Tb slurry filtration"}]
[null,null,null,null,null,"SELECTED FILTER",null,null,null,null,null,null,null,null,{"$f":"\"VACUUM BELT FILTER \"&Calculations!$C$9&\" m²\"","v":"VACUUM BELT FILTER 2 m²"}]
[null,null,null,null,null,"WIDTH",null,null,null,null,null,null,null,null,{"$f":"Calculations!$E$9&\" mm\"","v":"500 mm"}]
[null,null,null,null,null,"TYPE",null,null,null,null,null,null,null,null,{"$f":"Calculations!$K$10&\" - \"&Calculations!$I$9","v":"2B5 - SERIE 2"}]
[null,null,null,null,null,"DATE",null,null,null,null,null,null,null,null,{"$f":"Calculations!$R$2","v":"2025-04-25"}]
[]
["TABLE OF CONTENT"]
[]
[]
[null,null,null,"1.","Main features"]
[null,null,null,"2.","Utilites"]
[null,null,null,"3.","Filter specifications"]
[null,null,null,null,"Frame"]
[null,null,null,null,"Pulleys"]
[null,null,null,null,"Drive"]
[null,null,null,null,"Rubber belt"]
[null,null,null,null,"Vacuum box"]
[null,null,null,null,"Filter cloth"]
[null,null,null,null,"Cake discharge"]
[null,null,null,null,"Fluid distribution"]
[null,null,null,null,"Process equipments"]
[null,null,null,null,"Electric & control equipments"]
[null,null,null,null,"Standard for connection"]
[null,null,null,"4.","Painting specifications"]
[null,null,null,"5.","Battery limits & exclusions"]
[null,null,null,"6.","EC declaration of integration & safety personnal protections"]
[]
[]
[]
[]
[]
[]
[]
[]
[]
[]
[]
[]
[]
[]
[]
["TECHNICAL DESCRIPTION\nOF \"PHILIPPE\" VACUUM BELT FILTER\n\n"]
[]
[]
[]
[]
[]
[]
[]
[]
[]
[]
[]
[]
[]
[]
[]
[]
[]
[]
[]
[]
[]
[]
[]
[]
[]
[]
[]
[]
[]
[]
[]
[]
[]
[]
[]
[]
[]
[]
[]
[]
[]
[]
[]
[]
[]
[]
[]
[]
[null,"1.",null,"MAIN FEATURES"]
[]
[null,"1.1.",null,"ACTIVE FILTERING AREA:",null,null,null,null,null,null,null,null,null,null,null,null,null,{"$f":"Calculations!$C$9&\" m²\"","v":"2 m²"}]
[]
[null,"1.2.",null,"GENERAL DIMENSIONS"]
[]
[null,null,"-","Width under vacuum:",null,null,null,null,null,null,null,null,null,null,null,null,null,{"$f":"Calculations!$E$9&\" mm\"","v":"500 mm"}]
[null,null,"-","Length under vacuum:",null,null,null,null,null,null,null,null,null,null,null,null,null,{"$f":"Calculations!$G$9&\" mm\"","v":"4000 mm"}]
[null,null,"-","Total width (without drive unit):",null,null,null,null,null,null,null,null,null,null,null,null,null,{"$f":"Calculations!$R$54&\" mm\"","v":"1150 mm"}]
[null,null,"-","Total length:",null,null,null,null,null,null,null,null,null,null,null,null,null,{"$f":"Calculations!$R$55&\" mm\"","v":"7130 mm"}]
[null,null,"-","Total height (without slurry distributor):",null,null,null,null,null,null,null,null,null,null,null,null,null,{"$f":"Calculations!$R$56&\" mm\"","v":"1560 mm"}]
[]
[null,"1.3.",null,"WEIGHT"]
[]
[null,null,"-","Weight of the filter:",null,null,null,null,null,null,null,null,null,null,null,null,null,"See General Assembly"]
[]
[]
[null,"2.",null,"UTILITIES"]
[]
[null,"2.1.",null,"ELECTRICITY"]
[]
[null,null,null,"Belt drive electrical motor"]
[null,null,"-","Voltage:",null,null,null,null,null,null,null,null,null,null,null,null,null,"3 x 400V (HASLER' standard)",null,null,null,null,null,null,null,null,null,"Voltage rules : Keep in std 3 x 400V (HG std) - if other request from client adapt it but quote the added-value accordingly"]
[null,null,"-","Frequency:",null,null,null,null,null,null,null,null,null,null,null,null,null,"50 Hz (HASLER' standard)",null,null,null,null,null,null,null,null,null,"Frequency rules : Keep in std 50Hz (HG std) - if other request from client adapt it but quote the added-value accordingly"]
[null,null,"-","Control/instrumentation voltage to be confirmed",null,null,null,null,null,null,null,null,null,null,null,null,null,"Refer to the part  \"LOCAL CONTROL PANEL\""]
[]
[null,"2.2.",null,"WATER"]
[]
[null,null,"-","Filter cloth washing. Three spray bars in operation."]
[null,null,"-","Minimum pressure at manifold:",null,null,null,null,null,null,null,null,null,null,null,null,null,"3 bars"]
[null,null,"-","Flow in operation:"]
[null,null,null,null,"•","Cake side flow:",null,null,null,null,null,null,null,null,null,null,null,{"$f":"Calculations!$G$38&\" m3/h\"","v":"1,54 m3/h"}]
[null,null,null,null,"•","Opposite side flow:",null,null,null,null,null,null,null,null,null,null,null,{"$f":"Calculations!$G$39&\" m3/h\"","v":"0,58 m3/h"}]
[null,null,null,null,"•","Rubber belt washing:",null,null,null,null,null,null,null,null,null,null,null,{"$f":"Calculations!$G$40&\" m3/h\"","v":"0,86 m3/h"}]
[null,null,null,null,"•","Vacuum box wear belts lubrication (1 bar):",null,null,null,null,null,null,null,null,null,null,null,{"$f":"Calculations!$C$41&\" L/h to \"&Calculations!E41&\" L/h\"","v":"20 L/h to 80 L/h"}]
[null,null,null,null,{"$f":"IF(Calculations!$P$39=\"Oui\",\"•\",\"\")","v":"•"},{"$f":"IF(Calculations!P39=\"Oui\",\"Belt support wear belts washing (1bar):\",\"\")","v":"Belt support wear belts washing (1bar):"},null,null,null,null,null,null,null,null,null,null,null,{"$f":"IF(Calculations!P39=\"Oui\",Calculations!Q39&\" L/h\",\"\")","v":"55,2 L/h"}]
[null,null,null,null,{"$f":"IF(Calculations!$P$40=\"Oui\",\"•\",\"\")","v":""},{"$f":"IF(Calculations!$P$40=\"Oui\",\"Belt support wear belts lubrication (1 bar):\",\"\")","v":""},null,null,null,null,null,null,null,null,null,null,null,{"$f":"IF(Calculations!P40=\"Oui\",Calculations!Q40&\" L/h\",\"\")","v":""}]
[]
[null,"NOTE: ",null,"For belts lubrication, free solids clean water is required."]
[]
[]
[]
[]
[]
[]
[null,"2.3.",null,"COMPRESSED AIR"]
[]
[null,null,null,"Vacuum box tilting, cloth guiding and tensioning"]
[]
[null,null,"-","Flow:",null,null,null,null,null,null,null,null,null,null,null,null,null,"4 Nm3/h - Pressure 5 bars"]
[null,null,"-","Quality:",null,null,null,null,null,null,null,null,null,null,null,null,null,"filtered - oil free"]
[]
[]
[null,"3.",null,"FILTER SPECIFICATIONS"]
[]
[null,"3.1.",null,"FRAME"]
[]
[]
[]
[]
[]
[]
[]
[]
[]
[]
[]
[]
[]
[]
[null,null,null,"The filter included consists of a high quality steel frame constructed of standard structural sectional members and sheet steel sections bolted and welded to form a composite structural framework."]
[]
[]
[null,null,"-","Material of the frame:",null,null,null,null,null,null,null,null,null,null,null,null,null,{"$f":"IF(Calculations!$E$22=\"E24\",\"Carbon steel epoxy painted\",Calculations!$E$22)","v":"304L"}]
[null,null,"-","Material of the sheet:",null,null,null,null,null,null,null,null,null,null,null,null,null,{"$f":"IF(Calculations!$E$22=\"E24\",\"Carbon steel epoxy painted\",Calculations!$E$22)","v":"304L"}]
[null,null,"-","Material of the bolt and nuts:",null,null,null,null,null,null,null,null,null,null,null,null,null,"316"]
[]
[null,null,null,"The frames includes:"]
[null,null,null,null,"•","Two modules at each end of the filter support the head and tail pulleys, the drive unite, the cake disposal elements, the cloth and belt washing system, the cloth tracking equipment."]
[]
[]
[null,null,null,null,"•","Intermediate frames evenly spaced support the belt support table, the vacuum box and its tilting system, the filter cloth and belt return rollers, guide and rails for the movable devices (feed distributor, dams, wash throughs)."]
[]
[]
[]
[null,null,null,"Special features"]
[]
[null,null,"-","The frame is made of standard profiled structural steel and is fully bolted. This allows the easy replacement of structural members if needed."]
[]
[null,null,"-","Frame can be mounted and dismounted without any risk of change in final result."]
[null,null,"-","This technology allows the supply of an endless belt for the first mount as well as replacement."]
[]
[]
[]
[null,"3.2.",null,"TAILS AND HEAD PULLEYS"]
[]
[null,"3.2.1.",null,"Tail pulley"]
[]
[]
[]
[]
[]
[]
[]
[]
[]
[]
[]
[]
[]
[]
[]
[null,null,null,"Supported by two tensioning and water - tight swivel- bearing blocks"]
[null,null,"-","Diameter of pulley: ",null,null,null,null,null,null,null,null,null,null,null,null,null,{"$f":"Calculations!$K$9&\" mm\"","v":"630 mm"}]
[null,null,"-","Material of pulley body:",null,null,null,null,null,null,null,null,null,null,null,null,null,"SS304L"]
[null,null,"-","Material of shaft:",null,null,null,null,null,null,null,null,null,null,null,null,null,"SS304L"]
[null,null,"-","Drip proof disc to protect the bearing blocks"]
[null,null,"-","Lining:",null,null,null,null,null,null,null,null,null,null,null,null,null,"Rubber SBR - 65 shore"]
[null,null,"-","Thickness "]
[null,null,null,null,"•","Shells:",null,null,null,null,null,null,null,null,null,null,null,"10 mm"]
[null,null,null,null,"•","Flanges:",null,null,null,null,null,null,null,null,null,null,null,"5 mm"]
[]
[null,"3.2.2.",null,"Head pulley"]
[]
[]
[]
[]
[]
[]
[]
[]
[]
[]
[]
[]
[]
[]
[null,null,null,"Supported by two water-tight swivel - bearing blocks"]
[null,null,"-","Diameter of pulley:",null,null,null,null,null,null,null,null,null,null,null,null,null,{"$f":"Calculations!$K$9&\" mm\"","v":"630 mm"}]
[null,null,"-","Material of pulley body: ",null,null,null,null,null,null,null,null,null,null,null,null,null,"SS304L"]
[null,null,"-","Material of shaft: ",null,null,null,null,null,null,null,null,null,null,null,null,null,"SS304L"]
[]
[]
[null,null,"-","Drip proof disc to protect the bearing blocks"]
[null,null,"-","Lining:",null,null,null,null,null,null,null,null,null,null,null,null,null,"Rubber SBR - 65 shore with a chevron design for belt driving\n"]
[]
[null,null,"-","Thickness "]
[null,null,null,null,"•","Shells:",null,null,null,null,null,null,null,null,null,null,null,"10 mm"]
[null,null,null,null,"•","Flanges:",null,null,null,null,null,null,null,null,null,null,null,"5 mm"]
[]
[null,null,null,"Special features"]
[]
[null,null,"-","One single through steel shaft :"]
[null,null,null,null,"•","Provides stiffness of the assembly"]
[null,null,null,null,"•","Eliminates torsion on the external surface"]
[null,null,"-","External surface, side flanges & shaft covered with hot vulcanized rubber:"]
[null,null,null,null,"•","Perfect adherence of the rubber and durable protection against corrosion"]
[null,null,null,null,"•","Allows final machining to have pulleys in a perfect horizontal position"]
[null,null,"-","Drip-proof discs mounted on shafts"]
[null,null,null,null,"•","Protection of bearings from corrosion"]
[null,{"$f":"IF(Calculations!$U$11=\"Oui\",\"3.2.3.\",\"\")","v":""},null,{"$f":"IF(Calculations!$U$11=\"Oui\",\"Shaft protection\",\"\")","v":""}]
[null,null,null,{"$f":"IF(Calculations!$U$11=\"Oui\",\"On each drum the unrubber lined parts of the shafts (inside the bearing blocks) will be stainless steel lined (SS 316L).\",\"\")","v":""}]
[]
[]
[null,"3.3.",null,"FILTER DRIVE"]
[]
[null,null,null,"The filter drive includes the following components:"]
[]
[null,"3.3.1.",null,"Variable Frequency Drive (VFD)"]
[]
[null,null,null,"Type: Frequency variator IP 2x, refer to the part  \"ELECTRICAL CONTROL CABINET\""]
[]
[null,null,"-","Brand"]
[null,null,null,null,"•","IEC standard:",null,null,null,null,null,null,null,null,null,null,null,"SCHNEIDER or ABB, SIEMENS"]
[null,null,null,null,"•","NEMA standard:",null,null,null,null,null,null,null,null,null,null,null,"WEG or ALLEN BRADLEY"]
[]
[null,null,"-","Rated power:",null,null,null,null,null,null,null,null,null,null,null,null,null,{"$f":"Calculations!R25","v":"0,37 kW"}]
[null,null,"-","Index: ",null,null,null,null,null,null,null,null,null,null,null,null,null,"IP 2x"]
[null,null,"-","Application:",null,null,null,null,null,null,null,null,null,null,null,null,null,"Constant torque"]
[null,null,"-","Power supply: ",null,null,null,null,null,null,null,null,null,null,null,null,null,{"$f":"R177","v":"3 x 400V (HASLER' standard)"}]
[null,null,"-","Output voltage:",null,null,null,null,null,null,null,null,null,null,null,null,null,"Internal supply of logic inputs"]
[]
[null,null,null,"Remote control inputs (*):"]
[null,null,"-","1 Logic input: ",null,null,null,null,null,null,null,null,null,null,null,null,null,"Stop"]
[null,null,"-","1 Logic input: ",null,null,null,null,null,null,null,null,null,null,null,null,null,"Start"]
[null,null,"-","1 Logic input: ",null,null,null,null,null,null,null,null,null,null,null,null,null,"Faster (selectable on Local/remote\nInput status)\n"]
[]
[]
[]
[null,null,"-","1 Logic input: ",null,null,null,null,null,null,null,null,null,null,null,null,null,"Slower (selectable on Local/remote\nInput status)\n"]
[]
[null,null,"-","1 Logic input: ",null,null,null,null,null,null,null,null,null,null,null,null,null,"Fault reset"]
[null,null,"-","1 Logic input: ",null,null,null,null,null,null,null,null,null,null,null,null,null,"Local/remote selection"]
[null,null,"-","1 analog input:",null,null,null,null,null,null,null,null,null,null,null,null,null,"4-20mA speed setpoint (selectable on Local/remote input status)\n"]
[]
[]
[null,null,null,"(Local / remote status change 0 to 1 or 1 to 0 will never change the actual speed)"]
[]
[null,null,null,"Remote control ouputs (**):"]
[null,null,"-","1 analog output:",null,null,null,null,null,null,null,null,null,null,null,null,null,"4-20 mA actual speed (10 to 60 Hz)"]
[]
[null,null,null,"Accessories:"]
[null,null,"-","1 EMC compatibility filter"]
[null,null,"-","1 OIM (operator interface module)"]
[]
[null,null,null,"Frequency setting limits:",null,null,null,null,null,null,null,null,null,null,null,null,null,"10 to 60 Hz"]
[]
[null,"3.3.1.",null,"Electric motor"]
[]
[null,null,"-","Absorbed power:",null,null,null,null,null,null,null,null,null,null,null,null,null,{"$f":"Calculations!N25","v":"0,06 kW"}]
[null,null,"-","Installed power:",null,null,null,null,null,null,null,null,null,null,null,null,null,{"$f":"Calculations!R25","v":"0,37 kW"}]
[null,null,"-","Type:",null,null,null,null,null,null,null,null,null,null,null,null,null,"Cast-iron body – TEFC – IM1001 (B3) – 4 poles - IP 55 – CI F/B - IE4"]
[]
[null,null,"-","Voltage:",null,null,null,null,null,null,null,null,null,null,null,null,null,{"$f":"R177","v":"3 x 400V (HASLER' standard)"},null,null,null,null,null,null,null,null,null,"Voltage rules : Keep in std 3 x 400V (HG std) - if other request from client adapt it but quote the added-value accordingly"]
[null,null,"-","Insulation:",null,null,null,null,null,null,null,null,null,null,null,null,null,"F/B (HASLER' standard)"]
[]
[null,null,"-","Brand:"]
[null,null,null,null,"•","IEC standard:",null,null,null,null,null,null,null,null,null,null,null,"WEG or ABB, SIEMENS"]
[null,null,null,null,"•","NEMA standard:",null,null,null,null,null,null,null,null,null,null,null,"WEG or TECO WESTINGHOUSE"]
[null,null,"-","Painting:",null,null,null,null,null,null,null,null,null,null,null,null,null,"Refer to Part ''4. Painting Specifications''"]
[]
[]
[null,null,"-","Belt speed: ",null,null,null,null,null,null,null,null,null,null,null,null,null,{"$f":"\"From \"& ROUNDUP(Calculations!H25,2) &\" m/min to \" & ROUNDUP(Calculations!F25,2)&\" m/min\"","v":"From 0,04 m/min to 0,4 m/min"}]
[]
[null,"3.3.2.",null,"Planetary gear box"]
[]
[null,null,null,"It is fixed on the shaft of the filter head pulley. The gear box is locked in rotation by means of torque handle. The torque is controlled by the dynamometric handle acting on a limit switch in order to protect the gear box and the filter against overload."]
[]
[]
[null,null,null,{"$f":"\"Gear unit is design for 50 000 hours / \"&Calculations!$N$25","v":"Gear unit is design for 50 000 hours / 0,06 kW"}]
[null,null,"-","Constant output torque:",null,null,null,null,null,null,null,null,null,null,null,null,null,{"$f":"ROUNDUP(Calculations!$N$26,0)&\" Nm\"","v":"2320 Nm"}]
[null,null,"-","Safety factor:",null,null,null,null,null,null,null,null,null,null,null,null,null,"1,3 x Power installed"]
[null,null,"-","Brand:",null,null,null,null,null,null,null,null,null,null,null,null,null,"BREVINI, (or equivalent.)"]
[null,null,"-","Painting:",null,null,null,null,null,null,null,null,null,null,null,null,null,"Refer to Part ''4. Painting Specifications''"]
[]
[]
[null,"NOTE",null,"If other choices are requested, an option will be offer and price adjusted."]
[]
[]
[null,"3.4.",null,"RUBBER BELT"]
[]
[]
[]
[]
[]
[]
[]
[]
[]
[]
[]
[]
[]
[]
[]
[]
[null,null,null,"On its upper surface, the belt presents transversal grooves which allow the liquid to flow towards oblong holes drilled in their axis (one oblong hole per groove)."]
[]
[]
[null,null,"-","Number of belt per filter:",null,null,null,null,null,null,null,null,null,null,null,null,null,1]
[null,null,"-","Material:",null,null,null,null,null,null,null,null,null,null,null,null,null,{"$f":"Calculations!$E$23&\" HT\"","v":"EPDM HT"}]
[null,null,"-","Width (Useful):",null,null,null,null,null,null,null,null,null,null,null,null,null,{"$f":"Calculations!$E$9&\" mm\"","v":"500 mm"}]
[null,null,"-","Top cover thickness: ",null,null,null,null,null,null,null,null,null,null,null,null,null,{"$f":"Calculations!$R$60&\" mm\"","v":"10 mm"}]
[null,null,"-","Bottom cover thickness:",null,null,null,null,null,null,null,null,null,null,null,null,null,{"$f":"Calculations!$R$61&\" mm\"","v":"4 mm"}]
[null,null,"-","Overall thickness:",null,null,null,null,null,null,null,null,null,null,null,null,null,{"$f":"Calculations!$E$24&\" mm\"","v":"18,5 mm"}]
[null,null,"-","Material of the carcass:",null,null,null,null,null,null,null,null,null,null,null,null,null,"Polyester"]
[null,null,"-","Drilling zone: ",null,null,null,null,null,null,null,null,null,null,null,null,null,"without carcass"]
[null,null,"-","Number of plies:",null,null,null,null,null,null,null,null,null,null,null,null,null,4]
[null,null,"-","Weight of the rubber belt: ",null,null,null,null,null,null,null,null,null,null,null,null,null,{"$f":"Calculations!$R$63&\" kg\"","v":"171 kg"}]
[]
[null,null,null,"Special features"]
[]
[null,null,"-","The belt is delivered endless; it is fully machined in HASLER Group factory, controlled and ready to run."]
[]
[null,null,null,null,"•","The belt is installed on our dedicated machine and run to remove mechanical stress."]
[null,null,null,null,"•","Carcass is located via our dedicated machine, so that holes are drilled in the centre of the belt, not overlapping with the carcass. Holes are perfectly aligned."]
[]
[null,null,"-","Drilling and grooving are made according to customer’s process requirements."]
[null,null,null,null,"•","Width and depth of slopes as well as step of grooves and belt thickness are optimized according to customer’s requirements. Dimensions of holes also follow that rule."]
[]
[null,null,null,null,"•","Oblong holes are preferred to round holes in order to avoid fragility in the centre of the belt."]
[]
[]
[null,null,"-","Not suitable for washing with nitric acid"]
[]
[]
[null,"3.4.1.",null,"Grooving"]
[]
[null,null,null,"Manufactured in our plants with a slope towards the oblong holes."]
[]
[null,null,"-","Pitch:",null,null,null,null,null,null,null,null,null,null,null,null,null,{"$f":"Calculations!$R$64&\" mm\"","v":"14 mm"}]
[null,null,"-","Width:",null,null,null,null,null,null,null,null,null,null,null,null,null,{"$f":"Calculations!$R$65&\" mm\"","v":"7 mm"}]
[null,null,"-","Depth:",null,null,null,null,null,null,null,null,null,null,null,null,null,{"$f":"Calculations!$R$66&\" mm\"","v":"7 mm"}]
[null,null,"-","Drilling oblong holes:",null,null,null,null,null,null,null,null,null,null,null,null,null,{"$f":"Calculations!$R$67&\" mm\"","v":"6 x 10 mm"}]
[]
[null,"3.4.2.",null,"Belt curbs"]
[]
[null,null,"-","The curbs are made of Natural Rubber and cold bonded on the belt sides to form a containing wall."]
[]
[null,null,"-","Type: Undulating section with and high flexibility obtained from casting. The design was patented by HASLER Group/Filtres Philippe. It’s “accordion” shape provides a good support of the filter cloth, a good thightness at the bottom as well as high flexibility when passing over the pulleys."]
[]
[]
[]
[null,null,"-","Height of rubber curb bonded to the belt:",null,null,null,null,null,null,null,null,null,null,null,null,null,{"$f":"Calculations!A9&\" mm\"","v":"70 mm"}]
[]
[null,"3.4.3.",null,"Belt support on upper side (active part)"]
[]
[null,null,null,"The rubber belt support device ensures any contact between the rubber belt and the frame support and protects the rubber belt against wear. The support table is constituted by set of steel sections. The top of these steel sections is covered by HMWPE sliding strips and a set of endless wear belts driven by the rubber belt, slide on. An automatic take-up device allows to compensate the stretch and maintain each belt under tension."]
[]
[]
[]
[]
[null,null,"-","Steel frame sections: ",null,null,null,null,null,null,null,null,null,null,null,null,null,{"$f":"IF(Calculations!$E$22=\"E24\",\"304L\",Calculations!$E$22)","v":"304L"}]
[null,null,"-","Sliding strips: ",null,null,null,null,null,null,null,null,null,null,null,null,null,"HMWPE"]
[null,null,"-","Endless wear belts:  ",null,null,null,null,null,null,null,null,null,null,null,null,null,"Polyester reinforced rubber with PE\nsliding side"]
[]
[null,null,"-","Dimensions of belts (W x T):  ",null,null,null,null,null,null,null,null,null,null,null,null,null,{"$f":"Calculations!$R$77","v":"30 mm x 5 mm"}]
[null,null,"-","Support distribution : ",null,null,null,null,null,null,null,null,null,null,null,null,null,{"$f":"Calculations!$R$68&\" sections (on each side of the vacuum box)\n\"","v":"2 x 2 sections (on each side of the vacuum box)\n"}]
[]
[]
[null,null,null,"Special features"]
[]
[null,null,"-","Belt supporting system provides optimum flatness, hence maximizing cake washing efficiency and recovery of filtrates."]
[]
[null,null,"-","Best solution to reduce belt wear and low cost of spare parts (wear belts and sliding rules)."]
[null,null,"-","Doesn’t require blowers and air boxes (air support table) nor important amount of water (water support table)."]
[]
[]
[]
[]
[]
[]
[]
[null,"3.4.4.",null,"Belt support on return side"]
[]
[null,null,null,"By rollers supported by water-tight ball bearing blocks."]
[]
[null,null,"-","Material of roller: ",null,null,null,null,null,null,null,null,null,null,null,null,null,{"$f":"IF(Calculations!$E$19=\"CAOUT\",\"Carbon steel rubber lined\",Calculations!$E$19)","v":"304L"}]
[null,null,"-","Diameter of roller:",null,null,null,null,null,null,null,null,null,null,null,null,null,{"$f":"Calculations!$T$69&\" mm\"","v":"219 mm"}]
[]
[null,"3.4.5.",null,"Belt tracking"]
[]
[null,null,"-","Roller made of HMWPE fitted on shaft."]
[null,null,"-","Diameter of roller:  ",null,null,null,null,null,null,null,null,null,null,null,null,null,{"$f":"Calculations!$R$78&\" mm\"","v":"100 mm"}]
[null,null,"-","Shaft: ",null,null,null,null,null,null,null,null,null,null,null,null,null,"316L"]
[]
[null,"3.4.6.",null,"Rubber belt washing"]
[]
[null,null,"-","2 wash headers fitted with spray nozzles"]
[null,null,"-","Construction:"]
[null,null,null,null,"•","Wash pipes: ",null,null,null,null,null,null,null,null,null,null,null,{"$f":"Calculations!$E$18","v":"304L"}]
[null,null,null,null,"•","Spray nozzles: ",null,null,null,null,null,null,null,null,null,null,null,"PVDF"]
[null,null,"-","Wash collection trough"]
[null,null,null,null,"•","Material: ",null,null,null,null,null,null,null,null,null,null,null,{"$f":"Calculations!$E$16","v":"304L"}]
[null,null,null,null,"•","Outlet pipe connection:",null,null,null,null,null,null,null,null,null,null,null,"DN50, flexible hose to cloth trough"]
[]
[]
[null,"3.5.",null,"VACUUM BOX"]
[]
[]
[]
[]
[]
[]
[]
[]
[]
[null,null,"-","Number:",null,null,null,null,null,null,null,null,null,null,null,null,null,1]
[]
[null,null,"-","Type: Omega section with special articulated support mechanism"]
[null,null,"-","Body is constituted of several pieces, flange-jointed. "]
[]
[null,null,"-","Construction:"]
[null,null,null,null,"•","Body of the box: ",null,null,null,null,null,null,null,null,null,null,null,{"$f":"IF(Calculations!$E$11=\"SVR\",\"FRP\",Calculations!$E$11)","v":"304L"}]
[null,null,null,null,"•","Supporting parts:  ",null,null,null,null,null,null,null,null,null,null,null,{"$f":"IF(Calculations!$E$21=\"SVR\",\"FRP\",Calculations!$E$21)","v":"304L"}]
[null,null,null,null,"•","Sliding strips, made of UHMWPE, and supporting :"]
[null,null,"-","Endless wear belts, made of rubber, with polyester down sliding side"]
[null,null,null,null,"•","Number:",null,null,null,null,null,null,null,null,null,null,null,2]
[null,null,null,null,"•","Wear belts supporting rollers: ",null,null,null,null,null,null,null,null,null,null,null,"UHMWPE"]
[]
[]
[]
[null,null,"-","Size of wear belts"]
[null,null,null,null,"•","Width:",null,null,null,null,null,null,null,null,null,null,null,{"$f":"Calculations!$R$76&\" mm\"","v":"38 mm"}]
[null,null,null,null,"•","Thickness:",null,null,null,null,null,null,null,null,null,null,null,"10 mm"]
[]
[null,null,"-","Filtrate / gas nozzles "]
[null,null,null,null,"•","Number:",null,null,null,null,null,null,null,null,null,null,null,{"$f":"Calculations!$R$36","v":4}]
[null,null,null,null,"•","Connection: ",null,null,null,null,null,null,null,null,null,null,null,{"$f":"Calculations!$F$29","v":"DN65"}]
[]
[null,null,"-","Connection from vacuum box nozzles  to the external frame side made by means of : "]
[null,null,null,null,"•","Elbows to allow the rotating during vacuum box tilting operation."]
[null,null,null,null,"•","Material  of pipe connection:  ",null,null,null,null,null,null,null,null,null,null,null,{"$f":"IF(Calculations!$E$30=\"SVR\",\"FRP\",Calculations!$E$30)","v":"304L"}]
[null,null,null,null,"•","Connection with the others: ",null,null,null,null,null,null,null,null,null,null,null,"EPDM sleeve"]
[]
[null,null,"-","Maintenance:"]
[null,null,null,"The tilting system for the vacuum box allows the access for inspection, cleaning and parts replacement. Powered raising and lowering mechanism consist of an articulated frame pneumatically driven. It is operated by a pneumatic bellow after unclamping. "]
[]
[]
[null,null,null,"During operation the vacuum box is clamped in the normal working position."]
[]
[null,null,"-","If required by process, vacuum box is equipped with movable internal baffles for separating the filtrate ports. The number of baffles is equal to the number of sections minus one."]
[]
[]
[null,"3.6.",null,"FILTER CLOTH"]
[]
[null,null,"-","Type:",null,null,null,null,null,null,null,null,null,null,null,null,null,"Monofilament or/and multifilament"]
[]
[null,null,"-","Material: ",null,null,null,null,null,null,null,null,null,null,null,null,null,"Polyester or polypropylene"]
[null,null,null,"Endless joining of the cloth is made by means of ultrasonic welding process. The welded cloth is installed with the help of a fitting up constituted by a winding with a tension-ratchet, fitted on of the filter feed end frame."]
[]
[]
[]
[null,"3.6.1.",null,"Cloth rollers, supported by water-tight ball bearing blocks, consisting of:"]
[]
[null,null,null,"One cloth positioning roller with caps at the ends to bend the cloth on each side."]
[null,null,"-","Diameter of roller: ",null,null,null,null,null,null,null,null,null,null,null,null,null,{"$f":"Calculations!$R$71&\" mm\"","v":"60,3 mm"}]
[null,null,"-","Material of roller : ",null,null,null,null,null,null,null,null,null,null,null,null,null,{"$f":"IF(Calculations!$E$12=\"CAOUT\",\"Carbon steel rubber lined\",Calculations!$E$12)","v":"304L"}]
[]
[null,null,null,"One set of exit rollers."]
[null,null,"-","Diameter of roller: ",null,null,null,null,null,null,null,null,null,null,null,null,null,{"$f":"Calculations!R70&\" mm\"","v":"60,3 mm"}]
[null,null,"-","Material of roller : ",null,null,null,null,null,null,null,null,null,null,null,null,null,{"$f":"IF(Calculations!$E$15=\"CAOUT\",\"Carbon steel rubber lined\",Calculations!$E$15)","v":"304L"}]
[]
[null,null,null,"One set of cloth rollers on return circuit."]
[null,null,"-","Diameter of roller: ",null,null,null,null,null,null,null,null,null,null,null,null,null,{"$f":"Calculations!R71&\" mm\"","v":"60,3 mm"}]
[null,null,"-","Material of roller : ",null,null,null,null,null,null,null,null,null,null,null,null,null,{"$f":"IF(Calculations!$E$20=\"CAOUT\",\"Carbon steel rubber lined\",Calculations!$E$20)","v":"304L"}]
[]
[null,null,"-","Not suitable for washing with nitric acid"]
[]
[]
[]
[null,"3.6.2.",null,"Cloth tensioning"]
[]
[]
[]
[]
[]
[]
[]
[]
[]
[]
[]
[]
[null,null,null,"Obtained by a framework supporting a cloth roller pneumatically driven."]
[null,null,null,"Regulation and operating of this system by means of adjustment of the air pressure in the pneumatic bellow. "]
[]
[]
[null,null,"-","Number:",null,null,null,null,null,null,null,null,null,null,null,null,null,1]
[null,null,"-","Framework:",null,null,null,null,null,null,null,null,null,null,null,null,null,{"$f":"IF(Calculations!$E$22=\"E24\",\"Carbon steel epoxy painted\",Calculations!$E$22)","v":"304L"},null,null,null,null,null,null,null,null,null,null,null,null,null,null,null,null,null,null,null,null,null,null,null,null,null,null,null,null,null,"Roller with angular displacement. The system is driven by a pneumatic bellow."]
[]
[null,null,null,"Special features",null,null,null,null,null,null,null,null,null,null,null,null,null,null,null,null,null,null,null,null,null,null,null,null,null,null,null,null,null,null,null,null,null,null,null,null,null,null,null,null,null,null,"-","Number:",null,null,null,null,null,null,null,null,null,null,null,null,null,1]
[null,null,null,null,null,null,null,null,null,null,null,null,null,null,null,null,null,null,null,null,null,null,null,null,null,null,null,null,null,null,null,null,null,null,null,null,null,null,null,null,null,null,null,null,null,null,"-","Diameter of roller: ",null,null,null,null,null,null,null,null,null,null,null,null,null,{"$f":"Calculations!$R$71&\" mm\"","v":"60,3 mm"}]
[null,null,"-","Fully automatized system, high accuracy and reliable adjustment."]
[null,null,"-","No counterweights required."]
[]
[null,"3.6.3.",null,"Take-up device",null,null,null,null,null,null,null,null,null,null,null,null,null,null,null,null,null,null,null,null,null,null,null,null,null,null,null,null,null,null,null,null,null,null,null,null,null,null,null,null,null,null,"-","Material of roller : ",null,null,null,null,null,null,null,null,null,null,null,null,null,"Carbon steel rubber lined, shell rubber lined"]
[]
[null,null,null,"Obtained by means of a roller fitted on set of rails at the feed end of the filter and moving vertically. Take up length is approximately 800 mm."]
[]
[]
[null,"3.6.4.",null,"Cloth tracking",null,null,null,null,null,null,null,null,null,null,null,null,null,null,null,null,null,null,null,null,null,null,null,"Rule : for small width filter (B10) use the picture & description"]
[]
[]
[]
[]
[]
[]
[]
[]
[]
[]
[null,null,"The system is made of 2 main pinches which put a pressure or not on the cloth",null,null,null,null,null,null,null,null,null,null,null,null,null,null,null,null,null,null,null,null,null,null,null,null,null,"The system is made of 2 main pinches which put a pressure or not on the cloth"]
[null,null,"and control its tracking.",null,null,null,null,null,null,null,null,null,null,null,null,null,null,null,null,null,null,null,null,null,null,null,null,null,"and control its tracking."]
[null,null,"The control of the pressure is made thanks to 2 sensors on both sides of the cloth.",null,null,null,null,null,null,null,null,null,null,null,null,null,null,null,null,null,null,null,null,null,null,null,null,null,"The control of the pressure is made thanks to 2 sensors on both sides of the cloth."]
[]
[null,null,"-","Number of pinches:",null,null,null,null,null,null,null,null,null,null,2]
[null,null,"-","Type of pinche:",null,null,null,null,null,null,null,null,null,null,"Made by 2 rollers (1 static and 1 movable)",null,null,null,null,null,null,null,null,null,null,null,null,"-","Number of pinches:",null,null,null,null,null,null,null,null,null,null,null,2]
[null,null,"-","Material of rollers: ",null,null,null,null,null,null,null,null,null,null,"1 x Stainless steel and 1 x Polyurethane",null,null,null,null,null,null,null,null,null,null,null,null,"-","Type of pinche:",null,null,null,null,null,null,null,null,null,null,null,"Made by 2 rollers (1 static and 1 movable)"]
[null,null,null,null,null,null,null,null,null,null,null,null,null,null,null,null,null,null,null,null,null,null,null,null,null,null,null,"-","Material of rollers: ",null,null,null,null,null,null,null,null,null,null,null,"1 x Stainless steel and 1 x Polyurethane"]
[]
[null,null,null,"Special features"]
[]
[null,null,"-","Long operational life, no bearing wear as bearing blocks are not used as pivot."]
[null,null,"-","Pneumatically driven, very soft action on the cloth."]
[]
[null,"3.6.5.",null,"Filter cloth washing "]
[]
[null,null,"-","3 wash headers fitted with spray nozzles"]
[]
[null,null,"-","Construction:"]
[null,null,null,null,"•","Wash pipes:",null,null,null,null,null,null,null,null,null,null,null,{"$f":"Calculations!$E$18","v":"304L"}]
[null,null,null,null,"•","Spray nozzles:",null,null,null,null,null,null,null,null,null,null,null,"PVDF"]
[null,null,"-","Wash collection trough"]
[null,null,null,null,"•","Material: ",null,null,null,null,null,null,null,null,null,null,null,{"$f":"Calculations!$E$16","v":"304L"}]
[null,null,null,null,"•","Outlet pipe connection:",null,null,null,null,null,null,null,null,null,null,null,{"$f":"\"Flat welding flange, norm according to \"&Calculations!C2&\"’s requirement.\"","v":"Flat welding flange, norm according to CARESTER’s requirement."}]
[]
[]
[]
[null,{"$f":"IF(Calculations!$U$12=\"Oui\",\"3.6.6.\",\"\")","v":""},null,{"$f":"IF(Calculations!$U$12=\"Oui\",\"Cloth dewrinkling roller\",\"\")","v":""}]
[]
[null,null,{"$f":"IF(Calculations!$U$12=\"Oui\",\"-\",\"\")","v":""},{"$f":"IF(Calculations!$U$12=\"Oui\",\"Number:\",\"\")","v":""},null,null,null,null,null,null,null,null,null,null,null,null,null,{"$f":"IF(Calculations!$U$12=\"Oui\",\"Curved spread roller\",\"\")","v":""}]
[null,null,{"$f":"IF(Calculations!$U$12=\"Oui\",\"-\",\"\")","v":""},{"$f":"IF(Calculations!$U$12=\"Oui\",\"Type:\",\"\")","v":""},null,null,null,null,null,null,null,null,null,null,null,null,null,{"$f":"IF(Calculations!$U$12=\"Oui\",\"1\",\"\")","v":""}]
[null,null,{"$f":"IF(Calculations!$U$12=\"Oui\",\"-\",\"\")","v":""},{"$f":"IF(Calculations!$U$12=\"Oui\",\"Curved roller covered with rubber sleeves\",\"\")","v":""}]
[]
[null,"3.7.",null,"CAKE DISCHARGE"]
[]
[null,null,"-",{"$f":"IF(Calculations!$U$12=\"Oui\",\"Type:\",\"\")","v":""},null,null,null,null,null,null,null,null,null,null,null,null,null,"Discharge roller"]
[null,null,"-","Diameter of roller: ",null,null,null,null,null,null,null,null,null,null,null,null,null,"168,3 mm"]
[null,null,"-","Construction:"]
[null,null,null,null,"•","Cake discharge hopper",null,null,null,null,null,null,null,null,null,null,null,{"$f":"Calculations!$E$16","v":"304L"}]
[null,null,null,null,"•","Scrapper",null,null,null,null,null,null,null,null,null,null,null,"Polyurethane"]
[]
[null,"3.8.",null,"FLUIDS DISTRIBUTION"]
[]
[null,"3.8.1.",null,"Compressed air circuit"]
[]
[null,null,null,"1 cabinet for control of the cloth tracking, cloth tensioning and vacuum box tilting. "]
[]
[null,null,"-",{"$f":"IF(Calculations!$U$12=\"Oui\",\"Type:\",\"\")","v":""},null,null,null,null,null,null,null,null,null,null,null,null,null,"Marina IP 55 "]
[null,null,null,null,"•","Compressed air connection on cabinet:",null,null,null,null,null,null,null,null,null,null,null,"1/4 \" threaded hole or 1/2 “ NPT"]
[]
[null,null,null,null,"•","Air pressure regulator:",null,null,null,null,null,null,null,null,null,null,null,"Brand NORGREN"]
[null,null,null,null,"•","Valves:",null,null,null,null,null,null,null,null,null,null,null,"Polypropylene"]
[null,null,"-","Distribution pipes inside the filter"]
[null,null,null,null,"•","Material of pipes:",null,null,null,null,null,null,null,null,null,null,null,"Polyethylene"]
[null,null,null,null,"•","Material of fittings:",null,null,null,null,null,null,null,null,null,null,null,"Polypropylene"]
[]
[]
[]
[null,"3.8.2.",null,"Belt and cloth washing"]
[]
[null,null,"-","A manifold piping with outlets and valves"]
[null,null,null,null,"•","Manifold connection:",null,null,null,null,null,null,null,null,null,null,null,"Flat welding flange, norm according to customer requirement."]
[]
[]
[null,null,null,null,"•","Manifold:",null,null,null,null,null,null,null,null,null,null,null,{"$f":"Calculations!$E$18","v":"304L"}]
[null,null,null,null,"•","Valves:",null,null,null,null,null,null,null,null,null,null,null,"Membrane type, body made of cast iron, EPDM membrane."]
[]
[null,null,null,null,"•","Hoses:",null,null,null,null,null,null,null,null,null,null,null,"High quality rubber hoses"]
[]
[null,null,"-","Outlets distribution:"]
[null,null,null,null,"•","Cloth and belt washing: ",null,null,null,null,null,null,null,null,null,null,null,5]
[null,null,null,null,"•","Wear belts lubrication: ",null,null,null,null,null,null,null,null,null,null,null,2]
[]
[null,"3.8.3.",null,"Vacuum piping"]
[]
[null,"3.8.3.1.",null,"Filtrate internal pipes for connection from vacuum box to the filter side"]
[]
[null,null,"-","Diameter:",null,null,null,null,null,null,null,null,null,null,null,null,null,{"$f":"Calculations!$F$29","v":"DN65"}]
[null,null,"-","Quantity:",null,null,null,null,null,null,null,null,null,null,null,null,null,{"$f":"Calculations!$R$36","v":4}]
[null,null,"-","Material:",null,null,null,null,null,null,null,null,null,null,null,null,null,{"$f":"IF(Calculations!$E$30=\"SVR\",\"FRP\",Calculations!$E$30)","v":"304L"}]
[null,null,"-","Connection:",null,null,null,null,null,null,null,null,null,null,null,null,null,"Pipes with EPDM sleeve, smooth pipe"]
[]
[]
[null,"3.8.3.2.",null,"Vacuum manifold between above pipes and filtrate receivers"]
[]
[null,null,null,{"$f":"IF(Calculations!$U$31=1,\"\",\"It is divided in \"&Calculations!$U$31&\" tight zones by an obturator between two flanges.\")","v":"It is divided in  tight zones by an obturator between two flanges."}]
[]
[null,null,"-","Number of section:",null,null,null,null,null,null,null,null,null,null,null,null,null,{"$f":"Calculations!$S$31","v":3}]
[null,null,"-","Diameter:",null,null,null,null,null,null,null,null,null,null,null,null,null,{"$f":"\"DN\"&Calculations!E32","v":"DN65"}]
[null,null,"-","Inlet connection:",null,null,null,null,null,null,null,null,null,null,null,null,null,{"$f":"Calculations!$R$36&\" x \"&Calculations!$F$29","v":"4 x DN65"}]
[null,null,"-","Outlet connection:",null,null,null,null,null,null,null,null,null,null,null,null,null,{"$f":"Calculations!$S$31&\" x DN\"&Calculations!$N$32","v":"3 x DN65"}]
[null,null,"-","Material:",null,null,null,null,null,null,null,null,null,null,null,null,null,"304L"]
[]
[null,null,null,"Pipes with EPDM sleeve for connection."]
[]
[]
[]
[null,"3.9.",null,"PROCESS EQUIPMENT"]
[]
[null,"3.9.1.",null,"Slurry entrance dam and apron"]
[]
[null,null,"-","Apron:",null,null,null,null,null,null,null,null,null,null,null,null,null,"Rubber"]
[null,null,"-","Support:",null,null,null,null,null,null,null,null,null,null,null,null,null,{"$f":"Calculations!$E$13","v":"304L"}]
[null,null,"-","Number:",null,null,null,null,null,null,null,null,null,null,null,null,null,1]
[]
[]
[]
[null,"3.9.2.",null,"Slurry distributor",null,null,null,null,null,null,null,null,null,null,null,null,null,null,null,null,null,null,null,null,null,null,null,null,"Rule 1 : Selecting the good slurry distributor according the application"]
[null,null,null,null,null,null,null,null,null,null,null,null,null,null,null,null,null,null,null,null,null,null,null,null,null,null,null,null,"Rule 2 : if small width filter (<B15) : use this picture for the fish tail"]
[]
[]
[]
[]
[]
[]
[]
[]
[null,null,null,{"$f":"IF(Calculations!$Q$12=\"QDC\",\"Fish tail feeder\",\"High flow slurry box feeder with internal baffles\")&\" especially designed to spread \"&Calculations!$K$3&\" slurry product on the filter width.\"","v":"Fish tail feeder especially designed to spread Tb slurry filtration slurry product on the filter width."}]
[]
[]
[null,null,"-","Material:",null,null,null,null,null,null,null,null,null,null,null,null,null,{"$f":"Calculations!$E$13","v":"304L"}]
[null,null,"-","Number/Connection:",null,null,null,null,null,null,null,null,null,null,null,null,null,{"$f":"Calculations!$I$27&\" x \"&Calculations!$S$27&\" mm\"","v":"1 x 20 mm"}]
[null,null,"-","Lateral protections of the feeding area by rubber aprons."]
[]
[null,"3.9.3.",null,"Cake wash distributor",null,null,null,null,null,null,null,null,null,null,null,null,null,null,null,null,null,null,null,null,null,null,null,"Rule : if small width filter (<B15) : use this picture and description for the wash distributor"]
[]
[]
[]
[]
[]
[]
[]
[]
[]
[]
[]
[null,null,null,"The distributor is adjustable and locked in position on the frame by brackets. It can be moved on the frame when unscrewing the locking system.",null,null,null,null,null,null,null,null,null,null,null,null,null,null,null,null,null,null,null,null,null,null,null,"The distributor is adjustable and locked in position on the frame by brackets. It can be moved on the frame when unscrewing the locking system."]
[]
[]
[null,null,null,null,null,null,null,null,null,null,null,null,null,null,null,null,null,null,null,null,null,null,null,null,null,null,null,"Through with overflow feeding on synthetic cloth apron to spread the flow on the filter width. The distributor is adjustable and supported by trolley, with polyethylene rollers and a wheel to move it. It is locked in position on the frame by clamps."]
[null,null,"-","Material:",null,null,null,null,null,null,null,null,null,null,null,null,null,{"$f":"Calculations!$E$14","v":"304L"}]
[null,null,"-","Connection:",null,null,null,null,null,null,null,null,null,null,null,null,null,{"$f":"Calculations!$R$11&\" x \"&Calculations!$S$28&\" mm\"","v":"3 x 20 mm"}]
[null,null,"-","Number:",null,null,null,null,null,null,null,null,null,null,null,null,null,{"$f":"Calculations!$R$11","v":3}]
[]
[null,"3.9.4.",null,"Pendular dam (separation dam)"]
[]
[null,null,"-","Type:",null,null,null,null,null,null,null,null,null,null,null,null,null,"Pendular"]
[null,null,"-","Apron:",null,null,null,null,null,null,null,null,null,null,null,null,null,"Rubber"]
[null,null,"-","Support:",null,null,null,null,null,null,null,null,null,null,null,null,null,{"$f":"Calculations!$E$14","v":"304L"}]
[null,null,"-","Number:",null,null,null,null,null,null,null,null,null,null,null,null,null,{"$f":"Calculations!$R$11+1","v":4}]
[]
[]
[]
[]
[]
[null,"3.10.",null,"STANDARDS FOR CONNECTION"]
[]
[null,null,"-",{"$f":"\"With \"&Calculations!$C$2&\":\"","v":"With CARESTER:"},null,null,null,null,null,null,null,null,null,null,null,null,null,{"$f":"\"According to \"&Calculations!C2&\"’s requirement.\"","v":"According to CARESTER’s requirement."}]
[]
[null,null,"-","Internal:",null,null,null,null,null,null,null,null,null,null,null,null,null,"EPDM sleeve on smooth "]
[]
[null,"3.11.",null,"SITE CONDITIONS"]
[]
[null,null,null,"As per request or to be defined later."]
[null,null,"-","Geographic zone:"]
[null,null,"-","Altitude:"]
[null,null,"-","Temperature:",null,null,null,null,null,null,null,null,null,null,null,null,null,"+5 to +40°C "]
[null,null,"-","Humidity:",null,null,null,null,null,null,null,null,null,null,null,null,null,"60%"]
[]
[null,"NOTE: ",null,"The complete filtration unit (filter with associated equipment) has to be installed in a non - freezing zone with a minimum ambient temperature of 5°C (41°F)."]
[]
[]
[]
[null,"3.12.",null,"ANCHOR BOLTS"]
[]
[null,null,null,"Anchoring elements for the filters (anchor rods, dowels, etc.) will be supplied by HASLER Group."]
[]
[]
[]
[]
[]
[]
[]
[]
[]
[]
[]
[]
[]
[]
[]
[]
[]
[]
[]
[]
[]
[]
[]
[]
[]
[]
[]
[]
[null,"3.12.",null,"ELECTRICAL CONTROLS AND SECURITIES"]
[]
[null,"3.12.1.",null,"List of sensors included into the filter"]
[]
[null,null,"-","Emergency stop rope (left/right) ",null,null,null,null,null,null,null,null,null,null,"NB : 2 – HS01/HS02 ",null,null,null,null,null,null,"Code 1-5"]
[null,null,"-","Cloth misalignement (left/right) ",null,null,null,null,null,null,null,null,null,null,"NB : 2 – ZS03/ZS04 ",null,null,null,null,null,null,"Code 1"]
[null,null,"-","Cloth tension (min./max.)",null,null,null,null,null,null,null,null,null,null,"NB : 2 – ZSL01/ZSH02",null,null,null,null,null,null,"Code 2"]
[null,null,"-","Belt drive unit overtorque ",null,null,null,null,null,null,null,null,null,null,"NB : 1 – WSH01 ",null,null,null,null,null,null,"Code 1"]
[null,null,"-","Belt misalignement (left/right)",null,null,null,null,null,null,null,null,null,null,"NB : 2 – ZS05/ZS06 ",null,null,null,null,null,null,"Code 1"]
[null,null,"-","Ultrasonic cake measure thickness",null,null,null,null,null,null,null,null,null,null,"NB : 1 – LIT01",null,null,null,null,null,null,"Code 7"]
[null,null,"-","Slurry level control ",null,null,null,null,null,null,null,null,null,null,"NB : 1 – LSH01",null,null,null,null,null,null,"Code 7"]
[null,null,"-","Cloth run-off",null,null,null,null,null,null,null,null,null,null,"NB : 1 – SSL01  ",null,null,null,null,null,null,"Code 2"]
[null,null,"-","Vacuum box wear belt breaking",null,null,null,null,null,null,null,null,null,null,"NB : 2 – ZS07/ZS08 ",null,null,null,null,null,null,"Code 6"]
[]
[null,null,"-","Pressure transmitter"]
[null,null,null,null,"•","Compressed air circuit ",null,null,null,null,null,null,null,null,"NB : 1 – PIT01",null,null,null,null,null,null,"Code 3"]
[null,null,null,null,"•","Water circuit",null,null,null,null,null,null,null,null,"NB : 1 – PIT02",null,null,null,null,null,null,"Code 3"]
[null,null,"-","Electromagnetic Flowmeter"]
[null,null,null,null,"•","Vacuum box lubrication ",null,null,null,null,null,null,null,null,"NB : 1 – FIT01",null,null,null,null,null,null,"Code 4"]
[null,null,null,null,"•","Type:",null,null,null,null,null,null,null,null,"Electromagnetic flowmeter"]
[null,null,null,null,"•","Cloth&Belt washing",null,null,null,null,null,null,null,null,"NB : 1 – FIT02",null,null,null,null,null,null,"Code 4"]
[null,null,null,null,"•","Type:",null,null,null,null,null,null,null,null,"Electromagnetic flowmeter"]
[]
[null,null,null,"Signal codification"]
[]
[null,null,null,"Code 1 – 1 SPST (NC if not acted)"]
[null,null,null,"Code 2 – inductive sensor 2 wires (NC if not acted)"]
[null,null,null,"Code 3 – 4-20mA HART signal"]
[null,null,null,"Code 4 – 4-20mA HART signal"]
[null,null,null,"Code 5 – include one second SPST to be separately and directly wired in the belt drive motor main contactor coil control circuit."]
[]
[null,null,null,"Code 6 – capacitive sensor 2 wire (NO if not acted)"]
[null,null,null,"Code 7 – 4-20mA HART signal"]
[]
[null,null,null,"All our transmitters used the 4-20mA HART signal."]
[]
[null,null,null,"The here above controls will be wired on one junction box fitted on the belt filter frame. This box will include one terminal block, one grounding copper bar and cable gland fittings."]
[]
[null,null,null,"Cables and terminals labelling will be in accordance with the electrical scheme identifications numbers."]
[]
[]
[null,null,null,"LIMIT OF SUPPLY"]
[]
[null,null,null,"Security and functioning of the equipment controlled by the customer's PLC/DCS according to the logic diagrams supplied by HASLER Group. Software programming works by the customer."]
[]
[]
[null,null,null,"All the control and instrumentation cables, conduits and gland fittings not installed in the HASLER Group's workshop will be supplied and installed on site by the customer."]
[]
[]
[null,null,null,"Wiring up to the junction box. After the junction boxes, this is a supply from CARESTER."]
[]
[]
[]
[null,"3.12.2.",null,"Standard list of suppliers"]
[]
[null,"MATERIAL",null,null,null,null,"TYPE",null,null,null,null,null,"BRAND",null,null,null,null,"REMARKS"]
[null,"Emergency stop trip wire switch",null,null,null,null,"XY2-CE1A270TK\nXY2-CE2A270TK",null,null,null,null,null,"Schneider Electric\nTélémécanique"]
[]
[null,"Electromechanical limit switch",null,null,null,null,"ZCK-J1TK \nZCK-E61TK",null,null,null,null,null,"Schneider Electric\nTélémécanique"]
[]
[null,"Inductive sensor",null,null,null,null,"IB0016",null,null,null,null,null,"IFM Electronic",null,null,null,null,"20 ... 250 Vca/cc"]
[null,"Pressure switch",null,null,null,null,"B4",null,null,null,null,null,"Ashcroft \nDresser",null,null,null,null,"Wetted parts st. steel 316"]
[]
[null,"Variable area flowmeter",null,null,null,null,865,null,null,null,null,null,"Gemü",null,null,null,null,"With reed switch sensor \nType 1251/1256"]
[]
[null,"Junction box enclosure (JB)",null,null,null,null,"Série KS",null,null,null,null,null,"Rittal",null,null,null,null,"GRP IP66 (IEC 529) \nNema 4x"]
[]
[null,"Terminal blocks (JB)",null,null,null,null,null,null,null,null,null,null,"ENTRELEC or  \nWEIDMÜLLER"]
[]
[null,"Cable gland fittings",null,null,null,null,"Polyamide",null,null,null,null,null,"Capri or \nLutze",null,null,null,null,"JB and sensors"]
[]
[null,"Control and instrumentation cables",null,null,null,null,"1,5 mm2  (AWG16)",null,null,null,null,null,"HELUKABEL",null,null,null,null,"300/500V DIN/VDE - \nSEV 600V-90°  UL / CSA"]
[]
[null,"Cake thickness transmitter",null,null,null,null,"Ultrasonic sensor type FMU40",null,null,null,null,null,"Endress Hauser",null,null,null,null,"Signal 4-20mA HART"]
[]
[]
[]
[]
[]
[]
[]
[]
[]
[]
[]
[]
[]
[]
[]
[]
[]
[]
[]
[]
[]
[]
[]
[]
[]
[]
[]
[]
[null,"4.",null,"PAINTING SPECIFICATIONS"]
[]
[null,"According o Hasler Group and sub- suppliers standard."]
[]
[]
[null,"NOTE: ",null,"In case of modification of the process or the colour, HASLER Group will have to be notified no later than I month after the order (can be subject for extra prices)."]
[]
[]
[]
[]
[]
[]
[]
[]
[]
[]
[]
[]
[]
[]
[]
[]
[]
[]
[]
[]
[]
[]
[]
[]
[]
[]
[]
[]
[]
[]
[]
[]
[]
[]
[]
[]
[]
[]
[]
[]
[]
[]
[null,"5.",null,"BATTERY LIMITS AND EXCLUSION"]
[]
[null,"5.1.",null,"BATTERY LIMITS"]
[]
[null,null,null,"The equipment includes everything necessary inside the battery limits for a normal operation of the filter. The battery limits shown on the general assembly drawing are:"]
[]
[null,null,"-","Flange of the slurry distributor"]
[null,null,"-","Flanges of the wash distributors"]
[null,null,"-","Rubber sleeves of the filtrate pipes"]
[null,null,"-","Flange of the cake discharge hopper"]
[null,null,"-","Flange of the filtrate manifold"]
[null,null,"-","Flange of the water manifold"]
[null,null,"-","Flange of the vacuum pump"]
[null,null,"-","Flange of the filtrate pumps"]
[null,null,"-","flange of the Filtrate receivers"]
[null,null,"-","flange of the tanks"]
[null,null,"-","Air inlet at the entrance of the pneumatic cabinet"]
[null,null,"-","Terminals of the accessories electrical box"]
[]
[null,"5.2.",null,"EXCLUSION"]
[]
[null,null,"-","Civil work"]
[null,null,"-","Anchor bolts"]
[null,null,"-","Support steelwork"]
[null,null,"-","Operating platform"]
[null,null,"-","Electrical and wiring"]
[null,null,"-","MCC or electrical cabinet"]
[null,null,"-","Inspection by independant authorities"]
[null,null,"-","Unload, warehousing and handling on site"]
[null,null,"-","Painting on site"]
[]
[null,"5.3.",null,"MODIFICATIONS"]
[]
[null,null,null,"The technical specifications described in this agreement cannot be modified without HASLER Group consent."]
[]
[]
[null,"6.",null,"EC DECLARATION OF INTEGRATION & SAFETY PERSONNEL PROTECTION"]
[]
[null,null,null,"HASLER Group will deliver an EC declaration of integration and not a certificate."]
[]
[null,null,null,"That means that the equipment described above is destinated to be integrated or assembled in a general arrangement or to be added to other equipment in integral running with each other."]
[]
[]
[null,null,null,"In consequence, the start-up of this equipment is forbbiden as long as the general arrangement in which, it will be integrated or all of integral equipment in which, it must be assembled, are not in compliance with the provisions of directive 98/37/CEE or in compliance with the National provisions for transposition of  this directive in the country of start-up."]
[]
[]
[]
[null,null,null,"According to EC standard, safety personnel protections have to be installed all around the filter. HASLER GROUP will provide safety guards all around the filter. "]
[]
[]
[]
["COMPLEMENTARY EQUIPMENTS & SERVICES\nFOR \"PHILIPPE\" VACUUM BELT FILTER\n"]
[]
[]
[]
[]
[null,null,null,null,null,"CLIENT",null,null,null,null,null,null,null,null,{"$f":"Calculations!$C$2","v":"CARESTER"}]
[null,null,null,null,null,"JOB REF",null,null,null,null,null,null,null,null,{"$f":"Calculations!$C$4","v":"CAREMAG"}]
[null,null,null,null,null,"QUOTATION N°",null,null,null,null,null,null,null,null,{"$f":"Calculations!$C$3&\"_\"&Calculations!$K$10&\"-\"&Calculations!G1&Calculations!$H$3","v":"726789_2B5-03rev4"}]
[null,null,null,null,null,"PRODUCT",null,null,null,null,null,null,null,null,{"$f":"Calculations!$K$3","v":"Tb slurry filtration"}]
[null,null,null,null,null,"SELECTED FILTER",null,null,null,null,null,null,null,null,{"$f":"\"VACUUM BELT FILTER \"&Calculations!$C$9&\" m²\"","v":"VACUUM BELT FILTER 2 m²"}]
[null,null,null,null,null,"WIDTH",null,null,null,null,null,null,null,null,{"$f":"Calculations!$E$9&\" mm\"","v":"500 mm"}]
[null,null,null,null,null,"TYPE",null,null,null,null,null,null,null,null,{"$f":"Calculations!$K$10&\" - \"&Calculations!$I$9","v":"2B5 - SERIE 2"}]
[null,null,null,null,null,"DATE",null,null,null,null,null,null,null,null,{"$f":"Calculations!$R$2","v":"2025-04-25"}]
[]
["TABLE OF CONTENT"]
[]
[null,null,null,null,null,"COMPLEMENTARY EQUIPMENTS AND SERVICES"]
[]
[null,null,null,null,null,{"$f":"F28","v":"Appendix \"Cloth Ultrasonic welding machine\""}]
[null,null,null,null,null,"Appendix \"Fume Hood\""]
[null,null,null,null,null,"Appendix \"Drip Pan\""]
[null,null,null,null,null,"Appendix \"Filtrate receiver\""]
[null,null,null,null,null,"Appendix \"Cyclone\""]
[null,null,null,null,null,"Appendix \"Scrubber\""]
[null,null,null,null,null,"Appendix \"Vacuum Pump\""]
[null,null,null,null,null,"Appendix \"Filtrate Pump\""]
[null,null,null,null,null,"Appendix \"High Pressure Ramp\""]
[null,null,null,null,null,"Appendix \"Splash protection system\""]
[null,null,null,null,null,"Appendix \"Steam Box\""]
[null,null,null,null,null,"Appendix \"Local Control Panel\""]
[null,null,null,null,null,"Appendix \"Erection on site\""]
[null,null,null,null,null,"Appendix \"Commissioning on site\""]
[null,null,null,null,null,"Appendix ''Spare Parts - Maintenance Schedule''"]
[null,null,null,null,null,"Appendix ''Factory Acceptance Test''"]
[null,null,null,null,null,"Appendix ''Site Acceptance Test''"]

{"sheet":"ULTRASONIC MACHINE","index":86,"n_rows":23,"n_cols":4,"rows_kept":23,"cut":false,"hidden":true,"merged":[[1037,16,1037,21],[1039,0,1039,25],[980,3,981,24],[1006,3,1007,24],[1013,3,1015,24],[1016,3,1019,24],[1020,3,1021,24],[1025,0,1027,25],[957,3,958,24],[846,5,847,11],[856,3,857,24],[861,3,862,24],[863,3,864,24],[868,3,869,24],[871,3,872,24],[929,17,930,24],[948,3,949,24],[950,3,951,24],[952,3,953,24],[954,3,955,24],[794,3,795,24],[598,3,599,24],[611,3,612,24],[629,17,630,24],[647,17,649,24],[672,17,673,24],[685,17,687,24],[689,17,690,24],[704,17,705,24],[741,3,742,24],[760,3,762,24],[782,17,783,24],[561,3,563,24],[450,3,453,24],[458,3,462,24],[465,17,466,24],[468,17,469,24],[473,3,474,24],[475,3,475,24],[476,3,477,24],[507,17,508,24],[548,3,550,24],[553,3,554,24],[558,17,559,24],[448,3,449,24],[365,17,366,24],[370,17,371,24],[375,3,377,24],[378,3,378,24],[382,17,383,24],[405,3,406,24],[421,3,422,24],[423,5,423,24],[424,5,425,24],[427,5,428,24],[429,5,430,24],[363,17,364,24],[236,3,236,24],[237,3,238,24],[290,17,291,24],[309,3,310,24],[318,3,319,24],[328,17,329,24],[335,17,336,24],[338,17,339,24],[342,17,344,24],[348,17,349,24],[361,17,362,24],[234,3,235,24],[1,0,1,25],[7,3,12,24],[14,3,17,24],[45,0,47,25],[57,16,57,21],[59,0,59,25],[94,0,96,27],[168,17,169,24],[218,3,219,24],[225,5,227,24],[228,5,230,24]]}
[]
["Appendix \"ULTRASONIC CLOTH WELDING MACHINE\""]
[]
[null,null,null,"SPECIAL TOOL"]
[]
[null,null,"-","ONE CLOTH ULTRASONIC WELDING MACHINE"]
[]
[null,null,null,"The generator converts the power of the 220V/50Hz or 60Hz network (system) into a 35000 Hz electrical energy. The piezoelectric converter produces mechanical oscillations of the same frequency. The welding gun together with the converter, directs its high frequency oscillations in the plastic material and produces at the requested place an overheating due to friction. The plastic material melts in fractions of a second and forms a lasting molecular assembling."]
[]
[]
[]
[]
[]
[]
[null,null,null,"The ultrasonic energy is started by the impeller incorporated in the hand apparatus. The  welding time is  controlled, either manually by maintaining the impeller in an unlocked position, or automatically by a timer incorporated in the apparatus. The choice is done by a switch on the frontal side of the generator."]
[]
[]
[]
[]
[null,null,"-","ONE U 200x50x5 - LENGTH 3550: support to proceed to ultrasonic cloth welding"]
[null,null,"-","ONE CUTTER IRON DUVAUCHEL: to cut the cloth"]
[null,null,"-","ONE WINCH ROLLER: to strength the cloth"]
[null,null,"-","Tools for erection to be provided by the customer."]

{"sheet":"FUME HOOD","index":87,"n_rows":44,"n_cols":22,"rows_kept":44,"cut":false,"hidden":false,"merged":[[1041,16,1041,21],[1043,0,1043,25],[984,3,985,24],[1010,3,1011,24],[1017,3,1019,24],[1020,3,1023,24],[1024,3,1025,24],[1029,0,1031,25],[961,3,962,24],[850,5,851,11],[860,3,861,24],[865,3,866,24],[867,3,868,24],[872,3,873,24],[875,3,876,24],[933,17,934,24],[952,3,953,24],[954,3,955,24],[956,3,957,24],[958,3,959,24],[798,3,799,24],[602,3,603,24],[615,3,616,24],[633,17,634,24],[651,17,653,24],[676,17,677,24],[689,17,691,24],[693,17,694,24],[708,17,709,24],[745,3,746,24],[764,3,766,24],[786,17,787,24],[565,3,567,24],[454,3,457,24],[462,3,466,24],[469,17,470,24],[472,17,473,24],[477,3,478,24],[479,3,479,24],[480,3,481,24],[511,17,512,24],[552,3,554,24],[557,3,558,24],[562,17,563,24],[452,3,453,24],[369,17,370,24],[374,17,375,24],[379,3,381,24],[382,3,382,24],[386,17,387,24],[409,3,410,24],[425,3,426,24],[427,5,427,24],[428,5,429,24],[431,5,432,24],[433,5,434,24],[367,17,368,24],[240,3,240,24],[241,3,242,24],[294,17,295,24],[313,3,314,24],[322,3,323,24],[332,17,333,24],[339,17,340,24],[342,17,343,24],[346,17,348,24],[352,17,353,24],[365,17,366,24],[238,3,239,24],[1,0,1,25],[49,0,51,25],[61,16,61,21],[63,0,63,25],[98,0,100,27],[172,17,173,24],[222,3,223,24],[229,5,231,24],[232,5,234,24],[5,2,6,23],[8,2,9,23],[35,0,35,25]]}
[]
["Appendix \"FUME HOOD\""]
[]
[null,null,"FUME HOOD"]
[]
[null,null,"It covers the whole or part of the filter active area. The housing structure is made of steel section number and supported by the filter frame. The top is made of polypropylene plate."]
[]
[]
[null,null,"On each side, there is a full openings for easy access to wash through and dams. This openings are blinded by translucid PVC sheets. "]
[]
[]
[]
[null,null,"-","Frame material:",null,null,null,null,null,null,null,null,null,null,null,null,null,"304L"]
[null,null,"-","Total length:",null,null,null,null,null,null,null,null,null,null,null,null,null,{"$f":"Calculations!R55&\" mm\"","v":"7130 mm"}]
[null,null,"-","Exhaust flowrate to be foreseen:",null,null,null,null,null,null,null,null,null,null,null,null,null,{"$f":"Calculations!$AT$4&\" m3/h\"","v":"1300 m3/h"},null,null,null,"(TBC)"]
[null,null,"-","Outlets",null,null,null,null,null,null,null,null,null,null,null,null,null,{"$f":"Calculations!$AT$5&\" x \"&Calculations!AT6&\" mm\"","v":"2 x 200 mm"}]
[null,null,"-","Exhaust fan and piping:",null,null,null,null,null,null,null,null,null,null,null,null,null,"Excluded"]
[]
[]
[]
[]
[]
[]
[]
[]
[]
[]
[]
[]
[]
[]
[]
[]
[]
[]
["Appendix \"DRIP PAN\""]
[]
[null,null,"It collects drips below the filter. It is made of PPH."]
[]
[null,null,"-","Material:",null,null,null,null,null,null,null,null,null,null,null,null,"PPH"]
[null,null,"-","Location:",null,null,null,null,null," ",null,null,null,null,null,null,"Below the filter"]
[null,null,"-","Outlet number:",null,null,null,null,null,null,null,null,null,null,null,null,"1 (TBC)"]
[null,null,"-","Outlet diameter:",null,null,null,null,null,null,null,null,null,null,null,null,"To be defined in engineering"]
[null,null,"-","Total length:",null,null,null,null,null,null,null,null,null,null,null,null,"Under the entire length of the filter"]

{"sheet":"BALLON 1","index":88,"n_rows":41,"n_cols":20,"rows_kept":41,"cut":false,"hidden":true,"merged":[[1043,0,1043,25],[954,3,955,24],[956,3,957,24],[958,3,959,24],[961,3,962,24],[984,3,985,24],[1010,3,1011,24],[1017,3,1019,24],[1020,3,1023,24],[1024,3,1025,24],[1029,0,1031,25],[1041,16,1041,21],[952,3,953,24],[745,3,746,24],[764,3,766,24],[786,17,787,24],[798,3,799,24],[850,5,851,11],[860,3,861,24],[865,3,866,24],[867,3,868,24],[872,3,873,24],[875,3,876,24],[933,17,934,24],[708,17,709,24],[552,3,554,24],[557,3,558,24],[562,17,563,24],[565,3,567,24],[602,3,603,24],[615,3,616,24],[633,17,634,24],[651,17,653,24],[676,17,677,24],[689,17,691,24],[693,17,694,24],[511,17,512,24],[428,5,429,24],[431,5,432,24],[433,5,434,24],[452,3,453,24],[454,3,457,24],[462,3,466,24],[469,17,470,24],[472,17,473,24],[477,3,478,24],[479,3,479,24],[480,3,481,24],[427,5,427,24],[346,17,348,24],[352,17,353,24],[365,17,366,24],[367,17,368,24],[369,17,370,24],[374,17,375,24],[379,3,381,24],[382,3,382,24],[386,17,387,24],[409,3,410,24],[425,3,426,24],[342,17,343,24],[222,3,223,24],[229,5,231,24],[232,5,234,24],[238,3,239,24],[240,3,240,24],[241,3,242,24],[294,17,295,24],[313,3,314,24],[322,3,323,24],[332,17,333,24],[339,17,340,24],[172,17,173,24],[1,0,1,25],[49,0,51,25],[61,16,61,21],[63,0,63,25],[98,0,100,27],[22,17,38,17],[21,19,39,19],[27,7,27,10],[29,7,31,9],[27,11,27,13]]}
[]
["Appendix \"FILTRATE RECEIVER\""]
[]
[null,null,"-","Material:",null,null,null,null,null,null,null,null,null,null,null,null,null,{"$f":"Calculations!$C$44","v":"304L"}]
[null,null,"-","Diameter:",null,null,null,null,null,null,null,null,null,null,null,null,null,{"$f":"Calculations!$E$44&\" mm\"","v":"500 mm"}]
[]
[null,null,null,"Equipment"]
[]
[null,null,"-","Supporting legs",null,null,null,null,null,null,null,null,null,null,null,null,null,{"$f":"IF(Calculations!R44=\"Non\",\"Excluded\",\"Included\")","v":"Excluded"}]
[null,null,"-","Connection \"A\":",null,null,null,null,null,null,null,null,null,null,null,null,null,{"$f":"Calculations!$G$44&\" mm\"","v":"65 mm"}]
[null,null,"-","Connection \"B\":",null,null,null,null,null,null,null,null,null,null,null,null,null,{"$f":"Calculations!$I$44&\" mm\"","v":"65 mm"}]
[null,null,"-","Connection \"C\":",null,null,null,null,null,null,null,null,null,null,null,null,null,{"$f":"Calculations!K44&\" mm\"","v":"32 mm"}]
[]
[null,null,null,"Other connections"]
[]
[null,null,"- ","Level probe:",null,null,null,null,null,null,null,null,null,null,null,null,null,"DN50 (2\") - Nbre: 2"]
[null,null,"- ","Pressure indicator transmitter",null,null,null,null,null,null,null,null,null,null,null,null,null,"DN50 (2\") - Nbre: 1"]
[]
[]
[]
[]
[null,null,null,null,null,null,null,null,null,null,null,null,null,null,null,null,null,null,null,{"$f":"'Ballon Séparateur'!$H$36","v":1050}]
[null,null,null,null,null,null,null,null,null,null,null,null,null,null,null,null,null,{"$f":"'Ballon Séparateur'!$G$35","v":850}]
[]
[]
[]
[]
[null,null,null,null,null,null,null,{"$f":"'Ballon Séparateur'!$D$33","v":500}]
[]
[]
[]
[]
[]
[]
[]
[]
[]
[]
[]
[]
[null,null,null,null,null,null,null,null,null," "]

{"sheet":"BALLON 1 flasq","index":89,"n_rows":41,"n_cols":21,"rows_kept":41,"cut":false,"hidden":false,"merged":[[172,17,173,24],[1,0,1,25],[21,18,39,18],[23,16,39,16],[27,7,27,10],[27,11,27,13],[29,7,31,9],[29,11,29,13],[33,17,40,17],[41,17,43,17],[49,0,51,25],[61,16,61,21],[63,0,63,25],[98,0,100,27],[342,17,343,24],[222,3,223,24],[229,5,231,24],[232,5,234,24],[238,3,239,24],[240,3,240,24],[241,3,242,24],[294,17,295,24],[313,3,314,24],[322,3,323,24],[332,17,333,24],[339,17,340,24],[427,5,427,24],[346,17,348,24],[352,17,353,24],[365,17,366,24],[367,17,368,24],[369,17,370,24],[374,17,375,24],[379,3,381,24],[382,3,382,24],[386,17,387,24],[409,3,410,24],[425,3,426,24],[511,17,512,24],[428,5,429,24],[431,5,432,24],[433,5,434,24],[452,3,453,24],[454,3,457,24],[462,3,466,24],[469,17,470,24],[472,17,473,24],[477,3,478,24],[479,3,479,24],[480,3,481,24],[708,17,709,24],[552,3,554,24],[557,3,558,24],[562,17,563,24],[565,3,567,24],[602,3,603,24],[615,3,616,24],[633,17,634,24],[651,17,653,24],[676,17,677,24],[689,17,691,24],[693,17,694,24],[952,3,953,24],[745,3,746,24],[764,3,766,24],[786,17,787,24],[798,3,799,24],[850,5,851,11],[860,3,861,24],[865,3,866,24],[867,3,868,24],[872,3,873,24],[875,3,876,24],[933,17,934,24],[1043,0,1043,25],[954,3,955,24],[956,3,957,24],[958,3,959,24],[961,3,962,24],[984,3,985,24],[1010,3,1011,24],[1017,3,1019,24],[1020,3,1023,24],[1024,3,1025,24],[1029,0,1031,25],[1041,16,1041,21]]}
[]
["Appendix \"FILTRATE RECEIVER\""]
[]
[null,null,"-","Material:",null,null,null,null,null,null,null,null,null,null,null,null,null,{"$f":"Calculations!$C$44","v":"304L"}]
[null,null,"-","Diameter:",null,null,null,null,null,null,null,null,null,null,null,null,null,{"$f":"Calculations!$E$44&\" mm\"","v":"500 mm"},null,null,"(TBC)"]
[]
[null,null,null,"Equipment"]
[]
[null,null,"-","Supporting legs",null,null,null,null,null,null,null,null,null,null,null,null,null,{"$f":"IF(Calculations!R44=\"Non\",\"Excluded\",\"Included\")","v":"Excluded"}]
[null,null,"-","Connection \"A\":",null,null,null,null,null,null,null,null,null,null,null,null,null,{"$f":"Calculations!$G$44&\" mm\"","v":"65 mm"}]
[null,null,"-","Connection \"B\":",null,null,null,null,null,null,null,null,null,null,null,null,null,{"$f":"Calculations!$I$44&\" mm\"","v":"65 mm"}]
[null,null,"-","Connection \"C\":",null,null,null,null,null,null,null,null,null,null,null,null,null,{"$f":"Calculations!K44&\" mm\"","v":"32 mm"}]
[]
[null,null,null,"Other connections"]
[]
[null,null,"- ","Level probe:",null,null,null,null,null,null,null,null,null,null,null,null,null,"DN50 (2\") - Nbre: 2"]
[null,null,"- ","Pressure indicator transmitter",null,null,null,null,null,null,null,null,null,null,null,null,null,"DN50 (2\") - Nbre: 1"]
[]
[]
[]
[]
[null,null,null,null,null,null,null,null,null,null,null,null,null,null,null,null,null,null,{"$f":"'Ballon Séparateur Flasqué'!F33","v":1150}]
[]
[null,null,null,null,null,null,null,null,null,null,null,null,null,null,null,null,{"$f":"'Ballon Séparateur Flasqué'!F38","v":1050}]
[]
[]
[]
[null,null,null,null,null,null,null,{"$f":"'Ballon Séparateur Flasqué'!D32","v":500}]
[]
[]
[]
[]
[]
[]
[]
[]
[]
[]
[]
[]
[null,null,null,null,null,null,null,null,null," "]

{"sheet":"CYCLONE","index":90,"n_rows":37,"n_cols":21,"rows_kept":37,"cut":false,"hidden":false,"merged":[[2,10,2,15],[985,3,986,24],[861,3,862,24],[866,3,867,24],[868,3,869,24],[873,3,874,24],[876,3,877,24],[957,3,958,24],[959,3,960,24],[934,17,935,24],[953,3,954,24],[955,3,956,24],[32,15,36,16],[962,3,963,24],[851,5,852,11],[616,3,617,24],[1044,0,1044,25],[1011,3,1012,24],[1018,3,1020,24],[1021,3,1024,24],[1025,3,1026,24],[1030,0,1032,25],[1042,16,1042,21],[634,17,635,24],[652,17,654,24],[677,17,678,24],[690,17,692,24],[694,17,695,24],[709,17,710,24],[746,3,747,24],[765,3,767,24],[787,17,788,24],[799,3,800,24],[603,3,604,24],[558,3,559,24],[563,17,564,24],[463,3,467,24],[470,17,471,24],[473,17,474,24],[478,3,479,24],[480,3,480,24],[566,3,568,24],[481,3,482,24],[512,17,513,24],[553,3,555,24],[455,3,458,24],[375,17,376,24],[380,3,382,24],[383,3,383,24],[387,17,388,24],[410,3,411,24],[426,3,427,24],[428,5,428,24],[429,5,430,24],[432,5,433,24],[434,5,435,24],[453,3,454,24],[370,17,371,24],[242,3,243,24],[295,17,296,24],[314,3,315,24],[323,3,324,24],[333,17,334,24],[340,17,341,24],[343,17,344,24],[347,17,349,24],[353,17,354,24],[366,17,367,24],[368,17,369,24],[241,3,241,24],[1,0,1,25],[5,17,5,19],[50,0,52,25],[62,16,62,21],[64,0,64,25],[99,0,101,27],[173,17,174,24],[223,3,224,24],[230,5,232,24],[233,5,235,24],[239,3,240,24],[34,7,34,8],[30,7,30,9],[24,11,24,13],[29,18,33,19]]}
[]
["Appendix \"CYCLONE\""]
[]
[]
[null,null,"-","Material:",null,null,null,null,null,null,null,null,null,null,null,null,null,{"$f":"Calculations!$C$46","v":"304L"}]
[null,null,"-","Diameter:",null,null,null,null,null,null,null,null,null,null,null,null,null,{"$f":"Calculations!$E$46&\" mm\"","v":"200 mm"},null,null,"(TBC)"]
[]
[null,null,null,"Equipment"]
[]
[null,null,"-","Supporting legs",null,null,null,null,null,null,null,null,null,null,null,null,null,{"$f":"IF(Calculations!R46=\"Non\", \"Excluded\", \"Included\")","v":"Excluded"}]
[null,null,"-","Connection \"A\":",null,null,null,null,null,null,null,null,null,null,null,null,null,{"$f":"Calculations!$G$46&\" mm\"","v":"65 mm"}]
[null,null,"-","Connection \"B\":",null,null,null,null,null,null,null,null,null,null,null,null,null,{"$f":"Calculations!$I$46&\" mm\"","v":"65 mm"}]
[null,null,"-","Connection \"C\":",null,null,null,null,null,null,null,null,null,null,null,null,null,{"$f":"Calculations!K46&\" mm\"","v":"40 mm"}]
[]
[]
[]
[]
[]
[]
[]
[]
[]
[]
[]
[]
[]
[]
[]
[]
[null,null,null,null,null,null,null,null,null,null,null,null,null,null,null,null,null,null,{"$f":"'Cyclone.'!F35","v":700}]
[null,null,null,null,null,null,null,{"$f":"'Cyclone.'!D37","v":200}]
[]
[]
[]
[]
[]
[null,null,null,null,null,null,null,null,null,"60°"]

{"sheet":"LAVEUR","index":91,"n_rows":41,"n_cols":19,"rows_kept":41,"cut":false,"hidden":true,"merged":[[989,3,990,24],[865,3,866,24],[870,3,871,24],[872,3,873,24],[877,3,878,24],[880,3,881,24],[961,3,962,24],[963,3,964,24],[938,17,939,24],[957,3,958,24],[959,3,960,24],[1048,0,1048,25],[1015,3,1016,24],[1022,3,1024,24],[1025,3,1028,24],[1029,3,1030,24],[1034,0,1036,25],[1046,16,1046,21],[30,16,33,17],[37,17,41,18],[966,3,967,24],[855,5,856,11],[620,3,621,24],[638,17,639,24],[656,17,658,24],[681,17,682,24],[694,17,696,24],[698,17,699,24],[713,17,714,24],[750,3,751,24],[769,3,771,24],[791,17,792,24],[803,3,804,24],[607,3,608,24],[562,3,563,24],[567,17,568,24],[467,3,471,24],[474,17,475,24],[477,17,478,24],[482,3,483,24],[484,3,484,24],[570,3,572,24],[459,3,462,24],[379,17,380,24],[384,3,386,24],[387,3,387,24],[391,17,392,24],[414,3,415,24],[430,3,431,24],[432,5,432,24],[433,5,434,24],[436,5,437,24],[438,5,439,24],[457,3,458,24],[485,3,486,24],[516,17,517,24],[557,3,559,24],[374,17,375,24],[246,3,247,24],[299,17,300,24],[318,3,319,24],[327,3,328,24],[337,17,338,24],[344,17,345,24],[347,17,348,24],[351,17,353,24],[357,17,358,24],[370,17,371,24],[372,17,373,24],[245,3,245,24],[1,0,1,25],[4,17,4,19],[54,0,56,25],[66,16,66,21],[68,0,68,25],[103,0,105,27],[177,17,178,24],[227,3,228,24],[234,5,236,24],[237,5,239,24],[243,3,244,24],[44,16,45,17],[29,9,30,11],[28,18,34,19],[38,12,38,13]]}
[]
["Appendix \"SCRUBBER\""]
[]
[null,null,"-","Material:",null,null,null,null,null,null,null,null,null,null,null,null,null,{"$f":"Calculations!$C$48","v":"Exclu"}]
[null,null,"-","Diameter:",null,null,null,null,null,null,null,null,null,null,null,null,null,{"$f":"Calculations!$E$48&\" mm\"","v":"200 mm"}]
[]
[null,null,null,"Equipment"]
[]
[null,null,"-","One spraying set"]
[null,null,null,null,"•","Pipe material:",null,null,null,null,null,null,null,null,null,null,null,"Polypropylene"]
[null,null,null,null,"•","Sprayer material:",null,null,null,null,null,null,null,null,null,null,null,"Polypropylene"]
[]
[]
[null,null,"-","Supporting legs",null,null,null,null,null,null,null,null,null,null,null,null,null,{"$f":"IF(Calculations!R48=\"Non\", \"Excluded\", \"Included\")","v":"Excluded"}]
[null,null,"-","Connection \"A\":",null,null,null,null,null,null,null,null,null,null,null,null,null,{"$f":"Calculations!$G$48&\" mm\"","v":"65 mm"}]
[null,null,"-","Connection \"B\":",null,null,null,null,null,null,null,null,null,null,null,null,null,{"$f":"Calculations!$I$48&\" mm\"","v":"65 mm"}]
[null,null,"-","Connection \"C\":",null,null,null,null,null,null,null,null,null,null,null,null,null,{"$f":"Calculations!K48&\" mm\"&\" (TBC)\"","v":"20 mm (TBC)"}]
[null,null,"-","Connection \"D\":",null,null,null,null,null,null,null,null,null,null,null,null,null,{"$f":"Calculations!M48&\" mm\"&\" (TBC)\"","v":"20 mm (TBC)"}]
[]
[]
[]
[]
[]
[]
[]
[]
[]
[]
[null,null,null,null,null,null,null,null,null,null,null,null,null,null,null,null,null,null,{"$f":"Laveur.!G35","v":750}]
[null,null,null,null,null,null,null,null,null,{"$f":"Laveur.!E34","v":200}]
[null,null,null,null,null,null,null,null,null,null,null,null,null,null,null,null,{"$f":"Laveur.!G40","v":500}]
[]
[]
[]
[]
[]
[]
[]
[]
[]
[null,null,null,null,null,null,null,null,null," "]

{"sheet":"VAC PUMP","index":92,"n_rows":47,"n_cols":28,"rows_kept":47,"cut":false,"hidden":false,"merged":[[35,29,37,54],[23,27,26,39],[4,17,4,18],[20,17,20,18],[17,17,17,18],[24,17,24,18],[21,17,21,18],[22,17,22,18],[18,17,18,18],[19,17,19,18],[1045,16,1045,21],[1047,0,1047,25],[988,3,989,24],[1014,3,1015,24],[1021,3,1023,24],[1024,3,1027,24],[1028,3,1029,24],[1033,0,1035,25],[965,3,966,24],[854,5,855,11],[864,3,865,24],[869,3,870,24],[871,3,872,24],[876,3,877,24],[879,3,880,24],[937,17,938,24],[956,3,957,24],[958,3,959,24],[960,3,961,24],[962,3,963,24],[802,3,803,24],[606,3,607,24],[619,3,620,24],[637,17,638,24],[655,17,657,24],[680,17,681,24],[693,17,695,24],[697,17,698,24],[712,17,713,24],[749,3,750,24],[768,3,770,24],[790,17,791,24],[569,3,571,24],[458,3,461,24],[466,3,470,24],[473,17,474,24],[476,17,477,24],[481,3,482,24],[483,3,483,24],[484,3,485,24],[515,17,516,24],[556,3,558,24],[561,3,562,24],[566,17,567,24],[456,3,457,24],[373,17,374,24],[378,17,379,24],[383,3,385,24],[386,3,386,24],[390,17,391,24],[413,3,414,24],[429,3,430,24],[431,5,431,24],[432,5,433,24],[435,5,436,24],[437,5,438,24],[371,17,372,24],[244,3,244,24],[245,3,246,24],[298,17,299,24],[317,3,318,24],[326,3,327,24],[336,17,337,24],[343,17,344,24],[346,17,347,24],[350,17,352,24],[356,17,357,24],[369,17,370,24],[242,3,243,24],[1,0,1,25],[26,3,28,24],[29,3,30,24],[53,0,55,25],[65,16,65,21],[67,0,67,25],[102,0,104,27],[176,17,177,24],[226,3,227,24],[233,5,235,24],[236,5,238,24],[11,17,11,18],[12,17,12,18],[7,17,7,18],[6,17,6,18]]}
[]
["Appendix \"VACUUM PUMP\""]
[]
[null,null,"-","Type:",null,null,null,null,null,null,null,null,null,null,null,null,null,"Liquid ring"]
[null,null,"-","Quantity:",null,null,null,null,null,null,null,null,null,null,null,null,null,1,null," per filter"]
[null,null,"-","Material:",null,null,null,null,null,null,null,null,null,null,null,null,null,"Carbon steel & cast-iron"]
[null,null,"-","Delta Pressure:",null,null,null,null,null,null,null,null,null,null,null,null,null,{"$f":"'Spec PAV'!B26","v":-613},null,"mbar rel"]
[null,null,"-","Nominal pressure: ",null,null,null,null,null,null,null,null,null,null,null,null,null,{"$f":"'Spec PAV'!B27","v":400},null,"mbar abs"]
[]
[null,null,null,"Sizing basis"]
[]
[null,null,"-","Gaz temperature:",null,null,null,null,null,null,null,null,null,null,null,null,null,40,null,"°C"]
[null,null,"-","Liquid ring temperature:",null,null,null,null,null,null,null,null,null,null,null,null,null,30,null,"°C"]
[null,null,"-","Elevation: "]
[]
[null,null,null,"Characteristics"]
[]
[null,null,"-","Capacity:",null,null,null,null,null,null,null,null,null,null,null,null,null,{"$f":"Calculations!N11","v":200},null,"m3/h",null,"(TBC)"]
[null,null,"-","Rotary speed:",null,null,null,null,null,null,null,null,null,null,null,null,null,1015,null,"RPM"]
[null,null,"-","Absorbed power:",null,null,null,null,null,null,null,null,null,null,null,null,null,4.8,null,"kW"]
[null,null,"-","Installed power:",null,null,null,null,null,null,null,null,null,null,null,null,null,{"$f":"'Offre NEW'!G49","v":5.5},null,"kW"]
[null,null,"-","Voltage",null,null,null,null,null,null,null,null,null,null,null,null,null,400,null,"V"]
[null,null,"-","Frequency",null,null,null,null,null,null,null,null,null,null,null,null,null,50,null,"Hz"]
[null,null,"-","Liquid ring requirements:",null,null,null,null,null,null,null,null,null,null,null,null,null,"Complete recirculation",null,null,null,null,null,null,null,null,null,"3 options :\n1) no recirculation\n2) Partial recirculation\n3) Complete recirulation - quoting the added value "]
[null,null,"-","Noise level:",null,null,null,null,null,null,null,null,null,null,null,null,null,80,null,"dB(A) at one meter"]
[]
[null,"NOTE: ",null,"Noise measured in open field around pump and with exhaut air flange connected to an exhaust pipe (out of supply) without any reverberation/addition of the pipe or air sound exhaust. "]
[]
[]
[null,null,null,"Injection water must be not corrosive, free solids, not hard water at a normal temperature. If not, the water must be treated."]
[]
[]
[null,null,null,"Accessories"]
[]
[null,null,"-","Inlet seal water piping with instrumentation & valves as per P&ID"]
[null,null,"-","Discharge separator in carbon steel"]
[null,null,"-","Transmission per V-Belt"]
[null,null,"-","Vacuum breaker in stainless steel"]
[null,null,"-","Base plate in SS316L"]
[null,null,"-",{"$f":"\"Electrical motor \"&'[27]Offre NEW'!G49&\" kW\" & \" - IE4\"","v":"Electrical motor 5,5 kW - IE4"}]
[null,null,"-","Exhaust silencer excluded"]
[null,null,"-","Water piping in carbon steel"]
[null,null,"-","Plate Heat Exchanger"]
[null,null,"-","Temperature Indicator + their thermowell"]
[null,null,"-","Recirculating pump with closed coupled motor"]
[]
[null,null,"-","Painting:  according to supplier’s standards"]

{"sheet":"FILTRATE PUMP 1&2&3","index":93,"n_rows":43,"n_cols":15,"rows_kept":43,"cut":false,"hidden":false,"merged":[[963,3,964,24],[793,17,794,24],[805,3,806,24],[857,5,858,11],[867,3,868,24],[872,3,873,24],[874,3,875,24],[879,3,880,24],[882,3,883,24],[940,17,941,24],[959,3,960,24],[961,3,962,24],[1050,0,1050,25],[965,3,966,24],[968,3,969,24],[991,3,992,24],[1017,3,1018,24],[1024,3,1026,24],[1027,3,1030,24],[1031,3,1032,24],[1036,0,1038,25],[1048,16,1048,21],[771,3,773,24],[569,17,570,24],[572,3,574,24],[609,3,610,24],[622,3,623,24],[640,17,641,24],[658,17,660,24],[683,17,684,24],[696,17,698,24],[700,17,701,24],[715,17,716,24],[752,3,753,24],[564,3,565,24],[440,5,441,24],[459,3,460,24],[461,3,464,24],[469,3,473,24],[476,17,477,24],[479,17,480,24],[484,3,485,24],[486,3,486,24],[487,3,488,24],[518,17,519,24],[559,3,561,24],[438,5,439,24],[372,17,373,24],[374,17,375,24],[376,17,377,24],[381,17,382,24],[386,3,388,24],[389,3,389,24],[393,17,394,24],[416,3,417,24],[432,3,433,24],[434,5,434,24],[435,5,436,24],[359,17,360,24],[239,5,241,24],[245,3,246,24],[247,3,247,24],[248,3,249,24],[301,17,302,24],[320,3,321,24],[329,3,330,24],[339,17,340,24],[346,17,347,24],[349,17,350,24],[353,17,355,24],[236,5,238,24],[1,0,1,25],[56,0,58,25],[68,16,68,21],[70,0,70,25],[105,0,107,27],[179,17,180,24],[229,3,230,24],[12,11,12,12],[11,11,11,12],[7,11,7,12],[6,11,6,12],[5,11,5,12]]}
[]
["Appendix \"FILTRATE PUMP 1, 2 & 3\""]
[]
[]
[null,null,null,null,"-","Type:",null,null,null,null,null,"Centrifugal - Krogh Type Pump"]
[null,null,null,null,"-","Quantity",null,null,null,null,null,3]
[null,null,null,null,"-","Capacity",null,null,null,null,null,{"$f":"'Offre NEW'!F43","v":2},null,"m3/h (TBC)"]
[null,null,null,null,"-","H.M.T.:",null,null,null,null,null,30,null,"m (Maximum)"]
[null,null,null,null,"-","N.P.S.H. (required):",null,null,null,null,null,"To be confirmed"]
[null,null,null,null,"-","Material:",null,null,null,null,null,{"$f":"'Offre NEW'!D43","v":"316L"},null,null,"or equivalent"]
[null,null,null,null,"-","Shaft sealing:",null,null,null,null,null,"Standardized Simple Mechanical Seal"]
[null,null,null,null,"-","Absorbed power:",null,null,null,null,null,{"$f":"'Offre NEW'!G43*0.9","v":1.9800000000000002},null,"kW (*)"]
[null,null,null,null,"-","Installed power:",null,null,null,null,null,{"$f":"'Offre NEW'!G43","v":2.2000000000000002},null,"kW (maximum)"]
[null,null,null,null,"-","Weight (with motor):",null,null,null,null,null,"to be given by supplier"]
[]
[null,null,null,null,null,"Accessories : "]
[null,null,null,null,"-","Base for pump and motor"]
[null,null,null,null,"-","Standard electrical motor 2,2kW - 380/400V - 50Hz - 4P - IE4"]
[null,null,null,null,"-","Coupling and guard"]
[null,null,null,null,"-","Painting:  according to supplier’s standards"]
[]
[null,null,null,null,"(*): to be confirmed depending on the final layout of the unit"]
[]
[]
[]
[]
[]
[]
[]
[]
[]
[]
[]
[]
[]
[]
[]
[]
[]
[]
[]
[]
[null,null,null,null,null,null,null,null,null," "]

{"sheet":"FILTRATE PUMP 2","index":94,"n_rows":41,"n_cols":13,"rows_kept":41,"cut":false,"hidden":true,"merged":[[243,3,244,24],[1,0,1,25],[54,0,56,25],[66,16,66,21],[68,0,68,25],[103,0,105,27],[177,17,178,24],[227,3,228,24],[234,5,236,24],[237,5,239,24],[4,9,4,10],[5,9,5,10],[9,9,9,10],[10,9,10,10],[372,17,373,24],[245,3,245,24],[246,3,247,24],[299,17,300,24],[318,3,319,24],[327,3,328,24],[337,17,338,24],[344,17,345,24],[351,17,353,24],[357,17,358,24],[370,17,371,24],[347,17,348,24],[457,3,458,24],[374,17,375,24],[379,17,380,24],[384,3,386,24],[387,3,387,24],[391,17,392,24],[414,3,415,24],[430,3,431,24],[432,5,432,24],[433,5,434,24],[436,5,437,24],[438,5,439,24],[484,3,484,24],[485,3,486,24],[516,17,517,24],[557,3,559,24],[562,3,563,24],[567,17,568,24],[713,17,714,24],[750,3,751,24],[769,3,771,24],[791,17,792,24],[570,3,572,24],[459,3,462,24],[467,3,471,24],[474,17,475,24],[477,17,478,24],[482,3,483,24],[803,3,804,24],[607,3,608,24],[620,3,621,24],[638,17,639,24],[656,17,658,24],[681,17,682,24],[694,17,696,24],[698,17,699,24],[966,3,967,24],[855,5,856,11],[865,3,866,24],[870,3,871,24],[872,3,873,24],[877,3,878,24],[880,3,881,24],[938,17,939,24],[957,3,958,24],[959,3,960,24],[961,3,962,24],[963,3,964,24],[1046,16,1046,21],[1048,0,1048,25],[989,3,990,24],[1015,3,1016,24],[1022,3,1024,24],[1025,3,1028,24],[1029,3,1030,24],[1034,0,1036,25]]}
[]
["Appendix \"FILTRATE PUMP\""]
[]
[null,null,"-","Type:",null,null,null,null,null,"Centrifugal"]
[null,null,"-","Capacity",null,null,null,null,null,{"$f":"'Offre NEW'!F44","v":2},null,"m3/h"]
[null,null,"-","H.M.T.:",null,null,null,null,null,30,null,"m (Maximum)"]
[null,null,"-","N.P.S.H. (required):",null,null,null,null,null,"To be confirmed"]
[null,null,"-","Material:",null,null,null,null,null,{"$f":"'Offre NEW'!D44","v":"316L"},null,null,"or equivalent"]
[null,null,"-","Shaft sealing:",null,null,null,null,null,"Standardized Simple Mechanical Seal"]
[null,null,"-","Absorbed power:",null,null,null,null,null,{"$f":"'Offre NEW'!G44*0.9","v":1.9800000000000002},null,"kW (*)"]
[null,null,"-","Installed power:",null,null,null,null,null,{"$f":"'Offre NEW'!G44","v":2.2000000000000002},null,"kW (maximum)"]
[null,null,"-","Weight (with motor):",null,null,null,null,null,"to be given by supplier"]
[]
[null,null,null,"Accessories : "]
[null,null,"-","Base for pump and motor."]
[null,null,"-","standard electrical motor"]
[null,null,"-","Coupling and guard"]
[null,null,"-","Painting:  according to supplier’s standards."]
[]
[null,null,"(*): to be confirmed depending on the final layout of the unit"]
[]
[]
[]
[]
[]
[]
[]
[]
[]
[]
[]
[]
[]
[]
[]
[]
[]
[]
[]
[]
[null,null,null,null,null,null,null,null,null," "]

{"sheet":"FILTRATE PUMP 3","index":95,"n_rows":41,"n_cols":13,"rows_kept":41,"cut":false,"hidden":true,"merged":[[1029,3,1030,24],[1034,0,1036,25],[1046,16,1046,21],[1048,0,1048,25],[963,3,964,24],[966,3,967,24],[989,3,990,24],[1015,3,1016,24],[1022,3,1024,24],[1025,3,1028,24],[961,3,962,24],[791,17,792,24],[803,3,804,24],[855,5,856,11],[865,3,866,24],[870,3,871,24],[872,3,873,24],[877,3,878,24],[880,3,881,24],[938,17,939,24],[957,3,958,24],[959,3,960,24],[769,3,771,24],[567,17,568,24],[570,3,572,24],[607,3,608,24],[620,3,621,24],[638,17,639,24],[656,17,658,24],[681,17,682,24],[694,17,696,24],[698,17,699,24],[713,17,714,24],[750,3,751,24],[562,3,563,24],[438,5,439,24],[457,3,458,24],[459,3,462,24],[467,3,471,24],[474,17,475,24],[477,17,478,24],[482,3,483,24],[484,3,484,24],[485,3,486,24],[516,17,517,24],[557,3,559,24],[436,5,437,24],[370,17,371,24],[372,17,373,24],[374,17,375,24],[379,17,380,24],[384,3,386,24],[387,3,387,24],[391,17,392,24],[414,3,415,24],[430,3,431,24],[432,5,432,24],[433,5,434,24],[357,17,358,24],[237,5,239,24],[243,3,244,24],[245,3,245,24],[246,3,247,24],[299,17,300,24],[318,3,319,24],[327,3,328,24],[337,17,338,24],[344,17,345,24],[347,17,348,24],[351,17,353,24],[234,5,236,24],[1,0,1,25],[4,9,4,10],[5,9,5,10],[9,9,9,10],[10,9,10,10],[54,0,56,25],[66,16,66,21],[68,0,68,25],[103,0,105,27],[177,17,178,24],[227,3,228,24]]}
[]
["Appendix \"FILTRATE PUMP\""]
[]
[null,null,"-","Type:",null,null,null,null,null,"Centrifugal"]
[null,null,"-","Capacity",null,null,null,null,null,{"$f":"'Offre NEW'!F45","v":2},null,"m3/h"]
[null,null,"-","H.M.T.:",null,null,null,null,null,30,null,"m (Maximum)"]
[null,null,"-","N.P.S.H. (required):",null,null,null,null,null,"To be confirmed"]
[null,null,"-","Material:",null,null,null,null,null,{"$f":"'Offre NEW'!D45","v":"316L"},null,null,"or equivalent"]
[null,null,"-","Shaft sealing:",null,null,null,null,null,"Standardized Simple Mechanical Seal"]
[null,null,"-","Absorbed power:",null,null,null,null,null,{"$f":"'Offre NEW'!G45*0.9","v":1.9800000000000002},null,"kW (*)"]
[null,null,"-","Installed power:",null,null,null,null,null,{"$f":"'Offre NEW'!G45","v":2.2000000000000002},null,"kW (maximum)"]
[null,null,"-","Weight (with motor):",null,null,null,null,null,"to be given by supplier"]
[]
[null,null,null,"Accessories : "]
[null,null,"-","Base for pump and motor."]
[null,null,"-","standard electrical motor"]
[null,null,"-","Coupling and guard"]
[null,null,"-","Painting:  according to supplier’s standards."]
[]
[null,null,"(*): to be confirmed depending on the final layout of the unit"]
[]
[]
[]
[]
[]
[]
[]
[]
[]
[]
[]
[]
[]
[]
[]
[]
[]
[]
[]
[]
[null,null,null,null,null,null,null,null,null," "]

{"sheet":"FILTRATE PUMP 4","index":96,"n_rows":41,"n_cols":13,"rows_kept":41,"cut":false,"hidden":true,"merged":[[1029,3,1030,24],[1034,0,1036,25],[1046,16,1046,21],[1048,0,1048,25],[963,3,964,24],[966,3,967,24],[989,3,990,24],[1015,3,1016,24],[1022,3,1024,24],[1025,3,1028,24],[961,3,962,24],[791,17,792,24],[803,3,804,24],[855,5,856,11],[865,3,866,24],[870,3,871,24],[872,3,873,24],[877,3,878,24],[880,3,881,24],[938,17,939,24],[957,3,958,24],[959,3,960,24],[769,3,771,24],[567,17,568,24],[570,3,572,24],[607,3,608,24],[620,3,621,24],[638,17,639,24],[656,17,658,24],[681,17,682,24],[694,17,696,24],[698,17,699,24],[713,17,714,24],[750,3,751,24],[562,3,563,24],[438,5,439,24],[457,3,458,24],[459,3,462,24],[467,3,471,24],[474,17,475,24],[477,17,478,24],[482,3,483,24],[484,3,484,24],[485,3,486,24],[516,17,517,24],[557,3,559,24],[436,5,437,24],[370,17,371,24],[372,17,373,24],[374,17,375,24],[379,17,380,24],[384,3,386,24],[387,3,387,24],[391,17,392,24],[414,3,415,24],[430,3,431,24],[432,5,432,24],[433,5,434,24],[357,17,358,24],[237,5,239,24],[243,3,244,24],[245,3,245,24],[246,3,247,24],[299,17,300,24],[318,3,319,24],[327,3,328,24],[337,17,338,24],[344,17,345,24],[347,17,348,24],[351,17,353,24],[234,5,236,24],[1,0,1,25],[4,9,4,10],[5,9,5,10],[9,9,9,10],[10,9,10,10],[54,0,56,25],[66,16,66,21],[68,0,68,25],[103,0,105,27],[177,17,178,24],[227,3,228,24]]}
[]
["Appendix \"FILTRATE PUMP\""]
[]
[null,null,"-","Type:",null,null,null,null,null,"Centrifugal"]
[null,null,"-","Capacity",null,null,null,null,null,{"$f":"'Offre NEW'!F46","v":35},null,"m3/h"]
[null,null,"-","H.M.T.:",null,null,null,null,null,30,null,"m (Maximum)"]
[null,null,"-","N.P.S.H. (required):",null,null,null,null,null,"To be confirmed"]
[null,null,"-","Material:",null,null,null,null,null,{"$f":"'Offre NEW'!D46","v":"CD4Mcu"},null,null,"or equivalent"]
[null,null,"-","Shaft sealing:",null,null,null,null,null,"Standardized Simple Mechanical Seal"]
[null,null,"-","Absorbed power:",null,null,null,null,null,{"$f":"'Offre NEW'!G46*0.9","v":4.95},null,"kW (*)"]
[null,null,"-","Installed power:",null,null,null,null,null,{"$f":"'Offre NEW'!G46","v":5.5},null,"kW (maximum)"]
[null,null,"-","Weight (with motor):",null,null,null,null,null,"to be given by supplier"]
[]
[null,null,null,"Accessories : "]
[null,null,"-","Base for pump and motor."]
[null,null,"-","standard electrical motor"]
[null,null,"-","Coupling and guard"]
[null,null,"-","Painting:  according to supplier’s standards."]
[]
[null,null,"(*): to be confirmed depending on the final layout of the unit"]
[]
[]
[]
[]
[]
[]
[]
[]
[]
[]
[]
[]
[]
[]
[]
[]
[]
[]
[]
[]
[null,null,null,null,null,null,null,null,null," "]

{"sheet":"C&B WASH TANK & PUMP","index":97,"n_rows":65,"n_cols":13,"rows_kept":65,"cut":false,"hidden":true,"merged":[[1072,0,1072,25],[983,3,984,24],[985,3,986,24],[987,3,988,24],[990,3,991,24],[1013,3,1014,24],[1039,3,1040,24],[1046,3,1048,24],[1049,3,1052,24],[1053,3,1054,24],[1058,0,1060,25],[1070,16,1070,21],[981,3,982,24],[774,3,775,24],[793,3,795,24],[815,17,816,24],[827,3,828,24],[879,5,880,11],[889,3,890,24],[894,3,895,24],[896,3,897,24],[901,3,902,24],[904,3,905,24],[962,17,963,24],[737,17,738,24],[581,3,583,24],[586,3,587,24],[591,17,592,24],[594,3,596,24],[631,3,632,24],[644,3,645,24],[662,17,663,24],[680,17,682,24],[705,17,706,24],[718,17,720,24],[722,17,723,24],[540,17,541,24],[457,5,458,24],[460,5,461,24],[462,5,463,24],[481,3,482,24],[483,3,486,24],[491,3,495,24],[498,17,499,24],[501,17,502,24],[506,3,507,24],[508,3,508,24],[509,3,510,24],[456,5,456,24],[375,17,377,24],[381,17,382,24],[394,17,395,24],[396,17,397,24],[398,17,399,24],[403,17,404,24],[408,3,410,24],[411,3,411,24],[415,17,416,24],[438,3,439,24],[454,3,455,24],[371,17,372,24],[251,3,252,24],[258,5,260,24],[261,5,263,24],[267,3,268,24],[269,3,269,24],[270,3,271,24],[323,17,324,24],[342,3,343,24],[351,3,352,24],[361,17,362,24],[368,17,369,24],[201,17,202,24],[1,0,1,25],[78,0,80,25],[90,16,90,21],[92,0,92,25],[127,0,129,27],[8,9,8,10],[9,9,9,10],[13,9,13,10],[14,9,14,10]]}
[]
["Appendix \"CLOTH AND BELT WASHING TANK & PUMP\""]
[]
[]
[]
[null,null,"LIQUID RING RECIRCULATIN PUMP"]
[]
[null,null,"-","Type:",null,null,null,null,null,"Centrifugal"]
[null,null,"-","Capacity",null,null,null,null,null,{"$f":"'Offre NEW'!F48","v":20},null,"m3/h"]
[null,null,"-","H.M.T.:",null,null,null,null,null,30,null,"m (Maximum)"]
[null,null,"-","N.P.S.H. (required):",null,null,null,null,null,"To be confirmed"]
[null,null,"-","Material:",null,null,null,null,null,{"$f":"'Offre NEW'!D48","v":"316L"},null,null,"or equivalent"]
[null,null,"-","Shaft sealing:",null,null,null,null,null,"Standardized Simple Mechanical Seal"]
[null,null,"-","Absorbed power:",null,null,null,null,null,{"$f":"J15*0.9","v":4.95},null,"kW (*)"]
[null,null,"-","Installed power:",null,null,null,null,null,{"$f":"'Offre NEW'!G48","v":5.5},null,"kW (maximum)"]
[null,null,"-","Weight (with motor):",null,null,null,null,null,"to be given by supplier"]
[]
[null,null,null,"Accessories : "]
[null,null,"-","Base for pump and motor."]
[null,null,"-","standard electrical motor"]
[null,null,"-","Coupling and guard"]
[null,null,"-","Painting:  according to Hasler' standard"]
[]
[null,null,"(*): to be confirmed depending on the final layout of the unit"]
[]
[]
[]
[null,null,"LIQUID RING RECIRCULATIN TANK"]
[]
[null,null,"-","Qty:",null,null,null,1]
[null,null,"-","Type:",null,null,null,"Cylindrical"]
[null,null,"-","Capacity:",null,null,null,"1m3 (TBC)"]
[null,null,"-","Material: ",null,null,null,"Polypropylene high-density"]
[null,null,"-","Level detector:",null,null,null,"(Qty 1) Ultrasonic level transmitter"]
[]
[]
[]
[]
[]
[]
[]
[]
[]
[]
[]
[]
[]
[]
[]
[]
[]
[]
[]
[]
[]
[]
[]
[]
[]
[]
[]
[]
[]
[]
[null,null,null,null,null,null,null,null,null," "]

{"sheet":"CAKE WASH TANK","index":98,"n_rows":41,"n_cols":10,"rows_kept":41,"cut":false,"hidden":true,"merged":[[1048,0,1048,25],[959,3,960,24],[961,3,962,24],[963,3,964,24],[966,3,967,24],[989,3,990,24],[1015,3,1016,24],[1022,3,1024,24],[1025,3,1028,24],[1029,3,1030,24],[1034,0,1036,25],[1046,16,1046,21],[957,3,958,24],[750,3,751,24],[769,3,771,24],[791,17,792,24],[803,3,804,24],[855,5,856,11],[865,3,866,24],[870,3,871,24],[872,3,873,24],[877,3,878,24],[880,3,881,24],[938,17,939,24],[713,17,714,24],[557,3,559,24],[562,3,563,24],[567,17,568,24],[570,3,572,24],[607,3,608,24],[620,3,621,24],[638,17,639,24],[656,17,658,24],[681,17,682,24],[694,17,696,24],[698,17,699,24],[516,17,517,24],[433,5,434,24],[436,5,437,24],[438,5,439,24],[457,3,458,24],[459,3,462,24],[467,3,471,24],[474,17,475,24],[477,17,478,24],[482,3,483,24],[484,3,484,24],[485,3,486,24],[432,5,432,24],[351,17,353,24],[357,17,358,24],[370,17,371,24],[372,17,373,24],[374,17,375,24],[379,17,380,24],[384,3,386,24],[387,3,387,24],[391,17,392,24],[414,3,415,24],[430,3,431,24],[347,17,348,24],[227,3,228,24],[234,5,236,24],[237,5,239,24],[243,3,244,24],[245,3,245,24],[246,3,247,24],[299,17,300,24],[318,3,319,24],[327,3,328,24],[337,17,338,24],[344,17,345,24],[177,17,178,24],[1,0,1,25],[54,0,56,25],[66,16,66,21],[68,0,68,25],[103,0,105,27]]}
[]
["Appendix \"CAKE WASHING TANK\""]
[]
[null,null,"-","Qty:",null,null,null,null,"1 per filter"]
[null,null,"-","Type:",null,null,null,null,"conical"]
[null,null,"-","Capacity:",null,null,null,null,"1m3 (TBC)"]
[null,null,"-","Diameter:",null,null,null,null,"1000 mm (TBC)"]
[null,null,"-","Height:",null,null,null,null,"Later"]
[null,null,"-","Material: ",null,null,null,null,"Polypropylene high -density"]
[null,null,"-","Level detector:",null,null,null,null,"(Qty 1) Ultrasonic level transmitter"]
[]
[]
[]
[]
[]
[]
[]
[]
[]
[]
[]
[]
[]
[]
[]
[]
[]
[]
[]
[]
[]
[]
[]
[]
[]
[]
[]
[]
[]
[]
[null,null,null,null,null,null,null,null,null," "]

{"sheet":"HIGH PRESSURE RAMP","index":99,"n_rows":44,"n_cols":10,"rows_kept":44,"cut":false,"hidden":true,"merged":[[1049,16,1049,21],[1051,0,1051,25],[992,3,993,24],[1018,3,1019,24],[1025,3,1027,24],[1028,3,1031,24],[1032,3,1033,24],[1037,0,1039,25],[969,3,970,24],[858,5,859,11],[868,3,869,24],[873,3,874,24],[875,3,876,24],[880,3,881,24],[883,3,884,24],[941,17,942,24],[960,3,961,24],[962,3,963,24],[964,3,965,24],[966,3,967,24],[806,3,807,24],[610,3,611,24],[623,3,624,24],[641,17,642,24],[659,17,661,24],[684,17,685,24],[697,17,699,24],[701,17,702,24],[716,17,717,24],[753,3,754,24],[772,3,774,24],[794,17,795,24],[573,3,575,24],[462,3,465,24],[470,3,474,24],[477,17,478,24],[480,17,481,24],[485,3,486,24],[487,3,487,24],[488,3,489,24],[519,17,520,24],[560,3,562,24],[565,3,566,24],[570,17,571,24],[460,3,461,24],[377,17,378,24],[382,17,383,24],[387,3,389,24],[390,3,390,24],[394,17,395,24],[417,3,418,24],[433,3,434,24],[435,5,435,24],[436,5,437,24],[439,5,440,24],[441,5,442,24],[375,17,376,24],[248,3,248,24],[249,3,250,24],[302,17,303,24],[321,3,322,24],[330,3,331,24],[340,17,341,24],[347,17,348,24],[350,17,351,24],[354,17,356,24],[360,17,361,24],[373,17,374,24],[246,3,247,24],[1,0,1,25],[5,2,6,24],[16,2,17,24],[43,1,43,24],[69,16,69,21],[71,0,71,25],[106,0,108,27],[180,17,181,24],[230,3,231,24],[237,5,239,24],[240,5,242,24],[2,9,3,16]]}
[]
["Appendix \"HIGH PRESSURE RAMP\""]
[null,null,null,null,null,null,null,null,null,"OPTION"]
[]
[]
[null,null,"One high pressure ramp constituted with an articulated frame driven by a moto-reducer, supporting the washing ramp provided with spray nozzles made of hardened stainless steel."]
[]
[]
[null,null,"The ramp has a reciprocating motion."]
[]
[null,null,"-","Installed power: 0,18 kW (TBC) for reciprocating ramp motor"]
[null,null,"-","Flow rate: 12 L/min (TBC)"]
[null,null,"-","Working pressure: 100 bar"]
[]
[null,null,"Connection accessories: HP flexibles and hose-couplings"]
[]
[null,null,"Nota: Injection water must be not corrosive, free solids (< 90 µm) and not furring. Hardness not more 10° THF. If not the water must be treated."]
[]
[]
[]
[null,null,"• One high pressure pump with electrical motor: "]
[]
[null,null,null,null,"o Nominal Power: 3 kW (TBC)"]
[null,null,null,null,"o Tension: According CARESTER’s requirements"]
[null,null,null,null,"o Frequency: 50 Hz"]
[]
[null,null,null,null,"o Requested flow rate: 12 L/min at 100 bar"]
[null,null,null,null,"o Water pressure at inlet: 1 to 3 bar"]
[]
[null,null,null,"MOC: "]
[null,null,null,"-","Frame: Painted Steel"]
[null,null,null,"-","Pump head: 304L"]
[null,null,null,"-","Pistons: Ceramic"]
[null,null,null,"-","Seals: NBR"]
[]
[null,null,null,"Accessories:"]
[null,null,null,null,"o   One manometer in 304L"]
[null,null,null,null,"o   Pressure regulator in 304L"]
[null,null,null,null,"o   One anti-pulsating bottle"]
[]
[]
[null,null,null,"Coupling with pulley-belt guard."]
[]
[null,"Piping between High Pressure Pump & High Pressure Ramp, Electrical Cabinet EXCLUDED"]

{"sheet":"SPLASH PROTECTION","index":100,"n_rows":42,"n_cols":10,"rows_kept":42,"cut":false,"hidden":false,"merged":[[1026,3,1029,24],[1030,3,1031,24],[1035,0,1037,25],[1047,16,1047,21],[1049,0,1049,25],[792,17,793,24],[804,3,805,24],[856,5,857,11],[866,3,867,24],[751,3,752,24],[682,17,683,24],[695,17,697,24],[699,17,700,24],[714,17,715,24],[770,3,772,24],[608,3,609,24],[621,3,622,24],[990,3,991,24],[1016,3,1017,24],[1023,3,1025,24],[873,3,874,24],[878,3,879,24],[881,3,882,24],[939,17,940,24],[958,3,959,24],[960,3,961,24],[962,3,963,24],[964,3,965,24],[967,3,968,24],[871,3,872,24],[657,17,659,24],[639,17,640,24],[558,3,560,24],[437,5,438,24],[439,5,440,24],[458,3,459,24],[460,3,463,24],[468,3,472,24],[475,17,476,24],[478,17,479,24],[483,3,484,24],[485,3,485,24],[486,3,487,24],[517,17,518,24],[563,3,564,24],[568,17,569,24],[571,3,573,24],[434,5,435,24],[358,17,359,24],[371,17,372,24],[373,17,374,24],[375,17,376,24],[380,17,381,24],[385,3,387,24],[388,3,388,24],[392,17,393,24],[415,3,416,24],[431,3,432,24],[433,5,433,24],[352,17,354,24],[235,5,237,24],[238,5,240,24],[244,3,245,24],[246,3,246,24],[247,3,248,24],[300,17,301,24],[319,3,320,24],[328,3,329,24],[338,17,339,24],[345,17,346,24],[348,17,349,24],[228,3,229,24],[1,0,1,25],[55,0,57,25],[67,16,67,21],[69,0,69,25],[104,0,106,27],[178,17,179,24],[4,2,6,22],[8,2,10,22]]}
[]
["Appendix \"SPLASH PROTECTION SYSTEM\""]
[]
[]
[null,null,"For the belt filter to operate at optimum efficiency, the cloth and belt must be washed before each new filtration cycle. A hooded washing system at the end of the filter performs this task. "]
[]
[]
[]
[null,null,"However, when the belt and cloth are returned, they will drip down the length of the filter (generating water splashes). We therefore propose the following system to ensure a clean and healthy working environment."]
[]
[]
[]
[null,null,"Splash protection system includes :"]
[]
[null,null,"-","Plates made from eco-designed materials (which wil be fixed to the lower protection grid)"]
[null,null,"-","All the fasteners required"]
[]
[]
[]
[]
[]
[]
[]
[]
[]
[]
[]
[]
[]
[]
[]
[]
[]
[]
[]
[]
[]
[]
[]
[]
[]
[null,null,null,null,null,null,null,null,null," "]

{"sheet":"Cake pressure roller","index":101,"n_rows":186,"n_cols":18,"rows_kept":186,"cut":false,"hidden":true,"merged":[[1043,0,1043,25],[954,3,955,24],[956,3,957,24],[958,3,959,24],[961,3,962,24],[984,3,985,24],[1010,3,1011,24],[1017,3,1019,24],[1020,3,1023,24],[1024,3,1025,24],[1029,0,1031,25],[1041,16,1041,21],[952,3,953,24],[745,3,746,24],[764,3,766,24],[786,17,787,24],[798,3,799,24],[850,5,851,11],[860,3,861,24],[865,3,866,24],[867,3,868,24],[872,3,873,24],[875,3,876,24],[933,17,934,24],[708,17,709,24],[552,3,554,24],[557,3,558,24],[562,17,563,24],[565,3,567,24],[602,3,603,24],[615,3,616,24],[633,17,634,24],[651,17,653,24],[676,17,677,24],[689,17,691,24],[693,17,694,24],[511,17,512,24],[428,5,429,24],[431,5,432,24],[433,5,434,24],[452,3,453,24],[454,3,457,24],[462,3,466,24],[469,17,470,24],[472,17,473,24],[477,3,478,24],[479,3,479,24],[480,3,481,24],[427,5,427,24],[346,17,348,24],[352,17,353,24],[365,17,366,24],[367,17,368,24],[369,17,370,24],[374,17,375,24],[379,3,381,24],[382,3,382,24],[386,17,387,24],[409,3,410,24],[425,3,426,24],[342,17,343,24],[222,3,223,24],[229,5,231,24],[232,5,234,24],[238,3,239,24],[240,3,240,24],[241,3,242,24],[294,17,295,24],[313,3,314,24],[322,3,323,24],[332,17,333,24],[339,17,340,24],[172,17,173,24],[1,0,1,25],[49,0,51,25],[61,16,61,21],[63,0,63,25],[98,0,100,27]]}
[]
["Appendix \"CAKE PRESSURE ROLLER\""]
[]
[]
[]
[]
[]
[]
[]
[]
[]
[]
[]
[]
[]
[]
[]
[]
[]
[null,null,"Cake Pressure roller system includes :"]
[]
[null,null,"-","Pressure roller",null,null,null,null,null,null,null,null,null,null,null,null,null,"Carbon steel with PVC lining"]
[null,null,"-","Motor and drive ",null,null,null,null,null,null,null,null,null,null,null,null,null,"1,5 kW (TBC) "]
[null,null,"-","Support frame",null,null,null,null,null,null,null,null,null,null,null,null,null,"304L"]
[null,null,"-","Pneumatic box",null,null,null,null,null,null,null,null,null,null,null,null,null,{"$f":"[25]Calculations!K44&\" mm\"","v":"100 mm"}]
[]
[]
[]
[]
[]
[]
[]
[]
[]
[]
[]
[]
[]
[]
[]
[]
[]
[]
[]
[]
[]
[]
[]
[]
[]
[]
[]
[]
[]
[]
[]
[]
[]
[]
[]
[]
[]
[]
[]
[]
[]
[]
[]
[]
[]
[]
[]
[]
[]
[]
[]
[]
[]
[]
[]
[]
[]
[]
[]
[]
[]
[]
[]
[]
[]
[]
[]
[]
[]
[]
[]
[]
[]
[]
[]
[]
[]
[]
[]
[]
[]
[]
[]
[]
[]
[]
[]
[]
[]
[]
[]
[]
[]
[]
[]
[]
[]
[]
[]
[]
[]
[]
[]
[]
[]
[]
[]
[]
[]
[]
[]
[]
[]
[]
[]
[]
[]
[]
[]
[]
[]
[]
[]
[]
[]
[]
[]
[]
[]
[]
[]
[]
[]
[]
[]
[]
[]
[]
[]
[]
[]
[]
[]
[]
[]
[]
[]
[]
[]
[]
[]
[]
[]
[]
[]
[]
[]
[]
[]
[]
[null,null,"Energy consumption : cake mositure a key parameter\nWe understand that after the filter, the cake is dried using a rotary kiln. This means that cake moisture is a key parameter in your filtration process. We suggested as an option to add our cake pressure system that will help reduce the water content by pressing it out of the cake. The pressure roller system will mechanically apply a 3 bar pressure on the cake in the drying zone."]

{"sheet":"Cloth acid wash","index":102,"n_rows":186,"n_cols":5,"rows_kept":186,"cut":false,"hidden":true,"merged":[[1043,0,1043,25],[954,3,955,24],[956,3,957,24],[958,3,959,24],[961,3,962,24],[984,3,985,24],[1010,3,1011,24],[1017,3,1019,24],[1020,3,1023,24],[1024,3,1025,24],[1029,0,1031,25],[1041,16,1041,21],[952,3,953,24],[745,3,746,24],[764,3,766,24],[786,17,787,24],[798,3,799,24],[850,5,851,11],[860,3,861,24],[865,3,866,24],[867,3,868,24],[872,3,873,24],[875,3,876,24],[933,17,934,24],[708,17,709,24],[552,3,554,24],[557,3,558,24],[562,17,563,24],[565,3,567,24],[602,3,603,24],[615,3,616,24],[633,17,634,24],[651,17,653,24],[676,17,677,24],[689,17,691,24],[693,17,694,24],[511,17,512,24],[428,5,429,24],[431,5,432,24],[433,5,434,24],[452,3,453,24],[454,3,457,24],[462,3,466,24],[469,17,470,24],[472,17,473,24],[477,3,478,24],[479,3,479,24],[480,3,481,24],[427,5,427,24],[346,17,348,24],[352,17,353,24],[365,17,366,24],[367,17,368,24],[369,17,370,24],[374,17,375,24],[379,3,381,24],[382,3,382,24],[386,17,387,24],[409,3,410,24],[425,3,426,24],[342,17,343,24],[222,3,223,24],[229,5,231,24],[232,5,234,24],[238,3,239,24],[240,3,240,24],[241,3,242,24],[294,17,295,24],[313,3,314,24],[322,3,323,24],[332,17,333,24],[339,17,340,24],[172,17,173,24],[1,0,1,25],[49,0,51,25],[61,16,61,21],[63,0,63,25],[98,0,100,27]]}
[]
["Appendix \"CLOTH ACID WASH\""]
[]
[]
[null,null,"Cloth acid wash system includes :"]
[]
[null,null,"•","One acid cloth washing tank device including:"]
[]
[null,null,null,"- ","Inlet, outlet and overflow connections"]
[null,null,null,"- ","One cover made of polypropylene"]
[null,null,null,"- ","One cloth roller made of carbon steel rubber lined"]
[]
[]
[null,null,"•","One cloth rinsing system consisting of:"]
[]
[null,null,null,"- ","One Wash pipe made of AISI 316L"]
[null,null,null,"- ","Set of Spray nozzles made of PVDF"]
[null,null,null,"- ","One Wash collection trough with outlet flange made of Polypropylene"]
[null,null,null,"- ","Anti-splash protection"]
[]
[]
[]
[]
[]
[]
[]
[]
[]
[]
[]
[]
[]
[]
[]
[]
[]
[]
[]
[]
[]
[]
[]
[]
[]
[]
[]
[]
[]
[]
[]
[]
[]
[]
[]
[]
[]
[]
[]
[]
[]
[]
[]
[]
[]
[]
[]
[]
[]
[]
[]
[]
[]
[]
[]
[]
[]
[]
[]
[]
[]
[]
[]
[]
[]
[]
[]
[]
[]
[]
[]
[]
[]
[]
[]
[]
[]
[]
[]
[]
[]
[]
[]
[]
[]
[]
[]
[]
[]
[]
[]
[]
[]
[]
[]
[]
[]
[]
[]
[]
[]
[]
[]
[]
[]
[]
[]
[]
[]
[]
[]
[]
[]
[]
[]
[]
[]
[]
[]
[]
[]
[]
[]
[]
[]
[]
[]
[]
[]
[]
[]
[]
[]
[]
[]
[]
[]
[]
[]
[]
[]
[]
[]
[]
[]
[]
[]
[]
[]
[]
[]
[]
[]
[]
[]
[]
[]
[]
[]
[]
[]
[]
[]
[]
[]
[]
[null,null,"Energy consumption : cake mositure a key parameter\nWe understand that after the filter, the cake is dried using a rotary kiln. This means that cake moisture is a key parameter in your filtration process. We suggested as an option to add our cake pressure system that will help reduce the water content by pressing it out of the cake. The pressure roller system will mechanically apply a 3 bar pressure on the cake in the drying zone."]

{"sheet":"LCP","index":103,"n_rows":43,"n_cols":18,"rows_kept":43,"cut":false,"hidden":true,"merged":[[1047,0,1047,25],[958,3,959,24],[960,3,961,24],[962,3,963,24],[965,3,966,24],[988,3,989,24],[1014,3,1015,24],[1021,3,1023,24],[1024,3,1027,24],[1028,3,1029,24],[1033,0,1035,25],[1045,16,1045,21],[956,3,957,24],[749,3,750,24],[768,3,770,24],[790,17,791,24],[802,3,803,24],[854,5,855,11],[864,3,865,24],[869,3,870,24],[871,3,872,24],[876,3,877,24],[879,3,880,24],[937,17,938,24],[712,17,713,24],[556,3,558,24],[561,3,562,24],[566,17,567,24],[569,3,571,24],[606,3,607,24],[619,3,620,24],[637,17,638,24],[655,17,657,24],[680,17,681,24],[693,17,695,24],[697,17,698,24],[515,17,516,24],[432,5,433,24],[435,5,436,24],[437,5,438,24],[456,3,457,24],[458,3,461,24],[466,3,470,24],[473,17,474,24],[476,17,477,24],[481,3,482,24],[483,3,483,24],[484,3,485,24],[431,5,431,24],[350,17,352,24],[356,17,357,24],[369,17,370,24],[371,17,372,24],[373,17,374,24],[378,17,379,24],[383,3,385,24],[386,3,386,24],[390,17,391,24],[413,3,414,24],[429,3,430,24],[346,17,347,24],[226,3,227,24],[233,5,235,24],[236,5,238,24],[242,3,243,24],[244,3,244,24],[245,3,246,24],[298,17,299,24],[317,3,318,24],[326,3,327,24],[336,17,337,24],[343,17,344,24],[176,17,177,24],[1,0,1,25],[3,3,6,24],[23,3,24,24],[26,3,29,24],[37,3,38,24],[39,3,41,24],[34,3,35,24],[42,3,42,24],[53,0,55,25],[65,16,65,21],[67,0,67,25],[102,0,104,27]]}
[]
["Appendix \"LOCAL CONTROL PANEL\""]
[]
[null,null,null,"The LCP allows to start, stop the belt drive motor and to adjust the belt speed close to the filtration unit. It will be glass fiber reinforced polyester enclosure IP 66 Nema 4X (wall mounting) and will be installed on site by the customer close to the belt filter on the gangway. The area classification is non-hazardous (NFPA 70 Nec articles 500 npt applicable).\n"]
[]
[]
[]
[]
[null,null,null,"FRONT DOOR PARTS"]
[null,null,"-","1 belt drive motor START push button"]
[null,null,"-","1 belt drive motor STOP push button"]
[null,null,"-","1 belt drive motor FASTER push button"]
[null,null,"-","1 belt drive motor SLOWER push button"]
[null,null,"-","1 SPDT of each free of voltage to the customer PLC/DCS inputs"]
[null,null,"-","1 belt filter SPEED indicator"]
[null,null,null,null,"•","Input signal:",null,null,null,null,null,null,null,null,null,null,null,"4  to 20mA DC from VFD"]
[null,null,null,null,"•","Voltage supply:",null,null,null,null,null,null,null,null,null,null,null,"110 Vac - 50 Hz"]
[null,null,"- ","1 Start horn"]
[null,null,"- ","1 LCP process tag number engraved legend plate"]
[]
[null,null,null,"INTERNAL PARTS"]
[null,null,"-","1 CLOTH CHANGE key operated handswitch selector"]
[]
[null,"NOTE: ",null,"Use of this switch is allowed only in maintenance mode and local mode and at fixed minimum belt drive speed. Use reserved only for authorized personnel."]
[]
[]
[null,null,"-","1 TERMINAL BLOCK SET allowing the LCP internal components wiring connections (by HASLER GROUP) of the hereabove signals and the external wiring connections (by the customer) between the LCP and the customer PLC/DCS inputs/outputs. The analog signals will be separated from the digital signals."]
[]
[]
[]
[null,null,"-","1 GROUNDING copper bar"]
[null,null,"-","1 INVERTER as described in the technical offer"]
[]
[null,null,null,"Internal wiring will be laid within PVC wiring ducts."]
[null,null,null,"Wiring and parts labelling will be in accordance with the electrical scheme identification numbers."]
[]
[null,null,null,"LIMIT OF SUPPLY"]
[null,null,null,"Security and functioning of the equipment controlled by the customer's PLC/DCS according to the logic diagrams supplied by HASLER GROUP. Software programming works by the customer."]
[]
[null,null,null,"All the control and instrumentation cables and conduits between the LCP and the external parts not wired in the HASLER GROUP's workshop will be supplied and installed on site by the customer."]
[]
[]
[null,null,null,"Cable glands fitting (or conduit fitting) for the customer cables supplied and installed on site."]

{"sheet":"LCP 3","index":104,"n_rows":231,"n_cols":19,"rows_kept":231,"cut":false,"hidden":true,"merged":[[1033,3,1034,24],[1038,0,1040,25],[1050,16,1050,21],[1052,0,1052,25],[967,3,968,24],[970,3,971,24],[993,3,994,24],[1019,3,1020,24],[1026,3,1028,24],[1029,3,1032,24],[881,3,882,24],[884,3,885,24],[942,17,943,24],[961,3,962,24],[963,3,964,24],[965,3,966,24],[795,17,796,24],[807,3,808,24],[859,5,860,11],[869,3,870,24],[874,3,875,24],[876,3,877,24],[685,17,686,24],[698,17,700,24],[702,17,703,24],[717,17,718,24],[754,3,755,24],[773,3,775,24],[571,17,572,24],[574,3,576,24],[611,3,612,24],[624,3,625,24],[642,17,643,24],[660,17,662,24],[486,3,487,24],[488,3,488,24],[489,3,490,24],[520,17,521,24],[561,3,563,24],[566,3,567,24],[442,5,443,24],[461,3,462,24],[463,3,466,24],[471,3,475,24],[478,17,479,24],[481,17,482,24],[395,17,396,24],[418,3,419,24],[434,3,435,24],[436,5,436,24],[437,5,438,24],[440,5,441,24],[374,17,375,24],[376,17,377,24],[378,17,379,24],[383,17,384,24],[388,3,390,24],[391,3,391,24],[331,3,332,24],[341,17,342,24],[348,17,349,24],[351,17,352,24],[355,17,357,24],[361,17,362,24],[230,1,230,5],[230,6,230,11],[230,12,230,17],[230,18,230,24],[303,17,304,24],[322,3,323,24],[226,1,226,5],[226,6,226,11],[226,12,226,17],[226,18,226,24],[228,1,228,24],[229,1,229,5],[229,6,229,11],[229,12,229,17],[229,18,229,24],[224,1,224,5],[224,6,224,11],[224,12,224,17],[224,18,224,24],[225,1,225,5],[225,6,225,11],[225,12,225,17],[225,18,225,24],[221,1,221,24],[222,1,222,5],[222,6,222,11],[222,12,222,17],[222,18,222,24],[223,1,223,5],[223,6,223,11],[223,12,223,17],[223,18,223,24],[219,1,219,5],[219,6,219,11],[219,12,219,17],[219,18,219,24],[220,1,220,5],[220,6,220,11],[220,12,220,17],[220,18,220,24],[217,1,217,5],[217,6,217,11],[217,12,217,17],[217,18,217,24],[218,1,218,5],[218,6,218,11],[218,12,218,17],[218,18,218,24],[215,1,215,5],[215,6,215,11],[215,12,215,17],[215,18,215,24],[216,1,216,5],[216,6,216,11],[216,12,216,17],[216,18,216,24],[212,1,212,5],[212,6,212,11],[212,12,212,17],[212,18,212,24],[213,1,213,24],[214,1,214,5],[214,6,214,11],[214,12,214,17],[214,18,214,24],[210,1,210,5],[210,6,210,11],[210,12,210,17],[210,18,210,24],[211,1,211,5],[211,6,211,11],[211,12,211,17],[211,18,211,24],[208,1,208,5],[208,6,208,11],[208,12,208,17],[208,18,208,24],[209,1,209,5],[209,6,209,11],[209,12,209,17],[209,18,209,24],[206,1,206,5],[206,6,206,11],[206,12,206,17],[206,18,206,24],[207,1,207,5],[207,6,207,11],[207,12,207,17],[207,18,207,24],[204,1,204,5],[204,6,204,11],[204,12,204,17],[204,18,204,24],[205,1,205,5],[205,6,205,11],[205,12,205,17],[205,18,205,24],[202,1,202,5],[202,6,202,11],[202,12,202,17],[202,18,202,24],[203,1,203,5],[203,6,203,11],[203,12,203,17],[203,18,203,24],[200,1,200,5],[200,6,200,11],[200,12,200,17],[200,18,200,24],[201,1,201,5],[201,6,201,11],[201,12,201,17],[201,18,201,24],[154,3,155,24],[169,3,170,24],[174,3,175,24],[176,3,180,24],[181,3,182,24],[199,1,199,24],[126,3,130,24],[134,3,135,24],[136,3,137,24],[143,3,144,24],[150,3,151,24],[152,3,153,24],[99,5,100,24],[103,5,104,24],[105,5,106,24],[112,3,113,24],[118,3,119,24],[121,3,122,24],[65,3,66,24],[69,16,69,21],[70,3,76,24],[80,3,81,24],[84,3,85,24],[86,3,87,24],[40,3,42,24],[44,3,45,24],[47,3,48,24],[50,3,51,24],[53,3,54,24],[58,3,60,24],[1,0,1,24],[5,3,12,24],[16,3,17,24],[21,3,22,24],[25,3,26,24],[32,5,33,24]]}
[]
["Appendix \"PLC CONTROL CABINET\""]
[]
[null,null,null,"PLC CONTROL CABINET"]
[]
[null,null,null,"The PLC Control Cabinet is used for control and monitoring the belt filter equipment’s and auxiliary equipments like vacuum pump, filtrate pumps, cloth and belt washing water recirculating pump…\nThe PLC Control Cabinet will be fixed vertical type. It will be painted steel enclosure IP55, RAL 7035 paint manufacturer RITTAL or similar, size 2200 mm high, 800 mm wide, 500 mm deep, and will be installed by the Customer, inside Customer’s Technical Room.\nThe area classification is non-hazardous.\n"]
[]
[]
[]
[]
[]
[]
[]
[]
[null,null,null,"The PLC Control Cabinet includes:"]
[]
[null,null,"-","1 section 2000 mm high x 800 mm wide x 500 mm deep, mounted on 200 mm channel base, with front door equipped with handle and lock and key."]
[]
[null,null,"-","1 main power isolator switch with external pad lockable handle on the cabinet front door."]
[null,null,"-","1 set of panel lighting 230Vac interlocked with door switches."]
[null,null,"-","1 set of cooling fan with thermostatic switch and inlet-outlet filter grid."]
[null,null,"-","1 transformer 400Vac / 230Vac with protection by circuit breakers for cabinet lighting and cooling fan."]
[]
[null,null,"-","1 transformer 400Vac / 230Vac with protection by circuit breakers for instrumentation circuit."]
[null,null,"-","1 power supply 400Vac / 24Vdc with protection by circuit breakers for control circuit."]
[null,null,"-","1 power supply 400Vac / 24Vdc with protection by circuit breakers for PLC insulation power supply, PLC Inputs/Outputs and Operator graphic interface."]
[]
[null,null,"-","1 safety relay for Emergency stop circuit."]
[null,null,"-","1 set of relays for control circuits and interlocks."]
[null,null,"-","1 PLC, model SCHNEIDER M340, composed of :"]
[null,null,null,null,"•","1 rack - 12 slots backplane"]
[null,null,null,null,"•","1 Power supply module 24Vdc"]
[null,null,null,null,"•","1 CPU (processor) equipped with 1 port modbus RTU RS485 and 1 port Ethernet modbus TCP/IP ports (for communication with Operator graphic interface)"]
[null,null,null,null,"•"]
[null,null,null,null,"•","1 module Modbus RTU RS485 for communication with customer’s DCS control system"]
[null,null,null,null,"•","3 discrete Input modules (16 x DI - 24 Vdc)"]
[null,null,null,null,"•","1 relay Output module (16 x D0 - 24 Vdc or 24 to 240 Vac)"]
[null,null,null,null,"•","3 isolated Analog Input modules (4 x AI - 4-20 mA isolated)"]
[null,null,null,null,"•","1 isolated Analog Output modules (4 x AO - 4-20mA isolated)"]
[]
[null,null,null,"The PLC allows to control and operate the vacuum belt filter, the vacuum pump motor, the filtrate pumps motors, the cloth and belt washing water recirculating pump motor and all the instruments."]
[]
[]
[]
[null,"NOTE: ",null,"All electrical starters for belt filter motor, vacuum pump filtrate pumps, washing pumps motors are supplied and installed in MCC room by the Customer."]
[]
[]
[null,null,null,"Control and command motors are exchanged between the PLC Control Cabinet and the Customer’s MCC room by hardwired free potential contacts."]
[]
[]
[null,null,null,"Motors status, process values, alarms status… are exchanged between the PLC Control cabinet and the Customer’s DCS by Modbus RTU RS485 communication only for display."]
[]
[]
[null,null,null,"The PLC will be programmed according to safeties and logic sequences defined by HASLER Group."]
[]
[]
[null,null,"-","1 pilot light ‘Power on” on the cabinet front door"]
[null,null,"-","1 “Emergency stop” push button on the cabinet front door"]
[null,null,"-","1 terminal block set allowing the internal components wiring connections with the external wiring connections between the motors, the field instruments, the Local control panel, the junction box and the customer’s DCS control system."]
[]
[]
[null,null,"-","Internal wiring will be laid with PVC wiring ducts"]
[null,null,"-","Wiring and parts labelling will be in accordance with electrical scheme identification numbers;"]
[null,null,"-","Each end of wire will be provided with vinyl sleeve type marker for numbering identification."]
[]
[null,null,null,"The PLC Control Cabinet will be completely assembled, wired, adjusted, programmed and tested at HASLER Group’s factory. "]
[]
[]
[null,null,null,"LOCAL CONTROL PANEL"]
[]
[null,null,null,"The Local Control Panel is used for control and monitoring the belt filter equipment’s and auxiliary equipment.\nIt will be polyester enclosure IP66 Nema 4X, manufacturer RITTAL or similar, size 600 mm high, 400 mm wide, 200 mm deep (wall mounting) and will be installed on site by customer close to the belt filter.\nThe area classification is non-hazardous.\n"]
[]
[]
[]
[]
[]
[]
[]
[null,null,null,"The Local Control Panel includes:"]
[]
[null,null,"-","1 panel 600 mm high x 400 mm wide x 200 mm deep with front door equipped with handle and lock and key."]
[]
[null,null,"-","1 “Emergency stop” push button on the LCP front door."]
[null,null,"-","1 “Reset” push button on the LCP front door, to reset “Emergency stop” safety relay."]
[null,null,"-","1 Operator graphic interface, model SCHNEIDER MAGELIS 10 POUCES or similar, with Colour Screen and Touch screen, located on the LCP front door."]
[]
[null,null,"-","All texts on Operator graphic interface will be displayed in: English selection or Chinese selection."]
[]
[]
[null,null,null,"This operator interface allows to:"]
[]
[null,null,null,null,"•","control the start-up and the shutdown sequences of equipment"]
[null,null,null,null,"•","control and monitor the Start/Stop of the belt filter drive"]
[null,null,null,null,"•","adjust and monitor the Speed of the belt filter drive"]
[null,null,null,null,"•","control and monitor the Start/Stop of the cake pressure roller"]
[null,null,null,null,"•","adjust and monitor the Speed of the cake pressure roller"]
[null,null,null,null,"•","control and monitor the Start/Stop of the vacuum pump"]
[null,null,null,null,"•","control and monitor the Start/Stop of the filtrate pumps"]
[]
[null,null,null,null,"•","control and monitor the Start/Stop of the for cloth & belt washing water recirculating pump"]
[]
[null,null,null,null,"•","control and monitor the set points for cake wash flow"]
[null,null,null,null,"•","display the cake thickness and filtrate receivers pressure"]
[null,null,null,null,"•","display the filtrate receivers level and to set low and high level set-point for process interlocks"]
[]
[null,null,null,null,"•","display the cloth and belt washing water collecting tank level and to set low and high level set-point for process interlocks"]
[]
[null,null,null,null,"•","monitor the status of the field instruments"]
[null,null,null,null,"•","display the faults and alarms presents on the installation"]
[null,null,null,null,"•","select the Automatic mode, Manual mode, Cloth changing mode"]
[]
[null,null,"-","1 Horn for belt filter alarm start-up."]
[null,null,"-","1 Terminal block set allowing the internal components wiring connections with the Electrical Control Cabinet."]
[]
[null,null,"-","Internal wiring will be laid with PVC wiring ducts."]
[null,null,"-","Wiring and parts labelling will be in accordance with electrical scheme identification numbers."]
[null,null,"-","Each end of wire will be provided with vinyl sleeve type marker for numbering identification."]
[]
[null,null,null,"The Local control panel will be completely assembled, wired, adjusted, programmed and tested at HASLER Group’s factory. "]
[]
[]
[null,"NOTE: ",null,"This local control panel is located near the belt filter equipment, for control and monitoring the unit locally, by using Operator graphic interface."]
[]
[]
[null,null,null,"VACUUM BELT FILTER JUNCTION BOX"]
[]
[null,null,null,"The Vacuum Belt Filter Junction box is used to wire all instruments located on the belt filter.\nIt will be Polyester enclosure IP66 Nema 4X manufacturer RITTAL or similar, size 500 mm high, 500 mm wide, 300 mm deep and will be installed on the belt filter.\nThe area classification is non-hazardous."]
[]
[]
[]
[]
[]
[null,null,null,"The Vacuum Belt Filter Junction box includes:"]
[]
[null,null,"-","1 cabinet 500 mm high x 500 mm wide x 300mm deep with front door equipped with lock and key"]
[]
[null,null,"-","1 terminal block set allowing the internal components wiring connections with the external wiring connections between the belt filter instruments"]
[]
[null,null,"-","1 set of polyamide cable glands fitting"]
[null,null,"-","Internal wiring will be laid with PVC wiring ducts "]
[null,null,"-","Wiring and parts labelling will be in accordance with electrical scheme identification numbers"]
[null,null,"-","Each end of wire will be provided with vinyl sleeve type marker for numbering identification."]
[]
[null,null,null,"The Vacuum Belt Filter Junction box will be completely assembled, wired, adjusted, and tested at HASLER Group’s factory."]
[]
[]
[]
[]
[null,null,null,"INSTRUMENTATION CABLES, CONDUITS AND TAGS"]
[]
[null,null,null,"All the instrumentation cables and conduits between the Junction box located on the belt filter and the instruments located on the belt filter will be supplied by HASLER Group."]
[]
[null,null,null,"All the instrumentation cables labelling supplied by HASLER Group will be in accordance with electrical scheme identification numbers"]
[]
[null,null,null,"Fitting and wiring of these instrument cables will be done by the Customer under HASLER Group’s supervision."]
[]
[]
[null,null,null,"TECHNICAL DOCUMENTATION"]
[]
[null,null,null,"The Technical Documentation in English includes:"]
[]
[null,null,"-","The Electrical scheme."]
[null,null,"-","The PLC Control Cabinet equipment with part list"]
[null,null,"-","The Local Control Panel equipment with part list"]
[null,null,"-","The Vacuum Belt Filter Junction box equipment with part list"]
[null,null,"-","The Instrument list"]
[null,null,"-","The Instrument data sheets"]
[null,null,"-","The Functional analysis"]
[null,null,"-","The PLC and Operator Graphic Interface programs"]
[null,null,"-","The technical documentation of instruments and electrical components (PLC, Operator Graphic Interface, Emergency stop safety module,…)"]
[]
[]
[null,null,null,"LIMIT OF SUPPLY"]
[]
[null,null,"-","The power supply 400Vac, 3 phases 50Hz for Electrical Control Cabinet will be supplied by the customer."]
[]
[null,null,"-","All the power supply cable , motors cables, control cables, instrumentation cables, network cables and conduits between the Junction box located on the belt filter, the local control panel, the Electrical Control Cabinet, the motors, the field instruments (not located on the belt filter), the Customer’s DCS and MCC will be supplied and installed on site by the Customer."]
[]
[]
[]
[]
[null,null,"-","Cable glands fitting (or conduit fitting) for the Customer’s cables will be supplied and installed on site by the Customer."]
[]
[]
[]
[]
[]
[]
[]
[]
[]
[]
[]
[]
[]
[]
[]
[null,null,null,"LIST OF ELECTRICAL SUPPLIER"]
[]
[null,"ELECTRICAL CONTROL CABINET"]
[null,"DESIGNATION",null,null,null,null,"TYPE",null,null,null,null,null,"MANUFACTURER",null,null,null,null,null,"REMARKS"]
[null,"Enclosure",null,null,null,null,"TS8000 series",null,null,null,null,null,"Rittal",null,null,null,null,null,"painted steel enclosure IP55, RAL 7035"]
[null,"Main isolator switch",null,null,null,null,"Sirco series",null,null,null,null,null,"Socomec",null,null,null,null,null,"handle lockable on front door"]
[null,"Circuit breaker",null,null,null,null,"C60 series",null,null,null,null,null,"Schneider Electric"]
[null,"Safety module",null,null,null,null,"Preventa series",null,null,null,null,null,"Schneider Electric"]
[null,"Control voltage transformer",null,null,null,null,null,null,null,null,null,null,"Legrand"]
[null,"Relay, contactor",null,null,null,null,null,null,null,null,null,null,"Schneider Electric"]
[null,"Variable frequency drive",null,null,null,null,"Altivar ATV71 and ATV61 series",null,null,null,null,null,"Schneider Electric"]
[null,"Soft Electronic Starter",null,null,null,null,"Altistar ATS48",null,null,null,null,null,"Schneider Electric"]
[null,"Pushbuttons, hand switches, signalling pilot lights",null,null,null,null,null,null,null,null,null,null,"Schneider Electric",null,null,null,null,null,"IP66"]
[null,"PLC ",null,null,null,null,null,null,null,null,null,null,"Schneider Electric",null,null,null,null,null,"Processor: BMX P342020\nDigital input card: BMX DDI 1602\nRelay output card: BMX DRA 1605\nAnalog input card: BMX AMI 0410\nAnalog output card: BMX AMO 0410\nModbus RTU card"]
[null,"Terminal blocks",null,null,null,null,null,null,null,null,null,null,"ABB - Entrelec"]
[null,"Internal control wiring",null,null,null,null,"Isolated wires and ferrules",null,null,null,null,null,null,null,null,null,null,null,"Execution according to EN 60204"]
[null,"LOCAL CONTROL PANEL"]
[null,"DESIGNATION",null,null,null,null,"TYPE",null,null,null,null,null,"MANUFACTURER",null,null,null,null,null,"REMARKS"]
[null,"Enclosure",null,null,null,null,"KS series",null,null,null,null,null,"Rittal",null,null,null,null,null,"Polyester IP66 NEMA 4X"]
[null,"Pushbuttons, hand switches, signalling pilot lights",null,null,null,null,"XB5 series",null,null,null,null,null,"Schneider Electric",null,null,null,null,null,"IP66"]
[null,"Operator graphic interface",null,null,null,null,"Magelis 10 pouces",null,null,null,null,null,"Schneider Electric",null,null,null,null,null,"with Colour Screen and Touch screen"]
[null,"Horn",null,null,null,null,"T100 series",null,null,null,null,null,"AET",null,null,null,null,null,"IP66"]
[null,"Terminal blocks",null,null,null,null,null,null,null,null,null,null,"ABB - Entrelec"]
[null,"Internal control wiring",null,null,null,null,"Isolated wires and ferrules",null,null,null,null,null,null,null,null,null,null,null,"Execution according to EN 60204"]
[null,"JUNCTION BOX"]
[null,"DESIGNATION",null,null,null,null,"TYPE",null,null,null,null,null,"MANUFACTURER",null,null,null,null,null,"REMARKS"]
[null,"Enclosure",null,null,null,null,"KS series",null,null,null,null,null,"Rittal",null,null,null,null,null,"Polyester IP66 NEMA 4X"]
[null,"Terminal blocks",null,null,null,null,null,null,null,null,null,null,"ABB - Entrelec",null,null,null,null,null,"Terminal blocks"]
[null,"Cables glands",null,null,null,null,"Polyamide",null,null,null,null,null,null,null,null,null,null,null,"Iso M series"]
[null,"Internal control wiring",null,null,null,null,"Isolated wires and ferrules",null,null,null,null,null,null,null,null,null,null,null,"Execution according to EN 60204"]
[]
[null,"INSTRUMENTATION CABLES FOR VACUUM BELT FILTER"]
[null,"DESIGNATION",null,null,null,null,"TYPE",null,null,null,null,null,"MANUFACTURER",null,null,null,null,null,"REMARKS"]
[null,"Instrumentation cables",null,null,null,null,"JZ 500 HMH and JZ 500 HMH-C series",null,null,null,null,null,"Helukabel",null,null,null,null,null,"Flexible control cable, halogen free, extremely fire resistant, oil resistant, Cu-screened\n300/500V – 70°C"]

{"sheet":"Electrical Control Cabinet","index":105,"n_rows":191,"n_cols":28,"rows_kept":191,"cut":false,"hidden":true,"merged":[[72,2,73,23],[1,0,1,24],[5,2,11,23],[14,2,62,23],[64,2,68,23],[71,16,71,21],[330,17,331,24],[77,2,82,23],[84,2,123,23],[129,2,144,23],[149,2,154,23],[159,2,170,23],[175,2,181,23],[282,17,283,24],[301,3,302,24],[310,3,311,24],[320,17,321,24],[327,17,328,24],[415,5,415,24],[334,17,336,24],[340,17,341,24],[353,17,354,24],[355,17,356,24],[357,17,358,24],[362,17,363,24],[367,3,369,24],[370,3,370,24],[374,17,375,24],[397,3,398,24],[413,3,414,24],[499,17,500,24],[416,5,417,24],[419,5,420,24],[421,5,422,24],[440,3,441,24],[442,3,445,24],[450,3,454,24],[457,17,458,24],[460,17,461,24],[465,3,466,24],[467,3,467,24],[468,3,469,24],[696,17,697,24],[540,3,542,24],[545,3,546,24],[550,17,551,24],[553,3,555,24],[590,3,591,24],[603,3,604,24],[621,17,622,24],[639,17,641,24],[664,17,665,24],[677,17,679,24],[681,17,682,24],[940,3,941,24],[733,3,734,24],[752,3,754,24],[774,17,775,24],[786,3,787,24],[838,5,839,11],[848,3,849,24],[853,3,854,24],[855,3,856,24],[860,3,861,24],[863,3,864,24],[921,17,922,24],[1031,0,1031,25],[942,3,943,24],[944,3,945,24],[946,3,947,24],[949,3,950,24],[972,3,973,24],[998,3,999,24],[1005,3,1007,24],[1008,3,1011,24],[1012,3,1013,24],[1017,0,1019,25],[1029,16,1029,21]]}
[]
["Appendix \"ELECTRICAL CONTROL CABINET\""]
[]
[null,null,"I - Electrical Control Cabinet"]
[]
[null,null,"The Electrical Control Cabinet is used for controlling and providing power to the belt filter equipment’s and auxiliary equipments like vacuum pump, filtrate pump, cake washing pump and cloth & belt washing pump…\nThe Electrical Control Cabinet will be fixed vertical type. It will be painted steel enclosure IP55, RAL 7035 paint manufacturer RITTAL or similar, size 1800 mm high, 3200 mm wide, 600 mm deep, and will be installed by the Customer, inside Customer’s Technical Room.\nThe area classification is non-hazardous."]
[]
[]
[]
[null,null,null,null,null,null,null,null,null,null,null,null,null,null,null,null,null,null,null,null,null,null,null,null,null,null,null,"Rule : calculating the width according to the quantity of sections"]
[]
[]
[]
[null,null,"The Electrical Control Cabinet includes:"]
[null,null,"■ 4 sections 1800 mm high x 800 mm wide x 600 mm deep, mounted on 200 mm channel base, with front door equipped with handle and lock and key.\n■ 1 main power isolator switch with external pad lockable handle on the cabinet front door.\n■ 1 set of panel lighting 230Vac interlocked with door switches.\n■ 1 set of cooling fan with thermostatic switch and inlet-outlet filter grid.\n■ 1 transformer 400Vac / 230Vac with protection by circuit breakers for cabinet lighting and cooling fan.\n■ 1 transformer 400Vac / 230Vac with protection by circuit breakers for instrumentation circuit\n■ 1 transformer 400Vac / 230Vac with protection by circuit breakers for PLC insulation voltage supply\n■ 1 power supply 400Vac / 24Vdc with protection by circuit breakers for Digital and Analog Inputs/Outputs and Human Machine Interface\n■ 1 power supply 400Vac / 24Vdc with protection by circuit breakers for control and signalling circuit\n■ 1 set of relays for control circuits and interlocks.\n■ 1 motor electrical starter 3x400Vac - 50HZ – 45 KW with Variable Frequency Drive, model Altivar ATV340 (Schneider Electric or similar), equipped with circuit breaker and contactor for belt filter drive motor.\n■ 1 motor electrical starter 3x400Vac - 50HZ – 160 KW with Soft Electronic Starter, model Altistar ATS48 (Schneider Electric or similar), equipped with circuit breaker and contactor for vacuum pump motor.\n■ 1 motor electrical starter DOL 3x400Vac - 50HZ – 5,5 KW (Schneider Electric or similar), equipped with circuit breaker and contactor for cloth and belt washing pump motor.\n■ 1 motor electrical starter DOL 3x400Vac - 50HZ – 4 KW (Schneider Electric or similar), equipped with circuit breaker and contactor for cake washing pump motor.\n■  1 motor electrical starter DOL 3x400Vac - 50HZ – 7,5 KW (Schneider Electric or similar), equipped with circuit breaker and contactor for filtrate pump motor.\n■ 1 PLC, model SIEMENS Simatic FAIL-SAFE S7-1500F, composed of:\n     ⬡ 1 CPU-1515F-2PN (processor) equipped with 2 ports Profinet for communication with \n         Human Machine Interface and located on the Local Control Panel and communication \n         with Customer’s control system DCS\n     ⬡ 1 Power supply module and mounting rack\n     ⬡ Discrete Input modules (type 32 x DI - 24 Vdc)\n     ⬡ Discrete Output module (type 16 x D0 - 24 Vdc)\n     ⬡ Isolated Analog Input modules (8 x AI - 4-20 mA)\n     ⬡ Isolated Analog Output modules (4 x AO - 4-20mA)\n     ⬡ Interfaces relays 24Vdc for Output modules\n     ⬡ Connection sub-bases for distribution of digital inputs channels\n     ⬡ Connection sub-bases for distribution of analog inputs channels\n     ⬡ Connection sub-bases for distribution of analog output channels\n■ 1 pilot light ‘Power on” on the cabinet front door\n■ 1 “Emergency stop” push button on the cabinet front door\n■ 1 terminal block set allowing the internal components wiring connections with the external wiring connections between the motors, the field instruments, the Local control panel, the junction box and the customer’s control system DCS.\n■ Internal wiring will be laid with PVC wiring ducts\n■ Wiring and parts labelling will be in accordance with electrical scheme identification numbers;\n■ Each end of wire will be provided with vinyl sleeve type marker for numbering identification.",null,null,null,null,null,null,null,null,null,null,null,null,null,null,null,null,null,null,null,null,null,null,null,null,"Rule : update the tension according to the project (400V as standard)"]
[]
[]
[]
[]
[]
[]
[]
[]
[]
[]
[]
[]
[]
[]
[]
[]
[]
[]
[]
[]
[]
[]
[null,null,null,null,null,null,null,null,null,null,null,null,null,null,null,null,null,null,null,null,null,null,null,null,null,null,null,"Rule : updating according to the scope of supply and the calculated power (adding or deleting lines)"]
[]
[]
[]
[]
[]
[]
[]
[]
[]
[]
[]
[]
[]
[]
[]
[]
[]
[]
[]
[]
[]
[]
[]
[]
[]
[]
[null,null,"The PLC allows to control and operate the vacuum belt filter, the vacuum pump motor, the filtrate pumps motors, the cloth and belt washing water recirculating pump motor and all the instruments.\nMotors status, process values, alarms status… are exchanged between the Electrical Control Cabinet and the customer’s control system DCS by Profinet communication only for display."]
[]
[]
[]
[]
[]
[null,null,"The PLC will be programmed according to safeties and logic sequences defined by HASLER Group."]
[]
[null,null,"The Electrical Control Cabinet will be completely assembled, wired, adjusted, programmed and tested at HASLER Group’s factory. "]
[]
[]
[null,null,"II - LOCAL CONTROL PANEL"]
[]
[null,null,"The Local Control Panel is used for control and monitoring the belt filter equipment’s and auxiliary equipment.\nIt will be polyester enclosure IP66 Nema 4X, manufacturer RITTAL or similar, size 600 mm high, 600 mm wide, 200 mm deep (wall mounting) and will be installed on site by customer close to the belt filter.\nThe area classification is non-hazardous."]
[]
[]
[]
[]
[]
[]
[null,null,"The Local Control Panel includes:\n■ 1 panel 600 mm high x 600 mm wide x 200 mm deep with front door equipped with handle and lock and key.\n■ 1 “Emergency stop” push button on the LCP front door.\n■ 1 “Reset” push button on the LCP front door, to reset “Emergency stop” safety relay.\n■ 1 Human Machine Interface, model SIEMENS SIMATIC TP900 Comfort 9 POUCES or similar, with Colour Screen and Touch screen, located on the Local Control Panel front door.\n■ All texts on Human Machine Interface will be displayed in: English / French selection.\n\nThis Human Machine Interface allows to:\n     ▷ control the start-up and the shutdown sequences of equipment\n     ▷ control and monitor the Start/Stop of the belt filter drive\n     ▷ adjust and monitor the Speed of the belt filter drive\n     ▷ control and monitor the Start/Stop of the vacuum pump\n     ▷ control and monitor the Start/Stop of the filtrate pump\n     ▷ control and monitor the Start/Stop of the for cloth & belt washing pump\n     ▷ control and monitor the Start/Stop of the for cake washing pump\n     ▷ control and monitor the set points for cake wash flow\n     ▷ display the cake thickness and filtrate receivers pressure\n     ▷ display the filtrate receivers level and to set low and high level set-point for\n          process interlocks\n     ▷ display the cloth and belt washing water collecting tank level and to set low and high level \n          set-point for process interlocks\n     ▷ monitor the status of the field instruments\n     ▷ display the faults and alarms presents on the installation\n     ▷ select the Automatic mode, Manual mode, Cloth changing mode\n\n■  1 Horn for belt filter alarm start-up.\n■  1 Terminal block set allowing the internal components wiring connections with the Electrical Control Cabinet.\n■  Internal wiring will be laid with PVC wiring ducts.\n■  Wiring and parts labelling will be in accordance with electrical scheme identification numbers\n■  Each end of wire will be provided with vinyl sleeve type marker for numbering identification.\n\nThe Local control panel will be completely assembled, wired, adjusted, programmed and tested \nat HASLER Group’s factory. \n\nNOTE:\nThis local control panel is located near the belt filter equipment, for control and monitoring the \nunit locally, by using Human Machine Interface."]
[]
[]
[]
[]
[]
[]
[]
[]
[]
[]
[]
[null,null,null,null,null,null,null,null,null,null,null,null,null,null,null,null,null,null,null,null,null,null,null,null,null,null,null,"Rule : updating according to the scope of supply and the calculated power (adding or deleting lines)"]
[]
[]
[]
[]
[]
[]
[]
[]
[]
[]
[]
[]
[]
[]
[]
[]
[]
[]
[]
[]
[]
[]
[]
[]
[]
[]
[]
[]
[]
[]
[null,null,"III - VACUUM BELT FILTER JUNCTION BOX"]
[]
[null,null,"The Vacuum Belt Filter Junction box is used to wire all instruments located on the belt filter.\nIt will be Polyester enclosure IP66 Nema 4X manufacturer RITTAL or similar, size 530 mm high, 430 mm wide, 200 mm deep and will be installed on the belt filter.\nThe area classification is non-hazardous.\nThe Vacuum Belt Filter Junction box includes:\n■ 1 cabinet 530 mm high x 430 mm wide x 200mm deep with front door equipped with lock and key\n■ 1 terminal block set allowing the internal components wiring connections with the external wiring connections between the belt filter instruments\n■ 1 set of polyamide cable glands fitting\n■ Internal wiring will be laid with PVC wiring ducts \n■ Wiring and parts labelling will be in accordance with electrical scheme identification numbers\n■ Each end of wire will be provided with vinyl sleeve type marker for numbering identification.\n\nThe Vacuum Belt Filter Junction box will be completely assembled, wired, adjusted, and tested at HASLER Group’s factory."]
[]
[]
[]
[]
[]
[]
[]
[]
[]
[]
[]
[]
[]
[]
[]
[]
[]
[null,null,"IV - INSTRUMENTATION CABLES, CONDUITS AND TAGS"]
[]
[null,null,"■ All the instrumentation cables and conduits between the Junction box located on the belt filter and the instruments located on the belt filter will be supplied by HASLER Group.\n■ All the instrumentation cables labelling supplied by HASLER Group will be in accordance with electrical scheme identification numbers.\n■ Fitting and wiring of these instrument cables will be done by the Customer under HASLER Group’s supervision."]
[]
[]
[]
[]
[]
[]
[]
[null,null,"V - TECHNICAL DOCUMENTATION"]
[]
[null,null,"The Technical Documentation in English includes:\n\n■ The Electrical scheme.\n■ The Electrical Control Cabinet equipment with part list\n■ The Local Control Panel equipment with part list\n■ The Vacuum Belt Filter Junction box equipment with part list\n■ The Instrument list\n■ The Instrument data sheets\n■ The Functional analysis\n■ The PLC and Human Machine Interface programs\n■ The technical documentation of instruments and electrical components (PLC, Human Machine Interface, Variable Frequency Drive, …)"]
[]
[]
[]
[]
[]
[]
[]
[]
[]
[]
[]
[]
[]
[null,null,"VI - LIMIT OF SUPPLY"]
[]
[null,null,"■ The power supply 400 Vac, 3 phases 50Hz for Electrical Control Cabinet will be supplied by the customer.\n■ All the power supply cable, motors cables, control cables, instrumentation cables, network cables and conduits between the Junction box located on the belt filter, the local control panel, the Electrical Control Cabinet, the motors, the field instruments (not located on the belt filter), the Customer’s DCS and MCC will be supplied and installed on site by the Customer.\n■ Cable glands fitting (or conduit fitting) for the Customer’s cables will be supplied and installed on site by the Customer.",null,null,null,null,null,null,null,null,null,null,null,null,null,null,null,null,null,null,null,null,null,null,null,null,"Rule : update the tension according to the project (400V as standard)"]
[]
[]
[]
[]
[]
[]
[]
[]
[]
[]
[]
[]
[]
[]
[null,null,"VII - LIST OF ELECTRICAL SUPPLIER"]

{"sheet":"STEAM BOX","index":106,"n_rows":44,"n_cols":11,"rows_kept":44,"cut":false,"hidden":false,"merged":[[240,5,242,24],[1,0,1,25],[2,10,3,15],[6,2,8,22],[10,2,12,22],[57,0,59,25],[69,16,69,21],[71,0,71,25],[106,0,108,27],[180,17,181,24],[230,3,231,24],[237,5,239,24],[373,17,374,24],[246,3,247,24],[248,3,248,24],[249,3,250,24],[302,17,303,24],[321,3,322,24],[330,3,331,24],[340,17,341,24],[347,17,348,24],[350,17,351,24],[354,17,356,24],[360,17,361,24],[441,5,442,24],[375,17,376,24],[377,17,378,24],[382,17,383,24],[387,3,389,24],[390,3,390,24],[394,17,395,24],[417,3,418,24],[433,3,434,24],[435,5,435,24],[436,5,437,24],[439,5,440,24],[570,17,571,24],[460,3,461,24],[462,3,465,24],[470,3,474,24],[477,17,478,24],[480,17,481,24],[485,3,486,24],[487,3,487,24],[488,3,489,24],[519,17,520,24],[560,3,562,24],[565,3,566,24],[794,17,795,24],[573,3,575,24],[610,3,611,24],[623,3,624,24],[641,17,642,24],[659,17,661,24],[684,17,685,24],[697,17,699,24],[701,17,702,24],[716,17,717,24],[753,3,754,24],[772,3,774,24],[966,3,967,24],[806,3,807,24],[858,5,859,11],[868,3,869,24],[873,3,874,24],[875,3,876,24],[880,3,881,24],[883,3,884,24],[941,17,942,24],[960,3,961,24],[962,3,963,24],[964,3,965,24],[1037,0,1039,25],[1049,16,1049,21],[1051,0,1051,25],[969,3,970,24],[992,3,993,24],[1018,3,1019,24],[1025,3,1027,24],[1028,3,1031,24],[1032,3,1033,24]]}
[]
["Appendix \"STEAM BOX\""]
[null,null,null,null,null,null,null,null,null,null,"OPTION"]
[]
[]
[]
[null,null,"The Steam Hood is used on the drying zone of the Vacuum Belt Filter. Its main goal is to reduce the cake moisture by using steam which is diffused all over the steam hood surface on the cake."]
[]
[]
[]
[null,null,"You already have installed this kind of steam hood on your filter with good result, and now you would like to install a second steam hood after the first one in order to reduce more again the cake moisture."]
[]
[]
[]
[]
[]
[]
[]
[]
[]
[]
[]
[]
[]
[]
[]
[]
[]
[]
[]
[]
[]
[]
[]
[]
[]
[]
[]
[]
[]
[]
[]
[]
[null,null,null,null,null,null,null,null,null," "]

{"sheet":"Local Control Panel","index":107,"n_rows":350,"n_cols":28,"rows_kept":350,"cut":false,"hidden":false,"merged":[[1085,3,1086,24],[1090,0,1092,25],[1102,16,1102,21],[1104,0,1104,25],[1019,3,1020,24],[1022,3,1023,24],[1045,3,1046,24],[1071,3,1072,24],[1078,3,1080,24],[1081,3,1084,24],[1017,3,1018,24],[847,17,848,24],[859,3,860,24],[911,5,912,11],[921,3,922,24],[926,3,927,24],[928,3,929,24],[933,3,934,24],[936,3,937,24],[994,17,995,24],[1013,3,1014,24],[1015,3,1016,24],[825,3,827,24],[623,17,624,24],[626,3,628,24],[663,3,664,24],[676,3,677,24],[694,17,695,24],[712,17,714,24],[737,17,738,24],[750,17,752,24],[754,17,755,24],[769,17,770,24],[806,3,807,24],[618,3,619,24],[494,5,495,24],[513,3,514,24],[515,3,518,24],[523,3,527,24],[530,17,531,24],[533,17,534,24],[538,3,539,24],[540,3,540,24],[541,3,542,24],[572,17,573,24],[613,3,615,24],[492,5,493,24],[426,17,427,24],[428,17,429,24],[430,17,431,24],[435,17,436,24],[440,3,442,24],[443,3,443,24],[447,17,448,24],[470,3,471,24],[486,3,487,24],[488,5,488,24],[489,5,490,24],[413,17,414,24],[195,2,207,23],[292,17,293,24],[299,1,300,24],[302,2,344,23],[349,2,370,23],[374,3,375,24],[383,3,384,24],[393,17,394,24],[400,17,401,24],[403,17,404,24],[407,17,409,24],[179,2,190,23],[3,0,3,24],[7,2,13,23],[16,2,64,23],[66,2,70,23],[73,16,73,21],[74,2,75,23],[79,2,84,23],[86,2,118,23],[122,2,133,23],[137,2,160,23],[166,2,173,23]]}
[]
[]
[]
["Appendix \"LOCAL CONTROL PANEL\""]
[]
[null,null,"I - Electrical Control Cabinet"]
[]
[null,null,"The Electrical Control Cabinet is used for controlling and providing power to the belt filter equipment’s and auxiliary equipments like vacuum pump, filtrate pump, cake washing pump and cloth & belt washing pump…\nThe Electrical Control Cabinet will be fixed vertical type. It will be painted steel enclosure IP55, RAL 7035 paint manufacturer RITTAL or similar, size 1800 mm high, 3200 mm wide, 600 mm deep, and will be installed by the Customer, inside Customer’s Technical Room.\nThe area classification is non-hazardous."]
[]
[]
[]
[null,null,null,null,null,null,null,null,null,null,null,null,null,null,null,null,null,null,null,null,null,null,null,null,null,null,null,"Rule : calculating the width according to the quantity of sections"]
[]
[]
[]
[null,null,"The Electrical Control Cabinet includes:"]
[null,null,"■ 4 sections 1800 mm high x 800 mm wide x 600 mm deep, mounted on 200 mm channel base, with front door equipped with handle and lock and key.\n■ 1 main power isolator switch with external pad lockable handle on the cabinet front door.\n■ 1 set of panel lighting 230Vac interlocked with door switches.\n■ 1 set of cooling fan with thermostatic switch and inlet-outlet filter grid.\n■ 1 transformer 400Vac / 230Vac with protection by circuit breakers for cabinet lighting and cooling fan.\n■ 1 transformer 400Vac / 230Vac with protection by circuit breakers for instrumentation circuit\n■ 1 transformer 400Vac / 230Vac with protection by circuit breakers for PLC insulation voltage supply\n■ 1 power supply 400Vac / 24Vdc with protection by circuit breakers for Digital and Analog Inputs/Outputs and Human Machine Interface\n■ 1 power supply 400Vac / 24Vdc with protection by circuit breakers for control and signalling circuit\n■ 1 set of relays for control circuits and interlocks.\n■ 1 motor electrical starter 3x400Vac - 50HZ – 45 KW with Variable Frequency Drive, model Altivar ATV340 (Schneider Electric or similar), equipped with circuit breaker and contactor for belt filter drive motor.\n■ 1 motor electrical starter 3x400Vac - 50HZ – 160 KW with Soft Electronic Starter, model Altistar ATS48 (Schneider Electric or similar), equipped with circuit breaker and contactor for vacuum pump motor.\n■ 1 motor electrical starter DOL 3x400Vac - 50HZ – 5,5 KW (Schneider Electric or similar), equipped with circuit breaker and contactor for cloth and belt washing pump motor.\n■ 1 motor electrical starter DOL 3x400Vac - 50HZ – 4 KW (Schneider Electric or similar), equipped with circuit breaker and contactor for cake washing pump motor.\n■  1 motor electrical starter DOL 3x400Vac - 50HZ – 7,5 KW (Schneider Electric or similar), equipped with circuit breaker and contactor for filtrate pump motor.\n■ 1 PLC, model SIEMENS Simatic FAIL-SAFE S7-1500F, composed of:\n     ⬡ 1 CPU-1515F-2PN (processor) equipped with 2 ports Profinet for communication with \n         Human Machine Interface and located on the Local Control Panel and communication \n         with Customer’s control system DCS\n     ⬡ 1 Power supply module and mounting rack\n     ⬡ Discrete Input modules (type 32 x DI - 24 Vdc)\n     ⬡ Discrete Output module (type 16 x D0 - 24 Vdc)\n     ⬡ Isolated Analog Input modules (8 x AI - 4-20 mA)\n     ⬡ Isolated Analog Output modules (4 x AO - 4-20mA)\n     ⬡ Interfaces relays 24Vdc for Output modules\n     ⬡ Connection sub-bases for distribution of digital inputs channels\n     ⬡ Connection sub-bases for distribution of analog inputs channels\n     ⬡ Connection sub-bases for distribution of analog output channels\n■ 1 pilot light ‘Power on” on the cabinet front door\n■ 1 “Emergency stop” push button on the cabinet front door\n■ 1 terminal block set allowing the internal components wiring connections with the external wiring connections between the motors, the field instruments, the Local control panel, the junction box and the customer’s control system DCS.\n■ Internal wiring will be laid with PVC wiring ducts\n■ Wiring and parts labelling will be in accordance with electrical scheme identification numbers;\n■ Each end of wire will be provided with vinyl sleeve type marker for numbering identification.",null,null,null,null,null,null,null,null,null,null,null,null,null,null,null,null,null,null,null,null,null,null,null,null,"Rule : update the tension according to the project (400V as standard)"]
[]
[]
[]
[]
[]
[]
[]
[]
[]
[]
[]
[]
[]
[]
[]
[]
[]
[]
[]
[]
[]
[]
[null,null,null,null,null,null,null,null,null,null,null,null,null,null,null,null,null,null,null,null,null,null,null,null,null,null,null,"Rule : updating according to the scope of supply and the calculated power (adding or deleting lines)"]
[]
[]
[]
[]
[]
[]
[]
[]
[]
[]
[]
[]
[]
[]
[]
[]
[]
[]
[]
[]
[]
[]
[]
[]
[]
[]
[null,null,"The PLC allows to control and operate the vacuum belt filter, the vacuum pump motor, the filtrate pumps motors, the cloth and belt washing water recirculating pump motor and all the instruments.\nMotors status, process values, alarms status… are exchanged between the Electrical Control Cabinet and the customer’s control system DCS by Profinet communication only for display."]
[]
[]
[]
[]
[]
[null,null,"The PLC will be programmed according to safeties and logic sequences defined by HASLER Group."]
[]
[null,null,"The Electrical Control Cabinet will be completely assembled, wired, adjusted, programmed and tested at HASLER Group’s factory. "]
[]
[]
[null,null,"II - LOCAL CONTROL PANEL"]
[]
[null,null,"The Local Control Panel is used to start, stop the belt filter, and adjust the belt filter speed, locally close the filtration unit.\nIt will be polyester enclosure IP66 Nema 4X, manufacturer RITTAL or similar, size 600 mm high, 400 mm wide, 200 mm deep (wall mounting) and will be installed on site by customer close to the belt filter.\nThe area classification is non-hazardous."]
[]
[]
[]
[]
[]
[]
[null,null,"The Local Control Panel includes:\n■ 1 panel 600 mm high x 400 mm wide x 200 mm deep with front door equipped with handle and lock and key.\n\nComponents located on the front door:\n■ 1 “Emergency stop” push button.\n■ 1 belt filter motor “START” push button.\n■ 1 belt filter motor ‘’STOP’’ push button.\n■ 1 belt filter motor ‘’FASTER’’ push button.\n■ 1 belt filter motor ‘’SLOWER’’ push button.\n■ 1 ‘’BELT FILTER SPEED’’ numeric indicator.\n\nComponents located inside the control panel:\n■ 1 ‘’CLOTH CHANGE’’ key operated handswitch selector.\n■ 1 Horn for belt filter ‘’ALARM START-UP’’ located on the top of the control panel.\n■ 1 Terminal block set allowing the control panel internal components wiring connections of the hereabove signals and the external wiring connections between the Local Control Panel and the Customer’s PLC/DCS inputs/outputs.\n■ Analog input signal for numeric indicator: 4-20 mA from Customer’s PLC/DCS or Variable Frequency Drive.\n■ Voltage supply for numeric indicator: 230 Vac-/50HZ or 24 Vdc supplied by the Customer.\n\n■ Internal wiring will be laid with PVC wiring ducts.\n■ Wiring and parts labelling will be in accordance with electrical scheme identification numbers.\n■ Each end of wire will be provided with vinyl sleeve type marker for numbering identification.\n\n\n\n"]
[]
[]
[]
[]
[]
[]
[]
[]
[]
[]
[]
[null,null,null,null,null,null,null,null,null,null,null,null,null,null,null,null,null,null,null,null,null,null,null,null,null,null,null,"Rule : updating according to the scope of supply and the calculated power (adding or deleting lines)"]
[]
[]
[]
[]
[]
[]
[]
[]
[]
[]
[]
[]
[]
[]
[]
[]
[]
[]
[]
[]
[]
[]
[]
[null,null,"NOTE:\nThe use of ‘’CLOTH CHANGE’’ key operated handswitch selector is allowed only in maintenance mode and local mode, and at fixed minimum belt filter speed, and reserved only for authorized personnel.\n\nThe Local control panel will be completely assembled, wired, adjusted, and tested at HASLER Group’s factory. "]
[]
[]
[]
[]
[]
[]
[]
[]
[]
[]
[]
[]
[null,null,"III - VACUUM BELT FILTER JUNCTION BOX"]
[]
[null,null,"The Vacuum Belt Filter Junction box is used to wire all instruments located on the belt filter.\nIt will be Polyester enclosure IP66 Nema 4X manufacturer RITTAL or similar, size 530 mm high, 430 mm wide, 200 mm deep and will be installed on the belt filter.\nThe area classification is non-hazardous.\n\nThe Vacuum Belt Filter Junction box includes:\n\n■ 1 cabinet 530 mm high x 430 mm wide x 200 mm deep with front door equipped with lock and key.\n■ 1 terminal block set allowing the internal components wiring connections with the external wiring connections between the belt filter instruments.\n■ 1 set of polyamide cable glands fitting.\n■ Internal wiring will be laid with PVC wiring ducts.\n■ Wiring and parts labelling will be in accordance with electrical scheme identification numbers.\n■ Each end of wire will be provided with vinyl sleeve type marker for numbering identification.\n\nThe Vacuum Belt Filter Junction box will be completely assembled, wired, adjusted, and tested at HASLER Group’s factory."]
[]
[]
[]
[]
[]
[]
[]
[]
[]
[]
[]
[]
[]
[]
[]
[]
[]
[]
[]
[]
[]
[]
[]
[]
[]
[]
[null,null,"IV - INSTRUMENTATION CABLES, CONDUITS AND TAGS"]
[]
[null,null,"■ All the instrumentation cables and conduits between the Junction box located on the belt filter and the instruments located on the belt filter will be supplied by HASLER Group.\n■ All the instrumentation cables labelling supplied by HASLER Group will be in accordance with electrical scheme identification numbers.\n■ Fitting and wiring of these instrument cables will be done by the Customer under HASLER Group’s supervision."]
[]
[]
[]
[]
[]
[]
[]
[]
[]
[]
[null,null,"V - TECHNICAL DOCUMENTATION"]
[]
[null,null,"The Technical Documentation in English includes:\n\n■ The Electrical scheme.\n■ The Local Control Panel equipment with part list.\n■ The Vacuum Belt Filter Junction box equipment with part list.\n■ The Instrument list.\n■ The Instrument data sheets.\n■ The Functional analysis.\n■ The logic diagrams.\n■ The technical documentation of instruments and electrical components."]
[]
[]
[]
[]
[]
[]
[]
[]
[]
[]
[]
[]
[]
[null,null,"VI - LIMIT OF SUPPLY"]
[]
[null,null,"- Not included in our offer:\n\n■ The safety and logic sequences of the filtration unit are controlled by the Customer’s PLC/DCS according the logic diagrams and the functional analysis supplied by HASLER Group.\n■ The software programming works will be done by the Customer. \n■ All control cables, instrumentation cables, network cables and conduits between the Junction box located on the belt filter and the local control panel, the motors, the field instruments (not located on the belt filter), the Customer’s PLC/DCS and MCC will be supplied and installed on site by the Customer.\n■ Cable glands fitting (or conduit fitting) for the Customer’s cables will be supplied and installed on site by the Customer.\n■ Wiring up to the junction box. After the junction boxes, this is a supply from CARESTER.",null,null,null,null,null,null,null,null,null,null,null,null,null,null,null,null,null,null,null,null,null,null,null,null,"Rule : update the tension according to the project (400V as standard)"]
[]
[]
[]
[]
[]
[]
[]
[]
[]
[]
[]
[]
[]
[]
[]
[]
[null,null,"VII - LIST OF ELECTRICAL SUPPLIER"]
[]
[]
[]
[]
[]
[]
[]
[]
[]
[]
[]
[]
[]
[]
[]
[]
[]
[]
[]
[]
[]
[]
[]
[]
[]
[]
[]
[]
[]
[]
[]
[]
[]
[]
[]
[]
[]
[]
[]
[]
[]
[]
[]
[]
[]
[]
[]
[]
[]
[]
[]
[]
[]
[]
[]
[]
[]
[]
[]
[]
[]
[]
[]
[]
[]
[]
[]
[]
[]
[]
[]
[]
[]
[]
[]
[]
[]
[]
[]
[]
[]
[]
[]
[]
[]
[]
[null,"OPTION : About Industry 4.0"]
[]
[]
[null,null,"From now on, our equipment will be equipped with intelligent sensors to meet the requirements of Industry 4.0.\nThese intelligent sensors can be connected to each other and to the Internet, whose data can be recorded centrally in the control system or in the cloud.\nThis digital data will provide the user with the information needed to optimise processes.\n\nMost \"Endress Hauser\" instruments are equipped with Profinet communication and the \"Heartbeat Technology\" option.\nThe instruments installed on our equipment include Promag P300 electromagnetic flowmeters, PMC71B pressure transmitters and FMR60B radars.\nFor other instruments without Profinet communication, the Hart protocol will be used.\n\n\nThis Heartbeat Technology option offers the following benefits:\n- Greater reliability and safety: more reliable device performance under different operating conditions. Thanks in particular to development in line with international standards (Heartbeat Diagnostics).\n- Increased plant efficiency and availability: Efficient operation thanks to fast, clear, standardised diagnostic messages in accordance with NAMUR NE 107. This will provide you with easy-to-follow recommendations for remedying problems (Heartbeat Diagnostics).\n- Certified verification of measuring instruments: Assisted procedure for in-situ, traceable verification of measuring instruments to comply with ISO 9001. All in a single click and without interrupting the process. And all without having to dismantle the instrument (Heartbeat Verification).\n- Improved productivity and guaranteed compliance: automatically generated verification reports for optimised monitoring in full compliance (Heartbeat Verification).\n- Fast, intelligent, predictive measurement: condition monitoring functions for process optimisation and timely planning of maintenance requirements (Heartbeat Monitoring).\n\nIO-link technology is selected for all digital sensors. This IO-Link digital communication protocol enables simple connection of sensors via the loop to an IO-link master converter and to the Profinet network for data feedback to the control system.\n"]
[]
[]
[]
[]
[]
[]
[]
[]
[]
[]
[]
[]
[]
[]
[]
[]
[]
[]
[]
[]
[]
[]
[]
[]
[]
[]
[]
[]
[]
[]
[]
[]
[]
[]
[]
[]
[]
[]
[]
[]
[]
[]
[]
[]
[]
[]
[null,null,"Benefits:\n- Point-to-point connection between a sensor/actuator and an IO-Link Master, with simple, transparent integration into industrial Ethernet networks (IO-Link Ethernet/IP, Profinet)\n- Simple parameterisation of IO-Link sensors via Bluetooth interface or from the PLC\n- Access to a wealth of data and use of advanced sensor functions\n- Diagnostics and alarm management via the IO-Link protocol\n- Automatic configuration management: parameters stored in the Master and identification of the sensor being replaced\n\nAll this intelligent sensor technology will enable real-time communication from the control room down to field level, the ability to perform advanced sensor diagnostics at any time, and fast, secure access to device and process data.\n\n...Ready for Industry 4.0..."]

{"sheet":"ERECTION","index":108,"n_rows":48,"n_cols":18,"rows_kept":48,"cut":false,"hidden":false,"merged":[[1046,16,1046,21],[1048,0,1048,25],[989,3,990,24],[1015,3,1016,24],[1022,3,1024,24],[1025,3,1028,24],[1029,3,1030,24],[1034,0,1036,25],[966,3,967,24],[855,5,856,11],[865,3,866,24],[870,3,871,24],[872,3,873,24],[877,3,878,24],[880,3,881,24],[938,17,939,24],[957,3,958,24],[959,3,960,24],[961,3,962,24],[963,3,964,24],[803,3,804,24],[607,3,608,24],[620,3,621,24],[638,17,639,24],[656,17,658,24],[681,17,682,24],[694,17,696,24],[698,17,699,24],[713,17,714,24],[750,3,751,24],[769,3,771,24],[791,17,792,24],[570,3,572,24],[459,3,462,24],[467,3,471,24],[474,17,475,24],[477,17,478,24],[482,3,483,24],[484,3,484,24],[485,3,486,24],[516,17,517,24],[557,3,559,24],[562,3,563,24],[567,17,568,24],[457,3,458,24],[374,17,375,24],[379,17,380,24],[384,3,386,24],[387,3,387,24],[391,17,392,24],[414,3,415,24],[430,3,431,24],[432,5,432,24],[433,5,434,24],[436,5,437,24],[438,5,439,24],[372,17,373,24],[245,3,245,24],[246,3,247,24],[299,17,300,24],[318,3,319,24],[327,3,328,24],[337,17,338,24],[344,17,345,24],[347,17,348,24],[351,17,353,24],[357,17,358,24],[370,17,371,24],[243,3,244,24],[1,0,1,25],[5,3,6,24],[16,3,17,24],[54,0,56,25],[66,16,66,21],[68,0,68,25],[103,0,105,27],[177,17,178,24],[227,3,228,24],[234,5,236,24],[237,5,239,24]]}
[]
["Appendix \"ERECTION ON SITE\""]
[]
[null,null,null,"ERECTION ON SITE"]
[null,null,null,"According to HASLER Group's enclosed daily contractual fees."]
[null,null,null,"Depending of the means, manpower supplied by the client and the site conditions. The here after estimations should be discussed."]
[]
[null,null,null,"For erection, customer will provide all specified equipments for lifting, handling, power."]
[]
[null,null,null,null,null,null,null,null,null,"HASLER Group",null,null,null,null,null,null,null,"Customer"]
[null,null,null,null,null,null,null,null,null,"manpower",null,null,null,null,null,null,null,"manpower per filter"]
[null,null,null,"Erection",null,null,null,null,null,"One supervisor",null,null,null,null,null,null,null,"See planning"]
[]
[null,null,null,{"$f":"\"Estimated duration: \"&'Offre NEW'!M5&IF('Offre NEW'!M5=1,\" week \",\" weeks \")&\"- to be confirmed during KOM\"","v":"Estimated duration: 3 weeks - to be confirmed during KOM"}]
[]
[null,null,null,"Special tools for erection supplied by HASLER Group"]
[null,null,"-","Special tools and accessories (which are specific to HASLER Group) for cold bonding of the curbs. These equipments are imported temporary by HASLER Group. \n"]
[]
[]
[null,null,"-","Specific supports according HASLER Group drawing"]
[null,"NOTE: ",null,{"$f":"\"Transportation cost for these equipments will be charged toCustomer.\"","v":"Transportation cost for these equipments will be charged toCustomer."}]
[]
[null,null,null,{"$f":"\"Tools for erection to be provided by customer\"","v":"Tools for erection to be provided by customer"}]
[null,null,"-",{"$f":"\"Means of lifting, cranes, pulley block.... Heavy  piece = \"&ROUNDUP([1]Calculations!R63,-3)&\" kg.\"","v":"Means of lifting, cranes, pulley block.... Heavy  piece = 2000 kg."}]
[null,null,"-","One (1) theodolite."]
[null,null,"-","One (1) welding generator (TIG)."]
[null,null,"-","Standard tools and safety accessories necessary for each filter."]
[null,null,"-","Two (2) Wooden floor length 10 meters for each filter."]
[null,null,"-","Two (2) Textil slings length 2 meters, 2 tons."]
[null,null,"-","Two (2) Textil slings length 1 meters, 2 tons."]
[null,null,"-","Two (2) Textil slings length 2 meters, 4 tons."]
[null,null,"-","Two (2) Textil slings length 4 meters, 6 tons."]
[null,null,"-","Three (3) Textil slings length 6 meters, 6 tons."]
[null,null,"-","Four (4) shackles 10 tons."]
[null,null,"-","Two (2) Pulley blocks 1 ton."]
[null,null,"-","One (1) lifting beam 10 ton according the HASLER Group specifications."]
[null,null,"-","Two (2) ladders 3 meters."]
[null,null,"-","One (1) jacks 6 tons."]
[null,null,"-","Two (2) winch cables 5 tons."]
[null,null,"-","Two (2) pneumatic machine bolts"]
[null,null,"-","One (1) dynamometrical spanner machine bolts"]
[]
[null,null,null,"Utilities for filter erection"]
[null,null,"-","Compressed air: 7 bar."]
[null,null,"-","Electricity: 240 V with electrical junction box."]
[null,null,"-","Power electricity with inverter at disposal 3 weeks after the beginning of filter erection."]
[null,null,"-","Storage for small equipments as screws, nuts..... near each filter."]
[null,null,"-","Lifting."]

{"sheet":"START UP","index":109,"n_rows":26,"n_cols":6,"rows_kept":26,"cut":false,"hidden":false,"merged":[[1048,0,1048,25],[959,3,960,24],[961,3,962,24],[963,3,964,24],[966,3,967,24],[989,3,990,24],[1015,3,1016,24],[1022,3,1024,24],[1025,3,1028,24],[1029,3,1030,24],[1034,0,1036,25],[1046,16,1046,21],[957,3,958,24],[750,3,751,24],[769,3,771,24],[791,17,792,24],[803,3,804,24],[855,5,856,11],[865,3,866,24],[870,3,871,24],[872,3,873,24],[877,3,878,24],[880,3,881,24],[938,17,939,24],[713,17,714,24],[557,3,559,24],[562,3,563,24],[567,17,568,24],[570,3,572,24],[607,3,608,24],[620,3,621,24],[638,17,639,24],[656,17,658,24],[681,17,682,24],[694,17,696,24],[698,17,699,24],[516,17,517,24],[433,5,434,24],[436,5,437,24],[438,5,439,24],[457,3,458,24],[459,3,462,24],[467,3,471,24],[474,17,475,24],[477,17,478,24],[482,3,483,24],[484,3,484,24],[485,3,486,24],[432,5,432,24],[351,17,353,24],[357,17,358,24],[370,17,371,24],[372,17,373,24],[374,17,375,24],[379,17,380,24],[384,3,386,24],[387,3,387,24],[391,17,392,24],[414,3,415,24],[430,3,431,24],[347,17,348,24],[227,3,228,24],[234,5,236,24],[237,5,239,24],[243,3,244,24],[245,3,245,24],[246,3,247,24],[299,17,300,24],[318,3,319,24],[327,3,328,24],[337,17,338,24],[344,17,345,24],[177,17,178,24],[1,0,1,25],[54,0,56,25],[66,16,66,21],[68,0,68,25],[103,0,105,27]]}
[]
["Appendix \"COMMISSIONING ON SITE\""]
[]
[null,null,null,{"$f":"\"Estimated duration: \"&'Offre NEW'!M6+'Offre NEW'!M7&\" weeks\"","v":"Estimated duration: 2 weeks"}]
[]
[null,null,null,"During the period provided for commissioning, our engineer with customer technicians will do:"]
[null,null,"-","Mechanical start-up."]
[null,null,"-","Check all components."]
[null,null,"-","Adjust technical parameters."]
[null,null,"-","Feed filter with slurry."]
[null,null,"-","Optimize technical parameters."]
[]
[null,null,null,"Training of customer technicians:"]
[null,null,"-","Theory of vacuum filtration, explanation and questions-and-answers."]
[null,null,"-","Description of the installation"]
[null,null,null,null,"•","General description of the main components."]
[null,null,null,null,"•","Filter."]
[null,null,null,null,"•","Receivers, vacuum pump, filtrate pumps…"]
[null,null,"-","Details of filter"]
[null,null,null,null,"•","Description of the main components and their function."]
[null,null,null,null,"•","Theoretical."]
[null,null,null,null,"•","Practice on site including demonstration."]
[null,null,"-","Start-up – Commissioning of the filter"]
[null,null,null,null,"•","Without product"]
[null,null,null,null,"•","With product"]
[null,null,"-","Comments and verification of people knowledge"]

{"sheet":"SPARE PARTS & MAINTENANCE","index":110,"n_rows":93,"n_cols":15,"rows_kept":93,"cut":false,"hidden":true,"merged":[[1097,3,1099,24],[1100,3,1103,24],[1104,3,1105,24],[1109,0,1111,25],[1121,16,1121,21],[1123,0,1123,25],[1034,3,1035,24],[1036,3,1037,24],[1038,3,1039,24],[1041,3,1042,24],[1064,3,1065,24],[1090,3,1091,24],[945,3,946,24],[947,3,948,24],[952,3,953,24],[955,3,956,24],[1013,17,1014,24],[1032,3,1033,24],[825,3,826,24],[844,3,846,24],[866,17,867,24],[878,3,879,24],[930,5,931,11],[940,3,941,24],[713,17,714,24],[731,17,733,24],[756,17,757,24],[769,17,771,24],[773,17,774,24],[788,17,789,24],[632,3,634,24],[637,3,638,24],[642,17,643,24],[645,3,647,24],[682,3,683,24],[695,3,696,24],[549,17,550,24],[552,17,553,24],[557,3,558,24],[559,3,559,24],[560,3,561,24],[591,17,592,24],[508,5,509,24],[511,5,512,24],[513,5,514,24],[532,3,533,24],[534,3,537,24],[542,3,546,24],[459,3,461,24],[462,3,462,24],[466,17,467,24],[489,3,490,24],[505,3,506,24],[507,5,507,24],[426,17,428,24],[432,17,433,24],[445,17,446,24],[447,17,448,24],[449,17,450,24],[454,17,455,24],[374,17,375,24],[393,3,394,24],[402,3,403,24],[412,17,413,24],[419,17,420,24],[422,17,423,24],[302,3,303,24],[309,5,311,24],[312,5,314,24],[318,3,319,24],[320,3,320,24],[321,3,322,24],[92,3,92,23],[129,0,131,25],[141,16,141,21],[143,0,143,25],[178,0,180,27],[252,17,253,24],[70,3,72,23],[75,3,77,23],[80,3,80,23],[83,3,83,23],[86,3,87,23],[90,3,91,23],[47,3,48,23],[51,3,52,23],[53,3,54,23],[58,3,59,23],[60,3,63,23],[64,3,67,23],[26,4,26,8],[26,9,26,13],[26,14,26,18],[27,4,27,8],[27,9,27,13],[27,14,27,18],[24,4,24,8],[24,9,24,13],[24,14,24,18],[25,4,25,8],[25,9,25,13],[25,14,25,18],[22,4,22,8],[22,9,22,13],[22,14,22,18],[23,4,23,8],[23,9,23,13],[23,14,23,18],[20,4,20,8],[20,9,20,13],[20,14,20,18],[21,4,21,8],[21,9,21,13],[21,14,21,18],[18,4,18,8],[18,9,18,13],[18,14,18,18],[19,4,19,8],[19,9,19,13],[19,14,19,18],[14,4,14,8],[14,9,14,13],[14,14,14,18],[11,4,11,8],[11,9,11,13],[11,14,11,18],[12,4,12,8],[12,9,12,13],[12,14,12,18],[1,0,1,25],[9,4,9,8],[9,9,9,13],[9,14,9,18],[10,4,10,8],[10,9,10,13],[10,14,10,18],[13,4,13,8],[13,9,13,13],[13,14,13,18]]}
[]
["Appendix SPARE PARTS - MAINTENANCE SCHEDULE "]
[]
[]
[]
[null,null,"We offer following spare parts:"]
[]
[null,null,null,"Commissioning spare parts"]
[]
[null,null,null,null,"Description",null,null,null,null,"Qty on filter ",null,null,null,null,"Recommended qty "]
[null,null,null,null,{"$f":"'[19]PdR ENG'!C34","v":"Filter cloth"},null,null,null,null,{"$f":"'PdR ENG'!D34","v":1},null,null,null,null,{"$f":"'PdR ENG'!E34","v":1}]
[null,null,null,null,{"$f":"'[19]PdR ENG'!C38","v":"Table wear belt"},null,null,null,null,{"$f":"'PdR ENG'!D38","v":4},null,null,null,null,{"$f":"'PdR ENG'!E38","v":2}]
[null,null,null,null,{"$f":"'[19]PdR ENG'!C48","v":"Vacuum box wear belts"},null,null,null,null,{"$f":"'PdR ENG'!D48","v":2},null,null,null,null,{"$f":"'PdR ENG'!E48","v":2}]
[null,null,null,null,{"$f":"'[19]PdR ENG'!C54","v":"Spray nozzle"},null,null,null,null,{"$f":"'PdR ENG'!D54","v":36},null,null,null,null,{"$f":"'PdR ENG'!E54","v":10}]
[]
[]
[null,null,"In option are offered 2 years recommended spare parts:"]
[]
[null,null,null,null,"Description",null,null,null,null,"Qty on filter ",null,null,null,null,"Recommended qty "]
[null,null,null,null,"Cloth tracking edge sensor",null,null,null,null,{"$f":"'PdR ENG'!D13","v":1},null,null,null,null,{"$f":"'PdR ENG'!G13","v":2}]
[null,null,null,null,"Filter cloth",null,null,null,null,{"$f":"'PdR ENG'!D34","v":1},null,null,null,null,{"$f":"'PdR ENG'!G34","v":3}]
[null,null,null,null,"Table wear belt",null,null,null,null,{"$f":"'PdR ENG'!D38","v":4},null,null,null,null,{"$f":"'PdR ENG'!G38","v":4}]
[null,null,null,null,"Set of V-Belt",null,null,null,null,{"$f":"'PdR ENG'!D45","v":1},null,null,null,null,{"$f":"'PdR ENG'!G45","v":1}]
[null,null,null,null,"Vacuum box sliding rules",null,null,null,null,{"$f":"'PdR ENG'!D47","v":1},null,null,null,null,{"$f":"'PdR ENG'!G47","v":1}]
[null,null,null,null,"Vacuum box wear belts",null,null,null,null,{"$f":"'PdR ENG'!D48","v":2},null,null,null,null,{"$f":"'PdR ENG'!H48","v":2}]
[null,null,null,null,"Rubber sleeve",null,null,null,null,{"$f":"'PdR ENG'!D51","v":4},null,null,null,null,{"$f":"'PdR ENG'!G48","v":4}]
[null,null,null,null,"Scraper",null,null,null,null,{"$f":"'PdR ENG'!D53","v":1},null,null,null,null,{"$f":"'PdR ENG'!G53","v":2}]
[null,null,null,null,"Spray nozzle",null,null,null,null,{"$f":"'PdR ENG'!D54","v":36},null,null,null,null,{"$f":"'PdR ENG'!G54","v":36}]
[]
[]
[]
[]
[]
[]
[]
[]
[]
[]
[]
[]
[]
[]
[]
[]
[null,null,"Below an estimation schedule for maintenance operations"]
[]
[null,"FRAME"]
[null,null,null,"Once a week, in the case of pulp overflow, wash the framework completely, taking care not to splash the bearing blocks"]
[]
[]
[null,"BELT SUPPORT TABLE "]
[null,null,null,"Check the wear of the wear belts and the absence of cuts. If the wear belts are \ndamaged, replace them."]
[]
[null,null,null,"If necessary, retighten the wear belts with the clevis tensioner rods located at the ends of the longitudinal support rails"]
[]
[null,null,null,"Check the state of wear of the sliding strips and replace them if they are too worn"]
[]
[null,"CONVEYOR BELT"]
[null,null,null,"The definitive tension of the belt is obtained after a certain operating time, necessary to \nrelease internal manufacturing stress"]
[]
[null,null,null,"For at least a month, make sure that the belt turns correctly.\nIt is necessary to act on the screw of the tensioner slides of the tail pulley and on the lateral belt guiding rollers in order to tension and stabilize the lateral movement of the belt."]
[]
[]
[]
[null,null,null,"Regularly do the following:\ncheck that the belt is properly washed by the spray bars\ncheck the state of the curbs as they are quite fragile\nadjust the belt tension and correct position of the lateral guiding rollers"]
[]
[]
[]
[]
[null,"TAIL and HEAD PULLEY"]
[null,null,null,"Check that the bearing block lubrication is correct\nCoat the threaded rods on both sides of the drum with grease\nOnce a year, check the state of the rubber lining."]
[]
[]
[]
[null,"ROLLERS"]
[null,null,null,"Check that the rollers are horizontal and parallel to one another\nEvery day, check that the rollers do not clog\nCheck that the lubrification is correct"]
[]
[]
[]
[null,"DRIVING GROUP"]
[null,null,null,"Check that the oil level of the gear box is correct\n"]
[]
[null,"CLOTH AND BELT WASHING"]
[null,null,null,"Regularly ensure that the spray nozzles are not blocked and, if necessary, change them\n"]
[]
[null,"CAKE SCRAPER BLADE "]
[null,null,null,"Verify that all of the scraper blades are aligned and in contact with the filter cloth.\nEvery year, check the scraper’s fixing sets."]
[]
[]
[null,"UPPER ACCESSORIES : Feeder, dams, washing pipes"]
[null,null,null,"In the case of overflow and at each stop, thoroughly wash the internal and external feeder \nparts."]
[]
[null,null,null,"Check the wear of the rubber flaps"]

{"sheet":"Factory Acceptance Test EN","index":111,"n_rows":5,"n_cols":2,"rows_kept":5,"cut":false,"hidden":true,"merged":[[1043,0,1043,26],[1010,3,1011,25],[1017,3,1019,25],[1020,3,1023,25],[1024,3,1025,25],[1029,0,1031,26],[1041,16,1041,21],[984,3,985,25],[860,3,861,25],[865,3,866,25],[867,3,868,25],[872,3,873,25],[875,3,876,25],[933,17,934,25],[952,3,953,25],[954,3,955,25],[956,3,957,25],[958,3,959,25],[961,3,962,25],[850,5,851,11],[615,3,616,25],[633,17,634,25],[651,17,653,25],[676,17,677,25],[689,17,691,25],[693,17,694,25],[708,17,709,25],[745,3,746,25],[764,3,766,25],[786,17,787,25],[798,3,799,25],[602,3,603,25],[462,3,466,25],[469,17,470,25],[472,17,473,25],[477,3,478,25],[479,3,479,25],[480,3,481,25],[511,17,512,25],[552,3,554,25],[557,3,558,25],[562,17,563,25],[565,3,567,25],[454,3,457,25],[374,17,375,25],[379,3,381,25],[382,3,382,25],[386,17,387,25],[409,3,410,25],[425,3,426,25],[427,5,427,25],[428,5,429,25],[431,5,432,25],[433,5,434,25],[452,3,453,25],[369,17,370,25],[241,3,242,25],[294,17,295,25],[313,3,314,25],[322,3,323,25],[332,17,333,25],[339,17,340,25],[342,17,343,25],[346,17,348,25],[352,17,353,25],[365,17,366,25],[367,17,368,25],[240,3,240,25],[1,0,1,26],[4,1,45,24],[49,0,51,26],[61,16,61,21],[63,0,63,26],[98,0,100,28],[172,17,173,25],[222,3,223,25],[229,5,231,25],[232,5,234,25],[238,3,239,25]]}
[]
["Appendix \"FACTORY ACCEPTANCE TEST (FAT)\""]
[]
[]
[null,"- Audit of the customer before shipment / FAT (1day) :\nCold run : for controlling the good functioning of the motorized machines (Drum filter, Vacuum pump, Filtrate pump...)\n\n\nEvery equipments will be connected to the Central control system\n- A run will be operated through this control command for each of these equipments\n- Communication links between Central control system and equipments will be tested\n\n \n\nFAT validation conditions :\n• The satisfactory fulfilment of all required regulatory, contractual inspections and workshop \nacceptance, excluding performance tests.\n• The effective end of the Assembly Works of the Supply in the workshop.\n• Acceptance by CARESTER of all documents associated with the Factory Acceptance that must be \nprovided by the Supplier."]

{"sheet":"Site Acceptance Test EN","index":112,"n_rows":5,"n_cols":2,"rows_kept":5,"cut":false,"hidden":false,"merged":[[1043,0,1043,26],[1010,3,1011,25],[1017,3,1019,25],[1020,3,1023,25],[1024,3,1025,25],[1029,0,1031,26],[1041,16,1041,21],[984,3,985,25],[860,3,861,25],[865,3,866,25],[867,3,868,25],[872,3,873,25],[875,3,876,25],[933,17,934,25],[952,3,953,25],[954,3,955,25],[956,3,957,25],[958,3,959,25],[961,3,962,25],[850,5,851,11],[615,3,616,25],[633,17,634,25],[651,17,653,25],[676,17,677,25],[689,17,691,25],[693,17,694,25],[708,17,709,25],[745,3,746,25],[764,3,766,25],[786,17,787,25],[798,3,799,25],[602,3,603,25],[462,3,466,25],[469,17,470,25],[472,17,473,25],[477,3,478,25],[479,3,479,25],[480,3,481,25],[511,17,512,25],[552,3,554,25],[557,3,558,25],[562,17,563,25],[565,3,567,25],[454,3,457,25],[374,17,375,25],[379,3,381,25],[382,3,382,25],[386,17,387,25],[409,3,410,25],[425,3,426,25],[427,5,427,25],[428,5,429,25],[431,5,432,25],[433,5,434,25],[452,3,453,25],[369,17,370,25],[241,3,242,25],[294,17,295,25],[313,3,314,25],[322,3,323,25],[332,17,333,25],[339,17,340,25],[342,17,343,25],[346,17,348,25],[352,17,353,25],[365,17,366,25],[367,17,368,25],[240,3,240,25],[1,0,1,26],[4,1,45,24],[49,0,51,26],[61,16,61,21],[63,0,63,26],[98,0,100,28],[172,17,173,25],[222,3,223,25],[229,5,231,25],[232,5,234,25],[238,3,239,25]]}
[]
["Appendix \"SITE ACCEPTANCE TEST (SAT)\""]
[]
[]
[null,"- Audit with the customer on customer's site / SAT (2 days) :\n\nThis procedure describes the check points that will be performed for the following equipment :\n\nMECHANICAL TEST OF BELT FILTERS\n   - Checking the belt movement\n   - Checking the belt supporting device\n   - Checking the cloth course (Cloth not installed)\n   - Checking the driving unit\n   - Checking the pneumatic working\n   - Checking the electrical connections\n   - Table flatness / Alignment of vacuum box and table\n   - Square of the filter / Leveling\n   - Other controls\n\nTEST PROCEDURE FOR LOCAL CONTROL PANELS AND JUNCTION BOXES\n   - Local control panel\n   - Junction boxes located on filter\n\nINSTRUMENTATION TEST\n\n\n\n\nNB : Before the equipment leaves our assembly site in Le Mêle-sur-Sarthe, a customer visit will be scheduled.\nThe purpose of this visit is to carry out a visual inspection, in the presence of the customer and the person in charge of this subject at HASLER, and to ensure that all components meet the initial requirements."]

{"sheet":"WATER QUALITY","index":113,"n_rows":63,"n_cols":17,"rows_kept":63,"cut":false,"hidden":false,"merged":[[1034,16,1034,21],[1036,0,1036,25],[977,3,978,24],[1003,3,1004,24],[1010,3,1012,24],[1013,3,1016,24],[1017,3,1018,24],[1022,0,1024,25],[926,17,927,24],[945,3,946,24],[947,3,948,24],[949,3,950,24],[951,3,952,24],[954,3,955,24],[843,5,844,11],[853,3,854,24],[858,3,859,24],[860,3,861,24],[865,3,866,24],[868,3,869,24],[686,17,687,24],[701,17,702,24],[738,3,739,24],[757,3,759,24],[779,17,780,24],[791,3,792,24],[595,3,596,24],[608,3,609,24],[626,17,627,24],[644,17,646,24],[669,17,670,24],[682,17,684,24],[473,3,474,24],[504,17,505,24],[545,3,547,24],[550,3,551,24],[555,17,556,24],[558,3,560,24],[447,3,450,24],[455,3,459,24],[462,17,463,24],[465,17,466,24],[470,3,471,24],[472,3,472,24],[418,3,419,24],[420,5,420,24],[421,5,422,24],[424,5,425,24],[426,5,427,24],[445,3,446,24],[362,17,363,24],[367,17,368,24],[372,3,374,24],[375,3,375,24],[379,17,380,24],[402,3,403,24],[332,17,333,24],[335,17,336,24],[339,17,341,24],[345,17,346,24],[358,17,359,24],[360,17,361,24],[233,3,233,24],[234,3,235,24],[287,17,288,24],[306,3,307,24],[315,3,316,24],[325,17,326,24],[91,0,93,27],[165,17,166,24],[215,3,216,24],[222,5,224,24],[225,5,227,24],[231,3,232,24],[60,1,60,15],[61,1,61,15],[62,1,62,15],[57,1,57,15],[58,1,58,15],[59,1,59,15],[57,16,57,24],[58,16,58,24],[59,16,59,24],[60,16,60,24],[61,16,61,24],[62,16,62,24],[54,1,54,15],[55,1,55,15],[56,1,56,15],[51,1,51,15],[52,1,52,15],[53,1,53,15],[51,16,51,24],[52,16,52,24],[53,16,53,24],[54,16,54,24],[55,16,55,24],[56,16,56,24],[48,1,48,15],[49,1,49,15],[50,1,50,15],[33,1,33,15],[33,16,33,23],[44,0,44,25],[46,1,46,15],[47,1,47,15],[47,16,47,24],[46,16,46,24],[48,16,48,24],[49,16,49,24],[50,16,50,24],[30,1,30,15],[30,16,30,23],[31,1,31,15],[31,16,31,23],[32,1,32,15],[32,16,32,23],[27,1,27,15],[27,16,27,23],[28,1,28,15],[28,16,28,23],[29,1,29,15],[29,16,29,23],[24,1,24,15],[24,16,24,23],[25,1,25,15],[25,16,25,23],[26,1,26,15],[26,16,26,23],[21,1,21,15],[21,16,21,23],[22,1,22,15],[22,16,22,23],[23,1,23,15],[23,16,23,23],[18,1,18,15],[19,1,19,15],[20,1,20,15],[15,1,15,15],[16,1,16,15],[17,1,17,15],[15,16,15,24],[16,16,16,24],[17,16,17,24],[18,16,18,24],[19,16,19,24],[20,16,20,24],[12,1,12,15],[13,1,13,15],[14,1,14,15],[9,1,9,15],[10,1,10,15],[11,1,11,15],[9,16,9,24],[10,16,10,24],[11,16,11,24],[12,16,12,24],[13,16,13,24],[14,16,14,24],[6,1,6,15],[7,1,7,15],[8,1,8,15],[1,0,1,25],[3,1,3,15],[4,1,4,15],[5,1,5,15],[3,16,3,24],[4,16,4,24],[5,16,5,24],[6,16,6,24],[7,16,7,24],[8,16,8,24]]}
[]
["Appendix \"Water Content quality - Vacuum Wear Belt and Table Wear Belt lubrication\""]
[]
[null,"Water Content quality - Vacuum Wear Belt \nand Table Wear Belt lubrication",null,null,null,null,null,null,null,null,null,null,null,null,null,null," Range"]
[null,"Floating particles (mg/l)",null,null,null,null,null,null,null,null,null,null,null,null,null,null,"<200"]
[null,"Temperature (°C)",null,null,null,null,null,null,null,null,null,null,null,null,null,null,"<45"]
[null,"Conductivity (µS/cm)",null,null,null,null,null,null,null,null,null,null,null,null,null,null,"1 - 1000"]
[null,"pH",null,null,null,null,null,null,null,null,null,null,null,null,null,null,"8,5 > > 6,5"]
[null,"Water hardness in °dH",null,null,null,null,null,null,null,null,null,null,null,null,null,null,"5 - 15"]
[null,"Carbonate hardness in °dH",null,null,null,null,null,null,null,null,null,null,null,null,null,null,"<15"]
[null,"Chloride (Cl-) (mg/l)",null,null,null,null,null,null,null,null,null,null,null,null,null,null,"<250"]
[null,"Sulphate (SO4 2-) (mg/l)",null,null,null,null,null,null,null,null,null,null,null,null,null,null,"<350"]
[null,"Free carbonic acid (mg/l)",null,null,null,null,null,null,null,null,null,null,null,null,null,null,0]
[null,"Nitrate (NO3-) (mg/l)",null,null,null,null,null,null,null,null,null,null,null,null,null,null,"<50"]
[null,"Potassium permanganate usage (mg/l)",null,null,null,null,null,null,null,null,null,null,null,null,null,null,25]
[null,"Ammonium NH4+ (mg/l)",null,null,null,null,null,null,null,null,null,null,null,null,null,null,"<5"]
[null,"Organics - Hydrocarbures",null,null,null,null,null,null,null,null,null,null,null,null,null,null,"Forbidden"]
[null,"Demineralized water",null,null,null,null,null,null,null,null,null,null,null,null,null,null,"Forbidden"]
[null,{"$f":"\"Belt support wear belt lubrication water flow in l/hr for \"&Calculations!K10&\" Filters\"","v":"Belt support wear belt lubrication water flow in l/hr for 2B5 Filters"},null,null,null,null,null,null,null,null,null,null,null,null,null,null,{"$f":"Calculations!Q40","v":"Non!"}]
[null,{"$f":"\"Vacuum box wear belt lubrication water flow in l/hr for \"&Calculations!K10&\" Filters\"","v":"Vacuum box wear belt lubrication water flow in l/hr for 2B5 Filters"},null,null,null,null,null,null,null,null,null,null,null,null,null,null,{"$f":"Calculations!E41","v":80}]
[null,"Pressure for Vacuum box and Table lubrication (bar)",null,null,null,null,null,null,null,null,null,null,null,null,null,null,"1 (<4 mandatory)"]
[]
[]
[]
[]
[]
[]
[]
[]
[]
[]
[]
[]
[]
[]
[]
[]
[]
[]
[]
[]
[]
[]
[]
["Appendix \"Water Content quality - Cloth and Belt washing water\""]
[]
[null,"Water Content quality - Cloth and Belt washing water\nand Table Wear Belt lubrication",null,null,null,null,null,null,null,null,null,null,null,null,null,null," Range"]
[null,"Floating particles (mg/l)",null,null,null,null,null,null,null,null,null,null,null,null,null,null,"<200"]
[null,"Temperature (°C)",null,null,null,null,null,null,null,null,null,null,null,null,null,null,"<45"]
[null,"Conductivity (µS/cm)",null,null,null,null,null,null,null,null,null,null,null,null,null,null,"1 - 1000"]
[null,"pH",null,null,null,null,null,null,null,null,null,null,null,null,null,null,"8,5 > > 6,5"]
[null,"Water hardness in °dH",null,null,null,null,null,null,null,null,null,null,null,null,null,null,"5 - 15"]
[null,"Carbonate hardness in °dH",null,null,null,null,null,null,null,null,null,null,null,null,null,null,"<15"]
[null,"Chloride (Cl-) (mg/l)",null,null,null,null,null,null,null,null,null,null,null,null,null,null,"<250"]
[null,"Sulphate (SO4 2-) (mg/l)",null,null,null,null,null,null,null,null,null,null,null,null,null,null,"<350"]
[null,"Free carbonic acid (mg/l)",null,null,null,null,null,null,null,null,null,null,null,null,null,null,0]
[null,"Nitrate (NO3-) (mg/l)",null,null,null,null,null,null,null,null,null,null,null,null,null,null,"<50"]
[null,"Potassium permanganate usage (mg/l)",null,null,null,null,null,null,null,null,null,null,null,null,null,null,25]
[null,"Ammonium NH4+ (mg/l)",null,null,null,null,null,null,null,null,null,null,null,null,null,null,"<5"]
[null,"Organics - Hydrocarbures",null,null,null,null,null,null,null,null,null,null,null,null,null,null,"Forbidden"]
[null,"Demineralized water",null,null,null,null,null,null,null,null,null,null,null,null,null,null,"Forbidden"]
[null,"Belt and Cloth washing water flow in m3/hr for 2B5 Filters",null,null,null,null,null,null,null,null,null,null,null,null,null,null,{"$f":"Calculations!G41","v":2.98}]
[null,"Pressure for Cloth and Belt washing water (bar)",null,null,null,null,null,null,null,null,null,null,null,null,null,null,"> 3"]

{"sheet":"PROCESS PERFORMANCE GUARANTEE","index":114,"n_rows":220,"n_cols":19,"rows_kept":220,"cut":false,"hidden":true,"merged":[[1033,0,1033,25],[1000,3,1001,24],[1007,3,1009,24],[1010,3,1013,24],[1014,3,1015,24],[1019,0,1021,25],[1031,16,1031,21],[942,3,943,24],[944,3,945,24],[946,3,947,24],[948,3,949,24],[951,3,952,24],[974,3,975,24],[850,3,851,24],[855,3,856,24],[857,3,858,24],[862,3,863,24],[865,3,866,24],[923,17,924,24],[698,17,699,24],[735,3,736,24],[754,3,756,24],[776,17,777,24],[788,3,789,24],[840,5,841,11],[605,3,606,24],[623,17,624,24],[641,17,643,24],[666,17,667,24],[679,17,681,24],[683,17,684,24],[501,17,502,24],[542,3,544,24],[547,3,548,24],[552,17,553,24],[555,3,557,24],[592,3,593,24],[452,3,456,24],[459,17,460,24],[462,17,463,24],[467,3,468,24],[469,3,469,24],[470,3,471,24],[417,5,417,24],[418,5,419,24],[421,5,422,24],[423,5,424,24],[442,3,443,24],[444,3,447,24],[364,17,365,24],[369,3,371,24],[372,3,372,24],[376,17,377,24],[399,3,400,24],[415,3,416,24],[332,17,333,24],[336,17,338,24],[342,17,343,24],[355,17,356,24],[357,17,358,24],[359,17,360,24],[219,4,227,23],[284,17,285,24],[303,3,304,24],[312,3,313,24],[322,17,323,24],[329,17,330,24],[139,3,143,23],[148,3,168,23],[174,3,185,23],[189,3,189,23],[196,4,204,23],[209,4,214,23],[93,3,94,23],[96,4,104,23],[114,3,115,23],[117,4,123,23],[125,3,126,23],[131,3,132,23],[35,1,37,23],[44,3,47,23],[49,3,51,23],[59,3,62,23],[64,3,68,23],[70,3,84,23],[28,2,28,22],[29,2,32,7],[29,8,29,17],[29,18,29,22],[30,8,30,17],[30,18,30,22],[31,8,31,17],[31,18,31,22],[32,8,32,17],[32,18,32,22],[24,2,24,22],[25,2,27,7],[25,8,25,17],[25,18,25,22],[26,8,26,17],[26,18,26,22],[27,8,27,17],[27,18,27,22],[19,2,19,22],[20,2,23,7],[20,8,20,17],[20,18,20,22],[21,8,21,17],[21,18,21,22],[22,8,22,17],[22,18,22,22],[23,8,23,17],[23,18,23,22],[16,2,16,22],[17,2,18,7],[17,8,17,17],[17,18,17,22],[18,8,18,17],[18,18,18,22],[13,8,13,17],[13,18,13,22],[14,8,14,17],[14,18,14,22],[15,8,15,17],[15,18,15,22],[1,0,1,25],[4,1,6,23],[9,8,9,22],[10,2,15,7],[10,8,10,17],[10,18,10,22],[11,8,11,17],[11,18,11,22],[12,8,12,17],[12,18,12,22]]}
[]
["Appendix \"PROCESS PERFORMANCE GUARANTEE \""]
[]
[]
[null,"According to the technical specifications of the inquiry and the enclosed general flow-sheet (based on the nominal flow rates) and provided that main characteristics the slurry shall be as follows:"]
[]
[]
[]
[]
[null,null,null,null,null,null,null,null,"Slurry - Soda Ash (SOLVAY Process)"]
[null,null,"Slurry Characteristics\n\n(for performances guarantee)",null,null,null,null,null,"Production (m3/h)",null,null,null,null,null,null,null,null,null,90]
[null,null,null,null,null,null,null,null,"Density (T/m3)",null,null,null,null,null,null,null,null,null,1.4]
[null,null,null,null,null,null,null,null,"Solids Concentration (%w/w)",null,null,null,null,null,null,null,null,null,0.2]
[null,null,null,null,null,null,null,null,"Production Dry Solids (T/h) - NAHCO3",null,null,null,null,null,null,null,null,null,24.75]
[null,null,null,null,null,null,null,null,"Temperature (°C)",null,null,null,null,null,null,null,null,null,30]
[null,null,null,null,null,null,null,null,"Dry Solid SG (T/m3)",null,null,null,null,null,null,null,null,null,2.75]
[]
[null,null,"Soda Ash Production from Belt filter",null,null,null,null,null,"Production Dry Solids (T/h) - Na2CO3",null,null,null,null,null,null,null,null,null,15.5]
[null,null,null,null,null,null,null,null,"Production Dry Solids (T/day) - Na2CO3",null,null,null,null,null,null,null,null,null,371]
[]
[null,null,"Wash Water Characteristics\n\n(for performances guarantee)",null,null,null,null,null,"Nature of fluid",null,null,null,null,null,null,null,null,null,"Clean Water & recirculated water"]
[null,null,null,null,null,null,null,null,"Density (T/m3)",null,null,null,null,null,null,null,null,null,1]
[null,null,null,null,null,null,null,null,"Wash ratio (total) m3/h of water \nper Ton of dry solids",null,null,null,null,null,null,null,null,null,1]
[null,null,null,null,null,null,null,null,"Type of cake washing",null,null,null,null,null,null,null,null,null,"2 x Direct Wash (1 is water from Cloth & Belt Washing) + 1 x Counter Courant Wash"]
[]
[null,null,"Customer Goals\n(client expectations & HASLER GROUP's usual targets for this market)",null,null,null,null,null,"Chloride content (%) ",null,null,null,null,null,null,null,null,null,"< 0,5%"]
[null,null,null,null,null,null,null,null,"Final cake moisture",null,null,null,null,null,null,null,null,null,"15 - 16%"]
[null,null,null,null,null,null,null,null,"Solid in filtrate (g/L)",null,null,null,null,null,null,null,null,null,"< 10"]
[]
[null,null,"HASLER GROUP Process Guarantees",null,null,null,null,null,"Equipment Selected",null,null,null,null,null,null,null,null,null,"25m²"]
[null,null,null,null,null,null,null,null,"Chloride content (%) ",null,null,null,null,null,null,null,null,null,"< 0,5%"]
[null,null,null,null,null,null,null,null,"Final cake moisture",null,null,null,null,null,null,null,null,null,"15 - 16%"]
[null,null,null,null,null,null,null,null,"Solid in filtrate (g/L)",null,null,null,null,null,null,null,null,null,"< 10"]
[]
[]
[null,"All the Process performances gurantees given by HASLER will be guaranted only if \nHASLER perform some laboratory tests with the slurry ands confirm the sizing."]
[]
[]
[]
[]
[]
[]
[null,null,"A.  GENERAL RULES"]
[]
[null,null,null,"The conditions of performance control are established in direct collaboration with the customer who must have:\n      - Operational production staff\n      - Available maintenance staff\n      - Available laboratory for analyses with technical means and technicians"]
[]
[]
[]
[]
[null,null,null,"For the filter commissioning, HASLER GROUP will supply a qualified engineer who will make the training of customer's staff and manage all operations. (HASLER GROUP is ready to discuss other alternatives)."]
[]
[]
[]
[null,null,"B.   PROCESS DATA"]
[]
[null,null,null,"As per the process specifications of the contract and the design criteria."]
[]
[null,null,"C.  PROCESS GUARANTEE"]
[]
[null,null,null,"As per the process specifications of the contract and the design criteria.\nThe process performance will be conducted during the commissioning of the filters. The procedure for acquiring the samples will be mutually agreed upon by both parties or according to:"]
[]
[]
[]
[]
[null,null,null,"Sampling:\nSampling will be started no sooner than one hour after continuous and satisfactory operation of the filter at nominal capacity. Nominal capacity will be defined as the tonnage listed in the Design criteria / process data section.\nSamples will be taken every two (2) hours."]
[]
[]
[]
[]
[]
[null,null,null,"Test work period:\nThe period of the performance test will be started after satisfactory mechanical operation of the filtration unit and after insuring that the production plant can feed the filter continuously at the nominal contractual throughput.\n\nThe period of the performance test will be one week, including production shutdown not caused by HASLER GROUP equipment.\n\nDuring a three-day period of continuous operation, supervised by our engineer, the customer's shifts will assume a continuous run of the plant. The production capacity, and quality of the product therein, all based on condition as described in the appendix - \"Process data\" will be controlled. \n\nA daily record will be kept."]
[]
[]
[]
[]
[]
[]
[]
[]
[]
[]
[]
[]
[]
[]
[]
[]
[]
[]
[null,null,"D.  MEASUREMENTS"]
[]
[null,null,null,"1.  THROUGHPUT (T solids / h)"]
[]
[null,null,null,"Independently of the classical means (1) (flowmeter-densimeter weighing), the throughput of solids could be controlled as follow:"]
[]
[]
[null,null,null,null,"a) Measure the cake thickness (T) in several parts on the filter (minimum 6 measurements and make the average).\nb) Cake width (W)\nc) Measure the speed of the belt (V)\nd) Determine the specific weight (D) of the filter cake (by Buchner funnel test) calculated in dry solid for a humid cake thickness. D = T/m3 for a dry solid at 0% cake moisture content.\ne) Calculation\nV (m/min) x W (m) x T (m) x D x 60 = T solids / h"]
[]
[]
[]
[]
[]
[]
[]
[]
[]
[]
[null,null,null,"2.  THROUGHPUT (slurry - mother liquors - cake wash water)"]
[]
[null,null,null,"All flows will be controlled after pumps by classical means. (1)"]
[]
[]
[null,null,null,"3. CAKE MOISTURE CONTENT"]
[]
[null,null,null,"On the full width of the filter a sample of cake will be taken after the cake discharge roller. This sample will be properly mixed and a part of it taken for analysis."]
[]
[]
[null,null,null,null,"Measurement\na) Weight approx. 100 g of wet cake (required precision 0,1 g)\nb) Put this sample into an oven heated at 60°C during 12 to 36 hours, the drying time depending to the cake thickness (2)\nc) Weigh the dried cake\nd) Calculation % Moisture = ((Wet cake - Dry cake) / Wet cake) x 100"]
[]
[]
[]
[]
[]
[]
[]
[null,null,null,"(1)  All control and measurement equipment if needed will be supplied by the customer.\n(2) The drying procedure shall be adapted to the specific client's procedure "]
[]
[]
[]
[null,null,null,"4.  WASH EFFICIENCY"]
[]
[null,null,null,"On the full width of the filter a sample of cake will be taken after the cake discharge roller and a sample of slurry at filter feed."]
[]
[]
[]
[]
[]
[null,null,null,"Measurement"]
[]
[null,null,null,"The analysis and the measurement of the water soluble material in the cake and the soluble material concentration in the slurry and filtrate will be done according to the client procedure mutually agreed.\nThe soluble material value will be expressed in g/l in the liquid and % weight in the cake."]
[]
[]
[]
[]
[]
[]
[null,null,"E.  MEASUREMENTS CONTROL AND PROCEDURE"]
[]
[null,null,null,"In case of discrepancies between the customer' process specifications and actual filter process performances, a confirmation filtration test shall be made according to the filter \"Leaf test procedure\".\n\nIf such a test shows that the guarantee above was not met, resulting from deficiencies due to HASLER GROUP , the parts will cooperate so that the reasons of such a failure is corrected, if possible without substantial expenditure by the customer. A second test will then be carried out.\n\nHASLER GROUP will support the expenditure of the engineers of HASLER GROUP for the period for the second test.  \t\nIf the guarantee is not met, resulting from deficiencies due to the customer, the guarantee nevertheless will be regarded as being accomplished.\n\nAt the end of first and second test run, if any, the parties hereto shall draw up and sign a statement on the performances obtained, showing all the data collected.\n\nIf a test run is not required by customer within (3) three months after start-up date the warranty shall be deemed satisfied and customer shall sign a statement accordingly."]
[]
[]
[]
[]
[]
[]
[]
[]
[]
[]
[]
[]
[]
[]
[]
[]
[]
[]
[]
[]
[]
[null,null,"F. LEAF TEST PROCEDURE"]
[]
[null,null,null,"1.  FILTER LEAF TEST PROCEDURE"]
[]
[null,null,null,"The quantity of feed slurry should produce a cake of approximately the same thickness as that on the industrial filter. The procedure will be adjusted to reflect the quantity, volume and concentration, the washes and other conditions in the plant.\n\nThe pulp is poured in the lab test filter (1) (Buchner) and the vacuum is adjusted and applied. \t\nWhen the liquid disappears from the cake surface, the time is noted and called the form time.\nFew seconds of delay is allowed, then the wash water is added and the wash time is noted. After the liquid disappears from the cake surface, dry time starts, the time is noted to complete the filtration cycle."]
[]
[]
[]
[]
[]
[]
[]
[]
[]
[]
[]
[]
[]
[]
[null,null,null,"(1) Lab test filter: Buchner 3 pieces allowing setting a filtering cloth"]
[]
[]
[null,null,null,"2.  MEASUREMENTS"]
[]
[null,null,null,null,"a.  THROUGHPUT (T solids / h)"]
[]
[null,null,null,null,"The following is the laboratory procedure :\nThe cake is weighed and dried as per section 4.3. Solids are weighed and filter capacity is :\n\n\n\nMetric tons Cake / m2 hour  = (Scale factor 0,9) x Dry Wt. Cake in gr x 3600  \t\t\t\t\t\t\t\n                                                        (Lab test filter surface in m2) (total cycle time in sec)"]
[]
[]
[]
[]
[]
[]
[]
[]
[]
[]
[null,null,null,null,"b.  CAKE MOISTURE CONTENT"]
[]
[null,null,null,null,"According to the procedure section 4.3 of the appendix \"Process Performance Guarantee\". The difference between industrial filter and test filter values should not be more than 0,5% of the Buchner test moisture.\n\n\t(Moisture content in the filter cake = moisture content in the Buchner cake + 0,5%)."]
[]
[]
[]
[]
[]
[]
[]
[null,null,null,null,"c.  WASH EFFICIENCY\t"]
[]
[null,null,null,null,"Customer laboratory will analyze the water soluble material content in the sample from the cake discharge (E1) and in the sample from the feed of the belt filter which will be filtered and washed in the laboratory (E2), according to a procedure to be mutually agreed. The values E1 & E2 will be compared. The value of the industrial filter will not be inferior of 10% of the Buchner test.\n\n\t(Industrial filter material soluble value = Buchner material soluble value x 1.10)"]

{"sheet":"PERFORMANCE GUARANTEES","index":115,"n_rows":135,"n_cols":12,"rows_kept":135,"cut":false,"hidden":true,"merged":[[1026,3,1027,24],[1031,0,1033,25],[1043,16,1043,21],[1045,0,1045,25],[960,3,961,24],[963,3,964,24],[986,3,987,24],[1012,3,1013,24],[1019,3,1021,24],[1022,3,1025,24],[874,3,875,24],[877,3,878,24],[935,17,936,24],[954,3,955,24],[956,3,957,24],[958,3,959,24],[788,17,789,24],[800,3,801,24],[852,5,853,11],[862,3,863,24],[867,3,868,24],[869,3,870,24],[678,17,679,24],[691,17,693,24],[695,17,696,24],[710,17,711,24],[747,3,748,24],[766,3,768,24],[564,17,565,24],[567,3,569,24],[604,3,605,24],[617,3,618,24],[635,17,636,24],[653,17,655,24],[479,3,480,24],[481,3,481,24],[482,3,483,24],[513,17,514,24],[554,3,556,24],[559,3,560,24],[435,5,436,24],[454,3,455,24],[456,3,459,24],[464,3,468,24],[471,17,472,24],[474,17,475,24],[388,17,389,24],[411,3,412,24],[427,3,428,24],[429,5,429,24],[430,5,431,24],[433,5,434,24],[367,17,368,24],[369,17,370,24],[371,17,372,24],[376,17,377,24],[381,3,383,24],[384,3,384,24],[324,3,325,24],[334,17,335,24],[341,17,342,24],[344,17,345,24],[348,17,350,24],[354,17,355,24],[234,5,236,24],[240,3,241,24],[242,3,242,24],[243,3,244,24],[296,17,297,24],[315,3,316,24],[119,3,120,24],[126,3,127,24],[130,3,133,24],[174,17,175,24],[224,3,225,24],[231,5,233,24],[87,3,88,24],[91,3,92,24],[105,3,107,24],[108,3,110,24],[111,3,113,24],[114,3,115,24],[67,3,68,24],[70,3,71,24],[72,3,75,24],[76,3,77,24],[79,3,81,24],[83,3,84,24],[49,0,49,25],[52,3,53,24],[55,3,57,24],[58,3,61,24],[62,3,63,24],[64,3,66,24],[42,2,42,15],[42,16,42,23],[43,2,43,15],[43,16,43,23],[44,2,44,15],[44,16,44,23],[37,16,37,23],[38,9,38,15],[38,16,38,23],[39,9,39,15],[39,16,39,23],[40,9,40,15],[40,16,40,23],[34,2,40,8],[34,9,34,15],[34,16,34,23],[35,9,35,15],[35,16,35,23],[36,9,36,15],[36,16,36,23],[37,9,37,15],[41,2,41,23],[28,16,28,23],[29,9,29,15],[29,16,29,23],[30,2,33,8],[30,9,30,15],[30,16,30,23],[31,9,31,15],[31,16,31,23],[32,9,32,15],[32,16,32,23],[24,2,29,8],[24,9,24,15],[24,16,24,23],[25,9,25,15],[25,16,25,23],[26,9,26,15],[26,16,26,23],[27,9,27,15],[27,16,27,23],[28,9,28,15],[33,9,33,15],[33,16,33,23],[1,0,1,25],[6,3,7,24],[11,3,12,24],[15,3,16,24],[18,2,18,23],[19,2,19,23],[20,2,23,8],[20,9,20,15],[20,16,20,23],[21,9,21,15],[21,16,21,23],[22,9,22,15],[22,16,22,23],[23,9,23,15],[23,16,23,23]]}
[]
["Appendix \"PERFORMANCE GUARANTEES \""]
[]
[null,null,null,"Production per filter : "]
[null,null,null,"Number of filters : "]
[]
[null,null,null,"Process Guarantees for "]
[]
[]
[null,null,"-","Wash water consumption :"]
[null,null,"-","NaCl content in cake  : "]
[null,null,"-","Moisture in cake  : ≤% with  m3/h air flow (for 54m²) per filter and 400mbar absolute pressure in filtrate receiver"]
[]
[null,null,"-","Loss in filtrate : no more than %"]
[]
[null,null,null,"We guarantee the above values based on the hereunder slurry, wash water and vacuum pump specifications :  "]
[]
[]
[null,null,"INLET PARAMETERS"]
[null,null,"Parameters"]
[null,null,"Slurry",null,null,null,null,null,null,"Solid matters content (%w/w)"]
[null,null,null,null,null,null,null,null,null,"pH"]
[null,null,null,null,null,null,null,null,null,"Temperature (°C)"]
[null,null,null,null,null,null,null,null,null,"Specific weight (kg/m3)"]
[null,null,"Liquid phase",null,null,null,null,null,null,"Specific weight (kg/m3)"]
[null,null,null,null,null,null,null,null,null,"NaCl (%w/w)"]
[null,null,null,null,null,null,null,null,null,"NH4Cl (%w/w)"]
[null,null,null,null,null,null,null,null,null,"(NH4)2CO3 (%w/w)"]
[null,null,null,null,null,null,null,null,null,"NH4HCO3 (%w/w)"]
[null,null,null,null,null,null,null,null,null,"Chlorides total (g/L)"]
[null,null,"Cake wash water Composition (g/L)",null,null,null,null,null,null,"Na2CO3"]
[null,null,null,null,null,null,null,null,null,"NaCl"]
[null,null,null,null,null,null,null,null,null,"pH"]
[null,null,null,null,null,null,null,null,null,"Temperature (°C)"]
[null,null,"Solids – Particle Size Distribution (%w/w)",null,null,null,null,null,null,"> 200 µm"]
[null,null,null,null,null,null,null,null,null,"200 – 125 µm"]
[null,null,null,null,null,null,null,null,null,"125 – 100 µm"]
[null,null,null,null,null,null,null,null,null,"100 – 71 µm"]
[null,null,null,null,null,null,null,null,null,"71 – 56 µm"]
[null,null,null,null,null,null,null,null,null,"56 – 40 µm"]
[null,null,null,null,null,null,null,null,null,"< 40 µm"]
[null,null,"PROCESS GUARANTEED"]
[null,null,"Wash water consumption"]
[null,null,"Solids content in filtrate"]
[null,null,"Moisture in cake"]
[]
[]
[]
[]
["Appendix \"Measuring of guaranteed performance figures \""]
[]
[null,null,null,"General rules of performance tests"]
[null,null,null,"The estimation of the guaranteed performance figures given in Article 1 of present Appendix will be realized trough performance tests."]
[]
[]
[null,null,null,"Conditions of performance figures′ control will be established in direct cooperation with the Customer. Performance tests shall be carried out in the period not more than 28 working days after competition of erection supervision and trial starting up of vacuum belt filters. "]
[]
[]
[null,null,null,"For commissioning the Executor provides for a skilled engineer who trains the Customer’s personnel and leads all the operations. The Customer provides factory and maintenance personnel, proper laboratory for carrying out analyses by specialists and by means of hardware. "]
[]
[]
[]
[null,null,null,"The guaranteed performance figures will correspond to the nominal output "]
[]
[null,null,null,"Performance figures′ control period starts after satisfactory mechanical starting up of filtration plant and after persuasion by the Parties in factory’s capability to feed the work material to the filter continuously during the work with the rated output given in Contract."]
[]
[]
[null,null,null,"Performance figures′ control period lasts 1 (one) week including downtime not concerned with the equipment of HASLER Group."]
[]
[null,null,null,"Nevertheless downtime period can not exceed 30% of running test period."]
[null,null,null,"For not less than 3 (three) days continuous running under the supervision of Executor’s supervisor the Customer’s working shift provides the continuous running of the factory."]
[]
[null,null,null,"For guaranteed performance figures control samples either for inlet and outlet will be taken every 2 (two) hours.  Samples taking begins after 1 (one) hour of continuous and satisfactory filter running by power rating. Analysis performed by the customer free of charge for the executors, should be performed not later than 1 (one) hour after sampling. "]
[]
[]
[]
[null,null,null,"Daily report signed by both Parties will be provided according to the control and samples analyses. "]
[]
[null,null,null,"Average results obtained during running tests will be examined."]
[null,null,null,"The results too far from nominal average value can be excluded on the basis of agreement between Executor and Customer (it can be connected with the bad quality of sample or other reason)."]
[]
[]
[null,null,null,"In place of every excluded result an additional sample testing will be provided. "]
[null,null,null,"The results of running tests will be compared with guaranteed performance figures given in Article 1 of present Appendix."]
[]
[]
[null,null,null,"Filter capacity measurement"]
[null,null,null,"The customer will have to install a weighing system after the filter in order to measure the capacity of the filter."]
[]
[]
[null,null,null,"Washing water consumption measurement"]
[null,null,null,"Washing water consumption measurement will be effected using control /record devices readings, calculating them on 1 ton of soda."]
[]
[]
[null,null,null,"Measurement of NaCl content in cake"]
[null,null,null,"Mohr method or Potentiometric method "]
[]
[]
[null,null,null,"Cake humidity measurement"]
[null,null,null,"Gravimetric method after dry, as decline of weight in temperature 40°C"]
[]
[null,null,null,"Guaranteed performance figures control"]
[null,null,null,"See Contract."]
[]
[null,null,null,"Filter testing procedure"]
[null,null,null,"From the fed amount of pulp will be obtained a cake ~ of the same thickness as from industrial filter. Testing procedure will be agreed by both Parties and regulated to show the quantity, volume and concentration, the washing and other plant conditions."]
[]
[]
[null,null,null,"Pulp will be poured into the trial laboratory filter “Buchner”, then vacuum will be regulated and used. Time of vanishing the liquid from the surface of cake will be recorded. This time is designated as “formation time”. "]
[]
[]
[null,null,null,"Several seconds of delay are acceptable. Then wash water will be added and wash time will be recorded. After vanishing the water from the surface of cake begins the drying time reading, and the time up to whole cycle filtration completetion will be recorded. "]
[]
[]
[null,null,null,"The trial laboratory filter: the Executor delivers the Buchner filter consisting of 3 parts, permitting to place a filter cloth in it. "]
[]
[]
[null,null,null,"Measurements"]
[null,null,null,"Filter productivity (ton of solid phase / hour)"]
[null,null,null,"Description of laboratory procedure: Cake will be weighed and dried. Solid phase will be weighed, and then filter in t/ m2/hour will be calculated."]
[]
[]
[null,null,null,"Cake in metric tons /m2/ hour =",null,null,null,null,null,null,null,"(Scale factor 0,9) х Cake dry weight in g х 3600_* 10 6_"]
[null,null,null,null,null,null,null,null,null,null,"(The area of laboratory test filter in m2) (full timing loop in sec.) "]
[]
[null,null,null,"Cake humidity"]
[null,null,null,"Humidity difference between industrial and testing filters can be no more than 0,5% (moisture content in cake after filtration = moisture content in cake after Buchner filter + 0,5%)."]
[]
[]
[null,null,null,"Washing efficiency "]
[null,null,null,"Customer′s  laboratory will analize the content of soluble product in filtrate after separating of cake on band filter (E1) and the content of soluble product in filtrate obtained after pulp filtering  according to Article 3.1 (E2) under agreed between 2 Parties procedure. The values E1 and E2 will be compared. Value of industrial filter have to correspond to the next formula: "]
[]
[]
[]
[null,null,null,"Value of soluble product on industrial filter = Value of soluble product on Buchner filter х 1,10."]

{"sheet":"EN TETE-FR (F)","index":116,"n_rows":41,"n_cols":10,"rows_kept":41,"cut":false,"hidden":true,"merged":[[40,7,40,9]]}
[]
[]
[]
[]
[]
[]
[]
[]
[]
[]
[]
[]
[]
[]
[]
[]
[]
[]
[]
[]
[]
[]
[]
[]
[]
[]
[]
[]
[]
[]
[]
[]
[]
[]
[null,null,null,null,null,null,null,null,null,"FILTRE A BANDE SOUS VIDE HORIZONTAL"]
[null,null,null,null,null,null,null,null,null,{"$f":"\"OFFRE TECHNIQUE N°\"&Calculations!C3&\" - \"&Calculations!H3","v":"OFFRE TECHNIQUE N°726789 - rev4"}]
[null,null,null,null,null,null,null,null,null,{"$f":"\"PROJET: \"&Calculations!C4","v":"PROJET: CAREMAG"}]
[null,null,null,null,null,null,null,null,null,{"$f":"\"CLIENT REFERENCE: \"&Calculations!C4","v":"CLIENT REFERENCE: CAREMAG"}]
[]
[null,null,null,null,null,null,null,null,null,{"$f":"\"CLIENT: \"&Calculations!C2","v":"CLIENT: CARESTER"}]
[null,null,null,null,null,null,null,{"$f":"\"Date : \"&TEXT(Calculations!R2,\"jj/mm/aaaa\")","v":"Date : 25/04/2025"}]

{"sheet":"OFFRE TECHNIQUE-FR","index":117,"n_rows":1055,"n_cols":21,"rows_kept":1055,"cut":false,"hidden":true,"merged":[[98,0,100,24],[172,16,173,23],[221,2,223,23],[229,4,231,23],[232,4,234,23],[238,2,239,23],[1,0,3,24],[13,13,13,15],[15,0,15,24],[49,0,51,24],[61,13,61,16],[63,0,63,24],[332,16,333,23],[337,16,338,23],[340,16,341,23],[344,16,345,23],[346,2,347,23],[350,16,351,23],[240,2,240,23],[241,2,242,23],[294,16,295,23],[311,2,312,23],[320,2,321,23],[330,16,331,23],[410,2,412,23],[426,2,427,23],[428,4,429,23],[430,4,431,23],[433,4,434,23],[435,4,436,23],[366,16,368,23],[369,16,370,23],[371,16,372,23],[380,2,382,23],[383,2,383,23],[387,16,388,23],[478,2,479,23],[480,2,481,23],[506,16,507,23],[543,4,544,23],[546,16,547,23],[550,2,553,23],[449,2,450,23],[451,2,454,23],[459,2,465,23],[468,16,469,23],[471,16,472,23],[476,2,477,23],[624,2,628,23],[637,2,638,23],[650,16,652,23],[662,2,663,23],[689,16,691,23],[693,16,694,23],[556,2,557,23],[561,16,562,23],[566,2,567,23],[569,2,570,23],[597,2,598,23],[610,2,611,23],[596,2,596,23],[793,2,794,23],[835,2,836,12],[846,4,847,10],[856,2,857,23],[861,2,863,23],[868,2,870,23],[695,16,696,23],[708,16,709,23],[741,2,742,23],[760,2,764,23],[782,16,782,23],[783,16,784,23],[871,2,872,23],[880,0,880,4],[880,5,880,10],[880,11,880,15],[880,16,880,23],[881,0,882,4],[881,5,882,10],[881,11,882,15],[881,16,882,23],[886,0,887,4],[886,5,887,10],[886,11,887,15],[886,16,887,23],[888,0,889,4],[888,5,889,10],[888,11,889,15],[888,16,889,23],[883,0,884,4],[883,5,884,10],[883,11,884,15],[883,16,884,23],[885,0,885,4],[885,5,885,10],[885,11,885,15],[885,16,885,23],[894,0,895,4],[894,5,895,10],[894,11,895,15],[894,16,895,23],[896,0,897,4],[896,5,897,10],[896,11,897,15],[896,16,897,23],[890,0,891,4],[890,5,891,10],[890,11,891,15],[890,16,891,23],[892,0,893,4],[892,5,893,10],[892,11,893,15],[892,16,893,23],[1037,15,1037,20],[1039,0,1039,24],[980,2,982,23],[1006,2,1007,23],[1013,2,1015,23],[1016,2,1019,23],[1020,2,1021,23],[1025,0,1027,24],[929,16,930,23],[948,2,949,23],[950,2,951,23],[952,2,953,23],[954,2,955,23],[957,2,958,23]]}
[]
["SPECIFICATION TECHNIQUE\nPOUR LES FILTRES A BANDE \"PHILIPPE\""]
[]
[]
[]
[]
[null,null,null,null,"CLIENT",null,null,null,null,null,null,null,null,{"$f":"Calculations!$C$2","v":"CARESTER"}]
[null,null,null,null,"REFERENCE CLIENT",null,null,null,null,null,null,null,null,{"$f":"Calculations!$C$4","v":"CAREMAG"}]
[null,null,null,null,"NUMERO D'OFFRE",null,null,null,null,null,null,null,null,{"$f":"Calculations!$C$3&\"_\"&Calculations!$K$10&\"-\"&Calculations!$H$3","v":"726789_2B5-rev4"}]
[null,null,null,null,"PRODUIT",null,null,null,null,null,null,null,null,{"$f":"Calculations!$K$3","v":"Tb slurry filtration"}]
[null,null,null,null,"FILTRE SELECTIONNE",null,null,null,null,null,null,null,null,{"$f":"\"VACUUM BELT FILTER \"&Calculations!$C$9&\" m²\"","v":"VACUUM BELT FILTER 2 m²"}]
[null,null,null,null,"LARGEUR",null,null,null,null,null,null,null,null,{"$f":"Calculations!$E$9&\" mm\"","v":"500 mm"}]
[null,null,null,null,"TYPE",null,null,null,null,null,null,null,null,{"$f":"Calculations!$K$10&\" - \"&Calculations!$I$9","v":"2B5 - SERIE 2"}]
[null,null,null,null,"DATE",null,null,null,null,null,null,null,null,{"$f":"Calculations!$R$2","v":"2025-04-25"}]
[]
[]
[]
[]
[null,null,null,null,"DESCRIPTION TECHNIQUE DU FILTRE A BANDE SOUS VIDE « PHILIPPE »"]
[]
[null,null,null,null,"Caractéristiques du design"]
[null,null,null,null,"Spécifications peinture"]
[null,null,null,null,"Limites de batterie"]
[]
[]
[null,null,null,null,"EQUIPEMENTS ET SERVICES COMPLEMENTAIRES"]
[]
[null,null,null,null,"Annexe \"Machine à souder les toiles par ultrasons\""]
[null,null,null,null,"Annexe \"Hotte à vapeur\""]
[null,null,null,null,"Annexe \"Ballon séparateur\""]
[null,null,null,null,"Annexe \"Cyclone\""]
[null,null,null,null,"Annexe \"Laveur\""]
[null,null,null,null,"Annexe \"Pompe à vide\""]
[null,null,null,null,"Annexe \"Pompe à filtrat\""]
[null,null,null,null,"Annexe \"Tank de lavage toile et bande\""]
[null,null,null,null,"Annexe \"Tank de lavage gâteau\""]
[null,null,null,null,"Annexe \"Coffret de commande local\""]
[null,null,null,null,"Annexe \"Montage\""]
[null,null,null,null,"Annexe \"Mise en route\""]
[]
[null,null,null,null,null,null,null,null," "]
[null,null,null,null,"SCHEMA POUR FILTRE A BANDE SOUS VIDE « PHILIPPE »"]
[]
[null,null,null,null,"P&ID"]
[null,null,null,null,"Plan d’ensemble préliminaire"]
[]
[]
[]
[]
["SPECIFICATION TECHNIQUE\nPOUR LES FILTRES A BANDE \"PHILIPPE\""]
[]
[]
[]
[]
[null,null,null,null,"CLIENT",null,null,null,null,null,null,null,null,{"$f":"Calculations!$C$2","v":"CARESTER"}]
[null,null,null,null,"REFERENCE CLIENT",null,null,null,null,null,null,null,null,{"$f":"Calculations!$C$4","v":"CAREMAG"}]
[null,null,null,null,"NUMERO D'OFFRE",null,null,null,null,null,null,null,null,{"$f":"Calculations!$C$3&\"_\"&Calculations!$K$10&\"-\"&Calculations!$H$3","v":"726789_2B5-rev4"}]
[null,null,null,null,"PRODUIT",null,null,null,null,null,null,null,null,{"$f":"Calculations!$K$3","v":"Tb slurry filtration"}]
[null,null,null,null,"FILTRE SELECTIONNE",null,null,null,null,null,null,null,null,{"$f":"\"VACUUM BELT FILTER \"&Calculations!$C$9&\" m²\"","v":"VACUUM BELT FILTER 2 m²"}]
[null,null,null,null,"LARGEUR",null,null,null,null,null,null,null,null,{"$f":"Calculations!$E$9&\" mm\"","v":"500 mm"}]
[null,null,null,null,"TYPE",null,null,null,null,null,null,null,null,{"$f":"Calculations!$K$10&\" - \"&Calculations!$I$9","v":"2B5 - SERIE 2"}]
[null,null,null,null,"DATE",null,null,null,null,null,null,null,null,{"$f":"Calculations!$R$2","v":"2025-04-25"}]
[]
[]
[]
[]
[null,null,"1.","Caractéristiques dimensionnelles"]
[null,null,"2.","Utilités du filtre"]
[null,null,"3.","Définition du filtre"]
[null,null,null,"Charpente"]
[null,null,null,"Tambour"]
[null,null,null,"Groupe de commande"]
[null,null,null,"Bande"]
[null,null,null,"Boîte à vide"]
[null,null,null,"Toile filtrante"]
[null,null,null,"Décharge gâteau"]
[null,null,null,"Distribution des fluides"]
[null,null,null,"Equipements process"]
[null,null,null,"Equipements électriques et de contrôle"]
[null,null,null,"Norme pour connection"]
[null,null,"4.","Spécifications peinture"]
[null,null,"5.","Limites de fourniture et exclusions"]
[null,null,"6.","Déclaration d'intégration CE et protection du personnel"]
[]
[]
[]
[]
[]
[]
[]
[]
[]
[]
[]
[]
[]
[]
[]
["DESCRIPTION TECHNIQUE \nDU FILTRE A BANDE SOUS VIDE « PHILIPPE »"]
[]
[]
[]
[]
[]
[]
[]
[]
[]
[]
[]
[]
[]
[]
[]
[]
[]
[]
[]
[]
[]
[]
[]
[]
[]
[]
[]
[]
[]
[]
[]
[]
[]
[]
[]
[]
[]
[]
[]
[]
[]
[]
[]
[]
[]
[]
[]
[]
["1.",null,"CARACTERISTIQUES DIMENSIONNELLES"]
[]
["1.1.",null,"SURFACE ACTIVE DE FILTRATION :",null,null,null,null,null,null,null,null,null,null,null,null,null,{"$f":"Calculations!$C$9&\" m²\"","v":"2 m²"}]
[]
["1.2.",null,"DIMENSIONS GENERALES :"]
[]
[null,"-","Largeur sous vide :",null,null,null,null,null,null,null,null,null,null,null,null,null,{"$f":"Calculations!$E$9&\" mm\"","v":"500 mm"}]
[null,"-","Longueur sous vide :",null,null,null,null,null,null,null,null,null,null,null,null,null,{"$f":"Calculations!$G$9&\" mm\"","v":"4000 mm"}]
[null,"-","Largeur totale (groupe de commande exclu) :",null,null,null,null,null,null,null,null,null,null,null,null,null,{"$f":"Calculations!$R$54&\" mm\"","v":"1150 mm"}]
[null,"-","Longueur totale :",null,null,null,null,null,null,null,null,null,null,null,null,null,{"$f":"Calculations!$R$55&\" mm\"","v":"7130 mm"}]
[null,"-","Hauteur totale (alimentateur exclu) :",null,null,null,null,null,null,null,null,null,null,null,null,null,{"$f":"Calculations!$R$56&\" mm\"","v":"1560 mm"}]
[]
["1.3.",null,"POIDS"]
[]
[null,"-","Poids du filtre : ",null,null,null,null,null,null,null,null,null,null,null,null,null,"Voir Plan d'ensemble"]
[]
[]
["2.",null,"UTILITES DU FILTRE"]
[]
["2.1.",null,"ELECTRICITE"]
[]
[null,null,"Moteur d'entrainement de la bande :"]
[null,"-","Puissance absorbée :",null,null,null,null,null,null,null,null,null,null,null,null,null,{"$f":"Calculations!$N$25","v":"0,06 kW"}]
[null,"-","Puissance installée :",null,null,null,null,null,null,null,null,null,null,null,null,null,{"$f":"Calculations!$R$25","v":"0,37 kW"}]
[null,"-","Vitesse de la bande :",null,null,null,null,null,null,null,null,null,null,null,null,null,{"$f":"\"De \"&ROUNDUP(Calculations!H25,1)&\" m/min à \"&ROUNDUP(Calculations!F25,1)&\" m/min\"","v":"De 0,1 m/min à 0,4 m/min"}]
[null,"-","Voltage :",null,null,null,null,null,null,null,null,null,null,null,null,null,{"$f":"\"Selon les exigences de \"&Calculations!$C$2&\".\"","v":"Selon les exigences de CARESTER."}]
[]
[null,"-","Fréquence :",null,null,null,null,null,null,null,null,null,null,null,null,null,"50 Hz"]
[null,"-","Voltage de l'instrumentation et des contrôles à confirmer."]
[]
["2.2.",null,"EAU"]
[]
[null,"-","Lavage toile. Trois rampes en opération."]
[null,"-","Pression minimale à la goulotte.",null,null,null,null,null,null,null,null,null,null,null,null,null,"3 bars"]
[null,"-","Débit en production :"]
[null,null,null,"•","Débit du côté gâteau :",null,null,null,null,null,null,null,null,null,null,null,{"$f":"Calculations!$G$38&\" m3/h\"","v":"1,54 m3/h"}]
[null,null,null,"•","Débit du côté opposé :",null,null,null,null,null,null,null,null,null,null,null,{"$f":"Calculations!$G$39&\" m3/h\"","v":"0,58 m3/h"}]
[null,null,null,"•","Lavage de la bande :",null,null,null,null,null,null,null,null,null,null,null,{"$f":"Calculations!$G$40&\" m3/h\"","v":"0,86 m3/h"}]
[null,null,null,"•","Lubrification des courroies de BaV (1 bar) :",null,null,null,null,null,null,null,null,null,null,null,{"$f":"Calculations!$C$41&\" L/h to \"&Calculations!E41&\" L/h\"","v":"20 L/h to 80 L/h"}]
[null,null,null,{"$f":"IF(Calculations!$P$39=\"Oui\",\"•\",\"\")","v":"•"},"Lavage des courroies de table (1 bar) :",null,null,null,null,null,null,null,null,null,null,null,{"$f":"IF(Calculations!P39=\"Oui\",Calculations!Q39&\" L/h\",\"\")","v":"55,2 L/h"}]
[null,null,null,{"$f":"IF(Calculations!$P$40=\"Oui\",\"•\",\"\")","v":""},"Lubrification des courroies de table (1 bar) :",null,null,null,null,null,null,null,null,null,null,null,{"$f":"IF(Calculations!P40=\"Oui\",Calculations!Q40&\" L/h\",\"\")","v":""}]
[]
["NOTE: ",null,"L’eau de lubrification des courroies doit être exempte de solides."]
[]
[]
[]
[]
[]
[]
["2.3.",null,"AIR COMPRIME"]
[]
[null,null,"Manœuvre de boîte à vide, guidage et tension toile."]
[]
[null,"-","Débit : ",null,null,null,null,null,null,null,null,null,null,null,null,null,"4 Nm3/h - Pression 5 bars"]
[null,"-","Qualité :",null,null,null,null,null,null,null,null,null,null,null,null,null,"filtré - sans huile"]
[]
[]
["3.",null,"DEFINITION DU FILTRE"]
[]
["3.1.",null,"CHARPENTE"]
[]
[]
[]
[]
[]
[]
[]
[]
[]
[]
[]
[]
[]
[]
[null,null,"Le filtre comprend un bâti métallique constitué de profils normalises et de tôles en acier, assemblés par soudure et boulons."]
[]
[]
[null,"-","Matériau du bâti:",null,null,null,null,null,null,null,null,null,null,null,null,null,{"$f":"IF(Calculations!$E$22=\"E24\",\"Carbon steel epoxy painted\",Calculations!$E$22)","v":"304L"}]
[null,"-","Matériau des tôles:",null,null,null,null,null,null,null,null,null,null,null,null,null,{"$f":"IF(Calculations!$E$22=\"E24\",\"Carbon steel epoxy painted\",Calculations!$E$22)","v":"304L"}]
[null,"-","Matériau boulonnerie:",null,null,null,null,null,null,null,null,null,null,null,null,null,"316"]
[]
[null,null,"La charpente inclut:"]
[null,null,null,"•","Deux modules d'extrémité supportant les tambours moteur et de retour bande, la trémie de décharge gâteau, le lavage toile et bande et les systèmes de guidage."]
[]
[]
[null,null,null,"•","Des bâtis transversaux régulièrement espacés supportent les rails support de bande, la boîte à vide et le système de basculement, les rails pour le déplacement du distributeur de pulpe et de liquide de lavage de gâteau, les barrages de zone. "]
[]
[]
[]
[null,null,"Avantages:"]
[]
[null,"-","La charpente est constituée de profils normalisés standard en acier et est entièrement assemblée par boulonnage afin de remplacer les éléments structuraux si nécessaire."]
[]
[null,"-","La charpente peut être montée et démontée sans modifications du résultat final."]
[null,"-","Cette technologie permet la fourniture d’une bande sans fin que ce soit pour la première monte comme pour toute opération de remplacement."]
[]
[]
[]
["3.2.",null,"TAMBOURS"]
[]
["3.2.1.",null,"Tambour libre"]
[]
[]
[]
[]
[]
[]
[]
[]
[]
[]
[]
[]
[]
[]
[]
[null,null,"Porté par deux paliers tendeurs à roulement à rotules étanches"]
[null,"-","Diamètre tambour: ",null,null,null,null,null,null,null,null,null,null,null,null,null,{"$f":"Calculations!$K$9&\" mm\"","v":"630 mm"}]
[null,"-","Matériau carcasse:",null,null,null,null,null,null,null,null,null,null,null,null,null,"S235JR / A570Gr33"]
[null,"-","Matériau arbre:",null,null,null,null,null,null,null,null,null,null,null,null,null,"EN C22E / AISI 1020"]
[null,"-","Disque anti-goutte pour protection des paliers"]
[null,"-","Revêtement:",null,null,null,null,null,null,null,null,null,null,null,null,null,"Rubber SBR - 65 shore"]
[null,"-","Epaisseur revêtement "]
[null,null,null,"•","Virole:",null,null,null,null,null,null,null,null,null,null,null,"10 mm"]
[null,null,null,"•","Flancs:",null,null,null,null,null,null,null,null,null,null,null,"5 mm"]
[]
["3.2.2.",null,"Tambour moteur"]
[]
[]
[]
[]
[]
[]
[]
[]
[]
[]
[]
[]
[]
[]
[null,null,"Porté par deux paliers fixes à roulement à rotules étanches"]
[null,"-","Diamètre tambour: ",null,null,null,null,null,null,null,null,null,null,null,null,null,{"$f":"Calculations!$K$9&\" mm\"","v":"630 mm"}]
[null,"-","Matériau carcasse:",null,null,null,null,null,null,null,null,null,null,null,null,null,"S235JR / A570Gr33"]
[null,"-","Matériau arbre:",null,null,null,null,null,null,null,null,null,null,null,null,null,"EN C22E / AISI 1020"]
[]
[null,"-","Disque anti-goutte pour protection des paliers"]
[null,"-","Revêtement:",null,null,null,null,null,null,null,null,null,null,null,null,null,"Rubber SBR - 65 shore avec des rainures en chevron\n"]
[]
[null,"-","Epaisseur revêtement "]
[null,null,null,"•","Virole:",null,null,null,null,null,null,null,null,null,null,null,"10 mm"]
[null,null,null,"•","Flancs:",null,null,null,null,null,null,null,null,null,null,null,"5 mm"]
[]
[null,null,"Avantages:"]
[]
[null,"-","Un seul arbre traversant en acier :"]
[null,null,null,"•","Procure rigidité à l’ensemble"]
[null,null,null,"•","Elimine les torsions sur la surface externe"]
[null,"-","Surface externe, arbre recouvert avec du caoutchouc vulcanisé à chaud:"]
[null,null,null,"•","Adhérence parfaite du caoutchouc et très bonne résistance à la corrosion"]
[null,null,null,"•","Permet d’obtenir des surfaces très planes"]
[null,"-","Disques anti-gouttes montées sur l’arbre"]
[null,null,null,"•","Protection des roulements contre la corrosion"]
[]
[null,null,{"$f":"IF(Calculations!$U$11=\"Oui\",\"Sur chaque tambour, les parties non recouvertes par du caoutchouc sur les arbres (dans les paliers) sont en Inox SS 316L.\",\"\")","v":""}]
[]
[]
["3.3.",null,"GROUPE D’ENTRAINEMENT DU TAMBOUR MOTEUR"]
[]
[null,null,"Le filtre inclut les composants suivant:"]
[]
["3.3.1.",null,"Un variateur de fréquence"]
[]
[null,null,"Type: Variateur de fréquence IP 2x, doit être installé par le client dans son armoire électrique. Le client devra configurer les paramètres en accord avec ses besoins. "]
[]
[]
[null,"-","Marque"]
[null,null,null,"•","Normes IEC:",null,null,null,null,null,null,null,null,null,null,null,"SCHNEIDER ou ABB, SIEMENS"]
[null,null,null,"•","Normes NEMA:",null,null,null,null,null,null,null,null,null,null,null,"WEG ou ALLEN BRADLEY"]
[]
[null,"-","Puissance nominale:",null,null,null,null,null,null,null,null,null,null,null,null,null,{"$f":"Calculations!R25","v":"0,37 kW"}]
[null,"-","Protection: ",null,null,null,null,null,null,null,null,null,null,null,null,null,"IP 2x"]
[null,"-","Application:",null,null,null,null,null,null,null,null,null,null,null,null,null,"Constant torque"]
[null,"-","Tension puissance: ",null,null,null,null,null,null,null,null,null,null,null,null,null,{"$f":"\"Suivant besoins \"&Calculations!$C$2","v":"Suivant besoins CARESTER"}]
[]
[null,"-","Tension de commande:",null,null,null,null,null,null,null,null,null,null,null,null,null,"Source interne d’alimentation Entrées logiques"]
[]
[null,null,"Fonctions de commande  (*):"]
[null,"-","1 Entrée logique: ",null,null,null,null,null,null,null,null,null,null,null,null,null,"Arrêt"]
[null,"-","1 Entrée logique: ",null,null,null,null,null,null,null,null,null,null,null,null,null,"Marche"]
[null,"-","1 Entrée logique: ",null,null,null,null,null,null,null,null,null,null,null,null,null,"Plus vite (sélectionnable en Local/Distance)\n"]
[]
[]
[null,"-","1 Entrée logique: ",null,null,null,null,null,null,null,null,null,null,null,null,null,"Moins vite (sélectionnable en Local/Distance)\n"]
[]
[null,"-","1 Entrée logique: ",null,null,null,null,null,null,null,null,null,null,null,null,null,"Réarmement"]
[null,"-","1 Entrée logique: ",null,null,null,null,null,null,null,null,null,null,null,null,null,"Sélection Local/Distance"]
[null,"-","1 Entrée analogique:",null,null,null,null,null,null,null,null,null,null,null,null,null,"4-20mA Réglage vitesse (sélectionnable Local/Distance)\n"]
[]
[null,null,"(Le changement en Local/Distance de 0 à 1 ou de 1 à 0 ne devra jamais changer la vitesse sélectionnée)"]
[]
[]
[null,null,"Fonctions de contrôle  (**):"]
[null,"-","1 Sortie analogique:",null,null,null,null,null,null,null,null,null,null,null,null,null,"4-20 mA vitesse (10 à 60 Hz)"]
[]
[]
[null,null,"Accessoires:"]
[null,"-","1 filtre RFI (compatibilité CEM)"]
[null,"-","1 module interface opérateur"]
[]
[null,null,"Limites réglage fréquence:",null,null,null,null,null,null,null,null,null,null,null,null,null,"10 à 60 Hz"]
[]
[null,null,"(*) : Commande depuis les sorties libres de potentiel automate Client"]
[null,null,"(**) : Signal vers entrée automate Client"]
[]
["3.3.2.",null,"Un moteur électrique fixé sur le réducteur"]
[]
[null,"-","Puissance (absorbée):",null,null,null,null,null,null,null,null,null,null,null,null,null,{"$f":"Q170","v":"0,06 kW"}]
[null,"-","Puissance (installée):",null,null,null,null,null,null,null,null,null,null,null,null,null,{"$f":"Q171","v":"0,37 kW"}]
[null,"-","Type:",null,null,null,null,null,null,null,null,null,null,null,null,null,"Carcasse fonte – TEFC – IM1001 (B3) – 4 pôles - IP 55 – CI F/B"]
[]
[]
[null,"-","Voltage:",null,null,null,null,null,null,null,null,null,null,null,null,null,{"$f":"\"Suivant besoins \"&Calculations!$C$2","v":"Suivant besoins CARESTER"}]
[]
[null,"-","Isolation:",null,null,null,null,null,null,null,null,null,null,null,null,null,"En accord avec les conditions du site"]
[]
[null,"-","Marque:"]
[null,null,null,"•","Normes IEC:",null,null,null,null,null,null,null,null,null,null,null,"WEG ou ABB, SIEMENS"]
[null,null,null,"•","Normes NEMA:",null,null,null,null,null,null,null,null,null,null,null,"WEG ou TECO WESTINGHOUSE"]
[null,"-","Peinture:",null,null,null,null,null,null,null,null,null,null,null,null,null,{"$f":"\"Suivant besoins \"&Calculations!$C$2","v":"Suivant besoins CARESTER"}]
[]
["3.3.3.",null,"Un réducteur à arbre creux"]
[]
[null,null,"Il est fixé sur l’arbre du tambour d’entraînement du filtre. Le réducteur est maintenu en position par une béquille dynamométrique de contrôle de couple équipéee d’un contact de fin de courses."]
[]
[]
[null,null,{"$f":"\"Le réducteur est calculé pour une durée de vie de 50 000 heures /\"&Calculations!$N$25","v":"Le réducteur est calculé pour une durée de vie de 50 000 heures /0,06 kW"}]
[null,"-","Couple constant:",null,null,null,null,null,null,null,null,null,null,null,null,null,{"$f":"ROUNDUP(Calculations!$N$26,0)&\" Nm\"","v":"2320 Nm"}]
[null,"-","Facteur de sécurité:",null,null,null,null,null,null,null,null,null,null,null,null,null,"1,3 x Puissance installée"]
[null,"-","Marque:",null,null,null,null,null,null,null,null,null,null,null,null,null,"BREVINI, (ou equivalent.)"]
[null,"-","Peinture:",null,null,null,null,null,null,null,null,null,null,null,null,null,"En accord avec le standard fournisseur"]
[]
[]
["NOTE",null,"Si d'autres choix sont demandées, une option sera offerte et le prix ajusté."]
[]
[]
["3.4.",null,"BANDE"]
[]
[]
[]
[]
[]
[]
[]
[]
[]
[]
[]
[]
[]
[]
[]
[]
[null,null,"Des rainures transversales sont sculptées dans la partie supérieure de celle-ci pour permettre l’écoulement des liquides vers des trous oblongs, percés dans leurs axes (un trou oblong par rainure). "]
[]
[]
[null,"-","Nombre de bande par filtre :",null,null,null,null,null,null,null,null,null,null,null,null,null,1]
[null,"-","Matériau :",null,null,null,null,null,null,null,null,null,null,null,null,null,{"$f":"Calculations!$E$23","v":"EPDM"}]
[null,"-","Largeur (Utile) :",null,null,null,null,null,null,null,null,null,null,null,null,null,{"$f":"Calculations!$E$9&\" mm\"","v":"500 mm"}]
[null,"-","Epaisseur partie caoutchouc supérieure : ",null,null,null,null,null,null,null,null,null,null,null,null,null,{"$f":"Calculations!$R$60&\" mm\"","v":"10 mm"}]
[null,"-","Epaisseur partie caoutchouc inférieure :",null,null,null,null,null,null,null,null,null,null,null,null,null,{"$f":"Calculations!$R$61&\" mm\"","v":"4 mm"}]
[null,"-","Epaisseur totale :",null,null,null,null,null,null,null,null,null,null,null,null,null,{"$f":"Calculations!$E$24&\" mm\"","v":"18,5 mm"}]
[null,"-","Matériau de la carcasse :",null,null,null,null,null,null,null,null,null,null,null,null,null,"Polyester"]
[null,"-","Zone de perforation : ",null,null,null,null,null,null,null,null,null,null,null,null,null,"exempte de carcasse"]
[null,"-","Nombre de plis de la carcasse :",null,null,null,null,null,null,null,null,null,null,null,null,null,4]
[null,"-","Poids de la bande : ",null,null,null,null,null,null,null,null,null,null,null,null,null,{"$f":"Calculations!$R$63&\" kg\"","v":"171 kg"}]
[]
[null,null,"Avantages :"]
[]
[null,"-","La bande est livrée sans fin; elle est entièrement usinée au sein de l’atelier de HASLER Group, contrôlée et prête à fonctionner."]
[]
[null,null,null,"•","La bande est installée dans notre atelier et est mise à tourner pour enlever le stress mécanique."]
[]
[null,null,null,"•","La carcasse est localisée pour que les trous soient percés parfaitement au centre de la bande. Les trous sont parfaitement alignés."]
[]
[null,"-","Le rainurage et le perçage sont customisés en fonction des besoins process du Client."]
[null,null,null,"•","La largeur et l’épaisseur des rainures ainsi que la largeur des trous et l’épaisseur de la bande sont optimisées en fonction des besoins du client."]
[]
[null,null,null,"•","Les trous oblongs sont préférés aux trous circulaires afin d’empêcher la fragilisation de la bande en son centre."]
[]
[]
["3.4.1.",null,"Rainurage"]
[]
[null,null,"Effectué dans nos usines avec une pente vers les perforations"]
[]
[null,"-","Pas de rainurage :",null,null,null,null,null,null,null,null,null,null,null,null,null,{"$f":"Calculations!$R$64&\" mm\"","v":"14 mm"}]
[null,"-","Largeur des rainures :",null,null,null,null,null,null,null,null,null,null,null,null,null,{"$f":"Calculations!$R$65&\" mm\"","v":"7 mm"}]
[null,"-","Profondeur :",null,null,null,null,null,null,null,null,null,null,null,null,null,{"$f":"Calculations!$R$66&\" mm\"","v":"7 mm"}]
[null,"-","Perçage: Trous oblongs :",null,null,null,null,null,null,null,null,null,null,null,null,null,{"$f":"Calculations!$R$67&\" mm\"","v":"6 x 10 mm"}]
[]
["3.4.2.",null,"Talons"]
[]
[null,"-","Les talons sont en caoutchouc special et fixés par collage à froid sur les bords de la bande pour former des bordures de rétention."]
[]
[null,"-","Type: Profil ondulé à grande flexibilité obtenu par moulage. Le design des talons a été breveté par HASLER Group/Filtres Philippe. Sa forme en accordéon permet un bon support de la toile filtrante, une imperméabilité complète à sa base ainsi qu’une grande flexibilité au passage autour des tambours."]
[]
[]
[]
[null,"-","Hauteur des talons:",null,null,null,null,null,null,null,null,null,null,null,null,null,{"$f":"Calculations!A9&\" mm\"","v":"70 mm"}]
[]
["3.4.3.",null,"Supportage de la bande – Brin supérieur (partie active)"]
[]
[null,null,"Le système de supportage  de la bande assure un fonctionnement sans aucun contact de la bande  sur les fers support et la protège de l'usure. La table est constituée par un ensemble de fers support longitudinaux. Sur le dessus de ces fers sont  fixés les rails de glissement en HMWPE sur lesquels circulent les courroies d'usure entraînées par la bande. Un dispositif de rattrapage automatique permet de compenser l’étirement des courroies et les maintenir sous tension."]
[]
[]
[]
[]
[]
[]
[null,"-","Bâti support: ",null,null,null,null,null,null,null,null,null,null,null,null,null,{"$f":"IF(Calculations!$E$22=\"E24\",\"304L\",Calculations!$E$22)","v":"304L"}]
[null,"-","Réglettes de glissement: ",null,null,null,null,null,null,null,null,null,null,null,null,null,"HMWPE"]
[null,"-","Courroies de support:  ",null,null,null,null,null,null,null,null,null,null,null,null,null,"Caoutchouc renforcé polyester avec face de frottement polyester"]
[]
[null,"-","Dimensions des courroies  (W x T):  ",null,null,null,null,null,null,null,null,null,null,null,null,null,{"$f":"Calculations!$R$77","v":"30 mm x 5 mm"}]
[null,"-","Distribution des supports : ",null,null,null,null,null,null,null,null,null,null,null,null,null,{"$f":"Calculations!$R$68&\" sections (sur chaque côté de la boîte à vide)\"","v":"2 x 2 sections (sur chaque côté de la boîte à vide)"}]
[]
[]
[null,null,"Avantages :"]
[]
[null,"-","Support de table permettant une planéité maximale, maximisant l’efficacité du lavage et la récupération des filtrats."]
[]
[null,"-","La meilleure solution pour réduire l’usure de la bande et faible coût des pieces de rechange (courroies d’usure et réglettes de glissement)."]
[]
[null,"-","Ne nécessite ni ventilateurs ni boîtes à air (table à air) ni de grandes quantité d’eau (table à eau)."]
[]
[]
[]
[]
["3.4.4.",null,"Supportage de la bande – Brin inférieur"]
[]
[null,null,"Constitué par des rouleaux supports par des paliers étanches à roulements à billes."]
[]
[null,"-","Matériau rouleau :",null,null,null,null,null,null,null,null,null,null,null,null,null,{"$f":"IF(Calculations!$E$19=\"CAOUT\",\"Acier caoutchouté\",Calculations!$E$19)","v":"304L"}]
[null,"-","Diamètre rouleau :",null,null,null,null,null,null,null,null,null,null,null,null,null,{"$f":"Calculations!$T$69&\" mm\"","v":"219 mm"}]
[]
["3.4.5.",null,"Guidage de la bande"]
[]
[null,"-","Galet en polyethylene haute densité monté sur axe."]
[null,"-","Diamètre galet :  ",null,null,null,null,null,null,null,null,null,null,null,null,null,{"$f":"Calculations!$R$78&\" mm\"","v":"100 mm"}]
[null,"-","Axe : ",null,null,null,null,null,null,null,null,null,null,null,null,null,"316L"]
[]
["3.4.6.",null,"Lavage bande "]
[]
[null,"-","Deux rampes équipées de pulvérisateurs"]
[null,"-","Construction:"]
[null,null,null,"•","Rampes de lavage : ",null,null,null,null,null,null,null,null,null,null,null,{"$f":"Calculations!$E$18","v":"304L"}]
[null,null,null,"•","Buses :",null,null,null,null,null,null,null,null,null,null,null,"PVDF"]
[null,"-","Bac de récupération"]
[null,null,null,"•","Matériau :  ",null,null,null,null,null,null,null,null,null,null,null,{"$f":"Calculations!$E$16","v":"304L"}]
[null,null,null,"•","Trou d'évacuation :",null,null,null,null,null,null,null,null,null,null,null,"DN50, tube lisse pour tuyau flexible"]
[]
[]
["3.5.",null,"BOITE A VIDE"]
[]
[]
[]
[]
[]
[]
[]
[]
[]
[null,"-","Quantité : ",null,null,null,null,null,null,null,null,null,null,null,null,null,1]
[]
[null,"-","Type: Section Omega avec un mécanisme de basculement spécial"]
[null,"-","Corps constitué de longueurs assemblées bout à bout par brides."]
[]
[null,"-","Construction :"]
[null,null,null,"•","Corps de la boîte : ",null,null,null,null,null,null,null,null,null,null,null,{"$f":"IF(Calculations!$E$11=\"SVR\",\"FRP\",Calculations!$E$11)","v":"304L"}]
[null,null,null,"•","Pièces de supportage :  ",null,null,null,null,null,null,null,null,null,null,null,{"$f":"IF(Calculations!$E$21=\"SVR\",\"FRP\",Calculations!$E$21)","v":"304L"}]
[null,null,null,"•","Réglettes de support faîtes en UHMWPE :"]
[null,"-","Courroies de glissement sans fin en caoutchouc avec face de frottement en textile polyester"]
[null,null,null,"•","Quantité :",null,null,null,null,null,null,null,null,null,null,null,2]
[null,null,null,"•","Galets de support courroies : ",null,null,null,null,null,null,null,null,null,null,null,"UHMWPE"]
[]
[]
[]
[null,"-","Dimension des courroies"]
[null,null,null,"•","Largeur :",null,null,null,null,null,null,null,null,null,null,null,{"$f":"Calculations!$R$76&\" mm\"","v":"38 mm"}]
[null,null,null,"•","Epaisseur :",null,null,null,null,null,null,null,null,null,null,null,"10 mm"]
[]
[null,"-","Tubulures de sorties filtrats "]
[null,null,null,"•","Quantité :",null,null,null,null,null,null,null,null,null,null,null,{"$f":"Calculations!$R$36","v":4}]
[null,null,null,"•","Diamètre :",null,null,null,null,null,null,null,null,null,null,null,{"$f":"Calculations!$F$29","v":"DN65"}]
[]
[null,"-","Tuyauteries internes de liaison entre les piquages de la boîte à vide et la sortie du filtre : "]
[null,null,null,"•","Joint tournant sur sortie spéciale coudée pour autoriser le basculement sans démontage"]
[]
[null,null,null,"•","Matériau de tuyauterie :  ",null,null,null,null,null,null,null,null,null,null,null,{"$f":"IF(Calculations!$E$30=\"SVR\",\"FRP\",Calculations!$E$30)","v":"304L"}]
[null,null,null,"•","Raccordement externe : ",null,null,null,null,null,null,null,null,null,null,null,"Manchette tout caoutchouc EPDM"]
[]
[]
[null,"-","Maintenance:"]
[null,null,"Le système de basculement de la boîte à vide permet l’accès de l’intérieur de la boîte à vide pour l’inspection, le lavage et le remplacement de pièce. Le mécanisme de bascule consiste en un bâti articulé déplacé pneumatiquement. Il est géré par un vérin pneumatique gonflé avant le désactionnement des serres-joints de soutien."]
[]
[]
[]
[null,null,"En production, la boîte à vide est maintenue grâce à des serres-joints de soutien."]
[]
[null,"-","La boîte à vide est équipée de cloisons internes mobiles pour constituer des secteurs de filtration. Le nombre de cloisons internes est égal à celui des secteurs moins un."]
[]
[]
["3.6.",null,"TOILE FILTRANTE"]
[]
[null,"-","Type:",null,null,null,null,null,null,null,null,null,null,null,null,null,"Monofilament ou/et multifilament"]
[]
[null,"-","Matériau :",null,null,null,null,null,null,null,null,null,null,null,null,null,"Polyester ou polypropylène"]
[null,null,"La jonction sans fin se fait par le biais d'une soudure par ultrasons."]
[]
["3.6.1.",null,"Rouleaux du parcours de toile, supportés par des paliers étanches à roulement à billes constitués de :"]
[]
[]
[null,null,"Un rouleau cylindrique avec extrémités constituées de fonds bombés pour mise en forme de la toile sur la bande."]
[]
[null,"-","Diamètre du rouleau : ",null,null,null,null,null,null,null,null,null,null,null,null,null,{"$f":"Calculations!$R$71&\" mm\"","v":"60,3 mm"}]
[null,"-","Matériau du rouleau  : ",null,null,null,null,null,null,null,null,null,null,null,null,null,{"$f":"IF(Calculations!$E$12=\"CAOUT\",\"Carbon steel rubber lined\",Calculations!$E$12)","v":"304L"}]
[]
[null,null,"Rouleaux sortie de toile."]
[null,"-","Diamètre du rouleau : ",null,null,null,null,null,null,null,null,null,null,null,null,null,{"$f":"Calculations!R70&\" mm\"","v":"60,3 mm"}]
[null,"-","Matériau du rouleau : ",null,null,null,null,null,null,null,null,null,null,null,null,null,{"$f":"IF(Calculations!$E$15=\"CAOUT\",\"Carbon steel rubber lined\",Calculations!$E$15)","v":"304L"}]
[]
[null,null,"Rouleau support de toile circuit de retour."]
[null,"-","Diamètre du rouleau : ",null,null,null,null,null,null,null,null,null,null,null,null,null,{"$f":"Calculations!R71&\" mm\"","v":"60,3 mm"}]
[null,"-","Matériau du rouleau : ",null,null,null,null,null,null,null,null,null,null,null,null,null,{"$f":"IF(Calculations!$E$20=\"CAOUT\",\"Carbon steel rubber lined\",Calculations!$E$20)","v":"304L"}]
[]
[]
["3.6.2.",null,"Tension de toile"]
[]
[]
[]
[]
[]
[]
[]
[]
[]
[]
[]
[]
[null,null,"Obtenu par un rouleau supporté par un bâti articulé commandé par deux vérins à vessie."]
[null,null,"Contrôle et régulation du système par ajustement de la pression d'air dans les vérins. Positions extrêmes contrôlées par fin de courses."]
[]
[]
[null,"-","Quantité :",null,null,null,null,null,null,null,null,null,null,null,null,null,1]
[null,"-","Matériau du bâti :",null,null,null,null,null,null,null,null,null,null,null,null,null,{"$f":"IF(Calculations!$E$22=\"E24\",\"Carbon steel epoxy painted\",Calculations!$E$22)","v":"304L"}]
[]
[null,null,"Avantages :"]
[]
[null,"-","Système entièrement automatique, à haute precision d’ajustement."]
[null,"-","Aucun contrepoids n’est requis."]
[]
["3.6.3.",null,"Rattrapage de longueur de toile"]
[]
[null,null,"Obtenu par un rouleau ajustable, monté sur des rails fixés sur le bâti d'entrée. Longueur de rattrapage environ 800 mm."]
[]
[]
["3.6.4.",null,"Guidage de la toile"]
[]
[]
[]
[]
[]
[]
[]
[]
[]
[]
[null,null,"Tout écart de la toile, hors de sa position de travail est transmis par un palpeur latéral mécanique à un positionneur pneumatique. Ce positionneur envoie de l'air comprimé sur le côté correspondant au vérin souple du guide qui corrige cet écart par un déplacement automatique du rouleau guide. "]
[]
[]
[]
[]
[]
[null,"-","Quantité :",null,null,null,null,null,null,null,null,null,null,null,null,null,1]
[null,"-","Diamètre du rouleau : ",null,null,null,null,null,null,null,null,null,null,null,null,null,{"$f":"Calculations!$R$71&\" mm\"","v":"60,3 mm"}]
[]
[null,"-","Matériau du rouleau : ",null,null,null,null,null,null,null,null,null,null,null,null,null,"Rouleau revêtu en caoutchouc"]
[]
[null,null,"Avantages :"]
[]
[null,"-","Longue durée de vie, aucune usure des roulements car les paliers ne sont pas utilisés comme pivot."]
[]
[null,"-","Activé pneumatiquement, action très douce sur la toile."]
[]
["3.6.5.",null,"Lavage toile"]
[]
[null,"-","3 rampes équipées de pulvérisateurs"]
[]
[null,"-","Construction :"]
[null,null,null,"•","Rampes de lavage :",null,null,null,null,null,null,null,null,null,null,null,{"$f":"Calculations!$E$18","v":"304L"}]
[null,null,null,"•","Buses :",null,null,null,null,null,null,null,null,null,null,null,"PVDF"]
[null,"-","Bac de récupération :"]
[null,null,null,"•","Matériau :",null,null,null,null,null,null,null,null,null,null,null,{"$f":"Calculations!$E$16","v":"304L"}]
[null,null,null,"•","Trou d'évacuation :",null,null,null,null,null,null,null,null,null,null,null,{"$f":"\"Connexion par bride plate soudée, norme suivant \"&Calculations!C2&\"’s requirement.\"","v":"Connexion par bride plate soudée, norme suivant CARESTER’s requirement."}]
[]
[]
[]
[{"$f":"IF(Calculations!$U$12=\"Oui\",\"3.6.6.\",\"\")","v":""},null,{"$f":"IF(Calculations!$U$12=\"Oui\",\"Rouleau Déplisseur\",\"\")","v":""}]
[]
[null,{"$f":"IF(Calculations!$U$12=\"Oui\",\"-\",\"\")","v":""},{"$f":"IF(Calculations!$U$12=\"Oui\",\"Quantité :\",\"\")","v":""},null,null,null,null,null,null,null,null,null,null,null,null,null,{"$f":"IF(Calculations!$U$12=\"Oui\",\"Rouleau courbe caoutchouté\",\"\")","v":""}]
[null,{"$f":"IF(Calculations!$U$12=\"Oui\",\"-\",\"\")","v":""},{"$f":"IF(Calculations!$U$12=\"Oui\",\"Type:\",\"\")","v":""},null,null,null,null,null,null,null,null,null,null,null,null,null,{"$f":"IF(Calculations!$U$12=\"Oui\",\"1\",\"\")","v":""}]
[null,{"$f":"IF(Calculations!$U$12=\"Oui\",\"-\",\"\")","v":""},{"$f":"IF(Calculations!$U$12=\"Oui\",\"Rouleau courbe caoutchouté\",\"\")","v":""}]
[]
["3.7.",null,"SORTIE GATEAU"]
[]
[null,null,"Rouleau de décharge gâteau de petit diamètre et a grand angle d'enroulement, permet de libérer totalement les morceaux de gâteau de la toile et de les éjecter vers la trémie."]
[]
[]
[null,"-",{"$f":"IF(Calculations!$U$12=\"Oui\",\"Type:\",\"\")","v":""},null,null,null,null,null,null,null,null,null,null,null,null,null,"Rouleau de décharge"]
[null,"-","Diamètre des rouleaux : ",null,null,null,null,null,null,null,null,null,null,null,null,null,"168,3 mm"]
[null,"-","Construction:"]
[null,null,null,"•","Trémie de sortie gâteau",null,null,null,null,null,null,null,null,null,null,null,{"$f":"Calculations!$E$16","v":"304L"}]
[null,null,null,"•","Grattoir",null,null,null,null,null,null,null,null,null,null,null,"Polyurethane"]
[]
["3.8.",null,"UTILITES"]
[]
["3.8.1.",null,"Circuit d’air comprimé"]
[]
[null,null,"1 coffret pour le contrôle guidage toile, tension toile et basculement de boite à vide."]
[]
[null,"-","Type",null,null,null,null,null,null,null,null,null,null,null,null,null,"Marina IP 55 "]
[null,null,null,"•","Connexion air comprimé sur coffret :",null,null,null,null,null,null,null,null,null,null,null,"1/4 \" gaz femelle ou 1/2 “ NPT"]
[null,null,null,"•","Filtre, régulateurs et vannes d’isolement :",null,null,null,null,null,null,null,null,null,null,null,"Marque NORGREN"]
[null,null,null,"•","Vannes :",null,null,null,null,null,null,null,null,null,null,null,"Polypropylene"]
[]
[null,"-","Tuyauteries de distribution internes au filtre :"]
[null,null,null,"•","Matériau tubes :",null,null,null,null,null,null,null,null,null,null,null,"Polyethylene"]
[null,null,null,"•","Matériau raccords :",null,null,null,null,null,null,null,null,null,null,null,"Polypropylene"]
[]
["3.8.2.",null,"Lavage toile et bande"]
[]
[null,"-","Un collecteur muni de départs avec vannes"]
[null,null,null,"•","Raccordement :",null,null,null,null,null,null,null,null,null,null,null,{"$f":"\"Connexion par bride plate soudée, norme suivant \"&Calculations!C2&\"’s requirement.\"","v":"Connexion par bride plate soudée, norme suivant CARESTER’s requirement."}]
[]
[]
[null,null,null,"•","Collecteur :",null,null,null,null,null,null,null,null,null,null,null,{"$f":"Calculations!$E$18","v":"304L"}]
[null,null,null,"•","Vannes :",null,null,null,null,null,null,null,null,null,null,null,"Type à membrane, Corps fonte, membrane EPDM"]
[]
[null,null,null,"•","Liaisons aux rampes :",null,null,null,null,null,null,null,null,null,null,null,"Tuyau flexible de haute qualité en caoutchouc"]
[]
[null,"-","Répartition des départs :"]
[null,null,null,"•","Lavage toile et bande : ",null,null,null,null,null,null,null,null,null,null,null,5]
[null,null,null,"•","Lubrification des courroies : ",null,null,null,null,null,null,null,null,null,null,null,2]
[]
["3.8.3.",null,"Circuit de vide"]
[]
["3.8.3.1.",null,"Tuyauteries à filtrats, internes pour connexion à la boîte à vide"]
[]
[null,"-","Diamètre :",null,null,null,null,null,null,null,null,null,null,null,null,null,{"$f":"Calculations!$F$29","v":"DN65"}]
[null,"-","Quantité :",null,null,null,null,null,null,null,null,null,null,null,null,null,{"$f":"Calculations!$R$36","v":4}]
[null,"-","Matériau : ",null,null,null,null,null,null,null,null,null,null,null,null,null,{"$f":"IF(Calculations!$E$30=\"SVR\",\"FRP\",Calculations!$E$30)","v":"304L"}]
[null,"-","Raccordement :",null,null,null,null,null,null,null,null,null,null,null,null,null,"Tubes lisses equipées de manchette caoutchouc"]
[]
[]
["3.8.3.2.",null,"Collecteur de filtrats entre tuyauteries ci-dessus et ballons à filtrat"]
[]
[null,"-","Nombre de section :",null,null,null,null,null,null,null,null,null,null,null,null,null,{"$f":"Calculations!$S$31","v":3}]
[null,"-","Diamètre :",null,null,null,null,null,null,null,null,null,null,null,null,null,{"$f":"\"DN\"&Calculations!E32","v":"DN65"}]
[null,"-","Bride d’entrée :",null,null,null,null,null,null,null,null,null,null,null,null,null,{"$f":"Calculations!$R$36&\" x \"&Calculations!$F$29","v":"4 x DN65"}]
[null,"-","Bride de sortie :",null,null,null,null,null,null,null,null,null,null,null,null,null,{"$f":"Calculations!$S$31&\" x DN\"&Calculations!$N$32","v":"3 x DN65"}]
[null,"-","Matériau :",null,null,null,null,null,null,null,null,null,null,null,null,null,{"$f":"IF(Calculations!$E$30=\"SVR\",\"FRP\",IF(Calculations!$E$30=\"E24\",\"Carbon steel epoxy painted\",IF(Calculations!$E$30=\"CAOUT\",\"Carbon steel rubber lined\",IF(Calculations!$E$30=\"POLYPROPYLENE\",\"Polypropylene\"))))","v":false}]
[]
[null,null,"Raccord des tuyauteries par des manchettes en caoutchouc."]
[]
[null,null,"Ces fournitures ne sont pas comprises dans le prix du filtre."]
[]
["3.9.",null,"EQUIPEMENTS PROCESS"]
[]
["3.9.1.",null,"Barrage d’entrée, zone d’alimentation"]
[]
[null,"-","Bavette :",null,null,null,null,null,null,null,null,null,null,null,null,null,"Caoutchouc"]
[null,"-","Support :",null,null,null,null,null,null,null,null,null,null,null,null,null,{"$f":"Calculations!$E$13","v":"304L"}]
[null,"-","Quantité :",null,null,null,null,null,null,null,null,null,null,null,null,null,1]
[]
["3.9.2.",null,"Alimentateur de pulpe"]
[]
[]
[]
[]
[]
[]
[]
[]
[]
[null,null,{"$f":"IF(Calculations!$Q$12=\"QDC\",\"Alimentateur type Queue de carpe\",\"Alimentateur type Boîte d'alimentation\")&\" spécialement conçu pour répartir la pulpe de \"&Calculations!$K$3&\" sur la largeur du filtre.\"","v":"Alimentateur type Queue de carpe spécialement conçu pour répartir la pulpe de Tb slurry filtration sur la largeur du filtre."}]
[]
[]
[null,"-","Matériau :",null,null,null,null,null,null,null,null,null,null,null,null,null,{"$f":"Calculations!$E$13","v":"304L"}]
[null,"-","Nombre / Raccordement",null,null,null,null,null,null,null,null,null,null,null,null,null,{"$f":"Calculations!$I$27&\" x \"&Calculations!$S$27&\" mm\"","v":"1 x 20 mm"}]
[null,"-","Protection latérale de la zone d’alimentation par bavettes en caoutchouc."]
[]
["3.9.3.",null,"Goulotte de lavage gâteau"]
[]
[]
[]
[]
[]
[]
[]
[]
[]
[]
[]
[null,null,"Type: Distribution directe sur un déflecteur de répartition et écoulement sur une bavette en tissue pour assurer une distribution uniforme sur le gâteau. La goulotte est mobile et est supporté par des patins en polyéthylène pour ajustement de son positionnement sur le filtre. Il est immobilisé en position par des clamps."]
[]
[]
[]
[]
[]
[null,"-","Matériau :",null,null,null,null,null,null,null,null,null,null,null,null,null,{"$f":"Calculations!$E$14","v":"304L"}]
[null,"-","Raccordement :",null,null,null,null,null,null,null,null,null,null,null,null,null,{"$f":"Calculations!$R$11&\" x \"&Calculations!$S$28&\" mm\"","v":"3 x 20 mm"}]
[null,"-","Quantité :",null,null,null,null,null,null,null,null,null,null,null,null,null,{"$f":"Calculations!$R$11","v":3}]
[]
["3.9.4.",null,"Barrage pendulaire (barrage de separation)"]
[]
[null,"-","Type :",null,null,null,null,null,null,null,null,null,null,null,null,null,"Pendulaire"]
[null,"-","Bavette :",null,null,null,null,null,null,null,null,null,null,null,null,null,"Caoutchouc"]
[null,"-","Support :",null,null,null,null,null,null,null,null,null,null,null,null,null,{"$f":"Calculations!$E$14","v":"304L"}]
[null,"-","Quantité : ",null,null,null,null,null,null,null,null,null,null,null,null,null,{"$f":"Calculations!R11+1","v":4}]
[]
[]
[]
[]
["3.10.",null,"NORMES STANDARDS POUR RACCORDEMENTS"]
[]
[null,"-",{"$f":"\"Avec \"&Calculations!$C$2&\":\"","v":"Avec CARESTER:"},null,null,null,null,null,null,null,null,null,null,null,null,null,{"$f":"\"Suivant besoins \"&Calculations!$C$2","v":"Suivant besoins CARESTER"}]
[null,"-","Internal:",null,null,null,null,null,null,null,null,null,null,null,null,null,"Manchettes EPDM sur tubes lisses"]
[]
["3.11.",null,"SITE CONDITIONS"]
[]
[null,null,"Selon la spécification ou à définir"]
[null,"-","Zone géographique :"]
[null,"-","Altitude :"]
[null,"-","Température : ",null,null,null,null,null,null,null,null,null,null,null,null,null,"+5 à +40°C "]
[null,"-","Humidité : ",null,null,null,null,null,null,null,null,null,null,null,null,null,"60%"]
[]
["NOTE: ",null,"L'unité complète de filtration (filtre + accessoires associés) doit être installée dans une zone hors – gel, d'une température ambiante minimum de 5°C. est en opération."]
[]
[]
[]
[]
[]
[]
[]
[]
[]
[]
[]
[]
[]
[]
[]
[]
[]
[]
[]
[]
[]
[]
[]
[]
[]
[]
[]
[]
[]
[]
[]
[]
[]
[]
["3.12.",null,"EQUIPEMENT ELECTRIQUE DE CONTROLE ET DE SECURITE"]
[]
["3.12.1.",null,"Listes des capteurs installés sur le filtre"]
[]
[null,"-","Cable d’arrêt d’urgence (gauche/droite)",null,null,null,null,null,null,null,null,null,null,"NB : 2 – HS01/HS02 ",null,null,null,null,null,null,"Code 1-5"]
[null,"-","Détection de dérive toile (gauche/droite)",null,null,null,null,null,null,null,null,null,null,"NB : 2 – ZS03/ZS04 ",null,null,null,null,null,null,"Code 1"]
[null,"-","Détection de tension toile (min./max.)",null,null,null,null,null,null,null,null,null,null,"NB : 2 – ZSL01/ZSH02",null,null,null,null,null,null,"Code 2"]
[null,"-","Détection surcouple groupe d’entraînement bande",null,null,null,null,null,null,null,null,null,null,"NB : 1 – WSH01 ",null,null,null,null,null,null,"Code 1"]
[]
[null,"-","Détection de dérive bande (gauche/droite)",null,null,null,null,null,null,null,null,null,null,"NB : 2 – ZS05/ZS06 ",null,null,null,null,null,null,"Code 1"]
[null,"-","Détection épaisseur gâteau",null,null,null,null,null,null,null,null,null,null,"NB : 2 – LT01/02 ",null,null,null,null,null,null,"Code 7"]
[null,"-","Détection niveau haut pulpe ",null,null,null,null,null,null,null,null,null,null,"NB : 1 – LSH01",null,null,null,null,null,null,"Code 7"]
[null,"-","Détection de rotation toile",null,null,null,null,null,null,null,null,null,null,"NB : 1 – SSL01  ",null,null,null,null,null,null,"Code 2"]
[null,"-","Détection de rupture courroies boîte à vide ",null,null,null,null,null,null,null,null,null,null,"NB : 2 – ZS07/ZS08 ",null,null,null,null,null,null,"Code 6"]
[null,"-","Détection de pression"]
[null,null,null,"•","Circuit air comprimé",null,null,null,null,null,null,null,null,"NB : 1 – PSL02",null,null,null,null,null,null,"Code 3"]
[null,null,null,"•","Circuit d’eau",null,null,null,null,null,null,null,null,"NB : 1 – PSL01",null,null,null,null,null,null,"Code 3"]
[null,"-","Débitmètres"]
[null,null,null,"•","Lubrification courroies table et boîte à vide ",null,null,null,null,null,null,null,null,"NB : 4 – FISL01/02/03/04 ",null,null,null,null,null,null,"Code 4"]
[]
[null,null,null,"•","Type:",null,null,null,null,null,null,null,null,"Gyrometer with floater"]
[]
[null,null,"Codification des signaux"]
[]
[null,null,"Code 1 – 1 SPST (NC si non activé)"]
[null,null,"Code 2 – capteur inductif deux cables (NC si non activé)"]
[null,null,"Code 3 – 1 SPST (NO pression < réglage de seuil)"]
[null,null,"Code 4 – ILS (NO si débit < réglage de seuil)"]
[null,null,"Code 5 – inclus un second SPST qui sera directement câblé en série dans le circuit de commande électromécanique de la bobine du contacteur moteur filtre."]
[]
[null,null,"Code 6 – capteur sensitif 2 fils (NO si non activé)"]
[null,null,"Code 7 – 4/20 mA dc"]
[]
[null,null,"Les capteurs ci-dessus seront câblés jusqu’à une boite de jonction fixée sur le bâti du filtre. Cette boîte sera équipée d’un bornier de raccordement, d’une barre cuivre de mise à la terre et de presse-étoupe d’entrée de câbles."]
[]
[]
[null,null,"Les fils, câbles et bornes seront repérés conformément au schéma de câblage."]
[]
[null,null,"LIMITES DE FOURNITURE"]
[]
[null,null,"Les sécurités et le fonctionnement de l’équipement seront contrôlés par l’automate client. La programmation sera réalisée par le client conformément aux diagrammes logiques fournis par HASLER Group."]
[]
[]
[null,null,"Les câbles, presse-étoupe et accessoires de liaison non installés en usine par HASLER Group seront fournis, posés et raccordés par le client. "]
[]
[]
[]
[]
[]
[]
["3.12.2.",null,"Liste standard des fournisseurs"]
[]
["MATERIEL",null,null,null,null,"TYPE",null,null,null,null,null,"MARQUE",null,null,null,null,"REMARQUE"]
["HS01/HS02",null,null,null,null,"XY2-CE1A270TK\nXY2-CE2A270TK",null,null,null,null,null,"Schneider Electric\nTélémécanique"]
[]
["WSH01",null,null,null,null,"ZCK-J1TK \nZCK-E61TK",null,null,null,null,null,"Schneider Electric\nTélémécanique"]
[]
["ZSL01; ZSH02",null,null,null,null,"IB0016",null,null,null,null,null,"IFM Electronic",null,null,null,null,"20 ... 250 Vca/cc"]
["PSL01; PSL02",null,null,null,null,"B4",null,null,null,null,null,"Ashcroft \nDresser",null,null,null,null,"Parties mouillées en 316"]
[]
["FISL01; FISL02",null,null,null,null,865,null,null,null,null,null,"Gemü",null,null,null,null,"With reed switch sensor \nType 1251/1256"]
[]
["Boîte de jonction (BJ)",null,null,null,null,"Série KS",null,null,null,null,null,"Rittal",null,null,null,null,"GRP IP66 (IEC 529) \nNema 4x"]
[]
["Bornes de raccordement",null,null,null,null,null,null,null,null,null,null,"ENTRELEC ou  \nWEIDMÜLLER"]
[]
["Presse-étoupes d’entrée de câbles",null,null,null,null,"Polyamide",null,null,null,null,null,"Capri ou \nLutze",null,null,null,null,"Boite de jonction et capteur"]
[]
["Câbles de contrôle et instrumentation",null,null,null,null,"1,5 mm2  (AWG16)",null,null,null,null,null,"HELUKABEL",null,null,null,null,"300/500V DIN/VDE - \nSEV 600V-90°  UL / CSA"]
[]
[]
[]
[]
[]
[]
[]
[]
[]
[]
[]
[]
[]
[]
[]
[]
[]
[]
[]
[]
[]
[]
[]
[]
[]
[]
[]
[]
[]
[]
["4.",null,"SPECIFICATIONS PEINTURE"]
[]
[null,null,"GRENAILLAGE :",null,null,null,null,null,null,null,null,null,null,null,null,null,"GRADE : SA 2.5 of Swedish Standard SIS 055900"]
[]
[]
[null,null,"COUCHE PRIMAIRE :"]
[null,"-","Deux composants primaire époxy  - Zinc phosphate"]
[null,"-","Diluant : ",null,null,null,null,null,null,null,null,null,null,null,null,null,"No. 1"]
[null,"-","Epaisseur totale :",null,null,null,null,null,null,null,null,null,null,null,null,null,"90 µm"]
[null,"-","Fiche technique :",null,null,null,null,null,null,null,null,null,null,null,null,null,"FREITAG D03/09.2004"]
[]
[null,null,"COUCHE FINALE :"]
[null,"-","Deux composants époxy polyamide"]
[null,"-","Thinner: ",null,null,null,null,null,null,null,null,null,null,null,null,null,"No. 1"]
[null,"-","Total thickness: ",null,null,null,null,null,null,null,null,null,null,null,null,null,"90 µm"]
[]
[null,null,"TEINTE FINALE :",null,null,null,null,null,null,null,null,null,null,null,null,null,"BLUE - RAL 5012"]
[]
[null,null,"EPAISSEUR TOTAL DU SYSTEME : ",null,null,null,null,null,null,null,null,null,null,null,null,null,"180 µm"]
[]
[null,null,"RETOUCHES :"]
[null,null,"Pendant le montage les retouches nécessaires doivent être effectuées rapidement afin de réparer toutes les détériorations dues aux soudures, l’abrasion, l’impact etc…"]
[]
[null,null,"Les retouches sont normalement effectuées suite à la préparation de la surface par brossage à grade E, F, G / SP3 suivant le standard SSPC VIS 3."]
[]
[null,null,"Le nombre de couches primaire et finale et leurs épaisseurs doivent être spécifiés dans le cycle d’application."]
[]
[null,null,"Surface tolerant paints doivent être appliquées avec la même méthode sur les écrous & les boulons après le contrôle du serrage."]
[]
[]
["NOTE: ",null,"Nous informer, un mois maximum après la commande, en cas de modification du procédé ou de la couleur (susceptible de surcoût)."]
[]
[]
[]
[]
[]
[]
[]
[]
[]
[]
[]
[]
[]
[]
[]
[]
[]
[]
["5.",null,"LIMITE DE FOURNITURES"]
[]
["5.1.",null,"EQUIPEMENTS FOURNIS"]
[]
[null,null,"En règle générale, la fourniture s’arrête au matériel spécifiquement défini dans le descriptif du présent document. Les limites de fournitures sont précisées sur le plan d’ensemble, soit principalement : "]
[]
[]
[null,"-","Bride des goulottes d’alimentation pulpe"]
[null,"-","Brides des goulottes de lavage"]
[null,"-","Manchettes caoutchouc des tubulures de filtrat"]
[null,"-","Bride de trémie de déchargement du gâteau"]
[null,"-","Bride du collecteur à filtrats"]
[null,"-","Bride du collecteur d’eau"]
[null,"-","Alimentation d’air sur l’armoire de commande"]
[null,"-","Sur bornier des équipements électriques défini dans le descriptif"]
[]
["5.2.",null,"EXCLUSIONS"]
[]
[null,"-","Génie civil"]
[null,"-","Boulons d’ancrage"]
[null,"-","Tuyauteries de liaison et supportage entre les équipements"]
[null,"-","Passerelle de service"]
[null,"-","Armoire ou coffret électrique, instrumentation et la régulation"]
[null,"-","Câblage, supportage et raccordement des câbles"]
[null,"-","Inspection par autorités compétentes"]
[null,"-","Déchargement, stockage et manutention sur site"]
[null,"-","Retouches de peinture sur site"]
[]
["5.3.",null,"MODIFICATIONS"]
[]
[null,null,"Les spécifications  Techniques décrites dans ce document ne peuvent être modifiées sans l’accord de HASLER Group."]
[]
[]
["6.",null,"EC DECLARATION OF INTEGRATION & SAFETY PERSONNEL PROTECTION"]
[]
[null,null,"HASLER Group fournit une déclaration d’intégration CE et non un certificat.."]
[]
[null,null,"Ce qui veut dire que l’équipement décrit précédemment est destiné à s’intégrer dans un arrangement général ou à être ajouté à un ensemble d’équipement interagissant les uns avec les autres."]
[]
[]
[null,null,"En conséquence, le démarrage de l’équipement fourni par HASLER Group est interdit tant que l’arrangement général ou tout autre équipement interagissant avec les fournitures HASLER Group ne sont pas en accord avec la directive 98/37/CEE ou en accord avec les directives National du pays de démarrage."]
[]
[]
[]
[null,null,"D’après les standards CE, une protection doit être installée tout autour du filtre. HASLER Group fournit les protections autour du filtre. "]
[]
[]
[]
[]
["III – EQUIPEMENTS & SERVICES COMPLEMENTAIRES POUR FILTRE A BANDE SOUS VIDE ‘’PHILIPPE’’"]
[]
[]
[]
[]
[null,null,null,null,null,null,"CLIENT",null,null,null,null,null,null,null,null,{"$f":"Calculations!$C$2","v":"CARESTER"}]
[null,null,null,null,null,null,"REFERENCE CLIENT",null,null,null,null,null,null,null,null,{"$f":"Calculations!$C$4","v":"CAREMAG"}]
[null,null,null,null,null,null,"NUMERO D'OFFRE",null,null,null,null,null,null,null,null,{"$f":"Calculations!$C$3&\"_\"&Calculations!$K$10&\"-\"&Calculations!$H$3","v":"726789_2B5-rev4"}]
[null,null,null,null,null,null,"PRODUIT",null,null,null,null,null,null,null,null,{"$f":"Calculations!$K$3","v":"Tb slurry filtration"}]
[null,null,null,null,null,null,"FILTRE SELECTIONNE",null,null,null,null,null,null,null,null,{"$f":"\"VACUUM BELT FILTER \"&Calculations!$C$9&\" m²\"","v":"VACUUM BELT FILTER 2 m²"}]
[null,null,null,null,null,null,"LARGEUR",null,null,null,null,null,null,null,null,{"$f":"Calculations!$E$9&\" mm\"","v":"500 mm"}]
[null,null,null,null,null,null,"TYPE",null,null,null,null,null,null,null,null,{"$f":"Calculations!$K$10&\" - \"&Calculations!$I$9","v":"2B5 - SERIE 2"}]
[null,null,null,null,null,null,"DATE",null,null,null,null,null,null,null,null,{"$f":"Calculations!$R$2","v":"2025-04-25"}]
[]
[]
[]
[null,null,null,null,"EQUIPEMENTS ET SERVICES COMPLEMENTAIRES"]
[]
[null,null,null,null,"Annexe \"Machine à souder les toiles par ultrasons\""]
[null,null,null,null,"Annexe \"Hotte à vapeur\""]
[null,null,null,null,"Annexe \"Ballon séparateur\""]
[null,null,null,null,"Annexe \"Cyclone\""]
[null,null,null,null,"Annexe \"Laveur\""]
[null,null,null,null,"Annexe \"Pompe à vide\""]
[null,null,null,null,"Annexe \"Pompe à filtrat\""]
[null,null,null,null,"Annexe \"Tank de lavage toile et bande\""]
[null,null,null,null,"Annexe \"Tank de lavage gâteau\""]
[null,null,null,null,"Annexe \"Coffret de commande local\""]
[null,null,null,null,"Annexe \"Montage\""]
[null,null,null,null,"Annexe \"Mise en route\""]

{"sheet":"ULTRASONIC MACHINE-FR","index":118,"n_rows":44,"n_cols":9,"rows_kept":44,"cut":false,"hidden":true,"merged":[[241,2,242,23],[1,0,1,24],[7,2,14,23],[15,2,20,23],[52,0,54,24],[64,15,64,20],[66,0,66,24],[101,0,103,26],[175,16,176,23],[225,2,226,23],[232,4,234,23],[235,4,237,23],[370,16,371,23],[243,2,243,23],[244,2,245,23],[297,16,298,23],[316,2,317,23],[325,2,326,23],[335,16,336,23],[342,16,343,23],[345,16,346,23],[349,16,351,23],[355,16,356,23],[368,16,369,23],[455,2,456,23],[372,16,373,23],[377,16,378,23],[382,2,384,23],[385,2,385,23],[389,16,390,23],[412,2,413,23],[428,2,429,23],[430,4,430,23],[431,4,432,23],[434,4,435,23],[436,4,437,23],[568,2,570,23],[457,2,460,23],[465,2,469,23],[472,16,473,23],[475,16,476,23],[480,2,481,23],[482,2,482,23],[483,2,484,23],[514,16,515,23],[555,2,557,23],[560,2,561,23],[565,16,566,23],[801,2,802,23],[605,2,606,23],[618,2,619,23],[636,16,637,23],[654,16,656,23],[679,16,680,23],[692,16,694,23],[696,16,697,23],[711,16,712,23],[748,2,749,23],[767,2,769,23],[789,16,790,23],[964,2,965,23],[853,4,854,10],[863,2,864,23],[868,2,869,23],[870,2,871,23],[875,2,876,23],[878,2,879,23],[936,16,937,23],[955,2,956,23],[957,2,958,23],[959,2,960,23],[961,2,962,23],[1044,15,1044,20],[1046,0,1046,24],[987,2,988,23],[1013,2,1014,23],[1020,2,1022,23],[1023,2,1026,23],[1027,2,1028,23],[1032,0,1034,24]]}
[]
["Annexe \"MACHINE A SOUDER LES TOILES PAR ULTRASONS\""]
[]
[null,null,"Outillage spéciale "]
[]
[null,"-","UNE MACHINE A SOUDER LES TOILES PAR ULTRASONS"]
[]
[null,null,"Le générateur converti l’alimentation électrique de 220V/50 Hz ou 60 Hz du système en une énergie électrique de 35000 Hz. Le convertisseur piézoélectrique produit une oscillation mécanique à la même fréquence.\nLe pistolet à souder avec le convertisseur dirige l’oscillation haute fréquence vers les matières plastiques (toile filtrante) ce qui produit un échauffement due à la friction au point requis. Le plastique fond en une fraction de seconde et forme un assemblement moléculaire résistant."]
[]
[]
[]
[]
[]
[]
[]
[null,null,"L’énergie ultrasonique démarre avec l’enclenchement de l’impulseur incorporé dans la poignée de la machine.\nLe temps de soudure est contrôlé soit manuellement en gardant l’impulseur en position ouverte, soit automatiquement grâce à un chronomètre intégré à la machine. Le choix est fait à l’aide d’un bouton situé à l’avant du générateur."]
[]
[]
[]
[]
[]
[]
[null,"-","UN U 200x50x5 - LONGUEUR 3550: support pour le soudage ultrasonique de la toile"]
[null,"-","UN COUTEAU A CHAUD DUVAUCHEL : pour couper la toile"]
[null,"-","UN ROULEAU WINCH : pour étirer la toile"]
[]
[]
[]
[]
[]
[]
[]
[]
[]
[]
[]
[]
[]
[]
[]
[]
[]
[]
[null,null,null,null,null,null,null,null," "]

{"sheet":"FUME HOOD-FR","index":119,"n_rows":41,"n_cols":17,"rows_kept":41,"cut":false,"hidden":true,"merged":[[238,2,239,23],[1,0,1,24],[7,2,9,23],[10,2,12,23],[49,0,51,24],[61,15,61,20],[63,0,63,24],[98,0,100,26],[172,16,173,23],[222,2,223,23],[229,4,231,23],[232,4,234,23],[367,16,368,23],[240,2,240,23],[241,2,242,23],[294,16,295,23],[313,2,314,23],[322,2,323,23],[332,16,333,23],[339,16,340,23],[342,16,343,23],[346,16,348,23],[352,16,353,23],[365,16,366,23],[452,2,453,23],[369,16,370,23],[374,16,375,23],[379,2,381,23],[382,2,382,23],[386,16,387,23],[409,2,410,23],[425,2,426,23],[427,4,427,23],[428,4,429,23],[431,4,432,23],[433,4,434,23],[565,2,567,23],[454,2,457,23],[462,2,466,23],[469,16,470,23],[472,16,473,23],[477,2,478,23],[479,2,479,23],[480,2,481,23],[511,16,512,23],[552,2,554,23],[557,2,558,23],[562,16,563,23],[798,2,799,23],[602,2,603,23],[615,2,616,23],[633,16,634,23],[651,16,653,23],[676,16,677,23],[689,16,691,23],[693,16,694,23],[708,16,709,23],[745,2,746,23],[764,2,766,23],[786,16,787,23],[961,2,962,23],[850,4,851,10],[860,2,861,23],[865,2,866,23],[867,2,868,23],[872,2,873,23],[875,2,876,23],[933,16,934,23],[952,2,953,23],[954,2,955,23],[956,2,957,23],[958,2,959,23],[1041,15,1041,20],[1043,0,1043,24],[984,2,985,23],[1010,2,1011,23],[1017,2,1019,23],[1020,2,1023,23],[1024,2,1025,23],[1029,0,1031,24]]}
[]
["Annexe \"HOTTE A VAPEUR\""]
[]
[null,null,"HOTTE A VAPEUR"]
[]
[]
[]
[null,null,"Elle couvre tout ou une partie de la surface active du filtre. La hotte est contituée d’un bâti en profilé d’acier, constitué par plusieurs éléments assemblés entre eux. Le toit est constitué de plaque de polypropylène."]
[]
[]
[null,null,"Les côtés sont fermés par des panneaux translucides en PVC souple, ce qui permet un accès aisé à l’intérieur de la hotte et aux accessoires tels que les goulottes de lavage, le gâteau et les barrages. "]
[]
[]
[]
[null,"-","Bâti :",null,null,null,null,null,null,null,null,null,null,null,null,null,"316L"]
[null,"-","Longueur totale : ",null,null,null,null,null,null,null,null,null,null,null,null,null,{"$f":"IF(Calculations!J31=\"Oui\",Calculations!R55&\" mm\",IF(Calculations!J31=\"Bicar\",\"7000 mm\",\"0 mm\"))","v":"0 mm"}]
[null,"-","Débit de ventilation à prévoir :",null,null,null,null,null,null,null,null,null,null,null,null,null,{"$f":"Calculations!$AT$4&\" m3/h\"","v":"1300 m3/h"}]
[null,"-","Evacuations :",null,null,null,null,null,null,null,null,null,null,null,null,null,{"$f":"Calculations!$AT$5&\" x \"&Calculations!AT6&\" mm\"","v":"2 x 200 mm"}]
[null,"-","Ventilateur d'évacuation et tuyauterie :",null,null,null,null,null,null,null,null,null,null,null,null,null,"Exclus"]
[]
[]
[]
[]
[]
[]
[]
[]
[]
[]
[]
[]
[]
[]
[]
[]
[]
[]
[]
[]
[]
[null,null,null,null,null,null,null,null," "]

{"sheet":"BALLON 1-FR","index":120,"n_rows":41,"n_cols":17,"rows_kept":41,"cut":false,"hidden":true,"merged":[[172,16,173,23],[1,0,1,24],[49,0,51,24],[61,15,61,20],[63,0,63,24],[98,0,100,26],[342,16,343,23],[222,2,223,23],[229,4,231,23],[232,4,234,23],[238,2,239,23],[240,2,240,23],[241,2,242,23],[294,16,295,23],[313,2,314,23],[322,2,323,23],[332,16,333,23],[339,16,340,23],[427,4,427,23],[346,16,348,23],[352,16,353,23],[365,16,366,23],[367,16,368,23],[369,16,370,23],[374,16,375,23],[379,2,381,23],[382,2,382,23],[386,16,387,23],[409,2,410,23],[425,2,426,23],[511,16,512,23],[428,4,429,23],[431,4,432,23],[433,4,434,23],[452,2,453,23],[454,2,457,23],[462,2,466,23],[469,16,470,23],[472,16,473,23],[477,2,478,23],[479,2,479,23],[480,2,481,23],[708,16,709,23],[552,2,554,23],[557,2,558,23],[562,16,563,23],[565,2,567,23],[602,2,603,23],[615,2,616,23],[633,16,634,23],[651,16,653,23],[676,16,677,23],[689,16,691,23],[693,16,694,23],[952,2,953,23],[745,2,746,23],[764,2,766,23],[786,16,787,23],[798,2,799,23],[850,4,851,10],[860,2,861,23],[865,2,866,23],[867,2,868,23],[872,2,873,23],[875,2,876,23],[933,16,934,23],[1043,0,1043,24],[954,2,955,23],[956,2,957,23],[958,2,959,23],[961,2,962,23],[984,2,985,23],[1010,2,1011,23],[1017,2,1019,23],[1020,2,1023,23],[1024,2,1025,23],[1029,0,1031,24],[1041,15,1041,20]]}
[]
["Annexe \"BALLON SEPARATEUR\""]
[]
[null,"-","Matériau :",null,null,null,null,null,null,null,null,null,null,null,null,null,{"$f":"Calculations!$C$44","v":"304L"}]
[null,"-","Diamètre : ",null,null,null,null,null,null,null,null,null,null,null,null,null,{"$f":"Calculations!$E$44&\" mm\"","v":"500 mm"}]
[]
[null,null,"Equipement"]
[]
[null,"-","Pieds supports : ",null,null,null,null,null,null,null,null,null,null,null,null,null,"Exclus"]
[null,"-","Connection \"A\":",null,null,null,null,null,null,null,null,null,null,null,null,null,{"$f":"Calculations!$G$44&\" mm\"","v":"65 mm"}]
[null,"-","Connection \"B\":",null,null,null,null,null,null,null,null,null,null,null,null,null,{"$f":"Calculations!$I$44&\" mm\"","v":"65 mm"}]
[null,"-","Connection \"C\":",null,null,null,null,null,null,null,null,null,null,null,null,null,{"$f":"Calculations!K44&\" mm\"","v":"32 mm"}]
[]
[null,null,"Autres connections :"]
[]
[null,"- ","Contrôle de niveau :",null,null,null,null,null,null,null,null,null,null,null,null,null,"DN50 (2\") - Nbre: 2"]
[null,"- ","PIT :",null,null,null,null,null,null,null,null,null,null,null,null,null,"DN50 (2\") - Nbre: 1"]
[]
[]
[]
[]
[]
[]
[]
[]
[]
[]
[]
[]
[]
[]
[]
[]
[]
[]
[]
[]
[]
[]
[]
[null,null,null,null,null,null,null,null," "]

{"sheet":"BALLON 2-FR","index":121,"n_rows":41,"n_cols":17,"rows_kept":41,"cut":false,"hidden":true,"merged":[[172,16,173,23],[1,0,1,24],[49,0,51,24],[61,15,61,20],[63,0,63,24],[98,0,100,26],[342,16,343,23],[222,2,223,23],[229,4,231,23],[232,4,234,23],[238,2,239,23],[240,2,240,23],[241,2,242,23],[294,16,295,23],[313,2,314,23],[322,2,323,23],[332,16,333,23],[339,16,340,23],[427,4,427,23],[346,16,348,23],[352,16,353,23],[365,16,366,23],[367,16,368,23],[369,16,370,23],[374,16,375,23],[379,2,381,23],[382,2,382,23],[386,16,387,23],[409,2,410,23],[425,2,426,23],[511,16,512,23],[428,4,429,23],[431,4,432,23],[433,4,434,23],[452,2,453,23],[454,2,457,23],[462,2,466,23],[469,16,470,23],[472,16,473,23],[477,2,478,23],[479,2,479,23],[480,2,481,23],[708,16,709,23],[552,2,554,23],[557,2,558,23],[562,16,563,23],[565,2,567,23],[602,2,603,23],[615,2,616,23],[633,16,634,23],[651,16,653,23],[676,16,677,23],[689,16,691,23],[693,16,694,23],[952,2,953,23],[745,2,746,23],[764,2,766,23],[786,16,787,23],[798,2,799,23],[850,4,851,10],[860,2,861,23],[865,2,866,23],[867,2,868,23],[872,2,873,23],[875,2,876,23],[933,16,934,23],[1043,0,1043,24],[954,2,955,23],[956,2,957,23],[958,2,959,23],[961,2,962,23],[984,2,985,23],[1010,2,1011,23],[1017,2,1019,23],[1020,2,1023,23],[1024,2,1025,23],[1029,0,1031,24],[1041,15,1041,20]]}
[]
["Annexe \"BALLON SEPARATEUR\""]
[]
[null,"-","Matériau :",null,null,null,null,null,null,null,null,null,null,null,null,null,{"$f":"Calculations!$C$44","v":"304L"}]
[null,"-","Diamètre : ",null,null,null,null,null,null,null,null,null,null,null,null,null,{"$f":"Calculations!$E$44&\" mm\"","v":"500 mm"}]
[]
[null,null,"Equipement"]
[]
[null,"-","Pieds supports : ",null,null,null,null,null,null,null,null,null,null,null,null,null,"Exclus"]
[null,"-","Connection \"A\":",null,null,null,null,null,null,null,null,null,null,null,null,null,{"$f":"Calculations!$G$44&\" mm\"","v":"65 mm"}]
[null,"-","Connection \"B\":",null,null,null,null,null,null,null,null,null,null,null,null,null,{"$f":"Calculations!$I$44&\" mm\"","v":"65 mm"}]
[null,"-","Connection \"C\":",null,null,null,null,null,null,null,null,null,null,null,null,null,{"$f":"Calculations!K44&\" mm\"","v":"32 mm"}]
[]
[null,null,"Autres connections :"]
[]
[null,"- ","Contrôle de niveau :",null,null,null,null,null,null,null,null,null,null,null,null,null,"DN50 (2\") - Nbre: 2"]
[null,"- ","PIT :",null,null,null,null,null,null,null,null,null,null,null,null,null,"DN50 (2\") - Nbre: 1"]
[]
[]
[]
[]
[]
[]
[]
[]
[]
[]
[]
[]
[]
[]
[]
[]
[]
[]
[]
[]
[]
[]
[]
[null,null,null,null,null,null,null,null," "]

{"sheet":"BALLON 3-FR","index":122,"n_rows":41,"n_cols":17,"rows_kept":41,"cut":false,"hidden":true,"merged":[[172,16,173,23],[1,0,1,24],[49,0,51,24],[61,15,61,20],[63,0,63,24],[98,0,100,26],[342,16,343,23],[222,2,223,23],[229,4,231,23],[232,4,234,23],[238,2,239,23],[240,2,240,23],[241,2,242,23],[294,16,295,23],[313,2,314,23],[322,2,323,23],[332,16,333,23],[339,16,340,23],[427,4,427,23],[346,16,348,23],[352,16,353,23],[365,16,366,23],[367,16,368,23],[369,16,370,23],[374,16,375,23],[379,2,381,23],[382,2,382,23],[386,16,387,23],[409,2,410,23],[425,2,426,23],[511,16,512,23],[428,4,429,23],[431,4,432,23],[433,4,434,23],[452,2,453,23],[454,2,457,23],[462,2,466,23],[469,16,470,23],[472,16,473,23],[477,2,478,23],[479,2,479,23],[480,2,481,23],[708,16,709,23],[552,2,554,23],[557,2,558,23],[562,16,563,23],[565,2,567,23],[602,2,603,23],[615,2,616,23],[633,16,634,23],[651,16,653,23],[676,16,677,23],[689,16,691,23],[693,16,694,23],[952,2,953,23],[745,2,746,23],[764,2,766,23],[786,16,787,23],[798,2,799,23],[850,4,851,10],[860,2,861,23],[865,2,866,23],[867,2,868,23],[872,2,873,23],[875,2,876,23],[933,16,934,23],[1043,0,1043,24],[954,2,955,23],[956,2,957,23],[958,2,959,23],[961,2,962,23],[984,2,985,23],[1010,2,1011,23],[1017,2,1019,23],[1020,2,1023,23],[1024,2,1025,23],[1029,0,1031,24],[1041,15,1041,20]]}
[]
["Annexe \"BALLON SEPARATEUR\""]
[]
[null,"-","Matériau :",null,null,null,null,null,null,null,null,null,null,null,null,null,{"$f":"Calculations!$C$44","v":"304L"}]
[null,"-","Diamètre : ",null,null,null,null,null,null,null,null,null,null,null,null,null,{"$f":"Calculations!$E$44&\" mm\"","v":"500 mm"}]
[]
[null,null,"Equipement"]
[]
[null,"-","Pieds supports : ",null,null,null,null,null,null,null,null,null,null,null,null,null,"Exclus"]
[null,"-","Connection \"A\":",null,null,null,null,null,null,null,null,null,null,null,null,null,{"$f":"Calculations!$G$44&\" mm\"","v":"65 mm"}]
[null,"-","Connection \"B\":",null,null,null,null,null,null,null,null,null,null,null,null,null,{"$f":"Calculations!$I$44&\" mm\"","v":"65 mm"}]
[null,"-","Connection \"C\":",null,null,null,null,null,null,null,null,null,null,null,null,null,{"$f":"Calculations!K44&\" mm\"","v":"32 mm"}]
[]
[null,null,"Autres connections :"]
[]
[null,"- ","Contrôle de niveau :",null,null,null,null,null,null,null,null,null,null,null,null,null,"DN50 (2\") - Nbre: 2"]
[null,"- ","PIT :",null,null,null,null,null,null,null,null,null,null,null,null,null,"DN50 (2\") - Nbre: 1"]
[]
[]
[]
[]
[]
[]
[]
[]
[]
[]
[]
[]
[]
[]
[]
[]
[]
[]
[]
[]
[]
[]
[]
[null,null,null,null,null,null,null,null," "]

{"sheet":"BALLON 4-FR","index":123,"n_rows":41,"n_cols":17,"rows_kept":41,"cut":false,"hidden":true,"merged":[[172,16,173,23],[1,0,1,24],[49,0,51,24],[61,15,61,20],[63,0,63,24],[98,0,100,26],[342,16,343,23],[222,2,223,23],[229,4,231,23],[232,4,234,23],[238,2,239,23],[240,2,240,23],[241,2,242,23],[294,16,295,23],[313,2,314,23],[322,2,323,23],[332,16,333,23],[339,16,340,23],[427,4,427,23],[346,16,348,23],[352,16,353,23],[365,16,366,23],[367,16,368,23],[369,16,370,23],[374,16,375,23],[379,2,381,23],[382,2,382,23],[386,16,387,23],[409,2,410,23],[425,2,426,23],[511,16,512,23],[428,4,429,23],[431,4,432,23],[433,4,434,23],[452,2,453,23],[454,2,457,23],[462,2,466,23],[469,16,470,23],[472,16,473,23],[477,2,478,23],[479,2,479,23],[480,2,481,23],[708,16,709,23],[552,2,554,23],[557,2,558,23],[562,16,563,23],[565,2,567,23],[602,2,603,23],[615,2,616,23],[633,16,634,23],[651,16,653,23],[676,16,677,23],[689,16,691,23],[693,16,694,23],[952,2,953,23],[745,2,746,23],[764,2,766,23],[786,16,787,23],[798,2,799,23],[850,4,851,10],[860,2,861,23],[865,2,866,23],[867,2,868,23],[872,2,873,23],[875,2,876,23],[933,16,934,23],[1043,0,1043,24],[954,2,955,23],[956,2,957,23],[958,2,959,23],[961,2,962,23],[984,2,985,23],[1010,2,1011,23],[1017,2,1019,23],[1020,2,1023,23],[1024,2,1025,23],[1029,0,1031,24],[1041,15,1041,20]]}
[]
["Annexe \"BALLON SEPARATEUR\""]
[]
[null,"-","Matériau :",null,null,null,null,null,null,null,null,null,null,null,null,null,{"$f":"Calculations!$C$44","v":"304L"}]
[null,"-","Diamètre : ",null,null,null,null,null,null,null,null,null,null,null,null,null,{"$f":"Calculations!$E$44&\" mm\"","v":"500 mm"}]
[]
[null,null,"Equipement"]
[]
[null,"-","Pieds supports : ",null,null,null,null,null,null,null,null,null,null,null,null,null,"Exclus"]
[null,"-","Connection \"A\":",null,null,null,null,null,null,null,null,null,null,null,null,null,{"$f":"Calculations!$G$44&\" mm\"","v":"65 mm"}]
[null,"-","Connection \"B\":",null,null,null,null,null,null,null,null,null,null,null,null,null,{"$f":"Calculations!$I$44&\" mm\"","v":"65 mm"}]
[null,"-","Connection \"C\":",null,null,null,null,null,null,null,null,null,null,null,null,null,{"$f":"Calculations!K44&\" mm\"","v":"32 mm"}]
[]
[null,null,"Autres connections :"]
[]
[null,"- ","Contrôle de niveau :",null,null,null,null,null,null,null,null,null,null,null,null,null,"DN50 (2\") - Nbre: 2"]
[null,"- ","PIT :",null,null,null,null,null,null,null,null,null,null,null,null,null,"DN50 (2\") - Nbre: 1"]
[]
[]
[]
[]
[]
[]
[]
[]
[]
[]
[]
[]
[]
[]
[]
[]
[]
[]
[]
[]
[]
[]
[]
[null,null,null,null,null,null,null,null," "]

{"sheet":"CYCLONE-FR","index":124,"n_rows":42,"n_cols":19,"rows_kept":42,"cut":false,"hidden":true,"merged":[[1043,0,1043,25],[954,3,955,24],[956,3,957,24],[958,3,959,24],[961,3,962,24],[984,3,985,24],[1010,3,1011,24],[1017,3,1019,24],[1020,3,1023,24],[1024,3,1025,24],[1029,0,1031,25],[1041,16,1041,21],[952,3,953,24],[745,3,746,24],[764,3,766,24],[786,17,787,24],[798,3,799,24],[850,5,851,11],[860,3,861,24],[865,3,866,24],[867,3,868,24],[872,3,873,24],[875,3,876,24],[933,17,934,24],[708,17,709,24],[552,3,554,24],[557,3,558,24],[562,17,563,24],[565,3,567,24],[602,3,603,24],[615,3,616,24],[633,17,634,24],[651,17,653,24],[676,17,677,24],[689,17,691,24],[693,17,694,24],[511,17,512,24],[428,5,429,24],[431,5,432,24],[433,5,434,24],[452,3,453,24],[454,3,457,24],[462,3,466,24],[469,17,470,24],[472,17,473,24],[477,3,478,24],[479,3,479,24],[480,3,481,24],[427,5,427,24],[346,17,348,24],[352,17,353,24],[365,17,366,24],[367,17,368,24],[369,17,370,24],[374,17,375,24],[379,3,381,24],[382,3,382,24],[386,17,387,24],[409,3,410,24],[425,3,426,24],[342,17,343,24],[222,3,223,24],[229,5,231,24],[232,5,234,24],[238,3,239,24],[240,3,240,24],[241,3,242,24],[294,17,295,24],[313,3,314,24],[322,3,323,24],[332,17,333,24],[339,17,340,24],[172,17,173,24],[1,0,1,25],[4,17,4,19],[22,17,25,18],[23,11,23,13],[28,18,32,19],[29,7,29,9],[31,15,35,16],[33,7,33,8],[41,15,43,16],[49,0,51,25],[61,16,61,21],[63,0,63,25],[98,0,100,27]]}
[]
["Annexe \"CYCLONE\""]
[]
[null,null,"-","Matériau :",null,null,null,null,null,null,null,null,null,null,null,null,null,{"$f":"Calculations!$C$46","v":"304L"}]
[null,null,"-","Diamètre : ",null,null,null,null,null,null,null,null,null,null,null,null,null,{"$f":"Calculations!$E$46","v":200}]
[]
[null,null,null,"Equipement"]
[]
[null,null,"-","Pieds supports : ",null,null,null,null,null,null,null,null,null,null,null,null,null,{"$f":"IF(Calculations!R46=\"Non\", \"Exclu\", \"Inclus\")","v":"Exclu"}]
[null,null,"-","Connection \"A\":",null,null,null,null,null,null,null,null,null,null,null,null,null,{"$f":"Calculations!$G$46&\" mm\"","v":"65 mm"}]
[null,null,"-","Connection \"B\":",null,null,null,null,null,null,null,null,null,null,null,null,null,{"$f":"Calculations!$I$46&\" mm\"","v":"65 mm"}]
[null,null,"-","Connection \"C\":",null,null,null,null,null,null,null,null,null,null,null,null,null,{"$f":"Calculations!K46&\" mm\"","v":"40 mm"}]
[]
[]
[]
[]
[]
[]
[]
[]
[]
[]
[null,null,null,null,null,null,null,null,null,null,null,null,null,null,null,null,null,{"$f":"'Cyclone.'!F30","v":200}]
[null,null,null,null,null,null,null,null,null,null,null,{"$f":"'Cyclone.'!D31","v":200}]
[]
[]
[]
[]
[null,null,null,null,null,null,null,null,null,null,null,null,null,null,null,null,null,null,{"$f":"'Cyclone.'!F35","v":700}]
[null,null,null,null,null,null,null,{"$f":"'Cyclone.'!D37","v":200}]
[]
[null,null,null,null,null,null,null,null,null,null,null,null,null,null,null,{"$f":"'Cyclone.'!F40","v":550}]
[]
[null,null,null,null,null,null,null,{"$f":"'Cyclone.'!C41","v":13},null,"Kg"]
[]
[null,null,null,null,null,null,null,null,null,"60°"]
[]
[]
[]
[]
[]
[null,null,null,null,null,null,null,null,null,null,null,null,null,null,null,{"$f":"'Cyclone.'!F49","v":100}]

{"sheet":"LAVEUR-FR","index":125,"n_rows":45,"n_cols":19,"rows_kept":45,"cut":false,"hidden":true,"merged":[[1048,0,1048,25],[38,12,38,13],[1015,3,1016,24],[1022,3,1024,24],[1025,3,1028,24],[1029,3,1030,24],[1034,0,1036,25],[1046,16,1046,21],[957,3,958,24],[959,3,960,24],[961,3,962,24],[963,3,964,24],[966,3,967,24],[989,3,990,24],[865,3,866,24],[870,3,871,24],[872,3,873,24],[877,3,878,24],[880,3,881,24],[938,17,939,24],[713,17,714,24],[750,3,751,24],[769,3,771,24],[791,17,792,24],[803,3,804,24],[855,5,856,11],[698,17,699,24],[516,17,517,24],[557,3,559,24],[562,3,563,24],[567,17,568,24],[570,3,572,24],[607,3,608,24],[620,3,621,24],[638,17,639,24],[656,17,658,24],[681,17,682,24],[694,17,696,24],[485,3,486,24],[432,5,432,24],[433,5,434,24],[436,5,437,24],[438,5,439,24],[457,3,458,24],[459,3,462,24],[467,3,471,24],[474,17,475,24],[477,17,478,24],[482,3,483,24],[484,3,484,24],[430,3,431,24],[347,17,348,24],[351,17,353,24],[357,17,358,24],[370,17,371,24],[372,17,373,24],[374,17,375,24],[379,17,380,24],[384,3,386,24],[387,3,387,24],[391,17,392,24],[414,3,415,24],[344,17,345,24],[177,17,178,24],[227,3,228,24],[234,5,236,24],[237,5,239,24],[243,3,244,24],[245,3,245,24],[246,3,247,24],[299,17,300,24],[318,3,319,24],[327,3,328,24],[337,17,338,24],[103,0,105,27],[1,0,1,25],[4,17,4,19],[28,18,34,19],[29,9,30,11],[30,16,33,17],[31,12,31,14],[37,17,41,18],[44,16,45,17],[54,0,56,25],[66,16,66,21],[68,0,68,25]]}
[]
["Annexe \"LAVEUR\""]
[]
[null,null,"-","Matériau :",null,null,null,null,null,null,null,null,null,null,null,null,null,{"$f":"Calculations!$C$48","v":"Exclu"}]
[null,null,"-","Diamètre : ",null,null,null,null,null,null,null,null,null,null,null,null,null,{"$f":"Calculations!$E$48","v":200}]
[]
[null,null,null,"Equipement"]
[]
[null,null,"-","Ensemble de pulvérisation "]
[null,null,null,null,"•","Tuyauterie :",null,null,null,null,null,null,null,null,null,null,null,"Polypropylene"]
[null,null,null,null,"•","Pulvérisateur : ",null,null,null,null,null,null,null,null,null,null,null,"Polypropylene"]
[]
[]
[null,null,"-","Pieds supports : ",null,null,null,null,null,null,null,null,null,null,null,null,null,{"$f":"IF(Calculations!R48=\"Non\", \"Exclu\", \"Inclus\")","v":"Exclu"}]
[null,null,"-","Connection \"A\":",null,null,null,null,null,null,null,null,null,null,null,null,null,{"$f":"Calculations!$G$48&\" mm\"","v":"65 mm"}]
[null,null,"-","Connection \"B\":",null,null,null,null,null,null,null,null,null,null,null,null,null,{"$f":"Calculations!$I$48&\" mm\"","v":"65 mm"}]
[null,null,"-","Connection \"C\":",null,null,null,null,null,null,null,null,null,null,null,null,null,{"$f":"Calculations!K48&\" mm\"","v":"20 mm"}]
[null,null,"-","Connection \"D\":",null,null,null,null,null,null,null,null,null,null,null,null,null,"TBD"]
[]
[]
[]
[]
[]
[]
[]
[]
[]
[]
[null,null,null,null,null,null,null,null,null,null,null,null,null,null,null,null,null,null,{"$f":"Laveur.!G35","v":750}]
[null,null,null,null,null,null,null,null,null,{"$f":"Laveur.!E34","v":200}]
[null,null,null,null,null,null,null,null,null,null,null,null,null,null,null,null,{"$f":"Laveur.!G40","v":500}]
[null,null,null,null,null,null,null,null,null,null,null,null,{"$f":"Laveur.!E36","v":200}]
[]
[]
[]
[]
[]
[null,null,null,null,null,null,null,null,null,null,null,null,null,null,null,null,null,{"$f":"Laveur.!G43","v":200}]
[null,null,null,null,null,null,null,null,null,null,null,null,{"$f":"LAVEUR!M39","v":0},null,"Kg"]
[]
[null,null,null,null,null,null,null,null,null," "]
[]
[]
[]
[null,null,null,null,null,null,null,null,null,null,null,null,null,null,null,null,{"$f":"Laveur.!G49","v":100}]

{"sheet":"VAC PUMP-FR","index":126,"n_rows":43,"n_cols":19,"rows_kept":43,"cut":false,"hidden":true,"merged":[[242,2,243,23],[1,0,1,24],[23,2,24,23],[25,2,27,23],[53,0,55,24],[65,15,65,20],[67,0,67,24],[102,0,104,26],[176,16,177,23],[226,2,227,23],[233,4,235,23],[236,4,238,23],[6,16,6,17],[7,16,7,17],[371,16,372,23],[244,2,244,23],[245,2,246,23],[298,16,299,23],[317,2,318,23],[326,2,327,23],[336,16,337,23],[343,16,344,23],[346,16,347,23],[350,16,352,23],[356,16,357,23],[369,16,370,23],[456,2,457,23],[373,16,374,23],[378,16,379,23],[383,2,385,23],[386,2,386,23],[390,16,391,23],[413,2,414,23],[429,2,430,23],[431,4,431,23],[432,4,433,23],[435,4,436,23],[437,4,438,23],[569,2,571,23],[458,2,461,23],[466,2,470,23],[473,16,474,23],[476,16,477,23],[481,2,482,23],[483,2,483,23],[484,2,485,23],[515,16,516,23],[556,2,558,23],[561,2,562,23],[566,16,567,23],[802,2,803,23],[606,2,607,23],[619,2,620,23],[637,16,638,23],[655,16,657,23],[680,16,681,23],[693,16,695,23],[697,16,698,23],[712,16,713,23],[749,2,750,23],[768,2,770,23],[790,16,791,23],[965,2,966,23],[854,4,855,10],[864,2,865,23],[869,2,870,23],[871,2,872,23],[876,2,877,23],[879,2,880,23],[937,16,938,23],[956,2,957,23],[958,2,959,23],[960,2,961,23],[962,2,963,23],[1045,15,1045,20],[1047,0,1047,24],[988,2,989,23],[1014,2,1015,23],[1021,2,1023,23],[1024,2,1027,23],[1028,2,1029,23],[1033,0,1035,24]]}
[]
["Appendix \"POMPE A VIDE\""]
[]
[null,"-","Type :",null,null,null,null,null,null,null,null,null,null,null,null,null,"Anneau liquide"]
[null,"-","Quantité :",null,null,null,null,null,null,null,null,null,null,null,null,null,"1 par filtre"]
[null,"-","Matériau :",null,null,null,null,null,null,null,null,null,null,null,null,null,"Fonte et acier peint"]
[null,"-","Delta Pressure:",null,null,null,null,null,null,null,null,null,null,null,null,null,{"$f":"'Spec PAV'!B26","v":-613},null,"mbar rel"]
[null,"-","Nominal pressure: ",null,null,null,null,null,null,null,null,null,null,null,null,null,{"$f":"'Spec PAV'!B27","v":400},null,"mbar abs"]
[]
[null,null,"Critère de dimensionnement "]
[]
[null,"-","Température de gaz :"]
[null,"-","Température d'eau d'anneau liquide :"]
[null,"-","Altitude :"]
[]
[null,null,"Caratéristiques :"]
[]
[null,"-","Débit : ",null,null,null,null,null,null,null,null,null,null,null,null,null,{"$f":"Calculations!N11&\" m3/h\"","v":"200 m3/h"}]
[null,"-","Vitesse de rotation :"]
[null,"-","Puissance absorbée :"]
[null,"-","Puissance installée :"]
[null,"-","Débit d'eau d'anneau liquide :"]
[null,"-","Niveau de bruit : ",null,null,null,null,null,null,null,null,null,null,null,null,null,"85 dB(A) à un mètre"]
["NOTE: ",null,"Bruit mesuré dans un lieu ouvert et avec la sortie air connectée à une tuyauterie (hors fourniture) sans que celle-ci induise des réverbérations mécaniques ou de bruit de bouche. "]
[]
[null,null,"L’eau d’injection doit être non charge de matière abrasive ou obstruante, à température normale, non calcaire ou incrustante, non corrosive. En cas contraire, il conviendra de traiter l’eau."]
[]
[]
[]
[null,null,"Accessoires :"]
[]
[null,"-","Tuyauterie d’alimentation en eau équipée de :"]
[null,null,null,"•","1 manomètre avec robinet de coupure"]
[null,null,null,"•","1 vanne de contrôle manuelle"]
[null,null,null,"•","1 vanne d’isolation"]
[null,null,null,"•","1 débitmètre"]
[null,"-","1 Séparateur"]
[null,"-","1 Soupape casse vide fournie détachée, installée par le client sur la ligne du vide."]
[null,"-","Embase pour pompe et moteur "]
[null,"-","Moteur électrique"]
[null,"-","Réducteur & transmission complète avec carter de protection"]
[]
[null,"-","Peinture : selon standard fournisseur"]

{"sheet":"FILTRATE PUMP 1-FR","index":127,"n_rows":41,"n_cols":9,"rows_kept":41,"cut":false,"hidden":true,"merged":[[177,16,178,23],[1,0,1,24],[54,0,56,24],[66,15,66,20],[68,0,68,24],[103,0,105,26],[347,16,348,23],[227,2,228,23],[234,4,236,23],[237,4,239,23],[243,2,244,23],[245,2,245,23],[246,2,247,23],[299,16,300,23],[318,2,319,23],[327,2,328,23],[337,16,338,23],[344,16,345,23],[432,4,432,23],[351,16,353,23],[357,16,358,23],[370,16,371,23],[372,16,373,23],[374,16,375,23],[379,16,380,23],[384,2,386,23],[387,2,387,23],[391,16,392,23],[414,2,415,23],[430,2,431,23],[516,16,517,23],[433,4,434,23],[436,4,437,23],[438,4,439,23],[457,2,458,23],[459,2,462,23],[467,2,471,23],[474,16,475,23],[477,16,478,23],[482,2,483,23],[484,2,484,23],[485,2,486,23],[713,16,714,23],[557,2,559,23],[562,2,563,23],[567,16,568,23],[570,2,572,23],[607,2,608,23],[620,2,621,23],[638,16,639,23],[656,16,658,23],[681,16,682,23],[694,16,696,23],[698,16,699,23],[957,2,958,23],[750,2,751,23],[769,2,771,23],[791,16,792,23],[803,2,804,23],[855,4,856,10],[865,2,866,23],[870,2,871,23],[872,2,873,23],[877,2,878,23],[880,2,881,23],[938,16,939,23],[1048,0,1048,24],[959,2,960,23],[961,2,962,23],[963,2,964,23],[966,2,967,23],[989,2,990,23],[1015,2,1016,23],[1022,2,1024,23],[1025,2,1028,23],[1029,2,1030,23],[1034,0,1036,24],[1046,15,1046,20]]}
[]
["Annexe \"POMPE A FILTRATS\""]
[]
[null,"-","Type :"]
[null,"-","Débit :"]
[null,"-","H.M.T. :"]
[null,"-","N.P.S.H. : "]
[null,"-","Matériau : "]
[null,"-","Etanchéité : "]
[null,"-","Lubrification : "]
[null,"-","Puissance absorbée :"]
[null,"-","Puissance installée :"]
[]
[null,null,"Accessoires "]
[]
[null,"-","Accouplement complet pour entraînement"]
[null,"-","Embase pour pompe et moteur "]
[null,"-","Moteur électrique"]
[]
[null,"-","Peinture : selon standard fournisseur"]
[]
[]
[]
[]
[]
[]
[]
[]
[]
[]
[]
[]
[]
[]
[]
[]
[]
[]
[]
[]
[null,null,null,null,null,null,null,null," "]

{"sheet":"FILTRATE PUMP 2-FR","index":128,"n_rows":41,"n_cols":9,"rows_kept":41,"cut":false,"hidden":true,"merged":[[177,16,178,23],[1,0,1,24],[54,0,56,24],[66,15,66,20],[68,0,68,24],[103,0,105,26],[347,16,348,23],[227,2,228,23],[234,4,236,23],[237,4,239,23],[243,2,244,23],[245,2,245,23],[246,2,247,23],[299,16,300,23],[318,2,319,23],[327,2,328,23],[337,16,338,23],[344,16,345,23],[432,4,432,23],[351,16,353,23],[357,16,358,23],[370,16,371,23],[372,16,373,23],[374,16,375,23],[379,16,380,23],[384,2,386,23],[387,2,387,23],[391,16,392,23],[414,2,415,23],[430,2,431,23],[516,16,517,23],[433,4,434,23],[436,4,437,23],[438,4,439,23],[457,2,458,23],[459,2,462,23],[467,2,471,23],[474,16,475,23],[477,16,478,23],[482,2,483,23],[484,2,484,23],[485,2,486,23],[713,16,714,23],[557,2,559,23],[562,2,563,23],[567,16,568,23],[570,2,572,23],[607,2,608,23],[620,2,621,23],[638,16,639,23],[656,16,658,23],[681,16,682,23],[694,16,696,23],[698,16,699,23],[957,2,958,23],[750,2,751,23],[769,2,771,23],[791,16,792,23],[803,2,804,23],[855,4,856,10],[865,2,866,23],[870,2,871,23],[872,2,873,23],[877,2,878,23],[880,2,881,23],[938,16,939,23],[1048,0,1048,24],[959,2,960,23],[961,2,962,23],[963,2,964,23],[966,2,967,23],[989,2,990,23],[1015,2,1016,23],[1022,2,1024,23],[1025,2,1028,23],[1029,2,1030,23],[1034,0,1036,24],[1046,15,1046,20]]}
[]
["Annexe \"POMPE A FILTRATS\""]
[]
[null,"-","Type :"]
[null,"-","Débit :"]
[null,"-","H.M.T. :"]
[null,"-","N.P.S.H. : "]
[null,"-","Matériau : "]
[null,"-","Etanchéité : "]
[null,"-","Lubrification : "]
[null,"-","Puissance absorbée :"]
[null,"-","Puissance installée :"]
[]
[null,null,"Accessoires "]
[]
[null,"-","Accouplement complet pour entraînement"]
[null,"-","Embase pour pompe et moteur "]
[null,"-","Moteur électrique"]
[]
[null,"-","Peinture : selon standard fournisseur"]
[]
[]
[]
[]
[]
[]
[]
[]
[]
[]
[]
[]
[]
[]
[]
[]
[]
[]
[]
[]
[null,null,null,null,null,null,null,null," "]

{"sheet":"FILTRATE PUMP 3-FR","index":129,"n_rows":41,"n_cols":9,"rows_kept":41,"cut":false,"hidden":true,"merged":[[177,16,178,23],[1,0,1,24],[54,0,56,24],[66,15,66,20],[68,0,68,24],[103,0,105,26],[347,16,348,23],[227,2,228,23],[234,4,236,23],[237,4,239,23],[243,2,244,23],[245,2,245,23],[246,2,247,23],[299,16,300,23],[318,2,319,23],[327,2,328,23],[337,16,338,23],[344,16,345,23],[432,4,432,23],[351,16,353,23],[357,16,358,23],[370,16,371,23],[372,16,373,23],[374,16,375,23],[379,16,380,23],[384,2,386,23],[387,2,387,23],[391,16,392,23],[414,2,415,23],[430,2,431,23],[516,16,517,23],[433,4,434,23],[436,4,437,23],[438,4,439,23],[457,2,458,23],[459,2,462,23],[467,2,471,23],[474,16,475,23],[477,16,478,23],[482,2,483,23],[484,2,484,23],[485,2,486,23],[713,16,714,23],[557,2,559,23],[562,2,563,23],[567,16,568,23],[570,2,572,23],[607,2,608,23],[620,2,621,23],[638,16,639,23],[656,16,658,23],[681,16,682,23],[694,16,696,23],[698,16,699,23],[957,2,958,23],[750,2,751,23],[769,2,771,23],[791,16,792,23],[803,2,804,23],[855,4,856,10],[865,2,866,23],[870,2,871,23],[872,2,873,23],[877,2,878,23],[880,2,881,23],[938,16,939,23],[1048,0,1048,24],[959,2,960,23],[961,2,962,23],[963,2,964,23],[966,2,967,23],[989,2,990,23],[1015,2,1016,23],[1022,2,1024,23],[1025,2,1028,23],[1029,2,1030,23],[1034,0,1036,24],[1046,15,1046,20]]}
[]
["Annexe \"POMPE A FILTRATS\""]
[]
[null,"-","Type :"]
[null,"-","Débit :"]
[null,"-","H.M.T. :"]
[null,"-","N.P.S.H. : "]
[null,"-","Matériau : "]
[null,"-","Etanchéité : "]
[null,"-","Lubrification : "]
[null,"-","Puissance absorbée :"]
[null,"-","Puissance installée :"]
[]
[null,null,"Accessoires "]
[]
[null,"-","Accouplement complet pour entraînement"]
[null,"-","Embase pour pompe et moteur "]
[null,"-","Moteur électrique"]
[]
[null,"-","Peinture : selon standard fournisseur"]
[]
[]
[]
[]
[]
[]
[]
[]
[]
[]
[]
[]
[]
[]
[]
[]
[]
[]
[]
[]
[null,null,null,null,null,null,null,null," "]

{"sheet":"FILTRATE PUMP 4-FR","index":130,"n_rows":41,"n_cols":9,"rows_kept":41,"cut":false,"hidden":true,"merged":[[177,16,178,23],[1,0,1,24],[54,0,56,24],[66,15,66,20],[68,0,68,24],[103,0,105,26],[347,16,348,23],[227,2,228,23],[234,4,236,23],[237,4,239,23],[243,2,244,23],[245,2,245,23],[246,2,247,23],[299,16,300,23],[318,2,319,23],[327,2,328,23],[337,16,338,23],[344,16,345,23],[432,4,432,23],[351,16,353,23],[357,16,358,23],[370,16,371,23],[372,16,373,23],[374,16,375,23],[379,16,380,23],[384,2,386,23],[387,2,387,23],[391,16,392,23],[414,2,415,23],[430,2,431,23],[516,16,517,23],[433,4,434,23],[436,4,437,23],[438,4,439,23],[457,2,458,23],[459,2,462,23],[467,2,471,23],[474,16,475,23],[477,16,478,23],[482,2,483,23],[484,2,484,23],[485,2,486,23],[713,16,714,23],[557,2,559,23],[562,2,563,23],[567,16,568,23],[570,2,572,23],[607,2,608,23],[620,2,621,23],[638,16,639,23],[656,16,658,23],[681,16,682,23],[694,16,696,23],[698,16,699,23],[957,2,958,23],[750,2,751,23],[769,2,771,23],[791,16,792,23],[803,2,804,23],[855,4,856,10],[865,2,866,23],[870,2,871,23],[872,2,873,23],[877,2,878,23],[880,2,881,23],[938,16,939,23],[1048,0,1048,24],[959,2,960,23],[961,2,962,23],[963,2,964,23],[966,2,967,23],[989,2,990,23],[1015,2,1016,23],[1022,2,1024,23],[1025,2,1028,23],[1029,2,1030,23],[1034,0,1036,24],[1046,15,1046,20]]}
[]
["Annexe \"POMPE A FILTRATS\""]
[]
[null,"-","Type :"]
[null,"-","Débit :"]
[null,"-","H.M.T. :"]
[null,"-","N.P.S.H. : "]
[null,"-","Matériau : "]
[null,"-","Etanchéité : "]
[null,"-","Lubrification : "]
[null,"-","Puissance absorbée :"]
[null,"-","Puissance installée :"]
[]
[null,null,"Accessoires "]
[]
[null,"-","Accouplement complet pour entraînement"]
[null,"-","Embase pour pompe et moteur "]
[null,"-","Moteur électrique"]
[]
[null,"-","Peinture : selon standard fournisseur"]
[]
[]
[]
[]
[]
[]
[]
[]
[]
[]
[]
[]
[]
[]
[]
[]
[]
[]
[]
[]
[null,null,null,null,null,null,null,null," "]

{"sheet":"C&B WASH TANK-FR","index":131,"n_rows":41,"n_cols":9,"rows_kept":41,"cut":false,"hidden":true,"merged":[[177,16,178,23],[1,0,1,24],[54,0,56,24],[66,15,66,20],[68,0,68,24],[103,0,105,26],[347,16,348,23],[227,2,228,23],[234,4,236,23],[237,4,239,23],[243,2,244,23],[245,2,245,23],[246,2,247,23],[299,16,300,23],[318,2,319,23],[327,2,328,23],[337,16,338,23],[344,16,345,23],[432,4,432,23],[351,16,353,23],[357,16,358,23],[370,16,371,23],[372,16,373,23],[374,16,375,23],[379,16,380,23],[384,2,386,23],[387,2,387,23],[391,16,392,23],[414,2,415,23],[430,2,431,23],[516,16,517,23],[433,4,434,23],[436,4,437,23],[438,4,439,23],[457,2,458,23],[459,2,462,23],[467,2,471,23],[474,16,475,23],[477,16,478,23],[482,2,483,23],[484,2,484,23],[485,2,486,23],[713,16,714,23],[557,2,559,23],[562,2,563,23],[567,16,568,23],[570,2,572,23],[607,2,608,23],[620,2,621,23],[638,16,639,23],[656,16,658,23],[681,16,682,23],[694,16,696,23],[698,16,699,23],[957,2,958,23],[750,2,751,23],[769,2,771,23],[791,16,792,23],[803,2,804,23],[855,4,856,10],[865,2,866,23],[870,2,871,23],[872,2,873,23],[877,2,878,23],[880,2,881,23],[938,16,939,23],[1048,0,1048,24],[959,2,960,23],[961,2,962,23],[963,2,964,23],[966,2,967,23],[989,2,990,23],[1015,2,1016,23],[1022,2,1024,23],[1025,2,1028,23],[1029,2,1030,23],[1034,0,1036,24],[1046,15,1046,20]]}
[]
["Annexe \"TANK DE LAVAGE TOILE ET BANDE\""]
[]
[null,"-","Type :"]
[null,"-","Volume :"]
[null,"-","Diamètre :"]
[null,"-","Hauteur : "]
[null,"-","Matériau :"]
[null,"-","Détecteur de niveau :"]
[]
[]
[]
[]
[]
[]
[]
[]
[]
[]
[]
[]
[]
[]
[]
[]
[]
[]
[]
[]
[]
[]
[]
[]
[]
[]
[]
[]
[]
[]
[]
[null,null,null,null,null,null,null,null," "]

{"sheet":"CAKE WASH TANK-FR","index":132,"n_rows":41,"n_cols":9,"rows_kept":41,"cut":false,"hidden":true,"merged":[[177,16,178,23],[1,0,1,24],[54,0,56,24],[66,15,66,20],[68,0,68,24],[103,0,105,26],[347,16,348,23],[227,2,228,23],[234,4,236,23],[237,4,239,23],[243,2,244,23],[245,2,245,23],[246,2,247,23],[299,16,300,23],[318,2,319,23],[327,2,328,23],[337,16,338,23],[344,16,345,23],[432,4,432,23],[351,16,353,23],[357,16,358,23],[370,16,371,23],[372,16,373,23],[374,16,375,23],[379,16,380,23],[384,2,386,23],[387,2,387,23],[391,16,392,23],[414,2,415,23],[430,2,431,23],[516,16,517,23],[433,4,434,23],[436,4,437,23],[438,4,439,23],[457,2,458,23],[459,2,462,23],[467,2,471,23],[474,16,475,23],[477,16,478,23],[482,2,483,23],[484,2,484,23],[485,2,486,23],[713,16,714,23],[557,2,559,23],[562,2,563,23],[567,16,568,23],[570,2,572,23],[607,2,608,23],[620,2,621,23],[638,16,639,23],[656,16,658,23],[681,16,682,23],[694,16,696,23],[698,16,699,23],[957,2,958,23],[750,2,751,23],[769,2,771,23],[791,16,792,23],[803,2,804,23],[855,4,856,10],[865,2,866,23],[870,2,871,23],[872,2,873,23],[877,2,878,23],[880,2,881,23],[938,16,939,23],[1048,0,1048,24],[959,2,960,23],[961,2,962,23],[963,2,964,23],[966,2,967,23],[989,2,990,23],[1015,2,1016,23],[1022,2,1024,23],[1025,2,1028,23],[1029,2,1030,23],[1034,0,1036,24],[1046,15,1046,20]]}
[]
["Annexe \"TANK DE LAVAGE GATEAU\""]
[]
[null,"-","Type :"]
[null,"-","Volume :"]
[null,"-","Diamètre :"]
[null,"-","Hauteur : "]
[null,"-","Matériau :"]
[null,"-","Détecteur de niveau :"]
[]
[]
[]
[]
[]
[]
[]
[]
[]
[]
[]
[]
[]
[]
[]
[]
[]
[]
[]
[]
[]
[]
[]
[]
[]
[]
[]
[]
[]
[]
[]
[null,null,null,null,null,null,null,null," "]

{"sheet":"LCP-FR","index":133,"n_rows":43,"n_cols":17,"rows_kept":43,"cut":false,"hidden":true,"merged":[[177,16,178,23],[1,0,1,24],[3,2,6,23],[23,2,24,23],[26,2,27,23],[35,2,37,23],[38,2,41,23],[42,2,42,23],[54,0,56,24],[66,15,66,20],[68,0,68,24],[103,0,105,26],[347,16,348,23],[227,2,228,23],[234,4,236,23],[237,4,239,23],[243,2,244,23],[245,2,245,23],[246,2,247,23],[299,16,300,23],[318,2,319,23],[327,2,328,23],[337,16,338,23],[344,16,345,23],[432,4,432,23],[351,16,353,23],[357,16,358,23],[370,16,371,23],[372,16,373,23],[374,16,375,23],[379,16,380,23],[384,2,386,23],[387,2,387,23],[391,16,392,23],[414,2,415,23],[430,2,431,23],[516,16,517,23],[433,4,434,23],[436,4,437,23],[438,4,439,23],[457,2,458,23],[459,2,462,23],[467,2,471,23],[474,16,475,23],[477,16,478,23],[482,2,483,23],[484,2,484,23],[485,2,486,23],[713,16,714,23],[557,2,559,23],[562,2,563,23],[567,16,568,23],[570,2,572,23],[607,2,608,23],[620,2,621,23],[638,16,639,23],[656,16,658,23],[681,16,682,23],[694,16,696,23],[698,16,699,23],[957,2,958,23],[750,2,751,23],[769,2,771,23],[791,16,792,23],[803,2,804,23],[855,4,856,10],[865,2,866,23],[870,2,871,23],[872,2,873,23],[877,2,878,23],[880,2,881,23],[938,16,939,23],[1048,0,1048,24],[959,2,960,23],[961,2,962,23],[963,2,964,23],[966,2,967,23],[989,2,990,23],[1015,2,1016,23],[1022,2,1024,23],[1025,2,1028,23],[1029,2,1030,23],[1034,0,1036,24],[1046,15,1046,20]]}
[]
["Annexe \"COFFRET DE COMMANDE LOCAL\""]
[]
[null,null,"Ce coffret permet en local de démarrer, arrêter le moteur d'entraînement du filtre ainsi que d'ajuster la vitesse de la bande. Il sera implanté par le client près du groupe de commande sur la passerelle.\nCe coffret ne peut pas être installé en zone à risque d'explosion.\n"]
[]
[]
[]
[]
[null,null,"EQUIPEMENT DE LA FACE AVANT"]
[null,"-","1 bouton poussoir MARCHE (1 contact NO)"]
[null,"-","1 bouton poussoir ARRET (1 contact NF)"]
[null,"-","1 bouton poussoir + VITE (1 contact NO)"]
[null,"-","1 bouton poussoir - VITE (1 contact NO)"]
[null,"-","Chaque contact est libre de potentiel et doit être raccordé en entrée de l'automate client."]
[null,"-","1 signal numérique VITESSE BANDE"]
[null,null,null,"•","Signal d'entrée :",null,null,null,null,null,null,null,null,null,null,null,"4 à 20mA DC depuis le VFD"]
[null,null,null,"•","Tension d'alimentation :",null,null,null,null,null,null,null,null,null,null,null,"110 Vac - 50 Hz"]
[null,"- ","1 Alarme"]
[null,"- ","1 étiquette plastique gravée de repérage incluant le repère procédé du coffret"]
[]
[null,null,"EQUIPEMENT INTERNE"]
[null,"-","1 commutation à clé CHANGEMENT DE TOILE "]
[]
["NOTE: ",null,"A n'utiliser qu'en mode local et maintenance, à vitesse réduite et uniquement par du personnel qualifié"]
[]
[]
[null,"-","Contact NO libre de potentiel à raccorder en entrée automate client\n1 ensemble de bornes de raccordement sur lesquelles seront câblés les contacts ci-dessus"]
[]
[null,"-","1 barre cuivre de mise à la terre"]
[null,"-","1 INVERTER as described in the technical offer"]
[]
[null,null,"Les fils de câblage sont passés sous goulotte PVC."]
[null,null,"L'identification des fils, bornes et composants sera réalisée conformément au schéma de câblage."]
[]
[null,null,"LIMIT OF SUPPLY"]
[null,null,"La programmation sera réalisée par le client conformément aux diagrames logiques fournis par HASLER Group. Les sécurités et le fonctionnement de l'équipement seront contrôlés par l'automate client."]
[]
[]
[null,null,"La programmation sera réalisée par le client conformément aux diagrames logiques fournis par HASLER Group.\nLes câbles de liaison entre le coffret et l'équipement client seront fournis, posés et raccordés sur le site par le client."]
[]
[]
[]
[null,null,"Les presse-étoupes d'entrées de câbles seront fournis et installés sur le site par le client."]

{"sheet":"ERECTION-FR","index":134,"n_rows":49,"n_cols":17,"rows_kept":49,"cut":false,"hidden":true,"merged":[[238,4,240,23],[1,0,1,24],[5,2,6,23],[7,2,8,23],[17,2,18,23],[55,0,57,24],[67,15,67,20],[69,0,69,24],[104,0,106,26],[178,16,179,23],[228,2,229,23],[235,4,237,23],[371,16,372,23],[244,2,245,23],[246,2,246,23],[247,2,248,23],[300,16,301,23],[319,2,320,23],[328,2,329,23],[338,16,339,23],[345,16,346,23],[348,16,349,23],[352,16,354,23],[358,16,359,23],[439,4,440,23],[373,16,374,23],[375,16,376,23],[380,16,381,23],[385,2,387,23],[388,2,388,23],[392,16,393,23],[415,2,416,23],[431,2,432,23],[433,4,433,23],[434,4,435,23],[437,4,438,23],[568,16,569,23],[458,2,459,23],[460,2,463,23],[468,2,472,23],[475,16,476,23],[478,16,479,23],[483,2,484,23],[485,2,485,23],[486,2,487,23],[517,16,518,23],[558,2,560,23],[563,2,564,23],[792,16,793,23],[571,2,573,23],[608,2,609,23],[621,2,622,23],[639,16,640,23],[657,16,659,23],[682,16,683,23],[695,16,697,23],[699,16,700,23],[714,16,715,23],[751,2,752,23],[770,2,772,23],[964,2,965,23],[804,2,805,23],[856,4,857,10],[866,2,867,23],[871,2,872,23],[873,2,874,23],[878,2,879,23],[881,2,882,23],[939,16,940,23],[958,2,959,23],[960,2,961,23],[962,2,963,23],[1035,0,1037,24],[1047,15,1047,20],[1049,0,1049,24],[967,2,968,23],[990,2,991,23],[1016,2,1017,23],[1023,2,1025,23],[1026,2,1029,23],[1030,2,1031,23]]}
[]
["Annexe \"MONTAGE\""]
[]
[null,null,"MONTAGE SUR SITE"]
[null,null,"Supervision suivant notre tarif journalier joint."]
[null,null,"En fonction des moyens de manutention et de main d’oeuvre fournis par le client et des conditions du site, les estimations de temps indiquées ci-après devront être discutées."]
[]
[null,null,"Pour le montage le client devra prévoir tous les équipements de lavage et de manutention au sol nécessaire, les utilités électriques et autres nécessaires…"]
[]
[]
[null,null,null,null,null,null,null,null,"HASLER Group",null,null,null,null,null,null,null,{"$f":"[2]Calculations!$C$2","v":"Boliden"}]
[null,null,null,null,null,null,null,null,"Main d’oeuvre ",null,null,null,null,null,null,null,"Main d’oeuvre par filtre"]
[null,null,"Montage",null,null,null,null,null,"Un superviseur ",null,null,null,null,null,null,null,"Voir planning"]
[]
[null,null,{"$f":"\"Durée estimée : \"&'Offre NEW'!M5&IF('Offre NEW'!M5=1,\" semaine\",\" semaines\")&\"  - à confirmer durant le Kick-Off Meeting\"","v":"Durée estimée : 3 semaines  - à confirmer durant le Kick-Off Meeting"}]
[]
[null,null,"Outillages pour le montage à fournir par HASLER Group"]
[null,"-","Equipement et accessoires spéciaux (propes à HASLER Group) pour la fixation à froid des talons. Ces équipements sont importés temporairement par HASLER Group."]
[]
[]
[null,"-","Supports spéciaux selon plan HASLER Group."]
["NOTE: ",null,{"$f":"\"Le coût des transports pour ces équipements sont à la charge de \"&[2]Calculations!C2&\".\"","v":"Le coût des transports pour ces équipements sont à la charge de Boliden."}]
[]
[null,null,{"$f":"\"Outillages pour le montage à fournir par \"&[2]Calculations!C2&\".\"","v":"Outillages pour le montage à fournir par Boliden."}]
[null,"-",{"$f":"\"Moyens de lavage, grues, pont roulant …. Pièce la plus lourde = \"&ROUNDUP([2]Calculations!R63,-3)&\" kg.\"","v":"Moyens de lavage, grues, pont roulant …. Pièce la plus lourde = 2000 kg."}]
[null,"-","Un (1) théodolite."]
[null,"-","Un (1) générateur de soudage (TIG)."]
[null,"-","Outils standards et accessoires de sécurité nécessaire pour chaque filtre."]
[null,"-","Deux (2) planchers en bois, longueur 10 m pour chaque filtre."]
[null,"-","Deux (2) sangles de levage, longueur 2 mètres, 2 tonnes."]
[null,"-","Deux (2) sangles de levage, longueur 1 mètre, 2 tonnes."]
[null,"-","Deux (2) sangles de levage, longueur 2 mètres, 4 tonnes."]
[null,"-","Deux (2) sangles de levage, longueur 4 mètres, 6 tonnes."]
[null,"-","Trois (3) sangles de levage, longueur 6 mètres, 8 tonnes."]
[null,"-","Quatre (4) manilles d’assemblage, 10 tonnes."]
[null,"-","Deux (2) palans, 1 tonne. "]
[null,"-","Un (1) portique de levage, 10 tonnes selon les spécifications de HASLER Group."]
[null,"-","Deux (2) échelles, 3 mètres."]
[null,"-","Un (1) vérin, 6 tonnes."]
[null,"-","Deux (2) palans manuels de levage, 5 tonnes."]
[null,"-","Deux (2) verrous de machine pneumatique."]
[null,"-","Une (1) clé dynamométrique.",null,null,null,null,null," "]
[]
[null,null,"Utilités requises pour le montage du filtre :"]
[null,"-","Air comprimé : 7 bars."]
[null,"-","Electricité : 240 V avec une boîte de jonction électrique."]
[null,"-","Electricité avec onduleur à disposition 3 semaines après le démarrage du filtre.  "]
[null,"-","Stockage du petit outillage (boulons, vis…) près de chaque filtre."]
[null,"-","Moyen de levage."]

{"sheet":"START UP-FR","index":135,"n_rows":42,"n_cols":9,"rows_kept":42,"cut":false,"hidden":true,"merged":[[246,2,246,23],[1,0,1,24],[5,2,6,23],[55,0,57,24],[67,15,67,20],[69,0,69,24],[104,0,106,26],[178,16,179,23],[228,2,229,23],[235,4,237,23],[238,4,240,23],[244,2,245,23],[375,16,376,23],[247,2,248,23],[300,16,301,23],[319,2,320,23],[328,2,329,23],[338,16,339,23],[345,16,346,23],[348,16,349,23],[352,16,354,23],[358,16,359,23],[371,16,372,23],[373,16,374,23],[460,2,463,23],[380,16,381,23],[385,2,387,23],[388,2,388,23],[392,16,393,23],[415,2,416,23],[431,2,432,23],[433,4,433,23],[434,4,435,23],[437,4,438,23],[439,4,440,23],[458,2,459,23],[608,2,609,23],[468,2,472,23],[475,16,476,23],[478,16,479,23],[483,2,484,23],[485,2,485,23],[486,2,487,23],[517,16,518,23],[558,2,560,23],[563,2,564,23],[568,16,569,23],[571,2,573,23],[856,4,857,10],[621,2,622,23],[639,16,640,23],[657,16,659,23],[682,16,683,23],[695,16,697,23],[699,16,700,23],[714,16,715,23],[751,2,752,23],[770,2,772,23],[792,16,793,23],[804,2,805,23],[990,2,991,23],[866,2,867,23],[871,2,872,23],[873,2,874,23],[878,2,879,23],[881,2,882,23],[939,16,940,23],[958,2,959,23],[960,2,961,23],[962,2,963,23],[964,2,965,23],[967,2,968,23],[1049,0,1049,24],[1016,2,1017,23],[1023,2,1025,23],[1026,2,1029,23],[1030,2,1031,23],[1035,0,1037,24],[1047,15,1047,20]]}
[]
["Annexe \"MISE EN ROUTE\""]
[]
[null,null,{"$f":"\"Durée estimée : \"&'Offre NEW'!M6+'Offre NEW'!M7&\" semaines\"","v":"Durée estimée : 2 semaines"}]
[]
[null,null,"Pendant la période prévue pour la mise en service, notre ingénieur assisté du personnel d’exploitation du client, assurera :"]
[]
[null,"-","La mise en route et les réglages mécaniques du filtre."]
[null,"-","Le montage de la toile."]
[null,"-","Le contrôle de tous les équipements de notre fourniture."]
[null,"-","La mise en service du filtre avec la pulpe."]
[null,"-","Les réglages des différents paramètres de fonctionnement du filtre avec la pulpe."]
[]
[null,null,"Formation des personnels du client :"]
[null,"-","Théorie de la filtration sous vide : questions, commentaires."]
[null,"-","Description de l’installation"]
[null,null,null,"•","Description générale des principaux équipements."]
[null,null,null,"•","Filtre."]
[null,null,null,"•","Ballon séparateur, pompe à vide, pompes à filtrats…"]
[null,"-","Description du filtre "]
[null,null,null,"•","Description des principaux composants et de leur fonction."]
[null,null,null,"•","Partie théorique."]
[null,null,null,"•","Partie pratique sur site avec démonstration."]
[null,"-","Mise en service du filtre"]
[null,null,null,"•","A vide sans produit"]
[null,null,null,"•","En charge avec produit"]
[null,"-","Commentaires et vérification des connaissances des personnels d’exploitation"]
[]
[]
[]
[]
[]
[]
[]
[]
[]
[]
[]
[]
[]
[]
[null,null,null,null,null,null,null,null," "]

{"sheet":"PàV Nash","index":136,"n_rows":123,"n_cols":19,"rows_kept":123,"cut":false,"hidden":false,"merged":[]}
[null,"Débit (m3/h)","P vide (mb abs)","P atm (mb abs)","T gaz (°C)","Teau (°C)","P disp (KW)","P inst (kW)","Tension (V)","Matériau","Séparateur (oui/non)","Matériau séparateur","Echangeur (oui/non)","Type pompe","Prix (€)","Année","spares","franco Le Mele",{"$f":"\"Prix \" & 'Offre NEW'!$T$10 & \" (€)\"","v":"Prix 2022 (€)"}]
[null,300,350,1013,30,20,7.9,11,400,"Fonte","non",null,"non","VECTRA GL35",12780,2012,null,null,{"$f":"O2*1.03^('Offre NEW'!$T$10-P2)","v":17175.251328017875}]
[null,400,280,1013,30,20,11,15,400,"Fonte","oui","Acier","non","VECTRA GL45",7300,2006,null,null,{"$f":"O3*1.03^('Offre NEW'!$T$10-P3)","v":11714.357005421145}]
[null,400,473,1013,20,18,13,18.5,400,"Fonte","oui","Acier","non","VECTRA XL60",11700,2007,900,null,{"$f":"O4*1.03^('Offre NEW'!$T$10-P4)","v":18228.218774228942}]
[null,500,350,1013,30,20,11.6,15,400,"Fonte","non",null,"non","VECTRA GL60",15700,2012,null,null,{"$f":"O5*1.03^('Offre NEW'!$T$10-P5)","v":21099.487155702711}]
[null,700,280,1013,30,20,16.5,18.5,400,"Fonte","oui","Acier","non","VECTRA GL80",8830,2006,null,null,{"$f":"O6*1.03^('Offre NEW'!$T$10-P6)","v":14169.557857242289}]
[null,750,350,1013,20,30,18.399999999999999,22,400,"Fonte","oui","Acier","non","VECTRA GL80",{"$f":"24900/2","v":12450},2006,400,null,{"$f":"O7*1.03^('Offre NEW'!$T$10-P7)","v":19978.595166779898}]
[null,800,350,1013,35,20,17,22,400,"Fonte","oui","Acier","non","VECTRA XL100",19200,2008,1700,950,{"$f":"O8*1.03^('Offre NEW'!$T$10-P8)","v":29041.72271721813}]
[null,800,350,1013,35,20,17,22,400,"Fonte","oui","Acier","non","VECTRA GL100",18100,2008,1700,950,{"$f":"O9*1.03^('Offre NEW'!$T$10-P9)","v":27377.874019877509}]
[null,900,350,1013,30,20,22,30,400,"Fonte","oui","Acier","non","VECTRA GL30",13350,2008,1120,560,{"$f":"O10*1.03^('Offre NEW'!$T$10-P10)","v":20193.072826815733}]
[null,1200,280,1013,30,18,28,37,400,"Fonte","oui","Fonte","non","VECTRA GL130",13771,2006,null,null,{"$f":"O11*1.03^('Offre NEW'!$T$10-P11)","v":22098.412372829396}]
[null,1500,380,980,30,20,40,55,400,"Fonte","oui","Acier","non","VECTRA XL150",20950,2006,1013,null,{"$f":"O12*1.03^('Offre NEW'!$T$10-P12)","v":33618.599899119588}]
[null,1500,350,1013,30,20,35,45,400,"Fonte","oui","Acier","non","VECTRA XL150",18200,2008,1310,560,{"$f":"O13*1.03^('Offre NEW'!$T$10-P13)","v":27529.132992363022}]
[null,1600,350,1013,20,15,36,55,400,"Fonte","oui","Acier","non","VECTRA XL250",36000,2011,2900,2100,{"$f":"O14*1.03^('Offre NEW'!$T$10-P14)","v":49832.419346080038}]
[null,1800,350,1013,25,18,42,55,400,"Fonte","oui","Acier","non","VECTRA XL250",39690,2006,1820,null,{"$f":"O15*1.03^('Offre NEW'!$T$10-P15)","v":63690.798567830861}]
[null,2000,350,1013,35,20,45,55,400,"Fonte","oui","Acier","non","VECTRA XL250",3200,2008,2015,950,{"$f":"O16*1.03^('Offre NEW'!$T$10-P16)","v":4840.287119536355}]
[null,2500,350,1013,45,25,58,75,400,"Fonte","oui","Acier","non","VECTRA XL250",32250,2010,2800,1900,{"$f":"O17*1.03^('Offre NEW'!$T$10-P17)","v":45980.788600789259}]
[null,2500,280,1013,20,15,50,75,400,"Fonte","oui","Acier","non","VECTRA XL350",45000,2010,3150,2100,{"$f":"O18*1.03^('Offre NEW'!$T$10-P18)","v":64159.239908078038}]
[null,2500,350,1013,20,15,55,75,400,"Fonte","oui","Acier","non","VECTRA XL350",45000,2011,3150,2100,{"$f":"O19*1.03^('Offre NEW'!$T$10-P19)","v":62290.524182600049}]
[null,2800,280,1013,25,25,65,90,400,"Fonte","oui","Acier","non","VECTRA XL350",45000,2009,3150,2100,{"$f":"O20*1.03^('Offre NEW'!$T$10-P20)","v":66084.017105320381}]
[null,3000,350,1013,25,18,70,90,400,"Fonte","oui","Acier","non","VECTRA XL350",30990,2006,1680,null,{"$f":"O21*1.03^('Offre NEW'!$T$10-P21)","v":49729.852547671413}]
[null,3000,280,1013,50,30,60,75,400,"Fonte","oui","Acier","non","VECTRA XL350",37000,2006,1820,500,{"$f":"O22*1.03^('Offre NEW'!$T$10-P22)","v":59374.138246655122}]
[null,3000,280,1013,50,30,60,75,400,"Fonte","oui","Acier","non","VECTRA XL350",39000,2007,1920,500,{"$f":"O23*1.03^('Offre NEW'!$T$10-P23)","v":60760.729247429816}]
[null,3200,500,1013,38,32,66,90,400,"Fonte","oui","Acier","non","2BE3 300",43000,2006,3691,null,{"$f":"O24*1.03^('Offre NEW'!$T$10-P24)","v":69002.376881247837}]
[null,3500,350,1013,30,20,72,90,400,"Fonte","oui","Acier","non","VECTRA XL500",41000,2006,2650,null,{"$f":"O25*1.03^('Offre NEW'!$T$10-P25)","v":65792.964003050263}]
[null,3700,500,1013,35,20,72,90,400,"Fonte","oui","Acier","non","VECTRA XL500",63000,2007,2750,null,{"$f":"O26*1.03^('Offre NEW'!$T$10-P26)","v":98151.947245848161}]
[null,3800,350,1013,40,20,70,110,400,"Fonte","oui","Acier","non","2BE3 3002BY4-Z",48800,2007,4100,null,{"$f":"O27*1.03^('Offre NEW'!$T$10-P27)","v":76028.809930117306}]
[null,4000,500,1013,35,25,83,110,400,"Fonte","oui","Acier","non","2BE3 320 2BY3-Z",56100,2007,4100,2100,{"$f":"O28*1.03^('Offre NEW'!$T$10-P28)","v":87401.97207130288}]
[null,4000,130,1013,45,20,48,90,400,"Fonte","oui","Acier","non","VECTRA XL350",41000,2007,1875,650,{"$f":"O29*1.03^('Offre NEW'!$T$10-P29)","v":63876.664080631344}]
[null,4000,350,1013,45,20,89,110,400,"Fonte","oui","Acier","non","VECTRA XL350",37000,2009,null,null,{"$f":"O30*1.03^('Offre NEW'!$T$10-P30)","v":54335.747397707863}]
[null,5000,350,1013,30,20,120,160,400,"Fonte","oui","Acier","non","2BE3 320",53420,2006,3700,null,{"$f":"O31*1.03^('Offre NEW'!$T$10-P31)","v":85723.417976657205}]
[null,5000,350,1013,50,30,97,132,400,"Fonte","oui","Acier","non","2BE3 320 2BY3",50780,2006,3900,null,{"$f":"O32*1.03^('Offre NEW'!$T$10-P32)","v":81486.992977436414}]
[null,5100,500,1013,35,20,112,160,400,"Fonte","oui","Acier","non","2BE3 320 2BY3-Z",58250,2007,4900,2100,{"$f":"O33*1.03^('Offre NEW'!$T$10-P33)","v":90751.602016994526}]
[null,5100,500,1013,30,20,120,160,400,"Fonte","oui","Acier","non","2BE4 320 2B(H)Y4-Z",65000,2009,4200,null,{"$f":"O34*1.03^('Offre NEW'!$T$10-P34)","v":95454.691374351649}]
[null,5100,350,1013,34,34,105,132,400,"Fonte","oui","Acier","non","2BE4 400 2BY4",65000,2011,4200,2500,{"$f":"O35*1.03^('Offre NEW'!$T$10-P35)","v":89975.201597088962}]
[null,5200,230,900,45,20,80,110,400,"Fonte","oui","Acier","non","VECTRA XL500",57700,2007,2750,1500,{"$f":"O36*1.03^('Offre NEW'!$T$10-P36)","v":89894.719937864109}]
[null,5300,350,1013,30,20,130,160,400,"Fonte","oui","Acier","non","2BE3 320 2BY3-Z",58520,2007,4100,2100,{"$f":"O37*1.03^('Offre NEW'!$T$10-P37)","v":91172.253219476741}]
[null,6000,210,1013,20,18,147,200,400,"Fonte","oui","Acier","non","2BU5400-2BA46-Z",67100,2007,3400,null,{"$f":"O38*1.03^('Offre NEW'!$T$10-P38)","v":104539.61365391129}]
[null,6000,350,1013,35,20,115,132,400,"Fonte","oui","Acier","non","2BE4002BY4",73000,2011,4200,2500,{"$f":"O39*1.03^('Offre NEW'!$T$10-P39)","v":101049.07256288452}]
[null,6000,350,1013,45,15,96,132,400,"Fonte","oui","Acier","non","2BE4 400 2BY4",71000,2011,4200,2500,{"$f":"O40*1.03^('Offre NEW'!$T$10-P40)","v":98280.604821435627}]
[null,6300,350,1013,30,20,130,200,400,"Fonte","oui","Acier","non","2BE3 420 2BY4",89200,2007,5825,2300,{"$f":"O41*1.03^('Offre NEW'!$T$10-P41)","v":138970.69356078818}]
[null,6300,500,1013,30,25,135,160,400,"Fonte","oui","Acier","non","2BE3 420 2BY3-Z",75000,2007,5825,2300,{"$f":"O42*1.03^('Offre NEW'!$T$10-P42)","v":116847.55624505733}]
[null,6500,500,1013,25,20,130,200,400,"Fonte","oui","Acier","non","2BE3 420",72815,2006,3800,null,{"$f":"O43*1.03^('Offre NEW'!$T$10-P43)","v":116846.69936297818}]
[null,6500,670,1013,40,27,130,160,400,"Fonte","oui","Acier","non","2BE4 400 2BY4",69000,2011,4200,2500,{"$f":"O44*1.03^('Offre NEW'!$T$10-P44)","v":95512.137079986744}]
[null,6700,473,1013,20,18,151,200,400,"Fonte","oui","Acier","non","2BU5400-2BA46-Z",67000,2007,3400,null,{"$f":"O45*1.03^('Offre NEW'!$T$10-P45)","v":104383.81691225122}]
[null,7000,500,1013,35,20,150,200,415,"Fonte","oui","Acier","non","2BE3 4002BY4-Z",88000,2008,3200,null,{"$f":"O46*1.03^('Offre NEW'!$T$10-P46)","v":133107.89578724976}]
[null,7000,350,1013,45,25,125,200,400,"Fonte","oui","Acier","non","2BE3 400-2BY4-Z",72000,2007,4200,2200,{"$f":"O47*1.03^('Offre NEW'!$T$10-P47)","v":112173.65399525504}]
[null,7500,500,1013,25,20,160,200,400,"Fonte","oui","Acier","non","2BE3 420",72815,2006,3800,null,{"$f":"O48*1.03^('Offre NEW'!$T$10-P48)","v":116846.69936297818}]
[null,8000,605,1013,20,18,156,200,400,"Fonte","oui","Acier","non","2BU5420-2BA46-Z",78000,2007,3400,null,{"$f":"O49*1.03^('Offre NEW'!$T$10-P49)","v":121521.45849485963}]
[null,8000,350,1013,40,20,140,200,400,"Fonte","oui","Acier","non","2BE3 4202BY4-Z",75800,2007,5900,null,{"$f":"O50*1.03^('Offre NEW'!$T$10-P50)","v":118093.93017833795}]
[null,8500,210,1013,20,18,236,315,400,"Fonte","oui","Acier","non","2BU5420-2BA46-Z",81000,2007,4100,null,{"$f":"O51*1.03^('Offre NEW'!$T$10-P51)","v":126195.36074466191}]
[null,8500,215,1013,20,20,226,315,400,"Fonte","oui","Acier","non","2BE4 420",71700,2010,4200,2500,{"$f":"O52*1.03^('Offre NEW'!$T$10-P52)","v":102227.05558687101}]
[null,8500,215,1013,20,20,180,250,400,"Fonte","oui","Acier","non","2BE4 500",81000,2010,6000,2500,{"$f":"O53*1.03^('Offre NEW'!$T$10-P53)","v":115486.63183454047}]
[null,8500,215,1013,45,20,142,200,400,"Fonte","oui","Acier","non","2BE4 420",63200,2010,4200,2500,{"$f":"O54*1.03^('Offre NEW'!$T$10-P54)","v":90108.088048678488}]
[null,9000,350,1013,30,20,215,315,400,"Fonte","oui","Acier","non","2BE3 420 2BY3-Z",97300,2007,5825,2300,{"$f":"O55*1.03^('Offre NEW'!$T$10-P55)","v":151590.22963525439}]
[null,9100,280,940,30,20,211,250,400,"Fonte","oui","Acier","non","2BE4 420 2BY4-Z",101000,2009,5800,null,{"$f":"O56*1.03^('Offre NEW'!$T$10-P56)","v":148321.90505860795}]
[null,9300,500,1013,35,20,167,250,690,"Fonte","oui","Acier","non","2BE3 500 2xY3-Z",116000,2007,null,null,{"$f":"O57*1.03^('Offre NEW'!$T$10-P57)","v":180724.22032568869}]
[null,10000,500,1013,30,18,185,250,400,"Fonte","oui","Acier","non","2BE3 500",111735,2006,4504,null,{"$f":"O58*1.03^('Offre NEW'!$T$10-P58)","v":179301.87397270298}]
[null,10300,730,1013,20,20,215,250,400,"Fonte","oui","Acier","non","2BE3 500-2BY4-Z",128000,2009,6200,null,{"$f":"O59*1.03^('Offre NEW'!$T$10-P59)","v":187972.31532180018}]
[null,10500,479,1013,35,20,250,315,400,"Fonte","oui","Acier","non","2BE3 420 OBY ",81000,2010,null,null,{"$f":"O60*1.03^('Offre NEW'!$T$10-P60)","v":115486.63183454047}]
[null,10500,410,910,40,15,235,315,400,"Fonte","oui","Acier","non","2BE3 420 2BY4-Z",87200,2007,5825,2300,{"$f":"O61*1.03^('Offre NEW'!$T$10-P61)","v":135854.75872758665}]
[null,11000,670,1013,45,27,193,250,400,"Fonte","oui","Acier","non","2BE4 500 2BY4",106000,2011,5900,2500,{"$f":"O62*1.03^('Offre NEW'!$T$10-P62)","v":146728.79029679121}]
[null,11000,215,1013,20,20,256,315,400,"Fonte","oui","Acier","non","2BE4 500",85900,2010,6000,2500,{"$f":"O63*1.03^('Offre NEW'!$T$10-P63)","v":122472.86018008675}]
[null,11000,350,1013,40,30,215,250,400,"Fonte","oui","Acier","non","2BE3 500 2BY3",112000,2006,4504,2200,{"$f":"O64*1.03^('Offre NEW'!$T$10-P64)","v":179727.12117906415}]
[null,12000,210,875,30,20,260,355,525,"Fonte","oui","Acier","non","2BE3 500-2BY4-Z",122200,2007,5980,null,{"$f":"O65*1.03^('Offre NEW'!$T$10-P65)","v":190383.61830861343}]
[null,12600,350,1013,50,20,205,250,400,"Fonte","oui","Acier","non","2BE3 500 2BY3",112000,2006,4504,null,{"$f":"O66*1.03^('Offre NEW'!$T$10-P66)","v":179727.12117906415}]
[null,13000,170,840,30,20,360,630,6600,"Fonte","oui","Acier","non","2BE3 620",166000,2007,12000,null,{"$f":"O67*1.03^('Offre NEW'!$T$10-P67)","v":258622.5911557269}]
[null,13000,350,1013,25,20,306,350,400,"Fonte","oui","Acier","non","2BE4 500-2BY4-Z",103000,2010,6200,null,{"$f":"O68*1.03^('Offre NEW'!$T$10-P68)","v":146853.3713451564}]
[null,15000,500,1013,25,18,290,350,6600,"Fonte","oui","Acier","non","2BE3 600",175000,2006,9940,null,{"$f":"O69*1.03^('Offre NEW'!$T$10-P69)","v":280823.62684228772}]
[null,15000,500,1013,35,20,280,355,400,"Fonte","oui","Acier","non","2BE3 600 2BY4 –Z",172000,2008,11600,null,{"$f":"O70*1.03^('Offre NEW'!$T$10-P70)","v":260165.43267507909}]
[null,15000,500,1013,30,20,350,400,6300,"Fonte","oui","Acier","non","2BE3 5202BY4-Z",200000,2007,5980,null,{"$f":"O71*1.03^('Offre NEW'!$T$10-P71)","v":311593.48332015291}]
[null,18000,280,932,20,15,385,450,6000,"Fonte","oui","Acier","non","2BE4 620 2BY4 –Z",240000,2008,13600,null,{"$f":"O72*1.03^('Offre NEW'!$T$10-P72)","v":363021.53396522667}]
[null,19000,265,950,50,30,340,400,415,"Fonte","oui","Acier","non","2BE3 600 2BY3",175000,2006,10000,null,{"$f":"O73*1.03^('Offre NEW'!$T$10-P73)","v":280823.62684228772}]
[null,19000,265,950,50,30,340,400,6600,"Fonte","oui","Acier","non","2BE3 600 2BY3",195000,2006,10000,null,{"$f":"O74*1.03^('Offre NEW'!$T$10-P74)","v":312917.75562426349}]
[null,20000,415,1013,40,20,405,450,6600,"Fonte","oui","Acier","non","2BE3 620 2BY3-Z",209200,2007,12000,null,{"$f":"O75*1.03^('Offre NEW'!$T$10-P75)","v":325926.78355287993}]
[null,20000,215,1013,20,15,450,500,400,"Fonte","oui","Acier","non","2BE4 670 2BY4-Z",227000,2010,15600,null,{"$f":"O76*1.03^('Offre NEW'!$T$10-P76)","v":323647.72131408256}]
[null,24000,500,1013,30,20,545,630,400,"Fonte","oui","Acier","non","2BE3 670 2BY4",205000,2007,13900,null,{"$f":"O77*1.03^('Offre NEW'!$T$10-P77)","v":319383.32040315669}]
[null,25000,500,1013,30,20,500,630,400,"Fonte","oui","Acier","non","2BE3 720 2BY3",238000,2006,14800,null,{"$f":"O78*1.03^('Offre NEW'!$T$10-P78)","v":381920.13250551134}]
[null,30000,500,1013,30,20,680,750,6300,"Fonte","oui","Acier","non","2BE3 7202BY4-Z",331000,2007,16200,null,{"$f":"O79*1.03^('Offre NEW'!$T$10-P79)","v":515687.21489485301}]
[null,12000,350,1013,40,25,235,315,400,"Fonte ","oui","Acier","non","2BE3 500-2BY4-Z",129000,2007,6300,2200,{"$f":"O80*1.03^('Offre NEW'!$T$10-P80)","v":200977.79674149861}]
[null,400,280,1013,30,20,11,15,400,"Inox","oui","Inox","non","VECTRA XL45",14100,2006,null,null,{"$f":"O81*1.03^('Offre NEW'!$T$10-P81)","v":22626.360791292896}]
[null,700,280,1013,30,20,16.5,18.5,400,"Inox","oui","Inox","non","VECTRA XL80",17403,2006,null,null,{"$f":"O82*1.03^('Offre NEW'!$T$10-P82)","v":27926.706159636193}]
[null,750,350,1013,20,30,18.399999999999999,22,400,"Inox","oui","Inox","non","VECTRA XL80",{"$f":"45660/2","v":22830},2006,720,null,{"$f":"O83*1.03^('Offre NEW'!$T$10-P83)","v":36635.448004625308}]
[null,750,350,1013,20,30,18.399999999999999,22,400,"Inox","oui","Inox","non","VECTRA XL80",21360,2007,720,null,{"$f":"O84*1.03^('Offre NEW'!$T$10-P84)","v":33278.184018592328}]
[null,900,280,1013,50,20,17.899999999999999,30,400,"Inox","oui","Inox","non","VECTRA XL80",17170,2006,null,null,{"$f":"O85*1.03^('Offre NEW'!$T$10-P85)","v":27552.809559326175}]
[null,900,280,1013,50,20,17.899999999999999,22,400,"Inox","oui","Inox","non","VECTRA XL80",25550,2011,null,null,{"$f":"O86*1.03^('Offre NEW'!$T$10-P86)","v":35367.175397009582}]
[null,1000,350,1013,30,20,23,30,400,"Inox","oui","Inox","non","VECTRA XL130",30500,2008,1750,850,{"$f":"O87*1.03^('Offre NEW'!$T$10-P87)","v":46133.986608080886}]
[null,1800,200,850,40,30,40,75,400,"Inox","oui","Inox","non","VECTRA XL250",66500,2007,2975,null,{"$f":"O88*1.03^('Offre NEW'!$T$10-P88)","v":103604.83320395084}]
[null,1900,350,1013,30,20,45,55,400,"Inox","oui","Inox","non","VECTRA XL250",40500,2007,3400,850,{"$f":"O89*1.03^('Offre NEW'!$T$10-P89)","v":63097.680372330957}]
[null,2000,200,850,40,30,40,75,400,"Inox","oui","Inox","non","VECTRA XL350",89300,2007,3930,null,{"$f":"O90*1.03^('Offre NEW'!$T$10-P90)","v":139126.49030244828}]
[null,2200,500,1013,50,20,45,55,400,"Inox","oui","Inox","non","VECTRA XL250",37320,2006,3510,null,{"$f":"O91*1.03^('Offre NEW'!$T$10-P91)","v":59887.644307166731}]
[null,3000,280,1013,30,18,70,90,400,"Inox","oui","Inox","non","VECTRA XL350",63000,2007,3930,null,{"$f":"O92*1.03^('Offre NEW'!$T$10-P92)","v":98151.947245848161}]
[null,3000,280,1013,50,30,60,75,400,"Inox","oui","Inox","non","VECTRA XL350",58800,2007,3930,500,{"$f":"O93*1.03^('Offre NEW'!$T$10-P93)","v":91608.484096124943}]
[null,3500,200,850,40,30,60,90,400,"Inox","oui","Inox","non","VECTRA XL500",106000,2007,4400,null,{"$f":"O94*1.03^('Offre NEW'!$T$10-P94)","v":165144.54615968102}]
[null,3600,500,1013,50,20,75,90,400,"Inox","oui","Inox","non","VECTRA XL350",54600,2006,3930,null,{"$f":"O95*1.03^('Offre NEW'!$T$10-P95)","v":87616.971574793773}]
[null,3600,500,1013,50,20,75,90,400,"Inox","oui","Inox","non","VECTRA XL350",54600,2006,3930,null,{"$f":"O96*1.03^('Offre NEW'!$T$10-P96)","v":87616.971574793773}]
[null,4000,280,1013,30,18,90,110,400,"Inox","oui","Inox","non","VECTRA XL500",76000,2007,4400,null,{"$f":"O97*1.03^('Offre NEW'!$T$10-P97)","v":118405.5236616581}]
[null,4560,230,900,45,30,80,110,400,"Inox","oui","Inox","non","VECTRA XL500",143200,2008,4210,1500,{"$f":"O98*1.03^('Offre NEW'!$T$10-P98)","v":216602.84859925188}]
[null,5100,500,1013,30,20,120,160,400,"Inox","oui","Inox","non","2BE4 320 2B(H)Y4-Z",121000,2009,6200,null,{"$f":"O99*1.03^('Offre NEW'!$T$10-P99)","v":177692.57932763922}]
[null,5800,350,1013,50,25,132,160,400,"Inox","oui","Inox","non","Vectra XL500",81000,2007,4400,850,{"$f":"O100*1.03^('Offre NEW'!$T$10-P100)","v":126195.36074466191}]
[null,6000,280,1013,30,18,122,160,400,"Inox","oui","Inox","non","2BE3 400 2HY3",136000,2007,5400,null,{"$f":"O101*1.03^('Offre NEW'!$T$10-P101)","v":211883.56865770396}]
[null,6200,500,1013,50,20,105,132,400,"Inox","oui","Inox","non","VECTRA 2BE3",139500,2006,5200,null,{"$f":"O102*1.03^('Offre NEW'!$T$10-P102)","v":223856.54825428079}]
[null,7000,500,1013,30,20,140,200,400,"Inox","oui","Inox","non","2BE3 420 2HY3-Z",225000,2006,5825,null,{"$f":"O103*1.03^('Offre NEW'!$T$10-P103)","v":361058.94879722712}]
[null,9000,280,1013,30,20,230,315,690,"Inox","oui","Inox","non","2BE3 420 2HY3",239000,2006,5502,null,{"$f":"O104*1.03^('Offre NEW'!$T$10-P104)","v":383524.83894461009}]
[null,11000,280,1013,30,20,235,315,690,"Inox","oui","Inox","non","2BE3 500 2HY3",315000,2006,6502,2200,{"$f":"O105*1.03^('Offre NEW'!$T$10-P105)","v":505482.52831611794}]
[null,12600,350,1013,50,20,205,250,400,"Inox","oui","Inox","non","2BE3 500 2HY3",234000,2006,7502,null,{"$f":"O106*1.03^('Offre NEW'!$T$10-P106)","v":375501.30674911616}]
[]
[]
[null,null,null,null,null,null,null,null,null,null,null,{"$f":"Calculations!N11","v":200},{"$f":"0.0497*L109^0.9314","v":6.9109177887121422},37]
[null,null,null,null,null,null,null,null,null,null,null,null,null,45]
[null,null,null,null,null,null,null,null,null,null,null,null,null,55]
[null,null,null,null,null,null,null,null,null,null,null,null,{"$f":"INDEX(N109:N123,MATCH(M109,N109:N123)+1)","v":{"$error":"#N/A"}},75]
[null,null,null,null,null,null,null,null,null,null,null,null,null,90]
[null,null,null,null,null,null,null,null,null,null,null,null,null,110]
[null,null,null,null,null,null,null,null,null,null,null,null,null,132]
[null,null,null,null,null,null,null,null,null,null,null,null,null,160]
[null,null,null,null,null,null,null,null,null,null,null,null,null,220]
[null,null,null,null,null,null,null,null,null,null,null,null,null,250]
[null,null,null,null,null,null,null,null,null,null,null,null,null,315]
[null,null,null,null,null,null,null,null,null,null,null,null,null,355]
[null,null,null,null,null,null,null,null,null,null,null,null,null,400]
[null,null,null,null,null,null,null,null,null,null,null,null,null,500]
[null,null,null,null,null,null,null,null,null,null,null,null,null,630]

{"sheet":"PàV Nash Fonte Mot.400V","index":137,"n_rows":111,"n_cols":23,"rows_kept":111,"cut":false,"hidden":false,"merged":[]}
[null,"Débit (m3/h)","P vide (mb abs)","P atm (mb abs)","T gaz (°C)","Teau (°C)","P disp (KW)","P inst (kW)","Tension (V)","Matériau","Séparateur (oui/non)","Matériau séparateur","Echangeur (oui/non)","Type pompe","Prix (€)","Année","spares","franco Le Mele",{"$f":"\"Prix \" & 'Offre NEW'!$T$10 & \" (€)\"","v":"Prix 2022 (€)"}]
[null,300,350,1013,30,20,7.9,11,400,"Fonte","non",null,"non","VECTRA GL35",12780,2012,null,null,{"$f":"O2*1.03^('Offre NEW'!$T$10-P2)","v":17175.251328017875},null,{"$f":"S2-(8.9775*B2+10791)","v":3691.0013280178755},{"$f":"U2/S2*100","v":21.49023183140714},{"$f":"ABS(V2)","v":21.49023183140714}]
[null,400,280,1013,30,20,11,15,400,"Fonte","oui","Acier","non","VECTRA GL45",7300,2006,null,null,{"$f":"O3*1.03^('Offre NEW'!$T$10-P3)","v":11714.357005421145},null,{"$f":"S3-(8.9775*B3+10791)","v":-2667.642994578855},{"$f":"U3/S3*100","v":-22.772423559776513},{"$f":"ABS(V3)","v":22.772423559776513}]
[null,400,280,1013,30,20,11,15,400,"Inox","oui","Inox","non","VECTRA XL45",14100,2006,null,null,{"$f":"O4*1.03^('Offre NEW'!$T$10-P4)","v":22626.360791292896}]
[null,400,473,1013,20,18,13,18.5,400,"Fonte","oui","Acier","non","VECTRA XL60",11700,2007,900,null,{"$f":"O5*1.03^('Offre NEW'!$T$10-P5)","v":18228.218774228942},null,{"$f":"S5-(8.9775*B5+10791)","v":3846.2187742289425},{"$f":"U5/S5*100","v":21.100354466157313},{"$f":"ABS(V5)","v":21.100354466157313}]
[null,500,350,1013,30,20,11.6,15,400,"Fonte","non",null,"non","VECTRA GL60",15700,2012,null,null,{"$f":"O6*1.03^('Offre NEW'!$T$10-P6)","v":21099.487155702711},null,{"$f":"S6-(8.9775*B6+10791)","v":5819.7371557027109},{"$f":"U6/S6*100","v":27.582363081890211},{"$f":"ABS(V6)","v":27.582363081890211}]
[null,700,280,1013,30,20,16.5,18.5,400,"Fonte","oui","Acier","non","VECTRA GL80",8830,2006,null,null,{"$f":"O7*1.03^('Offre NEW'!$T$10-P7)","v":14169.557857242289},null,{"$f":"S7-(8.9775*B7+10791)","v":-2905.6921427577108},{"$f":"U7/S7*100","v":-20.506583000206778},{"$f":"ABS(V7)","v":20.506583000206778}]
[null,700,280,1013,30,20,16.5,18.5,400,"Inox","oui","Inox","non","VECTRA XL80",17403,2006,null,null,{"$f":"O8*1.03^('Offre NEW'!$T$10-P8)","v":27926.706159636193}]
[null,750,350,1013,20,30,18.399999999999999,22,400,"Fonte","oui","Acier","non","VECTRA GL80",{"$f":"24900/2","v":12450},2006,400,null,{"$f":"O9*1.03^('Offre NEW'!$T$10-P9)","v":19978.595166779898},null,{"$f":"S9-(8.9775*B9+10791)","v":2454.4701667798981},{"$f":"U9/S9*100","v":12.285499287062754},{"$f":"ABS(V9)","v":12.285499287062754}]
[null,750,350,1013,20,30,18.399999999999999,22,400,"Inox","oui","Inox","non","VECTRA XL80",{"$f":"45660/2","v":22830},2006,720,null,{"$f":"O10*1.03^('Offre NEW'!$T$10-P10)","v":36635.448004625308}]
[null,750,350,1013,20,30,18.399999999999999,22,400,"Inox","oui","Inox","non","VECTRA XL80",21360,2007,720,null,{"$f":"O11*1.03^('Offre NEW'!$T$10-P11)","v":33278.184018592328}]
[null,800,350,1013,35,20,17,22,400,"Fonte","oui","Acier","non","VECTRA XL100",19200,2008,1700,950,{"$f":"O12*1.03^('Offre NEW'!$T$10-P12)","v":29041.72271721813},null,{"$f":"S12-(8.9775*B12+10791)","v":11068.72271721813},{"$f":"U12/S12*100","v":38.113175395947685},{"$f":"ABS(V12)","v":38.113175395947685}]
[null,800,350,1013,35,20,17,22,400,"Fonte","oui","Acier","non","VECTRA GL100",18100,2008,1700,950,{"$f":"O13*1.03^('Offre NEW'!$T$10-P13)","v":27377.874019877509},null,{"$f":"S13-(8.9775*B13+10791)","v":9404.8740198775085},{"$f":"U13/S13*100","v":34.352097657579868},{"$f":"ABS(V13)","v":34.352097657579868}]
[null,900,280,1013,50,20,17.899999999999999,30,400,"Inox","oui","Inox","non","VECTRA XL80",17170,2006,null,null,{"$f":"O14*1.03^('Offre NEW'!$T$10-P14)","v":27552.809559326175}]
[null,900,350,1013,30,20,22,30,400,"Fonte","oui","Acier","non","VECTRA GL30",13350,2008,1120,560,{"$f":"O15*1.03^('Offre NEW'!$T$10-P15)","v":20193.072826815733},null,{"$f":"S15-(8.9775*B15+10791)","v":1322.3228268157327},{"$f":"U15/S15*100","v":6.5483982460546155},{"$f":"ABS(V15)","v":6.5483982460546155}]
[null,900,280,1013,50,20,17.899999999999999,22,400,"Inox","oui","Inox","non","VECTRA XL80",25550,2011,null,null,{"$f":"O16*1.03^('Offre NEW'!$T$10-P16)","v":35367.175397009582}]
[null,1000,350,1013,30,20,23,30,400,"Inox","oui","Inox","non","VECTRA XL130",30500,2008,1750,850,{"$f":"O17*1.03^('Offre NEW'!$T$10-P17)","v":46133.986608080886}]
[null,1200,280,1013,30,18,28,37,400,"Fonte","oui","Fonte","non","VECTRA GL130",13771,2006,null,null,{"$f":"O18*1.03^('Offre NEW'!$T$10-P18)","v":22098.412372829396},null,{"$f":"S18-(8.9775*B18+10791)","v":534.41237282939619},{"$f":"U18/S18*100","v":2.4183292619087462},{"$f":"ABS(V18)","v":2.4183292619087462}]
[null,1500,380,980,30,20,40,55,400,"Fonte","oui","Acier","non","VECTRA XL150",20950,2006,1013,null,{"$f":"O19*1.03^('Offre NEW'!$T$10-P19)","v":33618.599899119588},null,{"$f":"S19-(8.9775*B19+10791)","v":9361.3498991195884},{"$f":"U19/S19*100","v":27.845745888319239},{"$f":"ABS(V19)","v":27.845745888319239}]
[null,1500,350,1013,30,20,35,45,400,"Fonte","oui","Acier","non","VECTRA XL150",18200,2008,1310,560,{"$f":"O20*1.03^('Offre NEW'!$T$10-P20)","v":27529.132992363022},null,{"$f":"S20-(8.9775*B20+10791)","v":3271.8829923630219},{"$f":"U20/S20*100","v":11.885165411023621},{"$f":"ABS(V20)","v":11.885165411023621}]
[null,1600,350,1013,20,15,36,55,400,"Fonte","oui","Acier","non","VECTRA XL250",36000,2011,2900,2100,{"$f":"O21*1.03^('Offre NEW'!$T$10-P21)","v":49832.419346080038},null,{"$f":"S21-(8.9775*B21+10791)","v":24677.419346080038},{"$f":"U21/S21*100","v":49.520813297661483},{"$f":"ABS(V21)","v":49.520813297661483}]
[null,1800,200,850,40,30,40,75,400,"Inox","oui","Inox","non","VECTRA XL250",66500,2007,2975,null,{"$f":"O22*1.03^('Offre NEW'!$T$10-P22)","v":103604.83320395084}]
[null,1800,350,1013,25,18,42,55,400,"Fonte","oui","Acier","non","VECTRA XL250",39690,2006,1820,null,{"$f":"O23*1.03^('Offre NEW'!$T$10-P23)","v":63690.798567830861},null,{"$f":"S23-(8.9775*B23+10791)","v":36740.298567830861},{"$f":"U23/S23*100","v":57.68541044229859},{"$f":"ABS(V23)","v":57.68541044229859}]
[null,1900,350,1013,30,20,45,55,400,"Inox","oui","Inox","non","VECTRA XL250",40500,2007,3400,850,{"$f":"O24*1.03^('Offre NEW'!$T$10-P24)","v":63097.680372330957}]
[null,2000,350,1013,35,20,45,55,400,"Fonte","oui","Acier","non","VECTRA XL250",3200,2008,2015,950,{"$f":"O25*1.03^('Offre NEW'!$T$10-P25)","v":4840.287119536355},null,{"$f":"S25-(8.9775*B25+10791)","v":-23905.712880463645},{"$f":"U25/S25*100","v":-493.89038893943848},{"$f":"ABS(V25)","v":493.89038893943848}]
[null,2000,200,850,40,30,40,75,400,"Inox","oui","Inox","non","VECTRA XL350",89300,2007,3930,null,{"$f":"O26*1.03^('Offre NEW'!$T$10-P26)","v":139126.49030244828}]
[null,2200,500,1013,50,20,45,55,400,"Inox","oui","Inox","non","VECTRA XL250",37320,2006,3510,null,{"$f":"O27*1.03^('Offre NEW'!$T$10-P27)","v":59887.644307166731}]
[null,2500,350,1013,45,25,58,75,400,"Fonte","oui","Acier","non","VECTRA XL250",32250,2010,2800,1900,{"$f":"O28*1.03^('Offre NEW'!$T$10-P28)","v":45980.788600789259},null,{"$f":"S28-(8.9775*B28+10791)","v":12746.038600789259},{"$f":"U28/S28*100","v":27.720356672113432},{"$f":"ABS(V28)","v":27.720356672113432}]
[null,2500,280,1013,20,15,50,75,400,"Fonte","oui","Acier","non","VECTRA XL350",45000,2010,3150,2100,{"$f":"O29*1.03^('Offre NEW'!$T$10-P29)","v":64159.239908078038},null,{"$f":"S29-(8.9775*B29+10791)","v":30924.489908078038},{"$f":"U29/S29*100","v":48.199588948347966},{"$f":"ABS(V29)","v":48.199588948347966}]
[null,2500,350,1013,20,15,55,75,400,"Fonte","oui","Acier","non","VECTRA XL350",45000,2011,3150,2100,{"$f":"O30*1.03^('Offre NEW'!$T$10-P30)","v":62290.524182600049},null,{"$f":"S30-(8.9775*B30+10791)","v":29055.774182600049},{"$f":"U30/S30*100","v":46.645576616798415},{"$f":"ABS(V30)","v":46.645576616798415}]
[null,2800,280,1013,25,25,65,90,400,"Fonte","oui","Acier","non","VECTRA XL350",45000,2009,3150,2100,{"$f":"O31*1.03^('Offre NEW'!$T$10-P31)","v":66084.017105320381},null,{"$f":"S31-(8.9775*B31+10791)","v":30156.017105320381},{"$f":"U31/S31*100","v":45.632845014944678},{"$f":"ABS(V31)","v":45.632845014944678}]
[null,3000,350,1013,25,18,70,90,400,"Fonte","oui","Acier","non","VECTRA XL350",30990,2006,1680,null,{"$f":"O32*1.03^('Offre NEW'!$T$10-P32)","v":49729.852547671413},null,{"$f":"S32-(8.9775*B32+10791)","v":12006.352547671413},{"$f":"U32/S32*100","v":24.143149300839035},{"$f":"ABS(V32)","v":24.143149300839035}]
[null,3000,280,1013,30,18,70,90,400,"Inox","oui","Inox","non","VECTRA XL350",63000,2007,3930,null,{"$f":"O33*1.03^('Offre NEW'!$T$10-P33)","v":98151.947245848161}]
[null,3000,280,1013,50,30,60,75,400,"Fonte","oui","Acier","non","VECTRA XL350",37000,2006,1820,500,{"$f":"O34*1.03^('Offre NEW'!$T$10-P34)","v":59374.138246655122},null,{"$f":"S34-(8.9775*B34+10791)","v":21650.638246655122},{"$f":"U34/S34*100","v":36.464762076567609},{"$f":"ABS(V34)","v":36.464762076567609}]
[null,3000,280,1013,50,30,60,75,400,"Fonte","oui","Acier","non","VECTRA XL350",39000,2007,1920,500,{"$f":"O35*1.03^('Offre NEW'!$T$10-P35)","v":60760.729247429816},null,{"$f":"S35-(8.9775*B35+10791)","v":23037.229247429816},{"$f":"U35/S35*100","v":37.914668788153641},{"$f":"ABS(V35)","v":37.914668788153641}]
[null,3000,280,1013,50,30,60,75,400,"Inox","oui","Inox","non","VECTRA XL350",58800,2007,3930,500,{"$f":"O36*1.03^('Offre NEW'!$T$10-P36)","v":91608.484096124943}]
[null,3200,500,1013,38,32,66,90,400,"Fonte","oui","Acier","non","2BE3 300",43000,2006,3691,null,{"$f":"O37*1.03^('Offre NEW'!$T$10-P37)","v":69002.376881247837},null,{"$f":"S37-(8.9775*B37+10791)","v":29483.376881247837},{"$f":"U37/S37*100","v":42.728059834791395},{"$f":"ABS(V37)","v":42.728059834791395}]
[null,3500,200,850,40,30,60,90,400,"Inox","oui","Inox","non","VECTRA XL500",106000,2007,4400,null,{"$f":"O38*1.03^('Offre NEW'!$T$10-P38)","v":165144.54615968102}]
[null,3500,350,1013,30,20,72,90,400,"Fonte","oui","Acier","non","VECTRA XL500",41000,2006,2650,null,{"$f":"O39*1.03^('Offre NEW'!$T$10-P39)","v":65792.964003050263},null,{"$f":"S39-(8.9775*B39+10791)","v":23580.714003050263},{"$f":"U39/S39*100","v":35.840783829038351},{"$f":"ABS(V39)","v":35.840783829038351}]
[null,3600,500,1013,50,20,75,90,400,"Inox","oui","Inox","non","VECTRA XL350",54600,2006,3930,null,{"$f":"O40*1.03^('Offre NEW'!$T$10-P40)","v":87616.971574793773}]
[null,3600,500,1013,50,20,75,90,400,"Inox","oui","Inox","non","VECTRA XL350",54600,2006,3930,null,{"$f":"O41*1.03^('Offre NEW'!$T$10-P41)","v":87616.971574793773}]
[null,3700,500,1013,35,20,72,90,400,"Fonte","oui","Acier","non","VECTRA XL500",63000,2007,2750,null,{"$f":"O42*1.03^('Offre NEW'!$T$10-P42)","v":98151.947245848161},null,{"$f":"S42-(8.9775*B42+10791)","v":54144.197245848161},{"$f":"U42/S42*100","v":55.163650610241419},{"$f":"ABS(V42)","v":55.163650610241419}]
[null,3800,350,1013,40,20,70,110,400,"Fonte","oui","Acier","non","2BE3 3002BY4-Z",48800,2007,4100,null,{"$f":"O43*1.03^('Offre NEW'!$T$10-P43)","v":76028.809930117306},null,{"$f":"S43-(8.9775*B43+10791)","v":31123.309930117306},{"$f":"U43/S43*100","v":40.936205576181749},{"$f":"ABS(V43)","v":40.936205576181749}]
[null,4000,280,1013,30,18,90,110,400,"Inox","oui","Inox","non","VECTRA XL500",76000,2007,4400,null,{"$f":"O44*1.03^('Offre NEW'!$T$10-P44)","v":118405.5236616581}]
[null,4000,500,1013,35,25,83,110,400,"Fonte","oui","Acier","non","2BE3 320 2BY3-Z",56100,2007,4100,2100,{"$f":"O45*1.03^('Offre NEW'!$T$10-P45)","v":87401.97207130288},null,{"$f":"S45-(8.9775*B45+10791)","v":40700.97207130288},{"$f":"U45/S45*100","v":46.5675671918465},{"$f":"ABS(V45)","v":46.5675671918465}]
[null,4000,130,1013,45,20,48,90,400,"Fonte","oui","Acier","non","VECTRA XL350",41000,2007,1875,650,{"$f":"O46*1.03^('Offre NEW'!$T$10-P46)","v":63876.664080631344},null,{"$f":"S46-(8.9775*B46+10791)","v":17175.664080631344},{"$f":"U46/S46*100","v":26.888793157624118},{"$f":"ABS(V46)","v":26.888793157624118}]
[null,4000,350,1013,45,20,89,110,400,"Fonte","oui","Acier","non","VECTRA XL350",37000,2009,null,null,{"$f":"O47*1.03^('Offre NEW'!$T$10-P47)","v":54335.747397707863},null,{"$f":"S47-(8.9775*B47+10791)","v":7634.7473977078625},{"$f":"U47/S47*100","v":14.051058029671884},{"$f":"ABS(V47)","v":14.051058029671884}]
[null,4560,230,900,45,30,80,110,400,"Inox","oui","Inox","non","VECTRA XL500",143200,2008,4210,1500,{"$f":"O48*1.03^('Offre NEW'!$T$10-P48)","v":216602.84859925188}]
[null,5000,350,1013,30,20,120,160,400,"Fonte","oui","Acier","non","2BE3 320",53420,2006,3700,null,{"$f":"O49*1.03^('Offre NEW'!$T$10-P49)","v":85723.417976657205},null,{"$f":"S49-(8.9775*B49+10791)","v":30044.917976657212},{"$f":"U49/S49*100","v":35.048670113502183},{"$f":"ABS(V49)","v":35.048670113502183}]
[null,5000,350,1013,50,30,97,132,400,"Fonte","oui","Acier","non","2BE3 320 2BY3",50780,2006,3900,null,{"$f":"O50*1.03^('Offre NEW'!$T$10-P50)","v":81486.992977436414},null,{"$f":"S50-(8.9775*B50+10791)","v":25808.492977436421},{"$f":"U50/S50*100","v":31.671917240316798},{"$f":"ABS(V50)","v":31.671917240316798}]
[null,5100,500,1013,35,20,112,160,400,"Fonte","oui","Acier","non","2BE3 320 2BY3-Z",58250,2007,4900,2100,{"$f":"O51*1.03^('Offre NEW'!$T$10-P51)","v":90751.602016994526},null,{"$f":"S51-(8.9775*B51+10791)","v":34175.352016994533},{"$f":"U51/S51*100","v":37.658125319478891},{"$f":"ABS(V51)","v":37.658125319478891}]
[null,5100,500,1013,30,20,120,160,400,"Fonte","oui","Acier","non","2BE4 320 2B(H)Y4-Z",65000,2009,4200,null,{"$f":"O52*1.03^('Offre NEW'!$T$10-P52)","v":95454.691374351649},null,{"$f":"S52-(8.9775*B52+10791)","v":38878.441374351656},{"$f":"U52/S52*100","v":40.729733462632261},{"$f":"ABS(V52)","v":40.729733462632261}]
[null,5100,500,1013,30,20,120,160,400,"Inox","oui","Inox","non","2BE4 320 2B(H)Y4-Z",121000,2009,6200,null,{"$f":"O53*1.03^('Offre NEW'!$T$10-P53)","v":177692.57932763922}]
[null,5100,350,1013,34,34,105,132,400,"Fonte","oui","Acier","non","2BE4 400 2BY4",65000,2011,4200,2500,{"$f":"O54*1.03^('Offre NEW'!$T$10-P54)","v":89975.201597088962},null,{"$f":"S54-(8.9775*B54+10791)","v":33398.95159708897},{"$f":"U54/S54*100","v":37.120174230506585},{"$f":"ABS(V54)","v":37.120174230506585}]
[null,5200,230,900,45,20,80,110,400,"Fonte","oui","Acier","non","VECTRA XL500",57700,2007,2750,1500,{"$f":"O55*1.03^('Offre NEW'!$T$10-P55)","v":89894.719937864109},null,{"$f":"S55-(8.9775*B55+10791)","v":32420.719937864116},{"$f":"U55/S55*100","v":36.065210459828521},{"$f":"ABS(V55)","v":36.065210459828521}]
[null,5300,350,1013,30,20,130,160,400,"Fonte","oui","Acier","non","2BE3 320 2BY3-Z",58520,2007,4100,2100,{"$f":"O56*1.03^('Offre NEW'!$T$10-P56)","v":91172.253219476741},null,{"$f":"S56-(8.9775*B56+10791)","v":32800.503219476748},{"$f":"U56/S56*100","v":35.976409555785459},{"$f":"ABS(V56)","v":35.976409555785459}]
[null,5800,350,1013,50,25,132,160,400,"Inox","oui","Inox","non","Vectra XL500",81000,2007,4400,850,{"$f":"O57*1.03^('Offre NEW'!$T$10-P57)","v":126195.36074466191}]
[null,6000,210,1013,20,18,147,200,400,"Fonte","oui","Acier","non","2BU5400-2BA46-Z",67100,2007,3400,null,{"$f":"O58*1.03^('Offre NEW'!$T$10-P58)","v":104539.61365391129},null,{"$f":"S58-(8.9775*B58+10791)","v":39883.613653911299},{"$f":"U58/S58*100","v":38.151675006136848},{"$f":"ABS(V58)","v":38.151675006136848}]
[null,6000,280,1013,30,18,122,160,400,"Inox","oui","Inox","non","2BE3 400 2HY3",136000,2007,5400,null,{"$f":"O59*1.03^('Offre NEW'!$T$10-P59)","v":211883.56865770396}]
[null,6000,350,1013,35,20,115,132,400,"Fonte","oui","Acier","non","2BE4002BY4",73000,2011,4200,2500,{"$f":"O60*1.03^('Offre NEW'!$T$10-P60)","v":101049.07256288452},null,{"$f":"S60-(8.9775*B60+10791)","v":36393.072562884532},{"$f":"U60/S60*100","v":36.01524649346635},{"$f":"ABS(V60)","v":36.01524649346635}]
[null,6000,350,1013,45,15,96,132,400,"Fonte","oui","Acier","non","2BE4 400 2BY4",71000,2011,4200,2500,{"$f":"O61*1.03^('Offre NEW'!$T$10-P61)","v":98280.604821435627},null,{"$f":"S61-(8.9775*B61+10791)","v":33624.604821435634},{"$f":"U61/S61*100","v":34.212859070747079},{"$f":"ABS(V61)","v":34.212859070747079}]
[null,6200,500,1013,50,20,105,132,400,"Inox","oui","Inox","non","VECTRA 2BE3",139500,2006,5200,null,{"$f":"O62*1.03^('Offre NEW'!$T$10-P62)","v":223856.54825428079}]
[null,6300,350,1013,30,20,130,200,400,"Fonte","oui","Acier","non","2BE3 420 2BY4",89200,2007,5825,2300,{"$f":"O63*1.03^('Offre NEW'!$T$10-P63)","v":138970.69356078818},null,{"$f":"S63-(8.9775*B63+10791)","v":71621.443560788175},{"$f":"U63/S63*100","v":51.537084348981622},{"$f":"ABS(V63)","v":51.537084348981622}]
[null,6300,500,1013,30,25,135,160,400,"Fonte","oui","Acier","non","2BE3 420 2BY3-Z",75000,2007,5825,2300,{"$f":"O64*1.03^('Offre NEW'!$T$10-P64)","v":116847.55624505733},null,49498.306245057334,42.361438985722152,42.361438985722152]
[null,6500,500,1013,25,20,130,200,400,"Fonte","oui","Acier","non","2BE3 420",72815,2006,3800,null,{"$f":"O65*1.03^('Offre NEW'!$T$10-P65)","v":116846.69936297818},null,47701.949362978179,40.824387529162941,40.824387529162941]
[null,6500,670,1013,40,27,130,160,400,"Fonte","oui","Acier","non","2BE4 400 2BY4",69000,2011,4200,2500,{"$f":"O66*1.03^('Offre NEW'!$T$10-P66)","v":95512.137079986744},null,26367.387079986744,27.606320920141641,27.606320920141641]
[null,6700,473,1013,20,18,151,200,400,"Fonte","oui","Acier","non","2BU5400-2BA46-Z",67000,2007,3400,null,{"$f":"O67*1.03^('Offre NEW'!$T$10-P67)","v":104383.81691225122},null,33443.566912251219,32.03903430774627,32.03903430774627]
[null,7000,500,1013,35,20,150,200,415,"Fonte","oui","Acier","non","2BE3 4002BY4-Z",88000,2008,3200,null,{"$f":"O68*1.03^('Offre NEW'!$T$10-P68)","v":133107.89578724976},null,59474.395787249756,44.681343233243972,44.681343233243972]
[null,7000,500,1013,30,20,140,200,400,"Inox","oui","Inox","non","2BE3 420 2HY3-Z",225000,2006,5825,null,{"$f":"O69*1.03^('Offre NEW'!$T$10-P69)","v":361058.94879722712}]
[null,7000,350,1013,45,25,125,200,400,"Fonte","oui","Acier","non","2BE3 400-2BY4-Z",72000,2007,4200,2200,{"$f":"O70*1.03^('Offre NEW'!$T$10-P70)","v":112173.65399525504},null,{"$f":"S70-(8.9775*B70+10791)","v":38540.153995255037},{"$f":"U70/S70*100","v":34.357580967171927},{"$f":"ABS(V70)","v":34.357580967171927}]
[null,7500,500,1013,25,20,160,200,400,"Fonte","oui","Acier","non","2BE3 420",72815,2006,3800,null,{"$f":"O71*1.03^('Offre NEW'!$T$10-P71)","v":116846.69936297818},null,38724.449362978179,33.141243675769303,33.141243675769303]
[null,8000,605,1013,20,18,156,200,400,"Fonte","oui","Acier","non","2BU5420-2BA46-Z",78000,2007,3400,null,{"$f":"O72*1.03^('Offre NEW'!$T$10-P72)","v":121521.45849485963},null,38910.458494859631,32.019413671294558,32.019413671294558]
[null,8000,350,1013,40,20,140,200,400,"Fonte","oui","Acier","non","2BE3 4202BY4-Z",75800,2007,5900,null,{"$f":"O73*1.03^('Offre NEW'!$T$10-P73)","v":118093.93017833795},null,35482.930178337949,30.046362353047172,30.046362353047172]
[null,8500,210,1013,20,18,236,315,400,"Fonte","oui","Acier","non","2BU5420-2BA46-Z",81000,2007,4100,null,{"$f":"O74*1.03^('Offre NEW'!$T$10-P74)","v":126195.36074466191},null,39095.610744661913,30.980228206460168,30.980228206460168]
[null,8500,215,1013,20,20,226,315,400,"Fonte","oui","Acier","non","2BE4 420",71700,2010,4200,2500,{"$f":"O75*1.03^('Offre NEW'!$T$10-P75)","v":102227.05558687101},null,15127.305586871007,14.797751436767198,14.797751436767198]
[null,8500,215,1013,20,20,180,250,400,"Fonte","oui","Acier","non","2BE4 500",81000,2010,6000,2500,{"$f":"O76*1.03^('Offre NEW'!$T$10-P76)","v":115486.63183454047},null,28386.881834540472,24.580231827360596,24.580231827360596]
[null,8500,215,1013,45,20,142,200,400,"Fonte","oui","Acier","non","2BE4 420",63200,2010,4200,2500,{"$f":"O77*1.03^('Offre NEW'!$T$10-P77)","v":90108.088048678488},null,3008.3380486784881,3.3385882597501277,3.3385882597501277]
[null,9000,350,1013,30,20,215,315,400,"Fonte","oui","Acier","non","2BE3 420 2BY3-Z",97300,2007,5825,2300,{"$f":"O78*1.03^('Offre NEW'!$T$10-P78)","v":151590.22963525439},null,60001.729635254407,39.581528294815769,39.581528294815769]
[null,9000,280,1013,30,20,230,315,690,"Inox","oui","Inox","non","2BE3 420 2HY3",239000,2006,5502,null,{"$f":"O79*1.03^(2012-P79)","v":285378.49887043098}]
[null,9100,280,940,30,20,211,250,400,"Fonte","oui","Acier","non","2BE4 420 2BY4-Z",101000,2009,5800,null,{"$f":"O80*1.03^('Offre NEW'!$T$10-P80)","v":148321.90505860795},null,{"$f":"S80-(8.9775*B80+10791)","v":55835.655058607968},{"$f":"U80/S80*100","v":37.644914981738573},{"$f":"ABS(V80)","v":37.644914981738573}]
[null,9300,500,1013,35,20,167,250,690,"Fonte","oui","Acier","non","2BE3 500 2xY3-Z",116000,2007,null,null,134475.79261879998]
[null,10000,500,1013,30,18,185,250,400,"Fonte","oui","Acier","non","2BE3 500",111735,2006,4504,null,{"$f":"O82*1.03^('Offre NEW'!$T$10-P82)","v":179301.87397270298},null,{"$f":"S82-(8.9775*B82+10791)","v":78735.87397270299},{"$f":"U82/S82*100","v":43.912465736241991},{"$f":"ABS(V82)","v":43.912465736241991}]
[null,10300,730,1013,20,20,215,250,400,"Fonte","oui","Acier","non","2BE3 500-2BY4-Z",128000,2009,6200,null,{"$f":"O83*1.03^('Offre NEW'!$T$10-P83)","v":187972.31532180018},null,84713.065321800197,45.066777613913636,45.066777613913636]
[null,10500,479,1013,35,20,250,315,400,"Fonte","oui","Acier","non","2BE3 420 OBY ",81000,2010,null,null,{"$f":"O84*1.03^('Offre NEW'!$T$10-P84)","v":115486.63183454047},null,10431.881834540487,9.0329778164163717,9.0329778164163717]
[null,10500,410,910,40,15,235,315,400,"Fonte","oui","Acier","non","2BE3 420 2BY4-Z",87200,2007,5825,2300,{"$f":"O85*1.03^('Offre NEW'!$T$10-P85)","v":135854.75872758665},null,30800.008727586668,22.671277043262247,22.671277043262247]
[null,11000,670,1013,45,27,193,250,400,"Fonte","oui","Acier","non","2BE4 500 2BY4",106000,2011,5900,2500,{"$f":"O86*1.03^('Offre NEW'!$T$10-P86)","v":146728.79029679121},null,37185.290296791223,25.34287253481461,25.34287253481461]
[null,11000,215,1013,20,20,256,315,400,"Fonte","oui","Acier","non","2BE4 500",85900,2010,6000,2500,{"$f":"O87*1.03^('Offre NEW'!$T$10-P87)","v":122472.86018008675},null,12929.360180086762,10.556918619419152,10.556918619419152]
[null,11000,350,1013,40,30,215,250,400,"Fonte","oui","Acier","non","2BE3 500 2BY3",112000,2006,4504,2200,{"$f":"O88*1.03^('Offre NEW'!$T$10-P88)","v":179727.12117906415},null,70183.621179064168,39.050100351376258,39.050100351376258]
[null,11000,280,1013,30,20,235,315,690,"Inox","oui","Inox","non","2BE3 500 2HY3",315000,2006,6502,2200,376126.47340663499]
[null,12000,350,1013,40,25,235,315,400,"Fonte ","oui","Acier","non","2BE3 500-2BY4-Z",129000,2007,6300,2200,{"$f":"O90*1.03^('Offre NEW'!$T$10-P90)","v":200977.79674149861},null,{"$f":"S90-(8.9775*B90+10791)","v":82456.79674149862},{"$f":"U90/S90*100","v":41.027814056274131},{"$f":"ABS(V90)","v":41.027814056274131}]
[null,12000,210,875,30,20,260,355,525,"Fonte","oui","Acier","non","2BE3 500-2BY4-Z",122200,2007,5980,null,{"$f":"O91*1.03^('Offre NEW'!$T$10-P91)","v":190383.61830861343},null,{"$f":"S91-(8.9775*B91+10791)","v":71862.618308613441},{"$f":"U91/S91*100","v":37.746219421107725},{"$f":"ABS(V91)","v":37.746219421107725}]
[null,12600,350,1013,50,20,205,250,400,"Fonte","oui","Acier","non","2BE3 500 2BY3",112000,2006,4504,null,{"$f":"O92*1.03^('Offre NEW'!$T$10-P92)","v":179727.12117906415},null,{"$f":"S92-(8.9775*B92+10791)","v":55819.621179064168},{"$f":"U92/S92*100","v":31.057984355878293},{"$f":"ABS(V92)","v":31.057984355878293}]
[null,12600,350,1013,50,20,205,250,400,"Inox","oui","Inox","non","2BE3 500 2HY3",234000,2006,7502,null,{"$f":"O93*1.03^('Offre NEW'!$T$10-P93)","v":375501.30674911616}]
[null,13000,170,840,30,20,360,630,6600,"Fonte","oui","Acier","non","2BE3 620",166000,2007,12000,null,192439.49633379997]
[null,13000,350,1013,25,20,306,350,400,"Fonte","oui","Acier","non","2BE4 500-2BY4-Z",103000,2010,6200,null,{"$f":"O95*1.03^('Offre NEW'!$T$10-P95)","v":146853.3713451564},null,{"$f":"S95-(8.9775*B95+10791)","v":19354.871345156411},{"$f":"U95/S95*100","v":13.17972557787982},{"$f":"ABS(V95)","v":13.17972557787982}]
[null,15000,500,1013,25,18,290,350,6600,"Fonte","oui","Acier","non","2BE3 600",175000,2006,9940,null,208959.151892575]
[null,15000,500,1013,35,20,280,355,400,"Fonte","oui","Acier","non","2BE3 600 2BY4 –Z",172000,2008,11600,null,{"$f":"O97*1.03^('Offre NEW'!$T$10-P97)","v":260165.43267507909},null,{"$f":"S97-(8.9775*B97+10791)","v":114711.93267507909},{"$f":"U97/S97*100","v":44.091919320558993},{"$f":"ABS(V97)","v":44.091919320558993}]
[null,15000,500,1013,30,20,350,400,6300,"Fonte","oui","Acier","non","2BE3 5202BY4-Z",200000,2007,5980,null,231854.81485999995]
[null,18000,280,932,20,15,385,450,6000,"Fonte","oui","Acier","non","2BE4 620 2BY4 –Z",240000,2008,13600,null,270122.11439999996]
[null,19000,265,950,50,30,340,400,415,"Fonte","oui","Acier","non","2BE3 600 2BY3",175000,2006,10000,null,{"$f":"O100*1.03^('Offre NEW'!$T$10-P100)","v":280823.62684228772},null,{"$f":"S100-(8.9775*B100+10791)","v":99460.126842287747},{"$f":"U100/S100*100","v":35.417293039287316},{"$f":"ABS(V100)","v":35.417293039287316}]
[null,19000,265,950,50,30,340,400,6600,"Fonte","oui","Acier","non","2BE3 600 2BY3",195000,2006,10000,null,232840.19782315497]
[null,20000,415,1013,40,20,405,450,6600,"Fonte","oui","Acier","non","2BE3 620 2BY3-Z",209200,2007,12000,null,242520.13634355998]
[null,20000,215,1013,20,15,450,500,400,"Fonte","oui","Acier","non","2BE4 670 2BY4-Z",227000,2010,15600,null,{"$f":"O103*1.03^('Offre NEW'!$T$10-P103)","v":323647.72131408256},null,{"$f":"S103-(8.9775*B103+10791)","v":133306.72131408259},{"$f":"U103/S103*100","v":41.188833578938024},{"$f":"ABS(V103)","v":41.188833578938024}]
[null,24000,500,1013,30,20,545,630,400,"Fonte","oui","Acier","non","2BE3 670 2BY4",205000,2007,13900,null,{"$f":"O104*1.03^('Offre NEW'!$T$10-P104)","v":319383.32040315669},null,{"$f":"S104-(8.9775*B104+10791)","v":93132.320403156715},{"$f":"U104/S104*100","v":29.160045141241582},{"$f":"ABS(V104)","v":29.160045141241582}]
[null,25000,500,1013,30,20,500,630,400,"Fonte","oui","Acier","non","2BE3 720 2BY3",238000,2006,14800,null,{"$f":"O105*1.03^('Offre NEW'!$T$10-P105)","v":381920.13250551134},null,{"$f":"S105-(8.9775*B105+10791)","v":146691.63250551137},{"$f":"U105/S105*100","v":38.408981360361913},{"$f":"ABS(V105)","v":38.408981360361913}]
[null,30000,500,1013,30,20,680,750,6300,"Fonte","oui","Acier","non","2BE3 7202BY4-Z",331000,2007,16200,null,383719.71859329997]
[]
[null,null,null,null,null,null,null,null,null,null,null,null,null,null,null,null,null,null,null,null,null,null,{"$f":"AVERAGE(W73:W105)","v":29.907904822909199}]
[]
[null,null,null,null,null,null,null,null,null,null,"Débit (m3/h/m²)","Prix (Euros)","Puissance (kW)"]
[null,null,null,null,null,null,null,null,null,null,25000,{"$f":"(13.829*K111+15285)*1.15","v":415161.49999999994},{"$f":"INDEX('PàV Nash'!N109:N123,MATCH('PàV Nash'!M109,'PàV Nash'!N109:N123)+1)","v":{"$error":"#N/A"}}]

{"sheet":"PàV Nash Inox Mot.400V","index":138,"n_rows":111,"n_cols":23,"rows_kept":111,"cut":false,"hidden":false,"merged":[]}
[null,"Débit (m3/h)","P vide (mb abs)","P atm (mb abs)","T gaz (°C)","Teau (°C)","P disp (KW)","P inst (kW)","Tension (V)","Matériau","Séparateur (oui/non)","Matériau séparateur","Echangeur (oui/non)","Type pompe","Prix (€)","Année","spares","franco Le Mele",{"$f":"\"Prix \" & 'Offre NEW'!$T$10 & \" (€)\"","v":"Prix 2022 (€)"}]
[null,300,350,1013,30,20,7.9,11,400,"Fonte","non",null,"non","VECTRA GL35",12780,2012,null,null,{"$f":"O2*1.03^('Offre NEW'!$T$10-P2)","v":17175.251328017875}]
[null,400,280,1013,30,20,11,15,400,"Fonte","oui","Acier","non","VECTRA GL45",7300,2006,null,null,{"$f":"O3*1.03^('Offre NEW'!$T$10-P3)","v":11714.357005421145}]
[null,400,280,1013,30,20,11,15,400,"Inox","oui","Inox","non","VECTRA XL45",14100,2006,null,null,{"$f":"O4*1.03^('Offre NEW'!$T$10-P4)","v":22626.360791292896},null,{"$f":"S4-(23.274*B4+2789.8)","v":10526.960791292895},{"$f":"U4/S4*100","v":46.525205217022318},{"$f":"ABS(V4)","v":46.525205217022318}]
[null,400,473,1013,20,18,13,18.5,400,"Fonte","oui","Acier","non","VECTRA XL60",11700,2007,900,null,{"$f":"O5*1.03^('Offre NEW'!$T$10-P5)","v":18228.218774228942}]
[null,500,350,1013,30,20,11.6,15,400,"Fonte","non",null,"non","VECTRA GL60",15700,2012,null,null,{"$f":"O6*1.03^('Offre NEW'!$T$10-P6)","v":21099.487155702711}]
[null,700,280,1013,30,20,16.5,18.5,400,"Fonte","oui","Acier","non","VECTRA GL80",8830,2006,null,null,{"$f":"O7*1.03^('Offre NEW'!$T$10-P7)","v":14169.557857242289}]
[null,700,280,1013,30,20,16.5,18.5,400,"Inox","oui","Inox","non","VECTRA XL80",17403,2006,null,null,{"$f":"O8*1.03^('Offre NEW'!$T$10-P8)","v":27926.706159636193},null,{"$f":"S8-(23.274*B8+2789.8)","v":8845.1061596361906},{"$f":"U8/S8*100","v":31.672572157544476},{"$f":"ABS(V8)","v":31.672572157544476}]
[null,750,350,1013,20,30,18.399999999999999,22,400,"Fonte","oui","Acier","non","VECTRA GL80",{"$f":"24900/2","v":12450},2006,400,null,{"$f":"O9*1.03^('Offre NEW'!$T$10-P9)","v":19978.595166779898}]
[null,750,350,1013,20,30,18.399999999999999,22,400,"Inox","oui","Inox","non","VECTRA XL80",{"$f":"45660/2","v":22830},2006,720,null,{"$f":"O10*1.03^('Offre NEW'!$T$10-P10)","v":36635.448004625308},null,{"$f":"S10-(23.274*B10+2789.8)","v":16390.148004625309},{"$f":"U10/S10*100","v":44.73849481124406},{"$f":"ABS(V10)","v":44.73849481124406}]
[null,750,350,1013,20,30,18.399999999999999,22,400,"Inox","oui","Inox","non","VECTRA XL80",21360,2007,720,null,{"$f":"O11*1.03^('Offre NEW'!$T$10-P11)","v":33278.184018592328},null,{"$f":"S11-(23.274*B11+2789.8)","v":13032.884018592329},{"$f":"U11/S11*100","v":39.163447174013264},{"$f":"ABS(V11)","v":39.163447174013264}]
[null,800,350,1013,35,20,17,22,400,"Fonte","oui","Acier","non","VECTRA XL100",19200,2008,1700,950,{"$f":"O12*1.03^('Offre NEW'!$T$10-P12)","v":29041.72271721813}]
[null,800,350,1013,35,20,17,22,400,"Fonte","oui","Acier","non","VECTRA GL100",18100,2008,1700,950,{"$f":"O13*1.03^('Offre NEW'!$T$10-P13)","v":27377.874019877509}]
[null,900,280,1013,50,20,17.899999999999999,30,400,"Inox","oui","Inox","non","VECTRA XL80",17170,2006,null,null,{"$f":"O14*1.03^('Offre NEW'!$T$10-P14)","v":27552.809559326175},null,{"$f":"S14-(23.274*B14+2789.8)","v":3816.4095593261736},{"$f":"U14/S14*100","v":13.851253720999864},{"$f":"ABS(V14)","v":13.851253720999864}]
[null,900,350,1013,30,20,22,30,400,"Fonte","oui","Acier","non","VECTRA GL30",13350,2008,1120,560,{"$f":"O15*1.03^('Offre NEW'!$T$10-P15)","v":20193.072826815733}]
[null,900,280,1013,50,20,17.899999999999999,22,400,"Inox","oui","Inox","non","VECTRA XL80",25550,2011,null,null,{"$f":"O16*1.03^('Offre NEW'!$T$10-P16)","v":35367.175397009582},null,{"$f":"S16-(23.274*B16+2789.8)","v":11630.77539700958},{"$f":"U16/S16*100","v":32.885791037734393},{"$f":"ABS(V16)","v":32.885791037734393}]
[null,1000,350,1013,30,20,23,30,400,"Inox","oui","Inox","non","VECTRA XL130",30500,2008,1750,850,{"$f":"O17*1.03^('Offre NEW'!$T$10-P17)","v":46133.986608080886},null,{"$f":"S17-(23.274*B17+2789.8)","v":20070.186608080887},{"$f":"U17/S17*100","v":43.504123713785809},{"$f":"ABS(V17)","v":43.504123713785809}]
[null,1200,280,1013,30,18,28,37,400,"Fonte","oui","Fonte","non","VECTRA GL130",13771,2006,null,null,{"$f":"O18*1.03^('Offre NEW'!$T$10-P18)","v":22098.412372829396}]
[null,1500,380,980,30,20,40,55,400,"Fonte","oui","Acier","non","VECTRA XL150",20950,2006,1013,null,{"$f":"O19*1.03^('Offre NEW'!$T$10-P19)","v":33618.599899119588}]
[null,1500,350,1013,30,20,35,45,400,"Fonte","oui","Acier","non","VECTRA XL150",18200,2008,1310,560,{"$f":"O20*1.03^('Offre NEW'!$T$10-P20)","v":27529.132992363022}]
[null,1600,350,1013,20,15,36,55,400,"Fonte","oui","Acier","non","VECTRA XL250",36000,2011,2900,2100,{"$f":"O21*1.03^('Offre NEW'!$T$10-P21)","v":49832.419346080038}]
[null,1800,200,850,40,30,40,75,400,"Inox","oui","Inox","non","VECTRA XL250",66500,2007,2975,null,{"$f":"O22*1.03^('Offre NEW'!$T$10-P22)","v":103604.83320395084},null,{"$f":"S22-(23.274*B22+2789.8)","v":58921.833203950831},{"$f":"U22/S22*100","v":56.871703164620243},{"$f":"ABS(V22)","v":56.871703164620243}]
[null,1800,350,1013,25,18,42,55,400,"Fonte","oui","Acier","non","VECTRA XL250",39690,2006,1820,null,{"$f":"O23*1.03^('Offre NEW'!$T$10-P23)","v":63690.798567830861}]
[null,1900,350,1013,30,20,45,55,400,"Inox","oui","Inox","non","VECTRA XL250",40500,2007,3400,850,{"$f":"O24*1.03^('Offre NEW'!$T$10-P24)","v":63097.680372330957},null,{"$f":"S24-(23.274*B24+2789.8)","v":16087.280372330955},{"$f":"U24/S24*100","v":25.495834834818126},{"$f":"ABS(V24)","v":25.495834834818126}]
[null,2000,350,1013,35,20,45,55,400,"Fonte","oui","Acier","non","VECTRA XL250",3200,2008,2015,950,{"$f":"O25*1.03^('Offre NEW'!$T$10-P25)","v":4840.287119536355}]
[null,2000,200,850,40,30,40,75,400,"Inox","oui","Inox","non","VECTRA XL350",89300,2007,3930,null,{"$f":"O26*1.03^('Offre NEW'!$T$10-P26)","v":139126.49030244828},null,{"$f":"S26-(23.274*B26+2789.8)","v":89788.690302448274},{"$f":"U26/S26*100","v":64.53745085300136},{"$f":"ABS(V26)","v":64.53745085300136}]
[null,2200,500,1013,50,20,45,55,400,"Inox","oui","Inox","non","VECTRA XL250",37320,2006,3510,null,{"$f":"O27*1.03^('Offre NEW'!$T$10-P27)","v":59887.644307166731},null,{"$f":"S27-(23.274*B27+2789.8)","v":5895.044307166725},{"$f":"U27/S27*100","v":9.8435067456164198},{"$f":"ABS(V27)","v":9.8435067456164198}]
[null,2500,350,1013,45,25,58,75,400,"Fonte","oui","Acier","non","VECTRA XL250",32250,2010,2800,1900,{"$f":"O28*1.03^('Offre NEW'!$T$10-P28)","v":45980.788600789259}]
[null,2500,280,1013,20,15,50,75,400,"Fonte","oui","Acier","non","VECTRA XL350",45000,2010,3150,2100,{"$f":"O29*1.03^('Offre NEW'!$T$10-P29)","v":64159.239908078038}]
[null,2500,350,1013,20,15,55,75,400,"Fonte","oui","Acier","non","VECTRA XL350",45000,2011,3150,2100,{"$f":"O30*1.03^('Offre NEW'!$T$10-P30)","v":62290.524182600049}]
[null,2800,280,1013,25,25,65,90,400,"Fonte","oui","Acier","non","VECTRA XL350",45000,2009,3150,2100,{"$f":"O31*1.03^('Offre NEW'!$T$10-P31)","v":66084.017105320381}]
[null,3000,350,1013,25,18,70,90,400,"Fonte","oui","Acier","non","VECTRA XL350",30990,2006,1680,null,{"$f":"O32*1.03^('Offre NEW'!$T$10-P32)","v":49729.852547671413}]
[null,3000,280,1013,30,18,70,90,400,"Inox","oui","Inox","non","VECTRA XL350",63000,2007,3930,null,{"$f":"O33*1.03^('Offre NEW'!$T$10-P33)","v":98151.947245848161},null,{"$f":"S33-(23.274*B33+2789.8)","v":25540.147245848158},{"$f":"U33/S33*100","v":26.021029600030182},{"$f":"ABS(V33)","v":26.021029600030182}]
[null,3000,280,1013,50,30,60,75,400,"Fonte","oui","Acier","non","VECTRA XL350",37000,2006,1820,500,{"$f":"O34*1.03^('Offre NEW'!$T$10-P34)","v":59374.138246655122}]
[null,3000,280,1013,50,30,60,75,400,"Fonte","oui","Acier","non","VECTRA XL350",39000,2007,1920,500,{"$f":"O35*1.03^('Offre NEW'!$T$10-P35)","v":60760.729247429816}]
[null,3000,280,1013,50,30,60,75,400,"Inox","oui","Inox","non","VECTRA XL350",58800,2007,3930,500,{"$f":"O36*1.03^('Offre NEW'!$T$10-P36)","v":91608.484096124943},null,{"$f":"S36-(23.274*B36+2789.8)","v":18996.68409612494},{"$f":"U36/S36*100","v":20.736817428603761},{"$f":"ABS(V36)","v":20.736817428603761}]
[null,3200,500,1013,38,32,66,90,400,"Fonte","oui","Acier","non","2BE3 300",43000,2006,3691,null,{"$f":"O37*1.03^('Offre NEW'!$T$10-P37)","v":69002.376881247837}]
[null,3500,200,850,40,30,60,90,400,"Inox","oui","Inox","non","VECTRA XL500",106000,2007,4400,null,{"$f":"O38*1.03^('Offre NEW'!$T$10-P38)","v":165144.54615968102},null,{"$f":"S38-(23.274*B38+2789.8)","v":80895.746159681017},{"$f":"U38/S38*100","v":48.984812420908874},{"$f":"ABS(V38)","v":48.984812420908874}]
[null,3500,350,1013,30,20,72,90,400,"Fonte","oui","Acier","non","VECTRA XL500",41000,2006,2650,null,{"$f":"O39*1.03^('Offre NEW'!$T$10-P39)","v":65792.964003050263}]
[null,3600,500,1013,50,20,75,90,400,"Inox","oui","Inox","non","VECTRA XL350",54600,2006,3930,null,{"$f":"O40*1.03^('Offre NEW'!$T$10-P40)","v":87616.971574793773},null,{"$f":"S40-(23.274*B40+2789.8)","v":1040.7715747937618},{"$f":"U40/S40*100","v":1.1878652686658002},{"$f":"ABS(V40)","v":1.1878652686658002}]
[null,3600,500,1013,50,20,75,90,400,"Inox","oui","Inox","non","VECTRA XL350",54600,2006,3930,null,{"$f":"O41*1.03^('Offre NEW'!$T$10-P41)","v":87616.971574793773},null,{"$f":"S41-(23.274*B41+2789.8)","v":1040.7715747937618},{"$f":"U41/S41*100","v":1.1878652686658002},{"$f":"ABS(V41)","v":1.1878652686658002}]
[null,3700,500,1013,35,20,72,90,400,"Fonte","oui","Acier","non","VECTRA XL500",63000,2007,2750,null,{"$f":"O42*1.03^('Offre NEW'!$T$10-P42)","v":98151.947245848161}]
[null,3800,350,1013,40,20,70,110,400,"Fonte","oui","Acier","non","2BE3 3002BY4-Z",48800,2007,4100,null,{"$f":"O43*1.03^('Offre NEW'!$T$10-P43)","v":76028.809930117306}]
[null,4000,280,1013,30,18,90,110,400,"Inox","oui","Inox","non","VECTRA XL500",76000,2007,4400,null,{"$f":"O44*1.03^('Offre NEW'!$T$10-P44)","v":118405.5236616581},null,{"$f":"S44-(23.274*B44+2789.8)","v":22519.723661658092},{"$f":"U44/S44*100","v":19.019149584615533},{"$f":"ABS(V44)","v":19.019149584615533}]
[null,4000,500,1013,35,25,83,110,400,"Fonte","oui","Acier","non","2BE3 320 2BY3-Z",56100,2007,4100,2100,{"$f":"O45*1.03^('Offre NEW'!$T$10-P45)","v":87401.97207130288}]
[null,4000,130,1013,45,20,48,90,400,"Fonte","oui","Acier","non","VECTRA XL350",41000,2007,1875,650,{"$f":"O46*1.03^('Offre NEW'!$T$10-P46)","v":63876.664080631344}]
[null,4000,350,1013,45,20,89,110,400,"Fonte","oui","Acier","non","VECTRA XL350",37000,2009,null,null,{"$f":"O47*1.03^('Offre NEW'!$T$10-P47)","v":54335.747397707863}]
[null,4560,230,900,45,30,80,110,400,"Inox","oui","Inox","non","VECTRA XL500",143200,2008,4210,1500,{"$f":"O48*1.03^('Offre NEW'!$T$10-P48)","v":216602.84859925188},null,{"$f":"S48-(23.274*B48+2789.8)","v":107683.60859925188},{"$f":"U48/S48*100","v":49.71477027916788},{"$f":"ABS(V48)","v":49.71477027916788}]
[null,5000,350,1013,30,20,120,160,400,"Fonte","oui","Acier","non","2BE3 320",53420,2006,3700,null,{"$f":"O49*1.03^('Offre NEW'!$T$10-P49)","v":85723.417976657205}]
[null,5000,350,1013,50,30,97,132,400,"Fonte","oui","Acier","non","2BE3 320 2BY3",50780,2006,3900,null,{"$f":"O50*1.03^('Offre NEW'!$T$10-P50)","v":81486.992977436414}]
[null,5100,500,1013,35,20,112,160,400,"Fonte","oui","Acier","non","2BE3 320 2BY3-Z",58250,2007,4900,2100,{"$f":"O51*1.03^('Offre NEW'!$T$10-P51)","v":90751.602016994526}]
[null,5100,500,1013,30,20,120,160,400,"Fonte","oui","Acier","non","2BE4 320 2B(H)Y4-Z",65000,2009,4200,null,{"$f":"O52*1.03^('Offre NEW'!$T$10-P52)","v":95454.691374351649}]
[null,5100,500,1013,30,20,120,160,400,"Inox","oui","Inox","non","2BE4 320 2B(H)Y4-Z",121000,2009,6200,null,{"$f":"O53*1.03^('Offre NEW'!$T$10-P53)","v":177692.57932763922},null,{"$f":"S53-(23.274*B53+2789.8)","v":56205.37932763921},{"$f":"U53/S53*100","v":31.630684601637011},{"$f":"ABS(V53)","v":31.630684601637011}]
[null,5100,350,1013,34,34,105,132,400,"Fonte","oui","Acier","non","2BE4 400 2BY4",65000,2011,4200,2500,{"$f":"O54*1.03^('Offre NEW'!$T$10-P54)","v":89975.201597088962}]
[null,5200,230,900,45,20,80,110,400,"Fonte","oui","Acier","non","VECTRA XL500",57700,2007,2750,1500,{"$f":"O55*1.03^('Offre NEW'!$T$10-P55)","v":89894.719937864109}]
[null,5300,350,1013,30,20,130,160,400,"Fonte","oui","Acier","non","2BE3 320 2BY3-Z",58520,2007,4100,2100,{"$f":"O56*1.03^('Offre NEW'!$T$10-P56)","v":91172.253219476741}]
[null,5800,350,1013,50,25,132,160,400,"Inox","oui","Inox","non","Vectra XL500",81000,2007,4400,850,{"$f":"O57*1.03^('Offre NEW'!$T$10-P57)","v":126195.36074466191},null,{"$f":"S57-(23.274*B57+2789.8)","v":-11583.639255338087},{"$f":"U57/S57*100","v":-9.1791324078671224},{"$f":"ABS(V57)","v":9.1791324078671224}]
[null,6000,210,1013,20,18,147,200,400,"Fonte","oui","Acier","non","2BU5400-2BA46-Z",67100,2007,3400,null,{"$f":"O58*1.03^('Offre NEW'!$T$10-P58)","v":104539.61365391129}]
[null,6000,280,1013,30,18,122,160,400,"Inox","oui","Inox","non","2BE3 400 2HY3",136000,2007,5400,null,{"$f":"O59*1.03^('Offre NEW'!$T$10-P59)","v":211883.56865770396},null,{"$f":"S59-(23.274*B59+2789.8)","v":69449.768657703971},{"$f":"U59/S59*100","v":32.777326291827499},{"$f":"ABS(V59)","v":32.777326291827499}]
[null,6000,350,1013,35,20,115,132,400,"Fonte","oui","Acier","non","2BE4002BY4",73000,2011,4200,2500,{"$f":"O60*1.03^('Offre NEW'!$T$10-P60)","v":101049.07256288452}]
[null,6000,350,1013,45,15,96,132,400,"Fonte","oui","Acier","non","2BE4 400 2BY4",71000,2011,4200,2500,{"$f":"O61*1.03^('Offre NEW'!$T$10-P61)","v":98280.604821435627}]
[null,6200,500,1013,50,20,105,132,400,"Inox","oui","Inox","non","VECTRA 2BE3",139500,2006,5200,null,{"$f":"O62*1.03^('Offre NEW'!$T$10-P62)","v":223856.54825428079},null,{"$f":"S62-(23.274*B62+2789.8)","v":76767.948254280782},{"$f":"U62/S62*100","v":34.293367271561493},{"$f":"ABS(V62)","v":34.293367271561493}]
[null,6300,350,1013,30,20,130,200,400,"Fonte","oui","Acier","non","2BE3 420 2BY4",89200,2007,5825,2300,{"$f":"O63*1.03^('Offre NEW'!$T$10-P63)","v":138970.69356078818}]
[null,6300,500,1013,30,25,135,160,400,"Fonte","oui","Acier","non","2BE3 420 2BY3-Z",75000,2007,5825,2300,{"$f":"O64*1.03^('Offre NEW'!$T$10-P64)","v":116847.55624505733}]
[null,6500,500,1013,25,20,130,200,400,"Fonte","oui","Acier","non","2BE3 420",72815,2006,3800,null,{"$f":"O65*1.03^('Offre NEW'!$T$10-P65)","v":116846.69936297818}]
[null,6500,670,1013,40,27,130,160,400,"Fonte","oui","Acier","non","2BE4 400 2BY4",69000,2011,4200,2500,{"$f":"O66*1.03^('Offre NEW'!$T$10-P66)","v":95512.137079986744}]
[null,6700,473,1013,20,18,151,200,400,"Fonte","oui","Acier","non","2BU5400-2BA46-Z",67000,2007,3400,null,{"$f":"O67*1.03^('Offre NEW'!$T$10-P67)","v":104383.81691225122}]
[null,7000,500,1013,35,20,150,200,415,"Fonte","oui","Acier","non","2BE3 4002BY4-Z",88000,2008,3200,null,{"$f":"O68*1.03^('Offre NEW'!$T$10-P68)","v":133107.89578724976}]
[null,7000,500,1013,30,20,140,200,400,"Inox","oui","Inox","non","2BE3 420 2HY3-Z",225000,2006,5825,null,{"$f":"O69*1.03^('Offre NEW'!$T$10-P69)","v":361058.94879722712},null,{"$f":"S69-(23.274*B69+2789.8)","v":195351.14879722713},{"$f":"U69/S69*100","v":54.105056652933847},{"$f":"ABS(V69)","v":54.105056652933847}]
[null,7000,350,1013,45,25,125,200,400,"Fonte","oui","Acier","non","2BE3 400-2BY4-Z",72000,2007,4200,2200,{"$f":"O70*1.03^('Offre NEW'!$T$10-P70)","v":112173.65399525504}]
[null,7500,500,1013,25,20,160,200,400,"Fonte","oui","Acier","non","2BE3 420",72815,2006,3800,null,{"$f":"O71*1.03^('Offre NEW'!$T$10-P71)","v":116846.69936297818}]
[null,8000,605,1013,20,18,156,200,400,"Fonte","oui","Acier","non","2BU5420-2BA46-Z",78000,2007,3400,null,{"$f":"O72*1.03^('Offre NEW'!$T$10-P72)","v":121521.45849485963}]
[null,8000,350,1013,40,20,140,200,400,"Fonte","oui","Acier","non","2BE3 4202BY4-Z",75800,2007,5900,null,{"$f":"O73*1.03^('Offre NEW'!$T$10-P73)","v":118093.93017833795}]
[null,8500,210,1013,20,18,236,315,400,"Fonte","oui","Acier","non","2BU5420-2BA46-Z",81000,2007,4100,null,{"$f":"O74*1.03^('Offre NEW'!$T$10-P74)","v":126195.36074466191}]
[null,8500,215,1013,20,20,226,315,400,"Fonte","oui","Acier","non","2BE4 420",71700,2010,4200,2500,{"$f":"O75*1.03^('Offre NEW'!$T$10-P75)","v":102227.05558687101}]
[null,8500,215,1013,20,20,180,250,400,"Fonte","oui","Acier","non","2BE4 500",81000,2010,6000,2500,{"$f":"O76*1.03^('Offre NEW'!$T$10-P76)","v":115486.63183454047}]
[null,8500,215,1013,45,20,142,200,400,"Fonte","oui","Acier","non","2BE4 420",63200,2010,4200,2500,{"$f":"O77*1.03^('Offre NEW'!$T$10-P77)","v":90108.088048678488}]
[null,9000,350,1013,30,20,215,315,400,"Fonte","oui","Acier","non","2BE3 420 2BY3-Z",97300,2007,5825,2300,{"$f":"O78*1.03^('Offre NEW'!$T$10-P78)","v":151590.22963525439}]
[null,9000,280,1013,30,20,230,315,690,"Inox","oui","Inox","non","2BE3 420 2HY3",239000,2006,5502,null,{"$f":"O79*1.03^('Offre NEW'!$T$10-P79)","v":383524.83894461009},null,{"$f":"S79-(23.274*B79+2789.8)","v":171269.0389446101},{"$f":"U79/S79*100","v":44.656570201792157},{"$f":"ABS(V79)","v":44.656570201792157}]
[null,9100,280,940,30,20,211,250,400,"Fonte","oui","Acier","non","2BE4 420 2BY4-Z",101000,2009,5800,null,{"$f":"O80*1.03^('Offre NEW'!$T$10-P80)","v":148321.90505860795}]
[null,9300,500,1013,35,20,167,250,690,"Fonte","oui","Acier","non","2BE3 500 2xY3-Z",116000,2007,null,null,{"$f":"O81*1.03^('Offre NEW'!$T$10-P81)","v":180724.22032568869}]
[null,10000,500,1013,30,18,185,250,400,"Fonte","oui","Acier","non","2BE3 500",111735,2006,4504,null,{"$f":"O82*1.03^('Offre NEW'!$T$10-P82)","v":179301.87397270298}]
[null,10300,730,1013,20,20,215,250,400,"Fonte","oui","Acier","non","2BE3 500-2BY4-Z",128000,2009,6200,null,{"$f":"O83*1.03^('Offre NEW'!$T$10-P83)","v":187972.31532180018}]
[null,10500,479,1013,35,20,250,315,400,"Fonte","oui","Acier","non","2BE3 420 OBY ",81000,2010,null,null,{"$f":"O84*1.03^('Offre NEW'!$T$10-P84)","v":115486.63183454047}]
[null,10500,410,910,40,15,235,315,400,"Fonte","oui","Acier","non","2BE3 420 2BY4-Z",87200,2007,5825,2300,{"$f":"O85*1.03^('Offre NEW'!$T$10-P85)","v":135854.75872758665}]
[null,11000,670,1013,45,27,193,250,400,"Fonte","oui","Acier","non","2BE4 500 2BY4",106000,2011,5900,2500,{"$f":"O86*1.03^('Offre NEW'!$T$10-P86)","v":146728.79029679121}]
[null,11000,215,1013,20,20,256,315,400,"Fonte","oui","Acier","non","2BE4 500",85900,2010,6000,2500,{"$f":"O87*1.03^('Offre NEW'!$T$10-P87)","v":122472.86018008675}]
[null,11000,350,1013,40,30,215,250,400,"Fonte","oui","Acier","non","2BE3 500 2BY3",112000,2006,4504,2200,{"$f":"O88*1.03^('Offre NEW'!$T$10-P88)","v":179727.12117906415}]
[null,11000,280,1013,30,20,235,315,690,"Inox","oui","Inox","non","2BE3 500 2HY3",315000,2006,6502,2200,{"$f":"O89*1.03^('Offre NEW'!$T$10-P89)","v":505482.52831611794},null,{"$f":"S89-(23.274*B89+2789.8)","v":246678.72831611795},{"$f":"U89/S89*100","v":48.800643839830279},{"$f":"ABS(V89)","v":48.800643839830279}]
[null,12000,350,1013,40,25,235,315,400,"Fonte ","oui","Acier","non","2BE3 500-2BY4-Z",129000,2007,6300,2200,{"$f":"O90*1.03^('Offre NEW'!$T$10-P90)","v":200977.79674149861}]
[null,12000,210,875,30,20,260,355,525,"Fonte","oui","Acier","non","2BE3 500-2BY4-Z",122200,2007,5980,null,{"$f":"O91*1.03^('Offre NEW'!$T$10-P91)","v":190383.61830861343}]
[null,12600,350,1013,50,20,205,250,400,"Fonte","oui","Acier","non","2BE3 500 2BY3",112000,2006,4504,null,{"$f":"O92*1.03^('Offre NEW'!$T$10-P92)","v":179727.12117906415}]
[null,12600,350,1013,50,20,205,250,400,"Inox","oui","Inox","non","2BE3 500 2HY3",234000,2006,7502,null,{"$f":"O93*1.03^('Offre NEW'!$T$10-P93)","v":375501.30674911616},null,{"$f":"S93-(23.274*B93+2789.8)","v":79459.106749116152},{"$f":"U93/S93*100","v":21.160806985474807},{"$f":"ABS(V93)","v":21.160806985474807}]
[null,13000,170,840,30,20,360,630,6600,"Fonte","oui","Acier","non","2BE3 620",166000,2007,12000,null,{"$f":"O94*1.03^('Offre NEW'!$T$10-P94)","v":258622.5911557269}]
[null,13000,350,1013,25,20,306,350,400,"Fonte","oui","Acier","non","2BE4 500-2BY4-Z",103000,2010,6200,null,{"$f":"O95*1.03^('Offre NEW'!$T$10-P95)","v":146853.3713451564}]
[null,15000,500,1013,25,18,290,350,6600,"Fonte","oui","Acier","non","2BE3 600",175000,2006,9940,null,{"$f":"O96*1.03^('Offre NEW'!$T$10-P96)","v":280823.62684228772}]
[null,15000,500,1013,35,20,280,355,400,"Fonte","oui","Acier","non","2BE3 600 2BY4 –Z",172000,2008,11600,null,{"$f":"O97*1.03^('Offre NEW'!$T$10-P97)","v":260165.43267507909}]
[null,15000,500,1013,30,20,350,400,6300,"Fonte","oui","Acier","non","2BE3 5202BY4-Z",200000,2007,5980,null,{"$f":"O98*1.03^('Offre NEW'!$T$10-P98)","v":311593.48332015291}]
[null,18000,280,932,20,15,385,450,6000,"Fonte","oui","Acier","non","2BE4 620 2BY4 –Z",240000,2008,13600,null,{"$f":"O99*1.03^('Offre NEW'!$T$10-P99)","v":363021.53396522667}]
[null,19000,265,950,50,30,340,400,415,"Fonte","oui","Acier","non","2BE3 600 2BY3",175000,2006,10000,null,{"$f":"O100*1.03^('Offre NEW'!$T$10-P100)","v":280823.62684228772}]
[null,19000,265,950,50,30,340,400,6600,"Fonte","oui","Acier","non","2BE3 600 2BY3",195000,2006,10000,null,{"$f":"O101*1.03^('Offre NEW'!$T$10-P101)","v":312917.75562426349}]
[null,20000,415,1013,40,20,405,450,6600,"Fonte","oui","Acier","non","2BE3 620 2BY3-Z",209200,2007,12000,null,{"$f":"O102*1.03^('Offre NEW'!$T$10-P102)","v":325926.78355287993}]
[null,20000,215,1013,20,15,450,500,400,"Fonte","oui","Acier","non","2BE4 670 2BY4-Z",227000,2010,15600,null,{"$f":"O103*1.03^('Offre NEW'!$T$10-P103)","v":323647.72131408256}]
[null,24000,500,1013,30,20,545,630,400,"Fonte","oui","Acier","non","2BE3 670 2BY4",205000,2007,13900,null,{"$f":"O104*1.03^('Offre NEW'!$T$10-P104)","v":319383.32040315669}]
[null,25000,500,1013,30,20,500,630,400,"Fonte","oui","Acier","non","2BE3 720 2BY3",238000,2006,14800,null,{"$f":"O105*1.03^('Offre NEW'!$T$10-P105)","v":381920.13250551134}]
[null,30000,500,1013,30,20,680,750,6300,"Fonte","oui","Acier","non","2BE3 7202BY4-Z",331000,2007,16200,null,{"$f":"O106*1.03^('Offre NEW'!$T$10-P106)","v":515687.21489485301}]
[]
[null,null,null,null,null,null,null,null,null,null,null,null,null,null,null,null,null,null,null,null,null,null,{"$f":"AVERAGE(W4:W93)","v":32.790203135922397}]
[]
[null,null,null,null,null,null,null,null,null,null,"Débit (m3/h/m²)","Prix (Euros)"]
[null,null,null,null,null,null,null,null,null,null,11000,{"$f":"(37.362*K111+1627.5)*1.2","v":495131.39999999997}]

{"sheet":"Pompe centrifuge GROSCLAUDE","index":139,"n_rows":35,"n_cols":18,"rows_kept":35,"cut":false,"hidden":false,"merged":[]}
[]
[null,"Type de pompe Ex-Bx","MOC","HMT (mCL)","Débit (m3/h)","NPSH requis","Prix (Euros)"]
[null,"EX109/3X-95/90/90-0,55-2I","316L",25,1,1,3109]
[null,"EX216X-160-2,2-2I","316L",25,2,1,3163]
[null,"EX216X-160-2,2-2I","316L",25,3,1,3163]
[null,"EX216X-160-2,2-2I","316L",25,4,1.2,3163,null,null,null,null,null,null,null,null,null,"Débit (m3/h)","Prix (Euros)"]
[null,"EX216X-160-2,2-2I","316L",25,5,1.4,3163,null,null,null,null,null,null,null,null,"Pompe filtrats 1",{"$f":"Calculations!V15","v":20},{"$f":"IF(Q7=0,0,IF(Q7<5,$G$7,IF(Q7<30,$G$9, IF(Q7<50,$G$14,IF(Q7<=75,$G$15,\"CONSULTATION\")))))","v":3759}]
[null,"EX315X-160-2,2-2I","316L",25,10,1.6,3759,null,null,null,null,null,null,null,null,"Pompe filtrats 2",{"$f":"Calculations!V16","v":30},{"$f":"IF(Q8=0,0,IF(Q8<5,$G$7,IF(Q8<30,$G$9, IF(Q8<50,$G$14,IF(Q8<=75,$G$15,IF(Q8=\"N/A\",0,\"CONSULTATION\"))))))","v":5898}]
[null,"EX315X-160-2,2-2I","316L",23,15,3.1,3759,null,null,null,null,null,null,null,null,"Pompe filtrats 3",{"$f":"Calculations!V17","v":50},{"$f":"IF(Q9=0,0,IF(Q9<5,$G$7,IF(Q9<30,$G$9, IF(Q9<50,$G$14,IF(Q9<=75,$G$15,IF(Q9=\"N/A\",0,\"CONSULTATION\"))))))","v":6911}]
[null,"EX414X-149-4-2I","316L",25,20,3.4,3682,null,null,null,null,null,null,null,null,"Pompe filtrats 4",{"$f":"Calculations!V18","v":400},"CONSULTATION"]
[null,"EX414X-149-4-2I","316L",24,25,5,3682,null,null,null,null,null,null,null,null,"Pompe TB",{"$f":"ROUNDUP((Calculations!$G$41+((Calculations!$Q$39+Calculations!$Q$40)/1000)),2)","v":{"$error":"#VALUE!"}},{"$f":"IF(Q11=0,0,IF(Q11<5,$G$7,IF(Q11<30,$G$9, IF(Q11<50,$G$14,IF(Q11<=75,$G$15,\"CONSULTATION\")))))","v":{"$error":"#VALUE!"}}]
[null,"BX516X-155-4-2I","316L",24,30,3.3,5555]
[null,"BX516X-175-7,5-2I","316L",25,40,4,5898]
[null,"BX516X-175-7,5-2I","316L",25,50,4.9000000000000004,5898]
[null,"BX619X-175-11-2I","316L",25,75,4,6911]
[]
[null,"Type de pompe Alfa","MOC","HMT (mCL)","Débit (m3/h)","NPSH requis","Prix (Euros)"]
[null,"Alfa 32-16F-164-4-2I","Fonte",25,20,2.6,2599.35]
[null,"Alfa 40-16F-154-4-2I","Fonte",25,25,1.7,2702.1]
[null,"Alfa 40-16F-160-5,5-2I","Fonte",25,30,2.2999999999999998,2809.1]
[null,"Alfa 50-16F-150-7,5-2I","Fonte",25,40,2.2000000000000002,3128.95]
[null,"Alfa 50-16F-154-7,5-2I","Fonte",25,50,2.5,3128.95]
[null,"Alfa 65-16F-156-9-2I","Fonte",25,75,2.4,3297.375]
[null,"Alfa 65-16F-162-11-2I","Fonte",25,100,3.4,3602.375]
[null,"Alfa 65-16F-168-15-2I","Fonte",25,125,5.6,4045.375]
[null,"Alfa 80-16F-164-15-2I","Fonte",25,150,4,4276.4250000000002]
[null,"Alfa 125-33F-295-18,5-4I","Fonte",25,200,2.4,6220.3249999999998,null,null,null,null,null,null,null,null,null,"Débit (m3/h)","Prix (Euros)"]
[null,"Alfa 125-33F-310-30-4I","Fonte",25,250,3.9,7625.3249999999998,null,null,null,null,null,null,null,null,"Pompe filtrats 1",{"$f":"Calculations!V15","v":20},{"$f":"IF(Q28=0,0,IF(Q28>700,\"CONSULTATION\",20.83*Q28+1958))","v":2374.6}]
[null,"Alfa 150-33F-290-30-4I","Fonte",25,300,2.5,8586.4500000000007,null,null,null,null,null,null,null,null,"Pompe filtrats 2",{"$f":"Calculations!V16","v":30},{"$f":"IF(Q29=0,0,IF(Q29>700,\"CONSULTATION\",20.83*Q29+1958))","v":2582.9}]
[null,"Alfa 150-33F-300-30-4I","Fonte",25,350,3,8586.4500000000007,null,null,null,null,null,null,null,null,"Pompe filtrats 3",{"$f":"Calculations!V17","v":50},2999.5]
[null,"Alfa 150-33F-310-37-4I","Fonte",25,400,3.75,9480.4500000000007,null,null,null,null,null,null,null,null,"Pompe filtrats 4",{"$f":"Calculations!V18","v":400},10290]
[null,"Alfa 200-33F-300-45-4I","Fonte",25,450,3.2,12396,null,null,null,null,null,null,null,null,"Pompe TB",{"$f":"ROUNDUP((Calculations!$G$41+((Calculations!$Q$39+Calculations!$Q$40)/1000)),2)","v":{"$error":"#VALUE!"}},{"$error":"#VALUE!"}]
[null,"Alfa 200-33F-305-55-4I","Fonte",25,500,3.5,13673]
[null,"Alfa 200-33F-310-55-4I","Fonte",25,600,4.2,13673]
[null,"Alfa 200-33F-320-75-4I","Fonte",25,700,5,16335]

{"sheet":"Pompe centrifuge SULZER","index":140,"n_rows":43,"n_cols":11,"rows_kept":43,"cut":false,"hidden":false,"merged":[]}
[null,"Type de pompe","MOC","Débit (m3/h)","Pabs (kW)","Pinst (kW)","HMT (mCL)","NPSH requis","Année","Prix (Euros)",{"$f":"\"Prix \" & 'Offre NEW'!$T$10 & \" (Euros)\"","v":"Prix 2022 (Euros)"}]
[null,"A23-50","A890-1B (CD4MCu)",50,8.3000000000000007,11,25,0.6,2009,9240,{"$f":"J2*1.03^('Offre NEW'!$T$10-I2)","v":13569.251512292451}]
[null,"A32-80","A890-1B (CD4MCu)",80,8.6,15,25,0.8,2009,10580,{"$f":"J3*1.03^('Offre NEW'!$T$10-I3)","v":15537.086688317546}]
[null,"A22-80-GM","A890-1B (CD4MCu)",110,8.6,11,20,1.6,2007,11460,{"$f":"J4*1.03^('Offre NEW'!$T$10-I4)","v":17854.306594244761}]
[null,"A32-100","A890-1B (CD4MCu)",150,15.4,18.5,25,1.2,2009,11490,{"$f":"J5*1.03^('Offre NEW'!$T$10-I5)","v":16873.452367558468}]
[null,"A31-100-GM","A890-1B (CD4MCu)",210,14.5,18.5,20,2.4,2007,13310,{"$f":"J6*1.03^('Offre NEW'!$T$10-I6)","v":20736.546314956173}]
[null,"A31-125-GM","A890-1B (CD4MCu)",270,18.2,22,20,2.6,2007,14410,{"$f":"J7*1.03^('Offre NEW'!$T$10-I7)","v":22450.310473217014}]
[null,"A31-100-GM","A890-1B (CD4MCu)",320,21.1,30,20,3,2007,14770,{"$f":"J8*1.03^('Offre NEW'!$T$10-I8)","v":23011.17874319329}]
[null,"A23-40","A890-3A (CD6MN - AISI 329)",10,2.7,4,25,0.8,2007,6860,{"$f":"J9*1.03^('Offre NEW'!$T$10-I9)","v":10687.656477881244}]
[null,"A11-40","A890-3A (CD6MN - AISI 329)",15,1.5,3,15,null,2007,5250,{"$f":"J10*1.03^('Offre NEW'!$T$10-I10)","v":8179.3289371540131}]
[null,"A11-41","A890-3A (CD6MN - AISI 329)",15,1.4,3,15,null,2007,5250,{"$f":"J11*1.03^('Offre NEW'!$T$10-I11)","v":8179.3289371540131}]
[null,"A11-42","A890-3A (CD6MN - AISI 329)",15,1.3,3,15,null,2007,5250,{"$f":"J12*1.03^('Offre NEW'!$T$10-I12)","v":8179.3289371540131}]
[null,"A23-40","A890-3A (CD6MN - AISI 329)",15,2.9,4,25,0.8,2007,7090,{"$f":"J13*1.03^('Offre NEW'!$T$10-I13)","v":11045.988983699421}]
[null,"A11-43","A890-3A (CD6MN - AISI 329)",20,1.5,3,15,null,2007,5250,{"$f":"J14*1.03^('Offre NEW'!$T$10-I14)","v":8179.3289371540131}]
[null,"A23-50-GM","A890-3A (CD6MN - AISI 329)",30,6.8,11,27,0.95,2008,11390,{"$f":"J15*1.03^('Offre NEW'!$T$10-I15)","v":17228.396966099714}]
[null,"A11-40","A890-3A (CD6MN - AISI 329)",30,8.9,15,60,1,2009,6010,{"$f":"J16*1.03^('Offre NEW'!$T$10-I16)","v":8825.8876178438986}]
[null,"A23-50-GM","A890-3A (CD6MN - AISI 329)",35,6.7,11,27,1,2008,11390,{"$f":"J17*1.03^('Offre NEW'!$T$10-I17)","v":17228.396966099714}]
[null,"A23-50","A890-3A (CD6MN - AISI 329)",40,5.9,7.5,25,1,2007,7660,{"$f":"J18*1.03^('Offre NEW'!$T$10-I18)","v":11934.030411161855}]
[null,"A23-50-GM","A890-3A (CD6MN - AISI 329)",45,8.6999999999999993,11,27,1.1000000000000001,2008,11390,{"$f":"J19*1.03^('Offre NEW'!$T$10-I19)","v":17228.396966099714}]
[null,"A32-65","A890-3A (CD6MN - AISI 329)",50,6,7.5,25,0.9,2010,9430,{"$f":"J20*1.03^('Offre NEW'!$T$10-I20)","v":13444.925162959464}]
[null,"A22-65","A890-3A (CD6MN - AISI 329)",50,3.3,4,15,1.1000000000000001,2009,6570,{"$f":"J21*1.03^('Offre NEW'!$T$10-I21)","v":9648.2664973767751}]
[null,"A32-65","A890-3A (CD6MN - AISI 329)",50,6.1,7.5,25,1,2007,8160,{"$f":"J22*1.03^('Offre NEW'!$T$10-I22)","v":12713.014119462237}]
[null,"A23-50","A890-3A (CD6MN - AISI 329)",60,6.9,11,25,1.1000000000000001,2007,8000,{"$f":"J23*1.03^('Offre NEW'!$T$10-I23)","v":12463.739332806115}]
[null,"A32-80-GM","A890-3A (CD6MN - AISI 329)",90,10.9,15,27,1.35,2008,12930,{"$f":"J24*1.03^('Offre NEW'!$T$10-I24)","v":19557.785142376586}]
[null,"A22-80","A890-3A (CD6MN - AISI 329)",90,5,7.5,15,null,2007,7270,{"$f":"J25*1.03^('Offre NEW'!$T$10-I25)","v":11326.423118687557}]
[null,"A32-81","A890-3A (CD6MN - AISI 329)",100,10,15,25,null,2008,9560,{"$f":"J26*1.03^('Offre NEW'!$T$10-I26)","v":14460.35776961486}]
[null,"A33-100-GM","A890-3A (CD6MN - AISI 329)",110,9,15,20,null,2007,13150,{"$f":"J27*1.03^('Offre NEW'!$T$10-I27)","v":20487.271528300051}]
[null,"A32-80","A890-3A (CD6MN - AISI 329)",120,11.5,15,25,null,2008,9560,{"$f":"J28*1.03^('Offre NEW'!$T$10-I28)","v":14460.35776961486}]
[null,"A23-40","A890-3A (CD6MN - AISI 329)",150,2.9,4,25,0.6,2010,8330,{"$f":"J29*1.03^('Offre NEW'!$T$10-I29)","v":11876.588187428668}]
[null,"A32-100","A890-3A (CD6MN - AISI 329)",160,15.6,22,25,1.8,2007,9310,{"$f":"J30*1.03^('Offre NEW'!$T$10-I30)","v":14504.676648553117}]
[null,"A32-100 O","A890-3A (CD6MN - AISI 329)",180,23.15,30,25,1.9,2009,10032,{"$f":"J31*1.03^('Offre NEW'!$T$10-I31)","v":14732.330213346089}]
[null,"W32-125","A890-3A (CD6MN - AISI 329)",200,16.600000000000001,22,20,2.5,2007,14600,{"$f":"J32*1.03^('Offre NEW'!$T$10-I32)","v":22746.324282371159}]
[null,"A31-125 O","A890-3A (CD6MN - AISI 329)",238,12.95,18.5,15.5,2.5,2010,10681,{"$f":"J33*1.03^('Offre NEW'!$T$10-I33)","v":15228.552032404034}]
[null,"A31-125","A890-3A (CD6MN - AISI 329)",270,20,30,20,2.6,2008,7970,{"$f":"J34*1.03^('Offre NEW'!$T$10-I34)","v":12055.340107095235}]
[null,"A31-125","A890-3A (CD6MN - AISI 329)",270,20,30,20,2.6,2008,8470,{"$f":"J35*1.03^('Offre NEW'!$T$10-I35)","v":12811.634969522791}]
[null,"A31-125-GM","A890-3A (CD6MN - AISI 329)",270,20,30,20,2.6,2008,12430,{"$f":"J36*1.03^('Offre NEW'!$T$10-I36)","v":18801.49027994903}]
[null,"A31-125","A890-3A (CD6MN - AISI 329)",320,23,30,20,2.7,2009,12310,{"$f":"J37*1.03^('Offre NEW'!$T$10-I37)","v":18077.650012588751}]
[null,"A42-150 O","A890-3A (CD6MN - AISI 329)",333,29.71,37,25.89,2.8,2010,15164,{"$f":"J38*1.03^('Offre NEW'!$T$10-I38)","v":21620.238088135451}]
[null,"A51-250 O","A890-3A (CD6MN - AISI 329)",1000,88.58,90,25.38,2.9,2012,37200,{"$f":"J39*1.03^('Offre NEW'!$T$10-I39)","v":49993.689311601331}]
[null,"A51-250-LM O","A890-3A (CD6MN - AISI 329)",1000,81.59,90,25.38,2.9,2012,58750,{"$f":"J40*1.03^('Offre NEW'!$T$10-I40)","v":78955.087286467155}]
[null,"A11-40","A890-5A (U45N)",35,null,6.6,20,null,2007,7040,{"$f":"J41*1.03^('Offre NEW'!$T$10-I41)","v":10968.090612869382}]
[null,"A11-40-LM","A890-5A (U45N)",35,null,6.6,20,null,2007,10970,{"$f":"J42*1.03^('Offre NEW'!$T$10-I42)","v":17090.902560110386}]
[null,"A32-65","Avesta 654SMO",50,6,7.5,25,0.9,2010,14730,{"$f":"J43*1.03^('Offre NEW'!$T$10-I43)","v":21001.45786324421}]

{"sheet":"Pompe centrifuge SULZER A890-3A","index":141,"n_rows":51,"n_cols":15,"rows_kept":51,"cut":false,"hidden":false,"merged":[]}
[null,"Type de pompe","MOC","Débit (m3/h)","Pabs (kW)","Pinst (kW)","HMT (mCL)","NPSH requis","Année","Prix (Euros)",{"$f":"\"Prix \" & 'Offre NEW'!$T$10 & \" (Euros)\"","v":"Prix 2022 (Euros)"}]
[null,"A23-40","A890-3A (CD6MN - AISI 329)",10,2.7,4,25,0.8,2007,6860,{"$f":"J2*1.03^('Offre NEW'!$T$10-I2)","v":10687.656477881244},null,{"$f":"K2-(18.405*D2+7127.1)","v":3376.5064778812439},{"$f":"(K2-(18.405*D2+7127.1))/K2*100","v":31.592580514438591},{"$f":"ABS(N2)","v":31.592580514438591}]
[null,"A11-40","A890-3A (CD6MN - AISI 329)",15,1.5,3,15,null,2007,5250,{"$f":"J3*1.03^('Offre NEW'!$T$10-I3)","v":8179.3289371540131},null,776.15393715401297,9.4892129063105592,9.4892129063105592]
[null,"A11-41","A890-3A (CD6MN - AISI 329)",15,1.4,3,15,null,2007,5250,{"$f":"J4*1.03^('Offre NEW'!$T$10-I4)","v":8179.3289371540131},null,776.15393715401297,9.4892129063105592,9.4892129063105592]
[null,"A11-42","A890-3A (CD6MN - AISI 329)",15,1.3,3,15,null,2007,5250,{"$f":"J5*1.03^('Offre NEW'!$T$10-I5)","v":8179.3289371540131},null,776.15393715401297,9.4892129063105592,9.4892129063105592]
[null,"A23-40","A890-3A (CD6MN - AISI 329)",15,2.9,4,25,0.8,2007,7090,{"$f":"J6*1.03^('Offre NEW'!$T$10-I6)","v":11045.988983699421},null,3642.8139836994205,32.978613223995836,32.978613223995836]
[null,"A11-43","A890-3A (CD6MN - AISI 329)",20,1.5,3,15,null,2007,5250,{"$f":"J7*1.03^('Offre NEW'!$T$10-I7)","v":8179.3289371540131},null,684.12893715401242,8.3641206070880223,8.3641206070880223]
[null,"A23-50-GM","A890-3A (CD6MN - AISI 329)",30,6.8,11,27,0.95,2008,11390,{"$f":"J8*1.03^('Offre NEW'!$T$10-I8)","v":17228.396966099714}]
[null,"A11-40","A890-3A (CD6MN - AISI 329)",30,8.9,15,60,1,2009,6010,{"$f":"J9*1.03^('Offre NEW'!$T$10-I9)","v":8825.8876178438986},null,{"$f":"K9-(18.405*D9+7127.1)","v":1146.6376178438986},{"$f":"(K9-(18.405*D9+7127.1))/K9*100","v":12.991754115763532},{"$f":"ABS(N9)","v":12.991754115763532}]
[null,"A11-40","A890-5A (U45N)",35,null,6.6,20,null,2007,7040,{"$f":"J10*1.03^('Offre NEW'!$T$10-I10)","v":10968.090612869382}]
[null,"A11-40-LM","A890-5A (U45N)",35,null,6.6,20,null,2007,10970,{"$f":"J11*1.03^('Offre NEW'!$T$10-I11)","v":17090.902560110386}]
[null,"A23-50-GM","A890-3A (CD6MN - AISI 329)",35,6.7,11,27,1,2008,11390,{"$f":"J12*1.03^('Offre NEW'!$T$10-I12)","v":17228.396966099714}]
[null,"A23-50","A890-3A (CD6MN - AISI 329)",40,5.9,7.5,25,1,2007,7660,{"$f":"J13*1.03^('Offre NEW'!$T$10-I13)","v":11934.030411161855},null,{"$f":"K13-(18.405*D13+7127.1)","v":4070.730411161855},{"$f":"(K13-(18.405*D13+7127.1))/K13*100","v":34.110273486101697},{"$f":"ABS(N13)","v":34.110273486101697}]
[null,"A23-50-GM","A890-3A (CD6MN - AISI 329)",45,8.6999999999999993,11,27,1.1000000000000001,2008,11390,{"$f":"J14*1.03^('Offre NEW'!$T$10-I14)","v":17228.396966099714}]
[null,"A32-65","Avesta 654SMO",50,6,7.5,25,0.9,2010,14730,{"$f":"J15*1.03^('Offre NEW'!$T$10-I15)","v":21001.45786324421}]
[null,"A32-65","A890-3A (CD6MN - AISI 329)",50,6,7.5,25,0.9,2010,9430,{"$f":"J16*1.03^('Offre NEW'!$T$10-I16)","v":13444.925162959464},null,{"$f":"K16-(18.405*D16+7127.1)","v":5397.5751629594633},{"$f":"(K16-(18.405*D16+7127.1))/K16*100","v":40.145817827455744},{"$f":"ABS(N16)","v":40.145817827455744}]
[null,"A22-65","A890-3A (CD6MN - AISI 329)",50,3.3,4,15,1.1000000000000001,2009,6570,{"$f":"J17*1.03^('Offre NEW'!$T$10-I17)","v":9648.2664973767751},null,{"$f":"K17-(18.405*D17+7127.1)","v":1600.9164973767747},{"$f":"(K17-(18.405*D17+7127.1))/K17*100","v":16.592788951383554},{"$f":"ABS(N17)","v":16.592788951383554}]
[null,"A32-65","A890-3A (CD6MN - AISI 329)",50,6.1,7.5,25,1,2007,8160,{"$f":"J18*1.03^('Offre NEW'!$T$10-I18)","v":12713.014119462237},null,{"$f":"K18-(18.405*D18+7127.1)","v":4665.6641194622371},{"$f":"(K18-(18.405*D18+7127.1))/K18*100","v":36.699905117855678},{"$f":"ABS(N18)","v":36.699905117855678}]
[null,"A23-50","A890-1B (CD4MCu)",50,8.3000000000000007,11,25,0.6,2009,9240,{"$f":"J19*1.03^('Offre NEW'!$T$10-I19)","v":13569.251512292451}]
[null,"A23-50","A890-3A (CD6MN - AISI 329)",60,6.9,11,25,1.1000000000000001,2007,8000,{"$f":"J20*1.03^('Offre NEW'!$T$10-I20)","v":12463.739332806115},null,{"$f":"K20-(18.405*D20+7127.1)","v":4232.3393328061138},{"$f":"(K20-(18.405*D20+7127.1))/K20*100","v":33.957219577483208},{"$f":"ABS(N20)","v":33.957219577483208}]
[null,"A32-80","A890-1B (CD4MCu)",80,8.6,15,25,0.8,2009,10580,{"$f":"J21*1.03^('Offre NEW'!$T$10-I21)","v":15537.086688317546}]
[null,"A32-80-GM","A890-3A (CD6MN - AISI 329)",90,10.9,15,27,1.35,2008,12930,{"$f":"J22*1.03^('Offre NEW'!$T$10-I22)","v":19557.785142376586}]
[null,"A22-80","A890-3A (CD6MN - AISI 329)",90,5,7.5,15,null,2007,7270,{"$f":"J23*1.03^('Offre NEW'!$T$10-I23)","v":11326.423118687557},null,{"$f":"K23-(18.405*D23+7127.1)","v":2542.8731186875557},{"$f":"(K23-(18.405*D23+7127.1))/K23*100","v":22.450804565936167},{"$f":"ABS(N23)","v":22.450804565936167}]
[null,"A32-81","A890-3A (CD6MN - AISI 329)",100,10,15,25,null,2008,9560,{"$f":"J24*1.03^('Offre NEW'!$T$10-I24)","v":14460.35776961486},null,{"$f":"K24-(18.405*D24+7127.1)","v":5492.7577696148601},{"$f":"(K24-(18.405*D24+7127.1))/K24*100","v":37.984936867583151},{"$f":"ABS(N24)","v":37.984936867583151}]
[null,"A22-80-GM","A890-1B (CD4MCu)",110,8.6,11,20,1.6,2007,11460,{"$f":"J25*1.03^('Offre NEW'!$T$10-I25)","v":17854.306594244761}]
[null,"A33-100-GM","A890-3A (CD6MN - AISI 329)",110,9,15,20,null,2007,13150,{"$f":"J26*1.03^('Offre NEW'!$T$10-I26)","v":20487.271528300051}]
[null,"A32-80","A890-3A (CD6MN - AISI 329)",120,11.5,15,25,null,2008,9560,{"$f":"J27*1.03^('Offre NEW'!$T$10-I27)","v":14460.35776961486},null,{"$f":"K27-(18.405*D27+7127.1)","v":5124.6577696148597},{"$f":"(K27-(18.405*D27+7127.1))/K27*100","v":35.43935669685267},{"$f":"ABS(N27)","v":35.43935669685267}]
[null,"A23-40","A890-3A (CD6MN - AISI 329)",150,2.9,4,25,0.6,2010,8330,{"$f":"J28*1.03^('Offre NEW'!$T$10-I28)","v":11876.588187428668},null,{"$f":"K28-(18.405*D28+7127.1)","v":1988.7381874286675},{"$f":"(K28-(18.405*D28+7127.1))/K28*100","v":16.745029431379464},{"$f":"ABS(N28)","v":16.745029431379464}]
[null,"A32-100","A890-1B (CD4MCu)",150,15.4,18.5,25,1.2,2009,11490,{"$f":"J29*1.03^('Offre NEW'!$T$10-I29)","v":16873.452367558468}]
[null,"A32-100","A890-3A (CD6MN - AISI 329)",160,15.6,22,25,1.8,2007,9310,{"$f":"J30*1.03^('Offre NEW'!$T$10-I30)","v":14504.676648553117},null,{"$f":"K30-(18.405*D30+7127.1)","v":4432.7766485531156},{"$f":"(K30-(18.405*D30+7127.1))/K30*100","v":30.561016670408147},{"$f":"ABS(N30)","v":30.561016670408147}]
[null,"A32-100 O","A890-3A (CD6MN - AISI 329)",180,23.15,30,25,1.9,2009,10032,{"$f":"J31*1.03^('Offre NEW'!$T$10-I31)","v":14732.330213346089},null,{"$f":"K31-(18.405*D31+7127.1)","v":4292.3302133460893},{"$f":"(K31-(18.405*D31+7127.1))/K31*100","v":29.135446675351101},{"$f":"ABS(N31)","v":29.135446675351101}]
[null,"W32-125","A890-3A (CD6MN - AISI 329)",200,16.600000000000001,22,20,2.5,2007,14600,{"$f":"J32*1.03^('Offre NEW'!$T$10-I32)","v":22746.324282371159}]
[null,"A31-100-GM","A890-1B (CD4MCu)",210,14.5,18.5,20,2.4,2007,13310,{"$f":"J33*1.03^('Offre NEW'!$T$10-I33)","v":20736.546314956173}]
[null,"A31-125 O","A890-3A (CD6MN - AISI 329)",238,12.95,18.5,15.5,2.5,2010,10681,{"$f":"J34*1.03^('Offre NEW'!$T$10-I34)","v":15228.552032404034},null,{"$f":"K34-(18.405*D34+7127.1)","v":3721.0620324040319},{"$f":"(K34-(18.405*D34+7127.1))/K34*100","v":24.434772422789639},{"$f":"ABS(N34)","v":24.434772422789639}]
[null,"A31-125-GM","A890-1B (CD4MCu)",270,18.2,22,20,2.6,2007,14410,{"$f":"J35*1.03^('Offre NEW'!$T$10-I35)","v":22450.310473217014}]
[null,"A31-125","A890-3A (CD6MN - AISI 329)",270,20,30,20,2.6,2008,7970,{"$f":"J36*1.03^('Offre NEW'!$T$10-I36)","v":12055.340107095235},null,{"$f":"K36-(18.405*D36+7127.1)","v":-41.109892904765729},{"$f":"(K36-(18.405*D36+7127.1))/K36*100","v":-0.34100981423635057},{"$f":"ABS(N36)","v":0.34100981423635057}]
[null,"A31-125","A890-3A (CD6MN - AISI 329)",270,20,30,20,2.6,2008,8470,{"$f":"J37*1.03^('Offre NEW'!$T$10-I37)","v":12811.634969522791},null,{"$f":"K37-(18.405*D37+7127.1)","v":715.1849695227902},{"$f":"(K37-(18.405*D37+7127.1))/K37*100","v":5.5823083566158571},{"$f":"ABS(N37)","v":5.5823083566158571}]
[null,"A31-125-GM","A890-3A (CD6MN - AISI 329)",270,20,30,20,2.6,2008,12430,{"$f":"J38*1.03^('Offre NEW'!$T$10-I38)","v":18801.49027994903}]
[null,"A31-100-GM","A890-1B (CD4MCu)",320,21.1,30,20,3,2007,14770,{"$f":"J39*1.03^('Offre NEW'!$T$10-I39)","v":23011.17874319329}]
[null,"A31-125","A890-3A (CD6MN - AISI 329)",320,23,30,20,2.7,2009,12310,{"$f":"J40*1.03^('Offre NEW'!$T$10-I40)","v":18077.650012588751},null,{"$f":"K40-(18.405*D40+7127.1)","v":5060.9500125887498},{"$f":"(K40-(18.405*D40+7127.1))/K40*100","v":27.995618949722179},{"$f":"ABS(N40)","v":27.995618949722179}]
[null,"A42-150 O","A890-3A (CD6MN - AISI 329)",333,29.71,37,25.89,2.8,2010,15164,{"$f":"J41*1.03^('Offre NEW'!$T$10-I41)","v":21620.238088135451},null,{"$f":"K41-(18.405*D41+7127.1)","v":8364.273088135451},{"$f":"(K41-(18.405*D41+7127.1))/K41*100","v":38.687238568041103},{"$f":"ABS(N41)","v":38.687238568041103}]
[null,"A51-250 O","A890-3A (CD6MN - AISI 329)",1000,88.58,90,25.38,2.9,2012,37200,{"$f":"J42*1.03^('Offre NEW'!$T$10-I42)","v":49993.689311601331}]
[null,"A51-250-LM O","A890-3A (CD6MN - AISI 329)",1000,81.59,90,25.38,2.9,2012,58750,{"$f":"J43*1.03^('Offre NEW'!$T$10-I43)","v":78955.087286467155}]
[]
[null,null,null,null,null,null,null,null,null,null,null,null,null,null,{"$f":"AVERAGE(O2:O41)","v":23.706880485191885}]
[null,null,null,null,null,null,null,null,"Débit (m3/h)","Prix (Euros)"]
[null,null,null,null,null,null,null,"Pompe filtrats 1",{"$f":"Calculations!V15","v":20},{"$f":"IF(I47=0,0,IF(I47>333,\"CONSULTATION\",IF(I47<10,\"CONSULTATION\",(0.0002*I47^3-0.1793*I47^2+66.365*I47+10404))))","v":11661.18}]
[null,null,null,null,null,null,null,"Pompe filtrats 2",{"$f":"Calculations!V16","v":30},{"$f":"IF(I48=0,0,IF(I48>333,\"CONSULTATION\",IF(I48<10,\"CONSULTATION\",(0.0002*I48^3-0.1793*I48^2+66.365*I48+10404))))","v":12238.98}]
[null,null,null,null,null,null,null,"Pompe filtrats 3",{"$f":"Calculations!V17","v":50},13299]
[null,null,null,null,null,null,null,"Pompe filtrats 4",{"$f":"Calculations!V18","v":400},"CONSULTATION"]
[null,null,null,null,null,null,null,"Pompe TB",500,"CONSULTATION"]